Workbook

Sheet Essai formules
A1: Réponse 1 | B1: intrus ? | C1: Réponses 2 | D1: intrus ? | E1: Réponses 3 | F1: intrus ? | G1: Réponses 4 | H1: intrus ? | I1: Réponses 5 | J1: intrus ?
A2: vert | B2: =IF(A2="","",IF(COUNTIF('Résultats R.A'!A3:A17,A2)-1=0,"","intrus")) | D2: =IF(C2="","",IF(COUNTIF('Résultats R.A'!C3:C17,C2)-1=0,"","intrus")) | F2: =IF(E2="","",IF(COUNTIF('Résultats R.A'!E3:E17,E2)-1=0,"","intrus")) | H2: =IF(G2="","",IF(COUNTIF('Résultats R.A'!G3:G17,G2)-1=0,"","intrus")) | J2: =IF(I2="","",IF(COUNTIF('Résultats R.A'!I3:I17,I2)-1=0,"","intrus"))
A3: orange | B3: =IF(A3="","",IF(COUNTIF('Résultats R.A'!A4:A18,A3)-1=0,"","intrus")) | D3: =IF(C3="","",IF(COUNTIF('Résultats R.A'!C4:C18,C3)-1=0,"","intrus")) | F3: =IF(E3="","",IF(COUNTIF('Résultats R.A'!E4:E18,E3)-1=0,"","intrus")) | H3: =IF(G3="","",IF(COUNTIF('Résultats R.A'!G4:G18,G3)-1=0,"","intrus")) | J3: =IF(I3="","",IF(COUNTIF('Résultats R.A'!I4:I18,I3)-1=0,"","intrus"))
A4: vert | B4: =IF(A4="","",IF(COUNTIF('Résultats R.A'!A5:A19,A4)-1=0,"","intrus")) -> intrus | C4: vert | D4: =IF(C4="","",IF(COUNTIF('Résultats R.A'!C5:C19,C4)-1=0,"","intrus")) -> intrus | F4: =IF(E4="","",IF(COUNTIF('Résultats R.A'!E5:E19,E4)-1=0,"","intrus")) | H4: =IF(G4="","",IF(COUNTIF('Résultats R.A'!G5:G19,G4)-1=0,"","intrus")) | I4: fghf | J4: =IF(I4="","",IF(COUNTIF('Résultats R.A'!I5:I19,I4)-1=0,"","intrus")) -> intrus
A5: vert | B5: =IF(A5="","",IF(COUNTIF('Résultats R.A'!A6:A20,A5)-1=0,"","intrus")) -> intrus | C5: vert | D5: =IF(C5="","",IF(COUNTIF('Résultats R.A'!C6:C20,C5)-1=0,"","intrus")) -> intrus | F5: =IF(E5="","",IF(COUNTIF('Résultats R.A'!E6:E20,E5)-1=0,"","intrus")) | H5: =IF(G5="","",IF(COUNTIF('Résultats R.A'!G6:G20,G5)-1=0,"","intrus")) | J5: =IF(I5="","",IF(COUNTIF('Résultats R.A'!I6:I20,I5)-1=0,"","intrus"))
B6: =IF(A6="","",IF(COUNTIF('Résultats R.A'!A7:A21,A6)-1=0,"","intrus")) | D6: =IF(C6="","",IF(COUNTIF('Résultats R.A'!C7:C21,C6)-1=0,"","intrus")) | F6: =IF(E6="","",IF(COUNTIF('Résultats R.A'!E7:E21,E6)-1=0,"","intrus")) | H6: =IF(G6="","",IF(COUNTIF('Résultats R.A'!G7:G21,G6)-1=0,"","intrus")) | J6: =IF(I6="","",IF(COUNTIF('Résultats R.A'!I7:I21,I6)-1=0,"","intrus"))
A7: gris | B7: =IF(A7="","",IF(COUNTIF('Résultats R.A'!A8:A22,A7)-1=0,"","intrus")) -> intrus | D7: =IF(C7="","",IF(COUNTIF('Résultats R.A'!C8:C22,C7)-1=0,"","intrus")) | F7: =IF(E7="","",IF(COUNTIF('Résultats R.A'!E8:E22,E7)-1=0,"","intrus")) | H7: =IF(G7="","",IF(COUNTIF('Résultats R.A'!G8:G22,G7)-1=0,"","intrus")) | J7: =IF(I7="","",IF(COUNTIF('Résultats R.A'!I8:I22,I7)-1=0,"","intrus"))
B8: =IF(A8="","",IF(COUNTIF('Résultats R.A'!A9:A23,A8)-1=0,"","intrus")) | D8: =IF(C8="","",IF(COUNTIF('Résultats R.A'!C9:C23,C8)-1=0,"","intrus")) | E8: gfhsfg | F8: =IF(E8="","",IF(COUNTIF('Résultats R.A'!E9:E23,E8)-1=0,"","intrus")) -> intrus | G8: gfh | H8: =IF(G8="","",IF(COUNTIF('Résultats R.A'!G9:G23,G8)-1=0,"","intrus")) -> intrus | J8: =IF(I8="","",IF(COUNTIF('Résultats R.A'!I9:I23,I8)-1=0,"","intrus"))
B9: =IF(A9="","",IF(COUNTIF('Résultats R.A'!A10:A24,A9)-1=0,"","intrus")) | C9: dfghd | D9: =IF(C9="","",IF(COUNTIF('Résultats R.A'!C10:C24,C9)-1=0,"","intrus")) -> intrus | F9: =IF(E9="","",IF(COUNTIF('Résultats R.A'!E10:E24,E9)-1=0,"","intrus")) | H9: =IF(G9="","",IF(COUNTIF('Résultats R.A'!G10:G24,G9)-1=0,"","intrus")) | J9: =IF(I9="","",IF(COUNTIF('Résultats R.A'!I10:I24,I9)-1=0,"","intrus"))
B10: =IF(A10="","",IF(COUNTIF('Résultats R.A'!A11:A25,A10)-1=0,"","intrus")) | D10: =IF(C10="","",IF(COUNTIF('Résultats R.A'!C11:C25,C10)-1=0,"","intrus")) | F10: =IF(E10="","",IF(COUNTIF('Résultats R.A'!E11:E25,E10)-1=0,"","intrus")) | G10: gfhdf | H10: =IF(G10="","",IF(COUNTIF('Résultats R.A'!G11:G25,G10)-1=0,"","intrus")) -> intrus | I10: fghf | J10: =IF(I10="","",IF(COUNTIF('Résultats R.A'!I11:I25,I10)-1=0,"","intrus")) -> intrus
B11: =IF(A11="","",IF(COUNTIF('Résultats R.A'!A12:A26,A11)-1=0,"","intrus")) | D11: =IF(C11="","",IF(COUNTIF('Résultats R.A'!C12:C26,C11)-1=0,"","intrus")) | F11: =IF(E11="","",IF(COUNTIF('Résultats R.A'!E12:E26,E11)-1=0,"","intrus")) | H11: =IF(G11="","",IF(COUNTIF('Résultats R.A'!G12:G26,G11)-1=0,"","intrus")) | J11: =IF(I11="","",IF(COUNTIF('Résultats R.A'!I12:I26,I11)-1=0,"","intrus"))
B12: =IF(A12="","",IF(COUNTIF('Résultats R.A'!A13:A27,A12)-1=0,"","intrus")) | D12: =IF(C12="","",IF(COUNTIF('Résultats R.A'!C13:C27,C12)-1=0,"","intrus")) | E12: fgh | F12: =IF(E12="","",IF(COUNTIF('Résultats R.A'!E13:E27,E12)-1=0,"","intrus")) -> intrus | H12: =IF(G12="","",IF(COUNTIF('Résultats R.A'!G13:G27,G12)-1=0,"","intrus")) | J12: =IF(I12="","",IF(COUNTIF('Résultats R.A'!I13:I27,I12)-1=0,"","intrus"))
B13: =IF(A13="","",IF(COUNTIF('Résultats R.A'!A14:A28,A13)-1=0,"","intrus")) | D13: =IF(C13="","",IF(COUNTIF('Résultats R.A'!C14:C28,C13)-1=0,"","intrus")) | F13: =IF(E13="","",IF(COUNTIF('Résultats R.A'!E14:E28,E13)-1=0,"","intrus")) | H13: =IF(G13="","",IF(COUNTIF('Résultats R.A'!G14:G28,G13)-1=0,"","intrus")) | J13: =IF(I13="","",IF(COUNTIF('Résultats R.A'!I14:I28,I13)-1=0,"","intrus"))
B14: =IF(A14="","",IF(COUNTIF('Résultats R.A'!A15:A29,A14)-1=0,"","intrus")) | D14: =IF(C14="","",IF(COUNTIF('Résultats R.A'!C15:C29,C14)-1=0,"","intrus")) | F14: =IF(E14="","",IF(COUNTIF('Résultats R.A'!E15:E29,E14)-1=0,"","intrus")) | H14: =IF(G14="","",IF(COUNTIF('Résultats R.A'!G15:G29,G14)-1=0,"","intrus")) | J14: =IF(I14="","",IF(COUNTIF('Résultats R.A'!I15:I29,I14)-1=0,"","intrus"))
B15: =IF(A15="","",IF(COUNTIF('Résultats R.A'!A16:A30,A15)-1=0,"","intrus")) | D15: =IF(C15="","",IF(COUNTIF('Résultats R.A'!C16:C30,C15)-1=0,"","intrus")) | F15: =IF(E15="","",IF(COUNTIF('Résultats R.A'!E16:E30,E15)-1=0,"","intrus")) | G15: fgh | H15: =IF(G15="","",IF(COUNTIF('Résultats R.A'!G16:G30,G15)-1=0,"","intrus")) -> intrus | J15: =IF(I15="","",IF(COUNTIF('Résultats R.A'!I16:I30,I15)-1=0,"","intrus"))
B16: =IF(A16="","",IF(COUNTIF('Résultats R.A'!A17:A31,A16)-1=0,"","intrus")) | D16: =IF(C16="","",IF(COUNTIF('Résultats R.A'!C17:C31,C16)-1=0,"","intrus")) | F16: =IF(E16="","",IF(COUNTIF('Résultats R.A'!E17:E31,E16)-1=0,"","intrus")) | H16: =IF(G16="","",IF(COUNTIF('Résultats R.A'!G17:G31,G16)-1=0,"","intrus")) | J16: =IF(I16="","",IF(COUNTIF('Résultats R.A'!I17:I31,I16)-1=0,"","intrus"))
B17: =IF(A17="","",IF(COUNTIF('Résultats R.A'!A18:A32,A17)-1=0,"","intrus")) | D17: =IF(C17="","",IF(COUNTIF('Résultats R.A'!C18:C32,C17)-1=0,"","intrus")) | E17: dfgh | F17: =IF(E17="","",IF(COUNTIF('Résultats R.A'!E18:E32,E17)-1=0,"","intrus")) -> intrus | H17: =IF(G17="","",IF(COUNTIF('Résultats R.A'!G18:G32,G17)-1=0,"","intrus")) | J17: =IF(I17="","",IF(COUNTIF('Résultats R.A'!I18:I32,I17)-1=0,"","intrus"))
B18: =IF(A18="","",IF(COUNTIF('Résultats R.A'!A19:A33,A18)-1=0,"","intrus")) | D18: =IF(C18="","",IF(COUNTIF('Résultats R.A'!C19:C33,C18)-1=0,"","intrus")) | F18: =IF(E18="","",IF(COUNTIF('Résultats R.A'!E19:E33,E18)-1=0,"","intrus")) | H18: =IF(G18="","",IF(COUNTIF('Résultats R.A'!G19:G33,G18)-1=0,"","intrus")) | J18: =IF(I18="","",IF(COUNTIF('Résultats R.A'!I19:I33,I18)-1=0,"","intrus"))
B19: =IF(A19="","",IF(COUNTIF('Résultats R.A'!A20:A34,A19)-1=0,"","intrus")) | D19: =IF(C19="","",IF(COUNTIF('Résultats R.A'!C20:C34,C19)-1=0,"","intrus")) | F19: =IF(E19="","",IF(COUNTIF('Résultats R.A'!E20:E34,E19)-1=0,"","intrus")) | H19: =IF(G19="","",IF(COUNTIF('Résultats R.A'!G20:G34,G19)-1=0,"","intrus")) | J19: =IF(I19="","",IF(COUNTIF('Résultats R.A'!I20:I34,I19)-1=0,"","intrus"))
B20: =IF(A20="","",IF(COUNTIF('Résultats R.A'!A21:A35,A20)-1=0,"","intrus")) | D20: =IF(C20="","",IF(COUNTIF('Résultats R.A'!C21:C35,C20)-1=0,"","intrus")) | F20: =IF(E20="","",IF(COUNTIF('Résultats R.A'!E21:E35,E20)-1=0,"","intrus")) | G20: gfh | H20: =IF(G20="","",IF(COUNTIF('Résultats R.A'!G21:G35,G20)-1=0,"","intrus")) -> intrus | J20: =IF(I20="","",IF(COUNTIF('Résultats R.A'!I21:I35,I20)-1=0,"","intrus"))
B21: =IF(A21="","",IF(COUNTIF('Résultats R.A'!A22:A36,A21)-1=0,"","intrus")) | D21: =IF(C21="","",IF(COUNTIF('Résultats R.A'!C22:C36,C21)-1=0,"","intrus")) | F21: =IF(E21="","",IF(COUNTIF('Résultats R.A'!E22:E36,E21)-1=0,"","intrus")) | H21: =IF(G21="","",IF(COUNTIF('Résultats R.A'!G22:G36,G21)-1=0,"","intrus")) | J21: =IF(I21="","",IF(COUNTIF('Résultats R.A'!I22:I36,I21)-1=0,"","intrus"))
B22: =IF(A22="","",IF(COUNTIF('Résultats R.A'!A23:A37,A22)-1=0,"","intrus")) | D22: =IF(C22="","",IF(COUNTIF('Résultats R.A'!C23:C37,C22)-1=0,"","intrus")) | F22: =IF(E22="","",IF(COUNTIF('Résultats R.A'!E23:E37,E22)-1=0,"","intrus")) | H22: =IF(G22="","",IF(COUNTIF('Résultats R.A'!G23:G37,G22)-1=0,"","intrus")) | J22: =IF(I22="","",IF(COUNTIF('Résultats R.A'!I23:I37,I22)-1=0,"","intrus"))
B23: =IF(A23="","",IF(COUNTIF('Résultats R.A'!A24:A38,A23)-1=0,"","intrus")) | D23: =IF(C23="","",IF(COUNTIF('Résultats R.A'!C24:C38,C23)-1=0,"","intrus")) | F23: =IF(E23="","",IF(COUNTIF('Résultats R.A'!E24:E38,E23)-1=0,"","intrus")) | G23: fgh | H23: =IF(G23="","",IF(COUNTIF('Résultats R.A'!G24:G38,G23)-1=0,"","intrus")) -> intrus | J23: =IF(I23="","",IF(COUNTIF('Résultats R.A'!I24:I38,I23)-1=0,"","intrus"))
B24: =IF(A24="","",IF(COUNTIF('Résultats R.A'!A25:A39,A24)-1=0,"","intrus")) | D24: =IF(C24="","",IF(COUNTIF('Résultats R.A'!C25:C39,C24)-1=0,"","intrus")) | F24: =IF(E24="","",IF(COUNTIF('Résultats R.A'!E25:E39,E24)-1=0,"","intrus")) | H24: =IF(G24="","",IF(COUNTIF('Résultats R.A'!G25:G39,G24)-1=0,"","intrus")) | J24: =IF(I24="","",IF(COUNTIF('Résultats R.A'!I25:I39,I24)-1=0,"","intrus"))
B25: =IF(A25="","",IF(COUNTIF('Résultats R.A'!A26:A40,A25)-1=0,"","intrus")) | D25: =IF(C25="","",IF(COUNTIF('Résultats R.A'!C26:C40,C25)-1=0,"","intrus")) | F25: =IF(E25="","",IF(COUNTIF('Résultats R.A'!E26:E40,E25)-1=0,"","intrus")) | H25: =IF(G25="","",IF(COUNTIF('Résultats R.A'!G26:G40,G25)-1=0,"","intrus")) | J25: =IF(I25="","",IF(COUNTIF('Résultats R.A'!I26:I40,I25)-1=0,"","intrus"))
B26: =IF(A26="","",IF(COUNTIF('Résultats R.A'!A27:A41,A26)-1=0,"","intrus")) | D26: =IF(C26="","",IF(COUNTIF('Résultats R.A'!C27:C41,C26)-1=0,"","intrus")) | F26: =IF(E26="","",IF(COUNTIF('Résultats R.A'!E27:E41,E26)-1=0,"","intrus")) | H26: =IF(G26="","",IF(COUNTIF('Résultats R.A'!G27:G41,G26)-1=0,"","intrus")) | J26: =IF(I26="","",IF(COUNTIF('Résultats R.A'!I27:I41,I26)-1=0,"","intrus"))
B27: =IF(A27="","",IF(COUNTIF('Résultats R.A'!A28:A42,A27)-1=0,"","intrus")) | D27: =IF(C27="","",IF(COUNTIF('Résultats R.A'!C28:C42,C27)-1=0,"","intrus")) | F27: =IF(E27="","",IF(COUNTIF('Résultats R.A'!E28:E42,E27)-1=0,"","intrus")) | H27: =IF(G27="","",IF(COUNTIF('Résultats R.A'!G28:G42,G27)-1=0,"","intrus")) | J27: =IF(I27="","",IF(COUNTIF('Résultats R.A'!I28:I42,I27)-1=0,"","intrus"))
B28: =IF(A28="","",IF(COUNTIF('Résultats R.A'!A29:A43,A28)-1=0,"","intrus")) | D28: =IF(C28="","",IF(COUNTIF('Résultats R.A'!C29:C43,C28)-1=0,"","intrus")) | F28: =IF(E28="","",IF(COUNTIF('Résultats R.A'!E29:E43,E28)-1=0,"","intrus")) | H28: =IF(G28="","",IF(COUNTIF('Résultats R.A'!G29:G43,G28)-1=0,"","intrus")) | J28: =IF(I28="","",IF(COUNTIF('Résultats R.A'!I29:I43,I28)-1=0,"","intrus"))
B29: =IF(A29="","",IF(COUNTIF('Résultats R.A'!A30:A44,A29)-1=0,"","intrus")) | D29: =IF(C29="","",IF(COUNTIF('Résultats R.A'!C30:C44,C29)-1=0,"","intrus")) | F29: =IF(E29="","",IF(COUNTIF('Résultats R.A'!E30:E44,E29)-1=0,"","intrus")) | H29: =IF(G29="","",IF(COUNTIF('Résultats R.A'!G30:G44,G29)-1=0,"","intrus")) | J29: =IF(I29="","",IF(COUNTIF('Résultats R.A'!I30:I44,I29)-1=0,"","intrus"))
B30: =IF(A30="","",IF(COUNTIF('Résultats R.A'!A31:A45,A30)-1=0,"","intrus")) | D30: =IF(C30="","",IF(COUNTIF('Résultats R.A'!C31:C45,C30)-1=0,"","intrus")) | F30: =IF(E30="","",IF(COUNTIF('Résultats R.A'!E31:E45,E30)-1=0,"","intrus")) | H30: =IF(G30="","",IF(COUNTIF('Résultats R.A'!G31:G45,G30)-1=0,"","intrus")) | J30: =IF(I30="","",IF(COUNTIF('Résultats R.A'!I31:I45,I30)-1=0,"","intrus"))
B31: =IF(A31="","",IF(COUNTIF('Résultats R.A'!A32:A46,A31)-1=0,"","intrus")) | D31: =IF(C31="","",IF(COUNTIF('Résultats R.A'!C32:C46,C31)-1=0,"","intrus")) | F31: =IF(E31="","",IF(COUNTIF('Résultats R.A'!E32:E46,E31)-1=0,"","intrus")) | H31: =IF(G31="","",IF(COUNTIF('Résultats R.A'!G32:G46,G31)-1=0,"","intrus")) | J31: =IF(I31="","",IF(COUNTIF('Résultats R.A'!I32:I46,I31)-1=0,"","intrus"))
B32: =IF(A32="","",IF(COUNTIF('Résultats R.A'!A33:A47,A32)-1=0,"","intrus")) | D32: =IF(C32="","",IF(COUNTIF('Résultats R.A'!C33:C47,C32)-1=0,"","intrus")) | F32: =IF(E32="","",IF(COUNTIF('Résultats R.A'!E33:E47,E32)-1=0,"","intrus")) | H32: =IF(G32="","",IF(COUNTIF('Résultats R.A'!G33:G47,G32)-1=0,"","intrus")) | J32: =IF(I32="","",IF(COUNTIF('Résultats R.A'!I33:I47,I32)-1=0,"","intrus"))
B33: =IF(A33="","",IF(COUNTIF('Résultats R.A'!A34:A48,A33)-1=0,"","intrus")) | D33: =IF(C33="","",IF(COUNTIF('Résultats R.A'!C34:C48,C33)-1=0,"","intrus")) | F33: =IF(E33="","",IF(COUNTIF('Résultats R.A'!E34:E48,E33)-1=0,"","intrus")) | H33: =IF(G33="","",IF(COUNTIF('Résultats R.A'!G34:G48,G33)-1=0,"","intrus")) | J33: =IF(I33="","",IF(COUNTIF('Résultats R.A'!I34:I48,I33)-1=0,"","intrus"))
B34: =IF(A34="","",IF(COUNTIF('Résultats R.A'!A35:A49,A34)-1=0,"","intrus")) | D34: =IF(C34="","",IF(COUNTIF('Résultats R.A'!C35:C49,C34)-1=0,"","intrus")) | F34: =IF(E34="","",IF(COUNTIF('Résultats R.A'!E35:E49,E34)-1=0,"","intrus")) | H34: =IF(G34="","",IF(COUNTIF('Résultats R.A'!G35:G49,G34)-1=0,"","intrus")) | J34: =IF(I34="","",IF(COUNTIF('Résultats R.A'!I35:I49,I34)-1=0,"","intrus"))
B35: =IF(A35="","",IF(COUNTIF('Résultats R.A'!A36:A50,A35)-1=0,"","intrus")) | D35: =IF(C35="","",IF(COUNTIF('Résultats R.A'!C36:C50,C35)-1=0,"","intrus")) | F35: =IF(E35="","",IF(COUNTIF('Résultats R.A'!E36:E50,E35)-1=0,"","intrus")) | H35: =IF(G35="","",IF(COUNTIF('Résultats R.A'!G36:G50,G35)-1=0,"","intrus")) | J35: =IF(I35="","",IF(COUNTIF('Résultats R.A'!I36:I50,I35)-1=0,"","intrus"))
... B51: =IF(A51="","",IF(COUNTIF('Résultats R.A'!A52:A66,A51)-1=0,"","intrus")) | D51: =IF(C51="","",IF(COUNTIF('Résultats R.A'!C52:C66,C51)-1=0,"","intrus")) | F51: =IF(E51="","",IF(COUNTIF('Résultats R.A'!E52:E66,E51)-1=0,"","intrus")) | H51: =IF(G51="","",IF(COUNTIF('Résultats R.A'!G52:G66,G51)-1=0,"","intrus")) | J51: =IF(I51="","",IF(COUNTIF('Résultats R.A'!I52:I66,I51)-1=0,"","intrus"))
B52: =SUM(B2:B51) -> 0 | D52: =SUM(D2:D26) -> 0 | F52: =SUM(F2:F26) -> 0 | H52: =SUM(H2:H26) -> 0 | J52: =SUM(J2:J26) -> 0

Sheet Résultats R.A
A1: réponse 1 | D1: réponse 2 | G1: réponse 3 | J1: réponse 4 | M1: réponse 5
A2: LISTE A | B2: 1 + doublon | D2: LISTE A | E2: 1 + doublon | G2: LISTE A | H2: 1 + doublon | J2: LISTE A | K2: 1 + doublon | M2: LISTE A | N2: 1 + doublon
A3: vert | B3: =IF(COUNTIFS('Essai formules'!$A$2:$A$51,'Résultats R.A'!A3)=0,0,IF(COUNTIFS('Essai formules'!$A$2:$A$51,'Résultats R.A'!A3)=1,1,"1 + "&COUNTIFS('Essai formules'!$A$2:$A$51,'Résultats R.A'!A3)-1)) -> 1 + 2 | D3: vert | E3: =IF(COUNTIFS('Essai formules'!$C$2:$C$51,'Résultats R.A'!D3)=0,0,IF(COUNTIFS('Essai formules'!$C$2:$C$51,'Résultats R.A'!D3)=1,1,"1 + "&COUNTIFS('Essai formules'!$C$2:$C$51,'Résultats R.A'!D3)-1)) -> 1 + 1 | G3: vert | H3: =IF(COUNTIFS('Essai formules'!$E$2:$E$51,'Résultats R.A'!G3)=0,0,IF(COUNTIFS('Essai formules'!$E$2:$E$51,'Résultats R.A'!G3)=1,1,"1 + "&COUNTIFS('Essai formules'!$E$2:$E$51,'Résultats R.A'!G3)-1)) -> 0 | J3: vert | K3: =IF(COUNTIFS('Essai formules'!$G$2:$G$51,'Résultats R.A'!J3)=0,0,IF(COUNTIFS('Essai formules'!$G$2:$G$51,'Résultats R.A'!J3)=1,1,"1 + "&COUNTIFS('Essai formules'!$G$2:$G$51,'Résultats R.A'!J3)-1)) -> 0 | M3: vert | N3: =IF(COUNTIFS('Essai formules'!$I$2:$I$51,'Résultats R.A'!M3)=0,0,IF(COUNTIFS('Essai formules'!$I$2:$I$51,'Résultats R.A'!M3)=1,1,"1 + "&COUNTIFS('Essai formules'!$I$2:$I$51,'Résultats R.A'!M3)-1)) -> 0
A4: orange | B4: =IF(COUNTIFS('Essai formules'!$A$2:$A$51,'Résultats R.A'!A4)=0,0,IF(COUNTIFS('Essai formules'!$A$2:$A$51,'Résultats R.A'!A4)=1,1,"1 + "&COUNTIFS('Essai formules'!$A$2:$A$51,'Résultats R.A'!A4)-1)) -> 1 | D4: orange | E4: =IF(COUNTIFS('Essai formules'!$C$2:$C$51,'Résultats R.A'!D4)=0,0,IF(COUNTIFS('Essai formules'!$C$2:$C$51,'Résultats R.A'!D4)=1,1,"1 + "&COUNTIFS('Essai formules'!$C$2:$C$51,'Résultats R.A'!D4)-1)) -> 0 | G4: orange | H4: =IF(COUNTIFS('Essai formules'!$E$2:$E$51,'Résultats R.A'!G4)=0,0,IF(COUNTIFS('Essai formules'!$E$2:$E$51,'Résultats R.A'!G4)=1,1,"1 + "&COUNTIFS('Essai formules'!$E$2:$E$51,'Résultats R.A'!G4)-1)) -> 0 | J4: orange | K4: =IF(COUNTIFS('Essai formules'!$G$2:$G$51,'Résultats R.A'!J4)=0,0,IF(COUNTIFS('Essai formules'!$G$2:$G$51,'Résultats R.A'!J4)=1,1,"1 + "&COUNTIFS('Essai formules'!$G$2:$G$51,'Résultats R.A'!J4)-1)) -> 0 | M4: orange | N4: =IF(COUNTIFS('Essai formules'!$I$2:$I$51,'Résultats R.A'!M4)=0,0,IF(COUNTIFS('Essai formules'!$I$2:$I$51,'Résultats R.A'!M4)=1,1,"1 + "&COUNTIFS('Essai formules'!$I$2:$I$51,'Résultats R.A'!M4)-1)) -> 0
A5: chien | B5: =IF(COUNTIFS('Essai formules'!$A$2:$A$51,'Résultats R.A'!A5)=0,0,IF(COUNTIFS('Essai formules'!$A$2:$A$51,'Résultats R.A'!A5)=1,1,"1 + "&COUNTIFS('Essai formules'!$A$2:$A$51,'Résultats R.A'!A5)-1)) -> 0 | D5: chien | E5: =IF(COUNTIFS('Essai formules'!$C$2:$C$51,'Résultats R.A'!D5)=0,0,IF(COUNTIFS('Essai formules'!$C$2:$C$51,'Résultats R.A'!D5)=1,1,"1 + "&COUNTIFS('Essai formules'!$C$2:$C$51,'Résultats R.A'!D5)-1)) -> 0 | G5: chien | H5: =IF(COUNTIFS('Essai formules'!$E$2:$E$51,'Résultats R.A'!G5)=0,0,IF(COUNTIFS('Essai formules'!$E$2:$E$51,'Résultats R.A'!G5)=1,1,"1 + "&COUNTIFS('Essai formules'!$E$2:$E$51,'Résultats R.A'!G5)-1)) -> 0 | J5: chien | K5: =IF(COUNTIFS('Essai formules'!$G$2:$G$51,'Résultats R.A'!J5)=0,0,IF(COUNTIFS('Essai formules'!$G$2:$G$51,'Résultats R.A'!J5)=1,1,"1 + "&COUNTIFS('Essai formules'!$G$2:$G$51,'Résultats R.A'!J5)-1)) -> 0 | M5: chien | N5: =IF(COUNTIFS('Essai formules'!$I$2:$I$51,'Résultats R.A'!M5)=0,0,IF(COUNTIFS('Essai formules'!$I$2:$I$51,'Résultats R.A'!M5)=1,1,"1 + "&COUNTIFS('Essai formules'!$I$2:$I$51,'Résultats R.A'!M5)-1)) -> 0
A6: bleu | B6: =IF(COUNTIFS('Essai formules'!$A$2:$A$51,'Résultats R.A'!A6)=0,0,IF(COUNTIFS('Essai formules'!$A$2:$A$51,'Résultats R.A'!A6)=1,1,"1 + "&COUNTIFS('Essai formules'!$A$2:$A$51,'Résultats R.A'!A6)-1)) -> 0 | D6: bleu | E6: =IF(COUNTIFS('Essai formules'!$C$2:$C$51,'Résultats R.A'!D6)=0,0,IF(COUNTIFS('Essai formules'!$C$2:$C$51,'Résultats R.A'!D6)=1,1,"1 + "&COUNTIFS('Essai formules'!$C$2:$C$51,'Résultats R.A'!D6)-1)) -> 0 | G6: bleu | H6: =IF(COUNTIFS('Essai formules'!$E$2:$E$51,'Résultats R.A'!G6)=0,0,IF(COUNTIFS('Essai formules'!$E$2:$E$51,'Résultats R.A'!G6)=1,1,"1 + "&COUNTIFS('Essai formules'!$E$2:$E$51,'Résultats R.A'!G6)-1)) -> 0 | J6: bleu | K6: =IF(COUNTIFS('Essai formules'!$G$2:$G$51,'Résultats R.A'!J6)=0,0,IF(COUNTIFS('Essai formules'!$G$2:$G$51,'Résultats R.A'!J6)=1,1,"1 + "&COUNTIFS('Essai formules'!$G$2:$G$51,'Résultats R.A'!J6)-1)) -> 0 | M6: bleu | N6: =IF(COUNTIFS('Essai formules'!$I$2:$I$51,'Résultats R.A'!M6)=0,0,IF(COUNTIFS('Essai formules'!$I$2:$I$51,'Résultats R.A'!M6)=1,1,"1 + "&COUNTIFS('Essai formules'!$I$2:$I$51,'Résultats R.A'!M6)-1)) -> 0
A7: chat | B7: =IF(COUNTIFS('Essai formules'!$A$2:$A$51,'Résultats R.A'!A7)=0,0,IF(COUNTIFS('Essai formules'!$A$2:$A$51,'Résultats R.A'!A7)=1,1,"1 + "&COUNTIFS('Essai formules'!$A$2:$A$51,'Résultats R.A'!A7)-1)) -> 0 | D7: chat | E7: =IF(COUNTIFS('Essai formules'!$C$2:$C$51,'Résultats R.A'!D7)=0,0,IF(COUNTIFS('Essai formules'!$C$2:$C$51,'Résultats R.A'!D7)=1,1,"1 + "&COUNTIFS('Essai formules'!$C$2:$C$51,'Résultats R.A'!D7)-1)) -> 0 | G7: chat | H7: =IF(COUNTIFS('Essai formules'!$E$2:$E$51,'Résultats R.A'!G7)=0,0,IF(COUNTIFS('Essai formules'!$E$2:$E$51,'Résultats R.A'!G7)=1,1,"1 + "&COUNTIFS('Essai formules'!$E$2:$E$51,'Résultats R.A'!G7)-1)) -> 0 | J7: chat | K7: =IF(COUNTIFS('Essai formules'!$G$2:$G$51,'Résultats R.A'!J7)=0,0,IF(COUNTIFS('Essai formules'!$G$2:$G$51,'Résultats R.A'!J7)=1,1,"1 + "&COUNTIFS('Essai formules'!$G$2:$G$51,'Résultats R.A'!J7)-1)) -> 0 | M7: chat | N7: =IF(COUNTIFS('Essai formules'!$I$2:$I$51,'Résultats R.A'!M7)=0,0,IF(COUNTIFS('Essai formules'!$I$2:$I$51,'Résultats R.A'!M7)=1,1,"1 + "&COUNTIFS('Essai formules'!$I$2:$I$51,'Résultats R.A'!M7)-1)) -> 0
A8: blanc | B8: =IF(COUNTIFS('Essai formules'!$A$2:$A$51,'Résultats R.A'!A8)=0,0,IF(COUNTIFS('Essai formules'!$A$2:$A$51,'Résultats R.A'!A8)=1,1,"1 + "&COUNTIFS('Essai formules'!$A$2:$A$51,'Résultats R.A'!A8)-1)) -> 0 | D8: blanc | E8: =IF(COUNTIFS('Essai formules'!$C$2:$C$51,'Résultats R.A'!D8)=0,0,IF(COUNTIFS('Essai formules'!$C$2:$C$51,'Résultats R.A'!D8)=1,1,"1 + "&COUNTIFS('Essai formules'!$C$2:$C$51,'Résultats R.A'!D8)-1)) -> 0 | G8: blanc | H8: =IF(COUNTIFS('Essai formules'!$E$2:$E$51,'Résultats R.A'!G8)=0,0,IF(COUNTIFS('Essai formules'!$E$2:$E$51,'Résultats R.A'!G8)=1,1,"1 + "&COUNTIFS('Essai formules'!$E$2:$E$51,'Résultats R.A'!G8)-1)) -> 0 | J8: blanc | K8: =IF(COUNTIFS('Essai formules'!$G$2:$G$51,'Résultats R.A'!J8)=0,0,IF(COUNTIFS('Essai formules'!$G$2:$G$51,'Résultats R.A'!J8)=1,1,"1 + "&COUNTIFS('Essai formules'!$G$2:$G$51,'Résultats R.A'!J8)-1)) -> 0 | M8: blanc | N8: =IF(COUNTIFS('Essai formules'!$I$2:$I$51,'Résultats R.A'!M8)=0,0,IF(COUNTIFS('Essai formules'!$I$2:$I$51,'Résultats R.A'!M8)=1,1,"1 + "&COUNTIFS('Essai formules'!$I$2:$I$51,'Résultats R.A'!M8)-1)) -> 0
A9: pierre | B9: =IF(COUNTIFS('Essai formules'!$A$2:$A$51,'Résultats R.A'!A9)=0,0,IF(COUNTIFS('Essai formules'!$A$2:$A$51,'Résultats R.A'!A9)=1,1,"1 + "&COUNTIFS('Essai formules'!$A$2:$A$51,'Résultats R.A'!A9)-1)) -> 0 | D9: pierre | E9: =IF(COUNTIFS('Essai formules'!$C$2:$C$51,'Résultats R.A'!D9)=0,0,IF(COUNTIFS('Essai formules'!$C$2:$C$51,'Résultats R.A'!D9)=1,1,"1 + "&COUNTIFS('Essai formules'!$C$2:$C$51,'Résultats R.A'!D9)-1)) -> 0 | G9: pierre | H9: =IF(COUNTIFS('Essai formules'!$E$2:$E$51,'Résultats R.A'!G9)=0,0,IF(COUNTIFS('Essai formules'!$E$2:$E$51,'Résultats R.A'!G9)=1,1,"1 + "&COUNTIFS('Essai formules'!$E$2:$E$51,'Résultats R.A'!G9)-1)) -> 0 | J9: pierre | K9: =IF(COUNTIFS('Essai formules'!$G$2:$G$51,'Résultats R.A'!J9)=0,0,IF(COUNTIFS('Essai formules'!$G$2:$G$51,'Résultats R.A'!J9)=1,1,"1 + "&COUNTIFS('Essai formules'!$G$2:$G$51,'Résultats R.A'!J9)-1)) -> 0 | M9: pierre | N9: =IF(COUNTIFS('Essai formules'!$I$2:$I$51,'Résultats R.A'!M9)=0,0,IF(COUNTIFS('Essai formules'!$I$2:$I$51,'Résultats R.A'!M9)=1,1,"1 + "&COUNTIFS('Essai formules'!$I$2:$I$51,'Résultats R.A'!M9)-1)) -> 0
A10: paul | B10: =IF(COUNTIFS('Essai formules'!$A$2:$A$51,'Résultats R.A'!A10)=0,0,IF(COUNTIFS('Essai formules'!$A$2:$A$51,'Résultats R.A'!A10)=1,1,"1 + "&COUNTIFS('Essai formules'!$A$2:$A$51,'Résultats R.A'!A10)-1)) -> 0 | D10: paul | E10: =IF(COUNTIFS('Essai formules'!$C$2:$C$51,'Résultats R.A'!D10)=0,0,IF(COUNTIFS('Essai formules'!$C$2:$C$51,'Résultats R.A'!D10)=1,1,"1 + "&COUNTIFS('Essai formules'!$C$2:$C$51,'Résultats R.A'!D10)-1)) -> 0 | G10: paul | H10: =IF(COUNTIFS('Essai formules'!$E$2:$E$51,'Résultats R.A'!G10)=0,0,IF(COUNTIFS('Essai formules'!$E$2:$E$51,'Résultats R.A'!G10)=1,1,"1 + "&COUNTIFS('Essai formules'!$E$2:$E$51,'Résultats R.A'!G10)-1)) -> 0 | J10: paul | K10: =IF(COUNTIFS('Essai formules'!$G$2:$G$51,'Résultats R.A'!J10)=0,0,IF(COUNTIFS('Essai formules'!$G$2:$G$51,'Résultats R.A'!J10)=1,1,"1 + "&COUNTIFS('Essai formules'!$G$2:$G$51,'Résultats R.A'!J10)-1)) -> 0 | M10: paul | N10: =IF(COUNTIFS('Essai formules'!$I$2:$I$51,'Résultats R.A'!M10)=0,0,IF(COUNTIFS('Essai formules'!$I$2:$I$51,'Résultats R.A'!M10)=1,1,"1 + "&COUNTIFS('Essai formules'!$I$2:$I$51,'Résultats R.A'!M10)-1)) -> 0
A11: jacques | B11: =IF(COUNTIFS('Essai formules'!$A$2:$A$51,'Résultats R.A'!A11)=0,0,IF(COUNTIFS('Essai formules'!$A$2:$A$51,'Résultats R.A'!A11)=1,1,"1 + "&COUNTIFS('Essai formules'!$A$2:$A$51,'Résultats R.A'!A11)-1)) -> 0 | D11: jacques | E11: =IF(COUNTIFS('Essai formules'!$C$2:$C$51,'Résultats R.A'!D11)=0,0,IF(COUNTIFS('Essai formules'!$C$2:$C$51,'Résultats R.A'!D11)=1,1,"1 + "&COUNTIFS('Essai formules'!$C$2:$C$51,'Résultats R.A'!D11)-1)) -> 0 | G11: jacques | H11: =IF(COUNTIFS('Essai formules'!$E$2:$E$51,'Résultats R.A'!G11)=0,0,IF(COUNTIFS('Essai formules'!$E$2:$E$51,'Résultats R.A'!G11)=1,1,"1 + "&COUNTIFS('Essai formules'!$E$2:$E$51,'Résultats R.A'!G11)-1)) -> 0 | J11: jacques | K11: =IF(COUNTIFS('Essai formules'!$G$2:$G$51,'Résultats R.A'!J11)=0,0,IF(COUNTIFS('Essai formules'!$G$2:$G$51,'Résultats R.A'!J11)=1,1,"1 + "&COUNTIFS('Essai formules'!$G$2:$G$51,'Résultats R.A'!J11)-1)) -> 0 | M11: jacques | N11: =IF(COUNTIFS('Essai formules'!$I$2:$I$51,'Résultats R.A'!M11)=0,0,IF(COUNTIFS('Essai formules'!$I$2:$I$51,'Résultats R.A'!M11)=1,1,"1 + "&COUNTIFS('Essai formules'!$I$2:$I$51,'Résultats R.A'!M11)-1)) -> 0
A12: noir | B12: =IF(COUNTIFS('Essai formules'!$A$2:$A$51,'Résultats R.A'!A12)=0,0,IF(COUNTIFS('Essai formules'!$A$2:$A$51,'Résultats R.A'!A12)=1,1,"1 + "&COUNTIFS('Essai formules'!$A$2:$A$51,'Résultats R.A'!A12)-1)) -> 0 | D12: noir | E12: =IF(COUNTIFS('Essai formules'!$C$2:$C$51,'Résultats R.A'!D12)=0,0,IF(COUNTIFS('Essai formules'!$C$2:$C$51,'Résultats R.A'!D12)=1,1,"1 + "&COUNTIFS('Essai formules'!$C$2:$C$51,'Résultats R.A'!D12)-1)) -> 0 | G12: noir | H12: =IF(COUNTIFS('Essai formules'!$E$2:$E$51,'Résultats R.A'!G12)=0,0,IF(COUNTIFS('Essai formules'!$E$2:$E$51,'Résultats R.A'!G12)=1,1,"1 + "&COUNTIFS('Essai formules'!$E$2:$E$51,'Résultats R.A'!G12)-1)) -> 0 | J12: noir | K12: =IF(COUNTIFS('Essai formules'!$G$2:$G$51,'Résultats R.A'!J12)=0,0,IF(COUNTIFS('Essai formules'!$G$2:$G$51,'Résultats R.A'!J12)=1,1,"1 + "&COUNTIFS('Essai formules'!$G$2:$G$51,'Résultats R.A'!J12)-1)) -> 0 | M12: noir | N12: =IF(COUNTIFS('Essai formules'!$I$2:$I$51,'Résultats R.A'!M12)=0,0,IF(COUNTIFS('Essai formules'!$I$2:$I$51,'Résultats R.A'!M12)=1,1,"1 + "&COUNTIFS('Essai formules'!$I$2:$I$51,'Résultats R.A'!M12)-1)) -> 0
A13: livre | B13: =IF(COUNTIFS('Essai formules'!$A$2:$A$51,'Résultats R.A'!A13)=0,0,IF(COUNTIFS('Essai formules'!$A$2:$A$51,'Résultats R.A'!A13)=1,1,"1 + "&COUNTIFS('Essai formules'!$A$2:$A$51,'Résultats R.A'!A13)-1)) -> 0 | D13: livre | E13: =IF(COUNTIFS('Essai formules'!$C$2:$C$51,'Résultats R.A'!D13)=0,0,IF(COUNTIFS('Essai formules'!$C$2:$C$51,'Résultats R.A'!D13)=1,1,"1 + "&COUNTIFS('Essai formules'!$C$2:$C$51,'Résultats R.A'!D13)-1)) -> 0 | G13: livre | H13: =IF(COUNTIFS('Essai formules'!$E$2:$E$51,'Résultats R.A'!G13)=0,0,IF(COUNTIFS('Essai formules'!$E$2:$E$51,'Résultats R.A'!G13)=1,1,"1 + "&COUNTIFS('Essai formules'!$E$2:$E$51,'Résultats R.A'!G13)-1)) -> 0 | J13: livre | K13: =IF(COUNTIFS('Essai formules'!$G$2:$G$51,'Résultats R.A'!J13)=0,0,IF(COUNTIFS('Essai formules'!$G$2:$G$51,'Résultats R.A'!J13)=1,1,"1 + "&COUNTIFS('Essai formules'!$G$2:$G$51,'Résultats R.A'!J13)-1)) -> 0 | M13: livre | N13: =IF(COUNTIFS('Essai formules'!$I$2:$I$51,'Résultats R.A'!M13)=0,0,IF(COUNTIFS('Essai formules'!$I$2:$I$51,'Résultats R.A'!M13)=1,1,"1 + "&COUNTIFS('Essai formules'!$I$2:$I$51,'Résultats R.A'!M13)-1)) -> 0
A14: lettre | B14: =IF(COUNTIFS('Essai formules'!$A$2:$A$51,'Résultats R.A'!A14)=0,0,IF(COUNTIFS('Essai formules'!$A$2:$A$51,'Résultats R.A'!A14)=1,1,"1 + "&COUNTIFS('Essai formules'!$A$2:$A$51,'Résultats R.A'!A14)-1)) -> 0 | D14: lettre | E14: =IF(COUNTIFS('Essai formules'!$C$2:$C$51,'Résultats R.A'!D14)=0,0,IF(COUNTIFS('Essai formules'!$C$2:$C$51,'Résultats R.A'!D14)=1,1,"1 + "&COUNTIFS('Essai formules'!$C$2:$C$51,'Résultats R.A'!D14)-1)) -> 0 | G14: lettre | H14: =IF(COUNTIFS('Essai formules'!$E$2:$E$51,'Résultats R.A'!G14)=0,0,IF(COUNTIFS('Essai formules'!$E$2:$E$51,'Résultats R.A'!G14)=1,1,"1 + "&COUNTIFS('Essai formules'!$E$2:$E$51,'Résultats R.A'!G14)-1)) -> 0 | J14: lettre | K14: =IF(COUNTIFS('Essai formules'!$G$2:$G$51,'Résultats R.A'!J14)=0,0,IF(COUNTIFS('Essai formules'!$G$2:$G$51,'Résultats R.A'!J14)=1,1,"1 + "&COUNTIFS('Essai formules'!$G$2:$G$51,'Résultats R.A'!J14)-1)) -> 0 | M14: lettre | N14: =IF(COUNTIFS('Essai formules'!$I$2:$I$51,'Résultats R.A'!M14)=0,0,IF(COUNTIFS('Essai formules'!$I$2:$I$51,'Résultats R.A'!M14)=1,1,"1 + "&COUNTIFS('Essai formules'!$I$2:$I$51,'Résultats R.A'!M14)-1)) -> 0
... A17: rouge | B17: =IF(COUNTIFS('Essai formules'!$A$2:$A$51,'Résultats R.A'!A17)=0,0,IF(COUNTIFS('Essai formules'!$A$2:$A$51,'Résultats R.A'!A17)=1,1,"1 + "&COUNTIFS('Essai formules'!$A$2:$A$51,'Résultats R.A'!A17)-1)) -> 0 | D17: rouge | E17: =IF(COUNTIFS('Essai formules'!$C$2:$C$51,'Résultats R.A'!D17)=0,0,IF(COUNTIFS('Essai formules'!$C$2:$C$51,'Résultats R.A'!D17)=1,1,"1 + "&COUNTIFS('Essai formules'!$C$2:$C$51,'Résultats R.A'!D17)-1)) -> 0 | G17: rouge | H17: =IF(COUNTIFS('Essai formules'!$E$2:$E$51,'Résultats R.A'!G17)=0,0,IF(COUNTIFS('Essai formules'!$E$2:$E$51,'Résultats R.A'!G17)=1,1,"1 + "&COUNTIFS('Essai formules'!$E$2:$E$51,'Résultats R.A'!G17)-1)) -> 0 | J17: rouge | K17: =IF(COUNTIFS('Essai formules'!$G$2:$G$51,'Résultats R.A'!J17)=0,0,IF(COUNTIFS('Essai formules'!$G$2:$G$51,'Résultats R.A'!J17)=1,1,"1 + "&COUNTIFS('Essai formules'!$G$2:$G$51,'Résultats R.A'!J17)-1)) -> 0 | M17: rouge | N17: =IF(COUNTIFS('Essai formules'!$I$2:$I$51,'Résultats R.A'!M17)=0,0,IF(COUNTIFS('Essai formules'!$I$2:$I$51,'Résultats R.A'!M17)=1,1,"1 + "&COUNTIFS('Essai formules'!$I$2:$I$51,'Résultats R.A'!M17)-1)) -> 0
A18: TOTAL | B18: =COUNTA(B3:B17)-COUNTIF(B3:B17,0) -> 2 | D18: TOTAL | E18: =IF(COUNTIFS('Essai formules'!$C$2:$C$51,'Résultats R.A'!D18)=0,0,IF(COUNTIFS('Essai formules'!$C$2:$C$51,'Résultats R.A'!D18)=1,1,"1 + "&COUNTIFS('Essai formules'!$C$2:$C$51,'Résultats R.A'!D18)-1)) -> 0 | G18: TOTAL | H18: =COUNTA(H3:H17)-COUNTIF(H3:H17,0) -> 0 | J18: TOTAL | K18: =COUNTA(K3:K17)-COUNTIF(K3:K17,0) -> 0 | M18: TOTAL | N18: =COUNTA(N3:N17)-COUNTIF(N3:N17,0) -> 0
A19: intrus | B19: =COUNTIFS('Essai formules'!B$2:B$51,'Résultats R.A'!A$19) -> 3 | D19: Intrus | E19: =COUNTIFS('Essai formules'!D$2:D$51,'Résultats R.A'!D$19) -> 3 | G19: Intrus | H19: =COUNTIFS('Essai formules'!F$2:F$51,'Résultats R.A'!G$19) -> 3 | J19: Intrus | K19: =COUNTIFS('Essai formules'!H$2:H$51,'Résultats R.A'!J$19) -> 5 | M19: Intrus | N19: =COUNTIFS('Essai formules'!J$2:J$51,'Résultats R.A'!M$19) -> 2
