Workbook

Sheet Feuil3
B3: =Présence!A2 -> JOUEUR 1
C7: 1 | D7: 2 | E7: 3 | F7: 4
B8: VMA | C8: 17 | D8: 18 | E8: 18 | F8: 18.5
B9: 10-10 | C9: =C8/3.6*10*1.05 -> 49.583333 | D9: =D8/3.6*10*1.05 -> 52.5 | E9: =E8/3.6*10*1.05 -> 52.5 | F9: =F8/3.6*10*1.05 -> 53.958333
B10: 15-15 | C10: =C8/3.6*15*1 -> 70.833333 | D10: =D8/3.6*15*1 -> 75 | E10: =E8/3.6*15*1 -> 75 | F10: =F8/3.6*15*1 -> 77.083333
B11: 30-30 | C11: =C8/3.6*30*0.85 -> 120.41667 | D11: =D8/3.6*30*0.85 -> 127.5 | E11: =E8/3.6*30*0.85 -> 127.5 | F11: =F8/3.6*30*0.85 -> 131.04167
B14: Présence | C14: Retard exc. | D14: Avert | E14: Retard | F14: Absent
B15: =(COUNTIF(Présence!2:2,"=Présent"))+(COUNTIF(Présence!2:2,"=Retard exc."))+(COUNTIF(Présence!2:2,"=Avertissement"))+(COUNTIF(Présence!2:2,"=Retard")) -> 10 | C15: =(COUNTIF(Présence!2:2,"=Retard exc.")) -> 5 | D15: =(COUNTIF(Présence!2:2,"=Avert.")) -> 1 | E15: =(COUNTIF(Présence!2:2,"=Retard")) -> 2 | F15: =COUNTIF(Présence!2:2,"=absent") -> 3
B16: =B15/(B15+F15) -> 0.76923077 | C16: =C15/(B15+F15) -> 0.38461538 | D16: =D15/(B15+F15) -> 0.076923077 | E16: =E15/(B15+F15) -> 0.15384615 | F16: =F15/(B15+F15) -> 0.23076923
A17: le mois dernier | B17: =SUMIFS(Présence!2:2,Présence!1:1,MONTH(aujourdhui),[1]feuil!2:2,présence) -> #VALUE!

Sheet Z_Parametres
A1: Liste Tableau présence
A2: Présent
A3: Retard exc.
A4: Avert.
A5: Retard
A6: Absent

Sheet Présence
A1: Nom | B1: 44810 | C1: 44811 | D1: 44812 | E1: 44813 | F1: 44814 | G1: 44815 | H1: 44816 | I1: 44817 | J1: 44818 | K1: 44819 | L1: 44820 | M1: 44821 | N1: 44822 | O1: 44823 | P1: 44824 | Q1: 44825 | R1: 44826 | S1: 44827 | T1: 44828 | U1: 44829
A2: JOUEUR 1 | B2: Absent | C2: Présent | D2: Avert. | E2: Retard exc. | F2: Présent | G2: Retard | H2: Retard | I2: Absent | J2: Absent | K2: Présent | L2: Retard exc. | M2: Retard exc. | N2: Retard exc. | O2: Retard exc.
A3: JOUEUR 2 | B3: Présent | C3: Présent | D3: Présent | E3: Présent | F3: Présent | G3: Présent | H3: Présent | I3: Présent | J3: Présent | K3: Présent | L3: Présent | M3: Présent | N3: Présent | O3: Présent | P3: Présent | Q3: Présent | R3: Présent | S3: Présent | T3: Présent | U3: Présent
A4: JOUEUR 3 | B4: Présent | C4: Présent | D4: Présent | E4: Présent | F4: Présent | G4: Présent | H4: Présent | I4: Présent | J4: Présent | K4: Présent | L4: Présent | M4: Présent | N4: Présent | O4: Présent | P4: Présent | Q4: Présent | R4: Présent | S4: Présent | T4: Présent | U4: Présent
A5: JOUEUR 4 | B5: Présent | C5: Présent | D5: Présent | E5: Présent | F5: Présent | G5: Présent | H5: Présent | I5: Présent | J5: Présent | K5: Présent | L5: Présent | M5: Présent | N5: Présent | O5: Présent | P5: Présent | Q5: Présent | R5: Présent | S5: Présent | T5: Présent | U5: Présent
A6: JOUEUR 5 | B6: Présent | C6: Présent | D6: Présent | E6: Présent | F6: Présent | G6: Présent | H6: Présent | I6: Présent | J6: Présent | K6: Présent | L6: Présent | M6: Présent | N6: Présent | O6: Présent | P6: Présent | Q6: Présent | R6: Présent | S6: Présent | T6: Présent | U6: Présent
A7: JOUEUR 6 | B7: Présent | C7: Présent | D7: Présent | E7: Présent | F7: Présent | G7: Présent | H7: Présent | I7: Présent | J7: Présent | K7: Présent | L7: Présent | M7: Présent | N7: Présent | O7: Présent | P7: Présent | Q7: Présent | R7: Présent | S7: Présent | T7: Présent | U7: Présent
A8: JOUEUR 7 | B8: Présent | C8: Présent | D8: Présent | E8: Présent | F8: Présent | G8: Présent | H8: Présent | I8: Présent | J8: Présent | K8: Présent | L8: Présent | M8: Présent | N8: Présent | O8: Présent | P8: Présent | Q8: Présent | R8: Présent | S8: Présent | T8: Présent | U8: Présent
A9: JOUEUR 8 | B9: Présent | C9: Présent | D9: Présent | E9: Présent | F9: Présent | G9: Présent | H9: Présent | I9: Présent | J9: Présent | K9: Présent | L9: Présent | M9: Présent | N9: Présent | O9: Présent | P9: Présent | Q9: Présent | R9: Présent | S9: Présent | T9: Présent | U9: Présent
A10: JOUEUR 9 | B10: Présent | C10: Présent | D10: Retard excusé | E10: Présent | F10: Présent | G10: Présent | H10: Présent | I10: Présent | J10: Présent | K10: Présent | L10: Présent | M10: Présent | N10: Présent | O10: Présent | P10: Présent | Q10: Présent | R10: Présent | S10: Présent | T10: Présent | U10: Présent
A11: JOUEUR 10 | B11: Présent | C11: Présent | D11: Présent | E11: Présent | F11: Présent | G11: Présent | H11: Présent | I11: Présent | J11: Présent | K11: Présent | L11: Présent | M11: Présent | N11: Présent | O11: Présent | P11: Présent | Q11: Présent | R11: Présent | S11: Présent | T11: Présent | U11: Présent
A12: JOUEUR 11 | B12: Présent | C12: Présent | D12: Présent | E12: Présent | F12: Présent | G12: Présent | H12: Présent | I12: Présent | J12: Présent | K12: Présent | L12: Présent | M12: Présent | N12: Présent | O12: Présent | P12: Présent | Q12: Présent | R12: Présent | S12: Présent | T12: Présent | U12: Présent
A13: JOUEUR 12 | B13: Présent | C13: Présent | D13: Présent | E13: Présent | F13: Présent | G13: Présent | H13: Présent | I13: Présent | J13: Présent | K13: Présent | L13: Présent | M13: Présent | N13: Présent | O13: Présent | P13: Présent | Q13: Présent | R13: Présent | S13: Présent | T13: Présent | U13: Présent
A14: JOUEUR 13 | B14: Présent | C14: Présent | D14: Présent | E14: Présent | F14: Présent | G14: Présent | H14: Présent | I14: Présent | J14: Présent | K14: Présent | L14: Présent | M14: Présent | N14: Présent | O14: Présent | P14: Présent | Q14: Présent | R14: Présent | S14: Présent | T14: Présent | U14: Présent
... A26: JOUEUR 25 | B26: Présent | C26: Présent | D26: Présent | E26: Présent | F26: Présent | G26: Présent | H26: Présent | I26: Présent | J26: Présent | K26: Présent | L26: Présent | M26: Présent | N26: Présent | O26: Présent | P26: Présent | Q26: Présent | R26: Présent | S26: Présent | T26: Présent | U26: Présent
