Workbook
Name Particuliers: Tableau10[Code client]
Name Professionnels: Tableau103[Code client]
Name TD: Devis!$H$4
Name TD: 'Factures Légumes pro'!$H$6
Name TD: 'Factures Légumes'!$H$6

Sheet  Particuliers 
A1: Code client | B1: Statut | C1: Civilité | D1: Nom | E1: Prénom | F1: Adresse | G1: CP | H1: Ville | I1: Téléphone | J1: Mail | K1: Colonne1 | L1: Colonne2 | M1: Colonne3
A2: Part 01 | B2: Particuliers | C2: Mr | D2: BERIGAUD
A3: Part 02 | B3: Particuliers | C3: Mme | D3: BERNARD
A4: Part 03 | B4: Particuliers | C4: Mr | D4: CHARREAU
A5: Part 04 | B5: Particuliers | C5: Mr | D5: CHEDOZEAU
A6: Part 05 | B6: Particuliers | C6: Mme | D6: CORCY
A7: Part 06 | B7: Particuliers | C7: Mme | D7: CORCY
A8: Part 07 | B8: Particuliers | C8: Mme | D8: COURTIN
A9: Part 08 | B9: Particuliers | C9: Mme | D9: DECELLE
A10: Part 09 | B10: Particuliers | D10: DRAULT
A11: Part 10 | B11: Particuliers | C11: Mr | D11: DUVERGER
A12: Part 11 | B12: Particuliers | C12: Mr | D12: EL MARZOUKI
A13: Part 12 | B13: Particuliers | C13: Mr | D13: GEAIS
A14: Part 13 | B14: Particuliers | C14: Mr | D14: GUIGNARD
A15: Part 14 | B15: Particuliers | C15: Mme | D15: HABLAL
A16: Part 15 | B16: Particuliers | C16: Mr | D16: LEJEUNE
A17: Part 16 | B17: Particuliers | C17: Mme | D17: MARIOLLES
A18: Part 17 | B18: Particuliers | C18: Mme | D18: METAIS
A19: Part 18 | B19: Particuliers | C19: Mme | D19: MOLLE
A20: Part 19 | B20: Particuliers | C20: Mme | D20: MONIN
A21: Part 20 | B21: Particuliers | C21: Mr | D21: MOUKO
A22: Part 21 | B22: Particuliers | C22: Mr | D22: PHILIPPONNEAU
... A29: Part 28 | B29: Particuliers | C29: Mr | D29: X
A30: Part 29 | B30: Particuliers
A31: Part 30 | B31: Particuliers
A32: Part 31 | B32: Particuliers
A33: Part 32 | B33: Particuliers
A34: Part 33 | B34: Particuliers
A35: Part 34 | B35: Particuliers
A36: Part 35 | B36: Particuliers
A37: Part 36
A38: Part 37
A39: Part 38
A40: Part 39
A41: Part 40
A42: Part 41
A43: Part 42
A44: Part 43
A45: Part 44
A46: Part 45
...

Sheet  Professionnels 
A1: Code client | B1: Statut | C1: Civilité | D1: Nom | E1: Prénom | F1: Adresse | G1: CP | H1: Ville | I1: Téléphone | J1: Mail | K1: Colonne1 | L1: Colonne2 | M1: Colonne3
A2: Pro 01 | B2: Pro | C2: Mme | D2: Délices Gourmands
A3: Pro 02 | B3: Collectivité | C3: Mr | D3: DOS SANTOS
A4: Pro 03 | B4: Pro
A5: Pro 04 | B5: Pro
A6: Pro 05 | B6: Association
A7: Pro 06 | B7: Association
A8: Pro 07 | B8: Association
A9: Pro 08 | B9: Association
A10: Pro 09 | B10: Collectivité
A11: Pro 10 | B11: Collectivité
A12: Pro 11 | B12: Collectivité
A13: Pro 12 | B13: Collectivité
A14: Pro 13 | B14: Collectivité
A15: Pro 14 | B15: Collectivité
... A17: Pro 16 | B17: Comité Entreprise

Sheet Articles
A1: Réf | B1: Légumes | C1: U/V | D1: Prix part | E1: Prix pro | F1: Colonne6 | G1: Colonne7 | H1: Colonne8 | I1: Colonne9 | J1: Colonne10
A2: L01 | B2: AIL blanc frais France biologique | C2: le kg | D2: 4.5 | E2: 3
A3: L02 | B3: AIL blanc sec France biologique | C3: le kg | D3: 5 | E3: 4
A4: L03 | B4: ARTICHAUT Camus France biologique | C4: le kg | D4: 0 | E4: 0
A5: L04 | B5: ARTICHAUT violet France biologique | C5: le kg | D5: 0 | E5: 0
A6: L05 | B6: AUBERGINE France biologique | C6: le kg | D6: 2.5 | E6: 1.5
A7: L06 | B7: BETTE France biologique vrac | C7: le kg | D7: 2 | E7: 1
A8: L07 | B8: BETTERAVE ronde crue France biologique | C8: le kg | D8: 1.5 | E8: 1
A9: L08 | B9: BIGARREAU Burlat France biologique | C9: le kg | D9: 7 | E9: 5
A10: L09 | B10: CAROTTE France avec fane biologique | C10: la botte | D10: 1.7 | E10: 3
A11: L10 | B11: CAROTTE France lavée biologique | C11: le kg | D11: 1.4 | E11: 1
A12: L11 | B12: CÉLERI-BRANCHE France biologique | C12: le kg | D12: 0 | E12: 0
A13: L12 | B13: CÉLERI-RAVE France biologique | C13: le kg | D13: 0 | E13: 0
... A61: L60 | B61: TOMATE type coeur de boeuf France biologique | C61: le kg | D61: 3.5 | E61: 2.5
A62: L61
A63: L62
A64: L63
A65: L64
A66: L65

Sheet Factures Légumes
A2: Coordonnées | F2: Facture de Vente de légumes aux particuliers
F6: Pleumartin, le | H6: =NOW() -> 44104.686
E9: =IFERROR(VLOOKUP($B$11,' Particuliers '!$A$2:$E$500,3)&" " &VLOOKUP($B$11,' Particuliers '!$A$2:$E$500,4)&" " &VLOOKUP($B$11,' Particuliers '!$A$2:$E$500,5),"Saisir code client") -> Mr PIAULT
E10: =IFERROR(VLOOKUP($B$11,' Particuliers '!$A$2:$F$500,6),"Saisir code client") -> 0
A11: Code Client | B11: Part 22 | E11: =IFERROR(VLOOKUP($B$11,' Particuliers '!$A$2:$G$500,7)&"","Saisir code client") | F11: =IFERROR(VLOOKUP($B$11,' Particuliers '!$A$2:$H$500,8)&"","Saisir code client")
A12: N°facture | B12: ="F"&YEAR(TODAY())&TEXT(1,"0000") -> F20200001
A13: Contact | B13: Mr Luc PHILIPPONNEAU
A14: Tél portable | B14: xxxxxxxxxx
A15: Mail :
A17: Réf | B17: Légumes | E17: U/V | F17: Qté | G17: Prix | H17: Total
A18: L03 | B18: =IF(A18="","",VLOOKUP($A18,Articles!A:J,2,0)) -> ARTICHAUT Camus France biologique | E18: =IF(A18="","",VLOOKUP($A18,Articles!A:J,3,0)) -> le kg | F18: 2 | G18: =IF(A18="","",VLOOKUP($A18,Articles!A:J,4,0)) -> 0 | H18: =IFERROR(F18*G18,"") -> 0
A19: L01 | B19: =IF(A19="","",VLOOKUP($A19,Articles!A:J,2,0)) -> AIL blanc frais France biologique | E19: =IF(A19="","",VLOOKUP($A19,Articles!A:J,3,0)) -> le kg | F19: 2 | G19: =IF(A19="","",VLOOKUP($A19,Articles!A:J,4,0)) -> 4.5 | H19: =IFERROR(F19*G19,"") -> 9
A20: L09 | B20: =IF(A20="","",VLOOKUP($A20,Articles!A:J,2,0)) -> CAROTTE France avec fane biologique | E20: =IF(A20="","",VLOOKUP($A20,Articles!A:J,3,0)) -> la botte | F20: 6 | G20: =IF(A20="","",VLOOKUP($A20,Articles!A:J,4,0)) -> 1.7 | H20: =IFERROR(F20*G20,"") -> 10.2
A21: L16 | B21: =IF(A21="","",VLOOKUP($A21,Articles!A:J,2,0)) -> CHOU Chinois France biologique | E21: =IF(A21="","",VLOOKUP($A21,Articles!A:J,3,0)) -> le kg | F21: 1 | G21: =IF(A21="","",VLOOKUP($A21,Articles!A:J,4,0)) -> 0 | H21: =IFERROR(F21*G21,"") -> 0
A22: L03 | B22: =IF(A22="","",VLOOKUP($A22,Articles!A:J,2,0)) -> ARTICHAUT Camus France biologique | E22: =IF(A22="","",VLOOKUP($A22,Articles!A:J,3,0)) -> le kg | F22: 7 | G22: =IF(A22="","",VLOOKUP($A22,Articles!A:J,4,0)) -> 0 | H22: =IFERROR(F22*G22,"") -> 0
A23: L05 | B23: =IF(A23="","",VLOOKUP($A23,Articles!A:J,2,0)) -> AUBERGINE France biologique | E23: =IF(A23="","",VLOOKUP($A23,Articles!A:J,3,0)) -> le kg | G23: =IF(A23="","",VLOOKUP($A23,Articles!A:J,4,0)) -> 2.5 | H23: =IFERROR(F23*G23,"") -> 0
B24: =IF(A24="","",VLOOKUP($A24,Articles!A:J,2,0)) | E24: =IF(A24="","",VLOOKUP($A24,Articles!A:J,3,0)) | G24: =IF(A24="","",VLOOKUP($A24,Articles!A:J,4,0)) | H24: =IFERROR(F24*G24,"")
B25: =IF(A25="","",VLOOKUP($A25,Articles!A:J,2,0)) | E25: =IF(A25="","",VLOOKUP($A25,Articles!A:J,3,0)) | G25: =IF(A25="","",VLOOKUP($A25,Articles!A:J,4,0)) | H25: =IFERROR(F25*G25,"")
B26: =IF(A26="","",VLOOKUP($A26,Articles!A:J,2,0)) | E26: =IF(A26="","",VLOOKUP($A26,Articles!A:J,3,0)) | G26: =IF(A26="","",VLOOKUP($A26,Articles!A:J,4,0)) | H26: =IFERROR(F26*G26,"")
B27: =IF(A27="","",VLOOKUP($A27,Articles!A:J,2,0)) | E27: =IF(A27="","",VLOOKUP($A27,Articles!A:J,3,0)) | G27: =IF(A27="","",VLOOKUP($A27,Articles!A:J,4,0)) | H27: =IFERROR(F27*G27,"")
B28: =IF(A28="","",VLOOKUP($A28,Articles!A:J,2,0)) | E28: =IF(A28="","",VLOOKUP($A28,Articles!A:J,3,0)) | G28: =IF(A28="","",VLOOKUP($A28,Articles!A:J,4,0)) | H28: =IFERROR(F28*G28,"")
B29: =IF(A29="","",VLOOKUP($A29,Articles!A:J,2,0)) | E29: =IF(A29="","",VLOOKUP($A29,Articles!A:J,3,0)) | G29: =IF(A29="","",VLOOKUP($A29,Articles!A:J,4,0)) | H29: =IFERROR(F29*G29,"")
B30: =IF(A30="","",VLOOKUP($A30,Articles!A:J,2,0)) | E30: =IF(A30="","",VLOOKUP($A30,Articles!A:J,3,0)) | G30: =IF(A30="","",VLOOKUP($A30,Articles!A:J,4,0)) | H30: =IFERROR(F30*G30,"")
B31: =IF(A31="","",VLOOKUP($A31,Articles!A:J,2,0)) | E31: =IF(A31="","",VLOOKUP($A31,Articles!A:J,3,0)) | G31: =IF(A31="","",VLOOKUP($A31,Articles!A:J,4,0)) | H31: =IFERROR(F31*G31,"")
B32: =IF(A32="","",VLOOKUP($A32,Articles!A:J,2,0)) | E32: =IF(A32="","",VLOOKUP($A32,Articles!A:J,3,0)) | G32: =IF(A32="","",VLOOKUP($A32,Articles!A:J,4,0)) | H32: =IFERROR(F32*G32,"")
B33: =IF(A33="","",VLOOKUP($A33,Articles!A:J,2,0)) | E33: =IF(A33="","",VLOOKUP($A33,Articles!A:J,3,0)) | G33: =IF(A33="","",VLOOKUP($A33,Articles!A:J,4,0)) | H33: =IFERROR(F33*G33,"")
B34: =IF(A34="","",VLOOKUP($A34,Articles!A:J,2,0)) | E34: =IF(A34="","",VLOOKUP($A34,Articles!A:J,3,0)) | G34: =IF(A34="","",VLOOKUP($A34,Articles!A:J,4,0)) | H34: =IFERROR(F34*G34,"")
B35: =IF(A35="","",VLOOKUP($A35,Articles!A:J,2,0)) | E35: =IF(A35="","",VLOOKUP($A35,Articles!A:J,3,0)) | G35: =IF(A35="","",VLOOKUP($A35,Articles!A:J,4,0)) | H35: =IFERROR(F35*G35,"")
A36: Mode de paiement accepté : Chéques à l'ordre du Trésor Public, virement, espèces | G36: Total net de TVA | H36: =SUM(H18:H35) -> 19.2
A37: TVA non applicable selon l'article 293 B du Code Général des Impôts
B41: Produits issus de culture biologique certifiée par Bureau Véritas Certification France FR-BIO-10
A43: Le régisseur principal
A44: Mr Luc PHILIPPONNEAU

Sheet Factures Légumes pro
A2: Mes coordonnées | F2: Facture de vente de légumes aux professionnels
F6: Pleumartin, le | H6: =NOW() -> 44104.686
E9: =IFERROR(VLOOKUP($B$11,' Professionnels '!$A$2:$E$500,3)&" " &VLOOKUP($B$11,' Professionnels '!$A$2:$E$500,4)&" " &VLOOKUP($B$11,' Professionnels '!$A$2:$E$500,5),"Saisir code client") -> Saisir code client
E10: =IFERROR(VLOOKUP($B$11,' Professionnels '!$A$2:$F$500,6),"Saisir code client") -> Saisir code client
A11: Code Client | E11: =IFERROR(VLOOKUP($B$11,' Professionnels '!$A$2:$G$500,7)&"","Saisir code client") -> Saisir code client | F11: =IFERROR(VLOOKUP($B$11,' Professionnels '!$A$2:$H$500,8)&"","Saisir code client") -> Saisir code client
A12: N°facture | B12: ="F.pro"&YEAR(TODAY())&TEXT(1,"0000") -> F.pro20200001
A13: Contact | B13: Mr Luc PHILIPPONNEAU
A14: Tél portable | B14: xxxxxxxxxx
A15: Mail :
A17: Réf | B17: Légumes | E17: U/V | F17: Qté | G17: Prix | H17: Total
A18: L05 | B18: =IF(A18="","",VLOOKUP($A18,Articles!A:J,2,0)) -> AUBERGINE France biologique | E18: =IF(A18="","",VLOOKUP($A18,Articles!A:J,3,0)) -> le kg | F18: 5 | G18: =IF(A18="","",VLOOKUP($A18,Articles!A:J,5,0)) -> 1.5 | H18: =IFERROR(F18*G18,"") -> 7.5
A19: L07 | B19: =IF(A19="","",VLOOKUP($A19,Articles!A:J,2,0)) -> BETTERAVE ronde crue France biologique | E19: =IF(A19="","",VLOOKUP($A19,Articles!A:J,3,0)) -> le kg | F19: 2 | G19: =IF(A19="","",VLOOKUP($A19,Articles!A:J,5,0)) -> 1 | H19: =IFERROR(F19*G19,"") -> 2
A20: L09 | B20: =IF(A20="","",VLOOKUP($A20,Articles!A:J,2,0)) -> CAROTTE France avec fane biologique | E20: =IF(A20="","",VLOOKUP($A20,Articles!A:J,3,0)) -> la botte | F20: 6 | G20: =IF(A20="","",VLOOKUP($A20,Articles!A:J,5,0)) -> 3 | H20: =IFERROR(F20*G20,"") -> 18
A21: L10 | B21: =IF(A21="","",VLOOKUP($A21,Articles!A:J,2,0)) -> CAROTTE France lavée biologique | E21: =IF(A21="","",VLOOKUP($A21,Articles!A:J,3,0)) -> le kg | F21: 1 | G21: =IF(A21="","",VLOOKUP($A21,Articles!A:J,5,0)) -> 1 | H21: =IFERROR(F21*G21,"") -> 1
B22: =IF(A22="","",VLOOKUP($A22,Articles!A:J,2,0)) | E22: =IF(A22="","",VLOOKUP($A22,Articles!A:J,3,0)) | G22: =IF(A22="","",VLOOKUP($A22,Articles!A:J,5,0)) | H22: =IFERROR(F22*G22,"")
B23: =IF(A23="","",VLOOKUP($A23,Articles!A:J,2,0)) | E23: =IF(A23="","",VLOOKUP($A23,Articles!A:J,3,0)) | G23: =IF(A23="","",VLOOKUP($A23,Articles!A:J,5,0)) | H23: =IFERROR(F23*G23,"")
B24: =IF(A24="","",VLOOKUP($A24,Articles!A:J,2,0)) | E24: =IF(A24="","",VLOOKUP($A24,Articles!A:J,3,0)) | G24: =IF(A24="","",VLOOKUP($A24,Articles!A:J,5,0)) | H24: =IFERROR(F24*G24,"")
B25: =IF(A25="","",VLOOKUP($A25,Articles!A:J,2,0)) | E25: =IF(A25="","",VLOOKUP($A25,Articles!A:J,3,0)) | G25: =IF(A25="","",VLOOKUP($A25,Articles!A:J,5,0)) | H25: =IFERROR(F25*G25,"")
B26: =IF(A26="","",VLOOKUP($A26,Articles!A:J,2,0)) | E26: =IF(A26="","",VLOOKUP($A26,Articles!A:J,3,0)) | G26: =IF(A26="","",VLOOKUP($A26,Articles!A:J,5,0)) | H26: =IFERROR(F26*G26,"")
B27: =IF(A27="","",VLOOKUP($A27,Articles!A:J,2,0)) | E27: =IF(A27="","",VLOOKUP($A27,Articles!A:J,3,0)) | G27: =IF(A27="","",VLOOKUP($A27,Articles!A:J,5,0)) | H27: =IFERROR(F27*G27,"")
B28: =IF(A28="","",VLOOKUP($A28,Articles!A:J,2,0)) | E28: =IF(A28="","",VLOOKUP($A28,Articles!A:J,3,0)) | G28: =IF(A28="","",VLOOKUP($A28,Articles!A:J,5,0)) | H28: =IFERROR(F28*G28,"")
B29: =IF(A29="","",VLOOKUP($A29,Articles!A:J,2,0)) | E29: =IF(A29="","",VLOOKUP($A29,Articles!A:J,3,0)) | G29: =IF(A29="","",VLOOKUP($A29,Articles!A:J,5,0)) | H29: =IFERROR(F29*G29,"")
B30: =IF(A30="","",VLOOKUP($A30,Articles!A:J,2,0)) | E30: =IF(A30="","",VLOOKUP($A30,Articles!A:J,3,0)) | G30: =IF(A30="","",VLOOKUP($A30,Articles!A:J,5,0)) | H30: =IFERROR(F30*G30,"")
B31: =IF(A31="","",VLOOKUP($A31,Articles!A:J,2,0)) | E31: =IF(A31="","",VLOOKUP($A31,Articles!A:J,3,0)) | G31: =IF(A31="","",VLOOKUP($A31,Articles!A:J,5,0)) | H31: =IFERROR(F31*G31,"")
B32: =IF(A32="","",VLOOKUP($A32,Articles!A:J,2,0)) | E32: =IF(A32="","",VLOOKUP($A32,Articles!A:J,3,0)) | G32: =IF(A32="","",VLOOKUP($A32,Articles!A:J,5,0)) | H32: =IFERROR(F32*G32,"")
B33: =IF(A33="","",VLOOKUP($A33,Articles!A:J,2,0)) | E33: =IF(A33="","",VLOOKUP($A33,Articles!A:J,3,0)) | G33: =IF(A33="","",VLOOKUP($A33,Articles!A:J,5,0)) | H33: =IFERROR(F33*G33,"")
... B35: =IF(A35="","",VLOOKUP($A35,Articles!A:J,2,0)) | E35: =IF(A35="","",VLOOKUP($A35,Articles!A:J,3,0)) | G35: =IF(A35="","",VLOOKUP($A35,Articles!A:J,5,0)) | H35: =IFERROR(F35*G35,"")
A36: Mode de paiement accepté : Chéques à l'ordre du Trésor Public, virement, espèces | G36: Total net de TVA | H36: =SUM(H18:H35) -> 28.5
A37: TVA non applicable selon l'article 293 B du Code Général des Impôts
B41: Produits issus de culture biologique certifiée par Bureau Véritas Certification France FR-BIO-10
A43: Le régisseur principal
A44: Mr Luc PHILIPPONNEAU

Sheet Paramétres
A1: Devis | B1: Facture | C1: Facture pro

Sheet Devis
A1: Mes coordonnées | F1: Devis
F2: ( Devis valable 2 mois )
F4: Pleumartin, le | H4: =NOW() -> 44104.686
E7: =IFERROR(VLOOKUP($B$9,' Particuliers '!$A$2:$E$500,3)&" " &VLOOKUP($B$9,' Particuliers '!$A$2:$E$500,4)&" " &VLOOKUP($B$9,' Particuliers '!$A$2:$E$500,5),"Saisir code client") -> Mr RIVIERE
E8: =IFERROR(VLOOKUP($B$9,' Particuliers '!$A$2:$F$500,6),"Saisir code client") -> 0
A9: Code Client | B9: Part 25 | E9: =IFERROR(VLOOKUP($B$9,' Particuliers '!$A$2:$G$500,7)&"","Saisir code client") | F9: =IFERROR(VLOOKUP($B$9,' Particuliers '!$A$2:$H$500,8)&"","Saisir code client")
A10: N° Devis | B10: ="D"&YEAR(TODAY())&TEXT(1,"0000") -> D20200001
A11: Contact:
A12: Téléphone | B12: Numéro pro
A13: Mail
A15: Réf | B15: Légumes | E15: U/V | F15: Qté | G15: Prix | H15: Total
A16: L08 | B16: =IF(A16="","",VLOOKUP($A16,Articles!A:J,2,0)) -> BIGARREAU Burlat France biologique | E16: =IF(A16="","",VLOOKUP($A16,Articles!A:J,3,0)) -> le kg | F16: 5 | G16: =IF(A16="","",VLOOKUP($A16,Articles!A:J,4,0)) -> 7 | H16: =IFERROR(F16*G16,"") -> 35
A17: L11 | B17: =IF(A17="","",VLOOKUP($A17,Articles!A:J,2,0)) -> CÉLERI-BRANCHE France biologique | E17: =IF(A17="","",VLOOKUP($A17,Articles!A:J,3,0)) -> le kg | F17: 2 | G17: =IF(A17="","",VLOOKUP($A17,Articles!A:J,4,0)) -> 0 | H17: =IFERROR(F17*G17,"") -> 0
A18: L09 | B18: =IF(A18="","",VLOOKUP($A18,Articles!A:J,2,0)) -> CAROTTE France avec fane biologique | E18: =IF(A18="","",VLOOKUP($A18,Articles!A:J,3,0)) -> la botte | F18: 6 | G18: =IF(A18="","",VLOOKUP($A18,Articles!A:J,4,0)) -> 1.7 | H18: =IFERROR(F18*G18,"") -> 10.2
A19: L10 | B19: =IF(A19="","",VLOOKUP($A19,Articles!A:J,2,0)) -> CAROTTE France lavée biologique | E19: =IF(A19="","",VLOOKUP($A19,Articles!A:J,3,0)) -> le kg | F19: 1 | G19: =IF(A19="","",VLOOKUP($A19,Articles!A:J,4,0)) -> 1.4 | H19: =IFERROR(F19*G19,"") -> 1.4
B20: =IF(A20="","",VLOOKUP($A20,Articles!A:J,2,0)) | E20: =IF(A20="","",VLOOKUP($A20,Articles!A:J,3,0)) | G20: =IF(A20="","",VLOOKUP($A20,Articles!A:J,4,0)) | H20: =IFERROR(F20*G20,"")
B21: =IF(A21="","",VLOOKUP($A21,Articles!A:J,2,0)) | E21: =IF(A21="","",VLOOKUP($A21,Articles!A:J,3,0)) | G21: =IF(A21="","",VLOOKUP($A21,Articles!A:J,4,0)) | H21: =IFERROR(F21*G21,"")
B22: =IF(A22="","",VLOOKUP($A22,Articles!A:J,2,0)) | E22: =IF(A22="","",VLOOKUP($A22,Articles!A:J,3,0)) | G22: =IF(A22="","",VLOOKUP($A22,Articles!A:J,4,0)) | H22: =IFERROR(F22*G22,"")
B23: =IF(A23="","",VLOOKUP($A23,Articles!A:J,2,0)) | E23: =IF(A23="","",VLOOKUP($A23,Articles!A:J,3,0)) | G23: =IF(A23="","",VLOOKUP($A23,Articles!A:J,4,0)) | H23: =IFERROR(F23*G23,"")
B24: =IF(A24="","",VLOOKUP($A24,Articles!A:J,2,0)) | E24: =IF(A24="","",VLOOKUP($A24,Articles!A:J,3,0)) | G24: =IF(A24="","",VLOOKUP($A24,Articles!A:J,4,0)) | H24: =IFERROR(F24*G24,"")
B25: =IF(A25="","",VLOOKUP($A25,Articles!A:J,2,0)) | E25: =IF(A25="","",VLOOKUP($A25,Articles!A:J,3,0)) | G25: =IF(A25="","",VLOOKUP($A25,Articles!A:J,4,0)) | H25: =IFERROR(F25*G25,"")
G26: Total net de TVA | H26: =SUM(H16:H25) -> 46.6
A27: Conditions de règlement :
A28: Acompte de 30% à la commande soit : | F28: =0.3*H26 -> 13.98
A29: Solde à la livraison, paiement comptant à la livraison | F29: =0.7*H26 -> 32.62
A31: Mode de paiement accepté : Chéques à l'ordre du Trésor Public, virement, espèces
A32: TVA non applicable selon l'article 293 B du Code Général des Impôts
A34: Merci de nous retourner un exemplaire de ce devis Signé avec votre nom et revêtu de la Mention "Bon pour accord et commande" ainsi que le règlement de l'acompte.
A39: Le régisseur principal | D39: Le Client
A40: Mr Luc PHILIPPONNEAU
D41: A : | G41: Le :

Sheet Historique_Devis
A1: DEVIS N° | B1: Date | C1: Nom Prénom | D1: Adresses | E1: CP | F1: Ville | G1: TOTAL

Sheet Historique_Facture
A1: Facture N° | B1: Date | C1: Nom Prénom | D1: Rue | E1: Ville | F1: TOTAL HT | G1: TOTAL TTC
