Workbook

Sheet Report
D7: Markets | G7: Orders | J7: Invoices
A8: Europe | B8: Rea 2019 | D8: ='Data Source'!D9 -> 120000 | E8: =($D$11-D8)/D8 -> 0.1 | G8: ='Data Source'!G9 -> 80000 | H8: =($G$11-G8)/G8 -> 0.0875 | J8: ='Data Source'!J9 -> 70000 | K8: =($J$11-J8)/J8 -> 0.085714286
B9: Référence | D9: ='Data Source'!D10 -> 125000 | E9: =($D$11-D9)/D9 -> 0.056 | G9: ='Data Source'!G10 -> 90000 | H9: =($G$11-G9)/G9 -> -0.033333333 | J9: ='Data Source'!J10 -> 80000 | K9: =($J$11-J9)/J9 -> -0.05
B10: Prévision S2 | D10: ='Data Source'!D11 -> 130000 | E10: =($D$11-D10)/D10 -> 0.015384615 | G10: ='Data Source'!G11 -> 85000 | H10: =($G$11-G10)/G10 -> 0.023529412 | J10: ='Data Source'!J11 -> 78000 | K10: =($J$11-J10)/J10 -> -0.025641026
B11: Prévision S3 | D11: ='Data Source'!E11 -> 132000 | E11: =($D$11-D11)/D11 -> 0 | G11: ='Data Source'!H11 -> 87000 | H11: =($G$11-G11)/G11 -> 0 | J11: ='Data Source'!K11 -> 76000 | K11: =($J$11-J11)/J11 -> 0
B12: Simulation | D12: =D11 -> 132000 | F12: =D12-D9 -> 7000 | G12: =G11 -> 87000 | I12: =G12-G9 -> -3000 | J12: =J11 -> 76000 | L12: =J12-J9 -> -4000
A14: FRA | B14: Rea 2019 | D14: 20000 | E14: =($D$17-D14)/D14 -> 0.1 | G14: ='Data Source'!G13 -> 10000 | H14: =($G$17-G14)/G14 -> -0.25 | J14: ='Data Source'!J13 -> 9800 | K14: =($J$17-J14)/J14 -> -0.25
B15: Référence | D15: ='Data Source'!D14 -> 21000 | E15: =($D$17-D15)/D15 -> 0.047619048 | G15: ='Data Source'!G14 -> 8800 | H15: =($G$17-G15)/G15 -> -0.14772727 | J15: ='Data Source'!J14 -> 8200 | K15: =($J$17-J15)/J15 -> -0.10365854
B16: Prévision S2 | D16: ='Data Source'!D15 -> 22000 | E16: =($D$17-D16)/D16 -> 0 | G16: ='Data Source'!G15 -> 7500 | H16: =($G$17-G16)/G16 -> 0 | J16: ='Data Source'!J15 -> 7350 | K16: =($J$17-J16)/J16 -> 0
B17: Prévision S3 | D17: ='Data Source'!E15 -> 22000 | E17: =($D$17-D17)/D17 -> 0 | G17: ='Data Source'!H15 -> 7500 | H17: =($G$17-G17)/G17 -> 0 | J17: ='Data Source'!K15 -> 7350 | K17: =($J$17-J17)/J17 -> 0
B18: Simulation | D18: =D17 -> 22000 | F18: =D18-D15 -> 1000 | G18: =G17 -> 7500 | I18: =G18-G15 -> -1300 | J18: =J17 -> 7350 | L18: =J18-J15 -> -850
A19: DEU | B19: Rea 2019 | D19: ='Data Source'!D16 -> 17000 | E19: =($D$22-D19)/D19 -> 0.17647059 | G19: ='Data Source'!G16 -> 7000 | H19: =($G$22-G19)/G19 -> -0.028571429 | J19: ='Data Source'!J16 -> 6800 | K19: =($J$22-J19)/J19 -> 0
B20: Référence | D20: ='Data Source'!D17 -> 19000 | E20: =($D$22-D20)/D20 -> 0.052631579 | G20: ='Data Source'!G17 -> 7200 | H20: =($G$22-G20)/G20 -> -0.055555556 | J20: ='Data Source'!J17 -> 7000 | K20: =($J$22-J20)/J20 -> -0.028571429
B21: Prévision S2 | D21: ='Data Source'!D18 -> 20000 | E21: =($D$22-D21)/D21 -> 0 | G21: ='Data Source'!G18 -> 7500 | H21: =($G$22-G21)/G21 -> -0.093333333 | J21: ='Data Source'!J18 -> 6800 | K21: =($J$22-J21)/J21 -> 0
B22: Prévision S3 | D22: ='Data Source'!E18 -> 20000 | E22: =($D$22-D22)/D22 -> 0 | G22: ='Data Source'!H18 -> 6800 | H22: =($G$22-G22)/G22 -> 0 | J22: ='Data Source'!K18 -> 6800 | K22: =($J$22-J22)/J22 -> 0
B23: Simulation | D23: =D22 -> 20000 | F23: =D23-D20 -> 1000 | G23: =G22 -> 6800 | I23: =G23-G20 -> -400 | J23: =J22 -> 6800 | L23: =J23-J20 -> -200
A24: UK | B24: Rea 2019 | D24: ='Data Source'!D19 -> 34500 | E24: =($D$27-D24)/D24 -> -0.13043478 | G24: ='Data Source'!G19 -> 8000 | H24: =($G$27-G24)/G24 -> -0.0025 | J24: ='Data Source'!J19 -> 7800 | K24: =($J$27-J24)/J24 -> -0.070512821
B25: Référence | D25: ='Data Source'!D20 -> 33000 | E25: =($D$27-D25)/D25 -> -0.090909091 | G25: ='Data Source'!G20 -> 8300 | H25: =($G$27-G25)/G25 -> -0.038554217 | J25: ='Data Source'!J20 -> 7900 | K25: =($J$27-J25)/J25 -> -0.082278481
B26: Prévision S2 | D26: ='Data Source'!D21 -> 30000 | E26: =($D$27-D26)/D26 -> 0 | G26: ='Data Source'!G21 -> 7950 | H26: =($G$27-G26)/G26 -> 0.0037735849 | J26: ='Data Source'!J21 -> 7200 | K26: =($J$27-J26)/J26 -> 0.0069444444
B27: Prévision S3 | D27: ='Data Source'!E21 -> 30000 | E27: =($D$27-D27)/D27 -> 0 | G27: ='Data Source'!H21 -> 7980 | H27: =($G$27-G27)/G27 -> 0 | J27: ='Data Source'!K21 -> 7250 | K27: =($J$27-J27)/J27 -> 0
B28: Simulation | D28: =D27 -> 30000 | F28: =D28-D25 -> -3000 | G28: =G27 -> 7980 | I28: =G28-G25 -> -320 | J28: =J27 -> 7250 | L28: =J28-J25 -> -650
A29: ESP | B29: Rea 2019 | D29: ='Data Source'!D22 -> 18000 | E29: =($D$32-D29)/D29 -> 0.066666667 | G29: ='Data Source'!G22 -> 5200 | H29: =($G$32-G29)/G29 -> 0.125 | J29: ='Data Source'!J22 -> 4800 | K29: =($J$32-J29)/J29 -> 0.0375
B30: Référence | D30: ='Data Source'!D23 -> 18500 | E30: =($D$32-D30)/D30 -> 0.037837838 | G30: ='Data Source'!G23 -> 5500 | H30: =($G$32-G30)/G30 -> 0.063636364 | J30: ='Data Source'!J23 -> 4920 | K30: =($J$32-J30)/J30 -> 0.012195122
B31: Prévision S2 | D31: ='Data Source'!D24 -> 19200 | E31: =($D$32-D31)/D31 -> 0 | G31: ='Data Source'!G24 -> 5900 | H31: =($G$32-G31)/G31 -> -0.0084745763 | J31: ='Data Source'!J24 -> 5000 | K31: =($J$32-J31)/J31 -> -0.004
B32: Prévision S3 | D32: ='Data Source'!E24 -> 19200 | E32: =($D$32-D32)/D32 -> 0 | G32: ='Data Source'!H24 -> 5850 | H32: =($G$32-G32)/G32 -> 0 | J32: ='Data Source'!K24 -> 4980 | K32: =($J$32-J32)/J32 -> 0
B33: Simulation | D33: =D32 -> 19200 | F33: =D33-D30 -> 700 | G33: =G32 -> 5850 | I33: =G33-G30 -> 350 | J33: =J32 -> 4980 | L33: =J33-J30 -> 60
A34: ITA | B34: Rea 2019 | D34: ='Data Source'!D25 -> 15000 | E34: =($D$37-D34)/D34 -> 0.2 | G34: ='Data Source'!G25 -> 6700 | H34: =($G$37-G34)/G34 -> 0.059701493 | J34: ='Data Source'!J25 -> 6500 | K34: =($J$37-J34)/J34 -> 0.15384615
B35: Référence | D35: ='Data Source'!D26 -> 16000 | E35: =($D$37-D35)/D35 -> 0.125 | G35: ='Data Source'!G26 -> 7000 | H35: =($G$37-G35)/G35 -> 0.014285714 | J35: ='Data Source'!J26 -> 6600 | K35: =($G$37-J35)/J35 -> 0.075757576
B36: Prévision S2 | D36: ='Data Source'!D27 -> 18000 | E36: =($D$37-D36)/D36 -> 0 | G36: ='Data Source'!G27 -> 7100 | H36: =($G$37-G36)/G36 -> 0 | J36: ='Data Source'!J27 -> 6650 | K36: =($G$37-J36)/J36 -> 0.067669173
B37: Prévision S3 | D37: ='Data Source'!E27 -> 18000 | E37: =($D$37-D37)/D37 -> 0 | G37: ='Data Source'!H27 -> 7100 | H37: =($G$37-G37)/G37 -> 0 | J37: ='Data Source'!K27 -> 7500 | K37: =($G$37-J37)/J37 -> -0.053333333
B38: Simulation | D38: =D37 -> 18000 | F38: =D38-D35 -> 2000 | G38: =G37 -> 7100 | I38: =G38-G35 -> 100 | J38: =J37 -> 7500 | L38: =J38-J35 -> 900

Sheet Data Source
D6: Marché | G6: Commandes | J6: Facturations
D7: Semaine 2 | E7: Semaine 3 | G7: Semaine 2 | H7: Semaine 3 | J7: Semaine 2 | K7: Semaine 3
D8: Privée & Public | E8: Privée & Public | G8: Privée & Public | H8: Privée & Public | J8: Privée & Public | K8: Privée & Public
A9: Europe | B9: Rea 2019 | D9: 120000 | E9: 120000 | G9: 80000 | H9: 80000 | J9: 70000 | K9: 70000
B10: Référence | D10: 125000 | E10: 125000 | G10: 90000 | H10: 90000 | J10: 80000 | K10: 80000
B11: Prévision | D11: 130000 | E11: 132000 | G11: 85000 | H11: 87000 | J11: 78000 | K11: 76000
A13: FRA | B13: Rea 2019 | D13: 20 000 | E13: 20000 | G13: 10000 | H13: 10000 | J13: 9800 | K13: 9800
B14: Référence | D14: 21000 | E14: 21000 | G14: 8800 | H14: 8800 | J14: 8200 | K14: 8200
B15: Prévision | D15: 22000 | E15: 22000 | G15: 7500 | H15: 7500 | J15: 7350 | K15: 7350
A16: DEU | B16: Rea 2019 | D16: 17000 | E16: 17000 | G16: 7000 | H16: 7000 | J16: 6800 | K16: 6800
B17: Référence | D17: 19000 | E17: 19000 | G17: 7200 | H17: 7200 | J17: 7000 | K17: 7000
B18: Prévision | D18: 20000 | E18: 20000 | G18: 7500 | H18: 6800 | J18: 6800 | K18: 6800
A19: GRB | B19: Rea 2019 | D19: 34500 | E19: 34500 | G19: 8000 | H19: 8000 | J19: 7800 | K19: 7800
B20: Référence | D20: 33000 | E20: 33000 | G20: 8300 | H20: 8300 | J20: 7900 | K20: 7900
B21: Prévision | D21: 30000 | E21: 30000 | G21: 7950 | H21: 7980 | J21: 7200 | K21: 7250
A22: ESP | B22: Rea 2019 | D22: 18000 | E22: 18000 | G22: 5200 | H22: 5200 | J22: 4800 | K22: 4800
B23: Référence | D23: 18500 | E23: 18500 | G23: 5500 | H23: 5500 | J23: 4920 | K23: 4920
B24: Prévision | D24: 19200 | E24: 19200 | G24: 5900 | H24: 5850 | J24: 5000 | K24: 4980
A25: ITA | B25: Rea 2019 | D25: 15000 | E25: 15000 | G25: 6700 | H25: 6700 | J25: 6500 | K25: 6500
B26: Référence | D26: 16000 | E26: 16000 | G26: 7000 | H26: 7000 | J26: 6600 | K26: 6600
B27: Prévision | D27: 18000 | E27: 18000 | G27: 7100 | H27: 7100 | J27: 6650 | K27: 7500
