Workbook

Sheet Indicateurs
A6: Indicator | B6: Provider Code | C6: ASML | D6: SLB | E6: PANW | F6: ZS | G6: MSFT | H6: TSLA | I6: NVDA | J6: VETH | K6: ORSTED | L6: SEDG | M6: ADBE | N6: Min | O6: Max | P6: Median | Q6: Average
A7: E.1.3.3 Non-GHG Air Emissions Programmes-Raw Score-RR | B7: =_xlfn.XLOOKUP($A7,'Data Raw'!$2:$2,'Data Raw'!$1:$1) -> 181248302399 | C7: =IFERROR(INDEX('Data Raw'!$A$1:$AUD$2304,MATCH(Indicateurs!C$6,'Data Raw'!$I:$I,0),MATCH(Indicateurs!$B7,'Data Raw'!$1:$1,0)),"") -> 0 | D7: =IFERROR(INDEX('Data Raw'!$A$1:$AUD$2304,MATCH(Indicateurs!D$6,'Data Raw'!$I:$I,0),MATCH(Indicateurs!$B7,'Data Raw'!$1:$1,0)),"") | E7: =IFERROR(INDEX('Data Raw'!$A$1:$AUD$2304,MATCH(Indicateurs!E$6,'Data Raw'!$I:$I,0),MATCH(Indicateurs!$B7,'Data Raw'!$1:$1,0)),"") -> 0 | F7: =IFERROR(INDEX('Data Raw'!$A$1:$AUD$2304,MATCH(Indicateurs!F$6,'Data Raw'!$I:$I,0),MATCH(Indicateurs!$B7,'Data Raw'!$1:$1,0)),"") | G7: =IFERROR(INDEX('Data Raw'!$A$1:$AUD$2304,MATCH(Indicateurs!G$6,'Data Raw'!$I:$I,0),MATCH(Indicateurs!$B7,'Data Raw'!$1:$1,0)),"") | H7: =IFERROR(INDEX('Data Raw'!$A$1:$AUD$2304,MATCH(Indicateurs!H$6,'Data Raw'!$I:$I,0),MATCH(Indicateurs!$B7,'Data Raw'!$1:$1,0)),"") | I7: =IFERROR(INDEX('Data Raw'!$A$1:$AUD$2304,MATCH(Indicateurs!I$6,'Data Raw'!$I:$I,0),MATCH(Indicateurs!$B7,'Data Raw'!$1:$1,0)),"") | J7: =IFERROR(INDEX('Data Raw'!$A$1:$AUD$2304,MATCH(Indicateurs!J$6,'Data Raw'!$I:$I,0),MATCH(Indicateurs!$B7,'Data Raw'!$1:$1,0)),"") | ... M7: =IFERROR(INDEX('Data Raw'!$A$1:$AUD$2304,MATCH(Indicateurs!M$6,'Data Raw'!$I:$I,0),MATCH(Indicateurs!$B7,'Data Raw'!$1:$1,0)),"") -> 5 | N7: =MIN(C7:M7) -> 0 | O7: =MAX(C7:M7) -> 0 | P7: =MEDIAN(C7:M7) -> #NUM! | Q7: =AVERAGE(C7:M7) -> #DIV/0!
A8: E.1.6 Scope of GHG Reporting-Raw Score-RR | B8: =_xlfn.XLOOKUP($A8,'Data Raw'!$2:$2,'Data Raw'!$1:$1) -> 181248342399 | C8: =IFERROR(INDEX('Data Raw'!$A$1:$AUD$2304,MATCH(Indicateurs!C$6,'Data Raw'!$I:$I,0),MATCH(Indicateurs!$B8,'Data Raw'!$1:$1,0)),"") -> 0.118875180403188 | D8: =IFERROR(INDEX('Data Raw'!$A$1:$AUD$2304,MATCH(Indicateurs!D$6,'Data Raw'!$I:$I,0),MATCH(Indicateurs!$B8,'Data Raw'!$1:$1,0)),"") | E8: =IFERROR(INDEX('Data Raw'!$A$1:$AUD$2304,MATCH(Indicateurs!E$6,'Data Raw'!$I:$I,0),MATCH(Indicateurs!$B8,'Data Raw'!$1:$1,0)),"") -> 0 | F8: =IFERROR(INDEX('Data Raw'!$A$1:$AUD$2304,MATCH(Indicateurs!F$6,'Data Raw'!$I:$I,0),MATCH(Indicateurs!$B8,'Data Raw'!$1:$1,0)),"") | G8: =IFERROR(INDEX('Data Raw'!$A$1:$AUD$2304,MATCH(Indicateurs!G$6,'Data Raw'!$I:$I,0),MATCH(Indicateurs!$B8,'Data Raw'!$1:$1,0)),"") | H8: =IFERROR(INDEX('Data Raw'!$A$1:$AUD$2304,MATCH(Indicateurs!H$6,'Data Raw'!$I:$I,0),MATCH(Indicateurs!$B8,'Data Raw'!$1:$1,0)),"") -> 0.118875180403188 | I8: =IFERROR(INDEX('Data Raw'!$A$1:$AUD$2304,MATCH(Indicateurs!I$6,'Data Raw'!$I:$I,0),MATCH(Indicateurs!$B8,'Data Raw'!$1:$1,0)),"") | J8: =IFERROR(INDEX('Data Raw'!$A$1:$AUD$2304,MATCH(Indicateurs!J$6,'Data Raw'!$I:$I,0),MATCH(Indicateurs!$B8,'Data Raw'!$1:$1,0)),"") | ... M8: =IFERROR(INDEX('Data Raw'!$A$1:$AUD$2304,MATCH(Indicateurs!M$6,'Data Raw'!$I:$I,0),MATCH(Indicateurs!$B8,'Data Raw'!$1:$1,0)),"") -> 5 | N8: =MIN(C8:M8) -> 0 | O8: =MAX(C8:M8) -> 0 | P8: =MEDIAN(C8:M8) -> #NUM! | Q8: =AVERAGE(C8:M8) -> #DIV/0!
A9: E.1.6.2 Physical Climate Risk Management-Raw Score-RR | B9: =_xlfn.XLOOKUP($A9,'Data Raw'!$2:$2,'Data Raw'!$1:$1) -> 181248362399 | C9: =IFERROR(INDEX('Data Raw'!$A$1:$AUD$2304,MATCH(Indicateurs!C$6,'Data Raw'!$I:$I,0),MATCH(Indicateurs!$B9,'Data Raw'!$1:$1,0)),"") -> 4.21250000000002 | D9: =IFERROR(INDEX('Data Raw'!$A$1:$AUD$2304,MATCH(Indicateurs!D$6,'Data Raw'!$I:$I,0),MATCH(Indicateurs!$B9,'Data Raw'!$1:$1,0)),"") | E9: =IFERROR(INDEX('Data Raw'!$A$1:$AUD$2304,MATCH(Indicateurs!E$6,'Data Raw'!$I:$I,0),MATCH(Indicateurs!$B9,'Data Raw'!$1:$1,0)),"") -> 17.4999999999996 | F9: =IFERROR(INDEX('Data Raw'!$A$1:$AUD$2304,MATCH(Indicateurs!F$6,'Data Raw'!$I:$I,0),MATCH(Indicateurs!$B9,'Data Raw'!$1:$1,0)),"") | G9: =IFERROR(INDEX('Data Raw'!$A$1:$AUD$2304,MATCH(Indicateurs!G$6,'Data Raw'!$I:$I,0),MATCH(Indicateurs!$B9,'Data Raw'!$1:$1,0)),"") | H9: =IFERROR(INDEX('Data Raw'!$A$1:$AUD$2304,MATCH(Indicateurs!H$6,'Data Raw'!$I:$I,0),MATCH(Indicateurs!$B9,'Data Raw'!$1:$1,0)),"") -> 4.21250000000002 | I9: =IFERROR(INDEX('Data Raw'!$A$1:$AUD$2304,MATCH(Indicateurs!I$6,'Data Raw'!$I:$I,0),MATCH(Indicateurs!$B9,'Data Raw'!$1:$1,0)),"") | J9: =IFERROR(INDEX('Data Raw'!$A$1:$AUD$2304,MATCH(Indicateurs!J$6,'Data Raw'!$I:$I,0),MATCH(Indicateurs!$B9,'Data Raw'!$1:$1,0)),"") | ... M9: =IFERROR(INDEX('Data Raw'!$A$1:$AUD$2304,MATCH(Indicateurs!M$6,'Data Raw'!$I:$I,0),MATCH(Indicateurs!$B9,'Data Raw'!$1:$1,0)),"") -> 5 | N9: =MIN(C9:M9) -> 0 | O9: =MAX(C9:M9) -> 0 | P9: =MEDIAN(C9:M9) -> #NUM! | Q9: =AVERAGE(C9:M9) -> #DIV/0!
A10: E.1.7.0 GHG Reduction Programme-Raw Score-RR | B10: =_xlfn.XLOOKUP($A10,'Data Raw'!$2:$2,'Data Raw'!$1:$1) -> 181248372399 | C10: =IFERROR(INDEX('Data Raw'!$A$1:$AUD$2304,MATCH(Indicateurs!C$6,'Data Raw'!$I:$I,0),MATCH(Indicateurs!$B10,'Data Raw'!$1:$1,0)),"") -> 2.95 | D10: =IFERROR(INDEX('Data Raw'!$A$1:$AUD$2304,MATCH(Indicateurs!D$6,'Data Raw'!$I:$I,0),MATCH(Indicateurs!$B10,'Data Raw'!$1:$1,0)),"") | E10: =IFERROR(INDEX('Data Raw'!$A$1:$AUD$2304,MATCH(Indicateurs!E$6,'Data Raw'!$I:$I,0),MATCH(Indicateurs!$B10,'Data Raw'!$1:$1,0)),"") -> 0 | F10: =IFERROR(INDEX('Data Raw'!$A$1:$AUD$2304,MATCH(Indicateurs!F$6,'Data Raw'!$I:$I,0),MATCH(Indicateurs!$B10,'Data Raw'!$1:$1,0)),"") | G10: =IFERROR(INDEX('Data Raw'!$A$1:$AUD$2304,MATCH(Indicateurs!G$6,'Data Raw'!$I:$I,0),MATCH(Indicateurs!$B10,'Data Raw'!$1:$1,0)),"") | H10: =IFERROR(INDEX('Data Raw'!$A$1:$AUD$2304,MATCH(Indicateurs!H$6,'Data Raw'!$I:$I,0),MATCH(Indicateurs!$B10,'Data Raw'!$1:$1,0)),"") -> 2.95 | I10: =IFERROR(INDEX('Data Raw'!$A$1:$AUD$2304,MATCH(Indicateurs!I$6,'Data Raw'!$I:$I,0),MATCH(Indicateurs!$B10,'Data Raw'!$1:$1,0)),"") | J10: =IFERROR(INDEX('Data Raw'!$A$1:$AUD$2304,MATCH(Indicateurs!J$6,'Data Raw'!$I:$I,0),MATCH(Indicateurs!$B10,'Data Raw'!$1:$1,0)),"") | ... M10: =IFERROR(INDEX('Data Raw'!$A$1:$AUD$2304,MATCH(Indicateurs!M$6,'Data Raw'!$I:$I,0),MATCH(Indicateurs!$B10,'Data Raw'!$1:$1,0)),"") -> 5 | N10: =MIN(C10:M10) -> 0 | O10: =MAX(C10:M10) -> 0 | P10: =MEDIAN(C10:M10) -> #NUM! | Q10: =AVERAGE(C10:M10) -> #DIV/0!
A11: E.1.9 Carbon Intensity-Raw Score-RR | B11: =_xlfn.XLOOKUP($A11,'Data Raw'!$2:$2,'Data Raw'!$1:$1) -> 181248412399 | C11: =IFERROR(INDEX('Data Raw'!$A$1:$AUD$2304,MATCH(Indicateurs!C$6,'Data Raw'!$I:$I,0),MATCH(Indicateurs!$B11,'Data Raw'!$1:$1,0)),"") -> 0 | D11: =IFERROR(INDEX('Data Raw'!$A$1:$AUD$2304,MATCH(Indicateurs!D$6,'Data Raw'!$I:$I,0),MATCH(Indicateurs!$B11,'Data Raw'!$1:$1,0)),"") | E11: =IFERROR(INDEX('Data Raw'!$A$1:$AUD$2304,MATCH(Indicateurs!E$6,'Data Raw'!$I:$I,0),MATCH(Indicateurs!$B11,'Data Raw'!$1:$1,0)),"") -> 0 | F11: =IFERROR(INDEX('Data Raw'!$A$1:$AUD$2304,MATCH(Indicateurs!F$6,'Data Raw'!$I:$I,0),MATCH(Indicateurs!$B11,'Data Raw'!$1:$1,0)),"") | G11: =IFERROR(INDEX('Data Raw'!$A$1:$AUD$2304,MATCH(Indicateurs!G$6,'Data Raw'!$I:$I,0),MATCH(Indicateurs!$B11,'Data Raw'!$1:$1,0)),"") | H11: =IFERROR(INDEX('Data Raw'!$A$1:$AUD$2304,MATCH(Indicateurs!H$6,'Data Raw'!$I:$I,0),MATCH(Indicateurs!$B11,'Data Raw'!$1:$1,0)),"") | I11: =IFERROR(INDEX('Data Raw'!$A$1:$AUD$2304,MATCH(Indicateurs!I$6,'Data Raw'!$I:$I,0),MATCH(Indicateurs!$B11,'Data Raw'!$1:$1,0)),"") | J11: =IFERROR(INDEX('Data Raw'!$A$1:$AUD$2304,MATCH(Indicateurs!J$6,'Data Raw'!$I:$I,0),MATCH(Indicateurs!$B11,'Data Raw'!$1:$1,0)),"") | ... M11: =IFERROR(INDEX('Data Raw'!$A$1:$AUD$2304,MATCH(Indicateurs!M$6,'Data Raw'!$I:$I,0),MATCH(Indicateurs!$B11,'Data Raw'!$1:$1,0)),"") -> 5 | N11: =MIN(C11:M11) -> 0 | O11: =MAX(C11:M11) -> 0 | P11: =MEDIAN(C11:M11) -> #NUM! | Q11: =AVERAGE(C11:M11) -> #DIV/0!
A12: E.3.1.3 Fleet Emissions-Raw Score-RR | B12: =_xlfn.XLOOKUP($A12,'Data Raw'!$2:$2,'Data Raw'!$1:$1) -> 181248652399 | C12: =IFERROR(INDEX('Data Raw'!$A$1:$AUD$2304,MATCH(Indicateurs!C$6,'Data Raw'!$I:$I,0),MATCH(Indicateurs!$B12,'Data Raw'!$1:$1,0)),"") -> 0 | D12: =IFERROR(INDEX('Data Raw'!$A$1:$AUD$2304,MATCH(Indicateurs!D$6,'Data Raw'!$I:$I,0),MATCH(Indicateurs!$B12,'Data Raw'!$1:$1,0)),"") | E12: =IFERROR(INDEX('Data Raw'!$A$1:$AUD$2304,MATCH(Indicateurs!E$6,'Data Raw'!$I:$I,0),MATCH(Indicateurs!$B12,'Data Raw'!$1:$1,0)),"") -> 0 | F12: =IFERROR(INDEX('Data Raw'!$A$1:$AUD$2304,MATCH(Indicateurs!F$6,'Data Raw'!$I:$I,0),MATCH(Indicateurs!$B12,'Data Raw'!$1:$1,0)),"") | G12: =IFERROR(INDEX('Data Raw'!$A$1:$AUD$2304,MATCH(Indicateurs!G$6,'Data Raw'!$I:$I,0),MATCH(Indicateurs!$B12,'Data Raw'!$1:$1,0)),"") | H12: =IFERROR(INDEX('Data Raw'!$A$1:$AUD$2304,MATCH(Indicateurs!H$6,'Data Raw'!$I:$I,0),MATCH(Indicateurs!$B12,'Data Raw'!$1:$1,0)),"") | I12: =IFERROR(INDEX('Data Raw'!$A$1:$AUD$2304,MATCH(Indicateurs!I$6,'Data Raw'!$I:$I,0),MATCH(Indicateurs!$B12,'Data Raw'!$1:$1,0)),"") | J12: =IFERROR(INDEX('Data Raw'!$A$1:$AUD$2304,MATCH(Indicateurs!J$6,'Data Raw'!$I:$I,0),MATCH(Indicateurs!$B12,'Data Raw'!$1:$1,0)),"") | ... M12: =IFERROR(INDEX('Data Raw'!$A$1:$AUD$2304,MATCH(Indicateurs!M$6,'Data Raw'!$I:$I,0),MATCH(Indicateurs!$B12,'Data Raw'!$1:$1,0)),"") -> 5 | N12: =MIN(C12:M12) -> 0 | O12: =MAX(C12:M12) -> 0 | P12: =MEDIAN(C12:M12) -> #NUM! | Q12: =AVERAGE(C12:M12) -> #DIV/0!

Sheet Data Raw
A1: 101011293099 | B1: 101011112999 | C1: 101011122899 | D1: 101011132899 | E1: 101011142899 | F1: 101011272899 | G1: 101011152799 | H1: 101111142999 | I1: 101111152999 | J1: 101111162999 | K1: 101111232999 | L1: 101111172999 | M1: 101111192999 | N1: 101111202999 | O1: 101111212999 | P1: 101111222999 | Q1: 101211112999 | R1: 181129302199 | S1: 181121302399 | T1: 181146591399 | U1: 181144591399 | V1: 181135452899 | W1: 181119781799 | X1: 181248302399 | Y1: 181248342399 | Z1: 181248362399 | AA1: 181248372399 | AB1: 181248412399 | AC1: 181248652399 | AD1: 181146621399 | AE1: 181144621399 | AF1: 181135662899 | AG1: 181118231799 | AH1: 181122272399 | AI1: 181124272399 | AJ1: 181121262799 | AK1: 181130271699 | AL1: 181129272199 | AM1: 181121272399 | AN1: 181146651399 | AO1: 181144651399 | AP1: 181135422899 | AQ1: 181120371799 | AR1: 181122602399 | AS1: 181124602399 | AT1: 181121582799 | AU1: 181130601699 | AV1: 181129602199 | AW1: 181121602399 | AX1: 181146681399 | AY1: 181144681399 | AZ1: 181135752899 | BA1: 181120251799 | BB1: 181122582399 | BC1: 181124582399 | BD1: 181121562799 | BE1: 181130581699 | BF1: 181129582199 | BG1: 181121582399 | BH1: 181146711399 | BI1: 181144711399 | BJ1: 181135732899 | BK1: 181119841799 | BL1: 181122522399 | BM1: 181124522399 | BN1: 181121512799 | BO1: 181130521699 | BP1: 181129522199 | BQ1: 181121522399 | BR1: 181146741399 | BS1: 181144741399 | BT1: 181135672899 | BU1: 181118711799 | BV1: 181122352399 | BW1: 181124352399 | BX1: 181121342799 | BY1: 181130351699 | BZ1: 181129352199 | CA1: 181121352399 | CB1: 181146771399 | CC1: 181144771399 | CD1: 181135502899 | CE1: 181118771799 | CF1: 181122362399 | CG1: 181124362399 | CH1: 181121352799 | CI1: 181130361699 | CJ1: 181129362199 | CK1: 181121362399 | CL1: 181146801399 | CM1: 181144801399 | CN1: 181135512899 | CO1: 181117641799 | CP1: 181122192399 | CQ1: 181124192399 | CR1: 181121182799 | CS1: 181130191699 | CT1: 181129192199 | CU1: 181121192399 | CV1: 181146831399 | CW1: 181144831399 | CX1: 181135342899 | CY1: 181117401799 | CZ1: 181122152399 | DA1: 181124152399 | DB1: 181121142799 | DC1: 181130151699 | DD1: 181129152199 | DE1: 181121152399 | DF1: 181146861399 | DG1: 181144861399 | DH1: 181135302899 | DI1: 181117341799 | DJ1: 181122142399 | DK1: 181124142399 | DL1: 181121132799 | DM1: 181130141699 | DN1: 181129142199 | DO1: 181121142399 | DP1: 181146891399 | DQ1: 181144891399 | DR1: 181135292899 | DS1: 181117281799 | DT1: 181122132399 | DU1: 181124132399 | DV1: 181121122799 | DW1: 181130131699 | DX1: 181129132199 | DY1: 181121132399 | DZ1: 181146921399 | EA1: 181144921399 | EB1: 181135282899 | EC1: 181118831799 | ED1: 181122372399 | EE1: 181124372399 | EF1: 181121362799 | EG1: 181130371699 | EH1: 181129372199 | EI1: 181121372399 | EJ1: 181146951399 | EK1: 181144951399 | EL1: 181135522899 | EM1: 181119901799 | EN1: 181122532399 | EO1: 181124532399 | EP1: 181121522799 | EQ1: 181130531699 | ER1: 181129532199 | ES1: 181121532399 | ET1: 181147111399 | EU1: 181145111399 | EV1: 181135682899 | EW1: 181118891799 | EX1: 181122382399 | EY1: 181124382399 | EZ1: 181121372799 | FA1: 181130381699 | FB1: 181129382199 | FC1: 181121382399 | FD1: 181147141399 | FE1: 181145141399 | FF1: 181135532899 | FG1: 181118471799 | FH1: 181122312399 | FI1: 181124312399 | FJ1: 181121302799 | FK1: 181130311699 | FL1: 181129312199 | FM1: 181121312399 | FN1: 181147171399 | FO1: 181145171399 | FP1: 181135462899 | FQ1: 181117461799 | FR1: 181122162399 | FS1: 181124162399 | FT1: 181121152799 | FU1: 181130161699 | FV1: 181129162199 | FW1: 181121162399 | FX1: 181147201399 | FY1: 181145201399 | FZ1: 181135312899 | GA1: 181118951799 | GB1: 181122392399 | GC1: 181124392399 | GD1: 181121382799 | GE1: 181130391699 | GF1: 181129392199 | GG1: 181121392399 | GH1: 181147231399 | GI1: 181145231399 | GJ1: 181135542899 | GK1: 181119121799 | GL1: 181122402399 | GM1: 181124402399 | GN1: 181121392799 | GO1: 181130401699 | GP1: 181129402199 | GQ1: 181121402399 | GR1: 181147261399 | GS1: 181145261399 | GT1: 181135552899 | GU1: 181119181799 | GV1: 181122412399 | GW1: 181124412399 | GX1: 181121402799 | GY1: 181130411699 | GZ1: 181129412199 | HA1: 181121412399 | HB1: 181147291399 | HC1: 181145291399 | HD1: 181135562899 | HE1: 181119961799 | HF1: 181122552399 | HG1: 181124552399 | HH1: 181121532799 | HI1: 181130551699 | HJ1: 181129552199 | HK1: 181121552399 | HL1: 181147321399 | HM1: 181145321399 | HN1: 181135702899 | HO1: 181117521799 | HP1: 181122172399 | HQ1: 181124172399 | HR1: 181121162799 | HS1: 181130171699 | HT1: 181129172199 | HU1: 181121172399 | HV1: 181147351399 | HW1: 181145351399 | HX1: 181135322899 | HY1: 181117701799 | HZ1: 181122202399 | IA1: 181124202399 | IB1: 181121192799 | IC1: 181130201699 | ID1: 181129202199 | IE1: 181121202399 | IF1: 181147381399 | IG1: 181145381399 | IH1: 181135352899 | II1: 181119241799 | IJ1: 181122422399 | IK1: 181124422399 | IL1: 181121412799 | IM1: 181130421699 | IN1: 181129422199 | IO1: 181121422399 | IP1: 181147411399 | IQ1: 181145411399 | IR1: 181135572899 | IS1: 181117761799 | IT1: 181122212399 | IU1: 181124212399 | IV1: 181121202799 | IW1: 181130211699 | IX1: 181129212199 | IY1: 181121212399 | IZ1: 181147441399 | JA1: 181145441399 | JB1: 181135362899 | JC1: 181117581799 | JD1: 181122182399 | JE1: 181124182399 | JF1: 181121172799 | JG1: 181130181699 | JH1: 181129182199 | JI1: 181121182399 | JJ1: 181147471399 | JK1: 181145471399 | JL1: 181135332899 | JM1: 181117821799 | JN1: 181122222399 | JO1: 181124222399 | JP1: 181121212799 | JQ1: 181130221699 | JR1: 181129222199 | JS1: 181121222399 | JT1: 181147501399 | JU1: 181145501399 | JV1: 181135372899 | JW1: 181119301799 | JX1: 181122432399 | JY1: 181124432399 | JZ1: 181121422799 | KA1: 181130431699 | KB1: 181129432199 | KC1: 181121432399 | KD1: 181147531399 | KE1: 181145531399 | KF1: 181135582899 | KG1: 181119361799 | KH1: 181122442399 | KI1: 181124442399 | KJ1: 181121432799 | KK1: 181130441699 | KL1: 181129442199 | KM1: 181121442399 | KN1: 181147561399 | KO1: 181145561399 | KP1: 181135592899 | KQ1: 181120431799 | KR1: 181122612399 | KS1: 181124612399 | KT1: 181121592799 | KU1: 181130611699 | KV1: 181129612199 | KW1: 181121612399 | KX1: 181147591399 | KY1: 181145591399 | KZ1: 181135762899 | LA1: 181120311799 | LB1: 181122592399 | LC1: 181124592399 | LD1: 181121572799 | LE1: 181130591699 | LF1: 181129592199 | LG1: 181121592399 | LH1: 181147621399 | LI1: 181145621399 | LJ1: 181135742899 | LK1: 181120131799 | LL1: 181122562399 | LM1: 181124562399 | LN1: 181121542799 | LO1: 181130561699 | LP1: 181129562199 | LQ1: 181121562399 | LR1: 181147651399 | LS1: 181145651399 | LT1: 181135712899 | LU1: 181119421799 | LV1: 181122452399 | LW1: 181124452399 | LX1: 181121442799 | LY1: 181130451699 | LZ1: 181129452199 | MA1: 181121452399 | MB1: 181147681399 | MC1: 181145681399 | MD1: 181135602899 | ME1: 181119481799 | MF1: 181122462399 | MG1: 181124462399 | MH1: 181121452799 | MI1: 181130461699 | MJ1: 181129462199 | MK1: 181121462399 | ML1: 181147711399 | MM1: 181145711399 | MN1: 181135612899 | MO1: 181120991799 | MP1: 181122622399 | MQ1: 181124622399 | MR1: 181121602799 | MS1: 181130621699 | MT1: 181129622199 | MU1: 181121622399 | MV1: 181147771399 | MW1: 181145771399 | MX1: 181135772899 | MY1: 181121131799 | MZ1: 181122642399 | NA1: 181124642399 | NB1: 181121622799 | NC1: 181130641699 | ND1: 181129642199 | NE1: 181121642399 | NF1: 181147831399 | NG1: 181145831399 | NH1: 181135792899 | NI1: 181198112299 | NJ1: 181198122199 | NK1: 181198132099 | NL1: 181198291799 | NM1: 181198142299 | NN1: 181198152199 | NO1: 181198162099 | NP1: 181198301799 | NQ1: 181198172299 | NR1: 181198182199 | NS1: 181198192099 | NT1: 181198311799 | NU1: 181198202299 | NV1: 181198212199 | NW1: 181198222099 | NX1: 181198321799 | NY1: 181198232299 | NZ1: 181198242199 | OA1: 181198252099 | OB1: 181198331799 | OC1: 181198262299 | OD1: 181198272199 | OE1: 181198282099 | OF1: 181198341799 | OG1: 181412132199 | OH1: 181412142099 | OI1: 181541471499 | OJ1: 181549472399 | OK1: 181553472199 | OL1: 181557472099 | OM1: 181541491499 | ON1: 181549492399 | OO1: 181553492199 | OP1: 181557492099 | OQ1: 181240111499 | OR1: 181237822899 | OS1: 181248112399 | OT1: 181266112199 | OU1: 181268112099 | OV1: 181240121499 | OW1: 181236112899 | OX1: 181248122399 | OY1: 181266122199 | OZ1: 181268122099 | PA1: 181240131499 | PB1: 181236122899 | PC1: 181248132399 | PD1: 181266132199 | PE1: 181268132099 | PF1: 181240141499 | PG1: 181236132899 | PH1: 181248142399 | PI1: 181266142199 | PJ1: 181268142099 | PK1: 181240151499 | PL1: 181236142899 | PM1: 181248152399 | PN1: 181266152199 | PO1: 181268152099 | PP1: 181240161499 | PQ1: 181236152899 | PR1: 181248162399 | PS1: 181266162199 | PT1: 181268162099 | PU1: 181240171499 | PV1: 181236162899 | PW1: 181248172399 | PX1: 181266172199 | PY1: 181268172099 | PZ1: 181240181499 | QA1: 181236172899 | QB1: 181248182399 | QC1: 181266182199 | QD1: 181268182099 | QE1: 181240191499 | QF1: 181236182899 | QG1: 181248192399 | QH1: 181266192199 | QI1: 181268192099 | QJ1: 181240201499 | QK1: 181236192899 | QL1: 181248202399 | QM1: 181266202199 | QN1: 181268202099 | QO1: 181240211499 | QP1: 181236202899 | QQ1: 181248212399 | QR1: 181266212199 | QS1: 181268212099 | QT1: 181240221499 | QU1: 181236212899 | QV1: 181248222399 | QW1: 181266222199 | QX1: 181268222099 | QY1: 181240231499 | QZ1: 181236222899 | RA1: 181248232399 | RB1: 181266232199 | RC1: 181268232099 | RD1: 181240241499 | RE1: 181236232899 | RF1: 181248242399 | RG1: 181266242199 | RH1: 181268242099 | RI1: 181240251499 | RJ1: 181236242899 | RK1: 181248252399 | RL1: 181266252199 | RM1: 181268252099 | RN1: 181240261499 | RO1: 181236252899 | RP1: 181248262399 | RQ1: 181266262199 | RR1: 181268262099 | RS1: 181240271499 | RT1: 181236262899 | RU1: 181248272399 | RV1: 181266272199 | RW1: 181268272099 | RX1: 181240281499 | RY1: 181236272899 | RZ1: 181248282399 | SA1: 181266282199 | SB1: 181268282099 | SC1: 181240291499 | SD1: 181236282899 | SE1: 181248292399 | SF1: 181266292199 | SG1: 181268292099 | SH1: 181240301499 | SI1: 181236292899 | SJ1: 181248302399 | SK1: 181266302199 | SL1: 181268302099 | SM1: 181240311499 | SN1: 181236302899 | SO1: 181248312399 | SP1: 181266312199 | SQ1: 181268312099 | SR1: 181240341499 | SS1: 181236332899 | ST1: 181248342399 | SU1: 181266342199 | SV1: 181268342099 | SW1: 181240351499 | SX1: 181236342899 | SY1: 181248352399 | SZ1: 181266352199 | TA1: 181268352099 | TB1: 181240361499 | TC1: 181236352899 | TD1: 181248362399 | TE1: 181266362199 | TF1: 181268362099 | TG1: 181240371499 | TH1: 181236362899 | TI1: 181248372399 | TJ1: 181266372199 | TK1: 181268372099 | TL1: 181240381499 | TM1: 181236372899 | TN1: 181248382399 | TO1: 181266382199 | TP1: 181268382099 | TQ1: 181240401499 | TR1: 181236382899 | TS1: 181248402399 | TT1: 181266392199 | TU1: 181268392099 | TV1: 181240411499 | TW1: 181236392899 | TX1: 181248412399 | TY1: 181266402199 | TZ1: 181268402099 | UA1: 181240421499 | UB1: 181236402899 | UC1: 181248422399 | UD1: 181266412199 | UE1: 181268412099 | UF1: 181240431499 | UG1: 181236412899 | UH1: 181248432399 | UI1: 181266422199 | UJ1: 181268422099 | UK1: 181240441499 | UL1: 181236422899 | UM1: 181248442399 | UN1: 181266432199 | UO1: 181268432099 | UP1: 181240451499 | UQ1: 181236432899 | UR1: 181248452399 | US1: 181266442199 | UT1: 181268442099 | UU1: 181240461499 | UV1: 181236442899 | UW1: 181248462399 | UX1: 181266452199 | UY1: 181268452099 | UZ1: 181240471499 | VA1: 181236452899 | VB1: 181248472399 | VC1: 181266462199 | VD1: 181268462099 | VE1: 181240481499 | VF1: 181236462899 | VG1: 181248482399 | VH1: 181266472199 | VI1: 181268472099 | VJ1: 181240491499 | VK1: 181236472899 | VL1: 181248492399 | VM1: 181266482199 | VN1: 181268482099 | VO1: 181240501499 | VP1: 181236482899 | VQ1: 181248502399 | VR1: 181266492199 | VS1: 181268492099 | VT1: 181240511499 | VU1: 181236492899 | VV1: 181248512399 | VW1: 181266502199 | VX1: 181268502099 | VY1: 181240521499 | VZ1: 181236502899 | WA1: 181248522399 | WB1: 181266512199 | WC1: 181268512099 | WD1: 181240531499 | WE1: 181236512899 | WF1: 181248532399 | WG1: 181266522199 | WH1: 181268522099 | WI1: 181240541499 | WJ1: 181236522899 | WK1: 181248542399 | WL1: 181266532199 | WM1: 181268532099 | WN1: 181240551499 | WO1: 181236532899 | WP1: 181248552399 | WQ1: 181266542199 | WR1: 181268542099 | WS1: 181240561499 | WT1: 181236542899 | WU1: 181248562399 | WV1: 181266552199 | WW1: 181268552099 | WX1: 181240571499 | WY1: 181236552899 | WZ1: 181248572399 | XA1: 181266562199 | XB1: 181268562099 | XC1: 181240581499 | XD1: 181236562899 | XE1: 181248582399 | XF1: 181266572199 | XG1: 181268572099 | XH1: 181240591499 | XI1: 181236572899 | XJ1: 181248592399 | XK1: 181266582199 | XL1: 181268582099 | XM1: 181240601499 | XN1: 181236582899 | XO1: 181248602399 | XP1: 181266592199 | XQ1: 181268592099 | XR1: 181240611499 | XS1: 181236592899 | XT1: 181248612399 | XU1: 181266602199 | XV1: 181268602099 | XW1: 181240621499 | XX1: 181236602899 | XY1: 181248622399 | XZ1: 181266612199 | YA1: 181268612099 | YB1: 181240641499 | YC1: 181236622899 | YD1: 181248642399 | YE1: 181266632199 | YF1: 181268632099 | YG1: 181240651499 | YH1: 181236632899 | YI1: 181248652399 | YJ1: 181266642199 | YK1: 181268642099 | YL1: 181240661499 | YM1: 181236642899 | YN1: 181248662399 | YO1: 181266652199 | YP1: 181268652099 | YQ1: 181240671499 | YR1: 181236652899 | YS1: 181248672399 | YT1: 181266662199 | YU1: 181268662099 | YV1: 181240681499 | YW1: 181236662899 | YX1: 181248682399 | YY1: 181266672199 | YZ1: 181268672099 | ZA1: 181240691499 | ZB1: 181236672899 | ZC1: 181248692399 | ZD1: 181266682199 | ZE1: 181268682099 | ZF1: 181240701499 | ZG1: 181236682899 | ZH1: 181248702399 | ZI1: 181266692199 | ZJ1: 181268692099 | ZK1: 181240711499 | ZL1: 181236692899 | ZM1: 181248712399 | ZN1: 181266702199 | ZO1: 181268702099 | ZP1: 181241111499 | ZQ1: 181236702899 | ZR1: 181249112399 | ZS1: 181266712199 | ZT1: 181268712099 | ZU1: 181241121499 | ZV1: 181236712899 | ZW1: 181249122399 | ZX1: 181266722199 | ZY1: 181268722099 | ZZ1: 181241131499 | AAA1: 181236722899 | AAB1: 181249132399 | AAC1: 181266732199 | AAD1: 181268732099 | AAE1: 181241141499 | AAF1: 181236732899 | AAG1: 181249142399 | AAH1: 181266742199 | AAI1: 181268742099 | AAJ1: 181241151499 | AAK1: 181236742899 | AAL1: 181249152399 | AAM1: 181266752199 | AAN1: 181268752099 | AAO1: 181241161499 | AAP1: 181236752899 | AAQ1: 181249162399 | AAR1: 181266762199 | AAS1: 181268762099 | AAT1: 181241171499 | AAU1: 181236762899 | AAV1: 181249172399 | AAW1: 181266772199 | AAX1: 181268772099 | AAY1: 181241181499 | AAZ1: 181236772899 | ABA1: 181249182399 | ABB1: 181266782199 | ABC1: 181268782099 | ABD1: 181241191499 | ABE1: 181236782899 | ABF1: 181249192399 | ABG1: 181266792199 | ABH1: 181268792099 | ABI1: 181241201499 | ABJ1: 181236792899 | ABK1: 181249202399 | ABL1: 181266802199 | ABM1: 181268802099 | ABN1: 181241211499 | ABO1: 181236802899 | ABP1: 181249212399 | ABQ1: 181266812199 | ABR1: 181268812099 | ABS1: 181241221499 | ABT1: 181236812899 | ABU1: 181249222399 | ABV1: 181266822199 | ABW1: 181268822099 | ABX1: 181241231499 | ABY1: 181236822899 | ABZ1: 181249232399 | ACA1: 181266832199 | ACB1: 181268832099 | ACC1: 181241241499 | ACD1: 181236832899 | ACE1: 181249242399 | ACF1: 181266842199 | ACG1: 181268842099 | ACH1: 181241251499 | ACI1: 181236842899 | ACJ1: 181249252399 | ACK1: 181266852199 | ACL1: 181268852099 | ACM1: 181241261499 | ACN1: 181236852899 | ACO1: 181249262399 | ACP1: 181266862199 | ACQ1: 181268862099 | ACR1: 181241271499 | ACS1: 181236862899 | ACT1: 181249272399 | ACU1: 181266872199 | ACV1: 181268872099 | ACW1: 181241281499 | ACX1: 181236872899 | ACY1: 181249282399 | ACZ1: 181266882199 | ADA1: 181268882099 | ADB1: 181241291499 | ADC1: 181236882899 | ADD1: 181249292399 | ADE1: 181266892199 | ADF1: 181268892099 | ADG1: 181241301499 | ADH1: 181236892899 | ADI1: 181249302399 | ADJ1: 181266902199 | ADK1: 181268902099 | ADL1: 181241311499 | ADM1: 181236902899 | ADN1: 181249312399 | ADO1: 181266912199 | ADP1: 181268912099 | ADQ1: 181241321499 | ADR1: 181236912899 | ADS1: 181249322399 | ADT1: 181266922199 | ADU1: 181268922099 | ADV1: 181241331499 | ADW1: 181236922899 | ADX1: 181249332399 | ADY1: 181266932199 | ADZ1: 181268932099 | AEA1: 181241341499 | AEB1: 181236932899 | AEC1: 181249342399 | AED1: 181266942199 | AEE1: 181268942099 | AEF1: 181241351499 | AEG1: 181236942899 | AEH1: 181249352399 | AEI1: 181266952199 | AEJ1: 181268952099 | AEK1: 181241361499 | AEL1: 181236952899 | AEM1: 181249362399 | AEN1: 181266962199 | AEO1: 181268962099 | AEP1: 181241371499 | AEQ1: 181236962899 | AER1: 181249372399 | AES1: 181266972199 | AET1: 181268972099 | AEU1: 181241381499 | AEV1: 181236972899 | AEW1: 181249382399 | AEX1: 181267112199 | AEY1: 181269112099 | AEZ1: 181241391499 | AFA1: 181237112899 | AFB1: 181249392399 | AFC1: 181267122199 | AFD1: 181269122099 | AFE1: 181241401499 | AFF1: 181237122899 | AFG1: 181249402399 | AFH1: 181267132199 | AFI1: 181269132099 | AFJ1: 181241411499 | AFK1: 181237132899 | AFL1: 181249412399 | AFM1: 181267142199 | AFN1: 181269142099 | AFO1: 181242111499 | AFP1: 181237142899 | AFQ1: 181250112399 | AFR1: 181267152199 | AFS1: 181269152099 | AFT1: 181242121499 | AFU1: 181237152899 | AFV1: 181250122399 | AFW1: 181267162199 | AFX1: 181269162099 | AFY1: 181242131499 | AFZ1: 181237162899 | AGA1: 181250132399 | AGB1: 181267172199 | AGC1: 181269172099 | AGD1: 181242141499 | AGE1: 181237172899 | AGF1: 181250142399 | AGG1: 181267182199 | AGH1: 181269182099 | AGI1: 181242151499 | AGJ1: 181237182899 | AGK1: 181250152399 | AGL1: 181267192199 | AGM1: 181269192099 | AGN1: 181242161499 | AGO1: 181237192899 | AGP1: 181250162399 | AGQ1: 181267202199 | AGR1: 181269202099 | AGS1: 181242171499 | AGT1: 181237202899 | AGU1: 181250172399 | AGV1: 181267212199 | AGW1: 181269212099 | AGX1: 181242181499 | AGY1: 181237212899 | AGZ1: 181250182399 | AHA1: 181267222199 | AHB1: 181269222099 | AHC1: 181242201499 | AHD1: 181237222899 | AHE1: 181250202399 | AHF1: 181267232199 | AHG1: 181269232099 | AHH1: 181242211499 | AHI1: 181237232899 | AHJ1: 181250212399 | AHK1: 181267242199 | AHL1: 181269242099 | AHM1: 181242221499 | AHN1: 181237242899 | AHO1: 181250222399 | AHP1: 181267252199 | AHQ1: 181269252099 | AHR1: 181242231499 | AHS1: 181237252899 | AHT1: 181250232399 | AHU1: 181267262199 | AHV1: 181269262099 | AHW1: 181242241499 | AHX1: 181237262899 | AHY1: 181250242399 | AHZ1: 181267272199 | AIA1: 181269272099 | AIB1: 181242251499 | AIC1: 181237272899 | AID1: 181250252399 | AIE1: 181267282199 | AIF1: 181269282099 | AIG1: 181242261499 | AIH1: 181237282899 | AII1: 181250262399 | AIJ1: 181267292199 | AIK1: 181269292099 | AIL1: 181242281499 | AIM1: 181237302899 | AIN1: 181250282399 | AIO1: 181267312199 | AIP1: 181269312099 | AIQ1: 181242291499 | AIR1: 181237312899 | AIS1: 181250292399 | AIT1: 181267322199 | AIU1: 181269322099 | AIV1: 181242301499 | AIW1: 181237322899 | AIX1: 181250302399 | AIY1: 181267332199 | AIZ1: 181269332099 | AJA1: 181242321499 | AJB1: 181237342899 | AJC1: 181250322399 | AJD1: 181267352199 | AJE1: 181269352099 | AJF1: 181242331499 | AJG1: 181237352899 | AJH1: 181250332399 | AJI1: 181267362199 | AJJ1: 181269362099 | AJK1: 181242341499 | AJL1: 181237362899 | AJM1: 181250342399 | AJN1: 181267372199 | AJO1: 181269372099 | AJP1: 181242351499 | AJQ1: 181237372899 | AJR1: 181250352399 | AJS1: 181267382199 | AJT1: 181269382099 | AJU1: 181242361499 | AJV1: 181237382899 | AJW1: 181250362399 | AJX1: 181267392199 | AJY1: 181269392099 | AJZ1: 181242371499 | AKA1: 181237392899 | AKB1: 181250372399 | AKC1: 181267402199 | AKD1: 181269402099 | AKE1: 181242381499 | AKF1: 181237402899 | AKG1: 181250382399 | AKH1: 181267412199 | AKI1: 181269412099 | AKJ1: 181242391499 | AKK1: 181237412899 | AKL1: 181250392399 | AKM1: 181267422199 | AKN1: 181269422099 | AKO1: 181242401499 | AKP1: 181237422899 | AKQ1: 181250402399 | AKR1: 181267432199 | AKS1: 181269432099 | AKT1: 181242411499 | AKU1: 181237432899 | AKV1: 181250412399 | AKW1: 181267442199 | AKX1: 181269442099 | AKY1: 181242421499 | AKZ1: 181237442899 | ALA1: 181250422399 | ALB1: 181267452199 | ALC1: 181269452099 | ALD1: 181242431499 | ALE1: 181237452899 | ALF1: 181250432399 | ALG1: 181267462199 | ALH1: 181269462099 | ALI1: 181242441499 | ALJ1: 181237462899 | ALK1: 181250442399 | ALL1: 181267472199 | ALM1: 181269472099 | ALN1: 181242451499 | ALO1: 181237472899 | ALP1: 181250452399 | ALQ1: 181267482199 | ALR1: 181269482099 | ALS1: 181242461499 | ALT1: 181237482899 | ALU1: 181250462399 | ALV1: 181267492199 | ALW1: 181269492099 | ALX1: 181242471499 | ALY1: 181237492899 | ALZ1: 181250472399 | AMA1: 181267502199 | AMB1: 181269502099 | AMC1: 181242481499 | AMD1: 181237502899 | AME1: 181250482399 | AMF1: 181267512199 | AMG1: 181269512099 | AMH1: 181242491499 | AMI1: 181237512899 | AMJ1: 181250492399 | AMK1: 181267522199 | AML1: 181269522099 | AMM1: 181242501499 | AMN1: 181237522899 | AMO1: 181250502399 | AMP1: 181267532199 | AMQ1: 181269532099 | AMR1: 181242511499 | AMS1: 181237532899 | AMT1: 181250512399 | AMU1: 181267542199 | AMV1: 181269542099 | AMW1: 181242521499 | AMX1: 181237542899 | AMY1: 181250522399 | AMZ1: 181267552199 | ANA1: 181269552099 | ANB1: 181242531499 | ANC1: 181237552899 | AND1: 181250532399 | ANE1: 181267562199 | ANF1: 181269562099 | ANG1: 181242541499 | ANH1: 181237562899 | ANI1: 181250542399 | ANJ1: 181267572199 | ANK1: 181269572099 | ANL1: 181242551499 | ANM1: 181237572899 | ANN1: 181250552399 | ANO1: 181267582199 | ANP1: 181269582099 | ANQ1: 181242561499 | ANR1: 181237582899 | ANS1: 181250562399 | ANT1: 181267592199 | ANU1: 181269592099 | ANV1: 181242571499 | ANW1: 181237592899 | ANX1: 181250572399 | ANY1: 181267602199 | ANZ1: 181269602099 | AOA1: 181242581499 | AOB1: 181237602899 | AOC1: 181250582399 | AOD1: 181267612199 | AOE1: 181269612099 | AOF1: 181242591499 | AOG1: 181237612899 | AOH1: 181250592399 | AOI1: 181267622199 | AOJ1: 181269622099 | AOK1: 181242621499 | AOL1: 181237642899 | AOM1: 181250622399 | AON1: 181267652199 | AOO1: 181269652099 | AOP1: 181242631499 | AOQ1: 181237652899 | AOR1: 181250632399 | AOS1: 181267662199 | AOT1: 181269662099 | AOU1: 181242641499 | AOV1: 181237662899 | AOW1: 181250642399 | AOX1: 181267672199 | AOY1: 181269672099 | AOZ1: 181242651499 | APA1: 181237672899 | APB1: 181250652399 | APC1: 181267682199 | APD1: 181269682099 | APE1: 181242661499 | APF1: 181237682899 | APG1: 181250662399 | APH1: 181267692199 | API1: 181269692099 | APJ1: 181242671499 | APK1: 181237692899 | APL1: 181250672399 | APM1: 181267702199 | APN1: 181269702099 | APO1: 181242681499 | APP1: 181237702899 | APQ1: 181250682399 | APR1: 181267712199 | APS1: 181269712099 | APT1: 181242691499 | APU1: 181237712899 | APV1: 181250692399 | APW1: 181267722199 | APX1: 181269722099 | APY1: 181242711499 | APZ1: 181237732899 | AQA1: 181250712399 | AQB1: 181267742199 | AQC1: 181269742099 | AQD1: 181242721499 | AQE1: 181237742899 | AQF1: 181250722399 | AQG1: 181267752199 | AQH1: 181269752099 | AQI1: 181242731499 | AQJ1: 181237752899 | AQK1: 181250732399 | AQL1: 181267762199 | AQM1: 181269762099 | AQN1: 181242741499 | AQO1: 181237762899 | AQP1: 181250742399 | AQQ1: 181267772199 | AQR1: 181269772099 | AQS1: 181242761499 | AQT1: 181237782899 | AQU1: 181250762399 | AQV1: 181267792199 | AQW1: 181269792099 | AQX1: 181242791499 | AQY1: 181237812899 | AQZ1: 181250792399 | ARA1: 181267822199 | ARB1: 181269822099 | ARC1: 181243791499 | ARD1: 181238812899 | ARE1: 181251792399 | ARF1: 181277822199 | ARG1: 181279822099 | ARH1: 181244791499 | ARI1: 181239812899 | ARJ1: 181252792399 | ARK1: 181278822199 | ARL1: 181280822099 | ARM1: 181245791499 | ARN1: 181240812899 | ARO1: 181253792399 | ARP1: 181279822199 | ARQ1: 181281822099 | ARR1: 181246791499 | ARS1: 181241812899 | ART1: 181254792399 | ARU1: 181280822199 | ARV1: 181282822099 | ARW1: 181247791499 | ARX1: 181242812899 | ARY1: 181255792399 | ARZ1: 181281822199 | ASA1: 181283822099 | ASB1: 181248791499 | ASC1: 181243812899 | ASD1: 181256792399 | ASE1: 181282822199 | ASF1: 181284822099 | ASG1: 181249791499 | ASH1: 181244812899 | ASI1: 181257792399 | ASJ1: 181283822199 | ASK1: 181285822099 | ASL1: 181250791499 | ASM1: 181245812899 | ASN1: 181258792399 | ASO1: 181284822199 | ASP1: 181286822099 | ASQ1: 181251791499 | ASR1: 181246812899 | ASS1: 181259792399 | AST1: 181285822199 | ASU1: 181287822099 | ASV1: 181252791499 | ASW1: 181247812899 | ASX1: 181260792399 | ASY1: 181286822199 | ASZ1: 181288822099 | ATA1: 181253791499 | ATB1: 181248812899 | ATC1: 181261792399 | ATD1: 181287822199 | ATE1: 181289822099 | ATF1: 181254791499 | ATG1: 181249812899 | ATH1: 181262792399 | ATI1: 181288822199 | ATJ1: 181290822099 | ATK1: 181255791499 | ATL1: 181250812899 | ATM1: 181263792399 | ATN1: 181289822199 | ATO1: 181291822099 | ATP1: 181256791499 | ATQ1: 181251812899 | ATR1: 181264792399 | ATS1: 181290822199 | ATT1: 181292822099 | ATU1: 181370112599 | ATV1: 181370242599 | ATW1: 181336242899 | ATX1: 181372242199 | ATY1: 181370252599 | ATZ1: 181336252899 | AUA1: 181372252199 | AUB1: 181370262599 | AUC1: 181336262899 | AUD1: 181372262199
