Workbook

Sheet FORMULAIRE
A9: Entre la société :
A12: Et le client :
A13: Nom/Prénom | B13: Martin JP
A14: Adresse | B14: =VLOOKUP($B$13,CLIENTS!$A$2:$Z$1199,2,FALSE) -> rue des fleurs 68130 Altkirch
A15: Téléphone | B15: =VLOOKUP($B$13,CLIENTS!$A$2:$Z$1199,3,FALSE) -> 03 89 07 12 15
A16: E-Mail | B16: =VLOOKUP($B$13,CLIENTS!$A$2:$Z$1199,4,FALSE) -> martin.jp@hotmail.fr
A20: Type : | B20: =INDEX(INTERVENTIONS!F2:F1999,SUMPRODUCT(COLON(INTERVENTIONS!B2:B45)*(INTERVENTIONS!B2:B45=FORMULAIRE!B32)*(INTERVENTIONS!E2:E33=FORMULAIRE!B21))-1,1) -> #NAME?
A21: Type pneus/roues : | B21: Eté
A22: Nombre : | F22: Usure pneus :
A23: Dimensions pneumatiques :
A24: Marque pneumatiques :
F25: =VLOOKUP($B$13,INTERVENTIONS!$A$2:$W$1200,15,FALSE) -> #N/A | H25: =VLOOKUP($B$13,INTERVENTIONS!$A$2:$W$1200,16,FALSE) -> #N/A
A26: Etat et types des jantes :
A27: Etat des pneumatiques :
F28: =VLOOKUP($B$13,INTERVENTIONS!$A$2:$W$1200,17,FALSE) -> #N/A | H28: =VLOOKUP($B$13,INTERVENTIONS!$A$2:$W$1200,18,FALSE) -> #N/A
B29: Informations véhicule
A30: Marque | B30: =VLOOKUP($B$32,INTERVENTIONS!$B$2:$Z$2000,2,FALSE) -> Seat
A31: Modèle | B31: =VLOOKUP($B$32,INTERVENTIONS!$B$2:$Z$2000,3,FALSE) -> Ateca
A32: Immatriculation | B32: ZT-403-BB
B36: Emplacement de stockage
A37: Local | B37: =VLOOKUP($B$13,INTERVENTIONS!$A$2:$W$1200,19,FALSE) -> #N/A
A38: Local | B38: =VLOOKUP($B$13,INTERVENTIONS!$A$2:$W$1200,7,FALSE) -> #N/A
A39: Etagère | B39: =VLOOKUP($B$13,INTERVENTIONS!$A$2:$W$1200,20,FALSE) -> #N/A
A40: Casier | B40: =VLOOKUP($B$13,INTERVENTIONS!$A$2:$W$1200,21,FALSE) -> #N/A
A43: La société Garage Yvan Fritsch SAS s'engage à effectuer le gardiennage des pneumatiques ou des roues complètes du véhicule client référencé ci-dessus. En contrepartie , le client s'acquittera au préalable d'un règlement d'un montant de 35 euros TTC correspondant aux frais de manutention et de gardiennage, et, ce pour une période de 6 mois glissants à compter de la date du contrat.
A46: Date : | B46: =TODAY() -> 44099
A47: Signature client : | C47: Signature concession :

Sheet CLIENTS
A1: Infos clients
A2: 1 | B2: Adresse | C2: Téléphone | D2: E-mail
A3: Muller Paul | B3: 3 rue du tracteur 68560 hirsingue | C3: 03 89 40 57 00 | D3: muller.paul@gmail.com
A4: Martin JP | B4: rue des fleurs 68130 Altkirch | C4: 03 89 07 12 15 | D4: martin.jp@hotmail.fr

Sheet INTERVENTIONS
A2: Date permutation | B2: 1 | C2: Marque véhicule | D2: Modèle véhicule | E2: Type pneus/roues | F2: Type | G2: Nombre | H2: Dimension | I2: Marque | J2: Etat et types des jantes | K2: Etat des pneumatiques | L2: AV droit | M2: AV Gauche | N2: AR Droit | O2: AR Gauche | P2: Local | Q2: Etagère | R2: Casier
A3: 43732 | B3: ZT-403-BB | C3: Seat | D3: Ateca | E3: Eté | F3: Pneus | G3: 4 | H3: 1/2/3/4 | I3: Goodyear | J3: Tôle | K3: bof | L3: 1 | M3: 2 | N3: 3 | O3: 4 | P3: 2 | Q3: 3 | R3: 4
A4: 43460 | E4: Hiver | F4: Roues | G4: 2 | H4: 5/6/7/8 | I4: essai | J4: comme ça | K4: top | L4: 5 | M4: 6 | N4: 7 | O4: 8 | P4: 1 | Q4: 2 | R4: 3
A5: 44160 | B5: FB-365-YT | C5: Renault | D5: Mégane | E5: Hiver | F5: Pneus | G5: 2 | H5: 13/14/15/16 | I5: Michelin | J5: Alu | K5: ok | L5: 13 | M5: 14 | N5: 15 | O5: 16 | P5: 1 | Q5: 2 | R5: Non concerné
A85: =CLIENTS!A83:A623 -> 0
A86: =CLIENTS!A84:A624 -> 0
A87: =CLIENTS!A85:A625 -> 0
A88: =CLIENTS!A86:A626 -> 0
A89: =CLIENTS!A87:A627 -> 0
A90: =CLIENTS!A88:A628 -> 0
A91: =CLIENTS!A89:A629 -> 0
A92: =CLIENTS!A90:A630 -> 0
A93: =CLIENTS!A91:A631 -> 0
A94: =CLIENTS!A92:A632 -> 0
A95: =CLIENTS!A93:A633 -> 0
A96: =CLIENTS!A94:A634 -> 0
... A864: =CLIENTS!A862:A1402 -> 0
