Workbook
Name client: Clients!$A$3:$A$73

Sheet Clients
A2: Nom | B2: Adresse | C2: distance en kms | D2: Aller/Retour | F2: Liste Filtrée
A3: Alain | C3: 8 | D3: =C3*2 -> 16 | F3: {=_xlfn._xlws.FILTER(Tableau2[Nom],ISNUMBER(SEARCH('Trajet 2022'!B2,Tableau2[Nom],1)),"")} -> #NAME?
A4: Angelique | C4: 20.9 | D4: =C4*2 -> 41.8 | F4: #NAME?
A5: Anita | C5: 15.9 | D5: =C5*2 -> 31.8 | F5: #NAME?
A6: Anne | C6: 1 | D6: =C6*2 -> 2 | F6: #NAME?
A7: Anne-marie | C7: 13.6 | D7: =C7*2 -> 27.2 | F7: #NAME?
A8: Carine | C8: 0.3 | D8: =C8*2 -> 0.6 | F8: #NAME?
A9: Carole | C9: 9.7 | D9: =C9*2 -> 19.4 | F9: #NAME?
A10: Christian | C10: 11.7 | D10: =C10*2 -> 23.4 | F10: #NAME?
A11: Christiane | C11: 2.7 | D11: =C11*2 -> 5.4 | F11: #NAME?
A12: Christine | C12: 4 | D12: =C12*2 -> 8 | F12: #NAME?
A13: Christophe | C13: 3.6 | D13: =C13*2 -> 7.2 | F13: #NAME?
A14: Claude | C14: 16.8 | D14: =C14*2 -> 33.6 | F14: #NAME?
A15: Claudine | C15: 7.9 | D15: =C15*2 -> 15.8 | F15: #NAME?
... A73: Urbain | C73: 0.3 | D73: =C73*2 -> 0.6 | F73: #NAME?
D74: =C74*2 -> 0
D75: =C75*2 -> 0
D76: =C76*2 -> 0
D77: =C77*2 -> 0
D78: =C78*2 -> 0
D79: =C79*2 -> 0
D80: =C80*2 -> 0
D81: =C81*2 -> 0
D82: =C82*2 -> 0
D83: =C83*2 -> 0
D84: =C84*2 -> 0
D85: =C85*2 -> 0
... D501: =C501*2 -> 0

Sheet Trajet 2022
A1: Date | B1: Client | C1: Distance | F1: Somme totale
A2: 44607 | B2: Anne | C2: =IFERROR(VLOOKUP(Tableau1[[#This Row],[Client]],Clients!$A$3:$D$73,4,0),"") -> 2 | F2: {=SUM(IF(ISERROR(C2:C500),"",C2:C500))} -> 2
C3: =IFERROR(VLOOKUP(Tableau1[[#This Row],[Client]],Clients!$A$3:$D$73,4,0),"")
C4: =IFERROR(VLOOKUP(Tableau1[[#This Row],[Client]],Clients!$A$3:$D$73,4,0),"")
C5: =IFERROR(VLOOKUP(Tableau1[[#This Row],[Client]],Clients!$A$3:$D$73,4,0),"")
C6: =IFERROR(VLOOKUP(Tableau1[[#This Row],[Client]],Clients!$A$3:$D$73,4,0),"")
C7: =IFERROR(VLOOKUP(Tableau1[[#This Row],[Client]],Clients!$A$3:$D$73,4,0),"")
C8: =IFERROR(VLOOKUP(Tableau1[[#This Row],[Client]],Clients!$A$3:$D$73,4,0),"")
C9: =IFERROR(VLOOKUP(Tableau1[[#This Row],[Client]],Clients!$A$3:$D$73,4,0),"")
C10: =IFERROR(VLOOKUP(Tableau1[[#This Row],[Client]],Clients!$A$3:$D$73,4,0),"")
C11: =IFERROR(VLOOKUP(Tableau1[[#This Row],[Client]],Clients!$A$3:$D$73,4,0),"")
C12: =IFERROR(VLOOKUP(Tableau1[[#This Row],[Client]],Clients!$A$3:$D$73,4,0),"")
C13: =IFERROR(VLOOKUP(Tableau1[[#This Row],[Client]],Clients!$A$3:$D$73,4,0),"")
C14: =IFERROR(VLOOKUP(Tableau1[[#This Row],[Client]],Clients!$A$3:$D$73,4,0),"")
... C500: =IFERROR(VLOOKUP(Tableau1[[#This Row],[Client]],Clients!$A$3:$D$73,4,0),"")
