Workbook

Sheet Novembre 2020
A1: 44136
C2: ''=SI(E6:AH6="W";E6:AH6="S";E6:AH6="M";E6:AH6="T";E6:AH6="CAS";E6:AH6="CA";[7];[7];[7];[12];[0];[7*D6])
E4: Dimanche | F4: Lundi | G4: Mardi | H4: Mercredi | I4: Jeudi | J4: Vendredi | K4: Samedi | L4: Dimanche | M4: Lundi | N4: Mardi | O4: Mercredi | P4: Jeudi | Q4: Vendredi | R4: Samedi | S4: Dimanche | T4: Lundi | U4: Mardi | V4: Mercredi | W4: Jeudi | X4: Vendredi | Y4: Samedi | Z4: Dimanche | AA4: Lundi | AB4: Mardi | AC4: Mercredi | AD4: Jeudi | AE4: Vendredi | AF4: Samedi | AG4: Dimanche | AH4: Lundi
A5: Personnel | B5: Heures mois | C5: Heures travaillées | D5: Taux travail % | E5: 44136 | F5: 44137 | G5: 44138 | H5: 44139 | I5: 44140 | J5: 44141 | K5: 44142 | L5: 44143 | M5: 44144 | N5: 44145 | O5: 44146 | P5: 44147 | Q5: 44148 | R5: 44149 | S5: 44150 | T5: 44151 | U5: 44152 | V5: 44153 | W5: 44154 | X5: 44155 | Y5: 44156 | Z5: 44157 | AA5: 44158 | AB5: 44159 | AC5: 44160 | AD5: 44161 | AE5: 44162 | AF5: 44163 | AG5: 44164 | AH5: 44165
B6: =D6%*'Référence Planning'!$D$3 -> 94.08 | C6: =SI(E6:AH6="W";E6:AH6="S";E6:AH6="M";E6:AH6="T";E6:AH6="CAS";E6:AH6="CA"; [7]; [7]; [7]; [12]; [0]; [7*D6]) | D6: 64 | E6: W
B7: =D7%*'Référence Planning'!$D$3 -> 147 | D7: 100
B8: =D8%*'Référence Planning'!$D$3 -> 147 | D8: 100
B9: =D9%*'Référence Planning'!$D$3 -> 147 | D9: 100
B10: =D10%*'Référence Planning'!$D$3 -> 147 | D10: 100
B11: =D11%*'Référence Planning'!$D$3 -> 147 | D11: 100
B12: =D12%*'Référence Planning'!$D$3 -> 147 | D12: 100
B13: =D13%*'Référence Planning'!$D$3 -> 147 | D13: 100
B14: =D14%*'Référence Planning'!$D$3 -> 147 | D14: 100
B15: =D15%*'Référence Planning'!$D$3 -> 147 | D15: 100
B16: =D16%*'Référence Planning'!$D$3 -> 147 | D16: 100
B17: =D17%*'Référence Planning'!$D$3 -> 147 | D17: 100
B18: =D18%*'Référence Planning'!$D$3 -> 147 | D18: 100
... B35: =D35%*'Référence Planning'!$D$3 -> 147 | D35: 100

Sheet Décembre 2020
A1: 44166
E4: Mardi | F4: Mercredi | G4: Jeudi | H4: Vendredi | I4: Samedi | J4: Dimanche | K4: Lundi | L4: Mardi | M4: Mercredi | N4: Jeudi | O4: Vendredi | P4: Samedi | Q4: Dimanche | R4: Lundi | S4: Mardi | T4: Mercredi | U4: Jeudi | V4: Vendredi | W4: Samedi | X4: Dimanche | Y4: Lundi | Z4: Mardi | AA4: Mercredi | AB4: Jeudi | AC4: Vendredi | AD4: Samedi | AE4: Dimanche | AF4: Lundi | AG4: Mardi | AH4: Mercredi | AI4: Jeudi
A5: Personnel | B5: Heures mois | C5: Heures travaillées | D5: Taux travail | E5: 44166 | F5: 44167 | G5: 44168 | H5: 44169 | I5: 44170 | J5: 44171 | K5: 44172 | L5: 44173 | M5: 44174 | N5: 44175 | O5: 44176 | P5: 44177 | Q5: 44178 | R5: 44179 | S5: 44180 | T5: 44181 | U5: 44182 | V5: 44183 | W5: 44184 | X5: 44185 | Y5: 44186 | Z5: 44187 | AA5: 44188 | AB5: 44189 | AC5: 44190 | AD5: 44191 | AE5: 44192 | AF5: 44193 | AG5: 44194 | AH5: 44195 | AI5: 44196

Sheet Référence Planning
A3: H Novembre : | C3: 21 jours | D3: =(21*7) -> 147
A5: H Décembre : | C5: 24 jours | D5: =24*7 -> 168
A8: M | B8: 7
A9: S | B9: 7
A10: T | B10: 12
A11: CA | B11: 7 | C11: (CA = 7 * % tx Travail)
A12: CAS | B12: 0 | C12: (CAS = CA samedi uniquement)
A13: W | B13: 7
