Workbook
Name l_Ville: t_Bareme[villes]
Name l_Ville: t_Bareme[villes]
Name l_Ville: t_Bareme[villes]

Sheet notes de frais
A2: Notes de frais
B6: Nom :
B7: Mois : | C7: JUIN 2023
A9: S | B9: Date | C9: Descriptif, lieu de déplacement | D9: Frais kilométriques | G9: Nbre Hôtel | H9: Hôtel | I9: Nbre Repas Grd dépl | J9: Repas Grd Dépl | K9: Nbre Repas chantier | L9: Repas chantier | M9: Nbre Hôtel Paris | N9: Hôtel Paris | O9: AFFAIRE
D10: Distance | E10: Zone | F10: Coût
A11: =WEEKNUM(B11) -> 22 | B11: 45079 | C11: amiens | D11: =IFERROR(INDEX(t_Bareme[kms total],MATCH('notes de frais'!C11,t_Bareme[villes],0)),"") -> 210 | E11: =IFERROR(INDEX(t_Bareme[Zone],MATCH('notes de frais'!C11,t_Bareme[villes],0)),"") -> 20 | F11: =IFERROR(INDEX(t_Bareme[indemnités],MATCH('notes de frais'!C11,t_Bareme[villes],0)),"") -> 60,60 € | H11: =IF(G11<>"",G11*recap!$O$3,"") | J11: =IF(I11<>"",I11*recap!$P$3,"") | K11: 1 | L11: =IF(K11<>"",K11*recap!Q3) -> 9.9 | M11: 0 | N11: =IF(M11<>"",M11*recap!$N$3) -> 0 | O11: 35226P
A12: =WEEKNUM(B12) -> 22 | B12: 45080 | C12: wavrin | D12: =IFERROR(INDEX(t_Bareme[kms total],MATCH('notes de frais'!C12,t_Bareme[villes],0)),"") -> 80 | E12: =IFERROR(INDEX(t_Bareme[Zone],MATCH('notes de frais'!C12,t_Bareme[villes],0)),"") -> 8 | F12: =IFERROR(INDEX(t_Bareme[indemnités],MATCH('notes de frais'!C12,t_Bareme[villes],0)),"") -> 24,20 € | H12: =IF(G12<>"",G12*recap!$O$3,"") | J12: =IF(I12<>"",I12*recap!$P$3,"") | K12: 1 | L12: =IF(K12<>"",K12*recap!$Q$3) -> 9.9 | M12: 0 | N12: =IF(M12<>"",M12*recap!$N$3) -> 0 | O12: 35226P
A13: =WEEKNUM(B13) -> 0 | C13: annezin | D13: =IFERROR(INDEX(t_Bareme[kms total],MATCH('notes de frais'!C13,t_Bareme[villes],0)),"") -> 50 | E13: =IFERROR(INDEX(t_Bareme[Zone],MATCH('notes de frais'!C13,t_Bareme[villes],0)),"") -> 5 | F13: =IFERROR(INDEX(t_Bareme[indemnités],MATCH('notes de frais'!C13,t_Bareme[villes],0)),"") -> 15,20 € | H13: =IF(G13<>"",G13*recap!$O$3,"") | J13: =IF(I13<>"",I13*recap!$P$3,"") | K13: 0 | L13: =IF(K13<>"",K13*recap!$Q$3) -> 0 | M13: 0 | N13: =IF(M13<>"",M13*recap!$N$3) -> 0
A14: =WEEKNUM(B14) -> 0 | C14: cagny | D14: =IFERROR(INDEX(t_Bareme[kms total],MATCH('notes de frais'!C14,t_Bareme[villes],0)),"") -> 0 | E14: =IFERROR(INDEX(t_Bareme[Zone],MATCH('notes de frais'!C14,t_Bareme[villes],0)),"") | F14: =IFERROR(INDEX(t_Bareme[indemnités],MATCH('notes de frais'!C14,t_Bareme[villes],0)),"") | G14: 1 | H14: =IF(G14<>"",G14*recap!$O$3,"") -> 53.8 | I14: 2 | J14: =IF(I14<>"",I14*recap!$P$3,"") -> 40.4 | K14: 0 | L14: =IF(K14<>"",K14*recap!$Q$3) -> 0 | M14: 0 | N14: =IF(M14<>"",M14*recap!$N$3) -> 0 | O14: 34203P
A15: =WEEKNUM(B15) -> 0 | D15: =IFERROR(INDEX(t_Bareme[kms total],MATCH('notes de frais'!C15,t_Bareme[villes],0)),"") | E15: =IFERROR(INDEX(t_Bareme[Zone],MATCH('notes de frais'!C15,t_Bareme[villes],0)),"") | F15: =IFERROR(INDEX(t_Bareme[indemnités],MATCH('notes de frais'!C15,t_Bareme[villes],0)),"") | G15: 1 | H15: =IF(G15<>"",G15*recap!$O$3,"") -> 53.8 | I15: 2 | J15: =IF(I15<>"",I15*recap!$P$3,"") -> 40.4 | K15: 0 | L15: =IF(K15<>"",K15*recap!$Q$3) -> 0 | M15: 0 | N15: =IF(M15<>"",M15*recap!$N$3) -> 0 | O15: 34203P
A16: =WEEKNUM(B16) -> 0 | D16: =IFERROR(INDEX(t_Bareme[kms total],MATCH('notes de frais'!C16,t_Bareme[villes],0)),"") | E16: =IFERROR(INDEX(t_Bareme[Zone],MATCH('notes de frais'!C16,t_Bareme[villes],0)),"") | F16: =IFERROR(INDEX(t_Bareme[indemnités],MATCH('notes de frais'!C16,t_Bareme[villes],0)),"") | G16: 1 | H16: =IF(G16<>"",G16*recap!$O$3,"") -> 53.8 | I16: 2 | J16: =IF(I16<>"",I16*recap!$P$3,"") -> 40.4 | K16: 0 | L16: =IF(K16<>"",K16*recap!$Q$3) -> 0 | M16: 0 | N16: =IF(M16<>"",M16*recap!$N$3) -> 0 | O16: 34170P
A17: =WEEKNUM(B17) -> 0 | D17: =IFERROR(INDEX(t_Bareme[kms total],MATCH('notes de frais'!C17,t_Bareme[villes],0)),"") | E17: =IFERROR(INDEX(t_Bareme[Zone],MATCH('notes de frais'!C17,t_Bareme[villes],0)),"") | F17: =IFERROR(INDEX(t_Bareme[indemnités],MATCH('notes de frais'!C17,t_Bareme[villes],0)),"") | H17: =IF(G17<>"",G17*recap!$O$3,"") | I17: 1 | J17: =IF(I17<>"",I17*recap!$P$3,"") -> 20.2 | K17: 0 | L17: =IF(K17<>"",K17*recap!$Q$3) -> 0 | M17: 0 | N17: =IF(M17<>"",M17*recap!$N$3) -> 0 | O17: 34170P
A18: =WEEKNUM(B18) -> 0 | D18: =IFERROR(INDEX(t_Bareme[kms total],MATCH('notes de frais'!C18,t_Bareme[villes],0)),"") | E18: =IFERROR(INDEX(t_Bareme[Zone],MATCH('notes de frais'!C18,t_Bareme[villes],0)),"") | F18: =IFERROR(INDEX(t_Bareme[indemnités],MATCH('notes de frais'!C18,t_Bareme[villes],0)),"") | H18: =IF(G18<>"",G18*recap!$O$3,"") | J18: =IF(I18<>"",I18*recap!$P$3,"") | K18: 0 | L18: =IF(K18<>"",K18*recap!$Q$3) -> 0 | M18: 0 | N18: =IF(M18<>"",M18*recap!$N$3) -> 0
A19: =WEEKNUM(B19) -> 0 | D19: =IFERROR(INDEX(t_Bareme[kms total],MATCH('notes de frais'!C19,t_Bareme[villes],0)),"") | E19: =IFERROR(INDEX(t_Bareme[Zone],MATCH('notes de frais'!C19,t_Bareme[villes],0)),"") | F19: =IFERROR(INDEX(t_Bareme[indemnités],MATCH('notes de frais'!C19,t_Bareme[villes],0)),"") | G19: 1 | H19: =IF(G19<>"",G19*recap!$O$3,"") -> 53.8 | I19: 2 | J19: =IF(I19<>"",I19*recap!$P$3,"") -> 40.4 | K19: 0 | L19: =IF(K19<>"",K19*recap!$Q$3) -> 0 | M19: 0 | N19: =IF(M19<>"",M19*recap!$N$3) -> 0 | O19: 34203P
A20: =WEEKNUM(B20) -> 0 | D20: =IFERROR(INDEX(t_Bareme[kms total],MATCH('notes de frais'!C20,t_Bareme[villes],0)),"") | E20: =IFERROR(INDEX(t_Bareme[Zone],MATCH('notes de frais'!C20,t_Bareme[villes],0)),"") | F20: =IFERROR(INDEX(t_Bareme[indemnités],MATCH('notes de frais'!C20,t_Bareme[villes],0)),"") | H20: =IF(G20<>"",G20*recap!$O$3,"") | J20: =IF(I20<>"",I20*recap!$P$3,"") | K20: 1 | L20: =IF(K20<>"",K20*recap!$Q$3) -> 9.9 | M20: 0 | N20: =IF(M20<>"",M20*recap!$N$3) -> 0 | O20: 33156P
A21: =WEEKNUM(B21) -> 0 | D21: =IFERROR(INDEX(t_Bareme[kms total],MATCH('notes de frais'!C21,t_Bareme[villes],0)),"") | E21: =IFERROR(INDEX(t_Bareme[Zone],MATCH('notes de frais'!C21,t_Bareme[villes],0)),"") | F21: =IFERROR(INDEX(t_Bareme[indemnités],MATCH('notes de frais'!C21,t_Bareme[villes],0)),"") | H21: =IF(G21<>"",G21*recap!$O$3,"") | J21: =IF(I21<>"",I21*recap!$P$3,"") | K21: 1 | L21: =IF(K21<>"",K21*recap!$Q$3) -> 9.9 | M21: 0 | N21: =IF(M21<>"",M21*recap!$N$3) -> 0 | O21: 33156P
A22: =WEEKNUM(B22) -> 0 | D22: =IFERROR(INDEX(t_Bareme[kms total],MATCH('notes de frais'!C22,t_Bareme[villes],0)),"") | E22: =IFERROR(INDEX(t_Bareme[Zone],MATCH('notes de frais'!C22,t_Bareme[villes],0)),"") | F22: =IFERROR(INDEX(t_Bareme[indemnités],MATCH('notes de frais'!C22,t_Bareme[villes],0)),"") | H22: =IF(G22<>"",G22*recap!$O$3,"") | J22: =IF(I22<>"",I22*recap!$P$3,"") | K22: 1 | L22: =IF(K22<>"",K22*recap!$Q$3) -> 9.9 | M22: 0 | N22: =IF(M22<>"",M22*recap!$N$3) -> 0 | O22: 33156P
A23: =WEEKNUM(B23) -> 0 | D23: =IFERROR(INDEX(t_Bareme[kms total],MATCH('notes de frais'!C23,t_Bareme[villes],0)),"") | E23: =IFERROR(INDEX(t_Bareme[Zone],MATCH('notes de frais'!C23,t_Bareme[villes],0)),"") | F23: =IFERROR(INDEX(t_Bareme[indemnités],MATCH('notes de frais'!C23,t_Bareme[villes],0)),"") | H23: =IF(G23<>"",G23*recap!$O$3,"") | J23: =IF(I23<>"",I23*recap!$P$3,"") | K23: 0 | L23: =IF(K23<>"",K23*recap!$Q$3) -> 0 | M23: 0 | N23: =IF(M23<>"",M23*recap!$N$3) -> 0
A24: =WEEKNUM(B24) -> 0 | D24: =IFERROR(INDEX(t_Bareme[kms total],MATCH('notes de frais'!C24,t_Bareme[villes],0)),"") | E24: =IFERROR(INDEX(t_Bareme[Zone],MATCH('notes de frais'!C24,t_Bareme[villes],0)),"") | F24: =IFERROR(INDEX(t_Bareme[indemnités],MATCH('notes de frais'!C24,t_Bareme[villes],0)),"") | G24: 1 | H24: =IF(G24<>"",G24*recap!$O$3,"") -> 53.8 | I24: 2 | J24: =IF(I24<>"",I24*recap!$P$3,"") -> 40.4 | K24: 0 | L24: =IF(K24<>"",K24*recap!$Q$3) -> 0 | M24: 0 | N24: =IF(M24<>"",M24*recap!$N$3) -> 0 | O24: 34203P
A25: =WEEKNUM(B25) -> 0 | D25: =IFERROR(INDEX(t_Bareme[kms total],MATCH('notes de frais'!C25,t_Bareme[villes],0)),"") | E25: =IFERROR(INDEX(t_Bareme[Zone],MATCH('notes de frais'!C25,t_Bareme[villes],0)),"") | F25: =IFERROR(INDEX(t_Bareme[indemnités],MATCH('notes de frais'!C25,t_Bareme[villes],0)),"") | G25: 1 | H25: =IF(G25<>"",G25*recap!$O$3,"") -> 53.8 | I25: 2 | J25: =IF(I25<>"",I25*recap!$P$3,"") -> 40.4 | K25: 0 | L25: =IF(K25<>"",K25*recap!$Q$3) -> 0 | M25: 0 | N25: =IF(M25<>"",M25*recap!$N$3) -> 0 | O25: 34203P
A26: =WEEKNUM(B26) -> 0 | D26: =IFERROR(INDEX(t_Bareme[kms total],MATCH('notes de frais'!C26,t_Bareme[villes],0)),"") | E26: =IFERROR(INDEX(t_Bareme[Zone],MATCH('notes de frais'!C26,t_Bareme[villes],0)),"") | F26: =IFERROR(INDEX(t_Bareme[indemnités],MATCH('notes de frais'!C26,t_Bareme[villes],0)),"") | H26: =IF(G26<>"",G26*recap!$O$3,"") | I26: 1 | J26: =IF(I26<>"",I26*recap!$P$3,"") -> 20.2 | K26: 0 | L26: =IF(K26<>"",K26*recap!$Q$3) -> 0 | M26: 0 | N26: =IF(M26<>"",M26*recap!$N$3) -> 0 | O26: 34203P
A27: =WEEKNUM(B27) -> 0 | D27: =IFERROR(INDEX(t_Bareme[kms total],MATCH('notes de frais'!C27,t_Bareme[villes],0)),"") | E27: =IFERROR(INDEX(t_Bareme[Zone],MATCH('notes de frais'!C27,t_Bareme[villes],0)),"") | F27: =IFERROR(INDEX(t_Bareme[indemnités],MATCH('notes de frais'!C27,t_Bareme[villes],0)),"") | H27: =IF(G27<>"",G27*recap!$O$3,"") | J27: =IF(I27<>"",I27*recap!$P$3,"") | K27: 0 | L27: =IF(K27<>"",K27*recap!$Q$3) -> 0 | M27: 0 | N27: =IF(M27<>"",M27*recap!$N$3) -> 0
A28: =WEEKNUM(B28) -> 0 | D28: =IFERROR(INDEX(t_Bareme[kms total],MATCH('notes de frais'!C28,t_Bareme[villes],0)),"") | E28: =IFERROR(INDEX(t_Bareme[Zone],MATCH('notes de frais'!C28,t_Bareme[villes],0)),"") | F28: =IFERROR(INDEX(t_Bareme[indemnités],MATCH('notes de frais'!C28,t_Bareme[villes],0)),"") | H28: =IF(G28<>"",G28*recap!$O$3,"") | J28: =IF(I28<>"",I28*recap!$P$3,"") | K28: 1 | L28: =IF(K28<>"",K28*recap!$Q$3) -> 9.9 | M28: 0 | N28: =IF(M28<>"",M28*recap!$N$3) -> 0 | O28: 36323P
A29: =WEEKNUM(B29) -> 0 | D29: =IFERROR(INDEX(t_Bareme[kms total],MATCH('notes de frais'!C29,t_Bareme[villes],0)),"") | E29: =IFERROR(INDEX(t_Bareme[Zone],MATCH('notes de frais'!C29,t_Bareme[villes],0)),"") | F29: =IFERROR(INDEX(t_Bareme[indemnités],MATCH('notes de frais'!C29,t_Bareme[villes],0)),"") | H29: =IF(G29<>"",G29*recap!$O$3,"") | J29: =IF(I29<>"",I29*recap!$P$3,"") | K29: 1 | L29: =IF(K29<>"",K29*recap!$Q$3) -> 9.9 | M29: 0 | N29: =IF(M29<>"",M29*recap!$N$3) -> 0 | O29: 33156P
A30: =WEEKNUM(B30) -> 0 | D30: =IFERROR(INDEX(t_Bareme[kms total],MATCH('notes de frais'!C30,t_Bareme[villes],0)),"") | E30: =IFERROR(INDEX(t_Bareme[Zone],MATCH('notes de frais'!C30,t_Bareme[villes],0)),"") | F30: =IFERROR(INDEX(t_Bareme[indemnités],MATCH('notes de frais'!C30,t_Bareme[villes],0)),"") | H30: =IF(G30<>"",G30*recap!$O$3,"") | J30: =IF(I30<>"",I30*recap!$P$3,"") | K30: 1 | L30: =IF(K30<>"",K30*recap!$Q$3) -> 9.9 | M30: 0 | N30: =IF(M30<>"",M30*recap!$N$3) -> 0 | O30: 33156P
A31: =WEEKNUM(B31) -> 0 | D31: =IFERROR(INDEX(t_Bareme[kms total],MATCH('notes de frais'!C31,t_Bareme[villes],0)),"") | E31: =IFERROR(INDEX(t_Bareme[Zone],MATCH('notes de frais'!C31,t_Bareme[villes],0)),"") | F31: =IFERROR(INDEX(t_Bareme[indemnités],MATCH('notes de frais'!C31,t_Bareme[villes],0)),"") | H31: =IF(G31<>"",G31*recap!$O$3,"") | J31: =IF(I31<>"",I31*recap!$P$3,"") | K31: 1 | L31: =IF(K31<>"",K31*recap!$Q$3) -> 9.9 | M31: 0 | N31: =IF(M31<>"",M31*recap!$N$3) -> 0 | O31: 33156P
A32: =WEEKNUM(B32) -> 0 | D32: =IFERROR(INDEX(t_Bareme[kms total],MATCH('notes de frais'!C32,t_Bareme[villes],0)),"") | E32: =IFERROR(INDEX(t_Bareme[Zone],MATCH('notes de frais'!C32,t_Bareme[villes],0)),"") | F32: =IFERROR(INDEX(t_Bareme[indemnités],MATCH('notes de frais'!C32,t_Bareme[villes],0)),"") | H32: =IF(G32<>"",G32*recap!$O$3,"") | J32: =IF(I32<>"",I32*recap!$P$3,"") | K32: 1 | L32: =IF(K32<>"",K32*recap!$Q$3) -> 9.9 | M32: 0 | N32: =IF(M32<>"",M32*recap!$N$3) -> 0 | O32: 33156P
C34: TOTAUX | F34: =+SUM(F11:F33) -> 0 | G34: =+SUM(G11:G33) -> 6 | H34: =+SUM(H11:H33) -> 322.8 | I34: =+SUM(I11:I33) -> 14 | J34: =+SUM(J11:J33) -> 282.8 | K34: =+SUM(K11:K33) -> 10 | L34: =+SUM(L11:L33) -> 99 | M34: =+SUM(M11:M33) -> 0 | N34: =+SUM(N11:N33) -> 0
N36: =SUM(H34+J34+L34+N34) -> 704.6

Sheet recap
A2: villes | B2: kms aller | C2: kms retour | D2: kms total | E2: Zone | F2: indemnités | H2: Zone | J2: KM | L2: Indemnités | N2: hôtel Paris | O2: hôtel | P2: repas grand déplacement | Q2: repas chantier
A3: aire sur la lys | B3: 15 | C3: 15 | D3: =MROUND(t_Bareme[[#This Row],[kms aller]]+t_Bareme[[#This Row],[kms retour]],10) -> 30 | E3: =IFERROR(INDEX(t_Indemnite[[Zone ]],MATCH(t_Bareme[[#This Row],[kms total]],t_Indemnite[[ ]],1)),"") -> 3 | F3: =IFERROR(VLOOKUP(t_Bareme[[#This Row],[Zone]],$H$3:$L$25,5,FALSE),"") -> 9,10 € | H3: 1 | I3: 5 | J3: et | K3: 10 | L3: 3,00 € | N3: 72.5 | O3: 53.8 | P3: 20.2 | Q3: 9.9
A4: albert | B4: 102 | C4: 102 | D4: =MROUND(t_Bareme[[#This Row],[kms aller]]+t_Bareme[[#This Row],[kms retour]],10) -> 200 | E4: =IFERROR(INDEX(t_Indemnite[[Zone ]],MATCH(t_Bareme[[#This Row],[kms total]],t_Indemnite[[ ]],1)),"") -> 20 | F4: =IFERROR(VLOOKUP(t_Bareme[[#This Row],[Zone]],$H$3:$L$25,5,FALSE),"") -> 60,60 € | H4: 2 | I4: 10 | J4: et | K4: 20 | L4: 6,10 €
A5: amiens | B5: 106 | C5: 106 | D5: =MROUND(t_Bareme[[#This Row],[kms aller]]+t_Bareme[[#This Row],[kms retour]],10) -> 210 | E5: =IFERROR(INDEX(t_Indemnite[[Zone ]],MATCH(t_Bareme[[#This Row],[kms total]],t_Indemnite[[ ]],1)),"") -> 20 | F5: =IFERROR(VLOOKUP(t_Bareme[[#This Row],[Zone]],$H$3:$L$25,5,FALSE),"") -> 60,60 € | H5: 3 | I5: 20 | J5: et | K5: 30 | L5: 9,10 € | N5: Nom | O5: Mois
A6: aniche | B6: 81 | C6: 81 | D6: =MROUND(t_Bareme[[#This Row],[kms aller]]+t_Bareme[[#This Row],[kms retour]],10) -> 160 | E6: =IFERROR(INDEX(t_Indemnite[[Zone ]],MATCH(t_Bareme[[#This Row],[kms total]],t_Indemnite[[ ]],1)),"") -> 16 | F6: =IFERROR(VLOOKUP(t_Bareme[[#This Row],[Zone]],$H$3:$L$25,5,FALSE),"") -> 48,50 € | H6: 4 | I6: 30 | J6: et | K6: 40 | L6: 12,10 € | N6: antoine | O6: Janvier
A7: annezin | B7: 25 | C7: 25 | D7: =MROUND(t_Bareme[[#This Row],[kms aller]]+t_Bareme[[#This Row],[kms retour]],10) -> 50 | E7: =IFERROR(INDEX(t_Indemnite[[Zone ]],MATCH(t_Bareme[[#This Row],[kms total]],t_Indemnite[[ ]],1)),"") -> 5 | F7: =IFERROR(VLOOKUP(t_Bareme[[#This Row],[Zone]],$H$3:$L$25,5,FALSE),"") -> 15,20 € | H7: 5 | I7: 40 | J7: et | K7: 50 | L7: 15,20 € | N7: alexandre | O7: Février
A8: anzin | B8: 97 | C8: 97 | D8: =MROUND(t_Bareme[[#This Row],[kms aller]]+t_Bareme[[#This Row],[kms retour]],10) -> 190 | E8: =IFERROR(INDEX(t_Indemnite[[Zone ]],MATCH(t_Bareme[[#This Row],[kms total]],t_Indemnite[[ ]],1)),"") -> 19 | F8: =IFERROR(VLOOKUP(t_Bareme[[#This Row],[Zone]],$H$3:$L$25,5,FALSE),"") -> 57,60 € | H8: 6 | I8: 50 | J8: et | K8: 60 | L8: 18,20 € | O8: Mars
A9: ardres | B9: 46 | C9: 46 | D9: =MROUND(t_Bareme[[#This Row],[kms aller]]+t_Bareme[[#This Row],[kms retour]],10) -> 90 | E9: =IFERROR(INDEX(t_Indemnite[[Zone ]],MATCH(t_Bareme[[#This Row],[kms total]],t_Indemnite[[ ]],1)),"") -> 9 | F9: =IFERROR(VLOOKUP(t_Bareme[[#This Row],[Zone]],$H$3:$L$25,5,FALSE),"") -> 27,30 € | H9: 7 | I9: 60 | J9: et | K9: 70 | L9: 21,20 € | O9: Avril
A10: armentieres | B10: 28 | C10: 28 | D10: =MROUND(t_Bareme[[#This Row],[kms aller]]+t_Bareme[[#This Row],[kms retour]],10) -> 60 | E10: =IFERROR(INDEX(t_Indemnite[[Zone ]],MATCH(t_Bareme[[#This Row],[kms total]],t_Indemnite[[ ]],1)),"") -> 6 | F10: =IFERROR(VLOOKUP(t_Bareme[[#This Row],[Zone]],$H$3:$L$25,5,FALSE),"") -> 18,20 € | H10: 8 | I10: 70 | J10: et | K10: 80 | L10: 24,20 € | O10: Mai
A11: arques | B11: 16 | C11: 16 | D11: =MROUND(t_Bareme[[#This Row],[kms aller]]+t_Bareme[[#This Row],[kms retour]],10) -> 30 | E11: =IFERROR(INDEX(t_Indemnite[[Zone ]],MATCH(t_Bareme[[#This Row],[kms total]],t_Indemnite[[ ]],1)),"") -> 3 | F11: =IFERROR(VLOOKUP(t_Bareme[[#This Row],[Zone]],$H$3:$L$25,5,FALSE),"") -> 9,10 € | H11: 9 | I11: 80 | J11: et | K11: 90 | L11: 27,30 € | O11: Juin
A12: arras | B12: 61 | C12: 61 | D12: =MROUND(t_Bareme[[#This Row],[kms aller]]+t_Bareme[[#This Row],[kms retour]],10) -> 120 | E12: =IFERROR(INDEX(t_Indemnite[[Zone ]],MATCH(t_Bareme[[#This Row],[kms total]],t_Indemnite[[ ]],1)),"") -> 12 | F12: =IFERROR(VLOOKUP(t_Bareme[[#This Row],[Zone]],$H$3:$L$25,5,FALSE),"") -> 36,40 € | H12: 10 | I12: 90 | J12: et | K12: 100 | L12: 30,30 € | O12: Juillet
A13: asssevent | B13: 138 | C13: 138 | D13: =MROUND(t_Bareme[[#This Row],[kms aller]]+t_Bareme[[#This Row],[kms retour]],10) -> 280 | E13: =IFERROR(INDEX(t_Indemnite[[Zone ]],MATCH(t_Bareme[[#This Row],[kms total]],t_Indemnite[[ ]],1)),"") -> 20 | F13: =IFERROR(VLOOKUP(t_Bareme[[#This Row],[Zone]],$H$3:$L$25,5,FALSE),"") -> 60,60 € | H13: 11 | I13: 100 | J13: et | K13: 110 | L13: 33,30 € | O13: Aout
A14: ath Belgique | B14: 98 | C14: 98 | D14: =MROUND(t_Bareme[[#This Row],[kms aller]]+t_Bareme[[#This Row],[kms retour]],10) -> 200 | E14: =IFERROR(INDEX(t_Indemnite[[Zone ]],MATCH(t_Bareme[[#This Row],[kms total]],t_Indemnite[[ ]],1)),"") -> 20 | F14: =IFERROR(VLOOKUP(t_Bareme[[#This Row],[Zone]],$H$3:$L$25,5,FALSE),"") -> 60,60 € | H14: 12 | I14: 110 | J14: et | K14: 120 | L14: 36,40 € | O14: Septembre
A15: attin | B15: 71 | C15: 71 | D15: =MROUND(t_Bareme[[#This Row],[kms aller]]+t_Bareme[[#This Row],[kms retour]],10) -> 140 | E15: =IFERROR(INDEX(t_Indemnite[[Zone ]],MATCH(t_Bareme[[#This Row],[kms total]],t_Indemnite[[ ]],1)),"") -> 14 | F15: =IFERROR(VLOOKUP(t_Bareme[[#This Row],[Zone]],$H$3:$L$25,5,FALSE),"") -> 42,40 € | H15: 13 | I15: 120 | J15: et | K15: 130 | L15: 39,40 € | O15: Octobre
A16: auby | B16: 61 | C16: 61 | D16: =MROUND(t_Bareme[[#This Row],[kms aller]]+t_Bareme[[#This Row],[kms retour]],10) -> 120 | E16: =IFERROR(INDEX(t_Indemnite[[Zone ]],MATCH(t_Bareme[[#This Row],[kms total]],t_Indemnite[[ ]],1)),"") -> 12 | F16: =IFERROR(VLOOKUP(t_Bareme[[#This Row],[Zone]],$H$3:$L$25,5,FALSE),"") -> 36,40 € | H16: 14 | I16: 130 | J16: et | K16: 140 | L16: 42,40 € | O16: Novembre
A17: auchel | B17: 29 | C17: 29 | D17: =MROUND(t_Bareme[[#This Row],[kms aller]]+t_Bareme[[#This Row],[kms retour]],10) -> 60 | E17: =IFERROR(INDEX(t_Indemnite[[Zone ]],MATCH(t_Bareme[[#This Row],[kms total]],t_Indemnite[[ ]],1)),"") -> 6 | F17: =IFERROR(VLOOKUP(t_Bareme[[#This Row],[Zone]],$H$3:$L$25,5,FALSE),"") -> 18,20 € | H17: 15 | I17: 140 | J17: et | K17: 150 | L17: 45,50 € | O17: Décembre
A18: aulnoye aymeries | B18: 128 | C18: 128 | D18: =MROUND(t_Bareme[[#This Row],[kms aller]]+t_Bareme[[#This Row],[kms retour]],10) -> 260 | E18: =IFERROR(INDEX(t_Indemnite[[Zone ]],MATCH(t_Bareme[[#This Row],[kms total]],t_Indemnite[[ ]],1)),"") -> 20 | F18: =IFERROR(VLOOKUP(t_Bareme[[#This Row],[Zone]],$H$3:$L$25,5,FALSE),"") -> 60,60 € | H18: 16 | I18: 150 | J18: et | K18: 160 | L18: 48,50 €
A19: auxi le château | B19: 75 | C19: 75 | D19: =MROUND(t_Bareme[[#This Row],[kms aller]]+t_Bareme[[#This Row],[kms retour]],10) -> 150 | E19: =IFERROR(INDEX(t_Indemnite[[Zone ]],MATCH(t_Bareme[[#This Row],[kms total]],t_Indemnite[[ ]],1)),"") -> 15 | F19: =IFERROR(VLOOKUP(t_Bareme[[#This Row],[Zone]],$H$3:$L$25,5,FALSE),"") -> 45,50 € | H19: 17 | I19: 160 | J19: et | K19: 170 | L19: 51,50 €
A20: avelin | B20: 54 | C20: 54 | D20: =MROUND(t_Bareme[[#This Row],[kms aller]]+t_Bareme[[#This Row],[kms retour]],10) -> 110 | E20: =IFERROR(INDEX(t_Indemnite[[Zone ]],MATCH(t_Bareme[[#This Row],[kms total]],t_Indemnite[[ ]],1)),"") -> 11 | F20: =IFERROR(VLOOKUP(t_Bareme[[#This Row],[Zone]],$H$3:$L$25,5,FALSE),"") -> 33,30 € | H20: 18 | I20: 170 | J20: et | K20: 180 | L20: 54,50 €
A21: averdoingt | B21: 53 | C21: 53 | D21: =MROUND(t_Bareme[[#This Row],[kms aller]]+t_Bareme[[#This Row],[kms retour]],10) -> 110 | E21: =IFERROR(INDEX(t_Indemnite[[Zone ]],MATCH(t_Bareme[[#This Row],[kms total]],t_Indemnite[[ ]],1)),"") -> 11 | F21: =IFERROR(VLOOKUP(t_Bareme[[#This Row],[Zone]],$H$3:$L$25,5,FALSE),"") -> 33,30 € | H21: 19 | I21: 180 | J21: et | K21: 190 | L21: 57,60 €
A22: avion | B22: 46 | C22: 46 | D22: =MROUND(t_Bareme[[#This Row],[kms aller]]+t_Bareme[[#This Row],[kms retour]],10) -> 90 | E22: =IFERROR(INDEX(t_Indemnite[[Zone ]],MATCH(t_Bareme[[#This Row],[kms total]],t_Indemnite[[ ]],1)),"") -> 9 | F22: =IFERROR(VLOOKUP(t_Bareme[[#This Row],[Zone]],$H$3:$L$25,5,FALSE),"") -> 27,30 € | H22: 20 | I22: 190 | J22: et | K22: 200 | L22: 60,60 €
A23: bailleul | D23: =MROUND(t_Bareme[[#This Row],[kms aller]]+t_Bareme[[#This Row],[kms retour]],10) -> 0 | E23: =IFERROR(INDEX(t_Indemnite[[Zone ]],MATCH(t_Bareme[[#This Row],[kms total]],t_Indemnite[[ ]],1)),"") | F23: =IFERROR(VLOOKUP(t_Bareme[[#This Row],[Zone]],$H$3:$L$25,5,FALSE),"") | H23: 20 | I23: 200 | J23: et | K23: 300 | L23: 60,60 €
A24: bailleul sir berthoult | D24: =MROUND(t_Bareme[[#This Row],[kms aller]]+t_Bareme[[#This Row],[kms retour]],10) -> 0 | E24: =IFERROR(INDEX(t_Indemnite[[Zone ]],MATCH(t_Bareme[[#This Row],[kms total]],t_Indemnite[[ ]],1)),"") | F24: =IFERROR(VLOOKUP(t_Bareme[[#This Row],[Zone]],$H$3:$L$25,5,FALSE),"") | H24: 20 | I24: 300 | J24: et | K24: 400 | L24: 60,60 €
A25: baisieux | B25: 57 | C25: 57 | D25: =MROUND(t_Bareme[[#This Row],[kms aller]]+t_Bareme[[#This Row],[kms retour]],10) -> 110 | E25: =IFERROR(INDEX(t_Indemnite[[Zone ]],MATCH(t_Bareme[[#This Row],[kms total]],t_Indemnite[[ ]],1)),"") -> 11 | F25: =IFERROR(VLOOKUP(t_Bareme[[#This Row],[Zone]],$H$3:$L$25,5,FALSE),"") -> 33,30 € | H25: 20 | I25: 400 | J25: et | K25: 500 | L25: 60,60 €
A26: balinghem | B26: 50 | C26: 50 | D26: =MROUND(t_Bareme[[#This Row],[kms aller]]+t_Bareme[[#This Row],[kms retour]],10) -> 100 | E26: =IFERROR(INDEX(t_Indemnite[[Zone ]],MATCH(t_Bareme[[#This Row],[kms total]],t_Indemnite[[ ]],1)),"") -> 10 | F26: =IFERROR(VLOOKUP(t_Bareme[[#This Row],[Zone]],$H$3:$L$25,5,FALSE),"") -> 30,30 €
A27: bazancourt | B27: 174 | C27: 174 | D27: =MROUND(t_Bareme[[#This Row],[kms aller]]+t_Bareme[[#This Row],[kms retour]],10) -> 350 | E27: =IFERROR(INDEX(t_Indemnite[[Zone ]],MATCH(t_Bareme[[#This Row],[kms total]],t_Indemnite[[ ]],1)),"") -> 20 | F27: =IFERROR(VLOOKUP(t_Bareme[[#This Row],[Zone]],$H$3:$L$25,5,FALSE),"") -> 60,60 €
A28: beaurains | D28: =MROUND(t_Bareme[[#This Row],[kms aller]]+t_Bareme[[#This Row],[kms retour]],10) -> 0 | E28: =IFERROR(INDEX(t_Indemnite[[Zone ]],MATCH(t_Bareme[[#This Row],[kms total]],t_Indemnite[[ ]],1)),"") | F28: =IFERROR(VLOOKUP(t_Bareme[[#This Row],[Zone]],$H$3:$L$25,5,FALSE),"")
A29: beauvais | D29: =MROUND(t_Bareme[[#This Row],[kms aller]]+t_Bareme[[#This Row],[kms retour]],10) -> 0 | E29: =IFERROR(INDEX(t_Indemnite[[Zone ]],MATCH(t_Bareme[[#This Row],[kms total]],t_Indemnite[[ ]],1)),"") | F29: =IFERROR(VLOOKUP(t_Bareme[[#This Row],[Zone]],$H$3:$L$25,5,FALSE),"")
A30: berlaimont | B30: 132 | C30: 132 | D30: =MROUND(t_Bareme[[#This Row],[kms aller]]+t_Bareme[[#This Row],[kms retour]],10) -> 260 | E30: =IFERROR(INDEX(t_Indemnite[[Zone ]],MATCH(t_Bareme[[#This Row],[kms total]],t_Indemnite[[ ]],1)),"") -> 20 | F30: =IFERROR(VLOOKUP(t_Bareme[[#This Row],[Zone]],$H$3:$L$25,5,FALSE),"") -> 60,60 €
A31: bethune | B31: 25 | C31: 25 | D31: =MROUND(t_Bareme[[#This Row],[kms aller]]+t_Bareme[[#This Row],[kms retour]],10) -> 50 | E31: =IFERROR(INDEX(t_Indemnite[[Zone ]],MATCH(t_Bareme[[#This Row],[kms total]],t_Indemnite[[ ]],1)),"") -> 5 | F31: =IFERROR(VLOOKUP(t_Bareme[[#This Row],[Zone]],$H$3:$L$25,5,FALSE),"") -> 15,20 €
A32: bierne | B32: 32 | C32: 32 | D32: =MROUND(t_Bareme[[#This Row],[kms aller]]+t_Bareme[[#This Row],[kms retour]],10) -> 60 | E32: =IFERROR(INDEX(t_Indemnite[[Zone ]],MATCH(t_Bareme[[#This Row],[kms total]],t_Indemnite[[ ]],1)),"") -> 6 | F32: =IFERROR(VLOOKUP(t_Bareme[[#This Row],[Zone]],$H$3:$L$25,5,FALSE),"") -> 18,20 €
A33: billy bercleau | B33: 40 | C33: 40 | D33: =MROUND(t_Bareme[[#This Row],[kms aller]]+t_Bareme[[#This Row],[kms retour]],10) -> 80 | E33: =IFERROR(INDEX(t_Indemnite[[Zone ]],MATCH(t_Bareme[[#This Row],[kms total]],t_Indemnite[[ ]],1)),"") -> 8 | F33: =IFERROR(VLOOKUP(t_Bareme[[#This Row],[Zone]],$H$3:$L$25,5,FALSE),"") -> 24,20 €
A34: blaringhem | B34: 12 | C34: 12 | D34: =MROUND(t_Bareme[[#This Row],[kms aller]]+t_Bareme[[#This Row],[kms retour]],10) -> 20 | E34: =IFERROR(INDEX(t_Indemnite[[Zone ]],MATCH(t_Bareme[[#This Row],[kms total]],t_Indemnite[[ ]],1)),"") -> 2 | F34: =IFERROR(VLOOKUP(t_Bareme[[#This Row],[Zone]],$H$3:$L$25,5,FALSE),"") -> 6,10 €
A35: blendecques | B35: 21 | C35: 21 | D35: =MROUND(t_Bareme[[#This Row],[kms aller]]+t_Bareme[[#This Row],[kms retour]],10) -> 40 | E35: =IFERROR(INDEX(t_Indemnite[[Zone ]],MATCH(t_Bareme[[#This Row],[kms total]],t_Indemnite[[ ]],1)),"") -> 4 | F35: =IFERROR(VLOOKUP(t_Bareme[[#This Row],[Zone]],$H$3:$L$25,5,FALSE),"") -> 12,10 €
A36: boiry st rictrude | B36: 77 | C36: 77 | D36: =MROUND(t_Bareme[[#This Row],[kms aller]]+t_Bareme[[#This Row],[kms retour]],10) -> 150 | E36: =IFERROR(INDEX(t_Indemnite[[Zone ]],MATCH(t_Bareme[[#This Row],[kms total]],t_Indemnite[[ ]],1)),"") -> 15 | F36: =IFERROR(VLOOKUP(t_Bareme[[#This Row],[Zone]],$H$3:$L$25,5,FALSE),"") -> 45,50 €
A37: bondues | B37: 47 | C37: 47 | D37: =MROUND(t_Bareme[[#This Row],[kms aller]]+t_Bareme[[#This Row],[kms retour]],10) -> 90 | E37: =IFERROR(INDEX(t_Indemnite[[Zone ]],MATCH(t_Bareme[[#This Row],[kms total]],t_Indemnite[[ ]],1)),"") -> 9 | F37: =IFERROR(VLOOKUP(t_Bareme[[#This Row],[Zone]],$H$3:$L$25,5,FALSE),"") -> 27,30 €
A38: boulogne | B38: 71 | C38: 71 | D38: =MROUND(t_Bareme[[#This Row],[kms aller]]+t_Bareme[[#This Row],[kms retour]],10) -> 140 | E38: =IFERROR(INDEX(t_Indemnite[[Zone ]],MATCH(t_Bareme[[#This Row],[kms total]],t_Indemnite[[ ]],1)),"") -> 14 | F38: =IFERROR(VLOOKUP(t_Bareme[[#This Row],[Zone]],$H$3:$L$25,5,FALSE),"") -> 42,40 €
A39: bourbourg | B39: 40 | C39: 40 | D39: =MROUND(t_Bareme[[#This Row],[kms aller]]+t_Bareme[[#This Row],[kms retour]],10) -> 80 | E39: =IFERROR(INDEX(t_Indemnite[[Zone ]],MATCH(t_Bareme[[#This Row],[kms total]],t_Indemnite[[ ]],1)),"") -> 8 | F39: =IFERROR(VLOOKUP(t_Bareme[[#This Row],[Zone]],$H$3:$L$25,5,FALSE),"") -> 24,20 €
A40: bousbecque | B40: 47 | C40: 47 | D40: =MROUND(t_Bareme[[#This Row],[kms aller]]+t_Bareme[[#This Row],[kms retour]],10) -> 90 | E40: =IFERROR(INDEX(t_Indemnite[[Zone ]],MATCH(t_Bareme[[#This Row],[kms total]],t_Indemnite[[ ]],1)),"") -> 9 | F40: =IFERROR(VLOOKUP(t_Bareme[[#This Row],[Zone]],$H$3:$L$25,5,FALSE),"") -> 27,30 €
A41: boussois | B41: 141 | C41: 141 | D41: =MROUND(t_Bareme[[#This Row],[kms aller]]+t_Bareme[[#This Row],[kms retour]],10) -> 280 | E41: =IFERROR(INDEX(t_Indemnite[[Zone ]],MATCH(t_Bareme[[#This Row],[kms total]],t_Indemnite[[ ]],1)),"") -> 20 | F41: =IFERROR(VLOOKUP(t_Bareme[[#This Row],[Zone]],$H$3:$L$25,5,FALSE),"") -> 60,60 €
...

Sheet antoine
A2: Notes de frais
B6: Nom :
B7: Mois : | C7: JUIN 2023
A9: S | B9: Date | C9: Descriptif, lieu de déplacement | D9: Frais kilométriques | G9: Nbre Hôtel | H9: Hôtel | I9: Nbre Repas Grd dépl | J9: Repas Grd Dépl | K9: Nbre Repas chantier | L9: Repas chantier | M9: Nbre Hôtel Paris | N9: Hôtel Paris | O9: AFFAIRE
D10: Distance | E10: Zone | F10: Coût
A11: =WEEKNUM(B11) -> 22 | B11: 45078 | C11: cagny | D11: =IFERROR(INDEX(t_Bareme[kms total],MATCH(antoine!C11,t_Bareme[villes],0)),"") -> 0 | E11: =IFERROR(INDEX(t_Bareme[Zone],MATCH(antoine!C11,t_Bareme[villes],0)),"") | F11: =IFERROR(INDEX(t_Bareme[indemnités],MATCH(antoine!C11,t_Bareme[villes],0)),"") | G11: 1 | H11: =IF(G11<>"",G11*recap!$O$3) -> 53.8 | I11: 2 | J11: =IF(I11<>"",I11*recap!$P$3) -> 40.4 | K11: 0 | L11: =IF(K11<>"",K11*recap!Q3) -> 0 | M11: 0 | N11: =IF(M11<>"",M11*recap!$N$3) -> 0 | O11: 35233P
A12: =WEEKNUM(B12) -> 22 | B12: 45079 | C12: cagny | D12: =IFERROR(INDEX(t_Bareme[kms total],MATCH(antoine!C12,t_Bareme[villes],0)),"") -> 0 | E12: =IFERROR(INDEX(t_Bareme[Zone],MATCH(antoine!C12,t_Bareme[villes],0)),"") | F12: =IFERROR(INDEX(t_Bareme[indemnités],MATCH(antoine!C12,t_Bareme[villes],0)),"") | G12: 0 | H12: =IF(G12<>"",G12*recap!$O$3) -> 0 | I12: 1 | J12: =IF(I12<>"",I12*recap!$P$3) -> 20.2 | K12: 0 | L12: =IF(K12<>"",K12*recap!$Q$3) -> 0 | M12: 0 | N12: =IF(M12<>"",M12*recap!$N$3) -> 0 | O12: 35233P
A13: =WEEKNUM(B13) -> 23 | B13: 45082 | C13: cagny | D13: =IFERROR(INDEX(t_Bareme[kms total],MATCH(antoine!C13,t_Bareme[villes],0)),"") -> 0 | E13: =IFERROR(INDEX(t_Bareme[Zone],MATCH(antoine!C13,t_Bareme[villes],0)),"") | F13: =IFERROR(INDEX(t_Bareme[indemnités],MATCH(antoine!C13,t_Bareme[villes],0)),"") | G13: 1 | H13: =IF(G13<>"",G13*recap!$O$3) -> 53.8 | I13: 2 | J13: =IF(I13<>"",I13*recap!$P$3) -> 40.4 | K13: 0 | L13: =IF(K13<>"",K13*recap!$Q$3) -> 0 | M13: 0 | N13: =IF(M13<>"",M13*recap!$N$3) -> 0 | O13: 35233P
A14: =WEEKNUM(B14) -> 23 | B14: 45083 | C14: cagny | D14: =IFERROR(INDEX(t_Bareme[kms total],MATCH(antoine!C14,t_Bareme[villes],0)),"") -> 0 | E14: =IFERROR(INDEX(t_Bareme[Zone],MATCH(antoine!C14,t_Bareme[villes],0)),"") | F14: =IFERROR(INDEX(t_Bareme[indemnités],MATCH(antoine!C14,t_Bareme[villes],0)),"") | G14: 1 | H14: =IF(G14<>"",G14*recap!$O$3) -> 53.8 | I14: 2 | J14: =IF(I14<>"",I14*recap!$P$3) -> 40.4 | K14: 0 | L14: =IF(K14<>"",K14*recap!$Q$3) -> 0 | M14: 0 | N14: =IF(M14<>"",M14*recap!$N$3) -> 0 | O14: 35233P
A15: =WEEKNUM(B15) -> 23 | B15: 45084 | C15: cagny | D15: =IFERROR(INDEX(t_Bareme[kms total],MATCH(antoine!C15,t_Bareme[villes],0)),"") -> 0 | E15: =IFERROR(INDEX(t_Bareme[Zone],MATCH(antoine!C15,t_Bareme[villes],0)),"") | F15: =IFERROR(INDEX(t_Bareme[indemnités],MATCH(antoine!C15,t_Bareme[villes],0)),"") | G15: 1 | H15: =IF(G15<>"",G15*recap!$O$3) -> 53.8 | I15: 2 | J15: =IF(I15<>"",I15*recap!$P$3) -> 40.4 | K15: 0 | L15: =IF(K15<>"",K15*recap!$Q$3) -> 0 | M15: 0 | N15: =IF(M15<>"",M15*recap!$N$3) -> 0 | O15: 35233P
A16: =WEEKNUM(B16) -> 23 | B16: 45085 | C16: cagny | D16: =IFERROR(INDEX(t_Bareme[kms total],MATCH(antoine!C16,t_Bareme[villes],0)),"") -> 0 | E16: =IFERROR(INDEX(t_Bareme[Zone],MATCH(antoine!C16,t_Bareme[villes],0)),"") | F16: =IFERROR(INDEX(t_Bareme[indemnités],MATCH(antoine!C16,t_Bareme[villes],0)),"") | G16: 1 | H16: =IF(G16<>"",G16*recap!$O$3) -> 53.8 | I16: 2 | J16: =IF(I16<>"",I16*recap!$P$3) -> 40.4 | K16: 0 | L16: =IF(K16<>"",K16*recap!$Q$3) -> 0 | M16: 0 | N16: =IF(M16<>"",M16*recap!$N$3) -> 0 | O16: 35233P
A17: =WEEKNUM(B17) -> 23 | B17: 45086 | C17: cagny | D17: =IFERROR(INDEX(t_Bareme[kms total],MATCH(antoine!C17,t_Bareme[villes],0)),"") -> 0 | E17: =IFERROR(INDEX(t_Bareme[Zone],MATCH(antoine!C17,t_Bareme[villes],0)),"") | F17: =IFERROR(INDEX(t_Bareme[indemnités],MATCH(antoine!C17,t_Bareme[villes],0)),"") | G17: 0 | H17: =IF(G17<>"",G17*recap!$O$3) -> 0 | I17: 1 | J17: =IF(I17<>"",I17*recap!$P$3) -> 20.2 | K17: 0 | L17: =IF(K17<>"",K17*recap!Q9) -> 0 | M17: 0 | N17: =IF(M17<>"",M17*recap!$N$3) -> 0 | O17: 35233P
A18: =WEEKNUM(B18) -> 24 | B18: 45089 | C18: cagny | D18: =IFERROR(INDEX(t_Bareme[kms total],MATCH(antoine!C18,t_Bareme[villes],0)),"") -> 0 | E18: =IFERROR(INDEX(t_Bareme[Zone],MATCH(antoine!C18,t_Bareme[villes],0)),"") | F18: =IFERROR(INDEX(t_Bareme[indemnités],MATCH(antoine!C18,t_Bareme[villes],0)),"") | G18: 1 | H18: =IF(G18<>"",G18*recap!$O$3) -> 53.8 | I18: 2 | J18: =IF(I18<>"",I18*recap!$P$3) -> 40.4 | K18: 0 | L18: =IF(K18<>"",K18*recap!Q10) -> 0 | M18: 0 | N18: =IF(M18<>"",M18*recap!$N$3) -> 0 | O18: 35233P
A19: =WEEKNUM(B19) -> 24 | B19: 45090 | C19: cagny | D19: =IFERROR(INDEX(t_Bareme[kms total],MATCH(antoine!C19,t_Bareme[villes],0)),"") -> 0 | E19: =IFERROR(INDEX(t_Bareme[Zone],MATCH(antoine!C19,t_Bareme[villes],0)),"") | F19: =IFERROR(INDEX(t_Bareme[indemnités],MATCH(antoine!C19,t_Bareme[villes],0)),"") | G19: 1 | H19: =IF(G19<>"",G19*recap!$O$3) -> 53.8 | I19: 2 | J19: =IF(I19<>"",I19*recap!$P$3) -> 40.4 | K19: 0 | L19: =IF(K19<>"",K19*recap!Q11) -> 0 | M19: 0 | N19: =IF(M19<>"",M19*recap!$N$3) -> 0 | O19: 35233P
A20: =WEEKNUM(B20) -> 24 | B20: 45091 | C20: cagny | D20: =IFERROR(INDEX(t_Bareme[kms total],MATCH(antoine!C20,t_Bareme[villes],0)),"") -> 0 | E20: =IFERROR(INDEX(t_Bareme[Zone],MATCH(antoine!C20,t_Bareme[villes],0)),"") | F20: =IFERROR(INDEX(t_Bareme[indemnités],MATCH(antoine!C20,t_Bareme[villes],0)),"") | G20: 1 | H20: =IF(G20<>"",G20*recap!$O$3) -> 53.8 | I20: 2 | J20: =IF(I20<>"",I20*recap!$P$3) -> 40.4 | K20: 0 | L20: =IF(K20<>"",K20*recap!Q12) -> 0 | M20: 0 | N20: =IF(M20<>"",M20*recap!$N$3) -> 0 | O20: 35233P
A21: =WEEKNUM(B21) -> 24 | B21: 45092 | C21: cagny | G21: 1 | H21: =IF(G21<>"",G21*recap!$O$3) -> 53.8 | I21: 2 | J21: =IF(I21<>"",I21*recap!$P$3) -> 40.4 | K21: 0 | L21: 0 | M21: 0 | N21: =IF(M21<>"",M21*recap!$N$3) -> 0 | O21: 35233P
A22: =WEEKNUM(B22) -> 24 | B22: 45093 | C22: cagny | G22: 0 | H22: =IF(G22<>"",G22*recap!$O$3) -> 0 | I22: 1 | J22: =IF(I22<>"",I22*recap!$P$3) -> 20.2 | K22: 0 | L22: =IF(K22<>"",K22*recap!Q14) -> 0 | M22: 0 | N22: =IF(M22<>"",M22*recap!$N$3) -> 0 | O22: 35233P
A23: =WEEKNUM(B23) -> 25 | B23: 45096 | C23: cagny | G23: 1 | H23: =IF(G23<>"",G23*recap!$O$3) -> 53.8 | I23: 2 | J23: =IF(I23<>"",I23*recap!$P$3) -> 40.4 | K23: 0 | L23: =IF(K23<>"",K23*recap!Q15) -> 0 | M23: 0 | N23: =IF(M23<>"",M23*recap!$N$3) -> 0 | O23: 35233P
A24: =WEEKNUM(B24) -> 25 | B24: 45097 | C24: cagny | G24: 1 | H24: =IF(G24<>"",G24*recap!$O$3) -> 53.8 | I24: 2 | J24: =IF(I24<>"",I24*recap!$P$3) -> 40.4 | K24: 0 | L24: =IF(K24<>"",K24*recap!Q16) -> 0 | M24: 0 | N24: =IF(M24<>"",M24*recap!$N$3) -> 0 | O24: 35233P
A25: =WEEKNUM(B25) -> 25 | B25: 45098 | C25: cagny | G25: 1 | H25: =IF(G25<>"",G25*recap!$O$3) -> 53.8 | I25: 2 | J25: =IF(I25<>"",I25*recap!$P$3) -> 40.4 | K25: 0 | L25: =IF(K25<>"",K25*recap!Q17) -> 0 | M25: 0 | N25: =IF(M25<>"",M25*recap!$N$3) -> 0 | O25: 35233P
A26: =WEEKNUM(B26) -> 25 | B26: 45099 | C26: cagny | G26: 1 | H26: =IF(G26<>"",G26*recap!$O$3) -> 53.8 | I26: 2 | J26: =IF(I26<>"",I26*recap!$P$3) -> 40.4 | K26: 0 | L26: =IF(K26<>"",K26*recap!Q18) -> 0 | M26: 0 | N26: =IF(M26<>"",M26*recap!$N$3) -> 0 | O26: 35233P
A27: =WEEKNUM(B27) -> 25 | B27: 45100 | C27: cagny | G27: 0 | H27: =IF(G27<>"",G27*recap!$O$3) -> 0 | I27: 0 | J27: =IF(I27<>"",I27*recap!$P$3) -> 0 | K27: 0 | L27: =IF(K27<>"",K27*recap!Q19) -> 0 | M27: 0 | N27: =IF(M27<>"",M27*recap!$N$3) -> 0 | O27: 35233P
A28: =WEEKNUM(B28) -> 26 | B28: 45103 | C28: cagny | G28: 1 | H28: =IF(G28<>"",G28*recap!$O$3) -> 53.8 | I28: 2 | J28: =IF(I28<>"",I28*recap!$P$3) -> 40.4 | K28: 0 | L28: =IF(K28<>"",K28*recap!Q20) -> 0 | M28: 0 | N28: =IF(M28<>"",M28*recap!$N$3) -> 0 | O28: 35233P
A29: =WEEKNUM(B29) -> 26 | B29: 45104 | C29: cagny | G29: 1 | H29: =IF(G29<>"",G29*recap!$O$3) -> 53.8 | I29: 2 | J29: =IF(I29<>"",I29*recap!$P$3) -> 40.4 | K29: 0 | L29: =IF(K29<>"",K29*recap!Q21) -> 0 | M29: 0 | N29: =IF(M29<>"",M29*recap!$N$3) -> 0 | O29: 35233P
A30: =WEEKNUM(B30) -> 26 | B30: 45105 | C30: cagny | G30: 1 | H30: =IF(G30<>"",G30*recap!$O$3) -> 53.8 | I30: 2 | J30: =IF(I30<>"",I30*recap!$P$3) -> 40.4 | K30: 0 | L30: =IF(K30<>"",K30*recap!Q22) -> 0 | M30: 0 | N30: =IF(M30<>"",M30*recap!$N$3) -> 0 | O30: 35233P
A31: =WEEKNUM(B31) -> 26 | B31: 45106 | C31: cagny | G31: 1 | H31: =IF(G31<>"",G31*recap!$O$3) -> 53.8 | I31: 2 | J31: =IF(I31<>"",I31*recap!$P$3) -> 40.4 | K31: 0 | L31: =IF(K31<>"",K31*recap!Q23) -> 0 | M31: 0 | N31: =IF(M31<>"",M31*recap!$N$3) -> 0 | O31: 35233P
A32: =WEEKNUM(B32) -> 26 | B32: 45107 | C32: cagny | D32: =IFERROR(INDEX(t_Bareme[kms total],MATCH(antoine!C32,t_Bareme[villes],0)),"") -> 0 | E32: =IFERROR(INDEX(t_Bareme[Zone],MATCH(antoine!C32,t_Bareme[villes],0)),"") | F32: =IFERROR(INDEX(t_Bareme[indemnités],MATCH(antoine!C32,t_Bareme[villes],0)),"") | G32: 0 | H32: =IF(G32<>"",G32*recap!$O$3) -> 0 | I32: 1 | J32: =IF(I32<>"",I32*recap!$P$3) -> 20.2 | K32: 0 | L32: =IF(K32<>"",K32*recap!Q24) -> 0 | M32: 0 | N32: =IF(M32<>"",M32*recap!$N$3) -> 0 | O32: 35233P
C34: TOTAUX | F34: =+SUM(F11:F33) -> 0 | G34: =+SUM(G11:G33) -> 17 | H34: =+SUM(H11:H33) -> 914.6 | I34: =+SUM(I11:I33) -> 38 | J34: =+SUM(J11:J33) -> 767.6 | K34: =+SUM(K11:K33) -> 0 | L34: =+SUM(L11:L33) -> 0 | M34: =+SUM(M11:M33) -> 0 | N34: =+SUM(N11:N33) -> 0
N36: =SUM(F34+H34+J34+L34+N34) -> 1682.2

Sheet alexandre
A2: Notes de frais
B6: Nom :
B7: Mois : | C7: JUIN 2023
A9: S | B9: Date | C9: Descriptif, lieu de déplacement | D9: Frais kilométriques | G9: Nbre Hôtel | H9: Hôtel | I9: Nbre Repas Grd dépl | J9: Repas Grd Dépl | K9: Nbre Repas chantier | L9: Repas chantier | M9: Nbre Hôtel Paris | N9: Hôtel Paris | O9: AFFAIRE
D10: Distance | E10: Zone | F10: Coût
A11: =WEEKNUM(B11) -> 22 | B11: 45078 | C11: amiens | D11: =IFERROR(INDEX(t_Bareme[kms total],MATCH(alexandre!C11,t_Bareme[villes],0)),"") -> 210 | E11: =IFERROR(INDEX(t_Bareme[Zone],MATCH(alexandre!C11,t_Bareme[villes],0)),"") -> 20 | F11: =IFERROR(INDEX(t_Bareme[indemnités],MATCH(alexandre!C11,t_Bareme[villes],0)),"") -> 60,60 € | K11: 1 | L11: =IF(K11<>"",K11*recap!Q3) -> 9.9 | M11: 0 | N11: =IF(M11<>"",M11*recap!$N$3) -> 0 | O11: 35226P
A12: =WEEKNUM(B12) -> 22 | B12: 45079 | C12: amiens | K12: 1 | L12: =IF(K12<>"",K12*recap!$Q$3) -> 9.9 | M12: 0 | N12: =IF(M12<>"",M12*recap!$N$3) -> 0 | O12: 35226P
A13: =WEEKNUM(B13) -> 0 | D13: =IFERROR(INDEX(t_Bareme[kms total],MATCH(alexandre!C13,t_Bareme[villes],0)),"") | E13: =IFERROR(INDEX(t_Bareme[Zone],MATCH(alexandre!C13,t_Bareme[villes],0)),"") | F13: =IFERROR(INDEX(t_Bareme[indemnités],MATCH(alexandre!C13,t_Bareme[villes],0)),"") | K13: 0 | L13: =IF(K13<>"",K13*recap!$Q$3) -> 0 | M13: 0 | N13: =IF(M13<>"",M13*recap!$N$3) -> 0
A14: =WEEKNUM(B14) -> 23 | B14: 45082 | C14: Bézannes | G14: 1 | H14: =IF(G14<>"",G14*recap!$O$3) -> 53.8 | I14: 2 | J14: =IF(I14<>"",I14*recap!$P$3) -> 40.4 | K14: 0 | L14: =IF(K14<>"",K14*recap!$Q$3) -> 0 | M14: 0 | N14: =IF(M14<>"",M14*recap!$N$3) -> 0 | O14: 34203P
A15: =WEEKNUM(B15) -> 23 | B15: 45083 | C15: Bézannes | G15: 1 | H15: =IF(G15<>"",G15*recap!$O$3) -> 53.8 | I15: 2 | J15: =IF(I15<>"",I15*recap!$P$3) -> 40.4 | K15: 0 | L15: =IF(K15<>"",K15*recap!$Q$3) -> 0 | M15: 0 | N15: =IF(M15<>"",M15*recap!$N$3) -> 0 | O15: 34203P
A16: =WEEKNUM(B16) -> 23 | B16: 45084 | C16: Bézannes | G16: 1 | H16: =IF(G16<>"",G16*recap!$O$3) -> 53.8 | I16: 2 | J16: =IF(I16<>"",I16*recap!$P$3) -> 40.4 | K16: 0 | L16: =IF(K16<>"",K16*recap!$Q$3) -> 0 | M16: 0 | N16: =IF(M16<>"",M16*recap!$N$3) -> 0 | O16: 34170P
A17: =WEEKNUM(B17) -> 23 | B17: 45085 | C17: Bézannes | I17: 1 | J17: =IF(I17<>"",I17*recap!$P$3) -> 20.2 | K17: 0 | L17: =IF(K17<>"",K17*recap!$Q$3) -> 0 | M17: 0 | N17: =IF(M17<>"",M17*recap!$N$3) -> 0 | O17: 34170P
A18: =WEEKNUM(B18) -> 0 | D18: =IFERROR(INDEX(t_Bareme[kms total],MATCH(alexandre!C18,t_Bareme[villes],0)),"") | E18: =IFERROR(INDEX(t_Bareme[Zone],MATCH(alexandre!C18,t_Bareme[villes],0)),"") | F18: =IFERROR(INDEX(t_Bareme[indemnités],MATCH(alexandre!C18,t_Bareme[villes],0)),"") | J18: =IF(I18<>"",I18*recap!$P$3) -> FALSE | K18: 0 | L18: =IF(K18<>"",K18*recap!$Q$3) -> 0 | M18: 0 | N18: =IF(M18<>"",M18*recap!$N$3) -> 0
A19: =WEEKNUM(B19) -> 24 | B19: 45089 | C19: Bézannes | G19: 0 | H19: =IF(G19<>"",G19*recap!$O$3) -> 0 | I19: 1 | J19: =IF(I19<>"",I19*recap!$P$3) -> 20.2 | K19: 0 | L19: =IF(K19<>"",K19*recap!$Q$3) -> 0 | M19: 0 | N19: =IF(M19<>"",M19*recap!$N$3) -> 0 | O19: 34203P
A20: =WEEKNUM(B20) -> 24 | B20: 45090 | C20: Leulinghem | D20: =IFERROR(INDEX(t_Bareme[kms total],MATCH(alexandre!C20,t_Bareme[villes],0)),"") -> 70 | E20: =IFERROR(INDEX(t_Bareme[Zone],MATCH(alexandre!C20,t_Bareme[villes],0)),"") -> 7 | F20: =IFERROR(INDEX(t_Bareme[indemnités],MATCH(alexandre!C20,t_Bareme[villes],0)),"") -> 21,20 € | H20: =IF(G20<>"",G20*recap!$O$3) -> FALSE | J20: =IF(I20<>"",I20*recap!$P$3) -> FALSE | K20: 1 | L20: =IF(K20<>"",K20*recap!$Q$3) -> 9.9 | M20: 0 | N20: =IF(M20<>"",M20*recap!$N$3) -> 0 | O20: 33156P
A21: =WEEKNUM(B21) -> 24 | B21: 45091 | C21: Leulinghem | D21: =IFERROR(INDEX(t_Bareme[kms total],MATCH(alexandre!C21,t_Bareme[villes],0)),"") -> 70 | E21: =IFERROR(INDEX(t_Bareme[Zone],MATCH(alexandre!C21,t_Bareme[villes],0)),"") -> 7 | F21: =IFERROR(INDEX(t_Bareme[indemnités],MATCH(alexandre!C21,t_Bareme[villes],0)),"") -> 21,20 € | H21: =IF(G21<>"",G21*recap!$O$3) -> FALSE | J21: =IF(I21<>"",I21*recap!$P$3) -> FALSE | K21: 1 | L21: =IF(K21<>"",K21*recap!$Q$3) -> 9.9 | M21: 0 | N21: =IF(M21<>"",M21*recap!$N$3) -> 0 | O21: 33156P
A22: =WEEKNUM(B22) -> 24 | B22: 45092 | C22: Leulinghem | D22: =IFERROR(INDEX(t_Bareme[kms total],MATCH(alexandre!C22,t_Bareme[villes],0)),"") -> 70 | E22: =IFERROR(INDEX(t_Bareme[Zone],MATCH(alexandre!C22,t_Bareme[villes],0)),"") -> 7 | F22: =IFERROR(INDEX(t_Bareme[indemnités],MATCH(alexandre!C22,t_Bareme[villes],0)),"") -> 21,20 € | H22: =IF(G22<>"",G22*recap!$O$3) -> FALSE | J22: =IF(I22<>"",I22*recap!$P$3) -> FALSE | K22: 1 | L22: =IF(K22<>"",K22*recap!$Q$3) -> 9.9 | M22: 0 | N22: =IF(M22<>"",M22*recap!$N$3) -> 0 | O22: 33156P
A23: =WEEKNUM(B23) -> 0 | D23: =IFERROR(INDEX(t_Bareme[kms total],MATCH(alexandre!C23,t_Bareme[villes],0)),"") | E23: =IFERROR(INDEX(t_Bareme[Zone],MATCH(alexandre!C23,t_Bareme[villes],0)),"") | F23: =IFERROR(INDEX(t_Bareme[indemnités],MATCH(alexandre!C23,t_Bareme[villes],0)),"") | H23: =IF(G23<>"",G23*recap!$O$3) -> FALSE | J23: =IF(I23<>"",I23*recap!$P$3) -> FALSE | K23: 0 | L23: =IF(K23<>"",K23*recap!$Q$3) -> 0 | M23: 0 | N23: =IF(M23<>"",M23*recap!$N$3) -> 0
A24: =WEEKNUM(B24) -> 25 | B24: 45096 | C24: Bézannes | G24: 1 | H24: =IF(G24<>"",G24*recap!$O$3) -> 53.8 | I24: 2 | J24: =IF(I24<>"",I24*recap!$P$3) -> 40.4 | K24: 0 | L24: =IF(K24<>"",K24*recap!$Q$3) -> 0 | M24: 0 | N24: =IF(M24<>"",M24*recap!$N$3) -> 0 | O24: 34203P
A25: =WEEKNUM(B25) -> 25 | B25: 45097 | C25: Bézannes | G25: 1 | H25: =IF(G25<>"",G25*recap!$O$3) -> 53.8 | I25: 2 | J25: =IF(I25<>"",I25*recap!$P$3) -> 40.4 | K25: 0 | L25: =IF(K25<>"",K25*recap!$Q$3) -> 0 | M25: 0 | N25: =IF(M25<>"",M25*recap!$N$3) -> 0 | O25: 34203P
A26: =WEEKNUM(B26) -> 25 | B26: 45098 | C26: Bézannes | H26: =IF(G26<>"",G26*recap!$O$3) -> FALSE | I26: 1 | J26: =IF(I26<>"",I26*recap!$P$3) -> 20.2 | K26: 0 | L26: =IF(K26<>"",K26*recap!$Q$3) -> 0 | M26: 0 | N26: =IF(M26<>"",M26*recap!$N$3) -> 0 | O26: 34203P
A27: =WEEKNUM(B27) -> 0 | D27: =IFERROR(INDEX(t_Bareme[kms total],MATCH(alexandre!C27,t_Bareme[villes],0)),"") | E27: =IFERROR(INDEX(t_Bareme[Zone],MATCH(alexandre!C27,t_Bareme[villes],0)),"") | F27: =IFERROR(INDEX(t_Bareme[indemnités],MATCH(alexandre!C27,t_Bareme[villes],0)),"") | H27: =IF(G27<>"",G27*recap!$O$3) -> FALSE | J27: =IF(I27<>"",I27*recap!$P$3) -> FALSE | K27: 0 | L27: =IF(K27<>"",K27*recap!$Q$3) -> 0 | M27: 0 | N27: =IF(M27<>"",M27*recap!$N$3) -> 0
A28: =WEEKNUM(B28) -> 26 | B28: 45103 | C28: arras | D28: =IFERROR(INDEX(t_Bareme[kms total],MATCH(alexandre!C28,t_Bareme[villes],0)),"") -> 120 | E28: =IFERROR(INDEX(t_Bareme[Zone],MATCH(alexandre!C28,t_Bareme[villes],0)),"") -> 12 | F28: =IFERROR(INDEX(t_Bareme[indemnités],MATCH(alexandre!C28,t_Bareme[villes],0)),"") -> 36,40 € | H28: =IF(G28<>"",G28*recap!$O$3) -> FALSE | J28: =IF(I28<>"",I28*recap!$P$3) -> FALSE | K28: 1 | L28: =IF(K28<>"",K28*recap!$Q$3) -> 9.9 | M28: 0 | N28: =IF(M28<>"",M28*recap!$N$3) -> 0 | O28: 36323P
A29: =WEEKNUM(B29) -> 26 | B29: 45104 | C29: Leulinghem | D29: =IFERROR(INDEX(t_Bareme[kms total],MATCH(alexandre!C29,t_Bareme[villes],0)),"") -> 70 | E29: =IFERROR(INDEX(t_Bareme[Zone],MATCH(alexandre!C29,t_Bareme[villes],0)),"") -> 7 | F29: =IFERROR(INDEX(t_Bareme[indemnités],MATCH(alexandre!C29,t_Bareme[villes],0)),"") -> 21,20 € | H29: =IF(G29<>"",G29*recap!$O$3) -> FALSE | J29: =IF(I29<>"",I29*recap!$P$3) -> FALSE | K29: 1 | L29: =IF(K29<>"",K29*recap!$Q$3) -> 9.9 | M29: 0 | N29: =IF(M29<>"",M29*recap!$N$3) -> 0 | O29: 33156P
A30: =WEEKNUM(B30) -> 26 | B30: 45105 | C30: Leulinghem | D30: =IFERROR(INDEX(t_Bareme[kms total],MATCH(alexandre!C30,t_Bareme[villes],0)),"") -> 70 | E30: =IFERROR(INDEX(t_Bareme[Zone],MATCH(alexandre!C30,t_Bareme[villes],0)),"") -> 7 | F30: =IFERROR(INDEX(t_Bareme[indemnités],MATCH(alexandre!C30,t_Bareme[villes],0)),"") -> 21,20 € | H30: =IF(G30<>"",G30*recap!$O$3) -> FALSE | J30: =IF(I30<>"",I30*recap!$P$3) -> FALSE | K30: 1 | L30: =IF(K30<>"",K30*recap!$Q$3) -> 9.9 | M30: 0 | N30: =IF(M30<>"",M30*recap!$N$3) -> 0 | O30: 33156P
A31: =WEEKNUM(B31) -> 26 | B31: 45106 | C31: Leulinghem | D31: =IFERROR(INDEX(t_Bareme[kms total],MATCH(alexandre!C31,t_Bareme[villes],0)),"") -> 70 | E31: =IFERROR(INDEX(t_Bareme[Zone],MATCH(alexandre!C31,t_Bareme[villes],0)),"") -> 7 | F31: =IFERROR(INDEX(t_Bareme[indemnités],MATCH(alexandre!C31,t_Bareme[villes],0)),"") -> 21,20 € | H31: =IF(G31<>"",G31*recap!$O$3) -> FALSE | J31: =IF(I31<>"",I31*recap!$P$3) -> FALSE | K31: 1 | L31: =IF(K31<>"",K31*recap!$Q$3) -> 9.9 | M31: 0 | N31: =IF(M31<>"",M31*recap!$N$3) -> 0 | O31: 33156P
A32: =WEEKNUM(B32) -> 26 | B32: 45107 | C32: Leulinghem | D32: =IFERROR(INDEX(t_Bareme[kms total],MATCH(alexandre!C32,t_Bareme[villes],0)),"") -> 70 | E32: =IFERROR(INDEX(t_Bareme[Zone],MATCH(alexandre!C32,t_Bareme[villes],0)),"") -> 7 | F32: =IFERROR(INDEX(t_Bareme[indemnités],MATCH(alexandre!C32,t_Bareme[villes],0)),"") -> 21,20 € | H32: =IF(G32<>"",G32*recap!$O$3) -> FALSE | J32: =IF(I32<>"",I32*recap!$P$3) -> FALSE | K32: 1 | L32: =IF(K32<>"",K32*recap!$Q$3) -> 9.9 | M32: 0 | N32: =IF(M32<>"",M32*recap!$N$3) -> 0 | O32: 33156P
C34: TOTAUX | F34: =+SUM(F11:F33) -> 0 | G34: =+SUM(G11:G33) -> 5 | H34: =+SUM(H11:H33) -> 269 | I34: =+SUM(I11:I33) -> 13 | J34: =+SUM(J11:J33) -> 262.6 | K34: =+SUM(K11:K33) -> 10 | L34: =+SUM(L11:L33) -> 99 | M34: =+SUM(M11:M33) -> 0 | N34: =+SUM(N11:N33) -> 0
N36: =SUM(F34+H34+J34+L34+N34) -> 630.6
