Workbook

Sheet Sommaire
A1: Registre de mobilités niveau 2 et 3
A4: Types de mouvement | B4: Missions | C4: Nb de déplacements déclarés
A5: Zone froide à zone tiède ou chaude | B5: CHSLD | C5: 84
B6: DITSA
B7: DP
B8: Jeunesse
A9: Zone tiède ou chaude à zone froide | B9: CHSLD | C9: 16
B10: DITSA
B11: DP
B12: Jeunesse
A13: Total des déplacements déclarés | C13: =SUM(C5:C12) -> 100

Sheet Liste
A1: CISSS DU BAS-SAINT-LAURENT | B1: =IF((COUNTIF(Extraction!A1:A93,A1)>1),"OUI","NON") -> OUI
A2: CIUSSS DU SAGUENAY - LAC-SAINT-JEAN | B2: =IF((COUNTIF(Extraction!A2:A94,A2)>1),"OUI","NON") -> OUI
A3: CIUSSS DE LA CAPITALE-NATIONALE | B3: =IF((COUNTIF(Extraction!A3:A95,A3)>1),"OUI","NON") -> OUI
A4: CIUSSS DE LA MAURICIE-ET-DU-CENTRE-DU-QUEBEC | B4: =IF((COUNTIF(Extraction!A4:A96,A4)>1),"OUI","NON") -> OUI
A5: CIUSSS DE L'ESTRIE - CENTRE HOSP. UNIV. DE SHERBROOKE | B5: =IF((COUNTIF(Extraction!A5:A97,A5)>1),"OUI","NON") -> NON
A6: CISSS DE L'OUTAOUAIS | B6: =IF((COUNTIF(Extraction!A6:A98,A6)>1),"OUI","NON") -> OUI
A7: CISSS DE L'ABITIBI-TÉMISCAMINGUE | B7: =IF((COUNTIF(Extraction!A7:A99,A7)>1),"OUI","NON") -> NON
A8: CISSS DE LA CÔTE-NORD | B8: =IF((COUNTIF(Extraction!A8:A100,A8)>1),"OUI","NON") -> NON
A9: CISSS DE LA GASPÉSIE | B9: =IF((COUNTIF(Extraction!A9:A101,A9)>1),"OUI","NON") -> NON
A10: CISSS DE CHAUDIÈRE-APPALACHES | B10: =IF((COUNTIF(Extraction!A10:A102,A10)>1),"OUI","NON") -> OUI
A11: CISSS DE LAVAL | B11: =IF((COUNTIF(Extraction!A11:A103,A11)>1),"OUI","NON") -> NON
A12: CISSS DE LANAUDIÈRE | B12: =IF((COUNTIF(Extraction!A12:A104,A12)>1),"OUI","NON") -> NON
... A30: VIGI SANTE LTEE | B30: =IF((COUNTIF(Extraction!A30:A122,A30)>1),"OUI","NON") -> NON

Sheet Extraction
A1: VIGI SANTE LTEE
A2: SANTE COURVILLE INC.
A3: GROUPE ROY SANTE INC.
A4: CENTRE D'HEBERGEMENT ST-JEAN-EUDES INC.
A5: CISSS DE CHAUDIÈRE-APPALACHES
A6: CISSS DE CHAUDIÈRE-APPALACHES
A7: CISSS DE LA GASPÉSIE
A8: CISSS DE LA MONTÉRÉGIE-CENTRE
A9: CISSS DE LA MONTÉRÉGIE-CENTRE
A10: CISSS DE LA MONTÉRÉGIE-CENTRE
A11: CISSS DU BAS-SAINT-LAURENT
A12: CISSS DU BAS-SAINT-LAURENT
... A93: ACCUEIL DU RIVAGE INC.

Sheet Feuil1
