Workbook

Sheet Feuil1
A1: Colpo 2 | P1: 44984 | Q1: =P1+7 -> 44991 | R1: =Q1+7 -> 44998 | S1: =R1+7 -> 45005 | T1: =S1+7 -> 45012
A2: état d'occupation | K2: Date de mise à jour | M2: 45009 | P2: 44984 | Q2: =P2+7 -> 44991 | R2: =Q2+7 -> 44998 | S2: =R2+7 -> 45005 | T2: =S2+7 -> 45012
A3: N° Chambre | C3: Nom | D3: Prénom | E3: Sexe | F3: Age | G3: Nationalité | H3: Arrivée FR | I3: Arrivée SAS | J3: Départ SAS | K3: Capacité Maximum | L3: Places occupées | M3: places disponibles | N3: Observations/Configuration chambre | O3: Orientation proposée
A4: Chambre 20 | B4: Lit 1 | H4: 44874 | I4: 44879 | K4: 2 | L4: 2 | M4: 0 | P4: si($I4="";"";si(et($i4<P$1;$j4="";"7";si(et($i4>P$1;$i4<Q$1;datedif(I4;J4;"M");""))))))
B5: Lit 2 | H5: 44874 | I5: 44879

Sheet Feuil1 (2)
A1: Colpo 2 | Q1: 2023
A2: état d'occupation | K2: Date de mise à jour | M2: 45009
A3: N° Chambre | C3: Nom | D3: Prénom | E3: Sexe | F3: Age | G3: Nationalité | H3: Arrivée FR | I3: Arrivée SAS | J3: Départ SAS | K3: Capacité Maximum | L3: Places occupées | M3: places disponibles | N3: Observations/Configuration chambre | O3: Orientation proposée | R3: =DATE(Q1,1,1) -> 44927 | S3: =R3+1 -> 44928 | T3: =S3+1 -> 44929 | U3: =T3+1 -> 44930 | V3: =U3+1 -> 44931 | W3: =V3+1 -> 44932 | X3: =W3+1 -> 44933 | Y3: =X3+1 -> 44934 | Z3: =Y3+1 -> 44935 | ... NS3: =NR3+1 -> 45292
Q4: N° semaine | R4: =_xlfn.ISOWEEKNUM(R3) -> 52 | S4: =_xlfn.ISOWEEKNUM(S3) -> 1 | T4: =_xlfn.ISOWEEKNUM(T3) -> 1 | U4: =_xlfn.ISOWEEKNUM(U3) -> 1 | V4: =_xlfn.ISOWEEKNUM(V3) -> 1 | W4: =_xlfn.ISOWEEKNUM(W3) -> 1 | X4: =_xlfn.ISOWEEKNUM(X3) -> 1 | Y4: =_xlfn.ISOWEEKNUM(Y3) -> 1 | ... NS4: =_xlfn.ISOWEEKNUM(NS3) -> 1
Q5: N° mois | R5: =MONTH(R3) -> 1 | S5: =MONTH(S3) -> 1 | T5: =MONTH(T3) -> 1 | U5: =MONTH(U3) -> 1 | V5: =MONTH(V3) -> 1 | W5: =MONTH(W3) -> 1 | X5: =MONTH(X3) -> 1 | Y5: =MONTH(Y3) -> 1 | ... NS5: =MONTH(NS3) -> 1
A7: Chambre 20 | B7: Lit 1 | H7: 44874 | I7: 44928 | J7: 44936 | K7: 2 | L7: 2 | M7: 0 | Q7: =SUM(R7:NS7) -> 7 | R7: =IF(AND(R$3>=$I7,S$3<=$J7),1,0) -> 0 | S7: =IF(SUM($R7:R7)<7,IF(AND(S$3>=$I7,T$3<=$J7),1,0),0) -> 1 | T7: =IF(SUM($R7:S7)<7,IF(AND(T$3>=$I7,U$3<=$J7),1,0),0) -> 1 | U7: =IF(SUM($R7:T7)<7,IF(AND(U$3>=$I7,V$3<=$J7),1,0),0) -> 1 | V7: =IF(SUM($R7:U7)<7,IF(AND(V$3>=$I7,W$3<=$J7),1,0),0) -> 1 | W7: =IF(SUM($R7:V7)<7,IF(AND(W$3>=$I7,X$3<=$J7),1,0),0) -> 1 | X7: =IF(SUM($R7:W7)<7,IF(AND(X$3>=$I7,Y$3<=$J7),1,0),0) -> 1 | Y7: =IF(SUM($R7:X7)<7,IF(AND(Y$3>=$I7,Z$3<=$J7),1,0),0) -> 1 | Z7: =IF(SUM($R7:Y7)<7,IF(AND(Z$3>=$I7,AA$3<=$J7),1,0),0) -> 0 | ... NR7: =IF(SUM($R7:NQ7)<7,IF(AND(NR$3>=$I7,NS$3<=$J7),1,0),0) -> 0 | NS7: =IF(SUM($R7:NR7)<7,IF(AND(NS$3>=$I7,NS$3<=$J7),1,0),0) -> 0
B8: Lit 2 | H8: 44874 | I8: 44936 | J8: 44939 | Q8: =SUM(R8:NS8) -> 3 | R8: =IF(AND(R$3>=$I8,S$3<=$J8),1,0) -> 0 | S8: =IF(SUM($R8:R8)<7,IF(AND(S$3>=$I8,T$3<=$J8),1,0),0) -> 0 | T8: =IF(SUM($R8:S8)<7,IF(AND(T$3>=$I8,U$3<=$J8),1,0),0) -> 0 | U8: =IF(SUM($R8:T8)<7,IF(AND(U$3>=$I8,V$3<=$J8),1,0),0) -> 0 | V8: =IF(SUM($R8:U8)<7,IF(AND(V$3>=$I8,W$3<=$J8),1,0),0) -> 0 | W8: =IF(SUM($R8:V8)<7,IF(AND(W$3>=$I8,X$3<=$J8),1,0),0) -> 0 | X8: =IF(SUM($R8:W8)<7,IF(AND(X$3>=$I8,Y$3<=$J8),1,0),0) -> 0 | Y8: =IF(SUM($R8:X8)<7,IF(AND(Y$3>=$I8,Z$3<=$J8),1,0),0) -> 0 | Z8: =IF(SUM($R8:Y8)<7,IF(AND(Z$3>=$I8,AA$3<=$J8),1,0),0) -> 0 | ... NR8: =IF(SUM($R8:NQ8)<7,IF(AND(NR$3>=$I8,NS$3<=$J8),1,0),0) -> 0 | NS8: =IF(SUM($R8:NR8)<7,IF(AND(NS$3>=$I8,NS$3<=$J8),1,0),0) -> 0

Sheet Feuil1 (3)
A1: Année | B1: ='Feuil1 (2)'!Q1 -> 2023 | G1: Année | H1: ='Feuil1 (2)'!Q1 -> 2023
A2: Total par semaine | G2: Total par mois
A3: N° semaine | B3: Début | C3: Fin | D3: Total | G3: N° mois | H3: Mois | I3: Total
A4: 1 | B4: =DATE($B$1,1,3)-WEEKDAY(DATE($B$1,1,3))-5+7*A4 -> 44928 | C4: =B4+6 -> 44934 | D4: {=SUMPRODUCT(('Feuil1 (2)'!$R$4:$NS$4=A4)*('Feuil1 (2)'!$R$7:$NS$8))} -> 7 | G4: 1 | H4: Janvier | I4: {=SUMPRODUCT(('Feuil1 (2)'!$R$5:$NS$5=G4)*('Feuil1 (2)'!$R$7:$NS$8))} -> 10
A5: 2 | B5: =DATE($B$1,1,3)-WEEKDAY(DATE($B$1,1,3))-5+7*A5 -> 44935 | C5: =B5+6 -> 44941 | D5: {=SUMPRODUCT(('Feuil1 (2)'!$R$4:$NS$4=A5)*('Feuil1 (2)'!$R$7:$NS$8))} -> 3 | G5: 2 | H5: Février | I5: {=SUMPRODUCT(('Feuil1 (2)'!$R$5:$NS$5=G5)*('Feuil1 (2)'!$R$7:$NS$8))} -> 0
A6: 3 | B6: =DATE($B$1,1,3)-WEEKDAY(DATE($B$1,1,3))-5+7*A6 -> 44942 | C6: =B6+6 -> 44948 | D6: {=SUMPRODUCT(('Feuil1 (2)'!$R$4:$NS$4=A6)*('Feuil1 (2)'!$R$7:$NS$8))} -> 0 | G6: 3 | H6: Mars | I6: {=SUMPRODUCT(('Feuil1 (2)'!$R$5:$NS$5=G6)*('Feuil1 (2)'!$R$7:$NS$8))} -> 0
A7: 4 | B7: =DATE($B$1,1,3)-WEEKDAY(DATE($B$1,1,3))-5+7*A7 -> 44949 | C7: =B7+6 -> 44955 | D7: {=SUMPRODUCT(('Feuil1 (2)'!$R$4:$NS$4=A7)*('Feuil1 (2)'!$R$7:$NS$8))} -> 0 | G7: 4 | H7: Avril | I7: {=SUMPRODUCT(('Feuil1 (2)'!$R$5:$NS$5=G7)*('Feuil1 (2)'!$R$7:$NS$8))} -> 0
A8: 5 | B8: =DATE($B$1,1,3)-WEEKDAY(DATE($B$1,1,3))-5+7*A8 -> 44956 | C8: =B8+6 -> 44962 | D8: {=SUMPRODUCT(('Feuil1 (2)'!$R$4:$NS$4=A8)*('Feuil1 (2)'!$R$7:$NS$8))} -> 0 | G8: 5 | H8: Mai | I8: {=SUMPRODUCT(('Feuil1 (2)'!$R$5:$NS$5=G8)*('Feuil1 (2)'!$R$7:$NS$8))} -> 0
A9: 6 | B9: =DATE($B$1,1,3)-WEEKDAY(DATE($B$1,1,3))-5+7*A9 -> 44963 | C9: =B9+6 -> 44969 | D9: {=SUMPRODUCT(('Feuil1 (2)'!$R$4:$NS$4=A9)*('Feuil1 (2)'!$R$7:$NS$8))} -> 0 | G9: 6 | H9: Juin | I9: {=SUMPRODUCT(('Feuil1 (2)'!$R$5:$NS$5=G9)*('Feuil1 (2)'!$R$7:$NS$8))} -> 0
A10: 7 | B10: =DATE($B$1,1,3)-WEEKDAY(DATE($B$1,1,3))-5+7*A10 -> 44970 | C10: =B10+6 -> 44976 | D10: {=SUMPRODUCT(('Feuil1 (2)'!$R$4:$NS$4=A10)*('Feuil1 (2)'!$R$7:$NS$8))} -> 0 | G10: 7 | H10: Juillet | I10: {=SUMPRODUCT(('Feuil1 (2)'!$R$5:$NS$5=G10)*('Feuil1 (2)'!$R$7:$NS$8))} -> 0
A11: 8 | B11: =DATE($B$1,1,3)-WEEKDAY(DATE($B$1,1,3))-5+7*A11 -> 44977 | C11: =B11+6 -> 44983 | D11: {=SUMPRODUCT(('Feuil1 (2)'!$R$4:$NS$4=A11)*('Feuil1 (2)'!$R$7:$NS$8))} -> 0 | G11: 8 | H11: Août | I11: {=SUMPRODUCT(('Feuil1 (2)'!$R$5:$NS$5=G11)*('Feuil1 (2)'!$R$7:$NS$8))} -> 0
A12: 9 | B12: =DATE($B$1,1,3)-WEEKDAY(DATE($B$1,1,3))-5+7*A12 -> 44984 | C12: =B12+6 -> 44990 | D12: {=SUMPRODUCT(('Feuil1 (2)'!$R$4:$NS$4=A12)*('Feuil1 (2)'!$R$7:$NS$8))} -> 0 | G12: 9 | H12: Septembre | I12: {=SUMPRODUCT(('Feuil1 (2)'!$R$5:$NS$5=G12)*('Feuil1 (2)'!$R$7:$NS$8))} -> 0
A13: 10 | B13: =DATE($B$1,1,3)-WEEKDAY(DATE($B$1,1,3))-5+7*A13 -> 44991 | C13: =B13+6 -> 44997 | D13: {=SUMPRODUCT(('Feuil1 (2)'!$R$4:$NS$4=A13)*('Feuil1 (2)'!$R$7:$NS$8))} -> 0 | G13: 10 | H13: Octobre | I13: {=SUMPRODUCT(('Feuil1 (2)'!$R$5:$NS$5=G13)*('Feuil1 (2)'!$R$7:$NS$8))} -> 0
A14: 11 | B14: =DATE($B$1,1,3)-WEEKDAY(DATE($B$1,1,3))-5+7*A14 -> 44998 | C14: =B14+6 -> 45004 | D14: {=SUMPRODUCT(('Feuil1 (2)'!$R$4:$NS$4=A14)*('Feuil1 (2)'!$R$7:$NS$8))} -> 0 | G14: 11 | H14: Novembre | I14: {=SUMPRODUCT(('Feuil1 (2)'!$R$5:$NS$5=G14)*('Feuil1 (2)'!$R$7:$NS$8))} -> 0
A15: 12 | B15: =DATE($B$1,1,3)-WEEKDAY(DATE($B$1,1,3))-5+7*A15 -> 45005 | C15: =B15+6 -> 45011 | D15: {=SUMPRODUCT(('Feuil1 (2)'!$R$4:$NS$4=A15)*('Feuil1 (2)'!$R$7:$NS$8))} -> 0 | G15: 12 | H15: Décembre | I15: {=SUMPRODUCT(('Feuil1 (2)'!$R$5:$NS$5=G15)*('Feuil1 (2)'!$R$7:$NS$8))} -> 0
A16: 13 | B16: =DATE($B$1,1,3)-WEEKDAY(DATE($B$1,1,3))-5+7*A16 -> 45012 | C16: =B16+6 -> 45018 | D16: {=SUMPRODUCT(('Feuil1 (2)'!$R$4:$NS$4=A16)*('Feuil1 (2)'!$R$7:$NS$8))} -> 0
A17: 14 | B17: =DATE($B$1,1,3)-WEEKDAY(DATE($B$1,1,3))-5+7*A17 -> 45019 | C17: =B17+6 -> 45025 | D17: {=SUMPRODUCT(('Feuil1 (2)'!$R$4:$NS$4=A17)*('Feuil1 (2)'!$R$7:$NS$8))} -> 0
A18: 15 | B18: =DATE($B$1,1,3)-WEEKDAY(DATE($B$1,1,3))-5+7*A18 -> 45026 | C18: =B18+6 -> 45032 | D18: {=SUMPRODUCT(('Feuil1 (2)'!$R$4:$NS$4=A18)*('Feuil1 (2)'!$R$7:$NS$8))} -> 0
A19: 16 | B19: =DATE($B$1,1,3)-WEEKDAY(DATE($B$1,1,3))-5+7*A19 -> 45033 | C19: =B19+6 -> 45039 | D19: {=SUMPRODUCT(('Feuil1 (2)'!$R$4:$NS$4=A19)*('Feuil1 (2)'!$R$7:$NS$8))} -> 0
A20: 17 | B20: =DATE($B$1,1,3)-WEEKDAY(DATE($B$1,1,3))-5+7*A20 -> 45040 | C20: =B20+6 -> 45046 | D20: {=SUMPRODUCT(('Feuil1 (2)'!$R$4:$NS$4=A20)*('Feuil1 (2)'!$R$7:$NS$8))} -> 0
A21: 18 | B21: =DATE($B$1,1,3)-WEEKDAY(DATE($B$1,1,3))-5+7*A21 -> 45047 | C21: =B21+6 -> 45053 | D21: {=SUMPRODUCT(('Feuil1 (2)'!$R$4:$NS$4=A21)*('Feuil1 (2)'!$R$7:$NS$8))} -> 0
A22: 19 | B22: =DATE($B$1,1,3)-WEEKDAY(DATE($B$1,1,3))-5+7*A22 -> 45054 | C22: =B22+6 -> 45060 | D22: {=SUMPRODUCT(('Feuil1 (2)'!$R$4:$NS$4=A22)*('Feuil1 (2)'!$R$7:$NS$8))} -> 0
A23: 20 | B23: =DATE($B$1,1,3)-WEEKDAY(DATE($B$1,1,3))-5+7*A23 -> 45061 | C23: =B23+6 -> 45067 | D23: {=SUMPRODUCT(('Feuil1 (2)'!$R$4:$NS$4=A23)*('Feuil1 (2)'!$R$7:$NS$8))} -> 0
A24: 21 | B24: =DATE($B$1,1,3)-WEEKDAY(DATE($B$1,1,3))-5+7*A24 -> 45068 | C24: =B24+6 -> 45074 | D24: {=SUMPRODUCT(('Feuil1 (2)'!$R$4:$NS$4=A24)*('Feuil1 (2)'!$R$7:$NS$8))} -> 0
A25: 22 | B25: =DATE($B$1,1,3)-WEEKDAY(DATE($B$1,1,3))-5+7*A25 -> 45075 | C25: =B25+6 -> 45081 | D25: {=SUMPRODUCT(('Feuil1 (2)'!$R$4:$NS$4=A25)*('Feuil1 (2)'!$R$7:$NS$8))} -> 0
A26: 23 | B26: =DATE($B$1,1,3)-WEEKDAY(DATE($B$1,1,3))-5+7*A26 -> 45082 | C26: =B26+6 -> 45088 | D26: {=SUMPRODUCT(('Feuil1 (2)'!$R$4:$NS$4=A26)*('Feuil1 (2)'!$R$7:$NS$8))} -> 0
A27: 24 | B27: =DATE($B$1,1,3)-WEEKDAY(DATE($B$1,1,3))-5+7*A27 -> 45089 | C27: =B27+6 -> 45095 | D27: {=SUMPRODUCT(('Feuil1 (2)'!$R$4:$NS$4=A27)*('Feuil1 (2)'!$R$7:$NS$8))} -> 0
... A55: 52 | B55: =DATE($B$1,1,3)-WEEKDAY(DATE($B$1,1,3))-5+7*A55 -> 45285 | C55: =B55+6 -> 45291 | D55: {=SUMPRODUCT(('Feuil1 (2)'!$R$4:$NS$4=A55)*('Feuil1 (2)'!$R$7:$NS$8))} -> 0
