Workbook

Sheet Recap Besoins
A1: RECAPITULATIF
B2: Semaine 1 | C2: Semaine 2 | D2: Semaine 3
A3: Crèche | B3: =SUM(C8:C13) -> 14 | C3: =SUM(D8:D13) -> 11 | D3: =SUM(E8:E13) -> 0
A4: Maternelle | B4: =SUM(C18:C23) -> 26 | C4: =SUM(D18:D23) -> #N/A | D4: =SUM(E18:E23) -> 0
A7: Crèche
A8: Besoins - Pôle FME : | C8: 1 | D8: =INDEX(Crèche!A:C,MATCH(SUBSTITUTE(A8,"Besoins - ","Total "),Crèche!A:A,0),3) -> 2
A9: Besoins - Médecine : | C9: 4 | D9: =INDEX(Crèche!A:C,MATCH(SUBSTITUTE(A9,"Besoins - ","Total Pôle "),Crèche!A:A,0),3) -> 4
A10: Besoins - Pôle Soins Critiques : | C10: 4 | D10: =INDEX(Crèche!A:C,MATCH(SUBSTITUTE(A10,"Besoins - ","Total "),Crèche!A:A,0),3) -> 2
A11: Besoins - Pôle Chirurgie : | C11: 1 | D11: =INDEX(Crèche!A:C,MATCH(SUBSTITUTE(A11,"Besoins - ","Total "),Crèche!A:A,0),3) -> 1
A12: Besoins - Pôle Gériatrie : | C12: 3 | D12: =INDEX(Crèche!A:C,MATCH(SUBSTITUTE(A12,"Besoins - ","Total "),Crèche!A:A,0),3) -> 1
A13: Besoins - Brancardier : | C13: 1 | D13: =INDEX(Crèche!A:C,MATCH(SUBSTITUTE(A13,"Besoins - ","Total "),Crèche!A:A,0),3) -> 1
A14: Total besoins Crèche : | C14: =SUM(C8:C13) -> 14
A17: Maternelle
A18: Besoins - Pôle FME : | C18: 6 | D18: =INDEX(Maternelle!A:C,MATCH(SUBSTITUTE(A18,"Besoins - ","Total "),Maternelle!A:A,0),3) -> 4
A19: Besoins - Médecine : | C19: 5 | D19: =INDEX(Maternelle!A:C,MATCH(SUBSTITUTE(A19,"Besoins - ","Total Pôle "),Maternelle!A:A,0),3) -> 3
A20: Besoins - Pôle Soins Critiques : | C20: 11 | D20: =INDEX(Maternelle!A:C,MATCH(SUBSTITUTE(A20,"Besoins - ","Total "),Maternelle!A:A,0),3) -> #N/A
A21: Besoins - Pôle Chirurgie : | C21: 1 | D21: =INDEX(Maternelle!A:C,MATCH(SUBSTITUTE(A21,"Besoins - ","Total "),Maternelle!A:A,0),3) -> #N/A
A22: Besoins - Pôle Gériatrie : | C22: 2 | D22: =INDEX(Maternelle!A:C,MATCH(SUBSTITUTE(A22,"Besoins - ","Total "),Maternelle!A:A,0),3) -> #N/A
A23: Besoins - Brancardier : | C23: 1 | D23: =INDEX(Maternelle!A:C,MATCH(SUBSTITUTE(A23,"Besoins - ","Total "),Maternelle!A:A,0),3) -> #N/A
A24: Total besoins Maternelle : | C24: =SUM(C18:C23) -> 26

Sheet Crèche
A1: Crèche
A2: Pôle FME
A3: Agents | B3: Enfants
A4: DUPONT MARTIN ET PAUL | B4: DUPONT MARTIN ET PAUL | C4: 2
A5: Total Pôle FME : | C5: =SUM(C4) -> 2
A6: Pôle Médecine
A7: Agents | B7: Enfants
A8: DUJARDIN FLEUR | B8: DUJARDIN FLEUR | C8: 3
A9: DUPRES MARGUERITE | B9: DUPRES MARGUERITE | C9: 1
A10: Total Pôle Médecine : | C10: =SUM(C8:C9) -> 4
A11: Pôle Soins Critiques
A12: Agents | B12: Enfants
A13: MOLIERE Laurent | B13: MOLIERE Maxime | C13: 1
A14: LE CORRE HENRY | B14: LE CORRE HENRY | C14: 1
A15: Total Pôle Soins Critiques : | C15: =SUM(C13:C14) -> 2
A16: Pôle Chirurgie
A17: Agents | B17: Enfants
A18: MARION | B18: MARION | C18: 1
A19: Total Pôle Chirurgie : | C19: =SUM(C18) -> 1
A20: Pôle Gériatrie
A21: Agents | B21: Enfants
A22: CLARA | B22: CLARA | C22: 1
A23: Total Pôle Gériatrie : | C23: =SUM(C22:C22) -> 1
A24: Brancardiers
A25: Agents | B25: Enfants
A26: PAONE | B26: PAONE | C26: 1
A27: Total Brancardier : | C27: =SUM(C26) -> 1

Sheet Maternelle
A1: Maternelle
A2: Pôle FME
A3: Agents | B3: Enfants
A4: PIERRE | B4: PIERRE | C4: 1
A5: MARTIN | B5: MARTIN | C5: 1
A6: PAUL | B6: PAUL | C6: 1
A7: PAULA | B7: PAULA | C7: 1
A8: Total Pôle FME : | C8: =SUM(C4:C7) -> 4 | E8: Total Pôle FME :
A9: Pôle Médecine
A10: Agents | B10: Enfants
A11: VICTOIRE | B11: VICTOIRE | C11: 1
A12: ANTOINE | B12: ANTOINE | C12: 1
A13: MARTIN | B13: MARTIN | C13: 1
A14: Total Pôle Médecine : | C14: =SUM(C11:C13) -> 3 | E14: Total Pôle Médecine :
