Workbook
Name ALPELISIB200: 'indications libellés par UCD'!$C$2:$N$2
Name ALPELISIB50: 'indications libellés par UCD'!$C$3:$N$3
Name AMMONUL: 'indications libellés par UCD'!$C$4:$N$4
Name ARZERRA100: 'indications libellés par UCD'!$C$5:$N$5
Name ARZERRA1000: 'indications libellés par UCD'!$C$6:$N$6
Name ASCIMINIB: 'indications libellés par UCD'!$C$98:$N$98
Name ATEZOLIZUMAB840: 'indications libellés par UCD'!$C$7:$N$7
Name ATTENTIN: 'indications libellés par UCD'!$C$8:$N$8
Name AVASTIN: 'indications libellés par UCD'!$C$95:$N$95
Name BAVENCIO: 'indications libellés par UCD'!$C$9:$N$9
Name BELANTAMAB: 'indications libellés par UCD'!$C$10:$N$10
Name BRAFTOVI: 'indications libellés par UCD'!$C$11:$N$11
Name BULEVIRTIDE: 'indications libellés par UCD'!#REF!
Name BULEVIRTIDE: 'indications libellés par UCD'!#REF!
Name CABLIVI: 'indications libellés par UCD'!$C$12:$N$12
Name CAMPTAH: 'indications libellés par UCD'!$C$13:$N$13
Name CIDOFOVIR: 'indications libellés par UCD'!$C$14:$N$14
Name Code_inidcation_ARZERA: liste!$A$8
Name CYCLOSERINE: 'indications libellés par UCD'!$C$15:$N$15
Name DARZALEX: 'indications libellés par UCD'!$C$16:$N$16
Name DECORENONE50GEL: 'indications libellés par UCD'!$C$17:$N$17
Name DECORENONE50SOL: 'indications libellés par UCD'!$C$18:$N$18
Name DODECAVIT2: 'indications libellés par UCD'!$C$19:$N$19
Name DODECAVIT5: 'indications libellés par UCD'!$C$19:$O$19
Name DOPSOD100: 'indications libellés par UCD'!$C$20:$N$20
Name DOPSOD200: 'indications libellés par UCD'!$C$21:$N$21
Name DUPIXENT300: 'indications libellés par UCD'!$C$22:$N$22
Name EPHEDRINE: 'indications libellés par UCD'!$C$99:$N$99
Name EPIDIOLEX100: 'indications libellés par UCD'!$C$23:$N$23
Name HAEMATE1000IU: 'indications libellés par UCD'!$C$24:$N$24
Name HEMLIBRA150: 'indications libellés par UCD'!$C$25:$N$25
Name HUMULINREGULAR: 'indications libellés par UCD'!$C$26:$N$26
Name IDHIFA100: 'indications libellés par UCD'!$C$27:$N$27
Name IDHIFA50: 'indications libellés par UCD'!$C$28:$N$28
Name IKERVIS: 'indications libellés par UCD'!$C$29:$N$29
Name IMFINZIDP: 'indications libellés par UCD'!$C$96:$N$96
Name ind_arzerra_100mg: 'indications libellés par UCD'!$C$2:$IV$2
Name ISATUXUMAB20: 'indications libellés par UCD'!$C$30:$N$30
Name ISTODAX10: 'indications libellés par UCD'!$C$31:$N$31
Name LEDAGA: 'indications libellés par UCD'!$C$32:$N$32
Name LIBTAYO350: 'indications libellés par UCD'!$C$33:$N$33
Name LIKOZAM: 'indications libellés par UCD'!$C$34:$N$34
Name LIORESAL: 'indications libellés par UCD'!$C$35:$N$35
Name liste_indic: 'indications libellés par UCD'!$V$2:$AG$2
Name liste_indication: 'indications libellés par UCD'!$U$3:$U$14
Name listes_completes: 'listes complètes'!$A$2:$I$652
Name LORVIQUA: 'indications libellés par UCD'!$C$36:$N$36
Name MALACEF: 'indications libellés par UCD'!$C$37:$N$37
Name MARIBAVIR: 'indications libellés par UCD'!$C$100:$N$100
Name MARINOL: 'indications libellés par UCD'!$C$38:$N$38
Name MEKTOVI: 'indications libellés par UCD'!$C$39:$N$39
Name MEPHENON: 'indications libellés par UCD'!$C$101:$N$101
Name MNESIS: 'indications libellés par UCD'!$C$40:$N$40
Name MNESIS1: #REF!
Name MOL: #REF!
Name MOLECULE: 'indications libellés par UCD'!$A$2:$A$65536
Name MYLOTARG: 'indications libellés par UCD'!$C$41:$N$41
Name MYRCLUDEX: 'indications libellés par UCD'!$C$42:$N$42
Name NARDIL: 'indications libellés par UCD'!$C$43:$N$43
Name NATRIUMTHIOSULFAT10: 'indications libellés par UCD'!$C$44:$N$44

Sheet CABLIVI
A1: CABLIVI-Cabalsizumab
A3: Validation et suivi des ATU
O4: SUIVI | S4: DISPENSATION
A5: Nom | B5: Prénom | C5: DDN | D5: Spécialité | E5: DCI | F5: ATU | G5: Indication libellé | H5: Formule (ne pas toucher) | I5: Copier case précédente en valeur | J5: Code indication ATU | K5: Code UCD (13 chiffres) | L5: Date d'initiation | M5: UPA | N5: Prescripteur | O5: N° ATU en cours | P5: OK ANSM | Q5: Validité | R5: Péremption | S5: Date | T5: Hospitalisation / Rétrocession | U5: Date | V5: Hospitalisation / Rétrocession | W5: Date | X5: Hospitalisation / Rétrocession | Y5: Date | Z5: Hospitalisation / Rétrocession | AA5: Date | AB5: Hospitalisation / Rétrocession | AC5: Date | AD5: Hospitalisation / Rétrocession
A6: x | B6: y | C6: 16745 | D6: CABLIVI® 10 mg, poudre et solvant pour solution injectable | E6: =VLOOKUP(D6,'listes complètes'!$C$3:$D$65536,2,FALSE) -> caplacizumab | F6: dispositif pèrenne | G6: traitement des patients adultes présentant un épisode de purpura thrombotique thrombocytopénique acquis (PTTa) conjointement à un traitement par échanges plasmatiques et par immunosuppresseurs. | H6: CABLIVI® 10 mg, poudre et solvant pour solution injectabledispositif pèrennetraitement des patients adultes présentant un épisode de purpura thrombotique thrombocytopénique acquis (PTTa) conjointement à un traitement par échanges plasmatiques et par immunosuppresseurs. | J6: =VLOOKUP(H6,'listes complètes'!$A$3:$G$652,7,FALSE) -> #VALUE! | K6: =VLOOKUP(D6,'listes complètes'!$C$3:$H$65536,6,FALSE) -> 3400894380573 | L6: 44067 | M6: Non | S6: 44067 | T6: hopitalisation 1012 | U6: 44068 | V6: rétrocession
A7: test | B7: nomi | D7: CABLIVI® 10 mg, poudre et solvant pour solution injectable | E7: =VLOOKUP(D7,'listes complètes'!C2:H653,2,0) -> caplacizumab | F7: dispositif pèrenne | G7: traitement des patients adultes présentant un épisode de purpura thrombotique thrombocytopénique acquis (PTTa) conjointement à un traitement par échanges plasmatiques et par immunosuppresseurs. | H7: CABLIVI® 10 mg, poudre et solvant pour solution injectabledispositif pèrennetraitement des patients adultes présentant un épisode de purpura thrombotique thrombocytopénique acquis (PTTa) conjointement à un traitement par échanges plasmatiques et par immunosuppresseurs. | J7: =INDEX('listes complètes'!G$2:G695,MATCH( 'listes complètes'!$B$93,'listes complètes'!B2:B95,0)) -> #VALUE! | K7: =VLOOKUP(D7,'listes complètes'!$C$3:$H$65536,6,FALSE) -> 3400894380573
D8: Molecule test | E8: =VLOOKUP(D8,'listes complètes'!$C$3:$D$65536,2,FALSE) -> DCI test | F8: dispositif pèrenne | G8: indication test 1 | H8: =CONCATENATE(D8,F8,G8) -> Molecule testdispositif pèrenneindication test 1 | J8: =INDEX('listes complètes'!B$2:G$696,MATCH(H8,'listes complètes'!B2:B666,0),6) -> test1 | K8: =VLOOKUP(D8,'listes complètes'!$C$3:$H$65536,6,FALSE) -> 0
D9: Molecule test | E9: =VLOOKUP(D9,'listes complètes'!$C$3:$D$65536,2,FALSE) -> DCI test | F9: Cohorte | G9: indication test 2 | H9: =CONCATENATE(D9,F9,G9) -> Molecule testCohorteindication test 2 | J9: =INDEX('listes complètes'!G$2:G$696,MATCH(H9,'listes complètes'!B$2:B667,0)) -> test2 | K9: =VLOOKUP(D9,'listes complètes'!$C$3:$H$65536,6,FALSE) -> 0
D10: CABLIVI® 10 mg, poudre et solvant pour solution injectable | E10: =VLOOKUP(D10,'listes complètes'!$C$3:$D$65536,2,FALSE) -> caplacizumab | F10: dispositif pèrenne | G10: traitement des patients adultes présentant un épisode de purpura thrombotique thrombocytopénique acquis (PTTa) conjointement à un traitement par échanges plasmatiques et par immunosuppresseurs. | H10: =CONCATENATE(D10,F10,G10) -> CABLIVI® 10 mg, poudre et solvant pour solution injectabledispositif pèrennetraitement des patients adultes présentant un épisode de purpura thrombotique thrombocytopénique acquis (PTTa) conjointement à un traitement par échanges plasmatiques et par immunosuppresseurs. | J10: {=INDEX('listes complètes'!G$2:G$696,MATCH(H9,'listes complètes'!B$2:B667,0))*INDEX('listes complètes'!G$2:G$696,MATCH(H10,'listes complètes'!B$2:B668,0))} -> #VALUE! | K10: =VLOOKUP(D10,'listes complètes'!$C$3:$H$65536,6,FALSE) -> 3400894380573
D11: ZOSTRIX 0,025%, crème | E11: =VLOOKUP(D11,'listes complètes'!$C$3:$D$65536,2,FALSE) -> capsaïcine | F11: Nominative | G11: Douleurs neuropathiques centrales,Après utilisation de tous les traitements y compris Qutenza (sauf si proche muqueuse ou tête). | H11: =CONCATENATE(D11,F11,G11) -> ZOSTRIX 0,025%, crèmeNominativeDouleurs neuropathiques centrales,Après utilisation de tous les traitements y compris Qutenza (sauf si proche muqueuse ou tête). | J11: =VLOOKUP(H11,'listes complètes'!$A$3:$G$652,7,FALSE) -> NXXXX00 | K11: =VLOOKUP(D11,'listes complètes'!$C$3:$H$65536,6,FALSE) -> 3400892970134
D12: ZOSTRIX 0,025%, crème | E12: =VLOOKUP(D12,'listes complètes'!$C$3:$D$65536,2,FALSE) -> capsaïcine | F12: Nominative | G12: Douleurs neuropathiques centrales,Après utilisation de tous les traitements y compris Qutenza (sauf si proche muqueuse ou tête). | H12: =CONCATENATE(D12,F12,G12) -> ZOSTRIX 0,025%, crèmeNominativeDouleurs neuropathiques centrales,Après utilisation de tous les traitements y compris Qutenza (sauf si proche muqueuse ou tête). | J12: =INDEX('listes complètes'!G$2:G$696,MATCH(H12,'listes complètes'!B$2:B669,0)) -> NXXXX00 | K12: =VLOOKUP(D12,'listes complètes'!$C$3:$H$65536,6,FALSE) -> 3400892970134
E13: =VLOOKUP(D13,'listes complètes'!$C$3:$D$65536,2,FALSE) -> #N/A | H13: =CONCATENATE(D13,F13,G13) | J13: =VLOOKUP(H13,'listes complètes'!$A$3:$G$652,7,FALSE) -> #N/A | K13: =VLOOKUP(D13,'listes complètes'!$C$3:$H$65536,6,FALSE) -> #N/A
E14: =VLOOKUP(D14,'listes complètes'!$C$3:$D$65536,2,FALSE) -> #N/A | H14: =CONCATENATE(D14,F14,G14) | J14: =VLOOKUP(H14,'listes complètes'!$A$3:$G$652,7,FALSE) -> #N/A | K14: =VLOOKUP(D14,'listes complètes'!$C$3:$H$65536,6,FALSE) -> #N/A
E15: =VLOOKUP(D15,'listes complètes'!$C$3:$D$65536,2,FALSE) -> #N/A | H15: =CONCATENATE(D15,F15,G15) | J15: =VLOOKUP(H15,'listes complètes'!$A$3:$G$652,7,FALSE) -> #N/A | K15: =VLOOKUP(D15,'listes complètes'!$C$3:$H$65536,6,FALSE) -> #N/A
E16: =VLOOKUP(D16,'listes complètes'!$C$3:$D$65536,2,FALSE) -> #N/A | H16: =CONCATENATE(D16,F16,G16) | J16: =VLOOKUP(H16,'listes complètes'!$A$3:$G$652,7,FALSE) -> #N/A | K16: =VLOOKUP(D16,'listes complètes'!$C$3:$H$65536,6,FALSE) -> #N/A
E17: =VLOOKUP(D17,'listes complètes'!$C$3:$D$65536,2,FALSE) -> #N/A | J17: =VLOOKUP(H17,'listes complètes'!$A$3:$G$652,7,FALSE) -> #N/A | K17: =VLOOKUP(D17,'listes complètes'!$C$3:$H$65536,6,FALSE) -> #N/A
E18: =VLOOKUP(D18,'listes complètes'!$C$3:$D$65536,2,FALSE) -> #N/A | H18: =CONCATENATE(D18,F18,G18) | J18: =VLOOKUP(H18,'listes complètes'!$A$3:$G$652,7,FALSE) -> #N/A | K18: =VLOOKUP(D18,'listes complètes'!$C$3:$H$65536,6,FALSE) -> #N/A
E19: =VLOOKUP(D19,'listes complètes'!$C$3:$D$65536,2,FALSE) -> #N/A | H19: =CONCATENATE(D19,F19,G19) | J19: =VLOOKUP(H19,'listes complètes'!$A$3:$G$652,7,FALSE) -> #N/A | K19: =VLOOKUP(D19,'listes complètes'!$C$3:$H$65536,6,FALSE) -> #N/A
E20: =VLOOKUP(D20,'listes complètes'!$C$3:$D$65536,2,FALSE) -> #N/A | H20: =CONCATENATE(D20,F20,G20) | J20: =VLOOKUP(H20,'listes complètes'!$A$3:$G$652,7,FALSE) -> #N/A | K20: =VLOOKUP(D20,'listes complètes'!$C$3:$H$65536,6,FALSE) -> #N/A
E21: =VLOOKUP(D21,'listes complètes'!$C$3:$D$65536,2,FALSE) -> #N/A | H21: =CONCATENATE(D21,F21,G21) | J21: =VLOOKUP(H21,'listes complètes'!$A$3:$G$652,7,FALSE) -> #N/A | K21: =VLOOKUP(D21,'listes complètes'!$C$3:$H$65536,6,FALSE) -> #N/A
E22: =VLOOKUP(D22,'listes complètes'!$C$3:$D$65536,2,FALSE) -> #N/A | H22: =CONCATENATE(D22,F22,G22) | J22: =VLOOKUP(H22,'listes complètes'!$A$3:$G$652,7,FALSE) -> #N/A | K22: =VLOOKUP(D22,'listes complètes'!$C$3:$H$65536,6,FALSE) -> #N/A
E23: =VLOOKUP(D23,'listes complètes'!$C$3:$D$65536,2,FALSE) -> #N/A | H23: =CONCATENATE(D23,F23,G23) | J23: =VLOOKUP(H23,'listes complètes'!$A$3:$G$652,7,FALSE) -> #N/A | K23: =VLOOKUP(D23,'listes complètes'!$C$3:$H$65536,6,FALSE) -> #N/A
E24: =VLOOKUP(D24,'listes complètes'!$C$3:$D$65536,2,FALSE) -> #N/A | H24: =CONCATENATE(D24,F24,G24) | J24: =VLOOKUP(H24,'listes complètes'!$A$3:$G$652,7,FALSE) -> #N/A | K24: =VLOOKUP(D24,'listes complètes'!$C$3:$H$65536,6,FALSE) -> #N/A
E25: =VLOOKUP(D25,'listes complètes'!$C$3:$D$65536,2,FALSE) -> #N/A | H25: =CONCATENATE(D25,F25,G25) | J25: =VLOOKUP(H25,'listes complètes'!$A$3:$G$652,7,FALSE) -> #N/A | K25: =VLOOKUP(D25,'listes complètes'!$C$3:$H$65536,6,FALSE) -> #N/A
E26: =VLOOKUP(D26,'listes complètes'!$C$3:$D$65536,2,FALSE) -> #N/A | H26: =CONCATENATE(D26,F26,G26) | J26: =VLOOKUP(H26,'listes complètes'!$A$3:$G$652,7,FALSE) -> #N/A | K26: =VLOOKUP(D26,'listes complètes'!$C$3:$H$65536,6,FALSE) -> #N/A
E27: =VLOOKUP(D27,'listes complètes'!$C$3:$D$65536,2,FALSE) -> #N/A | H27: =CONCATENATE(D27,F27,G27) | J27: =VLOOKUP(H27,'listes complètes'!$A$3:$G$652,7,FALSE) -> #N/A | K27: =VLOOKUP(D27,'listes complètes'!$C$3:$H$65536,6,FALSE) -> #N/A
E28: =VLOOKUP(D28,'listes complètes'!$C$3:$D$65536,2,FALSE) -> #N/A | H28: =CONCATENATE(D28,F28,G28) | J28: =VLOOKUP(H28,'listes complètes'!$A$3:$G$652,7,FALSE) -> #N/A | K28: =VLOOKUP(D28,'listes complètes'!$C$3:$H$65536,6,FALSE) -> #N/A
E29: =VLOOKUP(D29,'listes complètes'!$C$3:$D$65536,2,FALSE) -> #N/A | H29: =CONCATENATE(D29,F29,G29) | J29: =VLOOKUP(H29,'listes complètes'!$A$3:$G$652,7,FALSE) -> #N/A | K29: =VLOOKUP(D29,'listes complètes'!$C$3:$H$65536,6,FALSE) -> #N/A
... E39: =VLOOKUP(D39,'listes complètes'!$C$3:$D$65536,2,FALSE) -> #N/A | H39: =CONCATENATE(D39,F39,G39) | J39: =VLOOKUP(H39,'listes complètes'!$A$3:$G$652,7,FALSE) -> #N/A | K39: =VLOOKUP(D39,'listes complètes'!$C$3:$H$65536,6,FALSE) -> #N/A

Sheet liste
A1: ATU | F1: Oui | H1: Hospitalisation
A2: Cohorte | F2: Non | H2: Rétrocession
A3: Nominative
A4: dispositif pèrenne
A7: Inidcation ARZERA
A8: NXXXX00
A11: Spécialité | B11: DCI | C11: Code UCD (13 chiffres) | D11: Code indication | E11: Indication
A12: ALUNBRIG 30 mg comprimés pelliculés | D12: CBRIG01 | E12: Traitement des patients adultes non éligibles à un essai clinique en cours, atteints d’un cancer broncho-pulmonaire non à petites cellules (CBNPC) avancé présentant un réarrangement du gène ALK (ALK positif), prétraités par crizotinib et pour lesquels il n’existe pas d’alternative thérapeutique appropriée disponible
A13: ALUNBRIG 30 mg comprimés pelliculés | D13: NXXXX00 | E13: Sans objet : ATUn
A14: ALUNBRIG 90 mg comprimés pelliculés | D14: CBRIG01 | E14: Traitement des patients adultes non éligibles à un essai clinique en cours, atteints d’un cancer broncho-pulmonaire non à petites cellules (CBNPC) avancé présentant un réarrangement du gène ALK (ALK positif), prétraités par crizotinib et pour lesquels il n’existe pas d’alternative thérapeutique appropriée disponible
A15: ALUNBRIG 90 mg comprimés pelliculés | D15: NXXXX00 | E15: Sans objet : ATUn
A16: ALUNBRIG 180 mg comprimés pelliculés | D16: CBRIG01 | E16: Traitement des patients adultes non éligibles à un essai clinique en cours, atteints d’un cancer broncho-pulmonaire non à petites cellules (CBNPC) avancé présentant un réarrangement du gène ALK (ALK positif), prétraités par crizotinib et pour lesquels il n’existe pas d’alternative thérapeutique appropriée disponible
A17: ALUNBRIG 180 mg comprimés pelliculés | D17: NXXXX00 | E17: Sans objet : ATUn
A18: BAVENCIO® 20 mg/ml, solution à diluer pour perfusion | D18: NXXXX00 | E18: Sans objet : ATUn
A19: BRAFTOVI® 50 mg gélules | D19: NXXXX00 | E19: Sans objet : ATUn
A20: BRAFTOVI® 75 mg gélules | D20: NXXXX00 | E20: Sans objet : ATUn
A21: BRINEURA® 150 mg solution pour perfusion | D21: NXXXX00 | E21: Sans objet : ATUn
A22: BRINEURA® 150 mg solution pour perfusion | D22: CCERL01 | E22: Traitement des patients atteints de lipofuscinoses ceroïdes neuronales de type 2 (CLN2), également appelée déficit en tripeptidyl peptidase-1 (TPP1).
A23: CABLIVI® 10 mg, poudre et solvant pour solution injectable | D23: CCAPL01 | E23: traitement des patients adultes présentant un épisode depurpura thrombotique thrombocytopénique acquis (PTTa) conjointement à un traitement par échanges plasmatiques et par immunosuppresseurs.
... A163: Avastin® 25mg/ml, solution à diluer pour perfusion | D163: CBEVA01 | E163: En association au paclitaxel, est indiqué en première ligne de traitement du cancer du sein métastatique HER2 négatif et récepteurs hormonaux (RH) négatifs (triple négatif).
A164: ARZERRA

Sheet Feuil9
A1: Statut médicament | B1: (Tous)
A4: Code indication | B4: Indications
A5: CACID01 | B5: Traitement de la cholangite biliaire primitive (également appelée "cirrhose biliaire primitive") en association avec l’acide ursodésoxycholique (AUDC) chez les adultes présentant une réponse insuffisante à l’AUDC
A6: CACID02 | B6: Traitement de la cholangite biliaire primitive (également appelée "cirrhose biliaire primitive") en monothérapie chez les adultes qui ne tolèrent pas l’AUDC et ne pouvant être inclus dans un essai clinique.
A7: CALPE01 | B7: L’alpelisib en association au fulvestrant est indiqué chez les hommes et les femmes ménopausées atteints d’un cancer du sein localement avancé ou métastatique, - avec récepteurs hormonaux positifs (RH+), - HER2-négatifs, - présentant une mutation PI
B8: L’alpelisib en association au fulvestrant est indiqué chez les hommes et les femmes ménopausées atteints d’un cancer du sein localement avancé ou métastatique, avec récepteurs hormonaux positifs (RH+), HER2-négatifs, présentant une mutation PIK3CA, en éch
A9: CAPAL01 | B9: Le traitement des hommes atteints d’un cancer de la prostate résistant à la castration non métastatique (nmCRPC) avec un temps de doublement du taux de PSA inférieur ou égal à 10 mois
B10: Traitement des hommes atteints d’un cancer de la prostate résistant à la castration non métastatique (nmCRPC) avec un temps de doublement du taux de PSA inférieur ou égal à 10 mois
A11: CATAL01 | B11: Le traitement de la dystrophie musculaire de Duchenne, résultant d’une mutation non-sens dans le gène de la dystrophine, chez les patients ambulatoires âgés de 5 ans ou plus (voir rubrique 5.1). L’efficacité n’a pas été démontrée chez les patients non a
A12: CATEZ01 | B12: En association au nab-paclitaxel ou au paclitaxel est indiqué dans le traitement des patients adultes atteints d’un cancer du sein triple négatif localement avancé non résécable ou métastatique, dont les tumeurs présentent une expression de PD-L1 ≥ 1 % et
A13: CBENZ01 | B13: Traitement adjuvant dans la prise en charge au long cours de l’hyperglycinémie sans cétose
A14: CBENZ02 | B14: Traitement adjuvant dans la prise en charge au long cours des désordres du cycle de l’urée, incluant un déficit en carbamylphosphate synthétase, ornithine transcarbamylase, argininosuccinate synthétase, arginosuccinate lyase, arginase, ou n-acetylglutamat
A15: CBEVA01 | B15: En association au paclitaxel, est indiqué en première ligne de traitement du cancer du sein métastatique HER2 négatif et récepteurs hormonaux (RH) négatifs (triple négatif).
A16: CBIOT01 | B16: Traitement de la sclérose en plaques : formes progressives primaires ou secondaires (sans poussée depuis au moins 1 an)
A17: CBRIG01 | B17: Traitement des patients adultes non éligibles à un essai clinique en cours, atteints d’un cancer broncho-pulmonaire non à petites cellules (CBNPC) avancé présentant un réarrangement du gène ALK (ALK positif), prétraités par crizotinib et pour lesquels il
A18: CBRIG01 | B18: Traitement des patients adultes non éligibles à un essai clinique en cours, atteints d’un cancer broncho-pulmonaire non à petites cellules (CBNPC) avancé présentant un réarrangement du gène ALK (ALK positif), prétraités par crizotinib et pour lesquels il
A19: CBULE01 | B19: Traitement de l’infection chronique par le virus de l’hépatite delta (VHD) chez les patients adultes présentant une cirrhose hépatique compensée, ou une fibrose hépatique sévère (fibrose de grade 3 évaluée par biopsie hépatique ou Fibroscan). Le traitemen
A20: CBULE02 | B20: Traitement de l’infection chronique par le virus de l’hépatite delta (VHD) chez les patients adultes présentant une fibrose hépatique de grade 2 (évaluée par biopsie hépatique ou Fibroscan) avec cytolyse hépatique persistante (ALT ≥ 2N depuis au moins 6 m
A21: CBURO01 | B21: Traitement des enfants à partir d’un an et des adolescents en période de croissance présentant un rachitisme hypophosphatémique lié à l’X avec lésions osseuses, et ayant une concentration sérique de phosphate < 1,3 mmol/L, mauvais répondeurs, non réponde
A22: CCAPL01 | B22: traitement des patients adultes présentant un épisode de purpura thrombotique thrombocytopénique acquis (PTTa) conjointement à un traitement par échanges plasmatiques et par immunosuppresseurs.
A23: CCAPT01 | B23: Chez les enfants de plus de 6 ans sans troubles de la déglutition ayant une insuffisance cardiaque qui ne serait pas consécutive à une chirurgie cardiaque
B24: Chez les enfants de plus de 6 ans sans troubles de la déglutition ayant une insuffisance cardiaque qui ne serait pas consécutive à une chirurgie cardiaque
A25: CCAPT02 | B25: Chez l’enfant de moins de 6 ans, ainsi que chez l’enfant et l’adulte ayant des difficultés de déglutition dans l'hypertension artérielle
A26: CCAPT03 | B26: Chez l’enfant de moins de 6 ans, ainsi que chez l’enfant et l’adulte ayant des difficultés de déglutition dans l'insuffisance cardiaque
A27: CCAPT04 | B27: Chez l’enfant de moins de 6 ans, ainsi que chez l’enfant et l’adulte ayant des difficultés de déglutition dans : - la néphropathie diabétique du diabète de type I : Le traitement de la néphropathie diabétique macroprotéinurique du diabète insulinodépendan
A28: CCAPT05 | B28: Chez l’adulte ayant des difficultés de déglutition dans l'nfarctus du myocarde : - Traitement de courte durée (4 semaines) : Dans les 24 premières heures chez les patients en situation hémodynamique stable.
A29: CCAPT06 | B29: Chez l’adulte ayant des difficultés de déglutition dans l'infarctus du myocarde : - Prévention à long terme de l'insuffisance cardiaque symptomatique : chez les patients cliniquement stables avec dysfonction ventriculaire gauche asymptomatique (fraction d
A30: CCARD01 | B30: Cardioplégie et protection myocardique au cours des interventions de chirurgie cardiaque dont le temps de clampage est supérieur à 90 min.
A31: CCEMI01 | B31: en monothérapie pour le traitement de patients adultes non éligibles à un essai clinique, considérés en impasse thérapeutique, atteints d’un carcinome épidermoïde cutané localement avancé ou métastatique, non éligible à la chirurgie et non éligible à la r
A32: CCERL01 | B32: Traitement des patients atteints de lipofuscinoses ceroïdes neuronales de type 2 (CLN2), également appelée déficit en tripeptidyl peptidase-1 (TPP1).
A33: CCHLO01 | B33: Le traitement des lymphomes T cutanés de type mycosis fongoïde (LTC-MF), sans association d’un autre médicament topique.
B34: Traitement des lymphomes T cutanés de type mycosis fongoïde (LTC-MF), sans association d’un autre médicament topique.
A35: CCICL01 | B35: Traitement de la kératoconjonctivite sèche chez des patients adultes présentant une kératite sévère ou des lésions de la cornée qui ne s’améliorent pas malgré l’instillation de substituts lacrymaux
A36: CCLOB01 | B36: En association avec un autre traitement antiépileptique : traitement des épilepsies partielles simples ou complexes et des épilepsies généralisées résistantes, lorsque les autres associations appropriées se sont révélées inefficaces ou mal tolérées. Chez
A37: CDEXA01 | B37: Chez l’adulte, en association, dans le traitement de certaines formes de myélome multiple
A38: CDEXA02 | B38: Chez l’adulte, en association, dans le traitement de certaines formes de lymphome
A39: CDEXA03 | B39: Chez l’adulte, en association, dans le traitement de certaines formes de leucémie aiguë lymphoblastique.
A40: CDINU01 | B40: Traitement des patients âgés de 12 mois et plus atteints d’un neuroblastome de haut risque, qui ont précédemment reçu une chimiothérapie d’induction et ont présenté au moins une réponse partielle, suivie d’un traitement myéloablatif et d’une greffe de cel
A41: CDINU02 | B41: Traitement des patients âgés de 12 mois et plus atteints ainsi que chez les patients ayant un neuroblastome récidivant ou réfractaire, avec ou sans maladie résiduelle. Avant d’initier le traitement d’un neuroblastome récidivant, il convient de stabiliser
A42: CDURV01 | B42: Traitement des patients adultes atteints d’un cancer du poumon non à petites cellules, stade III non opérable, ECOG 0 ou 1, dont la maladie n’a pas progressé après chimio-radiothérapie concomitante à base de platine.
A43: CDURV02 | B43: Les patients adultes atteints d’un cancer du poumon non à petites cellules, localement avancé non résécable, ECOG >1, dont la maladie n’a pas progressé après chimio-radiothérapie à base de platine
A44: CDURV03 | B44: Les patients adultes atteints d’un cancer du poumon non à petites cellules, localement avancé non résécable, ECOG 0 ou 1, dont la maladie n’a pas progressé après chimio-radiothérapie séquentielle à base de platine.
A45: CENAS01 | B45: Traitement en monothérapie, des patients adultes avec un risque cytogénétique intermédiaire ou défavorable, atteints d’une leucémie aiguë myéloïde (LAM) en rechute hématologique ou réfractaire, présentant une mutation de l’enzyme isocitrate déshydrogénase
A46: CESKE01 | B46: Traitement des épisodes dépressifs caractérisés résistants n'ayant pas répondu à au moins deux antidépresseurs différents de deux classes différentes au cours de l'épisode dépressif actuel modéré à sévère, chez des adultes présentant une contre-indication
... A48: CGILT01 | B48: Gilteritinib est indiqué chez les adultes présentant une leucémie aiguë myéloïde (LAM) en rechute à partir de la 3ème ligne, ou à partir de la 2ème ligne chez les adultes non éligibles à une chimiothérapie intensive de rattrapage, ou réfractaire, porteurs
B49: Traitement des adultes présentant une leucémie aiguë myéloïde (LAM) en rechute à partir de la 3ème ligne, ou à partir de la 2ème ligne chez les adultes non éligibles à une chimiothérapie intensive de rattrapage, ou réfractaire, porteurs d’une mutation du
A50: CIDEB01 | B50: Le traitement des patients âgés de plus de 14 ans présentant un épisode de neuropathie optique héréditaire de Leber (NOHL) dont les symptômes ont débuté depuis plus de un an
A51: CIDEB02 | B51: Le traitement des patients âgés de plus de 14 ans présentant un épisode de neuropathie optique héréditaire de Leber (NOHL) dont les symptômes ont débuté depuis moins de 1 an.
A52: CINOL01 | B52: Chez l'adulte et chez l'enfant à partir de 28 jours, traitement de la maladie du greffon contre l’hôte aiguë cortico-résistante ou cortico dépendante de grade II à IV après transplantation de cellules souches hématopoïétiques allogéniques
A53: CINOT01 | B53: Chez les patients adultes atteints d’amylose à transthyrétine héréditaire (ATTRh), dans le traitement des polyneuropathies de stade I, après échec des autres traitements disponibles.
B54: Traitement des polyneuropathies de stade I, après échec des autres traitements disponibles, chez les patients adultes atteints d’amylose à transthyrétine héréditaire (ATTRh).
A55: CINOT02 | B55: Chez les patients adultes atteints d’amylose à transthyrétine héréditaire (ATTRh), dans le traitement des polyneuropathies de stade II.
B56: Traitement des polyneuropathies de stade II, chez les patients adultes atteints d’amylose à transthyrétine héréditaire (ATTRh).
A57: CISAT01 | B57: En association avec le pomalidomide et la dexaméthasone pour le traitement des patients adultes atteints de myélome multiple en rechute et réfractaire, qui ont reçu au moins deux traitements antérieurs incluant le lénalidomide et un inhibiteur du protéaso
A58: CLANA01 | B58: Prévention de routine des crises récurrentes d’angio-œdème héréditaire (AOH) de type III, chez les patients âgés de 12 ans et plus, lorsque les traitements indiqués dans la prévention de routine sont inefficaces ou indisponibles
A59: CLANA02 | B59: Prévention de routine des crises récurrentes d’angio-œdème héréditaire (AOH) de type I et II chez les patients âgés de 12 ans et plus, lorsque les traitements indiqués dans la prévention de routine sont inefficaces ou indisponibles
A60: CLARO01 | B60: en monothérapie dans le traitement des patients adultes et pédiatriques à partir d’un mois, atteints de tumeurs solides localement avancées ou métastatiques présentant une fusion NTRK (Neurotrophic Tyrosine Receptor Kinase ), réfractaires aux traitements
B61: En monothérapie dans le traitement des patients adultes et pédiatriques à partir d’un mois, atteints de tumeurs solides localement avancées ou métastatiques présentant une fusion NTRK (Neurotrophic Tyrosine Receptor Kinase), réfractaires aux traitements s
A62: CLORL01 | B62: Lorviqua est indiqué en monothérapie dans le traitement des patients adultes atteints d’un cancer bronchique non à petites cellules (CBNPC) métastatique avec réarrangement du gène anaplastic lymphoma kinase (ALK-positif), non éligible à un essai clinique
A63: CMERC01 | B63: Chez les adultes et les enfants âgés de plus de 2 ans dans le traitement des dépôts cornéens de cystine dans la cystinose
A64: CMETR01 | B64: Myalepta est indiqué en complément d’un régime alimentaire comme traitement substitutif pour traiter les complications associées à un déficit en leptine chez les patients atteints de lipodystrophie (LD) avec une LD généralisée congénitale (syndrome de B
B65: En complément d’un régime alimentaire comme traitement substitutif pour traiter les complications associées à un déficit en leptine chez les patients atteints de lipodystrophie généralisée congénitale (syndrome de Berardinelli Seip ) ou acquise (syndrome
A66: CMETR02 | B66: Myalepta est indiqué en complément d’un régime alimentaire comme traitement substitutif pour traiter les complications associées à un déficit en leptine chez les patients atteints de lipodystrophie (LD) avec une LD partielle familiale ou acquise (syndr
B67: En complément d’un régime alimentaire comme traitement substitutif pour traiter les complications associées à un déficit en leptine chez les patients atteints de lipodystrophie partielle familiale ou acquise (syndrome de Barraquer Simons ) confirmée chez
A68: CMIDO01 | B68: En monothérapie dans le traitement de la mastocytose systémique agressive (MSA), de la mastocytose systémique associée à une hémopathie maligne non mastocytaire (MS-AHM) ou de la leucémie à mastocytes (LM) chez les patients adultes pour lesquels il n’exis
A69: CMIDO02 | B69: En association avec une chimiothérapie standard d’induction et de consolidation suivie d’un traitement d’entretien par midostaurine en monothérapie chez les patients adultes qui présentent une leucémie aigüe myéloïde (LAM) nouvellement diagnostiquée avec
A70: CMOGA01 | B70: Mycosis fongoïde stades III-IV non transformé y compris le syndrome de Sézary chez l’adulte après échec d’au moins un traitement systémique antérieur
A71: CMOGA02 | B71: Mycosis fongoïde stades IB-II non transformé réfractaire chez l’adulte après échec d’au moins 2 traitements systémiques antérieurs
A72: COLAP01 | B72: En monothérapie pour le traitement d’entretien des patientes adultes atteintes d’un cancer avancé épithélial de haut grade de l'ovaire, des trompes de Fallope ou péritonéal primitif (stades FIGO III et IV) nouvellement diagnostiqué avec mutation des gènes
B73: en monothérapie pour le traitement d'entretien des patientes adultes atteintes d'un cancer avancé épithélial de haut grade de l'ovaire, des trompes de Fallope ou péritonéal primitif (stades FIGO III et IV) nouvellement diagnostiqué avec mutation des gènes
A74: COSIL01 | B74: Traitement du syndrome de Cushing endogène chez l’adulte
A75: CPANO01 | B75: En association avec le bortézomib et la dexaméthasone, est indiqué pour le traitement des patients adultes atteints de myélome multiple en rechute et/ou réfractaire ayant déjà reçu au moins deux lignes de traitement antérieur incluant du bortézomib et un
A76: CPATI01 | B76: Chez les patients adultes atteints d’amylose à transthyrétine héréditaire (ATTRh), dans le traitement des polyneuropathies de stade I, après échec des autres traitements disponibles, dans le traitement des polyneuropathies de stade II.
A77: CPOLA01 | B77: En association à la bendamustine et au rituximab, est indiqué dans le traitement des patients adultes présentant un lymphome diffus à grandes cellules B (LDGCB) en rechute ou réfractaire (R/R), non candidats à une greffe de cellules souches hématopoïétiqu
A78: CRIFA01 | B78: La prévention des rechutes d'épisodes avérés d'encéphalopathie hépatique chez les patients adultes en cas de mauvaise tolérance ou d’efficacité insuffisante d’un traitement par disaccharides (lactulose/lactilol).
A79: CSOLR01 | B79: Traitement symptomatique de la somnolence diurne excessive chez les patients adultes souffrant de narcolepsie (avec ou sans cataplexie) en cas d'échec, intolérance ou contre-indication aux alternatives thérapeutiques actuellement disponibles
A80: CSULT01 | B80: Traitement du Syndrome de Pointes-Ondes Continues du sommeil (POCS) après échec des thérapeutiques disponibles et appropriées
A81: CTALA01 | B81: Le traitement du cancer du sein localement avancé ou métastatique chez les patients adultes porteurs de mutation germinale et/ou somatique du gène de prédisposition au cancer du sein (BRCA), et négatifs pour le récepteur du facteur de croissance épiderm
B82: Traitement du cancer du sein localement avancé ou métastatique chez les patients adultes porteurs de mutation germinale et/ou somatique du gène de prédisposition au cancer du sein (BRCA), et négatifs pour le récepteur du facteur de croissance épidermique
A83: CTHIO01 | B83: Calciphylaxie chez l’adulte.
A84: CTHYM01 | B84: Traitement des formes modérées à sévères d’aplasie médullaire acquise, en association avec la ciclosporine chez l’adulte et l’enfant de plus de 2 ans ne pouvant pas recevoir de greffe de moelle osseuse
A85: CTISA01 | B85: Traitement du lymphome B à grandes cellules chez les patients adultes en rechute ou réfractaire après au moins deux lignes de traitement.
A86: CTISA02 | B86: Traitement de la leucémie aigüe lymphoblastique (LAL) à cellules B chez les patients âgés de moins de 25 ans au moment où l’indication est posée, en rechute ou réfractaire après au moins deux lignes de traitement.
A87: CTIZA01 | B87: Traitement de la spasticité due à des troubles neurologiques d’origine cérébrale ou médullaire en cas d’échec ou d’intolérance aux autres traitements antispastiques
A88: CTROG01 | B88: En association avec d’autres médicaments antirétroviraux, dans le traitement de l’infection par le VIH-1 multirésistant chez les adultes pour lesquels il n’est autrement pas possible d’établir un schéma de traitement antirétroviral suppressif
A89: CURSO01 | B89: Maladies hépato-biliaires associées à la mucoviscidose chez les enfants âgés de 1 mois à 6 ans ou chez les patients qui ne peuvent pas avaler de formes solides d'acide ursodesoxycholique
A90: CVOLA01 | B90: En complément d’un régime diététique chez les patients adultes atteints du Syndrome d’Hyperchylomicronémie Familial (SHCF) génétiquement confirmé et à risque élevé de pancréatite, chez qui la réponse au régime alimentaire et au traitement visant à réduire
A91: CVONI01 | B91: Chez les adultes (âgés de 18 ans et plus) atteints de la maladie de von Willebrand (MvW), lorsque le traitement par la desmopressine (DDAVP) seule est inefficace ou contre-indiqué pour le traitement des hémorragies.
A92: CVORE01 | B92: Traitement des patients d’âge ≤ 20 ans, présentant une perte visuelle due à une dystrophie rétinienne héréditaire résultant de mutations bi-alléliques confirmées du gène RPE65 et possédant suffisamment de cellules rétiniennes viables et ayant été diagn
B93: Traitement des patients d’âge ≤ 20 ans, présentant une perte visuelle due à une dystrophie rétinienne héréditaire résultant de mutations bi-alléliques confirmées du gène RPE65 et possédant suffisamment de cellules rétiniennes viables et ayant été diagnos
A94: CVORE02 | B94: Traitement des patients pédiatriques et adultes, présentant une perte visuelle due à une dystrophie rétinienne héréditaire résultant de mutations bi-alléliques confirmées du gène RPE65 et possédant suffisamment de cellules rétiniennes viables et autres qu
A95: CVORE03 | B95: Traitement des patients d’âge > 20 ans, présentant une perte visuelle due à une dystrophie rétinienne héréditaire résultant de mutations bi-alléliques confirmées du gène RPE65 et possédant suffisamment de cellules rétiniennes viables et ayant été diagnost
A96: NXXXX00 | B96: Accès grave de paludisme à Plasmodium falciparum
B97: après échec des autres antidépresseurs
B98: association à l'encorafenib est indiqué dans le traitement de patients adultes atteints de mélanome non résécable ou métastatique porteur d'une mutation BRAF V600
B99: Ataxie de Friedreich
B100: Calcinose sous cutanée chez l'adulte
B101: Calciphylaxie en cas d’inégibilité à l’ATU de cohorte chez l'adulte
B102: Cancer de l'ovaire,En traitement de 2ème ligne
B103: Cancer du sein
...

Sheet listes complètes
K1: légende
A2: 1 | B2: 2 | C2: Nom, dosage, forme pharmaceutique de la spécialité | D2: Dénomination Commune Internationale | E2: Statut médicament | F2: Indications | G2: Code indication | H2: code UCD (13 chiffres) | I2: UPA | K2: ATU CHU Limoges
A3: =CONCATENATE(C3,E3,F3) -> 68Ga-NODAGA-exendin 50 µg, poudreNominativeSans objet : ATUn | B3: 68Ga-NODAGA-exendin 50 µg, poudreNominativeSans objet : ATUn | C3: 68Ga-NODAGA-exendin 50 µg, poudre | D3: 68Ga-NODAGA-exendin | E3: Nominative | F3: Sans objet : ATUn | G3: NXXXX00 | H3: 3400894559146
A4: =CONCATENATE(C4,E4,F4) -> ABT-414 100 mg, poudre pour solution à diluer pour perfusionNominativeSans objet : ATUn | B4: ABT-414 100 mg, poudre pour solution à diluer pour perfusionNominativeSans objet : ATUn | C4: ABT-414 100 mg, poudre pour solution à diluer pour perfusion | D4: dépatuxizumab mafodotine | E4: Nominative | F4: Sans objet : ATUn | G4: NXXXX00 | H4: 3400894429692
A5: =CONCATENATE(C5,E5,F5) -> ABT-414 20 mg, poudre pour solution à diluer pour perfusionNominativeSans objet : ATUn | B5: ABT-414 20 mg, poudre pour solution à diluer pour perfusionNominativeSans objet : ATUn | C5: ABT-414 20 mg, poudre pour solution à diluer pour perfusion | D5: dépatuxizumab mafodotine | E5: Nominative | F5: Sans objet : ATUn | G5: NXXXX00 | H5: 3400894307075
A6: =CONCATENATE(C6,E6,F6) -> ABT-494 30 mg, compriméNominativeSans objet : ATUn | B6: ABT-494 30 mg, compriméNominativeSans objet : ATUn | C6: ABT-494 30 mg, comprimé | D6: upadacitinib | E6: Nominative | F6: Sans objet : ATUn | G6: NXXXX00 | H6: 3400894521464
A7: =CONCATENATE(C7,E7,F7) -> ABT-494 15 mg, comprimé NominativeSans objet : ATUn | B7: ABT-494 15 mg, comprimé NominativeSans objet : ATUn | C7: ABT-494 15 mg, comprimé | D7: upadacitinib | E7: Nominative | F7: Sans objet : ATUn | G7: NXXXX00 | H7: 3400894559207
A8: =CONCATENATE(C8,E8,F8) -> ACALABRUTINIB 100 mgNominativeSans objet : ATUn | B8: ACALABRUTINIB 100 mgNominativeSans objet : ATUn | C8: ACALABRUTINIB 100 mg | D8: acalabrutinib | E8: Nominative | F8: Sans objet : ATUn | G8: NXXXX00 | H8: 3400894512998
A9: =CONCATENATE(C9,E9,F9) -> ADAGEN 250 U/ml, solution injectableNominativeSans objet : ATUn | B9: ADAGEN 250 U/ml, solution injectableNominativeSans objet : ATUn | C9: ADAGEN 250 U/ml, solution injectable | D9: pégademase bovine | E9: Nominative | F9: Sans objet : ATUn | G9: NXXXX00 | H9: 3400892394930
A10: =CONCATENATE(C10,E10,F10) -> ADV7103, granulés à libération prolongéeNominativeSans objet : ATUn | B10: ADV7103, granulés à libération prolongéeNominativeSans objet : ATUn | C10: ADV7103, granulés à libération prolongée | D10: citrate de potassium et bicarbonate de potassium | E10: Nominative | F10: Sans objet : ATUn | G10: NXXXX00 | H10: 3400894399506
A11: =CONCATENATE(C11,E11,F11) -> ADV7103, granulés à libération prolongéeNominativeSans objet : ATUn | B11: ADV7103, granulés à libération prolongéeNominativeSans objet : ATUn | C11: ADV7103, granulés à libération prolongée | D11: citrate de potassium et bicarbonate de potassium | E11: Nominative | F11: Sans objet : ATUn | G11: NXXXX00 | H11: 3400894399674
A12: =CONCATENATE(C12,E12,F12) -> ALINIA 100 mg/5 ml, suspension buvableNominativeSans objet : ATUn | B12: ALINIA 100 mg/5 ml, suspension buvableNominativeSans objet : ATUn | C12: ALINIA 100 mg/5 ml, suspension buvable | D12: nitazoxanide | E12: Nominative | F12: Sans objet : ATUn | G12: NXXXX00 | H12: 3400892992426
A13: =CONCATENATE(C13,E13,F13) -> ALINIA 500 mg, compriméNominativeSans objet : ATUn | B13: ALINIA 500 mg, compriméNominativeSans objet : ATUn | C13: ALINIA 500 mg, comprimé | D13: nitazoxanide | E13: Nominative | F13: Sans objet : ATUn | G13: NXXXX00 | H13: 3400892944630
A14: =CONCATENATE(C14,E14,F14) -> ALPELISIB 200 mg, comprimé pelliculéNominativeCancer du sein | B14: ALPELISIB 200 mg, comprimé pelliculéNominativeCancer du sein | C14: ALPELISIB 200 mg, comprimé pelliculé | D14: alpelisib | E14: Nominative | F14: Cancer du sein | G14: NXXXX00 | H14: 3400894428114
A15: =CONCATENATE(C15,E15,F15) -> ALPELISIB 200 mg, comprimé pelliculéNominativeSyndrome PROS/ CLOVES | B15: ALPELISIB 200 mg, comprimé pelliculéNominativeSyndrome PROS/ CLOVES | C15: ALPELISIB 200 mg, comprimé pelliculé | D15: alpelisib | E15: Nominative | F15: Syndrome PROS/ CLOVES | G15: NXXXX00 | H15: 3400894428114
... A20: =CONCATENATE(C20,E20,F20) -> ALPHAGAN P 0,15 %, collyre en solutionNominativeSans objet : ATUn | B20: ALPHAGAN P 0,15 %, collyre en solutionNominativeSans objet : ATUn | C20: ALPHAGAN P 0,15 %, collyre en solution | D20: brimonidine (tartrate) | E20: Nominative | F20: Sans objet : ATUn | G20: NXXXX00 | H20: 3400893133217
A21: =CONCATENATE(C21,E21,F21) -> ALUNBRIG 180 mg comprimés pelliculésdispositif pèrenneTraitement des patients adultes non éligibles à un essai clinique en cours, atteints d’un cancer broncho-pulmonaire non à petites cellules (CBNPC) avancé présentant un réarrangement du gène ALK (ALK positif), prétraités par crizotinib et pour lesquels il n’existe pas d’alternative thérapeutique appropriée disponible | B21: ALUNBRIG 180 mg comprimés pelliculésdispositif pèrenneTraitement des patients adultes non éligibles à un essai clinique en cours, atteints d’un cancer broncho-pulmonaire non à petites cellules (CBNPC) avancé présentant un réarrangement du gène ALK (ALK positif), prétraités par crizotinib et pour lesquels il n’existe pas d’alternative thérapeutique appropriée disponible | C21: ALUNBRIG 180 mg comprimés pelliculés | D21: brigatinib | E21: dispositif pèrenne | F21: Traitement des patients adultes non éligibles à un essai clinique en cours, atteints d’un cancer broncho-pulmonaire non à petites cellules (CBNPC) avancé présentant un réarrangement du gène ALK (ALK positif), prétraités par crizotinib et pour lesquels il n’existe pas d’alternative thérapeutique appropriée disponible | G21: CBRIG01
A22: =CONCATENATE(C22,E22,F22) -> ALUNBRIG 180 mg comprimés pelliculésdispositif pèrenneSans objet : ATUn | B22: ALUNBRIG 180 mg comprimés pelliculésdispositif pèrenneSans objet : ATUn | C22: ALUNBRIG 180 mg comprimés pelliculés | D22: brigatinib | E22: dispositif pèrenne | F22: Sans objet : ATUn | G22: NXXXX00
A23: =CONCATENATE(C23,E23,F23) -> ALUNBRIG 30 mg comprimés pelliculésdispositif pèrenneTraitement des patients adultes non éligibles à un essai clinique en cours, atteints d’un cancer broncho-pulmonaire non à petites cellules (CBNPC) avancé présentant un réarrangement du gène ALK (ALK positif), prétraités par crizotinib et pour lesquels il n’existe pas d’alternative thérapeutique appropriée disponible | B23: ALUNBRIG 30 mg comprimés pelliculésdispositif pèrenneTraitement des patients adultes non éligibles à un essai clinique en cours, atteints d’un cancer broncho-pulmonaire non à petites cellules (CBNPC) avancé présentant un réarrangement du gène ALK (ALK positif), prétraités par crizotinib et pour lesquels il n’existe pas d’alternative thérapeutique appropriée disponible | C23: ALUNBRIG 30 mg comprimés pelliculés | D23: brigatinib | E23: dispositif pèrenne | F23: Traitement des patients adultes non éligibles à un essai clinique en cours, atteints d’un cancer broncho-pulmonaire non à petites cellules (CBNPC) avancé présentant un réarrangement du gène ALK (ALK positif), prétraités par crizotinib et pour lesquels il n’existe pas d’alternative thérapeutique appropriée disponible | G23: CBRIG01
A24: =CONCATENATE(C24,E24,F24) -> ALUNBRIG 30 mg comprimés pelliculésdispositif pèrenneSans objet : ATUn | B24: ALUNBRIG 30 mg comprimés pelliculésdispositif pèrenneSans objet : ATUn | C24: ALUNBRIG 30 mg comprimés pelliculés | D24: brigatinib | E24: dispositif pèrenne | F24: Sans objet : ATUn | G24: NXXXX00
A25: =CONCATENATE(C25,E25,F25) -> ALUNBRIG 90 mg comprimés pelliculésdispositif pèrenneTraitement des patients adultes non éligibles à un essai clinique en cours, atteints d’un cancer broncho-pulmonaire non à petites cellules (CBNPC) avancé présentant un réarrangement du gène ALK (ALK positif), prétraités par crizotinib et pour lesquels il n’existe pas d’alternative thérapeutique appropriée disponible | B25: ALUNBRIG 90 mg comprimés pelliculésdispositif pèrenneTraitement des patients adultes non éligibles à un essai clinique en cours, atteints d’un cancer broncho-pulmonaire non à petites cellules (CBNPC) avancé présentant un réarrangement du gène ALK (ALK positif), prétraités par crizotinib et pour lesquels il n’existe pas d’alternative thérapeutique appropriée disponible | C25: ALUNBRIG 90 mg comprimés pelliculés | D25: brigatinib | E25: dispositif pèrenne | F25: Traitement des patients adultes non éligibles à un essai clinique en cours, atteints d’un cancer broncho-pulmonaire non à petites cellules (CBNPC) avancé présentant un réarrangement du gène ALK (ALK positif), prétraités par crizotinib et pour lesquels il n’existe pas d’alternative thérapeutique appropriée disponible | G25: CBRIG01
A26: =CONCATENATE(C26,E26,F26) -> ALUNBRIG 90 mg comprimés pelliculésdispositif pèrenneSans objet : ATUn | B26: ALUNBRIG 90 mg comprimés pelliculésdispositif pèrenneSans objet : ATUn | C26: ALUNBRIG 90 mg comprimés pelliculés | D26: brigatinib | E26: dispositif pèrenne | F26: Sans objet : ATUn | G26: NXXXX00
A27: =CONCATENATE(C27,E27,F27) -> AMANTADINE HYDROCHLORIDE 50 mg/5 ml, siropNominativeTraumatisme crânien sévère chez un patient en état végétatif ou en état de conscience minimale chez les patients qui ne peuvent pas avaler les capsules de Mantadix | B27: AMANTADINE HYDROCHLORIDE 50 mg/5 ml, siropNominativeTraumatisme crânien sévère chez un patient en état végétatif ou en état de conscience minimale chez les patients qui ne peuvent pas avaler les capsules de Mantadix | C27: AMANTADINE HYDROCHLORIDE 50 mg/5 ml, sirop | D27: amantadine | E27: Nominative | F27: Traumatisme crânien sévère chez un patient en état végétatif ou en état de conscience minimale chez les patients qui ne peuvent pas avaler les capsules de Mantadix | G27: NXXXX00 | H27: 3400894199991
A28: =CONCATENATE(C28,E28,F28) -> AMANTADINE HYDROCHLORIDE 50 mg/5 ml, siropNominativeMaladie de Parkinson, syndrome parkinsonien Chez les patients qui ne peuvent pas avaler les capsules de Mantadix | B28: AMANTADINE HYDROCHLORIDE 50 mg/5 ml, siropNominativeMaladie de Parkinson, syndrome parkinsonien Chez les patients qui ne peuvent pas avaler les capsules de Mantadix | C28: AMANTADINE HYDROCHLORIDE 50 mg/5 ml, sirop | D28: amantadine | E28: Nominative | F28: Maladie de Parkinson, syndrome parkinsonien Chez les patients qui ne peuvent pas avaler les capsules de Mantadix | G28: NXXXX00 | H28: 3400894199991
A29: =CONCATENATE(C29,E29,F29) -> AMGLIDIA 0.6 mg/ml, solution buvableNominativeSans objet : ATUn | B29: AMGLIDIA 0.6 mg/ml, solution buvableNominativeSans objet : ATUn | C29: AMGLIDIA 0.6 mg/ml, solution buvable | D29: glibenclamide | E29: Nominative | F29: Sans objet : ATUn | G29: NXXXX00 | H29: 3400894463412
A30: =CONCATENATE(C30,E30,F30) -> AMGLIDIA 0.6 mg/ml, solution buvableNominativeSans objet : ATUn | B30: AMGLIDIA 0.6 mg/ml, solution buvableNominativeSans objet : ATUn | C30: AMGLIDIA 0.6 mg/ml, solution buvable | D30: glibenclamide | E30: Nominative | F30: Sans objet : ATUn | G30: NXXXX00 | H30: 3400894463580
A31: =CONCATENATE(C31,E31,F31) -> AMGLIDIA 6 mg/ml, solution buvableNominativeSans objet : ATUn | B31: AMGLIDIA 6 mg/ml, solution buvableNominativeSans objet : ATUn | C31: AMGLIDIA 6 mg/ml, solution buvable | D31: glibenclamide | E31: Nominative | F31: Sans objet : ATUn | G31: NXXXX00 | H31: 3400894463641
A32: =CONCATENATE(C32,E32,F32) -> AMGLIDIA 6 mg/ml, solution buvableNominativeSans objet : ATUn | B32: AMGLIDIA 6 mg/ml, solution buvableNominativeSans objet : ATUn | C32: AMGLIDIA 6 mg/ml, solution buvable | D32: glibenclamide | E32: Nominative | F32: Sans objet : ATUn | G32: NXXXX00 | H32: 3400894463702
A33: =CONCATENATE(C33,E33,F33) -> AMMONUL 10%/10%, poudre et solvant pour solution injectableNominativeComa hyperammoniémique suite à un traitement par asparaginase (hyperammoniémie secondaire) | B33: AMMONUL 10%/10%, poudre et solvant pour solution injectableNominativeComa hyperammoniémique suite à un traitement par asparaginase (hyperammoniémie secondaire) | C33: AMMONUL 10%/10%, poudre et solvant pour solution injectable | D33: benzoate de sodium et phénylacétate de sodium | E33: Nominative | F33: Coma hyperammoniémique suite à un traitement par asparaginase (hyperammoniémie secondaire) | G33: NXXXX00 | H33: 3400893170236
A34: =CONCATENATE(C34,E34,F34) -> AMMONUL 10%/10%, poudre et solvant pour solution injectableNominativeComa hyperammoniémique lié à un déficit du cycle de l’urée (hyperammoniémie primaire) | B34: AMMONUL 10%/10%, poudre et solvant pour solution injectableNominativeComa hyperammoniémique lié à un déficit du cycle de l’urée (hyperammoniémie primaire) | C34: AMMONUL 10%/10%, poudre et solvant pour solution injectable | D34: benzoate de sodium et phénylacétate de sodium | E34: Nominative | F34: Coma hyperammoniémique lié à un déficit du cycle de l’urée (hyperammoniémie primaire) | G34: NXXXX00 | H34: 3400893170236
A35: =CONCATENATE(C35,E35,F35) -> ANTAXONE 50 mg/10 ml, solution buvableNominativeSans objet : ATUn | B35: ANTAXONE 50 mg/10 ml, solution buvableNominativeSans objet : ATUn | C35: ANTAXONE 50 mg/10 ml, solution buvable | D35: naltrexone (chlorhydrate) | E35: Nominative | F35: Sans objet : ATUn | G35: NXXXX00 | H35: 3400893000052
A36: =CONCATENATE(C36,E36,F36) -> ANTICHOLIUM 2 mg/5 ml, solution injectableNominativeSans objet : ATUn | B36: ANTICHOLIUM 2 mg/5 ml, solution injectableNominativeSans objet : ATUn | C36: ANTICHOLIUM 2 mg/5 ml, solution injectable | D36: physostigmine (salicylate) | E36: Nominative | F36: Sans objet : ATUn | G36: NXXXX00 | H36: 3400892438108
A37: =CONCATENATE(C37,E37,F37) -> ANTIDIPHTHERIA SERUM BUL BIO, solution injectableNominativeSans objet : ATUn | B37: ANTIDIPHTHERIA SERUM BUL BIO, solution injectableNominativeSans objet : ATUn | C37: ANTIDIPHTHERIA SERUM BUL BIO, solution injectable | D37: immunoglobuline équine antidiphtérique | E37: Nominative | F37: Sans objet : ATUn | G37: NXXXX00 | H37: 3400894555124
A38: =CONCATENATE(C38,E38,F38) -> ANTIVIPMYN TRI, solution injectableNominativeSans objet : ATUn | B38: ANTIVIPMYN TRI, solution injectableNominativeSans objet : ATUn | C38: ANTIVIPMYN TRI, solution injectable | D38: Immunoglobulines équines | E38: Nominative | F38: Sans objet : ATUn | G38: NXXXX00 | H38: 3400893189627
... A41: =CONCATENATE(C41,E41,F41) -> ARIKAYCE 70 mg/ml, suspension pour inhalation par nébuliseurNominativePatient adulte avec infection pulmonaire à mycobactéries non tuberculeuses (MNT),Et échec ou réponse insuffisante à 1 ou plusieurs lignes de multithérapie antibiotique ciblée selon l’antibiogramme de la bactérie,Et pas de possibilité de poursuivre un traitement par amikacine par voie injectable : effets systémiques mal tolérés ou durée prolongée non envisageable,Et après avis favorable (l’avis doit être transmis avec la demande d’ATU pour l’initiation du traitement) de : Centre National de Référence (CNR) des Mycobactéries et de la Résistance des Mycobactéries aux Antituberculeux - CHU Pitié Salpêtrière (réunion de concertation pluridisciplinaire mycobactéries non tuberculeuses RCP MNT) ou Pneumologue référent mycobactéries non tuberculeuses – cf. CHU Amiens (RCP MNT), Et absence d’antécédents d’hypersensibilité aux aminosides, à l’amikacine ou à l’un des excipients du produit, Absence de myasthénie | B41: ARIKAYCE 70 mg/ml, suspension pour inhalation par nébuliseurNominativePatient adulte avec infection pulmonaire à mycobactéries non tuberculeuses (MNT),Et échec ou réponse insuffisante à 1 ou plusieurs lignes de multithérapie antibiotique ciblée selon l’antibiogramme de la bactérie,Et pas de possibilité de poursuivre un traitement par amikacine par voie injectable : effets systémiques mal tolérés ou durée prolongée non envisageable,Et après avis favorable (l’avis doit être transmis avec la demande d’ATU pour l’initiation du traitement) de : Centre National de Référence (CNR) des Mycobactéries et de la Résistance des Mycobactéries aux Antituberculeux - CHU Pitié Salpêtrière (réunion de concertation pluridisciplinaire mycobactéries non tuberculeuses RCP MNT) ou Pneumologue référent mycobactéries non tuberculeuses – cf. CHU Amiens (RCP MNT), Et absence d’antécédents d’hypersensibilité aux aminosides, à l’amikacine ou à l’un des excipients du produit, Absence de myasthénie | C41: ARIKAYCE 70 mg/ml, suspension pour inhalation par nébuliseur | D41: amikacine liposomale | E41: Nominative | F41: Patient adulte avec infection pulmonaire à mycobactéries non tuberculeuses (MNT),Et échec ou réponse insuffisante à 1 ou plusieurs lignes de multithérapie antibiotique ciblée selon l’antibiogramme de la bactérie,Et pas de possibilité de poursuivre un traitement par amikacine par voie injectable : effets systémiques mal tolérés ou durée prolongée non envisageable,Et après avis favorable (l’avis doit être transmis avec la demande d’ATU pour l’initiation du traitement) de : Centre National de Référence (CNR) des Mycobactéries et de la Résistance des Mycobactéries aux Antituberculeux - CHU Pitié Salpêtrière (réunion de concertation pluridisciplinaire mycobactéries non tuberculeuses RCP MNT) ou Pneumologue référent mycobactéries non tuberculeuses – cf. CHU Amiens (RCP MNT), Et absence d’antécédents d’hypersensibilité aux aminosides, à l’amikacine ou à l’un des excipients du produit, Absence de myasthénie | G41: NXXXX00 | H41: 3400893999950
A42: =CONCATENATE(C42,E42,F42) -> ARZERRA 100 mg, solution pour perfusionNominativeleucémie lymphoïde chronique (LLC), en association avec le chlorambucil ou la bendamustine chez des patients qui n’ont pas reçu de traitement préalable et inéligibles à un traitement à base de fludarabine. | B42: ARZERRA 100 mg, solution pour perfusionNominativeleucémie lymphoïde chronique (LLC), en association avec le chlorambucil ou la bendamustine chez des patients qui n’ont pas reçu de traitement préalable et inéligibles à un traitement à base de fludarabine. | C42: ARZERRA 100 mg, solution pour perfusion | D42: ofatumumab | E42: Nominative | F42: leucémie lymphoïde chronique (LLC), en association avec le chlorambucil ou la bendamustine chez des patients qui n’ont pas reçu de traitement préalable et inéligibles à un traitement à base de fludarabine. | G42: NXXXX00 | H42: 3400894044437 | I42: oui
A43: =CONCATENATE(C43,E43,F43) -> ARZERRA 1000 mg, solution pour perfusionNominativeleucémie lymphoïde chronique (LLC), en association avec le chlorambucil ou la bendamustine chez des patients qui n’ont pas reçu de traitement préalable et inéligibles à un traitement à base de fludarabine. | B43: ARZERRA 1000 mg, solution pour perfusionNominativeleucémie lymphoïde chronique (LLC), en association avec le chlorambucil ou la bendamustine chez des patients qui n’ont pas reçu de traitement préalable et inéligibles à un traitement à base de fludarabine. | C43: ARZERRA 1000 mg, solution pour perfusion | D43: ofatumumab | E43: Nominative | F43: leucémie lymphoïde chronique (LLC), en association avec le chlorambucil ou la bendamustine chez des patients qui n’ont pas reçu de traitement préalable et inéligibles à un traitement à base de fludarabine. | G43: NXXXX00 | H43: 3400894044376 | I43: oui
A44: =CONCATENATE(C44,E44,F44) -> ASCIMINIB 40 mg, compriméNominativeSans objet : ATUn | B44: ASCIMINIB 40 mg, compriméNominativeSans objet : ATUn | C44: ASCIMINIB 40 mg, comprimé | D44: asciminib | E44: Nominative | F44: Sans objet : ATUn | G44: NXXXX00 | H44: 3400894513070
A45: =CONCATENATE(C45,E45,F45) -> ASUNERCEPT 200 mg/10 ml, solution à diluer pour perfusionNominativeSans objet : ATUn | B45: ASUNERCEPT 200 mg/10 ml, solution à diluer pour perfusionNominativeSans objet : ATUn | C45: ASUNERCEPT 200 mg/10 ml, solution à diluer pour perfusion | D45: asunercept | E45: Nominative | F45: Sans objet : ATUn | G45: NXXXX00 | H45: 3400894528449
A46: =CONCATENATE(C46,E46,F46) -> Atezolizumab 840 mg, solution à diluer pour perfusionCohorteEn association au nab-paclitaxel ou au paclitaxel est indiqué dans le traitement des patients adultes atteints d’un cancer du sein triple négatif localement avancé non résécable ou métastatique, dont les tumeurs présentent une expression de PD-L1 ≥ 1 % et n’ayant pas précédemment reçu de chimiothérapie en situation métastatique | B46: Atezolizumab 840 mg, solution à diluer pour perfusionCohorteEn association au nab-paclitaxel ou au paclitaxel est indiqué dans le traitement des patients adultes atteints d’un cancer du sein triple négatif localement avancé non résécable ou métastatique, dont les tumeurs présentent une expression de PD-L1 ≥ 1 % et n’ayant pas précédemment reçu de chimiothérapie en situation métastatique | C46: Atezolizumab 840 mg, solution à diluer pour perfusion | D46: atezolizumab | E46: Cohorte | F46: En association au nab-paclitaxel ou au paclitaxel est indiqué dans le traitement des patients adultes atteints d’un cancer du sein triple négatif localement avancé non résécable ou métastatique, dont les tumeurs présentent une expression de PD-L1 ≥ 1 % et n’ayant pas précédemment reçu de chimiothérapie en situation métastatique | G46: CATEZ01 | H46: 3400894514312 | I46: oui
A47: =CONCATENATE(C47,E47,F47) -> ATGAM 50 mg/ml, solution injectableCohorteTraitement des formes modérées à sévères d’aplasie médullaire acquise, en association avec la ciclosporine chez l’adulte et l’enfant de plus de 2 ans ne pouvant pas recevoir de greffe de moelle osseuse | B47: ATGAM 50 mg/ml, solution injectableCohorteTraitement des formes modérées à sévères d’aplasie médullaire acquise, en association avec la ciclosporine chez l’adulte et l’enfant de plus de 2 ans ne pouvant pas recevoir de greffe de moelle osseuse | C47: ATGAM 50 mg/ml, solution injectable | D47: immunoglobuline équine anti-thymocytes humains | E47: Cohorte | F47: Traitement des formes modérées à sévères d’aplasie médullaire acquise, en association avec la ciclosporine chez l’adulte et l’enfant de plus de 2 ans ne pouvant pas recevoir de greffe de moelle osseuse | G47: CTHYM01 | H47: 3400893815649
A48: =CONCATENATE(C48,E48,F48) -> ATGAM 50 mg/ml, solution injectableNominativeSans objet : ATUn | B48: ATGAM 50 mg/ml, solution injectableNominativeSans objet : ATUn | C48: ATGAM 50 mg/ml, solution injectable | D48: immunoglobuline équine anti-thymocytes humains | E48: Nominative | F48: Sans objet : ATUn | G48: NXXXX00 | H48: 3400893815649
A49: =CONCATENATE(C49,E49,F49) -> ATTENTIN 5 mg, compriméNominativeHypersomnie idiopathique,En cas de réponse insuffisante ou échec à l’un des médicaments suivants bénéficiant d’une AMM, par exemple : modafinil , Après avis favorable d’un cardiologue sur l’initiation ou la poursuite du traitement(Modiodal), méthylphénidate (Ritaline), pitolisant (Wakix), oxybate de sodium (Xyrem),Après avis favorable d’un cardiologue sur l’initiation ou la poursuite du traitement | B49: ATTENTIN 5 mg, compriméNominativeHypersomnie idiopathique,En cas de réponse insuffisante ou échec à l’un des médicaments suivants bénéficiant d’une AMM, par exemple : modafinil , Après avis favorable d’un cardiologue sur l’initiation ou la poursuite du traitement(Modiodal), méthylphénidate (Ritaline), pitolisant (Wakix), oxybate de sodium (Xyrem),Après avis favorable d’un cardiologue sur l’initiation ou la poursuite du traitement | C49: ATTENTIN 5 mg, comprimé | D49: dexamphétamine | E49: Nominative | F49: Hypersomnie idiopathique,En cas de réponse insuffisante ou échec à l’un des médicaments suivants bénéficiant d’une AMM, par exemple : modafinil , Après avis favorable d’un cardiologue sur l’initiation ou la poursuite du traitement(Modiodal), méthylphénidate (Ritaline), pitolisant (Wakix), oxybate de sodium (Xyrem),Après avis favorable d’un cardiologue sur l’initiation ou la poursuite du traitement | G49: NXXXX00 | H49: 3400894224938
A50: =CONCATENATE(C50,E50,F50) -> ATTENTIN 5 mg, compriméNominativeNarcolepsie avec ou sans cataplexie, En cas de réponse insuffisante ou échec à l’un des médicaments suivants bénéficiant d’une AMM, par exemple : modafinil (Modiodal), méthylphénidate (Ritaline), pitolisant (Wakix), oxybate de sodium (Xyrem), Après avis favorable d’un cardiologue sur l’initiation ou la poursuite du traitement | B50: ATTENTIN 5 mg, compriméNominativeNarcolepsie avec ou sans cataplexie, En cas de réponse insuffisante ou échec à l’un des médicaments suivants bénéficiant d’une AMM, par exemple : modafinil (Modiodal), méthylphénidate (Ritaline), pitolisant (Wakix), oxybate de sodium (Xyrem), Après avis favorable d’un cardiologue sur l’initiation ou la poursuite du traitement | C50: ATTENTIN 5 mg, comprimé | D50: dexamphétamine | E50: Nominative | F50: Narcolepsie avec ou sans cataplexie, En cas de réponse insuffisante ou échec à l’un des médicaments suivants bénéficiant d’une AMM, par exemple : modafinil (Modiodal), méthylphénidate (Ritaline), pitolisant (Wakix), oxybate de sodium (Xyrem), Après avis favorable d’un cardiologue sur l’initiation ou la poursuite du traitement | G50: NXXXX00 | H50: 3400894224938
A51: =CONCATENATE(C51,E51,F51) -> AVAPRITINIB 100 mg, compriméNominativeSans objet : ATUn | B51: AVAPRITINIB 100 mg, compriméNominativeSans objet : ATUn | C51: AVAPRITINIB 100 mg, comprimé | D51: avapritinib | E51: Nominative | F51: Sans objet : ATUn | G51: NXXXX00 | H51: 340089444632 3
A52: =CONCATENATE(C52,E52,F52) -> Avastin® 25mg/ml, solution à diluer pour perfusiondispositif pèrenneEn association au paclitaxel, est indiqué en première ligne de traitement du cancer du sein métastatique HER2 négatif et récepteurs hormonaux (RH) négatifs (triple négatif). | B52: Avastin® 25mg/ml, solution à diluer pour perfusiondispositif pèrenneEn association au paclitaxel, est indiqué en première ligne de traitement du cancer du sein métastatique HER2 négatif et récepteurs hormonaux (RH) négatifs (triple négatif). | C52: Avastin® 25mg/ml, solution à diluer pour perfusion | D52: bevacizumab | E52: dispositif pèrenne | F52: En association au paclitaxel, est indiqué en première ligne de traitement du cancer du sein métastatique HER2 négatif et récepteurs hormonaux (RH) négatifs (triple négatif). | G52: CBEVA01 | H52: 3400892611105
A53: =CONCATENATE(C53,E53,F53) -> Avastin® 25mg/ml, solution à diluer pour perfusiondispositif pèrenneEn association au paclitaxel, est indiqué en première ligne de traitement du cancer du sein métastatique HER2 négatif et récepteurs hormonaux (RH) négatifs (triple négatif). | B53: Avastin® 25mg/ml, solution à diluer pour perfusiondispositif pèrenneEn association au paclitaxel, est indiqué en première ligne de traitement du cancer du sein métastatique HER2 négatif et récepteurs hormonaux (RH) négatifs (triple négatif). | C53: Avastin® 25mg/ml, solution à diluer pour perfusion | D53: bevacizumab | E53: dispositif pèrenne | F53: En association au paclitaxel, est indiqué en première ligne de traitement du cancer du sein métastatique HER2 négatif et récepteurs hormonaux (RH) négatifs (triple négatif). | G53: CBEVA01 | H53: 3400892611105
A54: =CONCATENATE(C54,E54,F54) -> AVIGAN 200 mg, compriméNominativeSans objet : ATUn | B54: AVIGAN 200 mg, compriméNominativeSans objet : ATUn | C54: AVIGAN 200 mg, comprimé | D54: favipiravir | E54: Nominative | F54: Sans objet : ATUn | G54: NXXXX00 | H54: 3400894511298
A55: =CONCATENATE(C55,E55,F55) -> BAT, solution à diluer pour perfusionNominativeSans objet : ATUn | B55: BAT, solution à diluer pour perfusionNominativeSans objet : ATUn | C55: BAT, solution à diluer pour perfusion | D55: Botulism Antitoxin Heptavalent (A, B, C, D, E, F, G)-(Equine) | E55: Nominative | F55: Sans objet : ATUn | G55: NXXXX00 | H55: 3400894363255
A56: =CONCATENATE(C56,E56,F56) -> BAVENCIO® 20 mg/ml, solution à diluer pour perfusiondispositif pèrennepatients adultes atteints d’un carcinome à cellules de Merkel (CCM) métastatique, dont la maladie a progressé après avoir reçu au moins une ligne de chimiothérapie antérieure | B56: BAVENCIO® 20 mg/ml, solution à diluer pour perfusiondispositif pèrennepatients adultes atteints d’un carcinome à cellules de Merkel (CCM) métastatique, dont la maladie a progressé après avoir reçu au moins une ligne de chimiothérapie antérieure | C56: BAVENCIO® 20 mg/ml, solution à diluer pour perfusion | D56: avelumab | E56: dispositif pèrenne | F56: patients adultes atteints d’un carcinome à cellules de Merkel (CCM) métastatique, dont la maladie a progressé après avoir reçu au moins une ligne de chimiothérapie antérieure | G56: NXXXX00 | I56: oui
A57: =CONCATENATE(C57,E57,F57) -> BELANTAMAB MAFODOTIN 20 mg/ml, solution à diluer pour perfusionNominativeSans objet : ATUn | B57: BELANTAMAB MAFODOTIN 20 mg/ml, solution à diluer pour perfusionNominativeSans objet : ATUn | C57: BELANTAMAB MAFODOTIN 20 mg/ml, solution à diluer pour perfusion | D57: belantamab mafodotin | E57: Nominative | F57: Sans objet : ATUn | G57: NXXXX00 | H57: 3400894536482
A58: =CONCATENATE(C58,E58,F58) -> BELEODAQ 500 mg , poudre pour solution injectableNominativeSans objet : ATUn | B58: BELEODAQ 500 mg , poudre pour solution injectableNominativeSans objet : ATUn | C58: BELEODAQ 500 mg , poudre pour solution injectable | D58: belinostat | E58: Nominative | F58: Sans objet : ATUn | G58: NXXXX00 | H58: 3400894456148
A59: =CONCATENATE(C59,E59,F59) -> BELLAFIT 0,5 mg/ml, solution buvable en gouttesNominativeSans objet : ATUn | B59: BELLAFIT 0,5 mg/ml, solution buvable en gouttesNominativeSans objet : ATUn | C59: BELLAFIT 0,5 mg/ml, solution buvable en gouttes | D59: atropine (sulfate) | E59: Nominative | F59: Sans objet : ATUn | G59: NXXXX00 | H59: 3400893555323
A60: =CONCATENATE(C60,E60,F60) -> BIOBAG, sachetNominativeSans objet : ATUn | B60: BIOBAG, sachetNominativeSans objet : ATUn | C60: BIOBAG, sachet | D60: larves de Lucilia sericata | E60: Nominative | F60: Sans objet : ATUn | G60: NXXXX00 | H60: 3400893842553
A61: =CONCATENATE(C61,E61,F61) -> BIOBAG, sachetNominativeSans objet : ATUn | B61: BIOBAG, sachetNominativeSans objet : ATUn | C61: BIOBAG, sachet | D61: larves de Lucilia sericata | E61: Nominative | F61: Sans objet : ATUn | G61: NXXXX00 | H61: 3400893842614
A62: =CONCATENATE(C62,E62,F62) -> BIOBAG, sachetNominativeSans objet : ATUn | B62: BIOBAG, sachetNominativeSans objet : ATUn | C62: BIOBAG, sachet | D62: larves de Lucilia sericata | E62: Nominative | F62: Sans objet : ATUn | G62: NXXXX00 | H62: 3400893842782
A63: =CONCATENATE(C63,E63,F63) -> BIOBAG, sachetNominativeSans objet : ATUn | B63: BIOBAG, sachetNominativeSans objet : ATUn | C63: BIOBAG, sachet | D63: larves de Lucilia sericata | E63: Nominative | F63: Sans objet : ATUn | G63: NXXXX00 | H63: 3400893842843
A64: =CONCATENATE(C64,E64,F64) -> BISANTRENE 250 mg, poudre pour solution pour perfusionNominativeSans objet : ATUn | B64: BISANTRENE 250 mg, poudre pour solution pour perfusionNominativeSans objet : ATUn | C64: BISANTRENE 250 mg, poudre pour solution pour perfusion | D64: bisantrene | E64: Nominative | F64: Sans objet : ATUn | G64: NXXXX00 | H64: 3400894548379
A65: =CONCATENATE(C65,E65,F65) -> BOTHROFAV 10 ml, solution pour perfusionNominativeSans objet : ATUn | B65: BOTHROFAV 10 ml, solution pour perfusionNominativeSans objet : ATUn | C65: BOTHROFAV 10 ml, solution pour perfusion | D65: fragments F(ab')2 d'immunoglobulines T antivenin d’origine équine | E65: Nominative | F65: Sans objet : ATUn | G65: NXXXX00 | H65: 3400891853667
A66: =CONCATENATE(C66,E66,F66) -> BRAFTOVI® 50 mg gélulesdispositif pèrennemélanome non résécable ou métastatique, chez les adultes porteurs d’une mutation BRAF V600 | B66: BRAFTOVI® 50 mg gélulesdispositif pèrennemélanome non résécable ou métastatique, chez les adultes porteurs d’une mutation BRAF V600 | C66: BRAFTOVI® 50 mg gélules | D66: encorafenib | E66: dispositif pèrenne | F66: mélanome non résécable ou métastatique, chez les adultes porteurs d’une mutation BRAF V600 | G66: NXXXX00
A67: =CONCATENATE(C67,E67,F67) -> BRAFTOVI® 75 mg gélulesdispositif pèrennemélanome non résécable ou métastatique, chez les adultes porteurs d’une mutation BRAF V600 | B67: BRAFTOVI® 75 mg gélulesdispositif pèrennemélanome non résécable ou métastatique, chez les adultes porteurs d’une mutation BRAF V600 | C67: BRAFTOVI® 75 mg gélules | D67: encorafenib | E67: dispositif pèrenne | F67: mélanome non résécable ou métastatique, chez les adultes porteurs d’une mutation BRAF V600 | G67: NXXXX00
A68: =CONCATENATE(C68,E68,F68) -> BRETSCHNEIDER 1000ml, solution de cardioplégieCohorteCardioplégie et protection myocardique au cours des interventions de chirurgie cardiaque dont le temps de clampage est supérieur à 90 min. | B68: BRETSCHNEIDER 1000ml, solution de cardioplégieCohorteCardioplégie et protection myocardique au cours des interventions de chirurgie cardiaque dont le temps de clampage est supérieur à 90 min. | C68: BRETSCHNEIDER 1000ml, solution de cardioplégie | D68: solution de cardioplégie | E68: Cohorte | F68: Cardioplégie et protection myocardique au cours des interventions de chirurgie cardiaque dont le temps de clampage est supérieur à 90 min. | G68: CCARD01 | H68: 3400894096306
A69: =CONCATENATE(C69,E69,F69) -> BRETSCHNEIDER 1000ml, solution de cardioplégieNominativeSans objet : ATUn | B69: BRETSCHNEIDER 1000ml, solution de cardioplégieNominativeSans objet : ATUn | C69: BRETSCHNEIDER 1000ml, solution de cardioplégie | D69: solution de cardioplégie | E69: Nominative | F69: Sans objet : ATUn | G69: NXXXX00 | H69: 3400894096306
A70: =CONCATENATE(C70,E70,F70) -> BRETSCHNEIDER 2000ml, solution de cardioplégieCohorteCardioplégie et protection myocardique au cours des interventions de chirurgie cardiaque dont le temps de clampage est supérieur à 90 min. | B70: BRETSCHNEIDER 2000ml, solution de cardioplégieCohorteCardioplégie et protection myocardique au cours des interventions de chirurgie cardiaque dont le temps de clampage est supérieur à 90 min. | C70: BRETSCHNEIDER 2000ml, solution de cardioplégie | D70: solution de cardioplégie | E70: Cohorte | F70: Cardioplégie et protection myocardique au cours des interventions de chirurgie cardiaque dont le temps de clampage est supérieur à 90 min. | G70: CCARD01 | H70: 3400894096474
A71: =CONCATENATE(C71,E71,F71) -> BRETSCHNEIDER 2000ml, solution de cardioplégieNominativeSans objet : ATUn | B71: BRETSCHNEIDER 2000ml, solution de cardioplégieNominativeSans objet : ATUn | C71: BRETSCHNEIDER 2000ml, solution de cardioplégie | D71: solution de cardioplégie | E71: Nominative | F71: Sans objet : ATUn | G71: NXXXX00 | H71: 3400894096474
A72: =CONCATENATE(C72,E72,F72) -> BRETSCHNEIDER 5000ml, solution de cardioplégieCohorteCardioplégie et protection myocardique au cours des interventions de chirurgie cardiaque dont le temps de clampage est supérieur à 90 min. | B72: BRETSCHNEIDER 5000ml, solution de cardioplégieCohorteCardioplégie et protection myocardique au cours des interventions de chirurgie cardiaque dont le temps de clampage est supérieur à 90 min. | C72: BRETSCHNEIDER 5000ml, solution de cardioplégie | D72: solution de cardioplégie | E72: Cohorte | F72: Cardioplégie et protection myocardique au cours des interventions de chirurgie cardiaque dont le temps de clampage est supérieur à 90 min. | G72: CCARD01 | H72: 3400894096535
A73: =CONCATENATE(C73,E73,F73) -> BRETSCHNEIDER 5000ml, solution de cardioplégieNominativeSans objet : ATUn | B73: BRETSCHNEIDER 5000ml, solution de cardioplégieNominativeSans objet : ATUn | C73: BRETSCHNEIDER 5000ml, solution de cardioplégie | D73: solution de cardioplégie | E73: Nominative | F73: Sans objet : ATUn | G73: NXXXX00 | H73: 3400894096535
A74: =CONCATENATE(C74,E74,F74) -> BRETSCHNEIDER 500ml, solution de cardioplégieCohorteCardioplégie et protection myocardique au cours des interventions de chirurgie cardiaque dont le temps de clampage est supérieur à 90 min. | B74: BRETSCHNEIDER 500ml, solution de cardioplégieCohorteCardioplégie et protection myocardique au cours des interventions de chirurgie cardiaque dont le temps de clampage est supérieur à 90 min. | C74: BRETSCHNEIDER 500ml, solution de cardioplégie | D74: solution de cardioplégie | E74: Cohorte | F74: Cardioplégie et protection myocardique au cours des interventions de chirurgie cardiaque dont le temps de clampage est supérieur à 90 min. | G74: CCARD01 | H74: 3400894096245
A75: =CONCATENATE(C75,E75,F75) -> BRETSCHNEIDER 500ml, solution de cardioplégieNominativeSans objet : ATUn | B75: BRETSCHNEIDER 500ml, solution de cardioplégieNominativeSans objet : ATUn | C75: BRETSCHNEIDER 500ml, solution de cardioplégie | D75: solution de cardioplégie | E75: Nominative | F75: Sans objet : ATUn | G75: NXXXX00 | H75: 3400894096245
A76: =CONCATENATE(C76,E76,F76) -> BREVIMYTAL HIKMA 500 mg, poudre pour solution injectableNominativeSans objet : ATUn | B76: BREVIMYTAL HIKMA 500 mg, poudre pour solution injectableNominativeSans objet : ATUn | C76: BREVIMYTAL HIKMA 500 mg, poudre pour solution injectable | D76: méthohexital sodique | E76: Nominative | F76: Sans objet : ATUn | G76: NXXXX00 | H76: 3400893000281
A77: =CONCATENATE(C77,E77,F77) -> BRIGATINIB 180 mg, comprimé pelliculéNominativeSans objet : ATUn | B77: BRIGATINIB 180 mg, comprimé pelliculéNominativeSans objet : ATUn | C77: BRIGATINIB 180 mg, comprimé pelliculé | D77: brigatinib | E77: Nominative | F77: Sans objet : ATUn | G77: NXXXX00 | H77: 3400894383246
A78: =CONCATENATE(C78,E78,F78) -> BRIGATINIB 180 mg, comprimé pelliculéCohorteTraitement des patients adultes non éligibles à un essai clinique en cours, atteints d’un cancer broncho-pulmonaire non à petites cellules (CBNPC) avancé présentant un réarrangement du gène ALK (ALK positif), prétraités par crizotinib et pour lesquels il n’existe pas d’alternative thérapeutique appropriée disponible | B78: BRIGATINIB 180 mg, comprimé pelliculéCohorteTraitement des patients adultes non éligibles à un essai clinique en cours, atteints d’un cancer broncho-pulmonaire non à petites cellules (CBNPC) avancé présentant un réarrangement du gène ALK (ALK positif), prétraités par crizotinib et pour lesquels il n’existe pas d’alternative thérapeutique appropriée disponible | C78: BRIGATINIB 180 mg, comprimé pelliculé | D78: brigatinib | E78: Cohorte | F78: Traitement des patients adultes non éligibles à un essai clinique en cours, atteints d’un cancer broncho-pulmonaire non à petites cellules (CBNPC) avancé présentant un réarrangement du gène ALK (ALK positif), prétraités par crizotinib et pour lesquels il n’existe pas d’alternative thérapeutique appropriée disponible | G78: CBRIG01 | H78: 3400894383246
A79: =CONCATENATE(C79,E79,F79) -> BRIGATINIB 30 mg, compriméNominativeSans objet : ATUn | B79: BRIGATINIB 30 mg, compriméNominativeSans objet : ATUn | C79: BRIGATINIB 30 mg, comprimé | D79: brigatinib | E79: Nominative | F79: Sans objet : ATUn | G79: NXXXX00 | H79: 3400894383307
... A82: =CONCATENATE(C82,E82,F82) -> BRIGATINIB 90 mg, comprimé pelliculéCohorteTraitement des patients adultes non éligibles à un essai clinique en cours, atteints d’un cancer broncho-pulmonaire non à petites cellules (CBNPC) avancé présentant un réarrangement du gène ALK (ALK positif), prétraités par crizotinib et pour lesquels il n’existe pas d’alternative thérapeutique appropriée disponible | B82: BRIGATINIB 90 mg, comprimé pelliculéCohorteTraitement des patients adultes non éligibles à un essai clinique en cours, atteints d’un cancer broncho-pulmonaire non à petites cellules (CBNPC) avancé présentant un réarrangement du gène ALK (ALK positif), prétraités par crizotinib et pour lesquels il n’existe pas d’alternative thérapeutique appropriée disponible | C82: BRIGATINIB 90 mg, comprimé pelliculé | D82: brigatinib | E82: Cohorte | F82: Traitement des patients adultes non éligibles à un essai clinique en cours, atteints d’un cancer broncho-pulmonaire non à petites cellules (CBNPC) avancé présentant un réarrangement du gène ALK (ALK positif), prétraités par crizotinib et pour lesquels il n’existe pas d’alternative thérapeutique appropriée disponible | G82: CBRIG01 | H82: 3400894428404
A83: =CONCATENATE(C83,E83,F83) -> BRINEURA® 150 mg solution pour perfusiondispositif pèrenneSans objet : ATUn | B83: BRINEURA® 150 mg solution pour perfusiondispositif pèrenneSans objet : ATUn | C83: BRINEURA® 150 mg solution pour perfusion | D83: cerliponase alfa | E83: dispositif pèrenne | F83: Sans objet : ATUn | G83: NXXXX00
A84: =CONCATENATE(C84,E84,F84) -> BRINEURA® 150 mg solution pour perfusiondispositif pèrenneTraitement des patients atteints de lipofuscinoses ceroïdes neuronales de type 2 (CLN2), également appelée déficit en tripeptidyl peptidase-1 (TPP1). | B84: BRINEURA® 150 mg solution pour perfusiondispositif pèrenneTraitement des patients atteints de lipofuscinoses ceroïdes neuronales de type 2 (CLN2), également appelée déficit en tripeptidyl peptidase-1 (TPP1). | C84: BRINEURA® 150 mg solution pour perfusion | D84: cerliponase alfa | E84: dispositif pèrenne | F84: Traitement des patients atteints de lipofuscinoses ceroïdes neuronales de type 2 (CLN2), également appelée déficit en tripeptidyl peptidase-1 (TPP1). | G84: CCERL01
A85: =CONCATENATE(C85,E85,F85) -> BROLENE 0,10%, collyre en solutionNominativeEt en l’absence de déficit en G6PD | B85: BROLENE 0,10%, collyre en solutionNominativeEt en l’absence de déficit en G6PD | C85: BROLENE 0,10%, collyre en solution | D85: propamidine (iséthionate) | E85: Nominative | F85: Et en l’absence de déficit en G6PD | G85: NXXXX00 | H85: 3400892438276
A86: =CONCATENATE(C86,E86,F86) -> BULEVIRTIDE 2 mg, poudre pour solution injectableCohorteTraitement de l’infection chronique par le virus de l’hépatite delta (VHD) chez les patients adultes présentant une cirrhose hépatique compensée, ou une fibrose hépatique sévère (fibrose de grade 3 évaluée par biopsie hépatique ou Fibroscan). Le traitement ne doit être envisagé que chez les patients infectés par le VHD depuis au moins 6 mois, tel qu’évalué par un test positif pour l’ARN du VHD et/ou les anticorps anti-VHD | B86: BULEVIRTIDE 2 mg, poudre pour solution injectableCohorteTraitement de l’infection chronique par le virus de l’hépatite delta (VHD) chez les patients adultes présentant une cirrhose hépatique compensée, ou une fibrose hépatique sévère (fibrose de grade 3 évaluée par biopsie hépatique ou Fibroscan). Le traitement ne doit être envisagé que chez les patients infectés par le VHD depuis au moins 6 mois, tel qu’évalué par un test positif pour l’ARN du VHD et/ou les anticorps anti-VHD | C86: BULEVIRTIDE 2 mg, poudre pour solution injectable | D86: bulevirtide | E86: Cohorte | F86: Traitement de l’infection chronique par le virus de l’hépatite delta (VHD) chez les patients adultes présentant une cirrhose hépatique compensée, ou une fibrose hépatique sévère (fibrose de grade 3 évaluée par biopsie hépatique ou Fibroscan). Le traitement ne doit être envisagé que chez les patients infectés par le VHD depuis au moins 6 mois, tel qu’évalué par un test positif pour l’ARN du VHD et/ou les anticorps anti-VHD | G86: CBULE01 | H86: 3400894522706
A87: =CONCATENATE(C87,E87,F87) -> BULEVIRTIDE 2 mg, poudre pour solution injectableCohorteTraitement de l’infection chronique par le virus de l’hépatite delta (VHD) chez les patients adultes présentant une fibrose hépatique de grade 2 (évaluée par biopsie hépatique ou Fibroscan) avec cytolyse hépatique persistante (ALT ≥ 2N depuis au moins 6 mois). Le traitement ne doit être envisagé que chez les patients infectés par le VHD depuis au moins 6 mois, tel qu’évalué par un test positif pour l’ARN du VHD et/ou les anticorps anti-VHD | B87: BULEVIRTIDE 2 mg, poudre pour solution injectableCohorteTraitement de l’infection chronique par le virus de l’hépatite delta (VHD) chez les patients adultes présentant une fibrose hépatique de grade 2 (évaluée par biopsie hépatique ou Fibroscan) avec cytolyse hépatique persistante (ALT ≥ 2N depuis au moins 6 mois). Le traitement ne doit être envisagé que chez les patients infectés par le VHD depuis au moins 6 mois, tel qu’évalué par un test positif pour l’ARN du VHD et/ou les anticorps anti-VHD | C87: BULEVIRTIDE 2 mg, poudre pour solution injectable | D87: bulevirtide | E87: Cohorte | F87: Traitement de l’infection chronique par le virus de l’hépatite delta (VHD) chez les patients adultes présentant une fibrose hépatique de grade 2 (évaluée par biopsie hépatique ou Fibroscan) avec cytolyse hépatique persistante (ALT ≥ 2N depuis au moins 6 mois). Le traitement ne doit être envisagé que chez les patients infectés par le VHD depuis au moins 6 mois, tel qu’évalué par un test positif pour l’ARN du VHD et/ou les anticorps anti-VHD | G87: CBULE02 | H87: 3400894522706
A88: =CONCATENATE(C88,E88,F88) -> BULEVIRTIDE 5 mg, poudre pour solution injectableNominativeSans objet : ATUn | B88: BULEVIRTIDE 5 mg, poudre pour solution injectableNominativeSans objet : ATUn | C88: BULEVIRTIDE 5 mg, poudre pour solution injectable | D88: bulevirtide | E88: Nominative | F88: Sans objet : ATUn | G88: NXXXX00 | H88: 3400894555292
A89: =CONCATENATE(C89,E89,F89) -> BUROSUMAB 10 mg, solution injectableNominativeSans objet : ATUn | B89: BUROSUMAB 10 mg, solution injectableNominativeSans objet : ATUn | C89: BUROSUMAB 10 mg, solution injectable | D89: burosumab | E89: Nominative | F89: Sans objet : ATUn | G89: NXXXX00 | H89: 3400894363835
A90: =CONCATENATE(C90,E90,F90) -> BUROSUMAB 30 mg, solution injectableNominativeSans objet : ATUn | B90: BUROSUMAB 30 mg, solution injectableNominativeSans objet : ATUn | C90: BUROSUMAB 30 mg, solution injectable | D90: burosumab | E90: Nominative | F90: Sans objet : ATUn | G90: NXXXX00 | H90: 3400894364085
A91: =CONCATENATE(C91,E91,F91) -> BYL719 200 mg, comprimé pelliculéNominativeSans objet : ATUn | B91: BYL719 200 mg, comprimé pelliculéNominativeSans objet : ATUn | C91: BYL719 200 mg, comprimé pelliculé | D91: BYL719 | E91: Nominative | F91: Sans objet : ATUn | G91: NXXXX00 | H91: 3400894170327
A92: =CONCATENATE(C92,E92,F92) -> BYL719 50 mg, comprimé pelliculéNominativeSans objet : ATUn | B92: BYL719 50 mg, comprimé pelliculéNominativeSans objet : ATUn | C92: BYL719 50 mg, comprimé pelliculé | D92: BYL719 | E92: Nominative | F92: Sans objet : ATUn | G92: NXXXX00 | H92: 3400894170495
A93: =CONCATENATE(C93,E93,F93) -> CABLIVI® 10 mg, poudre et solvant pour solution injectabledispositif pèrennetraitement des patients adultes présentant un épisode de purpura thrombotique thrombocytopénique acquis (PTTa) conjointement à un traitement par échanges plasmatiques et par immunosuppresseurs. | B93: CABLIVI® 10 mg, poudre et solvant pour solution injectabledispositif pèrennetraitement des patients adultes présentant un épisode de purpura thrombotique thrombocytopénique acquis (PTTa) conjointement à un traitement par échanges plasmatiques et par immunosuppresseurs. | C93: CABLIVI® 10 mg, poudre et solvant pour solution injectable | D93: caplacizumab | E93: dispositif pèrenne | F93: traitement des patients adultes présentant un épisode de purpura thrombotique thrombocytopénique acquis (PTTa) conjointement à un traitement par échanges plasmatiques et par immunosuppresseurs. | G93: CCAPL01 | H93: 3400894380573
A94: =CONCATENATE(C94,E94,F94) -> CABLIVI® 10 mg, poudre et solvant pour solution injectabledispositif pèrenneSans objet : ATUn | B94: CABLIVI® 10 mg, poudre et solvant pour solution injectabledispositif pèrenneSans objet : ATUn | C94: CABLIVI® 10 mg, poudre et solvant pour solution injectable | D94: caplacizumab | E94: dispositif pèrenne | F94: Sans objet : ATUn | G94: NXXXX00 | H94: 3400894380573
A95: =CONCATENATE(C95,E95,F95) -> CABLIVI® 10 mg, poudre et solvant pour solution injectableNominativeSans objet : ATUn | B95: CABLIVI® 10 mg, poudre et solvant pour solution injectableNominativeSans objet : ATUn | C95: CABLIVI® 10 mg, poudre et solvant pour solution injectable | D95: caplacizumab | E95: Nominative | F95: Sans objet : ATUn | G95: NXXXX00 | H95: 3400894380573
A96: =CONCATENATE(C96,E96,F96) -> CABOTEGRAVIR 30 mg, compriméNominativeSans objet : ATUn | B96: CABOTEGRAVIR 30 mg, compriméNominativeSans objet : ATUn | C96: CABOTEGRAVIR 30 mg, comprimé | D96: cabotegravir | E96: Nominative | F96: Sans objet : ATUn | G96: NXXXX00 | H96: 3400894316060
A97: =CONCATENATE(C97,E97,F97) -> CABOTEGRAVIR 400 mg/2 ml, suspension injectableNominativeSans objet : ATUn | B97: CABOTEGRAVIR 400 mg/2 ml, suspension injectableNominativeSans objet : ATUn | C97: CABOTEGRAVIR 400 mg/2 ml, suspension injectable | D97: cabotegravir | E97: Nominative | F97: Sans objet : ATUn | G97: NXXXX00 | H97: 3400894233572
A98: =CONCATENATE(C98,E98,F98) -> CAMPATH 30 mg/ml, solution à diluer pour perfusionNominativeTraitement de Leucémie pro-lymphocytaire T | B98: CAMPATH 30 mg/ml, solution à diluer pour perfusionNominativeTraitement de Leucémie pro-lymphocytaire T | C98: CAMPATH 30 mg/ml, solution à diluer pour perfusion | D98: alemtuzumab | E98: Nominative | F98: Traitement de Leucémie pro-lymphocytaire T | G98: NXXXX00 | H98: 3400893869529 | I98: oui
A99: =CONCATENATE(C99,E99,F99) -> CAMPATH 30 mg/ml, solution à diluer pour perfusionNominativeTraitement de la leucémie lymphoïde chronique à cellules B (LLC-B) pour laquelle une polychimiothérapie comportant de la fludarabine n’est pas appropriée | B99: CAMPATH 30 mg/ml, solution à diluer pour perfusionNominativeTraitement de la leucémie lymphoïde chronique à cellules B (LLC-B) pour laquelle une polychimiothérapie comportant de la fludarabine n’est pas appropriée | C99: CAMPATH 30 mg/ml, solution à diluer pour perfusion | D99: alemtuzumab | E99: Nominative | F99: Traitement de la leucémie lymphoïde chronique à cellules B (LLC-B) pour laquelle une polychimiothérapie comportant de la fludarabine n’est pas appropriée | G99: NXXXX00 | H99: 3400893869529 | I99: oui
A100: =CONCATENATE(C100,E100,F100) -> CAPASTAT 1 g, poudre pour solution injectable NominativeSans objet : ATUn | B100: CAPASTAT 1 g, poudre pour solution injectable NominativeSans objet : ATUn | C100: CAPASTAT 1 g, poudre pour solution injectable | D100: Capreomycine (sulfate) | E100: Nominative | F100: Sans objet : ATUn | G100: NXXXX00 | H100: 3400892899305
A101: =CONCATENATE(C101,E101,F101) -> CAPMATINIB 200 mg, compriméNominativeSans objet : ATUn | B101: CAPMATINIB 200 mg, compriméNominativeSans objet : ATUn | C101: CAPMATINIB 200 mg, comprimé | D101: capmatinib | E101: Nominative | F101: Sans objet : ATUn | G101: NXXXX00 | H101: 3400894512820
A102: =CONCATENATE(C102,E102,F102) -> CATAPRESS TTS 0,2 mg/24h, dispositif transdermiqueNominativeSans objet : ATUn | B102: CATAPRESS TTS 0,2 mg/24h, dispositif transdermiqueNominativeSans objet : ATUn | C102: CATAPRESS TTS 0,2 mg/24h, dispositif transdermique | D102: clonidine (chlorhydrate) | E102: Nominative | F102: Sans objet : ATUn | G102: NXXXX00 | H102: 3400892963099
A103: =CONCATENATE(C103,E103,F103) -> CEDIRANIB 15 mg, compriméNominativeSans objet : ATUn | B103: CEDIRANIB 15 mg, compriméNominativeSans objet : ATUn | C103: CEDIRANIB 15 mg, comprimé | D103: cediranib | E103: Nominative | F103: Sans objet : ATUn | G103: NXXXX00 | H103: 3400894448563
A104: =CONCATENATE(C104,E104,F104) -> CEENU 10 mg, géluleNominativeSans objet : ATUn | B104: CEENU 10 mg, géluleNominativeSans objet : ATUn | C104: CEENU 10 mg, gélule | D104: lomustine-CCNU | E104: Nominative | F104: Sans objet : ATUn | G104: NXXXX00 | H104: 34008 9428082 8
A105: =CONCATENATE(C105,E105,F105) -> CEFIDEROCOL 1 g , solution injectableNominativeSans objet : ATUn | B105: CEFIDEROCOL 1 g , solution injectableNominativeSans objet : ATUn | C105: CEFIDEROCOL 1 g , solution injectable | D105: cefiderocol | E105: Nominative | F105: Sans objet : ATUn | G105: NXXXX00 | H105: 3400894448624
A106: =CONCATENATE(C106,E106,F106) -> CER-001, solution pour perfusion, pas de dci, NominativeSans objet : ATUn | B106: CER-001, solution pour perfusion, pas de dci, NominativeSans objet : ATUn | C106: CER-001, solution pour perfusion, pas de dci, | D106: CER-001 | E106: Nominative | F106: Sans objet : ATUn | G106: NXXXX00 | H106: 3400894555353
A107: =CONCATENATE(C107,E107,F107) -> CERITINIB 50 mg, géluleNominativeSans objet : ATUn | B107: CERITINIB 50 mg, géluleNominativeSans objet : ATUn | C107: CERITINIB 50 mg, gélule | D107: ceritinib | E107: Nominative | F107: Sans objet : ATUn | G107: NXXXX00 | H107: 3400894487135
A108: =CONCATENATE(C108,E108,F108) -> CF301 10 mg/ml, solution injectableNominativeSans objet : ATUn | B108: CF301 10 mg/ml, solution injectableNominativeSans objet : ATUn | C108: CF301 10 mg/ml, solution injectable | D108: exebacase | E108: Nominative | F108: Sans objet : ATUn | G108: NXXXX00 | H108: 3400894448792
...

Sheet indications libellés par UCD
A1: Molécule | C1: Indication 1 | D1: Indication 2 | E1: Indication 3 | F1: Indication 4 | G1: Indication 5 | H1: Indication 6 | I1: Indication 7 | J1: Indication 8 | K1: Indication 9 | L1: Indication 10 | M1: Indication 11 | N1: Indication 12
A2: ALPELISIB 200 mg, comprimé pelliculé | C2: Cancer du sein | D2: Syndrome PROS/ CLOVES | E2: L’alpelisib en association au fulvestrant est indiqué chez les hommes et les femmes ménopausées atteints d’un cancer du sein localement avancé ou métastatique, avec récepteurs hormonaux positifs (RH+), HER2-négatifs, présentant une mutation PIK3CA, en échec d’au moins 2 lignes de traitements en situation métastatique incluant un anti-aromatase et un inhibiteur CDK4/6 sauf s'ils n'étaient pas éligibles à ce type de traitement, ne présentant pas de propagation viscérale symptomatique, ne présentant pas de cancer du sein inflammatoire.
A3: ALPELISIB 50 mg, comprimé pelliculé | C3: Cancer du sein | D3: Syndrome PROS/ CLOVES | E3: L’alpelisib en association au fulvestrant est indiqué chez les hommes et les femmes ménopausées atteints d’un cancer du sein localement avancé ou métastatique, avec récepteurs hormonaux positifs (RH+), HER2-négatifs, présentant une mutation PIK3CA, en échec d’au moins 2 lignes de traitements en situation métastatique incluant un anti-aromatase et un inhibiteur CDK4/6 sauf s'ils n'étaient pas éligibles à ce type de traitement, ne présentant pas de propagation viscérale symptomatique, ne présentant pas de cancer du sein inflammatoire.
A4: AMMONUL 10%/10%, poudre et solvant pour solution injectable | C4: Coma hyperammoniémique suite à un traitement par asparaginase (hyperammoniémie secondaire) | D4: Coma hyperammoniémique lié à un déficit du cycle de l’urée (hyperammoniémie primaire)
A5: ARZERRA 100 mg, solution pour perfusion | C5: leucémie lymphoïde chronique (LLC), en association avec le chlorambucil ou la bendamustine chez des patients qui n’ont pas reçu de traitement préalable et inéligibles à un traitement à base de fludarabine.
A6: ARZERRA 1000 mg, solution pour perfusion | C6: leucémie lymphoïde chronique (LLC), en association avec le chlorambucil ou la bendamustine chez des patients qui n’ont pas reçu de traitement préalable et inéligibles à un traitement à base de fludarabine.
A7: Atezolizumab 840 mg, solution à diluer pour perfusion | C7: En association au nab-paclitaxel ou au paclitaxel est indiqué dans le traitement des patients adultes atteints d’un cancer du sein triple négatif localement avancé non résécable ou métastatique, dont les tumeurs présentent une expression de PD-L1 ≥ 1 % et n’ayant pas précédemment reçu de chimiothérapie en situation métastatique
A8: ATTENTIN 5 mg, comprimé | C8: Hypersomnie idiopathique,En cas de réponse insuffisante ou échec à l’un des médicaments suivants bénéficiant d’une AMM, par exemple : modafinil , Après avis favorable d’un cardiologue sur l’initiation ou la poursuite du traitement(Modiodal), méthylphénidate (Ritaline), pitolisant (Wakix), oxybate de sodium (Xyrem),Après avis favorable d’un cardiologue sur l’initiation ou la poursuite du traitement | D8: Narcolepsie avec ou sans cataplexie, En cas de réponse insuffisante ou échec à l’un des médicaments suivants bénéficiant d’une AMM, par exemple : modafinil (Modiodal), méthylphénidate (Ritaline), pitolisant (Wakix), oxybate de sodium (Xyrem), Après avis favorable d’un cardiologue sur l’initiation ou la poursuite du traitement
A9: BAVENCIO® 20 mg/ml, solution à diluer pour perfusion | C9: patients adultes atteints d’un carcinome à cellules de Merkel (CCM) métastatique, dont la maladie a progressé après avoir reçu au moins une ligne de chimiothérapie antérieure
A10: BELANTAMAB MAFODOTIN 20 mg/ml, solution à diluer pour perfusion | C10: Sans objet : ATUn
A11: BRAFTOVI® 75 mg gélules | C11: mélanome non résécable ou métastatique, chez les adultes porteurs d’une mutation BRAF V600
A12: CABLIVI® 10 mg, poudre et solvant pour solution injectable | C12: traitement des patients adultes présentant un épisode de purpura thrombotique thrombocytopénique acquis (PTTa) conjointement à un traitement par échanges plasmatiques et par immunosuppresseurs. | D12: Sans objet : ATUn
A13: CAMPATH 30 mg/ml, solution à diluer pour perfusion | C13: Traitement de Leucémie pro-lymphocytaire T | D13: Traitement de la leucémie lymphoïde chronique à cellules B (LLC-B) pour laquelle une polychimiothérapie comportant de la fludarabine n’est pas appropriée
A14: CIDOFOVIR 75 mg/ml, solution injectable | C14: infection à HHV6 en situation d’échec ou d’intolérance au (val)ganciclovir et foscarnet | D14: infection à HSV en situation d’échec, de résistance ou d’intolérance au (val)aciclovir et foscarnet | E14: Papillomatose laryngée et/ou respiratoire basse réfractaire au traitement chirurgical, après avis collégial | F14: infection à CMV en situation d’échec, de résistance ou d’intolérance au (val)ganciclovir et foscarnet | G14: infection à BK virus | H14: Infection à adénovirus
A15: CYCLOSERINE 250 mg, gélule | C15: Tuberculose multi-résistante (= résistance à isoniazide et rifampicine)
A16: DARZALEX® 20 mg/ml solution à diluer pour perfusion | C16: en association avec le lénalidomide et la dexaméthasone ou avec le bortézomib, le melphalan et la prednisone pour le traitement des patients adultes atteints d'un myélome multiple nouvellement diagnostiqué et non éligibles à une autogreffe de cellules souches | D16: en monothérapie, pour le traitement des patients adultes atteints d'un myélome multiple en rechute et réfractaire, pour lesquels les traitements antérieurs incluaient un inhibiteur du protéasome et un agent immunomodulateur et dont la maladie a progressé lors du dernier traitement. | E16: en association avec le lénalidomide et la dexaméthasone, ou le bortézomib et la dexaméthasone, pour le traitement des patients adultes atteints d'un myélome multiple ayant reçu au moins un traitement antérieur
A17: DECORENONE 50 mg, gélule | C17: Syndrome des vomissements cycliques | D17: Cytopathies mitochondriales
A18: DECORENONE, 50 mg/10 ml, solution buvable | C18: Syndrome des vomissements cycliques | D18: Cytopathies mitochondriales
A19: DODECAVIT 5 mg/ml, solution injectable | C19: Maladies héréditaires du métabolisme intracellulaire de la vitamine B12 Chez les patients ne pouvant avaler les comprimés
A20: DOPS OD 100 mg, comprimé orodispersible | C20: Hypotension orthostatique (dysaustonomie) primitive, Après échec aux traitements standards : Gutron (midodrine) et Flucortac (fludrocortisone)
A21: DOPS OD 200 mg, comprimé orodispersible | C21: Hypotension orthostatique (dysaustonomie) primitive, Après échec aux traitements standards : Gutron (midodrine) et Flucortac (fludrocortisone)
A22: DUPIXENT® 300 mg, solution injectable en seringue préremplie | C22: dermatite atopique modérée à sévère de l’adulte qui nécessite un traitement systémique. Il est indiqué en cas de contre-indication, d’intolérance ou d’échec avec les traitements systémiques disponibles.
A23: EPIDIOLEX 100 mg/ml, solution orale | C23: Traitement adjuvant des convulsions associées au syndrome de Lennox-Gastaut (SLG) ou au syndrome de Dravet (SD) en association avec du clobazam, chez les patients de 2 ans et plus, Après échec des traitements antérieurs, Et en association à au moins un traitement antiépileptique indiqué dans le syndrome de Lennox-Gastaut (notamment valproate, felbamate, lamotrigine, rufinamide, topiramate) ou le syndrome de Dravet (notamment stiripentol).Absence d’hypersensibilité connue ou suspectée aux cannabinoides.Chez les femmes en âge de procréer : mise en place d’une contraception efficace
A24: HAEMATE P 1000 IU, poudre et solvant pour solution injectable | C24: Induction de tolérance immune en cas d’échec ou d’intolérance aux autres traitements de la même classe
A25: HEMLIBRA® 150 mg/mL solution injectable | C25: patients atteints d'hémophilie A (déficit congénital en facteur VIII) avec inhibiteurs anti-facteur VIII | D25: patients atteints d'hémophilie A sévère (déficit congénital en facteur VIII, FVIII < 1 %) sans inhibiteur anti-facteur VIII
A26: HUMULIN REGULAR 500 UI/ml, suspension injectable | C26: Diabète Insulino Dépendant avec insulino résistance sévère En cas d’échec à Umuline Rapide 100 UI/ml
A27: IDHIFA 100 mg, comprimé | C27: Leucémie Aiguë Myéloïde en rechute ou réfractaire, IDH 2 positive, Patients en rechute cytologique confirmée, A partir de la A partir de la 2e ligne pour les patients non éligibles à une chimiothérapie d’induction en vue d’une allogreffe (patients ayant reçu un agent hypométhylant), En monothérapie | D27: Leucémie Aiguë Myéloïde en rechute ou réfractaire, IDH 2 positive, Patients en rechute cytologique confirmée, A partir de la 3e ligne pour les patients éligibles à une chimiothérapie d’induction en vue d’une allogreffe (patients ayant reçu une 1ère ligne de traitement incluant un protocole d’induction à la greffe à base d’anthracycline + aracytine et une 2nde ligne de traitement incluant un traitement de re-induction ou un agent hypométhylant), En monothérapie | E27: Traitement en monothérapie, des patients adultes avec un risque cytogénétique intermédiaire ou défavorable, atteints d’une leucémie aiguë myéloïde (LAM) en rechute hématologique ou réfractaire, présentant une mutation de l’enzyme isocitrate déshydrogénase-2 (IDH-2), non candidats à une allogreffe. Idhifa ne peut être indiqué qu’en l’absence d’alternative thérapeutique
A28: IDHIFA 50 mg, comprimé | C28: Leucémie Aiguë Myéloïde en rechute ou réfractaire, IDH 2 positive, Patients en rechute cytologique confirmée, A partir de la A partir de la 2e ligne pour les patients non éligibles à une chimiothérapie d’induction en vue d’une allogreffe (patients ayant reçu un agent hypométhylant), En monothérapie | D28: Leucémie Aiguë Myéloïde en rechute ou réfractaire, IDH 2 positive, Patients en rechute cytologique confirmée, A partir de la 3e ligne pour les patients éligibles à une chimiothérapie d’induction en vue d’une allogreffe (patients ayant reçu une 1ère ligne de traitement incluant un protocole d’induction à la greffe à base d’anthracycline + aracytine et une 2nde ligne de traitement incluant un traitement de re-induction ou un agent hypométhylant), En monothérapie | E28: Traitement en monothérapie, des patients adultes avec un risque cytogénétique intermédiaire ou défavorable, atteints d’une leucémie aiguë myéloïde (LAM) en rechute hématologique ou réfractaire, présentant une mutation de l’enzyme isocitrate déshydrogénase-2 (IDH-2), non candidats à une allogreffe. Idhifa ne peut être indiqué qu’en l’absence d’alternative thérapeutique
A29: IKERVIS® 1 mg/ml, collyre en émulsion | C29: Traitement de la kératoconjonctivite sèche chez des patients adultes présentant une kératite sévère ou des lésions de la cornée qui ne s’améliorent pas malgré l’instillation de substituts lacrymaux
A30: ISATUXIMAB 20 mg/ml, solution à diluer pour perfusion | C30: En association avec pomalidomide et dexamethasone dans le traitement du Myélome Multiple après au moins deux lignes de traitement comprenant au moins du lenalidomide et un inhibiteur du protéasome,Chez les patients adultes réfractaires à la dernière ligne de traitement. | D30: En association avec pomalidomide et dexamethasone dans le traitement du Myélome Multiple après au moins deux lignes de traitement comprenant au moins du lenalidomide et un inhibiteur du protéasome,Chez les patients adultes réfractaires à la dernière ligne de traitement.
A31: ISTODAX 10 mg, poudre pour solution pour perfusion | C31: Lymphome T cutané ou périphérique,En rechute ou réfractaire à au moins 2 lignes de traitement,ET taux de plaquettes ≥ 75 G/L, ET taux de polynucléaires neutrophiles ≥ 1.5 G/L, Chez l’adulte
A32: LEDAGA® 160 microgrammes/g gel | C32: Le traitement des lymphomes T cutanés de type mycosis fongoïde (LTC-MF), sans association d’un autre médicament topique.
A33: LIBTAYO 350 mg, solution à diluer pour perfusion | C33: en monothérapie pour le traitement de patients adultes non éligibles à un essai clinique, considérés en impasse thérapeutique, atteints d’un carcinome épidermoïde cutané localement avancé ou métastatique, non éligible à la chirurgie et non éligible à la radiothérapie, présentant un score ECOG de 0 ou 1 :à partir de la deuxième ligne de traitement ou inéligibles aux sels de platine.
A34: LIKOZAM® 1 mg/ml, suspension buvable | C34: En association avec un autre traitement antiépileptique : traitement des épilepsies partielles simples ou complexes et des épilepsies généralisées résistantes, lorsque les autres associations appropriées se sont révélées inefficaces ou mal tolérées. Chez l’enfant, ainsi que chez l’adulte ayant des difficultés de déglutition.
A35: LIORESAL 5mg/5ml, solution buvable | C35: Contractures spastiques, Chez les patients qui ne peuvent pas avaler les comprimés
A36: LORVIQUA® 100 mg, comprimés pelliculés | C36: Lorviqua est indiqué en monothérapie dans le traitement des patients adultes atteints d’un cancer bronchique non à petites cellules (CBNPC) métastatique avec réarrangement du gène anaplastic lymphoma kinase (ALK-positif), non éligible à un essai clinique actuellement en cours en France et ayant progressé après au moins deux lignes de traitement par inhibiteur (s) de tyrosine kinase (ITK) de l’ALK.
A37: MALACEF 60 mg, poudre et solvant pour solution injectable | C37: Infection à CMV | D37: Accès grave de paludisme à Plasmodium falciparum
A38: MARINOL 2,5 mg, capsule molle | C38: Douleurs neuropathiques centrales et périphériques, Après échec des traitements de première ou deuxième ligne, Antidépresseurs tricycliques : Laroxyl/Elavil (amitriptyline), Ludiomil (maprotiline), Anafranil (clomipramine), Tofranil (imipramine), Anti-épileptiques : Neurontin (gabapentine), Lyrica (prégabaline),ISRNA : Cymbalta (duloxétine),Versatis (lidocaîne), Qutenza (capsaïcine), Opioïdes forts (par exemple tramadol).Prescription réservée aux médecins exerçant dans un centre anti-douleur
A39: MEKTOVI® 15 mg, comprimés pelliculés | C39: association à l'encorafenib est indiqué dans le traitement de patients adultes atteints de mélanome non résécable ou métastatique porteur d'une mutation BRAF V600
A40: MNESIS 45 mg, comprimé | C40: Cytopathies mitochondriales | D40: Ataxie de Friedreich
A41: MYLOTARG 5 mg, lyophilisat pour solution pour perfusion | C41: en association avec la daunorubicine et la cytarabine pour le traitement des patients adultes atteints de leucémie myéloïde aiguë de novo, précédemment non traitée, ayant une cytogénétique favorable ou intermédiaire ou une mutation FLT3-ITD
A42: MYRCLUDEX 2 mg, poudre pour solution injectable | C42: infection chronique par le virus de l’hépatite delta (VHD) chez les patients adultes présentant une fibrose hépatique de grade 2 (évaluée par biopsie hépatique ou Fibroscan) avec cytolyse hépatique persistante (ALT ≥ 2N depuis au moins 6 mois). Le traitement ne doit être envisagé que chez les patients infectés par le VHD depuis au moins 6 mois, tel qu’évalué par un test positif pour l’ARN du VHD et/ou les anticorps anti-VHD. | D42: infection chronique par le virus de l’hépatite delta (VHD) chez les patients adultes présentant une cirrhose hépatique compensée, ou une fibrose hépatique sévère (fibrose de grade 3 évaluée par biopsie hépatique ou Fibroscan) Le traitement ne doit être envisagé que chez les patients infectés par le VHD depuis au moins 6 mois, tel qu’évalué par un test positif pour l’ARN du VHD et/ou les anticorps anti-VHD.
A43: NARDIL 15 mg, comprimé | C43: Dépression sévère après échec des autres antidépresseurs
A44: NATRIUMTHIOSULFAT 10 %, solution injectable | C44: Calciphylaxie chez l’adulte. | D44: Néphroprotection dans le cadre de chimiothérapie hyperthermique intrapéritonéale (CHIP) avec du cisplatine chez l'adulte | E44: Calcinose sous cutanée chez l'adulte | F44: Calciphylaxie en cas d’inégibilité à l’ATU de cohorte chez l'adulte | G44: Pseudoxanthome chez l'adulte | H44: Intoxication et exposition à des produits chimiques et substances nocives, intention non déterminée (cyanure) chez l'adulte
A45: NATRIUMTHIOSULFAT 25 %, solution injectable | C45: Calcinose sous cutanée chez l'adulte | D45: Calciphylaxie en cas d’inégibilité à l’ATU de cohorte chez l'adulte | E45: Pseudoxanthome chez l'adulte | F45: Intoxication et exposition à des produits chimiques et substances nocives, intention non déterminée (cyanure) chez l'adulte
A46: NEOFORDEX® 40 mg comprimés | C46: Chez l’adulte, en association, dans le traitement de certaines formes de myélome multiple | D46: Chez l’adulte, en association, dans le traitement de certaines formes de lymphome | E46: Chez l’adulte, en association, dans le traitement de certaines formes de leucémie aiguë lymphoblastique.
A47: NEOTON 1 g, poudre et solvant pour solution injectable | C47: Leucodystrophie
A48: NEURONTIN 250 mg/ 5ml, solution buvable | C48: Epilepsies partielles avec ou sans généralisation secondaire en monothérapie (chez l'adulte et l'adolescent à partir de 12 ans) ou en association (chez l'adulte et l'enfant à partir de 6 ans) Chez les patients ne pouvant avaler les comprimés | D48: Douleurs neuropathiques périphériques réfractaires aux autres antalgiques
A49: NOYADA 5 mg/5 ml, solution buvable | C49: Chez les enfants de plus de 6 ans sans troubles de la déglutition ayant une insuffisance cardiaque qui ne serait pas consécutive à une chirurgie cardiaque | D49: Chez l’enfant de moins de 6 ans, ainsi que chez l’enfant et l’adulte ayant des difficultés de déglutition dans l'hypertension artérielle | E49: Chez l’enfant de moins de 6 ans, ainsi que chez l’enfant et l’adulte ayant des difficultés de déglutition dans l'insuffisance cardiaque | F49: Chez l’enfant de moins de 6 ans, ainsi que chez l’enfant et l’adulte ayant des difficultés de déglutition dans : - la néphropathie diabétique du diabète de type I : Le traitement de la néphropathie diabétique macroprotéinurique du diabète insulinodépendant. | G49: Chez l’adulte ayant des difficultés de déglutition dans l'nfarctus du myocarde : - Traitement de courte durée (4 semaines) : Dans les 24 premières heures chez les patients en situation hémodynamique stable. | H49: Chez l’adulte ayant des difficultés de déglutition dans l'infarctus du myocarde : - Prévention à long terme de l'insuffisance cardiaque symptomatique : chez les patients cliniquement stables avec dysfonction ventriculaire gauche asymptomatique (fraction d'éjection ≤ à 40 %). »
A50: NOYADA® 25 mg/5 ml, solution buvable | C50: Chez les enfants de plus de 6 ans sans troubles de la déglutition ayant une insuffisance cardiaque qui ne serait pas consécutive à une chirurgie cardiaque | D50: Chez l’enfant de moins de 6 ans, ainsi que chez l’enfant et l’adulte ayant des difficultés de déglutition dans l'hypertension artérielle | E50: Chez l’enfant de moins de 6 ans, ainsi que chez l’enfant et l’adulte ayant des difficultés de déglutition dans l'insuffisance cardiaque | F50: Chez l’enfant de moins de 6 ans, ainsi que chez l’enfant et l’adulte ayant des difficultés de déglutition dans : - la néphropathie diabétique du diabète de type I : Le traitement de la néphropathie diabétique macroprotéinurique du diabète insulinodépendant. | G50: Chez l’adulte ayant des difficultés de déglutition dans l'nfarctus du myocarde : - Traitement de courte durée (4 semaines) : Dans les 24 premières heures chez les patients en situation hémodynamique stable. | H50: Chez l’adulte ayant des difficultés de déglutition dans l'infarctus du myocarde : - Prévention à long terme de l'insuffisance cardiaque symptomatique : chez les patients cliniquement stables avec dysfonction ventriculaire gauche asymptomatique (fraction d'éjection ≤ à 40 %). »
A51: OCALIVA® 5 mg, comprimé | C51: Traitement de la cholangite biliaire primitive (également appelée "cirrhose biliaire primitive") en association avec l’acide ursodésoxycholique (AUDC) chez les adultes présentant une réponse insuffisante à l’AUDC | D51: Traitement de la cholangite biliaire primitive (également appelée "cirrhose biliaire primitive") en monothérapie chez les adultes qui ne tolèrent pas l’AUDC et ne pouvant être inclus dans un essai clinique.
A52: OCREVUS® 300 mg, solution à diluer pour perfusion | C52: patients adultes atteints de sclérose en plaques primaire progressive (SEP-PP) à un stade précoce en termes de durée de la maladie et de niveau du handicap, associé à des données d’imagerie caractéristiques d’une activité inflammatoire.
A53: ONPATTRO® 2 mg/ml, solution à diluer pour perfusion. | C53: Chez les patients adultes atteints d’amylose à transthyrétine héréditaire (ATTRh), dans le traitement des polyneuropathies de stade I, après échec des autres traitements disponibles, dans le traitement des polyneuropathies de stade II.
A54: ORKAMBI® 200 mg/125 mg, comprimé pelliculé | C54: Sans objet : ATUn
A55: PETINIMID 250 mg, capsule molle | C55: Traitement des absences, en monothérapie ou en association, chez l’adulte et l’enfant de plus de 6 ans, en cas de mauvaise observance du traitement avec la solution buvable actuellement disponible
A56: PRIMAQUINE 15 mg (base), comprimé | C56: Traitement radical du paludisme à Plasmodium vivax ou Plasmodium ovale | D56: Traitement à visée "altruiste" du paludisme à Plasmodium falciparum selon les recommandations disponibles sur le site du Haut Conseil de la Santé Publique pour les territoires de Guyane et Mayotte | E56: Traitement curatif de la pneumocystose, Et en échec, intolérance ou contre-indication au cotrimoxazol Et en l’absence de déficit en G6PD
A57: PRIMAQUINE 7,5 mg (base), comprimé | C57: Traitement radical du paludisme à Plasmodium vivax ou Plasmodium ovale | D57: Traitement à visée "altruiste" du paludisme à Plasmodium falciparum selon les recommandations disponibles sur le site du Haut Conseil de la Santé Publique pour les territoires de Guyane et Mayotte | E57: Traitement curatif de la pneumocystose, Et en échec, intolérance ou contre-indication au cotrimoxazol Et en l’absence de déficit en G6PD
A58: PROGLYCEM 50 mg/ml, suspension buvable | C58: Hyperinsulinisme, Chez les patients qui ne peuvent pas avaler les comprimés
A59: QARZIBA® 4,5 mg/ml, solution à diluer pour perfusion | C59: Traitement des patients âgés de 12 mois et plus atteints d’un neuroblastome de haut risque, qui ont précédemment reçu une chimiothérapie d’induction et ont présenté au moins une réponse partielle, suivie d’un traitement myéloablatif et d’une greffe de cellules souches hématopoïétiques, avec ou sans maladie résiduelle | D59: Traitement des patients âgés de 12 mois et plus atteints ainsi que chez les patients ayant un neuroblastome récidivant ou réfractaire, avec ou sans maladie résiduelle. Avant d’initier le traitement d’un neuroblastome récidivant, il convient de stabiliser toute maladie progressant de manière.
A60: QIZENDAY 100 mg, gélule | C60: les adultes dans le traitement de la sclérose en plaques : formes progressives primaires ou secondaires (sans poussée depuis au moins 1 an) | D60: Traitement de la sclérose en plaques : formes progressives primaires ou secondaires (sans poussée depuis au moins 1 an)
A61: RAXONE® 150 mg comprimés pelliculés | C61: Le traitement des patients âgés de plus de 14 ans présentant un épisode de neuropathie optique héréditaire de Leber (NOHL) dont les symptômes ont débuté depuis plus de un an | D61: Le traitement des patients âgés de plus de 14 ans présentant un épisode de neuropathie optique héréditaire de Leber (NOHL) dont les symptômes ont débuté depuis moins de 1 an.
A62: RESTASIS 0,05%, collyre en solution | C62: Traitement de la kératite sévère chez des patients adultes présentant une sécheresse oculaire et qui ne s’améliorent pas malgré l’instillation de substituts lacrymaux, Et en cas d’intolérance caractérisée à lkervis (médicament contenant de la ciclosporine et disposant d’une AMM)
A63: RYDAPT® 25 mg, capsule molle | C63: En monothérapie dans le traitement de la mastocytose systémique agressive (MSA), de la mastocytose systémique associée à une hémopathie maligne non mastocytaire (MS-AHM) ou de la leucémie à mastocytes (LM) chez les patients adultes pour lesquels il n’existe pas d’alternative thérapeutique appropriée et sous réserve de la validation préalable de chaque inclusion par une Réunion de concertation pluridisciplinaire (RCP) nationale. | D63: En association avec une chimiothérapie standard d’induction et de consolidation suivie d’un traitement d’entretien par midostaurine en monothérapie chez les patients adultes qui présentent une leucémie aigüe myéloïde (LAM) nouvellement diagnostiquée avec mutation du gène Fms-like tyrosine kinase récepteur 3 (FLT3 ) et qui sont éligibles à une chimiothérapie intensive et pour lesquels il n’existe pas d’alternative thérapeutique appropriée.
A64: SIRDALUD 4 mg, comprimé sécable | C64: Traitement de la spasticité due à des troubles neurologiques d’origine cérébrale ou médullaire en cas d’échec ou d’intolérance aux autres traitements antispastiques
A65: SPINRAZA® 12 mg solution injectable | C65: Sans objet : ATUn
A66: TAGRISSO® 40 mg, comprimé pelliculé | C66: Sans objet : ATUn
A67: TALZENNA® 1 mg, gélules | C67: Le traitement du cancer du sein localement avancé ou métastatique chez les patients adultes porteurs de mutation germinale et/ou somatique du gène de prédisposition au cancer du sein (BRCA), et négatifs pour le récepteur du facteur de croissance épidermique humain 2 (HER2) ayant reçu au moins une chimiothérapie par anthracycline et/ou taxane en situation néoadjuvante, adjuvante ou métastatique, et en l’absence de résistance aux sels de platine. Les patients RH+ ne doivent plus être éligibles à une hormonothérapie.
A68: TECENTRIQ® 1200 mg, solution à diluer pour perfusion | C68: Le traitement du cancer du sein localement avancé ou métastatique chez les patients adultes porteurs de mutation germinale et/ou somatique du gène de prédisposition au cancer du sein (BRCA), et négatifs pour le récepteur du facteur de croissance épidermique humain 2 (HER2) ayant reçu au moins une chimiothérapie par anthracycline et/ou taxane en situation néoadjuvante, adjuvante ou métastatique, et en l’absence de résistance aux sels de platine. Les patients RH+ ne doivent plus être éligibles à une hormonothérapie.
A69: TIXTAR® 550 mg, comprimé pelliculé | C69: La prévention des rechutes d'épisodes avérés d'encéphalopathie hépatique chez les patients adultes en cas de mauvaise tolérance ou d’efficacité insuffisante d’un traitement par disaccharides (lactulose/lactilol).
A70: TRAZOLAN 100 mg, comprimé pelliculé | C70: Troubles du comportement (ex démence fronto-temporale) liés à une pathologie neurodégénérative | D70: Dépression sévère, après échec des autres antidépresseurs | E70: troubles du sommeil dans la maladie d'Alzheimer
A71: TRECATOR 250 mg, comprimé | C71: Tuberculose multi-résistante (= résistance à isoniazide et rifampicine)
A72: TRIENTINE 300 mg, gélule | C72: Maladie de Wilson,En cas d’échec, d’intolérance ou de contre-indication au Trolovol (D-pénicillamine) et au Cuprior (tétrachlorhydrate de trientine).
A73: URSOFALK 250 mg/ 5ml, suspension buvable | C73: Maladies hépato-biliaires associées à la mucoviscidose chez les enfants âgés de 1 mois à 6 ans ou chez les patients qui ne peuvent pas avaler de formes solides d'acide ursodesoxycholique
A74: VANFLYTA 20 mg, comprimé | C74: Renouvellement de traitement chez les patients préalablement traités par Quizartinib et pour lesquels l'efficacité et à la sécurité du traitement permettent de justifier sa poursuite, et présentant une Leucémie Aiguë Myéloïde en rechute ou réfractaire, FLT3-ITD positive Chez les patients avec un ECG normal A partir de la 3e ligne pour les patients éligibles à une chimiothérapie d’induction en vue d’une allogreffe (patients ayant reçu une 1ère ligne de traitement incluant un protocole d’induction à la greffe à base d’anthracycline + aracytine et une 2nde ligne de traitement incluant un traitement de re-induction ou un agent hypométhylant) Ou à partir de la 2e ligne pour les patients non éligibles à une chimiothérapie d’induction en vue d’une allogreffe (patients ayant reçu un agent hypométhylant)
A75: VANFLYTA 30 mg, comprimé | C75: Renouvellement de traitement chez les patients préalablement traités par Quizartinib et pour lesquels l'efficacité et à la sécurité du traitement permettent de justifier sa poursuite, et présentant une Leucémie Aiguë Myéloïde en rechute ou réfractaire, FLT3-ITD positive Chez les patients avec un ECG normal A partir de la 3e ligne pour les patients éligibles à une chimiothérapie d’induction en vue d’une allogreffe (patients ayant reçu une 1ère ligne de traitement incluant un protocole d’induction à la greffe à base d’anthracycline + aracytine et une 2nde ligne de traitement incluant un traitement de re-induction ou un agent hypométhylant) Ou à partir de la 2e ligne pour les patients non éligibles à une chimiothérapie d’induction en vue d’une allogreffe (patients ayant reçu un agent hypométhylant)
A76: VARITECT CP 25 UI/ml, solution injectable | C76: Prévention de la varicelle après un contact avec des malades, de préférence dans les 96 heures et dans un délai maximal de 10 jours après l’exposition, chez les sujets immunodéprimés | D76: Prévention de la varicelle après un contact avec des malades, de préférence dans les 96 heures et dans un délai maximal de 10 jours après l’exposition, chez les femmes enceintes séronégatives ou de statut sérologique inconnu | E76: Prévention de la varicelle après un contact avec des malades, de préférence dans les 96 heures et dans un délai maximal de 10 jours après l’exposition, chez les sujets immunodéprimés | F76: Prévention de la varicelle après un contact avec des malades, de préférence dans les 96 heures et dans un délai maximal de 10 jours après l’exposition, chez les femmes enceintes séronégatives ou de statut sérologique inconnu | G76: Prévention de la varicelle après un contact avec des malades, de préférence dans les 96 heures et dans un délai maximal de 10 jours après l’exposition, chez les sujets immunodéprimés | H76: Prévention de la varicelle après un contact avec des malades, de préférence dans les 96 heures et dans un délai maximal de 10 jours après l’exposition, chez les femmes enceintes séronégatives ou de statut sérologique inconnu
A77: VEMLIDY® 25 mg, comprimé pelliculé | C77: Sans objet : ATUn
A78: VORAXAZE 1000 UI, poudre pour solution pour perfusion | C78: Intoxication au méthotrexate, En cas de concentration plasmatiques en méthotrexate > 1 micromole/ litre Et chez des patients dont l’élimination du méthotrexate est retardée du fait d’une insuffisance rénale (clairance < 60 ml/min ou créatininémie > 1.5 LSN).
A79: VYXEOS® 44mg/100mg, poudre pour solution à diluer pour perfusion | C79: Sans objet : ATUn
A80: WAKIX® 18 mg, comprimés pelliculés | C80: Sans objet : ATUn
A81: WAKIX® 4,5 mg, comprimés pelliculés | C81: Sans objet : ATUn
A82: ZEJULA® 100 mg, gélules | C82: Sans objet : ATUn
A83: ZOSTRIX 0,025%, crème | C83: Douleurs neuropathiques centrales,Après utilisation de tous les traitements y compris Qutenza (sauf si proche muqueuse ou tête).
A84: ZOSTRIX 0,033%, crème | C84: Douleurs neuropathiques centrales,Après utilisation de tous les traitements y compris Qutenza (sauf si proche muqueuse ou tête).
A85: ZOSTRIX 0,1%, crème | C85: Douleurs neuropathiques centrales,Après utilisation de tous les traitements y compris Qutenza (sauf si proche muqueuse ou tête).
A86: ZOSTRIX HP 0,075%, crème | C86: Douleurs neuropathiques centrales,Après utilisation de tous les traitements y compris Qutenza (sauf si proche muqueuse ou tête).
A87: ZYDELIG® 100 mg comprimés pelliculés | C87: Sans objet : ATUn
A88: ZYDELIG® 150 mg comprimés pelliculés | C88: Sans objet : ATUn
A89: ASCIMINIB 40 mg, comprimé | C89: Traitement de la leucémie myéloïde chronique avec mutation T315i, résistants ou intolérants au ponatinib | D89: Traitement de la leucémie myéloïde chronique sans mutation T315i et résistants ou intolérants à l’imatinib, nilotinib, dasatinib, bosutinib et ponatinib
A90: EPHEDRINE HYDROCHLORIDE 15 mg, comprimé | C90: Myasthénie congénitale (notamment avec mutation DOK7),Et réfractaire à la 3.4- DAP
A91: MARIBAVIR 200 mg, comprimé | C91: Absence de critère d’octroi publiable à ce jour. Justifier la demande
A92: MEPHENON 10mg/1ml, solution injectable | C92: Douleurs cancéreuses Chez les patients insuffisamment soulagés par les opioïdes de niveau 3 ou présentant des effets indésirables à ces opioïdes Et lorsque les autres voies d'administration ne peuvent être envisagées
A93: PROPRANOLOL ROSEMONT 5 mg/5 ml, solution buvable | C93: Hypertension artérielle | D93: Insuffisance cardiaque | E93: Cardiomyopathies | F93: Troubles du rythme | G93: Tétralogie de Fallot | H93: Syndrome du QT long congénital | I93: Syndrome de Marfan | J93: Hyperthyroïdie néonatale | K93: Hyperthyroïdie néonatale | L93: Tachycardie supra ventriculaire
A94: TRIKAFTA, comprimé | C94: Mucoviscidose grave engageant le pronostic vital à court ou moyen terme chez les patients agés de 12 ans et plus
A95: Avastin® 25mg/ml, solution à diluer pour perfusion | C95: En association au paclitaxel, est indiqué en première ligne de traitement du cancer du sein métastatique HER2 négatif et récepteurs hormonaux (RH) négatifs (triple négatif). | D95: En association au paclitaxel, est indiqué en première ligne de traitement du cancer du sein métastatique HER2 négatif et récepteurs hormonaux (RH) négatifs (triple négatif).
A96: IMFINZI® 50mg/ml, solution à diluer pour perfusion | C96: Sans objet : ATUn | D96: Les patients adultes atteints d’un cancer du poumon non à petites cellules, localement avancé non résécable, ECOG >1, dont la maladie n’a pas progressé après chimio-radiothérapie à base de platine | E96: Les patients adultes atteints d’un cancer du poumon non à petites cellules, localement avancé non résécable, ECOG 0 ou 1, dont la maladie n’a pas progressé après chimio-radiothérapie séquentielle à base de platine. | F96: Traitement des patients adultes atteints d’un cancer du poumon non à petites cellules, stade III non opérable, ECOG 0 ou 1, dont la maladie n’a pas progressé après chimio-radiothérapie concomitante à base de platine. | G96: Sans objet : ATUn | H96: Les patients adultes atteints d’un cancer du poumon non à petites cellules, localement avancé non résécable, ECOG >1, dont la maladie n’a pas progressé après chimio-radiothérapie à base de platine | I96: Les patients adultes atteints d’un cancer du poumon non à petites cellules, localement avancé non résécable, ECOG 0 ou 1, dont la maladie n’a pas progressé après chimio-radiothérapie séquentielle à base de platine. | J96: Traitement des patients adultes atteints d’un cancer du poumon non à petites cellules, stade III non opérable, ECOG 0 ou 1, dont la maladie n’a pas progressé après chimio-radiothérapie concomitante à base de platine.
A97: POLATUZUMAB VEDOTIN 140 mg, poudre pour solution à diluer pour perfusion | C97: Sans objet : ATUn | D97: En association à la bendamustine et au rituximab, est indiqué dans le traitement des patients adultes présentant un lymphome diffus à grandes cellules B (LDGCB) en rechute ou réfractaire (R/R), non candidats à une greffe de cellules souches hématopoïétiques
A98: ASCIMINIB 40 mg, comprimé | C98: Sans objet : ATUn
A99: EPHEDRINE HYDROCHLORIDE 15 mg, comprimé | C99: Myasthénie congénitale (notamment avec mutation DOK7),Et réfractaire à la 3.4- DAP
A100: MARIBAVIR 200 mg, comprimé | C100: Sans objet : ATUn
...
