Workbook
Name ALPELISIB200: 'indications libellés par UCD'!$C$2:$N$2
Name ALPELISIB50: 'indications libellés par UCD'!$C$3:$N$3
Name AMMONUL: 'indications libellés par UCD'!$C$4:$N$4
Name ARZERRA100: 'indications libellés par UCD'!$C$5:$N$5
Name ARZERRA1000: 'indications libellés par UCD'!$C$6:$N$6
Name ASCIMINIB: 'indications libellés par UCD'!$C$98:$N$98
Name ATEZOLIZUMAB840: 'indications libellés par UCD'!$C$7:$N$7
Name ATTENTIN: 'indications libellés par UCD'!$C$8:$N$8
Name AVASTIN: 'indications libellés par UCD'!$C$95:$N$95
Name BAVENCIO: 'indications libellés par UCD'!$C$9:$N$9
Name BELANTAMAB: 'indications libellés par UCD'!$C$10:$N$10
Name BRAFTOVI: 'indications libellés par UCD'!$C$11:$N$11
Name BULEVIRTIDE: 'indications libellés par UCD'!#REF!
Name BULEVIRTIDE: 'indications libellés par UCD'!#REF!
Name CABLIVI: 'indications libellés par UCD'!$C$12:$N$12
Name CAMPTAH: 'indications libellés par UCD'!$C$13:$N$13
Name CIDOFOVIR: 'indications libellés par UCD'!$C$14:$N$14
Name Code_inidcation_ARZERA: liste!$A$8
Name CYCLOSERINE: 'indications libellés par UCD'!$C$15:$N$15
Name DARZALEX: 'indications libellés par UCD'!$C$16:$N$16
Name DECORENONE50GEL: 'indications libellés par UCD'!$C$17:$N$17
Name DECORENONE50SOL: 'indications libellés par UCD'!$C$18:$N$18
Name DODECAVIT2: 'indications libellés par UCD'!$C$19:$N$19
Name DODECAVIT5: 'indications libellés par UCD'!$C$19:$O$19
Name DOPSOD100: 'indications libellés par UCD'!$C$20:$N$20
Name DOPSOD200: 'indications libellés par UCD'!$C$21:$N$21
Name DUPIXENT300: 'indications libellés par UCD'!$C$22:$N$22
Name EPHEDRINE: 'indications libellés par UCD'!$C$99:$N$99
Name EPIDIOLEX100: 'indications libellés par UCD'!$C$23:$N$23
Name HAEMATE1000IU: 'indications libellés par UCD'!$C$24:$N$24
Name HEMLIBRA150: 'indications libellés par UCD'!$C$25:$N$25
Name HUMULINREGULAR: 'indications libellés par UCD'!$C$26:$N$26
Name IDHIFA100: 'indications libellés par UCD'!$C$27:$N$27
Name IDHIFA50: 'indications libellés par UCD'!$C$28:$N$28
Name IKERVIS: 'indications libellés par UCD'!$C$29:$N$29
Name IMFINZIDP: 'indications libellés par UCD'!$C$96:$N$96
Name ind_arzerra_100mg: 'indications libellés par UCD'!$C$2:$IV$2
Name ISATUXUMAB20: 'indications libellés par UCD'!$C$30:$N$30
Name ISTODAX10: 'indications libellés par UCD'!$C$31:$N$31
Name LEDAGA: 'indications libellés par UCD'!$C$32:$N$32
Name LIBTAYO350: 'indications libellés par UCD'!$C$33:$N$33
Name LIKOZAM: 'indications libellés par UCD'!$C$34:$N$34
Name LIORESAL: 'indications libellés par UCD'!$C$35:$N$35
Name liste_indic: 'indications libellés par UCD'!$V$2:$AG$2
Name liste_indication: 'indications libellés par UCD'!$U$3:$U$14
Name listes_completes: 'listes complètes'!$A$2:$I$652
Name LORVIQUA: 'indications libellés par UCD'!$C$36:$N$36
Name MALACEF: 'indications libellés par UCD'!$C$37:$N$37
Name MARIBAVIR: 'indications libellés par UCD'!$C$100:$N$100
Name MARINOL: 'indications libellés par UCD'!$C$38:$N$38
Name MEKTOVI: 'indications libellés par UCD'!$C$39:$N$39
Name MEPHENON: 'indications libellés par UCD'!$C$101:$N$101
Name MNESIS: 'indications libellés par UCD'!$C$40:$N$40
Name MNESIS1: #REF!
Name MOL: #REF!
Name MOLECULE: 'indications libellés par UCD'!$A$2:$A$65536
Name MYLOTARG: 'indications libellés par UCD'!$C$41:$N$41
Name MYRCLUDEX: 'indications libellés par UCD'!$C$42:$N$42
Name NARDIL: 'indications libellés par UCD'!$C$43:$N$43
Name NATRIUMTHIOSULFAT10: 'indications libellés par UCD'!$C$44:$N$44

Sheet CABLIVI
A1: CABLIVI-Cabalsizumab
A3: Validation et suivi des ATU
O4: SUIVI | S4: DISPENSATION
A5: Nom | B5: Prénom | C5: DDN | D5: Spécialité | E5: DCI | F5: ATU | G5: Indication libellé | H5: Formule (ne pas toucher) | I5: Copier case précédente en valeur | J5: Code indication ATU | K5: Code UCD (13 chiffres) | L5: Date d'initiation | M5: UPA | N5: Prescripteur | O5: N° ATU en cours | P5: OK ANSM | Q5: Validité | R5: Péremption | S5: Date | T5: Hospitalisation / Rétrocession | U5: Date | V5: Hospitalisation / Rétrocession | W5: Date | X5: Hospitalisation / Rétrocession | Y5: Date | Z5: Hospitalisation / Rétrocession | AA5: Date | AB5: Hospitalisation / Rétrocession | AC5: Date | AD5: Hospitalisation / Rétrocession
A6: x | B6: y | C6: 16745 | D6: CABLIVI® 10 mg, poudre et solvant pour solution injectable | E6: =VLOOKUP(D6,'listes complètes'!$C$3:$D$65536,2,FALSE) -> caplacizumab | F6: dispositif pèrenne | G6: traitement des patients adultes présentant un épisode de purpura thrombotique thrombocytopénique acquis (PTTa) conjointement à un traitement par échanges plasmatiques et par immunosuppresseurs. | H6: CABLIVI® 10 mg, poudre et solvant pour solution injectabledispositif pèrennetraitement des patients adultes présentant un épisode de purpura thrombotique thrombocytopénique acquis (PTTa) conjointement à un traitement par échanges plasmatiques et par immunosuppresseurs. | J6: =VLOOKUP(H6,'listes complètes'!$A$3:$G$652,7,FALSE) -> #VALUE! | K6: =VLOOKUP(D6,'listes complètes'!$C$3:$H$65536,6,FALSE) -> 3400894380573 | L6: 44067 | M6: Non | S6: 44067 | T6: hopitalisation 1012 | U6: 44068 | V6: rétrocession
A7: test | B7: nomi | D7: CABLIVI® 10 mg, poudre et solvant pour solution injectable | E7: =VLOOKUP(D7,'listes complètes'!C2:H653,2,0) -> caplacizumab | F7: dispositif pèrenne | G7: traitement des patients adultes présentant un épisode de purpura thrombotique thrombocytopénique acquis (PTTa) conjointement à un traitement par échanges plasmatiques et par immunosuppresseurs. | H7: CABLIVI® 10 mg, poudre et solvant pour solution injectabledispositif pèrennetraitement des patients adultes présentant un épisode de purpura thrombotique thrombocytopénique acquis (PTTa) conjointement à un traitement par échanges plasmatiques et par immunosuppresseurs. | J7: =INDEX('listes complètes'!G$2:G695,MATCH( 'listes complètes'!$B$93,'listes complètes'!B2:B95,0)) -> #VALUE! | K7: =VLOOKUP(D7,'listes complètes'!$C$3:$H$65536,6,FALSE) -> 3400894380573
D8: Molecule test | E8: =VLOOKUP(D8,'listes complètes'!$C$3:$D$65536,2,FALSE) -> DCI test | F8: dispositif pèrenne | G8: indication test 1 | H8: =CONCATENATE(D8,F8,G8) -> Molecule testdispositif pèrenneindication test 1 | J8: =INDEX('listes complètes'!B$2:G$696,MATCH(H8,'listes complètes'!B2:B666,0),6) -> test1 | K8: =VLOOKUP(D8,'listes complètes'!$C$3:$H$65536,6,FALSE) -> 0
D9: Molecule test | E9: =VLOOKUP(D9,'listes complètes'!$C$3:$D$65536,2,FALSE) -> DCI test | F9: Cohorte | G9: indication test 2 | H9: =CONCATENATE(D9,F9,G9) -> Molecule testCohorteindication test 2 | J9: =INDEX('listes complètes'!G$2:G$696,MATCH(H9,'listes complètes'!B$2:B667,0)) -> test2 | K9: =VLOOKUP(D9,'listes complètes'!$C$3:$H$65536,6,FALSE) -> 0
D10: CABLIVI® 10 mg, poudre et solvant pour solution injectable | E10: =VLOOKUP(D10,'listes complètes'!$C$3:$D$65536,2,FALSE) -> caplacizumab | F10: dispositif pèrenne | G10: traitement des patients adultes présentant un épisode de purpura thrombotique thrombocytopénique acquis (PTTa) conjointement à un traitement par échanges plasmatiques et par immunosuppresseurs. | H10: =CONCATENATE(D10,F10,G10) -> CABLIVI® 10 mg, poudre et solvant pour solution injectabledispositif pèrennetraitement des patients adultes présentant un épisode de purpura thrombotique thrombocytopénique acquis (PTTa) conjointement à un traitement par échanges plasmatiques et par immunosuppresseurs. | J10: {=INDEX('listes complètes'!G$2:G$696,MATCH(H9,'listes complètes'!B$2:B667,0))*INDEX('listes complètes'!G$2:G$696,MATCH(H10,'listes complètes'!B$2:B668,0))} -> #VALUE! | K10: =VLOOKUP(D10,'listes complètes'!$C$3:$H$65536,6,FALSE) -> 3400894380573
D11: ZOSTRIX 0,025%, crème | E11: =VLOOKUP(D11,'listes complètes'!$C$3:$D$65536,2,FALSE) -> capsaïcine | F11: Nominative | G11: Douleurs neuropathiques centrales,Après utilisation de tous les traitements y compris Qutenza (sauf si proche muqueuse ou tête). | H11: =CONCATENATE(D11,F11,G11) -> ZOSTRIX 0,025%, crèmeNominativeDouleurs neuropathiques centrales,Après utilisation de tous les traitements y compris Qutenza (sauf si proche muqueuse ou tête). | J11: =VLOOKUP(H11,'listes complètes'!$A$3:$G$652,7,FALSE) -> NXXXX00 | K11: =VLOOKUP(D11,'listes complètes'!$C$3:$H$65536,6,FALSE) -> 3400892970134
D12: ZOSTRIX 0,025%, crème | E12: =VLOOKUP(D12,'listes complètes'!$C$3:$D$65536,2,FALSE) -> capsaïcine | F12: Nominative | G12: Douleurs neuropathiques centrales,Après utilisation de tous les traitements y compris Qutenza (sauf si proche muqueuse ou tête). | H12: =CONCATENATE(D12,F12,G12) -> ZOSTRIX 0,025%, crèmeNominativeDouleurs neuropathiques centrales,Après utilisation de tous les traitements y compris Qutenza (sauf si proche muqueuse ou tête). | J12: =INDEX('listes complètes'!G$2:G$696,MATCH(H12,'listes complètes'!B$2:B669,0)) -> NXXXX00 | K12: =VLOOKUP(D12,'listes complètes'!$C$3:$H$65536,6,FALSE) -> 3400892970134
E13: =VLOOKUP(D13,'listes complètes'!$C$3:$D$65536,2,FALSE) -> #N/A | H13: =CONCATENATE(D13,F13,G13) | J13: =VLOOKUP(H13,'listes complètes'!$A$3:$G$652,7,FALSE) -> #N/A | K13: =VLOOKUP(D13,'listes complètes'!$C$3:$H$65536,6,FALSE) -> #N/A
E14: =VLOOKUP(D14,'listes complètes'!$C$3:$D$65536,2,FALSE) -> #N/A | H14: =CONCATENATE(D14,F14,G14) | J14: =VLOOKUP(H14,'listes complètes'!$A$3:$G$652,7,FALSE) -> #N/A | K14: =VLOOKUP(D14,'listes complètes'!$C$3:$H$65536,6,FALSE) -> #N/A
E15: =VLOOKUP(D15,'listes complètes'!$C$3:$D$65536,2,FALSE) -> #N/A | H15: =CONCATENATE(D15,F15,G15) | J15: =VLOOKUP(H15,'listes complètes'!$A$3:$G$652,7,FALSE) -> #N/A | K15: =VLOOKUP(D15,'listes complètes'!$C$3:$H$65536,6,FALSE) -> #N/A
E16: =VLOOKUP(D16,'listes complètes'!$C$3:$D$65536,2,FALSE) -> #N/A | H16: =CONCATENATE(D16,F16,G16) | J16: =VLOOKUP(H16,'listes complètes'!$A$3:$G$652,7,FALSE) -> #N/A | K16: =VLOOKUP(D16,'listes complètes'!$C$3:$H$65536,6,FALSE) -> #N/A
E17: =VLOOKUP(D17,'listes complètes'!$C$3:$D$65536,2,FALSE) -> #N/A | J17: =VLOOKUP(H17,'listes complètes'!$A$3:$G$652,7,FALSE) -> #N/A | K17: =VLOOKUP(D17,'listes complètes'!$C$3:$H$65536,6,FALSE) -> #N/A
E18: =VLOOKUP(D18,'listes complètes'!$C$3:$D$65536,2,FALSE) -> #N/A | H18: =CONCATENATE(D18,F18,G18) | J18: =VLOOKUP(H18,'listes complètes'!$A$3:$G$652,7,FALSE) -> #N/A | K18: =VLOOKUP(D18,'listes complètes'!$C$3:$H$65536,6,FALSE) -> #N/A
E19: =VLOOKUP(D19,'listes complètes'!$C$3:$D$65536,2,FALSE) -> #N/A | H19: =CONCATENATE(D19,F19,G19) | J19: =VLOOKUP(H19,'listes complètes'!$A$3:$G$652,7,FALSE) -> #N/A | K19: =VLOOKUP(D19,'listes complètes'!$C$3:$H$65536,6,FALSE) -> #N/A
E20: =VLOOKUP(D20,'listes complètes'!$C$3:$D$65536,2,FALSE) -> #N/A | H20: =CONCATENATE(D20,F20,G20) | J20: =VLOOKUP(H20,'listes complètes'!$A$3:$G$652,7,FALSE) -> #N/A | K20: =VLOOKUP(D20,'listes complètes'!$C$3:$H$65536,6,FALSE) -> #N/A
E21: =VLOOKUP(D21,'listes complètes'!$C$3:$D$65536,2,FALSE) -> #N/A | H21: =CONCATENATE(D21,F21,G21) | J21: =VLOOKUP(H21,'listes complètes'!$A$3:$G$652,7,FALSE) -> #N/A | K21: =VLOOKUP(D21,'listes complètes'!$C$3:$H$65536,6,FALSE) -> #N/A
E22: =VLOOKUP(D22,'listes complètes'!$C$3:$D$65536,2,FALSE) -> #N/A | H22: =CONCATENATE(D22,F22,G22) | J22: =VLOOKUP(H22,'listes complètes'!$A$3:$G$652,7,FALSE) -> #N/A | K22: =VLOOKUP(D22,'listes complètes'!$C$3:$H$65536,6,FALSE) -> #N/A
E23: =VLOOKUP(D23,'listes complètes'!$C$3:$D$65536,2,FALSE) -> #N/A | H23: =CONCATENATE(D23,F23,G23) | J23: =VLOOKUP(H23,'listes complètes'!$A$3:$G$652,7,FALSE) -> #N/A | K23: =VLOOKUP(D23,'listes complètes'!$C$3:$H$65536,6,FALSE) -> #N/A
E24: =VLOOKUP(D24,'listes complètes'!$C$3:$D$65536,2,FALSE) -> #N/A | H24: =CONCATENATE(D24,F24,G24) | J24: =VLOOKUP(H24,'listes complètes'!$A$3:$G$652,7,FALSE) -> #N/A | K24: =VLOOKUP(D24,'listes complètes'!$C$3:$H$65536,6,FALSE) -> #N/A
E25: =VLOOKUP(D25,'listes complètes'!$C$3:$D$65536,2,FALSE) -> #N/A | H25: =CONCATENATE(D25,F25,G25) | J25: =VLOOKUP(H25,'listes complètes'!$A$3:$G$652,7,FALSE) -> #N/A | K25: =VLOOKUP(D25,'listes complètes'!$C$3:$H$65536,6,FALSE) -> #N/A
E26: =VLOOKUP(D26,'listes complètes'!$C$3:$D$65536,2,FALSE) -> #N/A | H26: =CONCATENATE(D26,F26,G26) | J26: =VLOOKUP(H26,'listes complètes'!$A$3:$G$652,7,FALSE) -> #N/A | K26: =VLOOKUP(D26,'listes complètes'!$C$3:$H$65536,6,FALSE) -> #N/A
E27: =VLOOKUP(D27,'listes complètes'!$C$3:$D$65536,2,FALSE) -> #N/A | H27: =CONCATENATE(D27,F27,G27) | J27: =VLOOKUP(H27,'listes complètes'!$A$3:$G$652,7,FALSE) -> #N/A | K27: =VLOOKUP(D27,'listes complètes'!$C$3:$H$65536,6,FALSE) -> #N/A
E28: =VLOOKUP(D28,'listes complètes'!$C$3:$D$65536,2,FALSE) -> #N/A | H28: =CONCATENATE(D28,F28,G28) | J28: =VLOOKUP(H28,'listes complètes'!$A$3:$G$652,7,FALSE) -> #N/A | K28: =VLOOKUP(D28,'listes complètes'!$C$3:$H$65536,6,FALSE) -> #N/A
E29: =VLOOKUP(D29,'listes complètes'!$C$3:$D$65536,2,FALSE) -> #N/A | H29: =CONCATENATE(D29,F29,G29) | J29: =VLOOKUP(H29,'listes complètes'!$A$3:$G$652,7,FALSE) -> #N/A | K29: =VLOOKUP(D29,'listes complètes'!$C$3:$H$65536,6,FALSE) -> #N/A
... E39: =VLOOKUP(D39,'listes complètes'!$C$3:$D$65536,2,FALSE) -> #N/A | H39: =CONCATENATE(D39,F39,G39) | J39: =VLOOKUP(H39,'listes complètes'!$A$3:$G$652,7,FALSE) -> #N/A | K39: =VLOOKUP(D39,'listes complètes'!$C$3:$H$65536,6,FALSE) -> #N/A

Sheet liste
A1: ATU | F1: Oui | H1: Hospitalisation
A2: Cohorte | F2: Non | H2: Rétrocession
A3: Nominative
A4: dispositif pèrenne
A7: Inidcation ARZERA
A8: NXXXX00
A11: Spécialité | B11: DCI | C11: Code UCD (13 chiffres) | D11: Code indication | E11: Indication
A12: ALUNBRIG 30 mg comprimés pelliculés | D12: CBRIG01 | E12: Traitement des patients adultes non éligibles à un essai clinique en cours, atteints d’un cancer broncho-pulmonaire non à petites cellules (CBNPC) avancé présentant un réarrangement du gène ALK (ALK positif), prétraités par crizotinib et pour lesquels il n’existe pas d’alternative thérapeutique appropriée disponible
A13: ALUNBRIG 30 mg comprimés pelliculés | D13: NXXXX00 | E13: Sans objet : ATUn
A14: ALUNBRIG 90 mg comprimés pelliculés | D14: CBRIG01 | E14: Traitement des patients adultes non éligibles à un essai clinique en cours, atteints d’un cancer broncho-pulmonaire non à petites cellules (CBNPC) avancé présentant un réarrangement du gène ALK (ALK positif), prétraités par crizotinib et pour lesquels il n’existe pas d’alternative thérapeutique appropriée disponible
A15: ALUNBRIG 90 mg comprimés pelliculés | D15: NXXXX00 | E15: Sans objet : ATUn
A16: ALUNBRIG 180 mg comprimés pelliculés | D16: CBRIG01 | E16: Traitement des patients adultes non éligibles à un essai clinique en cours, atteints d’un cancer broncho-pulmonaire non à petites cellules (CBNPC) avancé présentant un réarrangement du gène ALK (ALK positif), prétraités par crizotinib et pour lesquels il n’existe pas d’alternative thérapeutique appropriée disponible
A17: ALUNBRIG 180 mg comprimés pelliculés | D17: NXXXX00 | E17: Sans objet : ATUn
A18: BAVENCIO® 20 mg/ml, solution à diluer pour perfusion | D18: NXXXX00 | E18: Sans objet : ATUn
A19: BRAFTOVI® 50 mg gélules | D19: NXXXX00 | E19: Sans objet : ATUn
A20: BRAFTOVI® 75 mg gélules | D20: NXXXX00 | E20: Sans objet : ATUn
A21: BRINEURA® 150 mg solution pour perfusion | D21: NXXXX00 | E21: Sans objet : ATUn
A22: BRINEURA® 150 mg solution pour perfusion | D22: CCERL01 | E22: Traitement des patients atteints de lipofuscinoses ceroïdes neuronales de type 2 (CLN2), également appelée déficit en tripeptidyl peptidase-1 (TPP1).
A23: CABLIVI® 10 mg, poudre et solvant pour solution injectable | D23: CCAPL01 | E23: traitement des patients adultes présentant un épisode depurpura thrombotique thrombocytopénique acquis (PTTa) conjointement à un traitement par échanges plasmatiques et par immunosuppresseurs.
... A163: Avastin® 25mg/ml, solution à diluer pour perfusion | D163: CBEVA01 | E163: En association au paclitaxel, est indiqué en première ligne de traitement du cancer du sein métastatique HER2 négatif et récepteurs hormonaux (RH) négatifs (triple négatif).
A164: ARZERRA

Sheet Feuil9
A1: Statut médicament | B1: (Tous)
A4: Code indication | B4: Indications
A5: CACID01 | B5: Traitement de la cholangite biliaire primitive (également appelée "cirrhose biliaire primitive") en association avec l’acide ursodésoxycholique (AUDC) chez les adultes présentant une réponse insuffisante à l’AUDC
A6: CACID02 | B6: Traitement de la cholangite biliaire primitive (également appelée "cirrhose biliaire primitive") en monothérapie chez les adultes qui ne tolèrent pas l’AUDC et ne pouvant être inclus dans un essai clinique.
A7: CALPE01 | B7: L’alpelisib en association au fulvestrant est indiqué chez les hommes et les femmes ménopausées atteints d’un cancer du sein localement avancé ou métastatique, - avec récepteurs hormonaux positifs (RH+), - HER2-négatifs, - présentant une mutation PI
B8: L’alpelisib en association au fulvestrant est indiqué chez les hommes et les femmes ménopausées atteints d’un cancer du sein localement avancé ou métastatique, avec récepteurs hormonaux positifs (RH+), HER2-négatifs, présentant une mutation PIK3CA, en éch
A9: CAPAL01 | B9: Le traitement des hommes atteints d’un cancer de la prostate résistant à la castration non métastatique (nmCRPC) avec un temps de doublement du taux de PSA inférieur ou égal à 10 mois
B10: Traitement des hommes atteints d’un cancer de la prostate résistant à la castration non métastatique (nmCRPC) avec un temps de doublement du taux de PSA inférieur ou égal à 10 mois
A11: CATAL01 | B11: Le traitement de la dystrophie musculaire de Duchenne, résultant d’une mutation non-sens dans le gène de la dystrophine, chez les patients ambulatoires âgés de 5 ans ou plus (voir rubrique 5.1). L’efficacité n’a pas été démontrée chez les patients non a
A12: CATEZ01 | B12: En association au nab-paclitaxel ou au paclitaxel est indiqué dans le traitement des patients adultes atteints d’un cancer du sein triple négatif localement avancé non résécable ou métastatique, dont les tumeurs présentent une expression de PD-L1 ≥ 1 % et
A13: CBENZ01 | B13: Traitement adjuvant dans la prise en charge au long cours de l’hyperglycinémie sans cétose
A14: CBENZ02 | B14: Traitement adjuvant dans la prise en charge au long cours des désordres du cycle de l’urée, incluant un déficit en carbamylphosphate synthétase, ornithine transcarbamylase, argininosuccinate synthétase, arginosuccinate lyase, arginase, ou n-acetylglutamat
A15: CBEVA01 | B15: En association au paclitaxel, est indiqué en première ligne de traitement du cancer du sein métastatique HER2 négatif et récepteurs hormonaux (RH) négatifs (triple négatif).
A16: CBIOT01 | B16: Traitement de la sclérose en plaques : formes progressives primaires ou secondaires (sans poussée depuis au moins 1 an)
A17: CBRIG01 | B17: Traitement des patients adultes non éligibles à un essai clinique en cours, atteints d’un cancer broncho-pulmonaire non à petites cellules (CBNPC) avancé présentant un réarrangement du gène ALK (ALK positif), prétraités par crizotinib et pour lesquels il
A18: CBRIG01 | B18: Traitement des patients adultes non éligibles à un essai clinique en cours, atteints d’un cancer broncho-pulmonaire non à petites cellules (CBNPC) avancé présentant un réarrangement du gène ALK (ALK positif), prétraités par crizotinib et pour lesquels il
A19: CBULE01 | B19: Traitement de l’infection chronique par le virus de l’hépatite delta (VHD) chez les patients adultes présentant une cirrhose hépatique compensée, ou une fibrose hépatique sévère (fibrose de grade 3 évaluée par biopsie hépatique ou Fibroscan). Le traitemen
A20: CBULE02 | B20: Traitement de l’infection chronique par le virus de l’hépatite delta (VHD) chez les patients adultes présentant une fibrose hépatique de grade 2 (évaluée par biopsie hépatique ou Fibroscan) avec cytolyse hépatique persistante (ALT ≥ 2N depuis au moins 6 m
A21: CBURO01 | B21: Traitement des enfants à partir d’un an et des adolescents en période de croissance présentant un rachitisme hypophosphatémique lié à l’X avec lésions osseuses, et ayant une concentration sérique de phosphate < 1,3 mmol/L, mauvais répondeurs, non réponde
A22: CCAPL01 | B22: traitement des patients adultes présentant un épisode de purpura thrombotique thrombocytopénique acquis (PTTa) conjointement à un traitement par échanges plasmatiques et par immunosuppresseurs.
A23: CCAPT01 | B23: Chez les enfants de plus de 6 ans sans troubles de la déglutition ayant une insuffisance cardiaque qui ne serait pas consécutive à une chirurgie cardiaque
B24: Chez les enfants de plus de 6 ans sans troubles de la déglutition ayant une insuffisance cardiaque qui ne serait pas consécutive à une chirurgie cardiaque
A25: CCAPT02 | B25: Chez l’enfant de moins de 6 ans, ainsi que chez l’enfant et l’adulte ayant des difficultés de déglutition dans l'hypertension artérielle
A26: CCAPT03 | B26: Chez l’enfant de moins de 6 ans, ainsi que chez l’enfant et l’adulte ayant des difficultés de déglutition dans l'insuffisance cardiaque
A27: CCAPT04 | B27: Chez l’enfant de moins de 6 ans, ainsi que chez l’enfant et l’adulte ayant des difficultés de déglutition dans : - la néphropathie diabétique du diabète de type I : Le traitement de la néphropathie diabétique macroprotéinurique du diabète insulinodépendan
A28: CCAPT05 | B28: Chez l’adulte ayant des difficultés de déglutition dans l'nfarctus du myocarde : - Traitement de courte durée (4 semaines) : Dans les 24 premières heures chez les patients en situation hémodynamique stable.
A29: CCAPT06 | B29: Chez l’adulte ayant des difficultés de déglutition dans l'infarctus du myocarde : - Prévention à long terme de l'insuffisance cardiaque symptomatique : chez les patients cliniquement stables avec dysfonction ventriculaire gauche asymptomatique (fraction d
A30: CCARD01 | B30: Cardioplégie et protection myocardique au cours des interventions de chirurgie cardiaque dont le temps de clampage est supérieur à 90 min.
A31: CCEMI01 | B31: en monothérapie pour le traitement de patients adultes non éligibles à un essai clinique, considérés en impasse thérapeutique, atteints d’un carcinome épidermoïde cutané localement avancé ou métastatique, non éligible à la chirurgie et non éligible à la r
A32: CCERL01 | B32: Traitement des patients atteints de lipofuscinoses ceroïdes neuronales de type 2 (CLN2), également appelée déficit en tripeptidyl peptidase-1 (TPP1).
A33: CCHLO01 | B33: Le traitement des lymphomes T cutanés de type mycosis fongoïde (LTC-MF), sans association d’un autre médicament topique.
B34: Traitement des lymphomes T cutanés de type mycosis fongoïde (LTC-MF), sans association d’un autre médicament topique.
A35: CCICL01 | B35: Traitement de la kératoconjonctivite sèche chez des patients adultes présentant une kératite sévère ou des lésions de la cornée qui ne s’améliorent pas malgré l’instillation de substituts lacrymaux
A36: CCLOB01 | B36: En association avec un autre traitement antiépileptique : traitement des épilepsies partielles simples ou complexes et des épilepsies généralisées résistantes, lorsque les autres associations appropriées se sont révélées inefficaces ou mal tolérées. Chez
A37: CDEXA01 | B37: Chez l’adulte, en association, dans le traitement de certaines formes de myélome multiple
A38: CDEXA02 | B38: Chez l’adulte, en association, dans le traitement de certaines formes de lymphome
A39: CDEXA03 | B39: Chez l’adulte, en association, dans le traitement de certaines formes de leucémie aiguë lymphoblastique.
A40: CDINU01 | B40: Traitement des patients âgés de 12 mois et plus atteints d’un neuroblastome de haut risque, qui ont précédemment reçu une chimiothérapie d’induction et ont présenté au moins une réponse partielle, suivie d’un traitement myéloablatif et d’une greffe de cel
A41: CDINU02 | B41: Traitement des patients âgés de 12 mois et plus atteints ainsi que chez les patients ayant un neuroblastome récidivant ou réfractaire, avec ou sans maladie résiduelle. Avant d’initier le traitement d’un neuroblastome récidivant, il convient de stabiliser
A42: CDURV01 | B42: Traitement des patients adultes atteints d’un cancer du poumon non à petites cellules, stade III non opérable, ECOG 0 ou 1, dont la maladie n’a pas progressé après chimio-radiothérapie concomitante à base de platine.
...

Sheet listes complètes
K1: légende
A2: 1 | B2: 2 | C2: Nom, dosage, forme pharmaceutique de la spécialité | D2: Dénomination Commune Internationale | E2: Statut médicament | F2: Indications | G2: Code indication | H2: code UCD (13 chiffres) | I2: UPA | K2: ATU CHU Limoges
A3: =CONCATENATE(C3,E3,F3) -> 68Ga-NODAGA-exendin 50 µg, poudreNominativeSans objet : ATUn | B3: 68Ga-NODAGA-exendin 50 µg, poudreNominativeSans objet : ATUn | C3: 68Ga-NODAGA-exendin 50 µg, poudre | D3: 68Ga-NODAGA-exendin | E3: Nominative | F3: Sans objet : ATUn | G3: NXXXX00 | H3: 3400894559146
A4: =CONCATENATE(C4,E4,F4) -> ABT-414 100 mg, poudre pour solution à diluer pour perfusionNominativeSans objet : ATUn | B4: ABT-414 100 mg, poudre pour solution à diluer pour perfusionNominativeSans objet : ATUn | C4: ABT-414 100 mg, poudre pour solution à diluer pour perfusion | D4: dépatuxizumab mafodotine | E4: Nominative | F4: Sans objet : ATUn | G4: NXXXX00 | H4: 3400894429692
A5: =CONCATENATE(C5,E5,F5) -> ABT-414 20 mg, poudre pour solution à diluer pour perfusionNominativeSans objet : ATUn | B5: ABT-414 20 mg, poudre pour solution à diluer pour perfusionNominativeSans objet : ATUn | C5: ABT-414 20 mg, poudre pour solution à diluer pour perfusion | D5: dépatuxizumab mafodotine | E5: Nominative | F5: Sans objet : ATUn | G5: NXXXX00 | H5: 3400894307075
A6: =CONCATENATE(C6,E6,F6) -> ABT-494 30 mg, compriméNominativeSans objet : ATUn | B6: ABT-494 30 mg, compriméNominativeSans objet : ATUn | C6: ABT-494 30 mg, comprimé | D6: upadacitinib | E6: Nominative | F6: Sans objet : ATUn | G6: NXXXX00 | H6: 3400894521464
A7: =CONCATENATE(C7,E7,F7) -> ABT-494 15 mg, comprimé NominativeSans objet : ATUn | B7: ABT-494 15 mg, comprimé NominativeSans objet : ATUn | C7: ABT-494 15 mg, comprimé | D7: upadacitinib | E7: Nominative | F7: Sans objet : ATUn | G7: NXXXX00 | H7: 3400894559207
A8: =CONCATENATE(C8,E8,F8) -> ACALABRUTINIB 100 mgNominativeSans objet : ATUn | B8: ACALABRUTINIB 100 mgNominativeSans objet : ATUn | C8: ACALABRUTINIB 100 mg | D8: acalabrutinib | E8: Nominative | F8: Sans objet : ATUn | G8: NXXXX00 | H8: 3400894512998
A9: =CONCATENATE(C9,E9,F9) -> ADAGEN 250 U/ml, solution injectableNominativeSans objet : ATUn | B9: ADAGEN 250 U/ml, solution injectableNominativeSans objet : ATUn | C9: ADAGEN 250 U/ml, solution injectable | D9: pégademase bovine | E9: Nominative | F9: Sans objet : ATUn | G9: NXXXX00 | H9: 3400892394930
A10: =CONCATENATE(C10,E10,F10) -> ADV7103, granulés à libération prolongéeNominativeSans objet : ATUn | B10: ADV7103, granulés à libération prolongéeNominativeSans objet : ATUn | C10: ADV7103, granulés à libération prolongée | D10: citrate de potassium et bicarbonate de potassium | E10: Nominative | F10: Sans objet : ATUn | G10: NXXXX00 | H10: 3400894399506
A11: =CONCATENATE(C11,E11,F11) -> ADV7103, granulés à libération prolongéeNominativeSans objet : ATUn | B11: ADV7103, granulés à libération prolongéeNominativeSans objet : ATUn | C11: ADV7103, granulés à libération prolongée | D11: citrate de potassium et bicarbonate de potassium | E11: Nominative | F11: Sans objet : ATUn | G11: NXXXX00 | H11: 3400894399674
A12: =CONCATENATE(C12,E12,F12) -> ALINIA 100 mg/5 ml, suspension buvableNominativeSans objet : ATUn | B12: ALINIA 100 mg/5 ml, suspension buvableNominativeSans objet : ATUn | C12: ALINIA 100 mg/5 ml, suspension buvable | D12: nitazoxanide | E12: Nominative | F12: Sans objet : ATUn | G12: NXXXX00 | H12: 3400892992426
A13: =CONCATENATE(C13,E13,F13) -> ALINIA 500 mg, compriméNominativeSans objet : ATUn | B13: ALINIA 500 mg, compriméNominativeSans objet : ATUn | C13: ALINIA 500 mg, comprimé | D13: nitazoxanide | E13: Nominative | F13: Sans objet : ATUn | G13: NXXXX00 | H13: 3400892944630
A14: =CONCATENATE(C14,E14,F14) -> ALPELISIB 200 mg, comprimé pelliculéNominativeCancer du sein | B14: ALPELISIB 200 mg, comprimé pelliculéNominativeCancer du sein | C14: ALPELISIB 200 mg, comprimé pelliculé | D14: alpelisib | E14: Nominative | F14: Cancer du sein | G14: NXXXX00 | H14: 3400894428114
A15: =CONCATENATE(C15,E15,F15) -> ALPELISIB 200 mg, comprimé pelliculéNominativeSyndrome PROS/ CLOVES | B15: ALPELISIB 200 mg, comprimé pelliculéNominativeSyndrome PROS/ CLOVES | C15: ALPELISIB 200 mg, comprimé pelliculé | D15: alpelisib | E15: Nominative | F15: Syndrome PROS/ CLOVES | G15: NXXXX00 | H15: 3400894428114
... A20: =CONCATENATE(C20,E20,F20) -> ALPHAGAN P 0,15 %, collyre en solutionNominativeSans objet : ATUn | B20: ALPHAGAN P 0,15 %, collyre en solutionNominativeSans objet : ATUn | C20: ALPHAGAN P 0,15 %, collyre en solution | D20: brimonidine (tartrate) | E20: Nominative | F20: Sans objet : ATUn | G20: NXXXX00 | H20: 3400893133217
A21: =CONCATENATE(C21,E21,F21) -> ALUNBRIG 180 mg comprimés pelliculésdispositif pèrenneTraitement des patients adultes non éligibles à un essai clinique en cours, atteints d’un cancer broncho-pulmonaire non à petites cellules (CBNPC) avancé présentant un réarrangement du gène ALK (ALK positif), prétraités par crizotinib et pour lesquels il n’existe pas d’alternative thérapeutique appropriée disponible | B21: ALUNBRIG 180 mg comprimés pelliculésdispositif pèrenneTraitement des patients adultes non éligibles à un essai clinique en cours, atteints d’un cancer broncho-pulmonaire non à petites cellules (CBNPC) avancé présentant un réarrangement du gène ALK (ALK positif), prétraités par crizotinib et pour lesquels il n’existe pas d’alternative thérapeutique appropriée disponible | C21: ALUNBRIG 180 mg comprimés pelliculés | D21: brigatinib | E21: dispositif pèrenne | F21: Traitement des patients adultes non éligibles à un essai clinique en cours, atteints d’un cancer broncho-pulmonaire non à petites cellules (CBNPC) avancé présentant un réarrangement du gène ALK (ALK positif), prétraités par crizotinib et pour lesquels il n’existe pas d’alternative thérapeutique appropriée disponible | G21: CBRIG01
A22: =CONCATENATE(C22,E22,F22) -> ALUNBRIG 180 mg comprimés pelliculésdispositif pèrenneSans objet : ATUn | B22: ALUNBRIG 180 mg comprimés pelliculésdispositif pèrenneSans objet : ATUn | C22: ALUNBRIG 180 mg comprimés pelliculés | D22: brigatinib | E22: dispositif pèrenne | F22: Sans objet : ATUn | G22: NXXXX00
A23: =CONCATENATE(C23,E23,F23) -> ALUNBRIG 30 mg comprimés pelliculésdispositif pèrenneTraitement des patients adultes non éligibles à un essai clinique en cours, atteints d’un cancer broncho-pulmonaire non à petites cellules (CBNPC) avancé présentant un réarrangement du gène ALK (ALK positif), prétraités par crizotinib et pour lesquels il n’existe pas d’alternative thérapeutique appropriée disponible | B23: ALUNBRIG 30 mg comprimés pelliculésdispositif pèrenneTraitement des patients adultes non éligibles à un essai clinique en cours, atteints d’un cancer broncho-pulmonaire non à petites cellules (CBNPC) avancé présentant un réarrangement du gène ALK (ALK positif), prétraités par crizotinib et pour lesquels il n’existe pas d’alternative thérapeutique appropriée disponible | C23: ALUNBRIG 30 mg comprimés pelliculés | D23: brigatinib | E23: dispositif pèrenne | F23: Traitement des patients adultes non éligibles à un essai clinique en cours, atteints d’un cancer broncho-pulmonaire non à petites cellules (CBNPC) avancé présentant un réarrangement du gène ALK (ALK positif), prétraités par crizotinib et pour lesquels il n’existe pas d’alternative thérapeutique appropriée disponible | G23: CBRIG01
A24: =CONCATENATE(C24,E24,F24) -> ALUNBRIG 30 mg comprimés pelliculésdispositif pèrenneSans objet : ATUn | B24: ALUNBRIG 30 mg comprimés pelliculésdispositif pèrenneSans objet : ATUn | C24: ALUNBRIG 30 mg comprimés pelliculés | D24: brigatinib | E24: dispositif pèrenne | F24: Sans objet : ATUn | G24: NXXXX00
A25: =CONCATENATE(C25,E25,F25) -> ALUNBRIG 90 mg comprimés pelliculésdispositif pèrenneTraitement des patients adultes non éligibles à un essai clinique en cours, atteints d’un cancer broncho-pulmonaire non à petites cellules (CBNPC) avancé présentant un réarrangement du gène ALK (ALK positif), prétraités par crizotinib et pour lesquels il n’existe pas d’alternative thérapeutique appropriée disponible | B25: ALUNBRIG 90 mg comprimés pelliculésdispositif pèrenneTraitement des patients adultes non éligibles à un essai clinique en cours, atteints d’un cancer broncho-pulmonaire non à petites cellules (CBNPC) avancé présentant un réarrangement du gène ALK (ALK positif), prétraités par crizotinib et pour lesquels il n’existe pas d’alternative thérapeutique appropriée disponible | C25: ALUNBRIG 90 mg comprimés pelliculés | D25: brigatinib | E25: dispositif pèrenne | F25: Traitement des patients adultes non éligibles à un essai clinique en cours, atteints d’un cancer broncho-pulmonaire non à petites cellules (CBNPC) avancé présentant un réarrangement du gène ALK (ALK positif), prétraités par crizotinib et pour lesquels il n’existe pas d’alternative thérapeutique appropriée disponible | G25: CBRIG01
A26: =CONCATENATE(C26,E26,F26) -> ALUNBRIG 90 mg comprimés pelliculésdispositif pèrenneSans objet : ATUn | B26: ALUNBRIG 90 mg comprimés pelliculésdispositif pèrenneSans objet : ATUn | C26: ALUNBRIG 90 mg comprimés pelliculés | D26: brigatinib | E26: dispositif pèrenne | F26: Sans objet : ATUn | G26: NXXXX00
A27: =CONCATENATE(C27,E27,F27) -> AMANTADINE HYDROCHLORIDE 50 mg/5 ml, siropNominativeTraumatisme crânien sévère chez un patient en état végétatif ou en état de conscience minimale chez les patients qui ne peuvent pas avaler les capsules de Mantadix | B27: AMANTADINE HYDROCHLORIDE 50 mg/5 ml, siropNominativeTraumatisme crânien sévère chez un patient en état végétatif ou en état de conscience minimale chez les patients qui ne peuvent pas avaler les capsules de Mantadix | C27: AMANTADINE HYDROCHLORIDE 50 mg/5 ml, sirop | D27: amantadine | E27: Nominative | F27: Traumatisme crânien sévère chez un patient en état végétatif ou en état de conscience minimale chez les patients qui ne peuvent pas avaler les capsules de Mantadix | G27: NXXXX00 | H27: 3400894199991
A28: =CONCATENATE(C28,E28,F28) -> AMANTADINE HYDROCHLORIDE 50 mg/5 ml, siropNominativeMaladie de Parkinson, syndrome parkinsonien Chez les patients qui ne peuvent pas avaler les capsules de Mantadix | B28: AMANTADINE HYDROCHLORIDE 50 mg/5 ml, siropNominativeMaladie de Parkinson, syndrome parkinsonien Chez les patients qui ne peuvent pas avaler les capsules de Mantadix | C28: AMANTADINE HYDROCHLORIDE 50 mg/5 ml, sirop | D28: amantadine | E28: Nominative | F28: Maladie de Parkinson, syndrome parkinsonien Chez les patients qui ne peuvent pas avaler les capsules de Mantadix | G28: NXXXX00 | H28: 3400894199991
A29: =CONCATENATE(C29,E29,F29) -> AMGLIDIA 0.6 mg/ml, solution buvableNominativeSans objet : ATUn | B29: AMGLIDIA 0.6 mg/ml, solution buvableNominativeSans objet : ATUn | C29: AMGLIDIA 0.6 mg/ml, solution buvable | D29: glibenclamide | E29: Nominative | F29: Sans objet : ATUn | G29: NXXXX00 | H29: 3400894463412
A30: =CONCATENATE(C30,E30,F30) -> AMGLIDIA 0.6 mg/ml, solution buvableNominativeSans objet : ATUn | B30: AMGLIDIA 0.6 mg/ml, solution buvableNominativeSans objet : ATUn | C30: AMGLIDIA 0.6 mg/ml, solution buvable | D30: glibenclamide | E30: Nominative | F30: Sans objet : ATUn | G30: NXXXX00 | H30: 3400894463580
A31: =CONCATENATE(C31,E31,F31) -> AMGLIDIA 6 mg/ml, solution buvableNominativeSans objet : ATUn | B31: AMGLIDIA 6 mg/ml, solution buvableNominativeSans objet : ATUn | C31: AMGLIDIA 6 mg/ml, solution buvable | D31: glibenclamide | E31: Nominative | F31: Sans objet : ATUn | G31: NXXXX00 | H31: 3400894463641
A32: =CONCATENATE(C32,E32,F32) -> AMGLIDIA 6 mg/ml, solution buvableNominativeSans objet : ATUn | B32: AMGLIDIA 6 mg/ml, solution buvableNominativeSans objet : ATUn | C32: AMGLIDIA 6 mg/ml, solution buvable | D32: glibenclamide | E32: Nominative | F32: Sans objet : ATUn | G32: NXXXX00 | H32: 3400894463702
A33: =CONCATENATE(C33,E33,F33) -> AMMONUL 10%/10%, poudre et solvant pour solution injectableNominativeComa hyperammoniémique suite à un traitement par asparaginase (hyperammoniémie secondaire) | B33: AMMONUL 10%/10%, poudre et solvant pour solution injectableNominativeComa hyperammoniémique suite à un traitement par asparaginase (hyperammoniémie secondaire) | C33: AMMONUL 10%/10%, poudre et solvant pour solution injectable | D33: benzoate de sodium et phénylacétate de sodium | E33: Nominative | F33: Coma hyperammoniémique suite à un traitement par asparaginase (hyperammoniémie secondaire) | G33: NXXXX00 | H33: 3400893170236
A34: =CONCATENATE(C34,E34,F34) -> AMMONUL 10%/10%, poudre et solvant pour solution injectableNominativeComa hyperammoniémique lié à un déficit du cycle de l’urée (hyperammoniémie primaire) | B34: AMMONUL 10%/10%, poudre et solvant pour solution injectableNominativeComa hyperammoniémique lié à un déficit du cycle de l’urée (hyperammoniémie primaire) | C34: AMMONUL 10%/10%, poudre et solvant pour solution injectable | D34: benzoate de sodium et phénylacétate de sodium | E34: Nominative | F34: Coma hyperammoniémique lié à un déficit du cycle de l’urée (hyperammoniémie primaire) | G34: NXXXX00 | H34: 3400893170236
A35: =CONCATENATE(C35,E35,F35) -> ANTAXONE 50 mg/10 ml, solution buvableNominativeSans objet : ATUn | B35: ANTAXONE 50 mg/10 ml, solution buvableNominativeSans objet : ATUn | C35: ANTAXONE 50 mg/10 ml, solution buvable | D35: naltrexone (chlorhydrate) | E35: Nominative | F35: Sans objet : ATUn | G35: NXXXX00 | H35: 3400893000052
A36: =CONCATENATE(C36,E36,F36) -> ANTICHOLIUM 2 mg/5 ml, solution injectableNominativeSans objet : ATUn | B36: ANTICHOLIUM 2 mg/5 ml, solution injectableNominativeSans objet : ATUn | C36: ANTICHOLIUM 2 mg/5 ml, solution injectable | D36: physostigmine (salicylate) | E36: Nominative | F36: Sans objet : ATUn | G36: NXXXX00 | H36: 3400892438108
A37: =CONCATENATE(C37,E37,F37) -> ANTIDIPHTHERIA SERUM BUL BIO, solution injectableNominativeSans objet : ATUn | B37: ANTIDIPHTHERIA SERUM BUL BIO, solution injectableNominativeSans objet : ATUn | C37: ANTIDIPHTHERIA SERUM BUL BIO, solution injectable | D37: immunoglobuline équine antidiphtérique | E37: Nominative | F37: Sans objet : ATUn | G37: NXXXX00 | H37: 3400894555124
A38: =CONCATENATE(C38,E38,F38) -> ANTIVIPMYN TRI, solution injectableNominativeSans objet : ATUn | B38: ANTIVIPMYN TRI, solution injectableNominativeSans objet : ATUn | C38: ANTIVIPMYN TRI, solution injectable | D38: Immunoglobulines équines | E38: Nominative | F38: Sans objet : ATUn | G38: NXXXX00 | H38: 3400893189627
... A41: =CONCATENATE(C41,E41,F41) -> ARIKAYCE 70 mg/ml, suspension pour inhalation par nébuliseurNominativePatient adulte avec infection pulmonaire à mycobactéries non tuberculeuses (MNT),Et échec ou réponse insuffisante à 1 ou plusieurs lignes de multithérapie antibiotique ciblée selon l’antibiogramme de la bactérie,Et pas de possibilité de poursuivre un traitement par amikacine par voie injectable : effets systémiques mal tolérés ou durée prolongée non envisageable,Et après avis favorable (l’avis doit être transmis avec la demande d’ATU pour l’initiation du traitement) de : Centre National de Référence (CNR) des Mycobactéries et de la Résistance des Mycobactéries aux Antituberculeux - CHU Pitié Salpêtrière (réunion de concertation pluridisciplinaire mycobactéries non tuberculeuses RCP MNT) ou Pneumologue référent mycobactéries non tuberculeuses – cf. CHU Amiens (RCP MNT), Et absence d’antécédents d’hypersensibilité aux aminosides, à l’amikacine ou à l’un des excipients du produit, Absence de myasthénie | B41: ARIKAYCE 70 mg/ml, suspension pour inhalation par nébuliseurNominativePatient adulte avec infection pulmonaire à mycobactéries non tuberculeuses (MNT),Et échec ou réponse insuffisante à 1 ou plusieurs lignes de multithérapie antibiotique ciblée selon l’antibiogramme de la bactérie,Et pas de possibilité de poursuivre un traitement par amikacine par voie injectable : effets systémiques mal tolérés ou durée prolongée non envisageable,Et après avis favorable (l’avis doit être transmis avec la demande d’ATU pour l’initiation du traitement) de : Centre National de Référence (CNR) des Mycobactéries et de la Résistance des Mycobactéries aux Antituberculeux - CHU Pitié Salpêtrière (réunion de concertation pluridisciplinaire mycobactéries non tuberculeuses RCP MNT) ou Pneumologue référent mycobactéries non tuberculeuses – cf. CHU Amiens (RCP MNT), Et absence d’antécédents d’hypersensibilité aux aminosides, à l’amikacine ou à l’un des excipients du produit, Absence de myasthénie | C41: ARIKAYCE 70 mg/ml, suspension pour inhalation par nébuliseur | D41: amikacine liposomale | E41: Nominative | F41: Patient adulte avec infection pulmonaire à mycobactéries non tuberculeuses (MNT),Et échec ou réponse insuffisante à 1 ou plusieurs lignes de multithérapie antibiotique ciblée selon l’antibiogramme de la bactérie,Et pas de possibilité de poursuivre un traitement par amikacine par voie injectable : effets systémiques mal tolérés ou durée prolongée non envisageable,Et après avis favorable (l’avis doit être transmis avec la demande d’ATU pour l’initiation du traitement) de : Centre National de Référence (CNR) des Mycobactéries et de la Résistance des Mycobactéries aux Antituberculeux - CHU Pitié Salpêtrière (réunion de concertation pluridisciplinaire mycobactéries non tuberculeuses RCP MNT) ou Pneumologue référent mycobactéries non tuberculeuses – cf. CHU Amiens (RCP MNT), Et absence d’antécédents d’hypersensibilité aux aminosides, à l’amikacine ou à l’un des excipients du produit, Absence de myasthénie | G41: NXXXX00 | H41: 3400893999950
A42: =CONCATENATE(C42,E42,F42) -> ARZERRA 100 mg, solution pour perfusionNominativeleucémie lymphoïde chronique (LLC), en association avec le chlorambucil ou la bendamustine chez des patients qui n’ont pas reçu de traitement préalable et inéligibles à un traitement à base de fludarabine. | B42: ARZERRA 100 mg, solution pour perfusionNominativeleucémie lymphoïde chronique (LLC), en association avec le chlorambucil ou la bendamustine chez des patients qui n’ont pas reçu de traitement préalable et inéligibles à un traitement à base de fludarabine. | C42: ARZERRA 100 mg, solution pour perfusion | D42: ofatumumab | E42: Nominative | F42: leucémie lymphoïde chronique (LLC), en association avec le chlorambucil ou la bendamustine chez des patients qui n’ont pas reçu de traitement préalable et inéligibles à un traitement à base de fludarabine. | G42: NXXXX00 | H42: 3400894044437 | I42: oui
A43: =CONCATENATE(C43,E43,F43) -> ARZERRA 1000 mg, solution pour perfusionNominativeleucémie lymphoïde chronique (LLC), en association avec le chlorambucil ou la bendamustine chez des patients qui n’ont pas reçu de traitement préalable et inéligibles à un traitement à base de fludarabine. | B43: ARZERRA 1000 mg, solution pour perfusionNominativeleucémie lymphoïde chronique (LLC), en association avec le chlorambucil ou la bendamustine chez des patients qui n’ont pas reçu de traitement préalable et inéligibles à un traitement à base de fludarabine. | C43: ARZERRA 1000 mg, solution pour perfusion | D43: ofatumumab | E43: Nominative | F43: leucémie lymphoïde chronique (LLC), en association avec le chlorambucil ou la bendamustine chez des patients qui n’ont pas reçu de traitement préalable et inéligibles à un traitement à base de fludarabine. | G43: NXXXX00 | H43: 3400894044376 | I43: oui
A44: =CONCATENATE(C44,E44,F44) -> ASCIMINIB 40 mg, compriméNominativeSans objet : ATUn | B44: ASCIMINIB 40 mg, compriméNominativeSans objet : ATUn | C44: ASCIMINIB 40 mg, comprimé | D44: asciminib | E44: Nominative | F44: Sans objet : ATUn | G44: NXXXX00 | H44: 3400894513070
A45: =CONCATENATE(C45,E45,F45) -> ASUNERCEPT 200 mg/10 ml, solution à diluer pour perfusionNominativeSans objet : ATUn | B45: ASUNERCEPT 200 mg/10 ml, solution à diluer pour perfusionNominativeSans objet : ATUn | C45: ASUNERCEPT 200 mg/10 ml, solution à diluer pour perfusion | D45: asunercept | E45: Nominative | F45: Sans objet : ATUn | G45: NXXXX00 | H45: 3400894528449
A46: =CONCATENATE(C46,E46,F46) -> Atezolizumab 840 mg, solution à diluer pour perfusionCohorteEn association au nab-paclitaxel ou au paclitaxel est indiqué dans le traitement des patients adultes atteints d’un cancer du sein triple négatif localement avancé non résécable ou métastatique, dont les tumeurs présentent une expression de PD-L1 ≥ 1 % et n’ayant pas précédemment reçu de chimiothérapie en situation métastatique | B46: Atezolizumab 840 mg, solution à diluer pour perfusionCohorteEn association au nab-paclitaxel ou au paclitaxel est indiqué dans le traitement des patients adultes atteints d’un cancer du sein triple négatif localement avancé non résécable ou métastatique, dont les tumeurs présentent une expression de PD-L1 ≥ 1 % et n’ayant pas précédemment reçu de chimiothérapie en situation métastatique | C46: Atezolizumab 840 mg, solution à diluer pour perfusion | D46: atezolizumab | E46: Cohorte | F46: En association au nab-paclitaxel ou au paclitaxel est indiqué dans le traitement des patients adultes atteints d’un cancer du sein triple négatif localement avancé non résécable ou métastatique, dont les tumeurs présentent une expression de PD-L1 ≥ 1 % et n’ayant pas précédemment reçu de chimiothérapie en situation métastatique | G46: CATEZ01 | H46: 3400894514312 | I46: oui
...

Sheet indications libellés par UCD
A1: Molécule | C1: Indication 1 | D1: Indication 2 | E1: Indication 3 | F1: Indication 4 | G1: Indication 5 | H1: Indication 6 | I1: Indication 7 | J1: Indication 8 | K1: Indication 9 | L1: Indication 10 | M1: Indication 11 | N1: Indication 12
A2: ALPELISIB 200 mg, comprimé pelliculé | C2: Cancer du sein | D2: Syndrome PROS/ CLOVES | E2: L’alpelisib en association au fulvestrant est indiqué chez les hommes et les femmes ménopausées atteints d’un cancer du sein localement avancé ou métastatique, avec récepteurs hormonaux positifs (RH+), HER2-négatifs, présentant une mutation PIK3CA, en échec d’au moins 2 lignes de traitements en situation métastatique incluant un anti-aromatase et un inhibiteur CDK4/6 sauf s'ils n'étaient pas éligibles à ce type de traitement, ne présentant pas de propagation viscérale symptomatique, ne présentant pas de cancer du sein inflammatoire.
A3: ALPELISIB 50 mg, comprimé pelliculé | C3: Cancer du sein | D3: Syndrome PROS/ CLOVES | E3: L’alpelisib en association au fulvestrant est indiqué chez les hommes et les femmes ménopausées atteints d’un cancer du sein localement avancé ou métastatique, avec récepteurs hormonaux positifs (RH+), HER2-négatifs, présentant une mutation PIK3CA, en échec d’au moins 2 lignes de traitements en situation métastatique incluant un anti-aromatase et un inhibiteur CDK4/6 sauf s'ils n'étaient pas éligibles à ce type de traitement, ne présentant pas de propagation viscérale symptomatique, ne présentant pas de cancer du sein inflammatoire.
A4: AMMONUL 10%/10%, poudre et solvant pour solution injectable | C4: Coma hyperammoniémique suite à un traitement par asparaginase (hyperammoniémie secondaire) | D4: Coma hyperammoniémique lié à un déficit du cycle de l’urée (hyperammoniémie primaire)
A5: ARZERRA 100 mg, solution pour perfusion | C5: leucémie lymphoïde chronique (LLC), en association avec le chlorambucil ou la bendamustine chez des patients qui n’ont pas reçu de traitement préalable et inéligibles à un traitement à base de fludarabine.
A6: ARZERRA 1000 mg, solution pour perfusion | C6: leucémie lymphoïde chronique (LLC), en association avec le chlorambucil ou la bendamustine chez des patients qui n’ont pas reçu de traitement préalable et inéligibles à un traitement à base de fludarabine.
A7: Atezolizumab 840 mg, solution à diluer pour perfusion | C7: En association au nab-paclitaxel ou au paclitaxel est indiqué dans le traitement des patients adultes atteints d’un cancer du sein triple négatif localement avancé non résécable ou métastatique, dont les tumeurs présentent une expression de PD-L1 ≥ 1 % et n’ayant pas précédemment reçu de chimiothérapie en situation métastatique
A8: ATTENTIN 5 mg, comprimé | C8: Hypersomnie idiopathique,En cas de réponse insuffisante ou échec à l’un des médicaments suivants bénéficiant d’une AMM, par exemple : modafinil , Après avis favorable d’un cardiologue sur l’initiation ou la poursuite du traitement(Modiodal), méthylphénidate (Ritaline), pitolisant (Wakix), oxybate de sodium (Xyrem),Après avis favorable d’un cardiologue sur l’initiation ou la poursuite du traitement | D8: Narcolepsie avec ou sans cataplexie, En cas de réponse insuffisante ou échec à l’un des médicaments suivants bénéficiant d’une AMM, par exemple : modafinil (Modiodal), méthylphénidate (Ritaline), pitolisant (Wakix), oxybate de sodium (Xyrem), Après avis favorable d’un cardiologue sur l’initiation ou la poursuite du traitement
A9: BAVENCIO® 20 mg/ml, solution à diluer pour perfusion | C9: patients adultes atteints d’un carcinome à cellules de Merkel (CCM) métastatique, dont la maladie a progressé après avoir reçu au moins une ligne de chimiothérapie antérieure
A10: BELANTAMAB MAFODOTIN 20 mg/ml, solution à diluer pour perfusion | C10: Sans objet : ATUn
A11: BRAFTOVI® 75 mg gélules | C11: mélanome non résécable ou métastatique, chez les adultes porteurs d’une mutation BRAF V600
A12: CABLIVI® 10 mg, poudre et solvant pour solution injectable | C12: traitement des patients adultes présentant un épisode de purpura thrombotique thrombocytopénique acquis (PTTa) conjointement à un traitement par échanges plasmatiques et par immunosuppresseurs. | D12: Sans objet : ATUn
A13: CAMPATH 30 mg/ml, solution à diluer pour perfusion | C13: Traitement de Leucémie pro-lymphocytaire T | D13: Traitement de la leucémie lymphoïde chronique à cellules B (LLC-B) pour laquelle une polychimiothérapie comportant de la fludarabine n’est pas appropriée
A14: CIDOFOVIR 75 mg/ml, solution injectable | C14: infection à HHV6 en situation d’échec ou d’intolérance au (val)ganciclovir et foscarnet | D14: infection à HSV en situation d’échec, de résistance ou d’intolérance au (val)aciclovir et foscarnet | E14: Papillomatose laryngée et/ou respiratoire basse réfractaire au traitement chirurgical, après avis collégial | F14: infection à CMV en situation d’échec, de résistance ou d’intolérance au (val)ganciclovir et foscarnet | G14: infection à BK virus | H14: Infection à adénovirus
A15: CYCLOSERINE 250 mg, gélule | C15: Tuberculose multi-résistante (= résistance à isoniazide et rifampicine)
A16: DARZALEX® 20 mg/ml solution à diluer pour perfusion | C16: en association avec le lénalidomide et la dexaméthasone ou avec le bortézomib, le melphalan et la prednisone pour le traitement des patients adultes atteints d'un myélome multiple nouvellement diagnostiqué et non éligibles à une autogreffe de cellules souches | D16: en monothérapie, pour le traitement des patients adultes atteints d'un myélome multiple en rechute et réfractaire, pour lesquels les traitements antérieurs incluaient un inhibiteur du protéasome et un agent immunomodulateur et dont la maladie a progressé lors du dernier traitement. | E16: en association avec le lénalidomide et la dexaméthasone, ou le bortézomib et la dexaméthasone, pour le traitement des patients adultes atteints d'un myélome multiple ayant reçu au moins un traitement antérieur
A17: DECORENONE 50 mg, gélule | C17: Syndrome des vomissements cycliques | D17: Cytopathies mitochondriales
A18: DECORENONE, 50 mg/10 ml, solution buvable | C18: Syndrome des vomissements cycliques | D18: Cytopathies mitochondriales
A19: DODECAVIT 5 mg/ml, solution injectable | C19: Maladies héréditaires du métabolisme intracellulaire de la vitamine B12 Chez les patients ne pouvant avaler les comprimés
A20: DOPS OD 100 mg, comprimé orodispersible | C20: Hypotension orthostatique (dysaustonomie) primitive, Après échec aux traitements standards : Gutron (midodrine) et Flucortac (fludrocortisone)
A21: DOPS OD 200 mg, comprimé orodispersible | C21: Hypotension orthostatique (dysaustonomie) primitive, Après échec aux traitements standards : Gutron (midodrine) et Flucortac (fludrocortisone)
A22: DUPIXENT® 300 mg, solution injectable en seringue préremplie | C22: dermatite atopique modérée à sévère de l’adulte qui nécessite un traitement systémique. Il est indiqué en cas de contre-indication, d’intolérance ou d’échec avec les traitements systémiques disponibles.
A23: EPIDIOLEX 100 mg/ml, solution orale | C23: Traitement adjuvant des convulsions associées au syndrome de Lennox-Gastaut (SLG) ou au syndrome de Dravet (SD) en association avec du clobazam, chez les patients de 2 ans et plus, Après échec des traitements antérieurs, Et en association à au moins un traitement antiépileptique indiqué dans le syndrome de Lennox-Gastaut (notamment valproate, felbamate, lamotrigine, rufinamide, topiramate) ou le syndrome de Dravet (notamment stiripentol).Absence d’hypersensibilité connue ou suspectée aux cannabinoides.Chez les femmes en âge de procréer : mise en place d’une contraception efficace
A24: HAEMATE P 1000 IU, poudre et solvant pour solution injectable | C24: Induction de tolérance immune en cas d’échec ou d’intolérance aux autres traitements de la même classe
A25: HEMLIBRA® 150 mg/mL solution injectable | C25: patients atteints d'hémophilie A (déficit congénital en facteur VIII) avec inhibiteurs anti-facteur VIII | D25: patients atteints d'hémophilie A sévère (déficit congénital en facteur VIII, FVIII < 1 %) sans inhibiteur anti-facteur VIII
A26: HUMULIN REGULAR 500 UI/ml, suspension injectable | C26: Diabète Insulino Dépendant avec insulino résistance sévère En cas d’échec à Umuline Rapide 100 UI/ml
A27: IDHIFA 100 mg, comprimé | C27: Leucémie Aiguë Myéloïde en rechute ou réfractaire, IDH 2 positive, Patients en rechute cytologique confirmée, A partir de la A partir de la 2e ligne pour les patients non éligibles à une chimiothérapie d’induction en vue d’une allogreffe (patients ayant reçu un agent hypométhylant), En monothérapie | D27: Leucémie Aiguë Myéloïde en rechute ou réfractaire, IDH 2 positive, Patients en rechute cytologique confirmée, A partir de la 3e ligne pour les patients éligibles à une chimiothérapie d’induction en vue d’une allogreffe (patients ayant reçu une 1ère ligne de traitement incluant un protocole d’induction à la greffe à base d’anthracycline + aracytine et une 2nde ligne de traitement incluant un traitement de re-induction ou un agent hypométhylant), En monothérapie | E27: Traitement en monothérapie, des patients adultes avec un risque cytogénétique intermédiaire ou défavorable, atteints d’une leucémie aiguë myéloïde (LAM) en rechute hématologique ou réfractaire, présentant une mutation de l’enzyme isocitrate déshydrogénase-2 (IDH-2), non candidats à une allogreffe. Idhifa ne peut être indiqué qu’en l’absence d’alternative thérapeutique
A28: IDHIFA 50 mg, comprimé | C28: Leucémie Aiguë Myéloïde en rechute ou réfractaire, IDH 2 positive, Patients en rechute cytologique confirmée, A partir de la A partir de la 2e ligne pour les patients non éligibles à une chimiothérapie d’induction en vue d’une allogreffe (patients ayant reçu un agent hypométhylant), En monothérapie | D28: Leucémie Aiguë Myéloïde en rechute ou réfractaire, IDH 2 positive, Patients en rechute cytologique confirmée, A partir de la 3e ligne pour les patients éligibles à une chimiothérapie d’induction en vue d’une allogreffe (patients ayant reçu une 1ère ligne de traitement incluant un protocole d’induction à la greffe à base d’anthracycline + aracytine et une 2nde ligne de traitement incluant un traitement de re-induction ou un agent hypométhylant), En monothérapie | E28: Traitement en monothérapie, des patients adultes avec un risque cytogénétique intermédiaire ou défavorable, atteints d’une leucémie aiguë myéloïde (LAM) en rechute hématologique ou réfractaire, présentant une mutation de l’enzyme isocitrate déshydrogénase-2 (IDH-2), non candidats à une allogreffe. Idhifa ne peut être indiqué qu’en l’absence d’alternative thérapeutique
A29: IKERVIS® 1 mg/ml, collyre en émulsion | C29: Traitement de la kératoconjonctivite sèche chez des patients adultes présentant une kératite sévère ou des lésions de la cornée qui ne s’améliorent pas malgré l’instillation de substituts lacrymaux
A30: ISATUXIMAB 20 mg/ml, solution à diluer pour perfusion | C30: En association avec pomalidomide et dexamethasone dans le traitement du Myélome Multiple après au moins deux lignes de traitement comprenant au moins du lenalidomide et un inhibiteur du protéasome,Chez les patients adultes réfractaires à la dernière ligne de traitement. | D30: En association avec pomalidomide et dexamethasone dans le traitement du Myélome Multiple après au moins deux lignes de traitement comprenant au moins du lenalidomide et un inhibiteur du protéasome,Chez les patients adultes réfractaires à la dernière ligne de traitement.
A31: ISTODAX 10 mg, poudre pour solution pour perfusion | C31: Lymphome T cutané ou périphérique,En rechute ou réfractaire à au moins 2 lignes de traitement,ET taux de plaquettes ≥ 75 G/L, ET taux de polynucléaires neutrophiles ≥ 1.5 G/L, Chez l’adulte
A32: LEDAGA® 160 microgrammes/g gel | C32: Le traitement des lymphomes T cutanés de type mycosis fongoïde (LTC-MF), sans association d’un autre médicament topique.
A33: LIBTAYO 350 mg, solution à diluer pour perfusion | C33: en monothérapie pour le traitement de patients adultes non éligibles à un essai clinique, considérés en impasse thérapeutique, atteints d’un carcinome épidermoïde cutané localement avancé ou métastatique, non éligible à la chirurgie et non éligible à la radiothérapie, présentant un score ECOG de 0 ou 1 :à partir de la deuxième ligne de traitement ou inéligibles aux sels de platine.
A34: LIKOZAM® 1 mg/ml, suspension buvable | C34: En association avec un autre traitement antiépileptique : traitement des épilepsies partielles simples ou complexes et des épilepsies généralisées résistantes, lorsque les autres associations appropriées se sont révélées inefficaces ou mal tolérées. Chez l’enfant, ainsi que chez l’adulte ayant des difficultés de déglutition.
A35: LIORESAL 5mg/5ml, solution buvable | C35: Contractures spastiques, Chez les patients qui ne peuvent pas avaler les comprimés
A36: LORVIQUA® 100 mg, comprimés pelliculés | C36: Lorviqua est indiqué en monothérapie dans le traitement des patients adultes atteints d’un cancer bronchique non à petites cellules (CBNPC) métastatique avec réarrangement du gène anaplastic lymphoma kinase (ALK-positif), non éligible à un essai clinique actuellement en cours en France et ayant progressé après au moins deux lignes de traitement par inhibiteur (s) de tyrosine kinase (ITK) de l’ALK.
A37: MALACEF 60 mg, poudre et solvant pour solution injectable | C37: Infection à CMV | D37: Accès grave de paludisme à Plasmodium falciparum
A38: MARINOL 2,5 mg, capsule molle | C38: Douleurs neuropathiques centrales et périphériques, Après échec des traitements de première ou deuxième ligne, Antidépresseurs tricycliques : Laroxyl/Elavil (amitriptyline), Ludiomil (maprotiline), Anafranil (clomipramine), Tofranil (imipramine), Anti-épileptiques : Neurontin (gabapentine), Lyrica (prégabaline),ISRNA : Cymbalta (duloxétine),Versatis (lidocaîne), Qutenza (capsaïcine), Opioïdes forts (par exemple tramadol).Prescription réservée aux médecins exerçant dans un centre anti-douleur
A39: MEKTOVI® 15 mg, comprimés pelliculés | C39: association à l'encorafenib est indiqué dans le traitement de patients adultes atteints de mélanome non résécable ou métastatique porteur d'une mutation BRAF V600
A40: MNESIS 45 mg, comprimé | C40: Cytopathies mitochondriales | D40: Ataxie de Friedreich
...
