Workbook
Name an: Roulement!$B$1
Name fériés: Paramètres!$C$2:$C$23

Sheet Paramètres
A1: Fériés/Pont | H1: l | I1: m | J1: me | K1: j | L1: v | M1: s | N1: d | O1: l | P1: m | Q1: me | R1: j | S1: v | T1: s | U1: d | V1: l | W1: m | X1: me | Y1: j | Z1: v | AA1: s | AB1: d | AC1: l | AD1: m | AE1: me | AF1: j | AG1: v | AH1: s | AI1: d
A2: Nouvel an | B2: =DATE(an,1,1) -> 45658 | C2: =IFERROR(IF(AND(WEEKDAY(B2,2)<6),B2,""),"") -> 45658 | G2: Personne1 | H2: J | I2: J | J2: J | K2: J | L2: J | O2: J | P2: J | Q2: J | R2: J | S2: J | V2: J | W2: J | X2: J | Y2: J | Z2: J | AC2: J | AD2: J | AE2: J | AF2: J | AG2: J
A3: Pont | B3: =IF(WEEKDAY(B2,2)=2,B2-1,IF(WEEKDAY(B2,2)=4,B2+1,"")) | C3: =IFERROR(IF(AND(WEEKDAY(B3,2)<6),B3,""),"") | G3: Personne2 | H3: A | I3: A | J3: A | K3: A | L3: A | O3: M | P3: M | Q3: M | R3: M | S3: M | V3: A | W3: A | X3: A | Y3: A | Z3: A | AC3: M | AD3: M | AE3: M | AF3: M | AG3: M
A4: Pâques (Lundi) | B4: =ROUND((DAY(MINUTE(an/38)/2 + 55) & "/4/" & an) / 7,0) * 7-5 -> 45768 | C4: =IFERROR(IF(AND(WEEKDAY(B4,2)<6),B4,""),"") -> 45768 | G4: Personne3 | H4: M | I4: M | J4: M | K4: M | L4: M | O4: A | P4: A | Q4: A | R4: A | S4: A | V4: M | W4: M | X4: M | Y4: M | Z4: M | AC4: A | AD4: A | AE4: A | AF4: A | AG4: A
A5: Pont | B5: =IF(WEEKDAY(B4,2)=2,B4-1,IF(WEEKDAY(B4,2)=4,B4+1,"")) | C5: =IFERROR(IF(AND(WEEKDAY(B5,2)<6),B5,""),"") | G5: Personne4 | M5: M | N5: M | AA5: M | AB5: M
A6: Fête du travail | B6: =DATE(an,5,1) -> 45778 | C6: =IFERROR(IF(AND(WEEKDAY(B6,2)<6),B6,""),"") -> 45778 | G6: Personne5 | M6: M | N6: M | AA6: M | AB6: M
A7: Pont | B7: =IF(WEEKDAY(B6,2)=2,B6-1,IF(WEEKDAY(B6,2)=4,B6+1,"")) -> 45779 | C7: =IFERROR(IF(AND(WEEKDAY(B7,2)<6),B7,""),"") -> 45779 | H7: 1 | I7: 2 | J7: 3 | K7: 4 | L7: 5 | M7: 6 | N7: 7 | O7: 8 | P7: 9 | Q7: 10 | R7: 11 | S7: 12 | T7: 13 | U7: 14 | V7: 15 | W7: 16 | X7: 17 | Y7: 18 | Z7: 19 | AA7: 20 | AB7: 21 | AC7: 22 | AD7: 23 | AE7: 24 | AF7: 25 | AG7: 26 | AH7: 27 | AI7: 28
A8: Armistice 1945 | B8: =DATE(an,5,8) -> 45785 | C8: =IFERROR(IF(AND(WEEKDAY(B8,2)<6),B8,""),"") -> 45785
A9: Pont | B9: =IF(WEEKDAY(B8,2)=2,B8-1,IF(WEEKDAY(B8,2)=4,B8+1,"")) -> 45786 | C9: =IFERROR(IF(AND(WEEKDAY(B9,2)<6),B9,""),"") -> 45786
A10: Ascension | B10: =B4+38 -> 45806 | C10: =IFERROR(IF(AND(WEEKDAY(B10,2)<6),B10,""),"") -> 45806
A11: Pont | B11: =IF(WEEKDAY(B10,2)=2,B10-1,IF(WEEKDAY(B10,2)=4,B10+1,"")) -> 45807 | C11: =IFERROR(IF(AND(WEEKDAY(B11,2)<6),B11,""),"") -> 45807
A12: Fête nationale | B12: =DATE(an,7,21) -> 45859 | C12: =IFERROR(IF(AND(WEEKDAY(B12,2)<6),B12,""),"") -> 45859
A13: Pont | B13: =IF(WEEKDAY(B12,2)=2,B12-1,IF(WEEKDAY(B12,2)=4,B12+1,"")) | C13: =IFERROR(IF(AND(WEEKDAY(B13,2)<6),B13,""),"")
A14: Pentecôte (Lundi) | B14: =B4+49 -> 45817 | C14: =IFERROR(IF(AND(WEEKDAY(B14,2)<6),B14,""),"") -> 45817
A15: Pont | B15: =IF(WEEKDAY(B14,2)=2,B14-1,IF(WEEKDAY(B14,2)=4,B14+1,"")) | C15: =IFERROR(IF(AND(WEEKDAY(B15,2)<6),B15,""),"")
A16: Assomption | B16: =DATE(an,8,15) -> 45884 | C16: =IFERROR(IF(AND(WEEKDAY(B16,2)<6),B16,""),"") -> 45884
A17: Pont | B17: =IF(WEEKDAY(B16,2)=2,B16-1,IF(WEEKDAY(B16,2)=4,B16+1,"")) | C17: =IFERROR(IF(AND(WEEKDAY(B17,2)<6),B17,""),"")
A18: Toussaint | B18: =DATE(an,11,1) -> 45962 | C18: =IFERROR(IF(AND(WEEKDAY(B18,2)<6),B18,""),"")
A19: Pont | B19: =IF(WEEKDAY(B18,2)=2,B18-1,IF(WEEKDAY(B18,2)=4,B18+1,"")) | C19: =IFERROR(IF(AND(WEEKDAY(B19,2)<6),B19,""),"")
A20: Armistice 1918 | B20: =DATE(an,11,11) -> 45972 | C20: =IFERROR(IF(AND(WEEKDAY(B20,2)<6),B20,""),"") -> 45972
A21: Pont | B21: =IF(WEEKDAY(B20,2)=2,B20-1,IF(WEEKDAY(B20,2)=4,B20+1,"")) -> 45971 | C21: =IFERROR(IF(AND(WEEKDAY(B21,2)<6),B21,""),"") -> 45971
A22: Noël | B22: =DATE(an,12,25) -> 46016 | C22: =IFERROR(IF(AND(WEEKDAY(B22,2)<6),B22,""),"") -> 46016
A23: Pont | B23: =IF(WEEKDAY(B22,2)=2,B22-1,IF(WEEKDAY(B22,2)=4,B22+1,"")) -> 46017 | C23: =IFERROR(IF(AND(WEEKDAY(B23,2)<6),B23,""),"") -> 46017

Sheet Roulement
B1: 2025 | C1: 1 | D1: 2 | E1: 3 | F1: 4 | G1: 5 | H1: 6 | I1: 7 | J1: 8 | K1: 9 | L1: 10 | M1: 11 | N1: 12 | O1: 13 | P1: 14 | Q1: 15 | R1: 16 | S1: 17 | T1: 18 | U1: 19 | V1: 20 | W1: 21 | X1: 22 | Y1: 23 | Z1: 24 | AA1: 25 | AB1: 26 | AC1: 27 | AD1: 28 | AE1: 29 | AF1: 30 | AG1: 31 | AH1: 32 | AI1: 33 | AJ1: 34 | AK1: 35 | AL1: 36 | AM1: 37 | AN1: 38 | AO1: 39 | AP1: 40 | AQ1: 41 | AR1: 42 | AS1: 43 | AT1: 44 | AU1: 45 | AV1: 46 | AW1: 47 | AX1: 48 | AY1: 49 | AZ1: 50 | BA1: 51 | BB1: 52 | BC1: 53 | BD1: 54 | BE1: 55 | BF1: 56 | BG1: 57 | BH1: 58 | BI1: 59 | BJ1: 60 | BK1: 61 | BL1: 62 | BM1: 63 | BN1: 64 | BO1: 65 | BP1: 66 | BQ1: 67 | BR1: 68 | BS1: 69 | BT1: 70 | BU1: 71 | BV1: 72 | BW1: 73 | BX1: 74 | BY1: 75 | BZ1: 76 | CA1: 77 | CB1: 78 | CC1: 79 | CD1: 80 | CE1: 81 | CF1: 82 | CG1: 83 | CH1: 84 | CI1: 85 | CJ1: 86 | CK1: 87 | CL1: 88 | CM1: 89 | CN1: 90 | CO1: 91 | CP1: 92 | CQ1: 93 | CR1: 94 | CS1: 95 | CT1: 96 | CU1: 97 | CV1: 98 | CW1: 99 | CX1: 100 | CY1: 101 | CZ1: 102 | DA1: 103 | DB1: 104 | DC1: 105 | DD1: 106 | DE1: 107 | DF1: 108 | DG1: 109 | DH1: 110 | DI1: 111 | DJ1: 112 | DK1: 113 | DL1: 114 | DM1: 115 | DN1: 116 | DO1: 117 | DP1: 118 | DQ1: 119 | DR1: 120 | DS1: 121 | DT1: 122 | DU1: 123 | DV1: 124 | DW1: 125 | DX1: 126 | DY1: 127 | DZ1: 128 | EA1: 129 | EB1: 130 | EC1: 131 | ED1: 132 | EE1: 133 | EF1: 134 | EG1: 135 | EH1: 136 | EI1: 137 | EJ1: 138 | EK1: 139 | EL1: 140 | EM1: 141 | EN1: 142 | EO1: 143 | EP1: 144 | EQ1: 145 | ER1: 146 | ES1: 147 | ET1: 148 | EU1: 149 | EV1: 150 | EW1: 151 | EX1: 152 | EY1: 153 | EZ1: 154 | FA1: 155 | FB1: 156 | FC1: 157 | FD1: 158 | FE1: 159 | FF1: 160 | FG1: 161 | FH1: 162 | FI1: 163 | FJ1: 164 | FK1: 165 | FL1: 166 | FM1: 167 | FN1: 168 | FO1: 169 | FP1: 170 | FQ1: 171 | FR1: 172 | FS1: 173 | FT1: 174 | FU1: 175 | FV1: 176 | FW1: 177 | FX1: 178 | FY1: 179 | FZ1: 180 | GA1: 181 | GB1: 182 | GC1: 183 | GD1: 184 | GE1: 185 | GF1: 186 | GG1: 187 | GH1: 188 | GI1: 189 | GJ1: 190 | GK1: 191 | GL1: 192 | GM1: 193 | GN1: 194 | GO1: 195 | GP1: 196 | GQ1: 197 | GR1: 198 | GS1: 199 | GT1: 200 | GU1: 201 | GV1: 202 | GW1: 203 | GX1: 204 | GY1: 205 | GZ1: 206 | HA1: 207 | HB1: 208 | HC1: 209 | HD1: 210 | HE1: 211 | HF1: 212 | HG1: 213 | HH1: 214 | HI1: 215 | HJ1: 216 | HK1: 217 | HL1: 218 | HM1: 219 | HN1: 220 | HO1: 221 | HP1: 222 | HQ1: 223 | HR1: 224 | HS1: 225 | HT1: 226 | HU1: 227 | HV1: 228 | HW1: 229 | HX1: 230 | HY1: 231 | HZ1: 232 | IA1: 233 | IB1: 234 | IC1: 235 | ID1: 236 | IE1: 237 | IF1: 238 | IG1: 239 | IH1: 240 | II1: 241 | IJ1: 242 | IK1: 243 | IL1: 244 | IM1: 245 | IN1: 246 | IO1: 247 | IP1: 248 | IQ1: 249 | IR1: 250 | IS1: 251 | IT1: 252 | IU1: 253 | IV1: 254 | IW1: 255 | IX1: 256 | IY1: 257 | IZ1: 258 | JA1: 259 | JB1: 260 | JC1: 261 | JD1: 262 | JE1: 263 | JF1: 264 | JG1: 265 | JH1: 266 | JI1: 267 | JJ1: 268 | JK1: 269 | JL1: 270 | JM1: 271 | JN1: 272 | JO1: 273 | JP1: 274 | JQ1: 275 | JR1: 276 | JS1: 277 | JT1: 278 | JU1: 279 | JV1: 280 | JW1: 281 | JX1: 282 | JY1: 283 | JZ1: 284 | KA1: 285 | KB1: 286 | KC1: 287 | KD1: 288 | KE1: 289 | KF1: 290 | KG1: 291 | KH1: 292 | KI1: 293 | KJ1: 294 | KK1: 295 | KL1: 296 | KM1: 297 | KN1: 298 | KO1: 299 | KP1: 300 | KQ1: 301 | KR1: 302 | KS1: 303 | KT1: 304 | KU1: 305 | KV1: 306 | KW1: 307 | KX1: 308 | KY1: 309 | KZ1: 310 | LA1: 311 | LB1: 312 | LC1: 313 | LD1: 314 | LE1: 315 | LF1: 316 | LG1: 317 | LH1: 318 | LI1: 319 | LJ1: 320 | LK1: 321 | LL1: 322 | LM1: 323 | LN1: 324 | LO1: 325 | LP1: 326 | LQ1: 327 | LR1: 328 | LS1: 329 | LT1: 330 | LU1: 331 | LV1: 332 | LW1: 333 | LX1: 334 | LY1: 335 | LZ1: 336 | MA1: 337 | MB1: 338 | MC1: 339 | MD1: 340 | ME1: 341 | MF1: 342 | MG1: 343 | MH1: 344 | MI1: 345 | MJ1: 346 | MK1: 347 | ML1: 348 | MM1: 349 | MN1: 350 | MO1: 351 | MP1: 352 | MQ1: 353 | MR1: 354 | MS1: 355 | MT1: 356 | MU1: 357 | MV1: 358 | MW1: 359 | MX1: 360 | MY1: 361 | MZ1: 362 | NA1: 363 | NB1: 364 | NC1: 365
B2: =DATE(an,1,1) -> 45658 | C2: =B2 -> 45658 | D2: =C2+1 -> 45659 | E2: =D2+1 -> 45660 | F2: =E2+1 -> 45661 | G2: =F2+1 -> 45662 | H2: =G2+1 -> 45663 | I2: =H2+1 -> 45664 | J2: =I2+1 -> 45665 | K2: =J2+1 -> 45666 | ... NC2: =NB2+1 -> 46022
B3: =Paramètres!$G$2 -> Personne1 | C3: =IF(COUNTIF(fériés,C2)=0,OFFSET(Paramètres!$H$2,MATCH($B3,Paramètres!$G$2:$G$6,0)-1,MOD(C2+5,28)),"") | D3: =IF(COUNTIF(fériés,D$2)=0,OFFSET(Paramètres!$H$2,MATCH($B3,Paramètres!$G$2:$G$6,0)-1,MOD(D$2+5,28)),"") -> J | E3: =IF(COUNTIF(fériés,E$2)=0,OFFSET(Paramètres!$H$2,MATCH($B3,Paramètres!$G$2:$G$6,0)-1,MOD(E$2+5,28)),"") -> J | F3: =IF(COUNTIF(fériés,F$2)=0,OFFSET(Paramètres!$H$2,MATCH($B3,Paramètres!$G$2:$G$6,0)-1,MOD(F$2+5,28)),"") -> 0 | G3: =IF(COUNTIF(fériés,G$2)=0,OFFSET(Paramètres!$H$2,MATCH($B3,Paramètres!$G$2:$G$6,0)-1,MOD(G$2+5,28)),"") -> 0 | H3: =IF(COUNTIF(fériés,H$2)=0,OFFSET(Paramètres!$H$2,MATCH($B3,Paramètres!$G$2:$G$6,0)-1,MOD(H$2+5,28)),"") -> J | I3: =IF(COUNTIF(fériés,I$2)=0,OFFSET(Paramètres!$H$2,MATCH($B3,Paramètres!$G$2:$G$6,0)-1,MOD(I$2+5,28)),"") -> J | J3: =IF(COUNTIF(fériés,J$2)=0,OFFSET(Paramètres!$H$2,MATCH($B3,Paramètres!$G$2:$G$6,0)-1,MOD(J$2+5,28)),"") -> J | K3: =IF(COUNTIF(fériés,K$2)=0,OFFSET(Paramètres!$H$2,MATCH($B3,Paramètres!$G$2:$G$6,0)-1,MOD(K$2+5,28)),"") -> J | ... NC3: =IF(COUNTIF(fériés,NC$2)=0,OFFSET(Paramètres!$H$2,MATCH($B3,Paramètres!$G$2:$G$6,0)-1,MOD(NC$2+5,28)),"") -> J
B4: =Paramètres!$G$3 -> Personne2 | C4: =IF(COUNTIF(fériés,C$2)=0,OFFSET(Paramètres!$H$2,MATCH($B4,Paramètres!$G$2:$G$6,0)-1,MOD(C$2+5,28)),"") | D4: =IF(COUNTIF(fériés,D$2)=0,OFFSET(Paramètres!$H$2,MATCH($B4,Paramètres!$G$2:$G$6,0)-1,MOD(D$2+5,28)),"") -> M | E4: =IF(COUNTIF(fériés,E$2)=0,OFFSET(Paramètres!$H$2,MATCH($B4,Paramètres!$G$2:$G$6,0)-1,MOD(E$2+5,28)),"") -> M | F4: =IF(COUNTIF(fériés,F$2)=0,OFFSET(Paramètres!$H$2,MATCH($B4,Paramètres!$G$2:$G$6,0)-1,MOD(F$2+5,28)),"") -> 0 | G4: =IF(COUNTIF(fériés,G$2)=0,OFFSET(Paramètres!$H$2,MATCH($B4,Paramètres!$G$2:$G$6,0)-1,MOD(G$2+5,28)),"") -> 0 | H4: =IF(COUNTIF(fériés,H$2)=0,OFFSET(Paramètres!$H$2,MATCH($B4,Paramètres!$G$2:$G$6,0)-1,MOD(H$2+5,28)),"") -> A | I4: =IF(COUNTIF(fériés,I$2)=0,OFFSET(Paramètres!$H$2,MATCH($B4,Paramètres!$G$2:$G$6,0)-1,MOD(I$2+5,28)),"") -> A | J4: =IF(COUNTIF(fériés,J$2)=0,OFFSET(Paramètres!$H$2,MATCH($B4,Paramètres!$G$2:$G$6,0)-1,MOD(J$2+5,28)),"") -> A | ... NC4: =IF(COUNTIF(fériés,NC$2)=0,OFFSET(Paramètres!$H$2,MATCH($B4,Paramètres!$G$2:$G$6,0)-1,MOD(NC$2+5,28)),"") -> M
B5: =Paramètres!$G$4 -> Personne3 | C5: =IF(COUNTIF(fériés,C$2)=0,OFFSET(Paramètres!$H$2,MATCH($B5,Paramètres!$G$2:$G$6,0)-1,MOD(C$2+5,28)),"") | D5: =IF(COUNTIF(fériés,D$2)=0,OFFSET(Paramètres!$H$2,MATCH($B5,Paramètres!$G$2:$G$6,0)-1,MOD(D$2+5,28)),"") -> A | E5: =IF(COUNTIF(fériés,E$2)=0,OFFSET(Paramètres!$H$2,MATCH($B5,Paramètres!$G$2:$G$6,0)-1,MOD(E$2+5,28)),"") -> A | F5: =IF(COUNTIF(fériés,F$2)=0,OFFSET(Paramètres!$H$2,MATCH($B5,Paramètres!$G$2:$G$6,0)-1,MOD(F$2+5,28)),"") -> 0 | G5: =IF(COUNTIF(fériés,G$2)=0,OFFSET(Paramètres!$H$2,MATCH($B5,Paramètres!$G$2:$G$6,0)-1,MOD(G$2+5,28)),"") -> 0 | H5: =IF(COUNTIF(fériés,H$2)=0,OFFSET(Paramètres!$H$2,MATCH($B5,Paramètres!$G$2:$G$6,0)-1,MOD(H$2+5,28)),"") -> M | I5: =IF(COUNTIF(fériés,I$2)=0,OFFSET(Paramètres!$H$2,MATCH($B5,Paramètres!$G$2:$G$6,0)-1,MOD(I$2+5,28)),"") -> M | J5: =IF(COUNTIF(fériés,J$2)=0,OFFSET(Paramètres!$H$2,MATCH($B5,Paramètres!$G$2:$G$6,0)-1,MOD(J$2+5,28)),"") -> M | ... NC5: =IF(COUNTIF(fériés,NC$2)=0,OFFSET(Paramètres!$H$2,MATCH($B5,Paramètres!$G$2:$G$6,0)-1,MOD(NC$2+5,28)),"") -> A
B6: =Paramètres!$G$5 -> Personne4 | C6: =IF(OR( AND( COUNTIF(fériés,C$2)=1, OR( COUNTIF(fériés,C$2-1)=1, IFERROR(OFFSET(Paramètres!$H$2, MATCH($B6,Paramètres!$G$2:$G$6,0)-1, MOD(C$2+2,28)),"")="M", IFERROR(OFFSET(Paramètres!$H$2, MATCH($B6,Paramètres!$G$2:$G$6,0)-1, MOD(C$2+3,28)),"")="M", IFERROR(OFFSET(Paramètres!$H$2, MATCH($B6,Paramètres!$G$2:$G$6,0)-1, MOD(C$2+4,28)),"")="M", IFERROR(OFFSET(Paramètres!$H$2, MATCH($B6,Paramètres!$G$2:$G$6,0)-1, MOD(C$2+5,28)),"")="M", IFERROR(OFFSET(Paramètres!$H$2, MATCH($B6,Paramètres!$G$2:$G$6,0)-1, MOD(C$2+6,28)),"")="M", IFERROR(OFFSET(Paramètres!$H$2, MATCH($B6,Paramètres!$G$2:$G$6,0)-1, MOD(C$2+7,28)),"")="M", IFERROR(OFFSET(Paramètres!$H$2, MATCH($B6,Paramètres!$G$2:$G$6,0)-1, MOD(C$2+1,28)),"")="M" ) ), AND( OR(WEEKDAY(C$2,2)=6, WEEKDAY(C$2,2)=7), IFERROR(OFFSET(Paramètres!$H$2, MATCH($B6,Paramètres!$G$2:$G$6,0)-1, MOD(C$2+5,28)),"")="M" ) ),"M","0") -> M | D6: =IF(OR( AND( COUNTIF(fériés,D$2)=1, OR( COUNTIF(fériés,D$2-1)=1, IFERROR(OFFSET(Paramètres!$H$2, MATCH($B6,Paramètres!$G$2:$G$6,0)-1, MOD(D$2+2,28)),"")="M", IFERROR(OFFSET(Paramètres!$H$2, MATCH($B6,Paramètres!$G$2:$G$6,0)-1, MOD(D$2+3,28)),"")="M", IFERROR(OFFSET(Paramètres!$H$2, MATCH($B6,Paramètres!$G$2:$G$6,0)-1, MOD(D$2+4,28)),"")="M", IFERROR(OFFSET(Paramètres!$H$2, MATCH($B6,Paramètres!$G$2:$G$6,0)-1, MOD(D$2+5,28)),"")="M", IFERROR(OFFSET(Paramètres!$H$2, MATCH($B6,Paramètres!$G$2:$G$6,0)-1, MOD(D$2+6,28)),"")="M", IFERROR(OFFSET(Paramètres!$H$2, MATCH($B6,Paramètres!$G$2:$G$6,0)-1, MOD(D$2+7,28)),"")="M", IFERROR(OFFSET(Paramètres!$H$2, MATCH($B6,Paramètres!$G$2:$G$6,0)-1, MOD(D$2+1,28)),"")="M" ) ), AND( OR(WEEKDAY(D$2,2)=6, WEEKDAY(D$2,2)=7), IFERROR(OFFSET(Paramètres!$H$2, MATCH($B6,Paramètres!$G$2:$G$6,0)-1, MOD(D$2+5,28)),"")="M" ) ),"M","0") -> 0 | E6: =IF(OR( AND( COUNTIF(fériés,E$2)=1, OR( COUNTIF(fériés,E$2-1)=1, IFERROR(OFFSET(Paramètres!$H$2, MATCH($B6,Paramètres!$G$2:$G$6,0)-1, MOD(E$2+2,28)),"")="M", IFERROR(OFFSET(Paramètres!$H$2, MATCH($B6,Paramètres!$G$2:$G$6,0)-1, MOD(E$2+3,28)),"")="M", IFERROR(OFFSET(Paramètres!$H$2, MATCH($B6,Paramètres!$G$2:$G$6,0)-1, MOD(E$2+4,28)),"")="M", IFERROR(OFFSET(Paramètres!$H$2, MATCH($B6,Paramètres!$G$2:$G$6,0)-1, MOD(E$2+5,28)),"")="M", IFERROR(OFFSET(Paramètres!$H$2, MATCH($B6,Paramètres!$G$2:$G$6,0)-1, MOD(E$2+6,28)),"")="M", IFERROR(OFFSET(Paramètres!$H$2, MATCH($B6,Paramètres!$G$2:$G$6,0)-1, MOD(E$2+7,28)),"")="M", IFERROR(OFFSET(Paramètres!$H$2, MATCH($B6,Paramètres!$G$2:$G$6,0)-1, MOD(E$2+1,28)),"")="M" ) ), AND( OR(WEEKDAY(E$2,2)=6, WEEKDAY(E$2,2)=7), IFERROR(OFFSET(Paramètres!$H$2, MATCH($B6,Paramètres!$G$2:$G$6,0)-1, MOD(E$2+5,28)),"")="M" ) ),"M","0") -> 0 | F6: =IF(OR( AND( COUNTIF(fériés,F$2)=1, OR( COUNTIF(fériés,F$2-1)=1, IFERROR(OFFSET(Paramètres!$H$2, MATCH($B6,Paramètres!$G$2:$G$6,0)-1, MOD(F$2+2,28)),"")="M", IFERROR(OFFSET(Paramètres!$H$2, MATCH($B6,Paramètres!$G$2:$G$6,0)-1, MOD(F$2+3,28)),"")="M", IFERROR(OFFSET(Paramètres!$H$2, MATCH($B6,Paramètres!$G$2:$G$6,0)-1, MOD(F$2+4,28)),"")="M", IFERROR(OFFSET(Paramètres!$H$2, MATCH($B6,Paramètres!$G$2:$G$6,0)-1, MOD(F$2+5,28)),"")="M", IFERROR(OFFSET(Paramètres!$H$2, MATCH($B6,Paramètres!$G$2:$G$6,0)-1, MOD(F$2+6,28)),"")="M", IFERROR(OFFSET(Paramètres!$H$2, MATCH($B6,Paramètres!$G$2:$G$6,0)-1, MOD(F$2+7,28)),"")="M", IFERROR(OFFSET(Paramètres!$H$2, MATCH($B6,Paramètres!$G$2:$G$6,0)-1, MOD(F$2+1,28)),"")="M" ) ), AND( OR(WEEKDAY(F$2,2)=6, WEEKDAY(F$2,2)=7), IFERROR(OFFSET(Paramètres!$H$2, MATCH($B6,Paramètres!$G$2:$G$6,0)-1, MOD(F$2+5,28)),"")="M" ) ),"M","0") -> 0 | G6: =IF(OR( AND( COUNTIF(fériés,G$2)=1, OR( COUNTIF(fériés,G$2-1)=1, IFERROR(OFFSET(Paramètres!$H$2, MATCH($B6,Paramètres!$G$2:$G$6,0)-1, MOD(G$2+2,28)),"")="M", IFERROR(OFFSET(Paramètres!$H$2, MATCH($B6,Paramètres!$G$2:$G$6,0)-1, MOD(G$2+3,28)),"")="M", IFERROR(OFFSET(Paramètres!$H$2, MATCH($B6,Paramètres!$G$2:$G$6,0)-1, MOD(G$2+4,28)),"")="M", IFERROR(OFFSET(Paramètres!$H$2, MATCH($B6,Paramètres!$G$2:$G$6,0)-1, MOD(G$2+5,28)),"")="M", IFERROR(OFFSET(Paramètres!$H$2, MATCH($B6,Paramètres!$G$2:$G$6,0)-1, MOD(G$2+6,28)),"")="M", IFERROR(OFFSET(Paramètres!$H$2, MATCH($B6,Paramètres!$G$2:$G$6,0)-1, MOD(G$2+7,28)),"")="M", IFERROR(OFFSET(Paramètres!$H$2, MATCH($B6,Paramètres!$G$2:$G$6,0)-1, MOD(G$2+1,28)),"")="M" ) ), AND( OR(WEEKDAY(G$2,2)=6, WEEKDAY(G$2,2)=7), IFERROR(OFFSET(Paramètres!$H$2, MATCH($B6,Paramètres!$G$2:$G$6,0)-1, MOD(G$2+5,28)),"")="M" ) ),"M","0") -> 0 | H6: =IF(OR( AND( COUNTIF(fériés,H$2)=1, OR( COUNTIF(fériés,H$2-1)=1, IFERROR(OFFSET(Paramètres!$H$2, MATCH($B6,Paramètres!$G$2:$G$6,0)-1, MOD(H$2+2,28)),"")="M", IFERROR(OFFSET(Paramètres!$H$2, MATCH($B6,Paramètres!$G$2:$G$6,0)-1, MOD(H$2+3,28)),"")="M", IFERROR(OFFSET(Paramètres!$H$2, MATCH($B6,Paramètres!$G$2:$G$6,0)-1, MOD(H$2+4,28)),"")="M", IFERROR(OFFSET(Paramètres!$H$2, MATCH($B6,Paramètres!$G$2:$G$6,0)-1, MOD(H$2+5,28)),"")="M", IFERROR(OFFSET(Paramètres!$H$2, MATCH($B6,Paramètres!$G$2:$G$6,0)-1, MOD(H$2+6,28)),"")="M", IFERROR(OFFSET(Paramètres!$H$2, MATCH($B6,Paramètres!$G$2:$G$6,0)-1, MOD(H$2+7,28)),"")="M", IFERROR(OFFSET(Paramètres!$H$2, MATCH($B6,Paramètres!$G$2:$G$6,0)-1, MOD(H$2+1,28)),"")="M" ) ), AND( OR(WEEKDAY(H$2,2)=6, WEEKDAY(H$2,2)=7), IFERROR(OFFSET(Paramètres!$H$2, MATCH($B6,Paramètres!$G$2:$G$6,0)-1, MOD(H$2+5,28)),"")="M" ) ),"M","0") -> 0 | I6: =IF(OR( AND( COUNTIF(fériés,I$2)=1, OR( COUNTIF(fériés,I$2-1)=1, IFERROR(OFFSET(Paramètres!$H$2, MATCH($B6,Paramètres!$G$2:$G$6,0)-1, MOD(I$2+2,28)),"")="M", IFERROR(OFFSET(Paramètres!$H$2, MATCH($B6,Paramètres!$G$2:$G$6,0)-1, MOD(I$2+3,28)),"")="M", IFERROR(OFFSET(Paramètres!$H$2, MATCH($B6,Paramètres!$G$2:$G$6,0)-1, MOD(I$2+4,28)),"")="M", IFERROR(OFFSET(Paramètres!$H$2, MATCH($B6,Paramètres!$G$2:$G$6,0)-1, MOD(I$2+5,28)),"")="M", IFERROR(OFFSET(Paramètres!$H$2, MATCH($B6,Paramètres!$G$2:$G$6,0)-1, MOD(I$2+6,28)),"")="M", IFERROR(OFFSET(Paramètres!$H$2, MATCH($B6,Paramètres!$G$2:$G$6,0)-1, MOD(I$2+7,28)),"")="M", IFERROR(OFFSET(Paramètres!$H$2, MATCH($B6,Paramètres!$G$2:$G$6,0)-1, MOD(I$2+1,28)),"")="M" ) ), AND( OR(WEEKDAY(I$2,2)=6, WEEKDAY(I$2,2)=7), IFERROR(OFFSET(Paramètres!$H$2, MATCH($B6,Paramètres!$G$2:$G$6,0)-1, MOD(I$2+5,28)),"")="M" ) ),"M","0") -> 0 | J6: =IF(OR( AND( COUNTIF(fériés,J$2)=1, OR( COUNTIF(fériés,J$2-1)=1, IFERROR(OFFSET(Paramètres!$H$2, MATCH($B6,Paramètres!$G$2:$G$6,0)-1, MOD(J$2+2,28)),"")="M", IFERROR(OFFSET(Paramètres!$H$2, MATCH($B6,Paramètres!$G$2:$G$6,0)-1, MOD(J$2+3,28)),"")="M", IFERROR(OFFSET(Paramètres!$H$2, MATCH($B6,Paramètres!$G$2:$G$6,0)-1, MOD(J$2+4,28)),"")="M", IFERROR(OFFSET(Paramètres!$H$2, MATCH($B6,Paramètres!$G$2:$G$6,0)-1, MOD(J$2+5,28)),"")="M", IFERROR(OFFSET(Paramètres!$H$2, MATCH($B6,Paramètres!$G$2:$G$6,0)-1, MOD(J$2+6,28)),"")="M", IFERROR(OFFSET(Paramètres!$H$2, MATCH($B6,Paramètres!$G$2:$G$6,0)-1, MOD(J$2+7,28)),"")="M", IFERROR(OFFSET(Paramètres!$H$2, MATCH($B6,Paramètres!$G$2:$G$6,0)-1, MOD(J$2+1,28)),"")="M" ) ), AND( OR(WEEKDAY(J$2,2)=6, WEEKDAY(J$2,2)=7), IFERROR(OFFSET(Paramètres!$H$2, MATCH($B6,Paramètres!$G$2:$G$6,0)-1, MOD(J$2+5,28)),"")="M" ) ),"M","0") -> 0 | ... DR6: =IF(OR( AND( COUNTIF(fériés,DR$2)=1, OR( COUNTIF(fériés,DR$2-1)=1, IFERROR(OFFSET(Paramètres!$H$2, MATCH($B6,Paramètres!$G$2:$G$6,0)-1, MOD(DR$2+2,28)),"")="M", IFERROR(OFFSET(Paramètres!$H$2, MATCH($B6,Paramètres!$G$2:$G$6,0)-1, MOD(DR$2+3,28)),"")="M", IFERROR(OFFSET(Paramètres!$H$2, MATCH($B6,Paramètres!$G$2:$G$6,0)-1, MOD(DR$2+4,28)),"")="M", IFERROR(OFFSET(Paramètres!$H$2, MATCH($B6,Paramètres!$G$2:$G$6,0)-1, MOD(DR$2+5,28)),"")="M", IFERROR(OFFSET(Paramètres!$H$2, MATCH($B6,Paramètres!$G$2:$G$6,0)-1, MOD(DR$2+6,28)),"")="M", IFERROR(OFFSET(Paramètres!$H$2, MATCH($B6,Paramètres!$G$2:$G$6,0)-1, MOD(DR$2+7,28)),"")="M", IFERROR(OFFSET(Paramètres!$H$2, MATCH($B6,Paramètres!$G$2:$G$6,0)-1, MOD(DR$2+1,28)),"")="M" ) ), AND( OR(WEEKDAY(DR$2,2)=6, WEEKDAY(DR$2,2)=7), IFERROR(OFFSET(Paramètres!$H$2, MATCH($B6,Paramètres!$G$2:$G$6,0)-1, MOD(DR$2+5,28)),"")="M" ) ),"M","0") -> 0 | DS6: =_xlfn.LET( _xlpm.dateCourante,DS$2, _xlpm.jourSemaine,WEEKDAY(_xlpm.dateCourante,2), _xlpm.estFerie,COUNTIF(fériés,_xlpm.dateCourante)=1, _xlpm.planLigne,DS4, _xlpm.jourAvant,OFFSET(_xlpm.planLigne,0,-1), _xlpm.jourSuivant1,OFFSET(_xlpm.planLigne,0,1), _xlpm.jourSuivant2,OFFSET(_xlpm.planLigne,0,2), _xlpm.jourSuivant3,OFFSET(_xlpm.planLigne,0,3), _xlpm.estTravaillePlan,IFERROR(OFFSET(Paramètres!$H$2, MATCH($B4,Paramètres!$G$2:$G$6,0)-1, MOD(_xlpm.dateCourante+5,28)),""), IF(_xlpm.estFerie, IF(_xlpm.jourSemaine=5, IF(AND(OR(_xlpm.jourSuivant1="M",COUNTIF(fériés,_xlpm.dateCourante-1)=1), OR(_xlpm.jourSuivant2<>"0",_xlpm.jourSuivant3<>"0")), "M","0"), IF(_xlpm.jourSemaine=4, IF(AND(COUNTIF(fériés,_xlpm.dateCourante+1)=1, OR(_xlpm.jourSuivant2<>"0",_xlpm.jourSuivant3<>"0")), "M","0"), IF(_xlpm.jourSemaine=1, IF(_xlpm.jourAvant="M","M","0"), "0"))), IF(_xlpm.estTravaillePlan="M","M","0") )) -> M | DT6: =IF(OR( AND( COUNTIF(fériés,DT$2)=1, OR( COUNTIF(fériés,DT$2-1)=1, IFERROR(OFFSET(Paramètres!$H$2, MATCH($B6,Paramètres!$G$2:$G$6,0)-1, MOD(DT$2+2,28)),"")="M", IFERROR(OFFSET(Paramètres!$H$2, MATCH($B6,Paramètres!$G$2:$G$6,0)-1, MOD(DT$2+3,28)),"")="M", IFERROR(OFFSET(Paramètres!$H$2, MATCH($B6,Paramètres!$G$2:$G$6,0)-1, MOD(DT$2+4,28)),"")="M", IFERROR(OFFSET(Paramètres!$H$2, MATCH($B6,Paramètres!$G$2:$G$6,0)-1, MOD(DT$2+5,28)),"")="M", IFERROR(OFFSET(Paramètres!$H$2, MATCH($B6,Paramètres!$G$2:$G$6,0)-1, MOD(DT$2+6,28)),"")="M", IFERROR(OFFSET(Paramètres!$H$2, MATCH($B6,Paramètres!$G$2:$G$6,0)-1, MOD(DT$2+7,28)),"")="M", IFERROR(OFFSET(Paramètres!$H$2, MATCH($B6,Paramètres!$G$2:$G$6,0)-1, MOD(DT$2+1,28)),"")="M" ) ), AND( OR(WEEKDAY(DT$2,2)=6, WEEKDAY(DT$2,2)=7), IFERROR(OFFSET(Paramètres!$H$2, MATCH($B6,Paramètres!$G$2:$G$6,0)-1, MOD(DT$2+5,28)),"")="M" ) ),"M","0") -> M | DU6: =IF(OR( AND( COUNTIF(fériés,DU$2)=1, OR( COUNTIF(fériés,DU$2-1)=1, IFERROR(OFFSET(Paramètres!$H$2, MATCH($B6,Paramètres!$G$2:$G$6,0)-1, MOD(DU$2+2,28)),"")="M", IFERROR(OFFSET(Paramètres!$H$2, MATCH($B6,Paramètres!$G$2:$G$6,0)-1, MOD(DU$2+3,28)),"")="M", IFERROR(OFFSET(Paramètres!$H$2, MATCH($B6,Paramètres!$G$2:$G$6,0)-1, MOD(DU$2+4,28)),"")="M", IFERROR(OFFSET(Paramètres!$H$2, MATCH($B6,Paramètres!$G$2:$G$6,0)-1, MOD(DU$2+5,28)),"")="M", IFERROR(OFFSET(Paramètres!$H$2, MATCH($B6,Paramètres!$G$2:$G$6,0)-1, MOD(DU$2+6,28)),"")="M", IFERROR(OFFSET(Paramètres!$H$2, MATCH($B6,Paramètres!$G$2:$G$6,0)-1, MOD(DU$2+7,28)),"")="M", IFERROR(OFFSET(Paramètres!$H$2, MATCH($B6,Paramètres!$G$2:$G$6,0)-1, MOD(DU$2+1,28)),"")="M" ) ), AND( OR(WEEKDAY(DU$2,2)=6, WEEKDAY(DU$2,2)=7), IFERROR(OFFSET(Paramètres!$H$2, MATCH($B6,Paramètres!$G$2:$G$6,0)-1, MOD(DU$2+5,28)),"")="M" ) ),"M","0") -> M | DV6: =IF(OR( AND( COUNTIF(fériés,DV$2)=1, OR( COUNTIF(fériés,DV$2-1)=1, IFERROR(OFFSET(Paramètres!$H$2, MATCH($B6,Paramètres!$G$2:$G$6,0)-1, MOD(DV$2+2,28)),"")="M", IFERROR(OFFSET(Paramètres!$H$2, MATCH($B6,Paramètres!$G$2:$G$6,0)-1, MOD(DV$2+3,28)),"")="M", IFERROR(OFFSET(Paramètres!$H$2, MATCH($B6,Paramètres!$G$2:$G$6,0)-1, MOD(DV$2+4,28)),"")="M", IFERROR(OFFSET(Paramètres!$H$2, MATCH($B6,Paramètres!$G$2:$G$6,0)-1, MOD(DV$2+5,28)),"")="M", IFERROR(OFFSET(Paramètres!$H$2, MATCH($B6,Paramètres!$G$2:$G$6,0)-1, MOD(DV$2+6,28)),"")="M", IFERROR(OFFSET(Paramètres!$H$2, MATCH($B6,Paramètres!$G$2:$G$6,0)-1, MOD(DV$2+7,28)),"")="M", IFERROR(OFFSET(Paramètres!$H$2, MATCH($B6,Paramètres!$G$2:$G$6,0)-1, MOD(DV$2+1,28)),"")="M" ) ), AND( OR(WEEKDAY(DV$2,2)=6, WEEKDAY(DV$2,2)=7), IFERROR(OFFSET(Paramètres!$H$2, MATCH($B6,Paramètres!$G$2:$G$6,0)-1, MOD(DV$2+5,28)),"")="M" ) ),"M","0") -> M | DW6: =IF(OR( AND( COUNTIF(fériés,DW$2)=1, OR( COUNTIF(fériés,DW$2-1)=1, IFERROR(OFFSET(Paramètres!$H$2, MATCH($B6,Paramètres!$G$2:$G$6,0)-1, MOD(DW$2+2,28)),"")="M", IFERROR(OFFSET(Paramètres!$H$2, MATCH($B6,Paramètres!$G$2:$G$6,0)-1, MOD(DW$2+3,28)),"")="M", IFERROR(OFFSET(Paramètres!$H$2, MATCH($B6,Paramètres!$G$2:$G$6,0)-1, MOD(DW$2+4,28)),"")="M", IFERROR(OFFSET(Paramètres!$H$2, MATCH($B6,Paramètres!$G$2:$G$6,0)-1, MOD(DW$2+5,28)),"")="M", IFERROR(OFFSET(Paramètres!$H$2, MATCH($B6,Paramètres!$G$2:$G$6,0)-1, MOD(DW$2+6,28)),"")="M", IFERROR(OFFSET(Paramètres!$H$2, MATCH($B6,Paramètres!$G$2:$G$6,0)-1, MOD(DW$2+7,28)),"")="M", IFERROR(OFFSET(Paramètres!$H$2, MATCH($B6,Paramètres!$G$2:$G$6,0)-1, MOD(DW$2+1,28)),"")="M" ) ), AND( OR(WEEKDAY(DW$2,2)=6, WEEKDAY(DW$2,2)=7), IFERROR(OFFSET(Paramètres!$H$2, MATCH($B6,Paramètres!$G$2:$G$6,0)-1, MOD(DW$2+5,28)),"")="M" ) ),"M","0") -> 0 | DX6: =IF(OR( AND( COUNTIF(fériés,DX$2)=1, OR( COUNTIF(fériés,DX$2-1)=1, IFERROR(OFFSET(Paramètres!$H$2, MATCH($B6,Paramètres!$G$2:$G$6,0)-1, MOD(DX$2+2,28)),"")="M", IFERROR(OFFSET(Paramètres!$H$2, MATCH($B6,Paramètres!$G$2:$G$6,0)-1, MOD(DX$2+3,28)),"")="M", IFERROR(OFFSET(Paramètres!$H$2, MATCH($B6,Paramètres!$G$2:$G$6,0)-1, MOD(DX$2+4,28)),"")="M", IFERROR(OFFSET(Paramètres!$H$2, MATCH($B6,Paramètres!$G$2:$G$6,0)-1, MOD(DX$2+5,28)),"")="M", IFERROR(OFFSET(Paramètres!$H$2, MATCH($B6,Paramètres!$G$2:$G$6,0)-1, MOD(DX$2+6,28)),"")="M", IFERROR(OFFSET(Paramètres!$H$2, MATCH($B6,Paramètres!$G$2:$G$6,0)-1, MOD(DX$2+7,28)),"")="M", IFERROR(OFFSET(Paramètres!$H$2, MATCH($B6,Paramètres!$G$2:$G$6,0)-1, MOD(DX$2+1,28)),"")="M" ) ), AND( OR(WEEKDAY(DX$2,2)=6, WEEKDAY(DX$2,2)=7), IFERROR(OFFSET(Paramètres!$H$2, MATCH($B6,Paramètres!$G$2:$G$6,0)-1, MOD(DX$2+5,28)),"")="M" ) ),"M","0") -> 0 | DY6: =IF(OR( AND( COUNTIF(fériés,DY$2)=1, OR( COUNTIF(fériés,DY$2-1)=1, IFERROR(OFFSET(Paramètres!$H$2, MATCH($B6,Paramètres!$G$2:$G$6,0)-1, MOD(DY$2+2,28)),"")="M", IFERROR(OFFSET(Paramètres!$H$2, MATCH($B6,Paramètres!$G$2:$G$6,0)-1, MOD(DY$2+3,28)),"")="M", IFERROR(OFFSET(Paramètres!$H$2, MATCH($B6,Paramètres!$G$2:$G$6,0)-1, MOD(DY$2+4,28)),"")="M", IFERROR(OFFSET(Paramètres!$H$2, MATCH($B6,Paramètres!$G$2:$G$6,0)-1, MOD(DY$2+5,28)),"")="M", IFERROR(OFFSET(Paramètres!$H$2, MATCH($B6,Paramètres!$G$2:$G$6,0)-1, MOD(DY$2+6,28)),"")="M", IFERROR(OFFSET(Paramètres!$H$2, MATCH($B6,Paramètres!$G$2:$G$6,0)-1, MOD(DY$2+7,28)),"")="M", IFERROR(OFFSET(Paramètres!$H$2, MATCH($B6,Paramètres!$G$2:$G$6,0)-1, MOD(DY$2+1,28)),"")="M" ) ), AND( OR(WEEKDAY(DY$2,2)=6, WEEKDAY(DY$2,2)=7), IFERROR(OFFSET(Paramètres!$H$2, MATCH($B6,Paramètres!$G$2:$G$6,0)-1, MOD(DY$2+5,28)),"")="M" ) ),"M","0") -> 0 | DZ6: =IF(OR( AND( COUNTIF(fériés,DZ$2)=1, OR( COUNTIF(fériés,DZ$2-1)=1, IFERROR(OFFSET(Paramètres!$H$2, MATCH($B6,Paramètres!$G$2:$G$6,0)-1, MOD(DZ$2+2,28)),"")="M", IFERROR(OFFSET(Paramètres!$H$2, MATCH($B6,Paramètres!$G$2:$G$6,0)-1, MOD(DZ$2+3,28)),"")="M", IFERROR(OFFSET(Paramètres!$H$2, MATCH($B6,Paramètres!$G$2:$G$6,0)-1, MOD(DZ$2+4,28)),"")="M", IFERROR(OFFSET(Paramètres!$H$2, MATCH($B6,Paramètres!$G$2:$G$6,0)-1, MOD(DZ$2+5,28)),"")="M", IFERROR(OFFSET(Paramètres!$H$2, MATCH($B6,Paramètres!$G$2:$G$6,0)-1, MOD(DZ$2+6,28)),"")="M", IFERROR(OFFSET(Paramètres!$H$2, MATCH($B6,Paramètres!$G$2:$G$6,0)-1, MOD(DZ$2+7,28)),"")="M", IFERROR(OFFSET(Paramètres!$H$2, MATCH($B6,Paramètres!$G$2:$G$6,0)-1, MOD(DZ$2+1,28)),"")="M" ) ), AND( OR(WEEKDAY(DZ$2,2)=6, WEEKDAY(DZ$2,2)=7), IFERROR(OFFSET(Paramètres!$H$2, MATCH($B6,Paramètres!$G$2:$G$6,0)-1, MOD(DZ$2+5,28)),"")="M" ) ),"M","0") -> M | EA6: =IF(OR( AND( COUNTIF(fériés,EA$2)=1, OR( COUNTIF(fériés,EA$2-1)=1, IFERROR(OFFSET(Paramètres!$H$2, MATCH($B6,Paramètres!$G$2:$G$6,0)-1, MOD(EA$2+2,28)),"")="M", IFERROR(OFFSET(Paramètres!$H$2, MATCH($B6,Paramètres!$G$2:$G$6,0)-1, MOD(EA$2+3,28)),"")="M", IFERROR(OFFSET(Paramètres!$H$2, MATCH($B6,Paramètres!$G$2:$G$6,0)-1, MOD(EA$2+4,28)),"")="M", IFERROR(OFFSET(Paramètres!$H$2, MATCH($B6,Paramètres!$G$2:$G$6,0)-1, MOD(EA$2+5,28)),"")="M", IFERROR(OFFSET(Paramètres!$H$2, MATCH($B6,Paramètres!$G$2:$G$6,0)-1, MOD(EA$2+6,28)),"")="M", IFERROR(OFFSET(Paramètres!$H$2, MATCH($B6,Paramètres!$G$2:$G$6,0)-1, MOD(EA$2+7,28)),"")="M", IFERROR(OFFSET(Paramètres!$H$2, MATCH($B6,Paramètres!$G$2:$G$6,0)-1, MOD(EA$2+1,28)),"")="M" ) ), AND( OR(WEEKDAY(EA$2,2)=6, WEEKDAY(EA$2,2)=7), IFERROR(OFFSET(Paramètres!$H$2, MATCH($B6,Paramètres!$G$2:$G$6,0)-1, MOD(EA$2+5,28)),"")="M" ) ),"M","0") -> M | ... NC6: =IF(OR( AND( COUNTIF(fériés,NC$2)=1, OR( COUNTIF(fériés,NC$2-1)=1, IFERROR(OFFSET(Paramètres!$H$2, MATCH($B6,Paramètres!$G$2:$G$6,0)-1, MOD(NC$2+2,28)),"")="M", IFERROR(OFFSET(Paramètres!$H$2, MATCH($B6,Paramètres!$G$2:$G$6,0)-1, MOD(NC$2+3,28)),"")="M", IFERROR(OFFSET(Paramètres!$H$2, MATCH($B6,Paramètres!$G$2:$G$6,0)-1, MOD(NC$2+4,28)),"")="M", IFERROR(OFFSET(Paramètres!$H$2, MATCH($B6,Paramètres!$G$2:$G$6,0)-1, MOD(NC$2+5,28)),"")="M", IFERROR(OFFSET(Paramètres!$H$2, MATCH($B6,Paramètres!$G$2:$G$6,0)-1, MOD(NC$2+6,28)),"")="M", IFERROR(OFFSET(Paramètres!$H$2, MATCH($B6,Paramètres!$G$2:$G$6,0)-1, MOD(NC$2+7,28)),"")="M", IFERROR(OFFSET(Paramètres!$H$2, MATCH($B6,Paramètres!$G$2:$G$6,0)-1, MOD(NC$2+1,28)),"")="M" ) ), AND( OR(WEEKDAY(NC$2,2)=6, WEEKDAY(NC$2,2)=7), IFERROR(OFFSET(Paramètres!$H$2, MATCH($B6,Paramètres!$G$2:$G$6,0)-1, MOD(NC$2+5,28)),"")="M" ) ),"M","0") -> 0
B7: =Paramètres!$G$6 -> Personne5 | C7: =IF(OR( AND( COUNTIF(fériés,C$2)=1, OR( COUNTIF(fériés,C$2-1)=1, IFERROR(OFFSET(Paramètres!$H$2, MATCH($B7,Paramètres!$G$2:$G$6,0)-1, MOD(C$2+2,28)),"")="M", IFERROR(OFFSET(Paramètres!$H$2, MATCH($B7,Paramètres!$G$2:$G$6,0)-1, MOD(C$2+3,28)),"")="M", IFERROR(OFFSET(Paramètres!$H$2, MATCH($B7,Paramètres!$G$2:$G$6,0)-1, MOD(C$2+4,28)),"")="M", IFERROR(OFFSET(Paramètres!$H$2, MATCH($B7,Paramètres!$G$2:$G$6,0)-1, MOD(C$2+5,28)),"")="M", IFERROR(OFFSET(Paramètres!$H$2, MATCH($B7,Paramètres!$G$2:$G$6,0)-1, MOD(C$2+6,28)),"")="M", IFERROR(OFFSET(Paramètres!$H$2, MATCH($B7,Paramètres!$G$2:$G$6,0)-1, MOD(C$2+7,28)),"")="M", IFERROR(OFFSET(Paramètres!$H$2, MATCH($B7,Paramètres!$G$2:$G$6,0)-1, MOD(C$2+1,28)),"")="M" ) ), AND( OR(WEEKDAY(C$2,2)=6, WEEKDAY(C$2,2)=7), IFERROR(OFFSET(Paramètres!$H$2, MATCH($B7,Paramètres!$G$2:$G$6,0)-1, MOD(C$2+5,28)),"")="M" ) ),"M","0") -> M | D7: =IF(OR( AND( COUNTIF(fériés,D$2)=1, OR( COUNTIF(fériés,D$2-1)=1, IFERROR(OFFSET(Paramètres!$H$2, MATCH($B7,Paramètres!$G$2:$G$6,0)-1, MOD(D$2+2,28)),"")="M", IFERROR(OFFSET(Paramètres!$H$2, MATCH($B7,Paramètres!$G$2:$G$6,0)-1, MOD(D$2+3,28)),"")="M", IFERROR(OFFSET(Paramètres!$H$2, MATCH($B7,Paramètres!$G$2:$G$6,0)-1, MOD(D$2+4,28)),"")="M", IFERROR(OFFSET(Paramètres!$H$2, MATCH($B7,Paramètres!$G$2:$G$6,0)-1, MOD(D$2+5,28)),"")="M", IFERROR(OFFSET(Paramètres!$H$2, MATCH($B7,Paramètres!$G$2:$G$6,0)-1, MOD(D$2+6,28)),"")="M", IFERROR(OFFSET(Paramètres!$H$2, MATCH($B7,Paramètres!$G$2:$G$6,0)-1, MOD(D$2+7,28)),"")="M", IFERROR(OFFSET(Paramètres!$H$2, MATCH($B7,Paramètres!$G$2:$G$6,0)-1, MOD(D$2+1,28)),"")="M" ) ), AND( OR(WEEKDAY(D$2,2)=6, WEEKDAY(D$2,2)=7), IFERROR(OFFSET(Paramètres!$H$2, MATCH($B7,Paramètres!$G$2:$G$6,0)-1, MOD(D$2+5,28)),"")="M" ) ),"M","0") -> 0 | E7: =IF(OR( AND( COUNTIF(fériés,E$2)=1, OR( COUNTIF(fériés,E$2-1)=1, IFERROR(OFFSET(Paramètres!$H$2, MATCH($B7,Paramètres!$G$2:$G$6,0)-1, MOD(E$2+2,28)),"")="M", IFERROR(OFFSET(Paramètres!$H$2, MATCH($B7,Paramètres!$G$2:$G$6,0)-1, MOD(E$2+3,28)),"")="M", IFERROR(OFFSET(Paramètres!$H$2, MATCH($B7,Paramètres!$G$2:$G$6,0)-1, MOD(E$2+4,28)),"")="M", IFERROR(OFFSET(Paramètres!$H$2, MATCH($B7,Paramètres!$G$2:$G$6,0)-1, MOD(E$2+5,28)),"")="M", IFERROR(OFFSET(Paramètres!$H$2, MATCH($B7,Paramètres!$G$2:$G$6,0)-1, MOD(E$2+6,28)),"")="M", IFERROR(OFFSET(Paramètres!$H$2, MATCH($B7,Paramètres!$G$2:$G$6,0)-1, MOD(E$2+7,28)),"")="M", IFERROR(OFFSET(Paramètres!$H$2, MATCH($B7,Paramètres!$G$2:$G$6,0)-1, MOD(E$2+1,28)),"")="M" ) ), AND( OR(WEEKDAY(E$2,2)=6, WEEKDAY(E$2,2)=7), IFERROR(OFFSET(Paramètres!$H$2, MATCH($B7,Paramètres!$G$2:$G$6,0)-1, MOD(E$2+5,28)),"")="M" ) ),"M","0") -> 0 | F7: =IF(OR( AND( COUNTIF(fériés,F$2)=1, OR( COUNTIF(fériés,F$2-1)=1, IFERROR(OFFSET(Paramètres!$H$2, MATCH($B7,Paramètres!$G$2:$G$6,0)-1, MOD(F$2+2,28)),"")="M", IFERROR(OFFSET(Paramètres!$H$2, MATCH($B7,Paramètres!$G$2:$G$6,0)-1, MOD(F$2+3,28)),"")="M", IFERROR(OFFSET(Paramètres!$H$2, MATCH($B7,Paramètres!$G$2:$G$6,0)-1, MOD(F$2+4,28)),"")="M", IFERROR(OFFSET(Paramètres!$H$2, MATCH($B7,Paramètres!$G$2:$G$6,0)-1, MOD(F$2+5,28)),"")="M", IFERROR(OFFSET(Paramètres!$H$2, MATCH($B7,Paramètres!$G$2:$G$6,0)-1, MOD(F$2+6,28)),"")="M", IFERROR(OFFSET(Paramètres!$H$2, MATCH($B7,Paramètres!$G$2:$G$6,0)-1, MOD(F$2+7,28)),"")="M", IFERROR(OFFSET(Paramètres!$H$2, MATCH($B7,Paramètres!$G$2:$G$6,0)-1, MOD(F$2+1,28)),"")="M" ) ), AND( OR(WEEKDAY(F$2,2)=6, WEEKDAY(F$2,2)=7), IFERROR(OFFSET(Paramètres!$H$2, MATCH($B7,Paramètres!$G$2:$G$6,0)-1, MOD(F$2+5,28)),"")="M" ) ),"M","0") -> 0 | G7: =IF(OR( AND( COUNTIF(fériés,G$2)=1, OR( COUNTIF(fériés,G$2-1)=1, IFERROR(OFFSET(Paramètres!$H$2, MATCH($B7,Paramètres!$G$2:$G$6,0)-1, MOD(G$2+2,28)),"")="M", IFERROR(OFFSET(Paramètres!$H$2, MATCH($B7,Paramètres!$G$2:$G$6,0)-1, MOD(G$2+3,28)),"")="M", IFERROR(OFFSET(Paramètres!$H$2, MATCH($B7,Paramètres!$G$2:$G$6,0)-1, MOD(G$2+4,28)),"")="M", IFERROR(OFFSET(Paramètres!$H$2, MATCH($B7,Paramètres!$G$2:$G$6,0)-1, MOD(G$2+5,28)),"")="M", IFERROR(OFFSET(Paramètres!$H$2, MATCH($B7,Paramètres!$G$2:$G$6,0)-1, MOD(G$2+6,28)),"")="M", IFERROR(OFFSET(Paramètres!$H$2, MATCH($B7,Paramètres!$G$2:$G$6,0)-1, MOD(G$2+7,28)),"")="M", IFERROR(OFFSET(Paramètres!$H$2, MATCH($B7,Paramètres!$G$2:$G$6,0)-1, MOD(G$2+1,28)),"")="M" ) ), AND( OR(WEEKDAY(G$2,2)=6, WEEKDAY(G$2,2)=7), IFERROR(OFFSET(Paramètres!$H$2, MATCH($B7,Paramètres!$G$2:$G$6,0)-1, MOD(G$2+5,28)),"")="M" ) ),"M","0") -> 0 | H7: =IF(OR( AND( COUNTIF(fériés,H$2)=1, OR( COUNTIF(fériés,H$2-1)=1, IFERROR(OFFSET(Paramètres!$H$2, MATCH($B7,Paramètres!$G$2:$G$6,0)-1, MOD(H$2+2,28)),"")="M", IFERROR(OFFSET(Paramètres!$H$2, MATCH($B7,Paramètres!$G$2:$G$6,0)-1, MOD(H$2+3,28)),"")="M", IFERROR(OFFSET(Paramètres!$H$2, MATCH($B7,Paramètres!$G$2:$G$6,0)-1, MOD(H$2+4,28)),"")="M", IFERROR(OFFSET(Paramètres!$H$2, MATCH($B7,Paramètres!$G$2:$G$6,0)-1, MOD(H$2+5,28)),"")="M", IFERROR(OFFSET(Paramètres!$H$2, MATCH($B7,Paramètres!$G$2:$G$6,0)-1, MOD(H$2+6,28)),"")="M", IFERROR(OFFSET(Paramètres!$H$2, MATCH($B7,Paramètres!$G$2:$G$6,0)-1, MOD(H$2+7,28)),"")="M", IFERROR(OFFSET(Paramètres!$H$2, MATCH($B7,Paramètres!$G$2:$G$6,0)-1, MOD(H$2+1,28)),"")="M" ) ), AND( OR(WEEKDAY(H$2,2)=6, WEEKDAY(H$2,2)=7), IFERROR(OFFSET(Paramètres!$H$2, MATCH($B7,Paramètres!$G$2:$G$6,0)-1, MOD(H$2+5,28)),"")="M" ) ),"M","0") -> 0 | I7: =IF(OR( AND( COUNTIF(fériés,I$2)=1, OR( COUNTIF(fériés,I$2-1)=1, IFERROR(OFFSET(Paramètres!$H$2, MATCH($B7,Paramètres!$G$2:$G$6,0)-1, MOD(I$2+2,28)),"")="M", IFERROR(OFFSET(Paramètres!$H$2, MATCH($B7,Paramètres!$G$2:$G$6,0)-1, MOD(I$2+3,28)),"")="M", IFERROR(OFFSET(Paramètres!$H$2, MATCH($B7,Paramètres!$G$2:$G$6,0)-1, MOD(I$2+4,28)),"")="M", IFERROR(OFFSET(Paramètres!$H$2, MATCH($B7,Paramètres!$G$2:$G$6,0)-1, MOD(I$2+5,28)),"")="M", IFERROR(OFFSET(Paramètres!$H$2, MATCH($B7,Paramètres!$G$2:$G$6,0)-1, MOD(I$2+6,28)),"")="M", IFERROR(OFFSET(Paramètres!$H$2, MATCH($B7,Paramètres!$G$2:$G$6,0)-1, MOD(I$2+7,28)),"")="M", IFERROR(OFFSET(Paramètres!$H$2, MATCH($B7,Paramètres!$G$2:$G$6,0)-1, MOD(I$2+1,28)),"")="M" ) ), AND( OR(WEEKDAY(I$2,2)=6, WEEKDAY(I$2,2)=7), IFERROR(OFFSET(Paramètres!$H$2, MATCH($B7,Paramètres!$G$2:$G$6,0)-1, MOD(I$2+5,28)),"")="M" ) ),"M","0") -> 0 | J7: =IF(OR( AND( COUNTIF(fériés,J$2)=1, OR( COUNTIF(fériés,J$2-1)=1, IFERROR(OFFSET(Paramètres!$H$2, MATCH($B7,Paramètres!$G$2:$G$6,0)-1, MOD(J$2+2,28)),"")="M", IFERROR(OFFSET(Paramètres!$H$2, MATCH($B7,Paramètres!$G$2:$G$6,0)-1, MOD(J$2+3,28)),"")="M", IFERROR(OFFSET(Paramètres!$H$2, MATCH($B7,Paramètres!$G$2:$G$6,0)-1, MOD(J$2+4,28)),"")="M", IFERROR(OFFSET(Paramètres!$H$2, MATCH($B7,Paramètres!$G$2:$G$6,0)-1, MOD(J$2+5,28)),"")="M", IFERROR(OFFSET(Paramètres!$H$2, MATCH($B7,Paramètres!$G$2:$G$6,0)-1, MOD(J$2+6,28)),"")="M", IFERROR(OFFSET(Paramètres!$H$2, MATCH($B7,Paramètres!$G$2:$G$6,0)-1, MOD(J$2+7,28)),"")="M", IFERROR(OFFSET(Paramètres!$H$2, MATCH($B7,Paramètres!$G$2:$G$6,0)-1, MOD(J$2+1,28)),"")="M" ) ), AND( OR(WEEKDAY(J$2,2)=6, WEEKDAY(J$2,2)=7), IFERROR(OFFSET(Paramètres!$H$2, MATCH($B7,Paramètres!$G$2:$G$6,0)-1, MOD(J$2+5,28)),"")="M" ) ),"M","0") -> 0 | ... DR7: =IF(OR( AND( COUNTIF(fériés,DR$2)=1, OR( COUNTIF(fériés,DR$2-1)=1, IFERROR(OFFSET(Paramètres!$H$2, MATCH($B7,Paramètres!$G$2:$G$6,0)-1, MOD(DR$2+2,28)),"")="M", IFERROR(OFFSET(Paramètres!$H$2, MATCH($B7,Paramètres!$G$2:$G$6,0)-1, MOD(DR$2+3,28)),"")="M", IFERROR(OFFSET(Paramètres!$H$2, MATCH($B7,Paramètres!$G$2:$G$6,0)-1, MOD(DR$2+4,28)),"")="M", IFERROR(OFFSET(Paramètres!$H$2, MATCH($B7,Paramètres!$G$2:$G$6,0)-1, MOD(DR$2+5,28)),"")="M", IFERROR(OFFSET(Paramètres!$H$2, MATCH($B7,Paramètres!$G$2:$G$6,0)-1, MOD(DR$2+6,28)),"")="M", IFERROR(OFFSET(Paramètres!$H$2, MATCH($B7,Paramètres!$G$2:$G$6,0)-1, MOD(DR$2+7,28)),"")="M", IFERROR(OFFSET(Paramètres!$H$2, MATCH($B7,Paramètres!$G$2:$G$6,0)-1, MOD(DR$2+1,28)),"")="M" ) ), AND( OR(WEEKDAY(DR$2,2)=6, WEEKDAY(DR$2,2)=7), IFERROR(OFFSET(Paramètres!$H$2, MATCH($B7,Paramètres!$G$2:$G$6,0)-1, MOD(DR$2+5,28)),"")="M" ) ),"M","0") -> 0 | DS7: =_xlfn.LET( _xlpm.dateCourante,DS$2, _xlpm.jourSemaine,WEEKDAY(_xlpm.dateCourante,2), _xlpm.estFerie,COUNTIF(fériés,_xlpm.dateCourante)=1, _xlpm.planLigne,DS5, _xlpm.jourAvant,OFFSET(_xlpm.planLigne,0,-1), _xlpm.jourSuivant1,OFFSET(_xlpm.planLigne,0,1), _xlpm.jourSuivant2,OFFSET(_xlpm.planLigne,0,2), _xlpm.jourSuivant3,OFFSET(_xlpm.planLigne,0,3), _xlpm.estTravaillePlan,IFERROR(OFFSET(Paramètres!$H$2, MATCH($B5,Paramètres!$G$2:$G$6,0)-1, MOD(_xlpm.dateCourante+5,28)),""), IF(_xlpm.estFerie, IF(_xlpm.jourSemaine=5, IF(AND(OR(_xlpm.jourSuivant1="M",COUNTIF(fériés,_xlpm.dateCourante-1)=1), OR(_xlpm.jourSuivant2<>"0",_xlpm.jourSuivant3<>"0")), "M","0"), IF(_xlpm.jourSemaine=4, IF(AND(COUNTIF(fériés,_xlpm.dateCourante+1)=1, OR(_xlpm.jourSuivant2<>"0",_xlpm.jourSuivant3<>"0")), "M","0"), IF(_xlpm.jourSemaine=1, IF(_xlpm.jourAvant="M","M","0"), "0"))), IF(_xlpm.estTravaillePlan="M","M","0") )) -> M | DT7: =IF(OR( AND( COUNTIF(fériés,DT$2)=1, OR( COUNTIF(fériés,DT$2-1)=1, IFERROR(OFFSET(Paramètres!$H$2, MATCH($B7,Paramètres!$G$2:$G$6,0)-1, MOD(DT$2+2,28)),"")="M", IFERROR(OFFSET(Paramètres!$H$2, MATCH($B7,Paramètres!$G$2:$G$6,0)-1, MOD(DT$2+3,28)),"")="M", IFERROR(OFFSET(Paramètres!$H$2, MATCH($B7,Paramètres!$G$2:$G$6,0)-1, MOD(DT$2+4,28)),"")="M", IFERROR(OFFSET(Paramètres!$H$2, MATCH($B7,Paramètres!$G$2:$G$6,0)-1, MOD(DT$2+5,28)),"")="M", IFERROR(OFFSET(Paramètres!$H$2, MATCH($B7,Paramètres!$G$2:$G$6,0)-1, MOD(DT$2+6,28)),"")="M", IFERROR(OFFSET(Paramètres!$H$2, MATCH($B7,Paramètres!$G$2:$G$6,0)-1, MOD(DT$2+7,28)),"")="M", IFERROR(OFFSET(Paramètres!$H$2, MATCH($B7,Paramètres!$G$2:$G$6,0)-1, MOD(DT$2+1,28)),"")="M" ) ), AND( OR(WEEKDAY(DT$2,2)=6, WEEKDAY(DT$2,2)=7), IFERROR(OFFSET(Paramètres!$H$2, MATCH($B7,Paramètres!$G$2:$G$6,0)-1, MOD(DT$2+5,28)),"")="M" ) ),"M","0") -> M | DU7: =IF(OR( AND( COUNTIF(fériés,DU$2)=1, OR( COUNTIF(fériés,DU$2-1)=1, IFERROR(OFFSET(Paramètres!$H$2, MATCH($B7,Paramètres!$G$2:$G$6,0)-1, MOD(DU$2+2,28)),"")="M", IFERROR(OFFSET(Paramètres!$H$2, MATCH($B7,Paramètres!$G$2:$G$6,0)-1, MOD(DU$2+3,28)),"")="M", IFERROR(OFFSET(Paramètres!$H$2, MATCH($B7,Paramètres!$G$2:$G$6,0)-1, MOD(DU$2+4,28)),"")="M", IFERROR(OFFSET(Paramètres!$H$2, MATCH($B7,Paramètres!$G$2:$G$6,0)-1, MOD(DU$2+5,28)),"")="M", IFERROR(OFFSET(Paramètres!$H$2, MATCH($B7,Paramètres!$G$2:$G$6,0)-1, MOD(DU$2+6,28)),"")="M", IFERROR(OFFSET(Paramètres!$H$2, MATCH($B7,Paramètres!$G$2:$G$6,0)-1, MOD(DU$2+7,28)),"")="M", IFERROR(OFFSET(Paramètres!$H$2, MATCH($B7,Paramètres!$G$2:$G$6,0)-1, MOD(DU$2+1,28)),"")="M" ) ), AND( OR(WEEKDAY(DU$2,2)=6, WEEKDAY(DU$2,2)=7), IFERROR(OFFSET(Paramètres!$H$2, MATCH($B7,Paramètres!$G$2:$G$6,0)-1, MOD(DU$2+5,28)),"")="M" ) ),"M","0") -> M | DV7: =IF(OR( AND( COUNTIF(fériés,DV$2)=1, OR( COUNTIF(fériés,DV$2-1)=1, IFERROR(OFFSET(Paramètres!$H$2, MATCH($B7,Paramètres!$G$2:$G$6,0)-1, MOD(DV$2+2,28)),"")="M", IFERROR(OFFSET(Paramètres!$H$2, MATCH($B7,Paramètres!$G$2:$G$6,0)-1, MOD(DV$2+3,28)),"")="M", IFERROR(OFFSET(Paramètres!$H$2, MATCH($B7,Paramètres!$G$2:$G$6,0)-1, MOD(DV$2+4,28)),"")="M", IFERROR(OFFSET(Paramètres!$H$2, MATCH($B7,Paramètres!$G$2:$G$6,0)-1, MOD(DV$2+5,28)),"")="M", IFERROR(OFFSET(Paramètres!$H$2, MATCH($B7,Paramètres!$G$2:$G$6,0)-1, MOD(DV$2+6,28)),"")="M", IFERROR(OFFSET(Paramètres!$H$2, MATCH($B7,Paramètres!$G$2:$G$6,0)-1, MOD(DV$2+7,28)),"")="M", IFERROR(OFFSET(Paramètres!$H$2, MATCH($B7,Paramètres!$G$2:$G$6,0)-1, MOD(DV$2+1,28)),"")="M" ) ), AND( OR(WEEKDAY(DV$2,2)=6, WEEKDAY(DV$2,2)=7), IFERROR(OFFSET(Paramètres!$H$2, MATCH($B7,Paramètres!$G$2:$G$6,0)-1, MOD(DV$2+5,28)),"")="M" ) ),"M","0") -> M | DW7: =IF(OR( AND( COUNTIF(fériés,DW$2)=1, OR( COUNTIF(fériés,DW$2-1)=1, IFERROR(OFFSET(Paramètres!$H$2, MATCH($B7,Paramètres!$G$2:$G$6,0)-1, MOD(DW$2+2,28)),"")="M", IFERROR(OFFSET(Paramètres!$H$2, MATCH($B7,Paramètres!$G$2:$G$6,0)-1, MOD(DW$2+3,28)),"")="M", IFERROR(OFFSET(Paramètres!$H$2, MATCH($B7,Paramètres!$G$2:$G$6,0)-1, MOD(DW$2+4,28)),"")="M", IFERROR(OFFSET(Paramètres!$H$2, MATCH($B7,Paramètres!$G$2:$G$6,0)-1, MOD(DW$2+5,28)),"")="M", IFERROR(OFFSET(Paramètres!$H$2, MATCH($B7,Paramètres!$G$2:$G$6,0)-1, MOD(DW$2+6,28)),"")="M", IFERROR(OFFSET(Paramètres!$H$2, MATCH($B7,Paramètres!$G$2:$G$6,0)-1, MOD(DW$2+7,28)),"")="M", IFERROR(OFFSET(Paramètres!$H$2, MATCH($B7,Paramètres!$G$2:$G$6,0)-1, MOD(DW$2+1,28)),"")="M" ) ), AND( OR(WEEKDAY(DW$2,2)=6, WEEKDAY(DW$2,2)=7), IFERROR(OFFSET(Paramètres!$H$2, MATCH($B7,Paramètres!$G$2:$G$6,0)-1, MOD(DW$2+5,28)),"")="M" ) ),"M","0") -> 0 | DX7: =IF(OR( AND( COUNTIF(fériés,DX$2)=1, OR( COUNTIF(fériés,DX$2-1)=1, IFERROR(OFFSET(Paramètres!$H$2, MATCH($B7,Paramètres!$G$2:$G$6,0)-1, MOD(DX$2+2,28)),"")="M", IFERROR(OFFSET(Paramètres!$H$2, MATCH($B7,Paramètres!$G$2:$G$6,0)-1, MOD(DX$2+3,28)),"")="M", IFERROR(OFFSET(Paramètres!$H$2, MATCH($B7,Paramètres!$G$2:$G$6,0)-1, MOD(DX$2+4,28)),"")="M", IFERROR(OFFSET(Paramètres!$H$2, MATCH($B7,Paramètres!$G$2:$G$6,0)-1, MOD(DX$2+5,28)),"")="M", IFERROR(OFFSET(Paramètres!$H$2, MATCH($B7,Paramètres!$G$2:$G$6,0)-1, MOD(DX$2+6,28)),"")="M", IFERROR(OFFSET(Paramètres!$H$2, MATCH($B7,Paramètres!$G$2:$G$6,0)-1, MOD(DX$2+7,28)),"")="M", IFERROR(OFFSET(Paramètres!$H$2, MATCH($B7,Paramètres!$G$2:$G$6,0)-1, MOD(DX$2+1,28)),"")="M" ) ), AND( OR(WEEKDAY(DX$2,2)=6, WEEKDAY(DX$2,2)=7), IFERROR(OFFSET(Paramètres!$H$2, MATCH($B7,Paramètres!$G$2:$G$6,0)-1, MOD(DX$2+5,28)),"")="M" ) ),"M","0") -> 0 | DY7: =IF(OR( AND( COUNTIF(fériés,DY$2)=1, OR( COUNTIF(fériés,DY$2-1)=1, IFERROR(OFFSET(Paramètres!$H$2, MATCH($B7,Paramètres!$G$2:$G$6,0)-1, MOD(DY$2+2,28)),"")="M", IFERROR(OFFSET(Paramètres!$H$2, MATCH($B7,Paramètres!$G$2:$G$6,0)-1, MOD(DY$2+3,28)),"")="M", IFERROR(OFFSET(Paramètres!$H$2, MATCH($B7,Paramètres!$G$2:$G$6,0)-1, MOD(DY$2+4,28)),"")="M", IFERROR(OFFSET(Paramètres!$H$2, MATCH($B7,Paramètres!$G$2:$G$6,0)-1, MOD(DY$2+5,28)),"")="M", IFERROR(OFFSET(Paramètres!$H$2, MATCH($B7,Paramètres!$G$2:$G$6,0)-1, MOD(DY$2+6,28)),"")="M", IFERROR(OFFSET(Paramètres!$H$2, MATCH($B7,Paramètres!$G$2:$G$6,0)-1, MOD(DY$2+7,28)),"")="M", IFERROR(OFFSET(Paramètres!$H$2, MATCH($B7,Paramètres!$G$2:$G$6,0)-1, MOD(DY$2+1,28)),"")="M" ) ), AND( OR(WEEKDAY(DY$2,2)=6, WEEKDAY(DY$2,2)=7), IFERROR(OFFSET(Paramètres!$H$2, MATCH($B7,Paramètres!$G$2:$G$6,0)-1, MOD(DY$2+5,28)),"")="M" ) ),"M","0") -> 0 | DZ7: =IF(OR( AND( COUNTIF(fériés,DZ$2)=1, OR( COUNTIF(fériés,DZ$2-1)=1, IFERROR(OFFSET(Paramètres!$H$2, MATCH($B7,Paramètres!$G$2:$G$6,0)-1, MOD(DZ$2+2,28)),"")="M", IFERROR(OFFSET(Paramètres!$H$2, MATCH($B7,Paramètres!$G$2:$G$6,0)-1, MOD(DZ$2+3,28)),"")="M", IFERROR(OFFSET(Paramètres!$H$2, MATCH($B7,Paramètres!$G$2:$G$6,0)-1, MOD(DZ$2+4,28)),"")="M", IFERROR(OFFSET(Paramètres!$H$2, MATCH($B7,Paramètres!$G$2:$G$6,0)-1, MOD(DZ$2+5,28)),"")="M", IFERROR(OFFSET(Paramètres!$H$2, MATCH($B7,Paramètres!$G$2:$G$6,0)-1, MOD(DZ$2+6,28)),"")="M", IFERROR(OFFSET(Paramètres!$H$2, MATCH($B7,Paramètres!$G$2:$G$6,0)-1, MOD(DZ$2+7,28)),"")="M", IFERROR(OFFSET(Paramètres!$H$2, MATCH($B7,Paramètres!$G$2:$G$6,0)-1, MOD(DZ$2+1,28)),"")="M" ) ), AND( OR(WEEKDAY(DZ$2,2)=6, WEEKDAY(DZ$2,2)=7), IFERROR(OFFSET(Paramètres!$H$2, MATCH($B7,Paramètres!$G$2:$G$6,0)-1, MOD(DZ$2+5,28)),"")="M" ) ),"M","0") -> M | EA7: =IF(OR( AND( COUNTIF(fériés,EA$2)=1, OR( COUNTIF(fériés,EA$2-1)=1, IFERROR(OFFSET(Paramètres!$H$2, MATCH($B7,Paramètres!$G$2:$G$6,0)-1, MOD(EA$2+2,28)),"")="M", IFERROR(OFFSET(Paramètres!$H$2, MATCH($B7,Paramètres!$G$2:$G$6,0)-1, MOD(EA$2+3,28)),"")="M", IFERROR(OFFSET(Paramètres!$H$2, MATCH($B7,Paramètres!$G$2:$G$6,0)-1, MOD(EA$2+4,28)),"")="M", IFERROR(OFFSET(Paramètres!$H$2, MATCH($B7,Paramètres!$G$2:$G$6,0)-1, MOD(EA$2+5,28)),"")="M", IFERROR(OFFSET(Paramètres!$H$2, MATCH($B7,Paramètres!$G$2:$G$6,0)-1, MOD(EA$2+6,28)),"")="M", IFERROR(OFFSET(Paramètres!$H$2, MATCH($B7,Paramètres!$G$2:$G$6,0)-1, MOD(EA$2+7,28)),"")="M", IFERROR(OFFSET(Paramètres!$H$2, MATCH($B7,Paramètres!$G$2:$G$6,0)-1, MOD(EA$2+1,28)),"")="M" ) ), AND( OR(WEEKDAY(EA$2,2)=6, WEEKDAY(EA$2,2)=7), IFERROR(OFFSET(Paramètres!$H$2, MATCH($B7,Paramètres!$G$2:$G$6,0)-1, MOD(EA$2+5,28)),"")="M" ) ),"M","0") -> M | ... NC7: =IF(OR( AND( COUNTIF(fériés,NC$2)=1, OR( COUNTIF(fériés,NC$2-1)=1, IFERROR(OFFSET(Paramètres!$H$2, MATCH($B7,Paramètres!$G$2:$G$6,0)-1, MOD(NC$2+2,28)),"")="M", IFERROR(OFFSET(Paramètres!$H$2, MATCH($B7,Paramètres!$G$2:$G$6,0)-1, MOD(NC$2+3,28)),"")="M", IFERROR(OFFSET(Paramètres!$H$2, MATCH($B7,Paramètres!$G$2:$G$6,0)-1, MOD(NC$2+4,28)),"")="M", IFERROR(OFFSET(Paramètres!$H$2, MATCH($B7,Paramètres!$G$2:$G$6,0)-1, MOD(NC$2+5,28)),"")="M", IFERROR(OFFSET(Paramètres!$H$2, MATCH($B7,Paramètres!$G$2:$G$6,0)-1, MOD(NC$2+6,28)),"")="M", IFERROR(OFFSET(Paramètres!$H$2, MATCH($B7,Paramètres!$G$2:$G$6,0)-1, MOD(NC$2+7,28)),"")="M", IFERROR(OFFSET(Paramètres!$H$2, MATCH($B7,Paramètres!$G$2:$G$6,0)-1, MOD(NC$2+1,28)),"")="M" ) ), AND( OR(WEEKDAY(NC$2,2)=6, WEEKDAY(NC$2,2)=7), IFERROR(OFFSET(Paramètres!$H$2, MATCH($B7,Paramètres!$G$2:$G$6,0)-1, MOD(NC$2+5,28)),"")="M" ) ),"M","0") -> 0
B8: =Paramètres!$G$5 -> Personne4 | C8: =_xlfn.LET( _xlpm.dateCourante,C$2, _xlpm.jourSemaine,WEEKDAY(_xlpm.dateCourante,2), _xlpm.estFerie,COUNTIF(fériés,_xlpm.dateCourante)=1, _xlpm.planLigne,C6, _xlpm.jourAvant,OFFSET(_xlpm.planLigne,0,-1), _xlpm.jourSuivant1,OFFSET(_xlpm.planLigne,0,1), _xlpm.jourSuivant2,OFFSET(_xlpm.planLigne,0,2), _xlpm.jourSuivant3,OFFSET(_xlpm.planLigne,0,3), _xlpm.estTravaillePlan,IFERROR(OFFSET(Paramètres!$H$2, MATCH($B8,Paramètres!$G$2:$G$6,0)-1, MOD(_xlpm.dateCourante+5,28)),""), IF(_xlpm.estFerie, IF(_xlpm.jourSemaine=5, IF(AND(OR(_xlpm.jourSuivant1="M",COUNTIF(fériés,_xlpm.dateCourante-1)=1), OR(_xlpm.jourSuivant2<>"0",_xlpm.jourSuivant3<>"0")), "M","0"), IF(_xlpm.jourSemaine=4, IF(AND(COUNTIF(fériés,_xlpm.dateCourante+1)=1, OR(_xlpm.jourSuivant2<>"0",_xlpm.jourSuivant3<>"0")), "M","0"), IF(_xlpm.jourSemaine=1, IF(_xlpm.jourAvant="M","M","0"), "0"))), IF(_xlpm.estTravaillePlan="M","M","0") )) -> 0 | D8: =_xlfn.LET( _xlpm.dateCourante,D$2, _xlpm.jourSemaine,WEEKDAY(_xlpm.dateCourante,2), _xlpm.estFerie,COUNTIF(fériés,_xlpm.dateCourante)=1, _xlpm.planLigne,D6, _xlpm.jourAvant,OFFSET(_xlpm.planLigne,0,-1), _xlpm.jourSuivant1,OFFSET(_xlpm.planLigne,0,1), _xlpm.jourSuivant2,OFFSET(_xlpm.planLigne,0,2), _xlpm.jourSuivant3,OFFSET(_xlpm.planLigne,0,3), _xlpm.estTravaillePlan,IFERROR(OFFSET(Paramètres!$H$2, MATCH($B8,Paramètres!$G$2:$G$6,0)-1, MOD(_xlpm.dateCourante+5,28)),""), IF(_xlpm.estFerie, IF(_xlpm.jourSemaine=5, IF(AND(OR(_xlpm.jourSuivant1="M",COUNTIF(fériés,_xlpm.dateCourante-1)=1), OR(_xlpm.jourSuivant2<>"0",_xlpm.jourSuivant3<>"0")), "M","0"), IF(_xlpm.jourSemaine=4, IF(AND(COUNTIF(fériés,_xlpm.dateCourante+1)=1, OR(_xlpm.jourSuivant2<>"0",_xlpm.jourSuivant3<>"0")), "M","0"), IF(_xlpm.jourSemaine=1, IF(_xlpm.jourAvant="M","M","0"), "0"))), IF(_xlpm.estTravaillePlan="M","M","0") )) -> 0 | E8: =_xlfn.LET( _xlpm.dateCourante,E$2, _xlpm.jourSemaine,WEEKDAY(_xlpm.dateCourante,2), _xlpm.estFerie,COUNTIF(fériés,_xlpm.dateCourante)=1, _xlpm.planLigne,E6, _xlpm.jourAvant,OFFSET(_xlpm.planLigne,0,-1), _xlpm.jourSuivant1,OFFSET(_xlpm.planLigne,0,1), _xlpm.jourSuivant2,OFFSET(_xlpm.planLigne,0,2), _xlpm.jourSuivant3,OFFSET(_xlpm.planLigne,0,3), _xlpm.estTravaillePlan,IFERROR(OFFSET(Paramètres!$H$2, MATCH($B8,Paramètres!$G$2:$G$6,0)-1, MOD(_xlpm.dateCourante+5,28)),""), IF(_xlpm.estFerie, IF(_xlpm.jourSemaine=5, IF(AND(OR(_xlpm.jourSuivant1="M",COUNTIF(fériés,_xlpm.dateCourante-1)=1), OR(_xlpm.jourSuivant2<>"0",_xlpm.jourSuivant3<>"0")), "M","0"), IF(_xlpm.jourSemaine=4, IF(AND(COUNTIF(fériés,_xlpm.dateCourante+1)=1, OR(_xlpm.jourSuivant2<>"0",_xlpm.jourSuivant3<>"0")), "M","0"), IF(_xlpm.jourSemaine=1, IF(_xlpm.jourAvant="M","M","0"), "0"))), IF(_xlpm.estTravaillePlan="M","M","0") )) -> 0 | F8: =_xlfn.LET( _xlpm.dateCourante,F$2, _xlpm.jourSemaine,WEEKDAY(_xlpm.dateCourante,2), _xlpm.estFerie,COUNTIF(fériés,_xlpm.dateCourante)=1, _xlpm.planLigne,F6, _xlpm.jourAvant,OFFSET(_xlpm.planLigne,0,-1), _xlpm.jourSuivant1,OFFSET(_xlpm.planLigne,0,1), _xlpm.jourSuivant2,OFFSET(_xlpm.planLigne,0,2), _xlpm.jourSuivant3,OFFSET(_xlpm.planLigne,0,3), _xlpm.estTravaillePlan,IFERROR(OFFSET(Paramètres!$H$2, MATCH($B8,Paramètres!$G$2:$G$6,0)-1, MOD(_xlpm.dateCourante+5,28)),""), IF(_xlpm.estFerie, IF(_xlpm.jourSemaine=5, IF(AND(OR(_xlpm.jourSuivant1="M",COUNTIF(fériés,_xlpm.dateCourante-1)=1), OR(_xlpm.jourSuivant2<>"0",_xlpm.jourSuivant3<>"0")), "M","0"), IF(_xlpm.jourSemaine=4, IF(AND(COUNTIF(fériés,_xlpm.dateCourante+1)=1, OR(_xlpm.jourSuivant2<>"0",_xlpm.jourSuivant3<>"0")), "M","0"), IF(_xlpm.jourSemaine=1, IF(_xlpm.jourAvant="M","M","0"), "0"))), IF(_xlpm.estTravaillePlan="M","M","0") )) -> 0 | G8: =_xlfn.LET( _xlpm.dateCourante,G$2, _xlpm.jourSemaine,WEEKDAY(_xlpm.dateCourante,2), _xlpm.estFerie,COUNTIF(fériés,_xlpm.dateCourante)=1, _xlpm.planLigne,G6, _xlpm.jourAvant,OFFSET(_xlpm.planLigne,0,-1), _xlpm.jourSuivant1,OFFSET(_xlpm.planLigne,0,1), _xlpm.jourSuivant2,OFFSET(_xlpm.planLigne,0,2), _xlpm.jourSuivant3,OFFSET(_xlpm.planLigne,0,3), _xlpm.estTravaillePlan,IFERROR(OFFSET(Paramètres!$H$2, MATCH($B8,Paramètres!$G$2:$G$6,0)-1, MOD(_xlpm.dateCourante+5,28)),""), IF(_xlpm.estFerie, IF(_xlpm.jourSemaine=5, IF(AND(OR(_xlpm.jourSuivant1="M",COUNTIF(fériés,_xlpm.dateCourante-1)=1), OR(_xlpm.jourSuivant2<>"0",_xlpm.jourSuivant3<>"0")), "M","0"), IF(_xlpm.jourSemaine=4, IF(AND(COUNTIF(fériés,_xlpm.dateCourante+1)=1, OR(_xlpm.jourSuivant2<>"0",_xlpm.jourSuivant3<>"0")), "M","0"), IF(_xlpm.jourSemaine=1, IF(_xlpm.jourAvant="M","M","0"), "0"))), IF(_xlpm.estTravaillePlan="M","M","0") )) -> 0 | H8: =_xlfn.LET( _xlpm.dateCourante,H$2, _xlpm.jourSemaine,WEEKDAY(_xlpm.dateCourante,2), _xlpm.estFerie,COUNTIF(fériés,_xlpm.dateCourante)=1, _xlpm.planLigne,H6, _xlpm.jourAvant,OFFSET(_xlpm.planLigne,0,-1), _xlpm.jourSuivant1,OFFSET(_xlpm.planLigne,0,1), _xlpm.jourSuivant2,OFFSET(_xlpm.planLigne,0,2), _xlpm.jourSuivant3,OFFSET(_xlpm.planLigne,0,3), _xlpm.estTravaillePlan,IFERROR(OFFSET(Paramètres!$H$2, MATCH($B8,Paramètres!$G$2:$G$6,0)-1, MOD(_xlpm.dateCourante+5,28)),""), IF(_xlpm.estFerie, IF(_xlpm.jourSemaine=5, IF(AND(OR(_xlpm.jourSuivant1="M",COUNTIF(fériés,_xlpm.dateCourante-1)=1), OR(_xlpm.jourSuivant2<>"0",_xlpm.jourSuivant3<>"0")), "M","0"), IF(_xlpm.jourSemaine=4, IF(AND(COUNTIF(fériés,_xlpm.dateCourante+1)=1, OR(_xlpm.jourSuivant2<>"0",_xlpm.jourSuivant3<>"0")), "M","0"), IF(_xlpm.jourSemaine=1, IF(_xlpm.jourAvant="M","M","0"), "0"))), IF(_xlpm.estTravaillePlan="M","M","0") )) -> 0 | I8: =_xlfn.LET( _xlpm.dateCourante,I$2, _xlpm.jourSemaine,WEEKDAY(_xlpm.dateCourante,2), _xlpm.estFerie,COUNTIF(fériés,_xlpm.dateCourante)=1, _xlpm.planLigne,I6, _xlpm.jourAvant,OFFSET(_xlpm.planLigne,0,-1), _xlpm.jourSuivant1,OFFSET(_xlpm.planLigne,0,1), _xlpm.jourSuivant2,OFFSET(_xlpm.planLigne,0,2), _xlpm.jourSuivant3,OFFSET(_xlpm.planLigne,0,3), _xlpm.estTravaillePlan,IFERROR(OFFSET(Paramètres!$H$2, MATCH($B8,Paramètres!$G$2:$G$6,0)-1, MOD(_xlpm.dateCourante+5,28)),""), IF(_xlpm.estFerie, IF(_xlpm.jourSemaine=5, IF(AND(OR(_xlpm.jourSuivant1="M",COUNTIF(fériés,_xlpm.dateCourante-1)=1), OR(_xlpm.jourSuivant2<>"0",_xlpm.jourSuivant3<>"0")), "M","0"), IF(_xlpm.jourSemaine=4, IF(AND(COUNTIF(fériés,_xlpm.dateCourante+1)=1, OR(_xlpm.jourSuivant2<>"0",_xlpm.jourSuivant3<>"0")), "M","0"), IF(_xlpm.jourSemaine=1, IF(_xlpm.jourAvant="M","M","0"), "0"))), IF(_xlpm.estTravaillePlan="M","M","0") )) -> 0 | J8: =_xlfn.LET( _xlpm.dateCourante,J$2, _xlpm.jourSemaine,WEEKDAY(_xlpm.dateCourante,2), _xlpm.estFerie,COUNTIF(fériés,_xlpm.dateCourante)=1, _xlpm.planLigne,J6, _xlpm.jourAvant,OFFSET(_xlpm.planLigne,0,-1), _xlpm.jourSuivant1,OFFSET(_xlpm.planLigne,0,1), _xlpm.jourSuivant2,OFFSET(_xlpm.planLigne,0,2), _xlpm.jourSuivant3,OFFSET(_xlpm.planLigne,0,3), _xlpm.estTravaillePlan,IFERROR(OFFSET(Paramètres!$H$2, MATCH($B8,Paramètres!$G$2:$G$6,0)-1, MOD(_xlpm.dateCourante+5,28)),""), IF(_xlpm.estFerie, IF(_xlpm.jourSemaine=5, IF(AND(OR(_xlpm.jourSuivant1="M",COUNTIF(fériés,_xlpm.dateCourante-1)=1), OR(_xlpm.jourSuivant2<>"0",_xlpm.jourSuivant3<>"0")), "M","0"), IF(_xlpm.jourSemaine=4, IF(AND(COUNTIF(fériés,_xlpm.dateCourante+1)=1, OR(_xlpm.jourSuivant2<>"0",_xlpm.jourSuivant3<>"0")), "M","0"), IF(_xlpm.jourSemaine=1, IF(_xlpm.jourAvant="M","M","0"), "0"))), IF(_xlpm.estTravaillePlan="M","M","0") )) -> 0 | ... NC8: =_xlfn.LET( _xlpm.dateCourante,NC$2, _xlpm.jourSemaine,WEEKDAY(_xlpm.dateCourante,2), _xlpm.estFerie,COUNTIF(fériés,_xlpm.dateCourante)=1, _xlpm.planLigne,NC6, _xlpm.jourAvant,OFFSET(_xlpm.planLigne,0,-1), _xlpm.jourSuivant1,OFFSET(_xlpm.planLigne,0,1), _xlpm.jourSuivant2,OFFSET(_xlpm.planLigne,0,2), _xlpm.jourSuivant3,OFFSET(_xlpm.planLigne,0,3), _xlpm.estTravaillePlan,IFERROR(OFFSET(Paramètres!$H$2, MATCH($B8,Paramètres!$G$2:$G$6,0)-1, MOD(_xlpm.dateCourante+5,28)),""), IF(_xlpm.estFerie, IF(_xlpm.jourSemaine=5, IF(AND(OR(_xlpm.jourSuivant1="M",COUNTIF(fériés,_xlpm.dateCourante-1)=1), OR(_xlpm.jourSuivant2<>"0",_xlpm.jourSuivant3<>"0")), "M","0"), IF(_xlpm.jourSemaine=4, IF(AND(COUNTIF(fériés,_xlpm.dateCourante+1)=1, OR(_xlpm.jourSuivant2<>"0",_xlpm.jourSuivant3<>"0")), "M","0"), IF(_xlpm.jourSemaine=1, IF(_xlpm.jourAvant="M","M","0"), "0"))), IF(_xlpm.estTravaillePlan="M","M","0") )) -> 0
B9: =Paramètres!$G$6 -> Personne5 | C9: =_xlfn.LET( _xlpm.dateCourante,C$2, _xlpm.jourSemaine,WEEKDAY(_xlpm.dateCourante,2), _xlpm.estFerie,COUNTIF(fériés,_xlpm.dateCourante)=1, _xlpm.planLigne,C7, _xlpm.jourAvant,OFFSET(_xlpm.planLigne,0,-1), _xlpm.jourSuivant1,OFFSET(_xlpm.planLigne,0,1), _xlpm.jourSuivant2,OFFSET(_xlpm.planLigne,0,2), _xlpm.jourSuivant3,OFFSET(_xlpm.planLigne,0,3), _xlpm.estTravaillePlan,IFERROR(OFFSET(Paramètres!$H$2, MATCH($B9,Paramètres!$G$2:$G$6,0)-1, MOD(_xlpm.dateCourante+5,28)),""), IF(_xlpm.estFerie, IF(_xlpm.jourSemaine=5, IF(AND(OR(_xlpm.jourSuivant1="M",COUNTIF(fériés,_xlpm.dateCourante-1)=1), OR(_xlpm.jourSuivant2<>"0",_xlpm.jourSuivant3<>"0")), "M","0"), IF(_xlpm.jourSemaine=4, IF(AND(COUNTIF(fériés,_xlpm.dateCourante+1)=1, OR(_xlpm.jourSuivant2<>"0",_xlpm.jourSuivant3<>"0")), "M","0"), IF(_xlpm.jourSemaine=1, IF(_xlpm.jourAvant="M","M","0"), "0"))), IF(_xlpm.estTravaillePlan="M","M","0") )) -> 0 | D9: =_xlfn.LET( _xlpm.dateCourante,D$2, _xlpm.jourSemaine,WEEKDAY(_xlpm.dateCourante,2), _xlpm.estFerie,COUNTIF(fériés,_xlpm.dateCourante)=1, _xlpm.planLigne,D7, _xlpm.jourAvant,OFFSET(_xlpm.planLigne,0,-1), _xlpm.jourSuivant1,OFFSET(_xlpm.planLigne,0,1), _xlpm.jourSuivant2,OFFSET(_xlpm.planLigne,0,2), _xlpm.jourSuivant3,OFFSET(_xlpm.planLigne,0,3), _xlpm.estTravaillePlan,IFERROR(OFFSET(Paramètres!$H$2, MATCH($B9,Paramètres!$G$2:$G$6,0)-1, MOD(_xlpm.dateCourante+5,28)),""), IF(_xlpm.estFerie, IF(_xlpm.jourSemaine=5, IF(AND(OR(_xlpm.jourSuivant1="M",COUNTIF(fériés,_xlpm.dateCourante-1)=1), OR(_xlpm.jourSuivant2<>"0",_xlpm.jourSuivant3<>"0")), "M","0"), IF(_xlpm.jourSemaine=4, IF(AND(COUNTIF(fériés,_xlpm.dateCourante+1)=1, OR(_xlpm.jourSuivant2<>"0",_xlpm.jourSuivant3<>"0")), "M","0"), IF(_xlpm.jourSemaine=1, IF(_xlpm.jourAvant="M","M","0"), "0"))), IF(_xlpm.estTravaillePlan="M","M","0") )) -> 0 | E9: =_xlfn.LET( _xlpm.dateCourante,E$2, _xlpm.jourSemaine,WEEKDAY(_xlpm.dateCourante,2), _xlpm.estFerie,COUNTIF(fériés,_xlpm.dateCourante)=1, _xlpm.planLigne,E7, _xlpm.jourAvant,OFFSET(_xlpm.planLigne,0,-1), _xlpm.jourSuivant1,OFFSET(_xlpm.planLigne,0,1), _xlpm.jourSuivant2,OFFSET(_xlpm.planLigne,0,2), _xlpm.jourSuivant3,OFFSET(_xlpm.planLigne,0,3), _xlpm.estTravaillePlan,IFERROR(OFFSET(Paramètres!$H$2, MATCH($B9,Paramètres!$G$2:$G$6,0)-1, MOD(_xlpm.dateCourante+5,28)),""), IF(_xlpm.estFerie, IF(_xlpm.jourSemaine=5, IF(AND(OR(_xlpm.jourSuivant1="M",COUNTIF(fériés,_xlpm.dateCourante-1)=1), OR(_xlpm.jourSuivant2<>"0",_xlpm.jourSuivant3<>"0")), "M","0"), IF(_xlpm.jourSemaine=4, IF(AND(COUNTIF(fériés,_xlpm.dateCourante+1)=1, OR(_xlpm.jourSuivant2<>"0",_xlpm.jourSuivant3<>"0")), "M","0"), IF(_xlpm.jourSemaine=1, IF(_xlpm.jourAvant="M","M","0"), "0"))), IF(_xlpm.estTravaillePlan="M","M","0") )) -> 0 | F9: =_xlfn.LET( _xlpm.dateCourante,F$2, _xlpm.jourSemaine,WEEKDAY(_xlpm.dateCourante,2), _xlpm.estFerie,COUNTIF(fériés,_xlpm.dateCourante)=1, _xlpm.planLigne,F7, _xlpm.jourAvant,OFFSET(_xlpm.planLigne,0,-1), _xlpm.jourSuivant1,OFFSET(_xlpm.planLigne,0,1), _xlpm.jourSuivant2,OFFSET(_xlpm.planLigne,0,2), _xlpm.jourSuivant3,OFFSET(_xlpm.planLigne,0,3), _xlpm.estTravaillePlan,IFERROR(OFFSET(Paramètres!$H$2, MATCH($B9,Paramètres!$G$2:$G$6,0)-1, MOD(_xlpm.dateCourante+5,28)),""), IF(_xlpm.estFerie, IF(_xlpm.jourSemaine=5, IF(AND(OR(_xlpm.jourSuivant1="M",COUNTIF(fériés,_xlpm.dateCourante-1)=1), OR(_xlpm.jourSuivant2<>"0",_xlpm.jourSuivant3<>"0")), "M","0"), IF(_xlpm.jourSemaine=4, IF(AND(COUNTIF(fériés,_xlpm.dateCourante+1)=1, OR(_xlpm.jourSuivant2<>"0",_xlpm.jourSuivant3<>"0")), "M","0"), IF(_xlpm.jourSemaine=1, IF(_xlpm.jourAvant="M","M","0"), "0"))), IF(_xlpm.estTravaillePlan="M","M","0") )) -> 0 | G9: =_xlfn.LET( _xlpm.dateCourante,G$2, _xlpm.jourSemaine,WEEKDAY(_xlpm.dateCourante,2), _xlpm.estFerie,COUNTIF(fériés,_xlpm.dateCourante)=1, _xlpm.planLigne,G7, _xlpm.jourAvant,OFFSET(_xlpm.planLigne,0,-1), _xlpm.jourSuivant1,OFFSET(_xlpm.planLigne,0,1), _xlpm.jourSuivant2,OFFSET(_xlpm.planLigne,0,2), _xlpm.jourSuivant3,OFFSET(_xlpm.planLigne,0,3), _xlpm.estTravaillePlan,IFERROR(OFFSET(Paramètres!$H$2, MATCH($B9,Paramètres!$G$2:$G$6,0)-1, MOD(_xlpm.dateCourante+5,28)),""), IF(_xlpm.estFerie, IF(_xlpm.jourSemaine=5, IF(AND(OR(_xlpm.jourSuivant1="M",COUNTIF(fériés,_xlpm.dateCourante-1)=1), OR(_xlpm.jourSuivant2<>"0",_xlpm.jourSuivant3<>"0")), "M","0"), IF(_xlpm.jourSemaine=4, IF(AND(COUNTIF(fériés,_xlpm.dateCourante+1)=1, OR(_xlpm.jourSuivant2<>"0",_xlpm.jourSuivant3<>"0")), "M","0"), IF(_xlpm.jourSemaine=1, IF(_xlpm.jourAvant="M","M","0"), "0"))), IF(_xlpm.estTravaillePlan="M","M","0") )) -> 0 | H9: =_xlfn.LET( _xlpm.dateCourante,H$2, _xlpm.jourSemaine,WEEKDAY(_xlpm.dateCourante,2), _xlpm.estFerie,COUNTIF(fériés,_xlpm.dateCourante)=1, _xlpm.planLigne,H7, _xlpm.jourAvant,OFFSET(_xlpm.planLigne,0,-1), _xlpm.jourSuivant1,OFFSET(_xlpm.planLigne,0,1), _xlpm.jourSuivant2,OFFSET(_xlpm.planLigne,0,2), _xlpm.jourSuivant3,OFFSET(_xlpm.planLigne,0,3), _xlpm.estTravaillePlan,IFERROR(OFFSET(Paramètres!$H$2, MATCH($B9,Paramètres!$G$2:$G$6,0)-1, MOD(_xlpm.dateCourante+5,28)),""), IF(_xlpm.estFerie, IF(_xlpm.jourSemaine=5, IF(AND(OR(_xlpm.jourSuivant1="M",COUNTIF(fériés,_xlpm.dateCourante-1)=1), OR(_xlpm.jourSuivant2<>"0",_xlpm.jourSuivant3<>"0")), "M","0"), IF(_xlpm.jourSemaine=4, IF(AND(COUNTIF(fériés,_xlpm.dateCourante+1)=1, OR(_xlpm.jourSuivant2<>"0",_xlpm.jourSuivant3<>"0")), "M","0"), IF(_xlpm.jourSemaine=1, IF(_xlpm.jourAvant="M","M","0"), "0"))), IF(_xlpm.estTravaillePlan="M","M","0") )) -> 0 | I9: =_xlfn.LET( _xlpm.dateCourante,I$2, _xlpm.jourSemaine,WEEKDAY(_xlpm.dateCourante,2), _xlpm.estFerie,COUNTIF(fériés,_xlpm.dateCourante)=1, _xlpm.planLigne,I7, _xlpm.jourAvant,OFFSET(_xlpm.planLigne,0,-1), _xlpm.jourSuivant1,OFFSET(_xlpm.planLigne,0,1), _xlpm.jourSuivant2,OFFSET(_xlpm.planLigne,0,2), _xlpm.jourSuivant3,OFFSET(_xlpm.planLigne,0,3), _xlpm.estTravaillePlan,IFERROR(OFFSET(Paramètres!$H$2, MATCH($B9,Paramètres!$G$2:$G$6,0)-1, MOD(_xlpm.dateCourante+5,28)),""), IF(_xlpm.estFerie, IF(_xlpm.jourSemaine=5, IF(AND(OR(_xlpm.jourSuivant1="M",COUNTIF(fériés,_xlpm.dateCourante-1)=1), OR(_xlpm.jourSuivant2<>"0",_xlpm.jourSuivant3<>"0")), "M","0"), IF(_xlpm.jourSemaine=4, IF(AND(COUNTIF(fériés,_xlpm.dateCourante+1)=1, OR(_xlpm.jourSuivant2<>"0",_xlpm.jourSuivant3<>"0")), "M","0"), IF(_xlpm.jourSemaine=1, IF(_xlpm.jourAvant="M","M","0"), "0"))), IF(_xlpm.estTravaillePlan="M","M","0") )) -> 0 | J9: =_xlfn.LET( _xlpm.dateCourante,J$2, _xlpm.jourSemaine,WEEKDAY(_xlpm.dateCourante,2), _xlpm.estFerie,COUNTIF(fériés,_xlpm.dateCourante)=1, _xlpm.planLigne,J7, _xlpm.jourAvant,OFFSET(_xlpm.planLigne,0,-1), _xlpm.jourSuivant1,OFFSET(_xlpm.planLigne,0,1), _xlpm.jourSuivant2,OFFSET(_xlpm.planLigne,0,2), _xlpm.jourSuivant3,OFFSET(_xlpm.planLigne,0,3), _xlpm.estTravaillePlan,IFERROR(OFFSET(Paramètres!$H$2, MATCH($B9,Paramètres!$G$2:$G$6,0)-1, MOD(_xlpm.dateCourante+5,28)),""), IF(_xlpm.estFerie, IF(_xlpm.jourSemaine=5, IF(AND(OR(_xlpm.jourSuivant1="M",COUNTIF(fériés,_xlpm.dateCourante-1)=1), OR(_xlpm.jourSuivant2<>"0",_xlpm.jourSuivant3<>"0")), "M","0"), IF(_xlpm.jourSemaine=4, IF(AND(COUNTIF(fériés,_xlpm.dateCourante+1)=1, OR(_xlpm.jourSuivant2<>"0",_xlpm.jourSuivant3<>"0")), "M","0"), IF(_xlpm.jourSemaine=1, IF(_xlpm.jourAvant="M","M","0"), "0"))), IF(_xlpm.estTravaillePlan="M","M","0") )) -> 0 | ... NC9: =_xlfn.LET( _xlpm.dateCourante,NC$2, _xlpm.jourSemaine,WEEKDAY(_xlpm.dateCourante,2), _xlpm.estFerie,COUNTIF(fériés,_xlpm.dateCourante)=1, _xlpm.planLigne,NC7, _xlpm.jourAvant,OFFSET(_xlpm.planLigne,0,-1), _xlpm.jourSuivant1,OFFSET(_xlpm.planLigne,0,1), _xlpm.jourSuivant2,OFFSET(_xlpm.planLigne,0,2), _xlpm.jourSuivant3,OFFSET(_xlpm.planLigne,0,3), _xlpm.estTravaillePlan,IFERROR(OFFSET(Paramètres!$H$2, MATCH($B9,Paramètres!$G$2:$G$6,0)-1, MOD(_xlpm.dateCourante+5,28)),""), IF(_xlpm.estFerie, IF(_xlpm.jourSemaine=5, IF(AND(OR(_xlpm.jourSuivant1="M",COUNTIF(fériés,_xlpm.dateCourante-1)=1), OR(_xlpm.jourSuivant2<>"0",_xlpm.jourSuivant3<>"0")), "M","0"), IF(_xlpm.jourSemaine=4, IF(AND(COUNTIF(fériés,_xlpm.dateCourante+1)=1, OR(_xlpm.jourSuivant2<>"0",_xlpm.jourSuivant3<>"0")), "M","0"), IF(_xlpm.jourSemaine=1, IF(_xlpm.jourAvant="M","M","0"), "0"))), IF(_xlpm.estTravaillePlan="M","M","0") )) -> 0
ED10: =IF( COUNTIF(fériés,ED$2)=1, IF( OR( IFERROR(OFFSET(Paramètres!$H$2, MATCH($B6,Paramètres!$G$2:$G$6,0)-1, COLUMN(ED2)-COLUMN(DW2)),"")="M", IFERROR(OFFSET(Paramètres!$H$2, MATCH($B6,Paramètres!$G$2:$G$6,0)-1, COLUMN(ED2)-COLUMN(DW2)-1),"")="M", IFERROR(OFFSET(Paramètres!$H$2, MATCH($B6,Paramètres!$G$2:$G$6,0)-1, COLUMN(ED2)-COLUMN(DW2)+1),"")="M" ), "M", "0" ), "0" ) -> 0
B11: =DATE(an,2,1) -> 45689 | C11: =B11 -> 45689 | D11: =C11+1 -> 45690 | E11: =D11+1 -> 45691 | F11: =E11+1 -> 45692 | G11: =F11+1 -> 45693 | H11: =G11+1 -> 45694 | I11: =H11+1 -> 45695 | J11: =I11+1 -> 45696 | K11: =J11+1 -> 45697 | ... AD11: =AC11+1 -> 45716
B12: =Paramètres!$G$2 -> Personne1 | C12: =IF(COUNTIF(fériés,C$11)=0,OFFSET(Paramètres!$H$2,MATCH($B3,Paramètres!$G$2:$G$6,0)-1,MOD(C$11+5,28)),"") -> 0 | D12: =IF(COUNTIF(fériés,D$11)=0,OFFSET(Paramètres!$H$2,MATCH($B3,Paramètres!$G$2:$G$6,0)-1,MOD(D$11+5,28)),"") -> 0 | E12: =IF(COUNTIF(fériés,E$11)=0,OFFSET(Paramètres!$H$2,MATCH($B3,Paramètres!$G$2:$G$6,0)-1,MOD(E$11+5,28)),"") -> J | F12: =IF(COUNTIF(fériés,F$11)=0,OFFSET(Paramètres!$H$2,MATCH($B3,Paramètres!$G$2:$G$6,0)-1,MOD(F$11+5,28)),"") -> J | G12: =IF(COUNTIF(fériés,G$11)=0,OFFSET(Paramètres!$H$2,MATCH($B3,Paramètres!$G$2:$G$6,0)-1,MOD(G$11+5,28)),"") -> J | H12: =IF(COUNTIF(fériés,H$11)=0,OFFSET(Paramètres!$H$2,MATCH($B3,Paramètres!$G$2:$G$6,0)-1,MOD(H$11+5,28)),"") -> J | I12: =IF(COUNTIF(fériés,I$11)=0,OFFSET(Paramètres!$H$2,MATCH($B3,Paramètres!$G$2:$G$6,0)-1,MOD(I$11+5,28)),"") -> J | J12: =IF(COUNTIF(fériés,J$11)=0,OFFSET(Paramètres!$H$2,MATCH($B3,Paramètres!$G$2:$G$6,0)-1,MOD(J$11+5,28)),"") -> 0 | ... AD12: =IF(COUNTIF(fériés,AD$11)=0,OFFSET(Paramètres!$H$2,MATCH($B3,Paramètres!$G$2:$G$6,0)-1,MOD(AD$11+5,28)),"") -> J
B13: =Paramètres!$G$3 -> Personne2 | C13: =IF(COUNTIF(fériés,C$11)=0,OFFSET(Paramètres!$H$2,MATCH($B4,Paramètres!$G$2:$G$6,0)-1,MOD(C$11+5,28)),"") -> 0 | D13: =IF(COUNTIF(fériés,D$11)=0,OFFSET(Paramètres!$H$2,MATCH($B4,Paramètres!$G$2:$G$6,0)-1,MOD(D$11+5,28)),"") -> 0 | E13: =IF(COUNTIF(fériés,E$11)=0,OFFSET(Paramètres!$H$2,MATCH($B4,Paramètres!$G$2:$G$6,0)-1,MOD(E$11+5,28)),"") -> A | F13: =IF(COUNTIF(fériés,F$11)=0,OFFSET(Paramètres!$H$2,MATCH($B4,Paramètres!$G$2:$G$6,0)-1,MOD(F$11+5,28)),"") -> A | G13: =IF(COUNTIF(fériés,G$11)=0,OFFSET(Paramètres!$H$2,MATCH($B4,Paramètres!$G$2:$G$6,0)-1,MOD(G$11+5,28)),"") -> A | H13: =IF(COUNTIF(fériés,H$11)=0,OFFSET(Paramètres!$H$2,MATCH($B4,Paramètres!$G$2:$G$6,0)-1,MOD(H$11+5,28)),"") -> A | I13: =IF(COUNTIF(fériés,I$11)=0,OFFSET(Paramètres!$H$2,MATCH($B4,Paramètres!$G$2:$G$6,0)-1,MOD(I$11+5,28)),"") -> A | J13: =IF(COUNTIF(fériés,J$11)=0,OFFSET(Paramètres!$H$2,MATCH($B4,Paramètres!$G$2:$G$6,0)-1,MOD(J$11+5,28)),"") -> 0 | ... AD13: =IF(COUNTIF(fériés,AD$11)=0,OFFSET(Paramètres!$H$2,MATCH($B4,Paramètres!$G$2:$G$6,0)-1,MOD(AD$11+5,28)),"") -> M
B14: =Paramètres!$G$4 -> Personne3 | C14: =IF(COUNTIF(fériés,C$11)=0,OFFSET(Paramètres!$H$2,MATCH($B5,Paramètres!$G$2:$G$6,0)-1,MOD(C$11+5,28)),"") -> 0 | D14: =IF(COUNTIF(fériés,D$11)=0,OFFSET(Paramètres!$H$2,MATCH($B5,Paramètres!$G$2:$G$6,0)-1,MOD(D$11+5,28)),"") -> 0 | E14: =IF(COUNTIF(fériés,E$11)=0,OFFSET(Paramètres!$H$2,MATCH($B5,Paramètres!$G$2:$G$6,0)-1,MOD(E$11+5,28)),"") -> M | F14: =IF(COUNTIF(fériés,F$11)=0,OFFSET(Paramètres!$H$2,MATCH($B5,Paramètres!$G$2:$G$6,0)-1,MOD(F$11+5,28)),"") -> M | G14: =IF(COUNTIF(fériés,G$11)=0,OFFSET(Paramètres!$H$2,MATCH($B5,Paramètres!$G$2:$G$6,0)-1,MOD(G$11+5,28)),"") -> M | H14: =IF(COUNTIF(fériés,H$11)=0,OFFSET(Paramètres!$H$2,MATCH($B5,Paramètres!$G$2:$G$6,0)-1,MOD(H$11+5,28)),"") -> M | I14: =IF(COUNTIF(fériés,I$11)=0,OFFSET(Paramètres!$H$2,MATCH($B5,Paramètres!$G$2:$G$6,0)-1,MOD(I$11+5,28)),"") -> M | J14: =IF(COUNTIF(fériés,J$11)=0,OFFSET(Paramètres!$H$2,MATCH($B5,Paramètres!$G$2:$G$6,0)-1,MOD(J$11+5,28)),"") -> 0 | ... AD14: =IF(COUNTIF(fériés,AD$11)=0,OFFSET(Paramètres!$H$2,MATCH($B5,Paramètres!$G$2:$G$6,0)-1,MOD(AD$11+5,28)),"") -> A
B15: =Paramètres!$G$5 -> Personne4 | C15: {=IF(COUNTIF(fériés,C$11)=1, IF(AND(INDIRECT(ADDRESS(ROW(),COLUMN()-1))="0", INDIRECT(ADDRESS(ROW(),COLUMN()-2))="0"), "0", "M" ), IF(OFFSET(Paramètres!$H$2,MATCH($B15,Paramètres!$G$2:$G$6,0)-1,MOD(C$11+5,28))="M", "M", "0" ) )} -> 0 | D15: {=IF(COUNTIF(fériés,D$11)=1, IF(AND(INDIRECT(ADDRESS(ROW(),COLUMN()-1))="0", INDIRECT(ADDRESS(ROW(),COLUMN()-2))="0"), "0", "M" ), IF(OFFSET(Paramètres!$H$2,MATCH($B15,Paramètres!$G$2:$G$6,0)-1,MOD(D$11+5,28))="M", "M", "0" ) )} -> 0 | E15: {=IF(COUNTIF(fériés,E$11)=1, IF(AND(INDIRECT(ADDRESS(ROW(),COLUMN()-1))="0", INDIRECT(ADDRESS(ROW(),COLUMN()-2))="0"), "0", "M" ), IF(OFFSET(Paramètres!$H$2,MATCH($B15,Paramètres!$G$2:$G$6,0)-1,MOD(E$11+5,28))="M", "M", "0" ) )} -> 0 | F15: {=IF(COUNTIF(fériés,F$11)=1, IF(AND(INDIRECT(ADDRESS(ROW(),COLUMN()-1))="0", INDIRECT(ADDRESS(ROW(),COLUMN()-2))="0"), "0", "M" ), IF(OFFSET(Paramètres!$H$2,MATCH($B15,Paramètres!$G$2:$G$6,0)-1,MOD(F$11+5,28))="M", "M", "0" ) )} -> 0 | G15: {=IF(COUNTIF(fériés,G$11)=1, IF(AND(INDIRECT(ADDRESS(ROW(),COLUMN()-1))="0", INDIRECT(ADDRESS(ROW(),COLUMN()-2))="0"), "0", "M" ), IF(OFFSET(Paramètres!$H$2,MATCH($B15,Paramètres!$G$2:$G$6,0)-1,MOD(G$11+5,28))="M", "M", "0" ) )} -> 0 | H15: {=IF(COUNTIF(fériés,H$11)=1, IF(AND(INDIRECT(ADDRESS(ROW(),COLUMN()-1))="0", INDIRECT(ADDRESS(ROW(),COLUMN()-2))="0"), "0", "M" ), IF(OFFSET(Paramètres!$H$2,MATCH($B15,Paramètres!$G$2:$G$6,0)-1,MOD(H$11+5,28))="M", "M", "0" ) )} -> 0 | I15: {=IF(COUNTIF(fériés,I$11)=1, IF(AND(INDIRECT(ADDRESS(ROW(),COLUMN()-1))="0", INDIRECT(ADDRESS(ROW(),COLUMN()-2))="0"), "0", "M" ), IF(OFFSET(Paramètres!$H$2,MATCH($B15,Paramètres!$G$2:$G$6,0)-1,MOD(I$11+5,28))="M", "M", "0" ) )} -> 0 | J15: {=IF(COUNTIF(fériés,J$11)=1, IF(AND(INDIRECT(ADDRESS(ROW(),COLUMN()-1))="0", INDIRECT(ADDRESS(ROW(),COLUMN()-2))="0"), "0", "M" ), IF(OFFSET(Paramètres!$H$2,MATCH($B15,Paramètres!$G$2:$G$6,0)-1,MOD(J$11+5,28))="M", "M", "0" ) )} -> M | ... AD15: {=IF(COUNTIF(fériés,AD$11)=1, IF(AND(INDIRECT(ADDRESS(ROW(),COLUMN()-1))="0", INDIRECT(ADDRESS(ROW(),COLUMN()-2))="0"), "0", "M" ), IF(OFFSET(Paramètres!$H$2,MATCH($B15,Paramètres!$G$2:$G$6,0)-1,MOD(AD$11+5,28))="M", "M", "0" ) )} -> 0
B16: =Paramètres!$G$6 -> Personne5 | C16: {=IF(COUNTIF(fériés,C$11)=1, IF(AND(INDIRECT(ADDRESS(ROW(),COLUMN()-1))="0", INDIRECT(ADDRESS(ROW(),COLUMN()-2))="0"), "0", "M" ), IF(OFFSET(Paramètres!$H$2,MATCH($B16,Paramètres!$G$2:$G$6,0)-1,MOD(C$11+5,28))="M", "M", "0" ) )} -> 0 | D16: =IF(COUNTIF(fériés,D$11)=1,"M",OFFSET(Paramètres!$H$2,MATCH($B16,Paramètres!$G$2:$G$6,0)-1,MOD(D$11+5,28))) -> 0 | E16: =IF(COUNTIF(fériés,E$11)=1,"M",OFFSET(Paramètres!$H$2,MATCH($B16,Paramètres!$G$2:$G$6,0)-1,MOD(E$11+5,28))) -> 0 | F16: =IF(COUNTIF(fériés,F$11)=1,"M",OFFSET(Paramètres!$H$2,MATCH($B16,Paramètres!$G$2:$G$6,0)-1,MOD(F$11+5,28))) -> 0 | G16: =IF(COUNTIF(fériés,G$11)=1,"M",OFFSET(Paramètres!$H$2,MATCH($B16,Paramètres!$G$2:$G$6,0)-1,MOD(G$11+5,28))) -> 0 | H16: =IF(COUNTIF(fériés,H$11)=1,"M",OFFSET(Paramètres!$H$2,MATCH($B16,Paramètres!$G$2:$G$6,0)-1,MOD(H$11+5,28))) -> 0 | I16: =IF(COUNTIF(fériés,I$11)=1,"M",OFFSET(Paramètres!$H$2,MATCH($B16,Paramètres!$G$2:$G$6,0)-1,MOD(I$11+5,28))) -> 0 | J16: =IF(COUNTIF(fériés,J$11)=1,"M",OFFSET(Paramètres!$H$2,MATCH($B16,Paramètres!$G$2:$G$6,0)-1,MOD(J$11+5,28))) -> M | K16: =IF(COUNTIF(fériés,K$11)=1,"M",OFFSET(Paramètres!$H$2,MATCH($B16,Paramètres!$G$2:$G$6,0)-1,MOD(K$11+5,28))) -> M | ... AD16: =IF(COUNTIF(fériés,AD$11)=1,"M",OFFSET(Paramètres!$H$2,MATCH($B16,Paramètres!$G$2:$G$6,0)-1,MOD(AD$11+5,28))) -> 0
B17: =Paramètres!$G$5 -> Personne4 | C17: =_xlfn.LET( _xlpm.dateCourante,C$11, _xlpm.jourSemaine,WEEKDAY(_xlpm.dateCourante,2), _xlpm.estFerie,COUNTIF(fériés,_xlpm.dateCourante)=1, _xlpm.planLigne,C15, _xlpm.jourAvant,OFFSET(_xlpm.planLigne,0,-1), _xlpm.jourSuivant1,OFFSET(_xlpm.planLigne,0,1), _xlpm.jourSuivant2,OFFSET(_xlpm.planLigne,0,2), _xlpm.jourSuivant3,OFFSET(_xlpm.planLigne,0,3), _xlpm.estTravaillePlan,IFERROR(OFFSET(Paramètres!$H$2, MATCH($B17,Paramètres!$G$2:$G$6,0)-1, MOD(_xlpm.dateCourante+5,28)),""), IF(_xlpm.estFerie, IF(_xlpm.jourSemaine=5, IF(AND(OR(_xlpm.jourSuivant1="M",COUNTIF(fériés,_xlpm.dateCourante-1)=1), OR(_xlpm.jourSuivant2<>"0",_xlpm.jourSuivant3<>"0")), "M","0"), IF(_xlpm.jourSemaine=4, IF(AND(COUNTIF(fériés,_xlpm.dateCourante+1)=1, OR(_xlpm.jourSuivant2<>"0",_xlpm.jourSuivant3<>"0")), "M","0"), IF(_xlpm.jourSemaine=1, IF(_xlpm.jourAvant="M","M","0"), "0"))), IF(_xlpm.estTravaillePlan="M","M","0") )) -> 0 | D17: =_xlfn.LET( _xlpm.dateCourante,D$11, _xlpm.jourSemaine,WEEKDAY(_xlpm.dateCourante,2), _xlpm.estFerie,COUNTIF(fériés,_xlpm.dateCourante)=1, _xlpm.planLigne,D15, _xlpm.jourAvant,OFFSET(_xlpm.planLigne,0,-1), _xlpm.jourSuivant1,OFFSET(_xlpm.planLigne,0,1), _xlpm.jourSuivant2,OFFSET(_xlpm.planLigne,0,2), _xlpm.jourSuivant3,OFFSET(_xlpm.planLigne,0,3), _xlpm.estTravaillePlan,IFERROR(OFFSET(Paramètres!$H$2, MATCH($B17,Paramètres!$G$2:$G$6,0)-1, MOD(_xlpm.dateCourante+5,28)),""), IF(_xlpm.estFerie, IF(_xlpm.jourSemaine=5, IF(AND(OR(_xlpm.jourSuivant1="M",COUNTIF(fériés,_xlpm.dateCourante-1)=1), OR(_xlpm.jourSuivant2<>"0",_xlpm.jourSuivant3<>"0")), "M","0"), IF(_xlpm.jourSemaine=4, IF(AND(COUNTIF(fériés,_xlpm.dateCourante+1)=1, OR(_xlpm.jourSuivant2<>"0",_xlpm.jourSuivant3<>"0")), "M","0"), IF(_xlpm.jourSemaine=1, IF(_xlpm.jourAvant="M","M","0"), "0"))), IF(_xlpm.estTravaillePlan="M","M","0") )) -> 0 | E17: =_xlfn.LET( _xlpm.dateCourante,E$11, _xlpm.jourSemaine,WEEKDAY(_xlpm.dateCourante,2), _xlpm.estFerie,COUNTIF(fériés,_xlpm.dateCourante)=1, _xlpm.planLigne,E15, _xlpm.jourAvant,OFFSET(_xlpm.planLigne,0,-1), _xlpm.jourSuivant1,OFFSET(_xlpm.planLigne,0,1), _xlpm.jourSuivant2,OFFSET(_xlpm.planLigne,0,2), _xlpm.jourSuivant3,OFFSET(_xlpm.planLigne,0,3), _xlpm.estTravaillePlan,IFERROR(OFFSET(Paramètres!$H$2, MATCH($B17,Paramètres!$G$2:$G$6,0)-1, MOD(_xlpm.dateCourante+5,28)),""), IF(_xlpm.estFerie, IF(_xlpm.jourSemaine=5, IF(AND(OR(_xlpm.jourSuivant1="M",COUNTIF(fériés,_xlpm.dateCourante-1)=1), OR(_xlpm.jourSuivant2<>"0",_xlpm.jourSuivant3<>"0")), "M","0"), IF(_xlpm.jourSemaine=4, IF(AND(COUNTIF(fériés,_xlpm.dateCourante+1)=1, OR(_xlpm.jourSuivant2<>"0",_xlpm.jourSuivant3<>"0")), "M","0"), IF(_xlpm.jourSemaine=1, IF(_xlpm.jourAvant="M","M","0"), "0"))), IF(_xlpm.estTravaillePlan="M","M","0") )) -> 0 | F17: =_xlfn.LET( _xlpm.dateCourante,F$11, _xlpm.jourSemaine,WEEKDAY(_xlpm.dateCourante,2), _xlpm.estFerie,COUNTIF(fériés,_xlpm.dateCourante)=1, _xlpm.planLigne,F15, _xlpm.jourAvant,OFFSET(_xlpm.planLigne,0,-1), _xlpm.jourSuivant1,OFFSET(_xlpm.planLigne,0,1), _xlpm.jourSuivant2,OFFSET(_xlpm.planLigne,0,2), _xlpm.jourSuivant3,OFFSET(_xlpm.planLigne,0,3), _xlpm.estTravaillePlan,IFERROR(OFFSET(Paramètres!$H$2, MATCH($B17,Paramètres!$G$2:$G$6,0)-1, MOD(_xlpm.dateCourante+5,28)),""), IF(_xlpm.estFerie, IF(_xlpm.jourSemaine=5, IF(AND(OR(_xlpm.jourSuivant1="M",COUNTIF(fériés,_xlpm.dateCourante-1)=1), OR(_xlpm.jourSuivant2<>"0",_xlpm.jourSuivant3<>"0")), "M","0"), IF(_xlpm.jourSemaine=4, IF(AND(COUNTIF(fériés,_xlpm.dateCourante+1)=1, OR(_xlpm.jourSuivant2<>"0",_xlpm.jourSuivant3<>"0")), "M","0"), IF(_xlpm.jourSemaine=1, IF(_xlpm.jourAvant="M","M","0"), "0"))), IF(_xlpm.estTravaillePlan="M","M","0") )) -> 0 | G17: =_xlfn.LET( _xlpm.dateCourante,G$11, _xlpm.jourSemaine,WEEKDAY(_xlpm.dateCourante,2), _xlpm.estFerie,COUNTIF(fériés,_xlpm.dateCourante)=1, _xlpm.planLigne,G15, _xlpm.jourAvant,OFFSET(_xlpm.planLigne,0,-1), _xlpm.jourSuivant1,OFFSET(_xlpm.planLigne,0,1), _xlpm.jourSuivant2,OFFSET(_xlpm.planLigne,0,2), _xlpm.jourSuivant3,OFFSET(_xlpm.planLigne,0,3), _xlpm.estTravaillePlan,IFERROR(OFFSET(Paramètres!$H$2, MATCH($B17,Paramètres!$G$2:$G$6,0)-1, MOD(_xlpm.dateCourante+5,28)),""), IF(_xlpm.estFerie, IF(_xlpm.jourSemaine=5, IF(AND(OR(_xlpm.jourSuivant1="M",COUNTIF(fériés,_xlpm.dateCourante-1)=1), OR(_xlpm.jourSuivant2<>"0",_xlpm.jourSuivant3<>"0")), "M","0"), IF(_xlpm.jourSemaine=4, IF(AND(COUNTIF(fériés,_xlpm.dateCourante+1)=1, OR(_xlpm.jourSuivant2<>"0",_xlpm.jourSuivant3<>"0")), "M","0"), IF(_xlpm.jourSemaine=1, IF(_xlpm.jourAvant="M","M","0"), "0"))), IF(_xlpm.estTravaillePlan="M","M","0") )) -> 0 | H17: =_xlfn.LET( _xlpm.dateCourante,H$11, _xlpm.jourSemaine,WEEKDAY(_xlpm.dateCourante,2), _xlpm.estFerie,COUNTIF(fériés,_xlpm.dateCourante)=1, _xlpm.planLigne,H15, _xlpm.jourAvant,OFFSET(_xlpm.planLigne,0,-1), _xlpm.jourSuivant1,OFFSET(_xlpm.planLigne,0,1), _xlpm.jourSuivant2,OFFSET(_xlpm.planLigne,0,2), _xlpm.jourSuivant3,OFFSET(_xlpm.planLigne,0,3), _xlpm.estTravaillePlan,IFERROR(OFFSET(Paramètres!$H$2, MATCH($B17,Paramètres!$G$2:$G$6,0)-1, MOD(_xlpm.dateCourante+5,28)),""), IF(_xlpm.estFerie, IF(_xlpm.jourSemaine=5, IF(AND(OR(_xlpm.jourSuivant1="M",COUNTIF(fériés,_xlpm.dateCourante-1)=1), OR(_xlpm.jourSuivant2<>"0",_xlpm.jourSuivant3<>"0")), "M","0"), IF(_xlpm.jourSemaine=4, IF(AND(COUNTIF(fériés,_xlpm.dateCourante+1)=1, OR(_xlpm.jourSuivant2<>"0",_xlpm.jourSuivant3<>"0")), "M","0"), IF(_xlpm.jourSemaine=1, IF(_xlpm.jourAvant="M","M","0"), "0"))), IF(_xlpm.estTravaillePlan="M","M","0") )) -> 0 | I17: =_xlfn.LET( _xlpm.dateCourante,I$11, _xlpm.jourSemaine,WEEKDAY(_xlpm.dateCourante,2), _xlpm.estFerie,COUNTIF(fériés,_xlpm.dateCourante)=1, _xlpm.planLigne,I15, _xlpm.jourAvant,OFFSET(_xlpm.planLigne,0,-1), _xlpm.jourSuivant1,OFFSET(_xlpm.planLigne,0,1), _xlpm.jourSuivant2,OFFSET(_xlpm.planLigne,0,2), _xlpm.jourSuivant3,OFFSET(_xlpm.planLigne,0,3), _xlpm.estTravaillePlan,IFERROR(OFFSET(Paramètres!$H$2, MATCH($B17,Paramètres!$G$2:$G$6,0)-1, MOD(_xlpm.dateCourante+5,28)),""), IF(_xlpm.estFerie, IF(_xlpm.jourSemaine=5, IF(AND(OR(_xlpm.jourSuivant1="M",COUNTIF(fériés,_xlpm.dateCourante-1)=1), OR(_xlpm.jourSuivant2<>"0",_xlpm.jourSuivant3<>"0")), "M","0"), IF(_xlpm.jourSemaine=4, IF(AND(COUNTIF(fériés,_xlpm.dateCourante+1)=1, OR(_xlpm.jourSuivant2<>"0",_xlpm.jourSuivant3<>"0")), "M","0"), IF(_xlpm.jourSemaine=1, IF(_xlpm.jourAvant="M","M","0"), "0"))), IF(_xlpm.estTravaillePlan="M","M","0") )) -> 0 | J17: =_xlfn.LET( _xlpm.dateCourante,J$11, _xlpm.jourSemaine,WEEKDAY(_xlpm.dateCourante,2), _xlpm.estFerie,COUNTIF(fériés,_xlpm.dateCourante)=1, _xlpm.planLigne,J15, _xlpm.jourAvant,OFFSET(_xlpm.planLigne,0,-1), _xlpm.jourSuivant1,OFFSET(_xlpm.planLigne,0,1), _xlpm.jourSuivant2,OFFSET(_xlpm.planLigne,0,2), _xlpm.jourSuivant3,OFFSET(_xlpm.planLigne,0,3), _xlpm.estTravaillePlan,IFERROR(OFFSET(Paramètres!$H$2, MATCH($B17,Paramètres!$G$2:$G$6,0)-1, MOD(_xlpm.dateCourante+5,28)),""), IF(_xlpm.estFerie, IF(_xlpm.jourSemaine=5, IF(AND(OR(_xlpm.jourSuivant1="M",COUNTIF(fériés,_xlpm.dateCourante-1)=1), OR(_xlpm.jourSuivant2<>"0",_xlpm.jourSuivant3<>"0")), "M","0"), IF(_xlpm.jourSemaine=4, IF(AND(COUNTIF(fériés,_xlpm.dateCourante+1)=1, OR(_xlpm.jourSuivant2<>"0",_xlpm.jourSuivant3<>"0")), "M","0"), IF(_xlpm.jourSemaine=1, IF(_xlpm.jourAvant="M","M","0"), "0"))), IF(_xlpm.estTravaillePlan="M","M","0") )) -> M | ... AD17: =_xlfn.LET( _xlpm.dateCourante,AD$11, _xlpm.jourSemaine,WEEKDAY(_xlpm.dateCourante,2), _xlpm.estFerie,COUNTIF(fériés,_xlpm.dateCourante)=1, _xlpm.planLigne,AD15, _xlpm.jourAvant,OFFSET(_xlpm.planLigne,0,-1), _xlpm.jourSuivant1,OFFSET(_xlpm.planLigne,0,1), _xlpm.jourSuivant2,OFFSET(_xlpm.planLigne,0,2), _xlpm.jourSuivant3,OFFSET(_xlpm.planLigne,0,3), _xlpm.estTravaillePlan,IFERROR(OFFSET(Paramètres!$H$2, MATCH($B17,Paramètres!$G$2:$G$6,0)-1, MOD(_xlpm.dateCourante+5,28)),""), IF(_xlpm.estFerie, IF(_xlpm.jourSemaine=5, IF(AND(OR(_xlpm.jourSuivant1="M",COUNTIF(fériés,_xlpm.dateCourante-1)=1), OR(_xlpm.jourSuivant2<>"0",_xlpm.jourSuivant3<>"0")), "M","0"), IF(_xlpm.jourSemaine=4, IF(AND(COUNTIF(fériés,_xlpm.dateCourante+1)=1, OR(_xlpm.jourSuivant2<>"0",_xlpm.jourSuivant3<>"0")), "M","0"), IF(_xlpm.jourSemaine=1, IF(_xlpm.jourAvant="M","M","0"), "0"))), IF(_xlpm.estTravaillePlan="M","M","0") )) -> 0
B18: =Paramètres!$G$6 -> Personne5 | C18: =_xlfn.LET( _xlpm.dateCourante,C$11, _xlpm.jourSemaine,WEEKDAY(_xlpm.dateCourante,2), _xlpm.estFerie,COUNTIF(fériés,_xlpm.dateCourante)=1, _xlpm.planLigne,C16, _xlpm.jourAvant,OFFSET(_xlpm.planLigne,0,-1), _xlpm.jourSuivant1,OFFSET(_xlpm.planLigne,0,1), _xlpm.jourSuivant2,OFFSET(_xlpm.planLigne,0,2), _xlpm.jourSuivant3,OFFSET(_xlpm.planLigne,0,3), _xlpm.estTravaillePlan,IFERROR(OFFSET(Paramètres!$H$2, MATCH($B18,Paramètres!$G$2:$G$6,0)-1, MOD(_xlpm.dateCourante+5,28)),""), IF(_xlpm.estFerie, IF(_xlpm.jourSemaine=5, IF(AND(OR(_xlpm.jourSuivant1="M",COUNTIF(fériés,_xlpm.dateCourante-1)=1), OR(_xlpm.jourSuivant2<>"0",_xlpm.jourSuivant3<>"0")), "M","0"), IF(_xlpm.jourSemaine=4, IF(AND(COUNTIF(fériés,_xlpm.dateCourante+1)=1, OR(_xlpm.jourSuivant2<>"0",_xlpm.jourSuivant3<>"0")), "M","0"), IF(_xlpm.jourSemaine=1, IF(_xlpm.jourAvant="M","M","0"), "0"))), IF(_xlpm.estTravaillePlan="M","M","0") )) -> 0 | D18: =_xlfn.LET( _xlpm.dateCourante,D$11, _xlpm.jourSemaine,WEEKDAY(_xlpm.dateCourante,2), _xlpm.estFerie,COUNTIF(fériés,_xlpm.dateCourante)=1, _xlpm.planLigne,D16, _xlpm.jourAvant,OFFSET(_xlpm.planLigne,0,-1), _xlpm.jourSuivant1,OFFSET(_xlpm.planLigne,0,1), _xlpm.jourSuivant2,OFFSET(_xlpm.planLigne,0,2), _xlpm.jourSuivant3,OFFSET(_xlpm.planLigne,0,3), _xlpm.estTravaillePlan,IFERROR(OFFSET(Paramètres!$H$2, MATCH($B18,Paramètres!$G$2:$G$6,0)-1, MOD(_xlpm.dateCourante+5,28)),""), IF(_xlpm.estFerie, IF(_xlpm.jourSemaine=5, IF(AND(OR(_xlpm.jourSuivant1="M",COUNTIF(fériés,_xlpm.dateCourante-1)=1), OR(_xlpm.jourSuivant2<>"0",_xlpm.jourSuivant3<>"0")), "M","0"), IF(_xlpm.jourSemaine=4, IF(AND(COUNTIF(fériés,_xlpm.dateCourante+1)=1, OR(_xlpm.jourSuivant2<>"0",_xlpm.jourSuivant3<>"0")), "M","0"), IF(_xlpm.jourSemaine=1, IF(_xlpm.jourAvant="M","M","0"), "0"))), IF(_xlpm.estTravaillePlan="M","M","0") )) -> 0 | E18: =_xlfn.LET( _xlpm.dateCourante,E$11, _xlpm.jourSemaine,WEEKDAY(_xlpm.dateCourante,2), _xlpm.estFerie,COUNTIF(fériés,_xlpm.dateCourante)=1, _xlpm.planLigne,E16, _xlpm.jourAvant,OFFSET(_xlpm.planLigne,0,-1), _xlpm.jourSuivant1,OFFSET(_xlpm.planLigne,0,1), _xlpm.jourSuivant2,OFFSET(_xlpm.planLigne,0,2), _xlpm.jourSuivant3,OFFSET(_xlpm.planLigne,0,3), _xlpm.estTravaillePlan,IFERROR(OFFSET(Paramètres!$H$2, MATCH($B18,Paramètres!$G$2:$G$6,0)-1, MOD(_xlpm.dateCourante+5,28)),""), IF(_xlpm.estFerie, IF(_xlpm.jourSemaine=5, IF(AND(OR(_xlpm.jourSuivant1="M",COUNTIF(fériés,_xlpm.dateCourante-1)=1), OR(_xlpm.jourSuivant2<>"0",_xlpm.jourSuivant3<>"0")), "M","0"), IF(_xlpm.jourSemaine=4, IF(AND(COUNTIF(fériés,_xlpm.dateCourante+1)=1, OR(_xlpm.jourSuivant2<>"0",_xlpm.jourSuivant3<>"0")), "M","0"), IF(_xlpm.jourSemaine=1, IF(_xlpm.jourAvant="M","M","0"), "0"))), IF(_xlpm.estTravaillePlan="M","M","0") )) -> 0 | F18: =_xlfn.LET( _xlpm.dateCourante,F$11, _xlpm.jourSemaine,WEEKDAY(_xlpm.dateCourante,2), _xlpm.estFerie,COUNTIF(fériés,_xlpm.dateCourante)=1, _xlpm.planLigne,F16, _xlpm.jourAvant,OFFSET(_xlpm.planLigne,0,-1), _xlpm.jourSuivant1,OFFSET(_xlpm.planLigne,0,1), _xlpm.jourSuivant2,OFFSET(_xlpm.planLigne,0,2), _xlpm.jourSuivant3,OFFSET(_xlpm.planLigne,0,3), _xlpm.estTravaillePlan,IFERROR(OFFSET(Paramètres!$H$2, MATCH($B18,Paramètres!$G$2:$G$6,0)-1, MOD(_xlpm.dateCourante+5,28)),""), IF(_xlpm.estFerie, IF(_xlpm.jourSemaine=5, IF(AND(OR(_xlpm.jourSuivant1="M",COUNTIF(fériés,_xlpm.dateCourante-1)=1), OR(_xlpm.jourSuivant2<>"0",_xlpm.jourSuivant3<>"0")), "M","0"), IF(_xlpm.jourSemaine=4, IF(AND(COUNTIF(fériés,_xlpm.dateCourante+1)=1, OR(_xlpm.jourSuivant2<>"0",_xlpm.jourSuivant3<>"0")), "M","0"), IF(_xlpm.jourSemaine=1, IF(_xlpm.jourAvant="M","M","0"), "0"))), IF(_xlpm.estTravaillePlan="M","M","0") )) -> 0 | G18: =_xlfn.LET( _xlpm.dateCourante,G$11, _xlpm.jourSemaine,WEEKDAY(_xlpm.dateCourante,2), _xlpm.estFerie,COUNTIF(fériés,_xlpm.dateCourante)=1, _xlpm.planLigne,G16, _xlpm.jourAvant,OFFSET(_xlpm.planLigne,0,-1), _xlpm.jourSuivant1,OFFSET(_xlpm.planLigne,0,1), _xlpm.jourSuivant2,OFFSET(_xlpm.planLigne,0,2), _xlpm.jourSuivant3,OFFSET(_xlpm.planLigne,0,3), _xlpm.estTravaillePlan,IFERROR(OFFSET(Paramètres!$H$2, MATCH($B18,Paramètres!$G$2:$G$6,0)-1, MOD(_xlpm.dateCourante+5,28)),""), IF(_xlpm.estFerie, IF(_xlpm.jourSemaine=5, IF(AND(OR(_xlpm.jourSuivant1="M",COUNTIF(fériés,_xlpm.dateCourante-1)=1), OR(_xlpm.jourSuivant2<>"0",_xlpm.jourSuivant3<>"0")), "M","0"), IF(_xlpm.jourSemaine=4, IF(AND(COUNTIF(fériés,_xlpm.dateCourante+1)=1, OR(_xlpm.jourSuivant2<>"0",_xlpm.jourSuivant3<>"0")), "M","0"), IF(_xlpm.jourSemaine=1, IF(_xlpm.jourAvant="M","M","0"), "0"))), IF(_xlpm.estTravaillePlan="M","M","0") )) -> 0 | H18: =_xlfn.LET( _xlpm.dateCourante,H$11, _xlpm.jourSemaine,WEEKDAY(_xlpm.dateCourante,2), _xlpm.estFerie,COUNTIF(fériés,_xlpm.dateCourante)=1, _xlpm.planLigne,H16, _xlpm.jourAvant,OFFSET(_xlpm.planLigne,0,-1), _xlpm.jourSuivant1,OFFSET(_xlpm.planLigne,0,1), _xlpm.jourSuivant2,OFFSET(_xlpm.planLigne,0,2), _xlpm.jourSuivant3,OFFSET(_xlpm.planLigne,0,3), _xlpm.estTravaillePlan,IFERROR(OFFSET(Paramètres!$H$2, MATCH($B18,Paramètres!$G$2:$G$6,0)-1, MOD(_xlpm.dateCourante+5,28)),""), IF(_xlpm.estFerie, IF(_xlpm.jourSemaine=5, IF(AND(OR(_xlpm.jourSuivant1="M",COUNTIF(fériés,_xlpm.dateCourante-1)=1), OR(_xlpm.jourSuivant2<>"0",_xlpm.jourSuivant3<>"0")), "M","0"), IF(_xlpm.jourSemaine=4, IF(AND(COUNTIF(fériés,_xlpm.dateCourante+1)=1, OR(_xlpm.jourSuivant2<>"0",_xlpm.jourSuivant3<>"0")), "M","0"), IF(_xlpm.jourSemaine=1, IF(_xlpm.jourAvant="M","M","0"), "0"))), IF(_xlpm.estTravaillePlan="M","M","0") )) -> 0 | I18: =_xlfn.LET( _xlpm.dateCourante,I$11, _xlpm.jourSemaine,WEEKDAY(_xlpm.dateCourante,2), _xlpm.estFerie,COUNTIF(fériés,_xlpm.dateCourante)=1, _xlpm.planLigne,I16, _xlpm.jourAvant,OFFSET(_xlpm.planLigne,0,-1), _xlpm.jourSuivant1,OFFSET(_xlpm.planLigne,0,1), _xlpm.jourSuivant2,OFFSET(_xlpm.planLigne,0,2), _xlpm.jourSuivant3,OFFSET(_xlpm.planLigne,0,3), _xlpm.estTravaillePlan,IFERROR(OFFSET(Paramètres!$H$2, MATCH($B18,Paramètres!$G$2:$G$6,0)-1, MOD(_xlpm.dateCourante+5,28)),""), IF(_xlpm.estFerie, IF(_xlpm.jourSemaine=5, IF(AND(OR(_xlpm.jourSuivant1="M",COUNTIF(fériés,_xlpm.dateCourante-1)=1), OR(_xlpm.jourSuivant2<>"0",_xlpm.jourSuivant3<>"0")), "M","0"), IF(_xlpm.jourSemaine=4, IF(AND(COUNTIF(fériés,_xlpm.dateCourante+1)=1, OR(_xlpm.jourSuivant2<>"0",_xlpm.jourSuivant3<>"0")), "M","0"), IF(_xlpm.jourSemaine=1, IF(_xlpm.jourAvant="M","M","0"), "0"))), IF(_xlpm.estTravaillePlan="M","M","0") )) -> 0 | J18: =_xlfn.LET( _xlpm.dateCourante,J$11, _xlpm.jourSemaine,WEEKDAY(_xlpm.dateCourante,2), _xlpm.estFerie,COUNTIF(fériés,_xlpm.dateCourante)=1, _xlpm.planLigne,J16, _xlpm.jourAvant,OFFSET(_xlpm.planLigne,0,-1), _xlpm.jourSuivant1,OFFSET(_xlpm.planLigne,0,1), _xlpm.jourSuivant2,OFFSET(_xlpm.planLigne,0,2), _xlpm.jourSuivant3,OFFSET(_xlpm.planLigne,0,3), _xlpm.estTravaillePlan,IFERROR(OFFSET(Paramètres!$H$2, MATCH($B18,Paramètres!$G$2:$G$6,0)-1, MOD(_xlpm.dateCourante+5,28)),""), IF(_xlpm.estFerie, IF(_xlpm.jourSemaine=5, IF(AND(OR(_xlpm.jourSuivant1="M",COUNTIF(fériés,_xlpm.dateCourante-1)=1), OR(_xlpm.jourSuivant2<>"0",_xlpm.jourSuivant3<>"0")), "M","0"), IF(_xlpm.jourSemaine=4, IF(AND(COUNTIF(fériés,_xlpm.dateCourante+1)=1, OR(_xlpm.jourSuivant2<>"0",_xlpm.jourSuivant3<>"0")), "M","0"), IF(_xlpm.jourSemaine=1, IF(_xlpm.jourAvant="M","M","0"), "0"))), IF(_xlpm.estTravaillePlan="M","M","0") )) -> M | ... AD18: =_xlfn.LET( _xlpm.dateCourante,AD$11, _xlpm.jourSemaine,WEEKDAY(_xlpm.dateCourante,2), _xlpm.estFerie,COUNTIF(fériés,_xlpm.dateCourante)=1, _xlpm.planLigne,AD16, _xlpm.jourAvant,OFFSET(_xlpm.planLigne,0,-1), _xlpm.jourSuivant1,OFFSET(_xlpm.planLigne,0,1), _xlpm.jourSuivant2,OFFSET(_xlpm.planLigne,0,2), _xlpm.jourSuivant3,OFFSET(_xlpm.planLigne,0,3), _xlpm.estTravaillePlan,IFERROR(OFFSET(Paramètres!$H$2, MATCH($B18,Paramètres!$G$2:$G$6,0)-1, MOD(_xlpm.dateCourante+5,28)),""), IF(_xlpm.estFerie, IF(_xlpm.jourSemaine=5, IF(AND(OR(_xlpm.jourSuivant1="M",COUNTIF(fériés,_xlpm.dateCourante-1)=1), OR(_xlpm.jourSuivant2<>"0",_xlpm.jourSuivant3<>"0")), "M","0"), IF(_xlpm.jourSemaine=4, IF(AND(COUNTIF(fériés,_xlpm.dateCourante+1)=1, OR(_xlpm.jourSuivant2<>"0",_xlpm.jourSuivant3<>"0")), "M","0"), IF(_xlpm.jourSemaine=1, IF(_xlpm.jourAvant="M","M","0"), "0"))), IF(_xlpm.estTravaillePlan="M","M","0") )) -> 0
B20: =DATE(an,3,1) -> 45717 | C20: =B20 -> 45717 | D20: =C20+1 -> 45718 | E20: =D20+1 -> 45719 | F20: =E20+1 -> 45720 | G20: =F20+1 -> 45721 | H20: =G20+1 -> 45722 | I20: =H20+1 -> 45723 | J20: =I20+1 -> 45724 | K20: =J20+1 -> 45725 | ... AG20: =AF20+1 -> 45747
B21: =Paramètres!$G$2 -> Personne1 | C21: =IF(COUNTIF(fériés,C$20)=0,OFFSET(Paramètres!$H$2,MATCH($B21,Paramètres!$G$2:$G$6,0)-1,MOD(C$20+5,28)),"") -> 0 | D21: =IF(COUNTIF(fériés,D$20)=0,OFFSET(Paramètres!$H$2,MATCH($B21,Paramètres!$G$2:$G$6,0)-1,MOD(D$20+5,28)),"") -> 0 | E21: =IF(COUNTIF(fériés,E$20)=0,OFFSET(Paramètres!$H$2,MATCH($B21,Paramètres!$G$2:$G$6,0)-1,MOD(E$20+5,28)),"") -> J | F21: =IF(COUNTIF(fériés,F$20)=0,OFFSET(Paramètres!$H$2,MATCH($B21,Paramètres!$G$2:$G$6,0)-1,MOD(F$20+5,28)),"") -> J | G21: =IF(COUNTIF(fériés,G$20)=0,OFFSET(Paramètres!$H$2,MATCH($B21,Paramètres!$G$2:$G$6,0)-1,MOD(G$20+5,28)),"") -> J | H21: =IF(COUNTIF(fériés,H$20)=0,OFFSET(Paramètres!$H$2,MATCH($B21,Paramètres!$G$2:$G$6,0)-1,MOD(H$20+5,28)),"") -> J | I21: =IF(COUNTIF(fériés,I$20)=0,OFFSET(Paramètres!$H$2,MATCH($B21,Paramètres!$G$2:$G$6,0)-1,MOD(I$20+5,28)),"") -> J | J21: =IF(COUNTIF(fériés,J$20)=0,OFFSET(Paramètres!$H$2,MATCH($B21,Paramètres!$G$2:$G$6,0)-1,MOD(J$20+5,28)),"") -> 0 | ... AG21: =IF(COUNTIF(fériés,AG$20)=0,OFFSET(Paramètres!$H$2,MATCH($B21,Paramètres!$G$2:$G$6,0)-1,MOD(AG$20+5,28)),"") -> J
B22: =Paramètres!$G$3 -> Personne2 | C22: =IF(COUNTIF(fériés,C$20)=0,OFFSET(Paramètres!$H$2,MATCH($B22,Paramètres!$G$2:$G$6,0)-1,MOD(C$20+5,28)),"") -> 0 | D22: =IF(COUNTIF(fériés,D$20)=0,OFFSET(Paramètres!$H$2,MATCH($B22,Paramètres!$G$2:$G$6,0)-1,MOD(D$20+5,28)),"") -> 0 | E22: =IF(COUNTIF(fériés,E$20)=0,OFFSET(Paramètres!$H$2,MATCH($B22,Paramètres!$G$2:$G$6,0)-1,MOD(E$20+5,28)),"") -> A | F22: =IF(COUNTIF(fériés,F$20)=0,OFFSET(Paramètres!$H$2,MATCH($B22,Paramètres!$G$2:$G$6,0)-1,MOD(F$20+5,28)),"") -> A | G22: =IF(COUNTIF(fériés,G$20)=0,OFFSET(Paramètres!$H$2,MATCH($B22,Paramètres!$G$2:$G$6,0)-1,MOD(G$20+5,28)),"") -> A | H22: =IF(COUNTIF(fériés,H$20)=0,OFFSET(Paramètres!$H$2,MATCH($B22,Paramètres!$G$2:$G$6,0)-1,MOD(H$20+5,28)),"") -> A | I22: =IF(COUNTIF(fériés,I$20)=0,OFFSET(Paramètres!$H$2,MATCH($B22,Paramètres!$G$2:$G$6,0)-1,MOD(I$20+5,28)),"") -> A | J22: =IF(COUNTIF(fériés,J$20)=0,OFFSET(Paramètres!$H$2,MATCH($B22,Paramètres!$G$2:$G$6,0)-1,MOD(J$20+5,28)),"") -> 0 | ... AG22: =IF(COUNTIF(fériés,AG$20)=0,OFFSET(Paramètres!$H$2,MATCH($B22,Paramètres!$G$2:$G$6,0)-1,MOD(AG$20+5,28)),"") -> A
B23: =Paramètres!$G$4 -> Personne3 | C23: =IF(COUNTIF(fériés,C$20)=0,OFFSET(Paramètres!$H$2,MATCH($B23,Paramètres!$G$2:$G$6,0)-1,MOD(C$20+5,28)),"") -> 0 | D23: =IF(COUNTIF(fériés,D$20)=0,OFFSET(Paramètres!$H$2,MATCH($B23,Paramètres!$G$2:$G$6,0)-1,MOD(D$20+5,28)),"") -> 0 | E23: =IF(COUNTIF(fériés,E$20)=0,OFFSET(Paramètres!$H$2,MATCH($B23,Paramètres!$G$2:$G$6,0)-1,MOD(E$20+5,28)),"") -> M | F23: =IF(COUNTIF(fériés,F$20)=0,OFFSET(Paramètres!$H$2,MATCH($B23,Paramètres!$G$2:$G$6,0)-1,MOD(F$20+5,28)),"") -> M | G23: =IF(COUNTIF(fériés,G$20)=0,OFFSET(Paramètres!$H$2,MATCH($B23,Paramètres!$G$2:$G$6,0)-1,MOD(G$20+5,28)),"") -> M | H23: =IF(COUNTIF(fériés,H$20)=0,OFFSET(Paramètres!$H$2,MATCH($B23,Paramètres!$G$2:$G$6,0)-1,MOD(H$20+5,28)),"") -> M | I23: =IF(COUNTIF(fériés,I$20)=0,OFFSET(Paramètres!$H$2,MATCH($B23,Paramètres!$G$2:$G$6,0)-1,MOD(I$20+5,28)),"") -> M | J23: =IF(COUNTIF(fériés,J$20)=0,OFFSET(Paramètres!$H$2,MATCH($B23,Paramètres!$G$2:$G$6,0)-1,MOD(J$20+5,28)),"") -> 0 | ... AG23: =IF(COUNTIF(fériés,AG$20)=0,OFFSET(Paramètres!$H$2,MATCH($B23,Paramètres!$G$2:$G$6,0)-1,MOD(AG$20+5,28)),"") -> M
B24: =Paramètres!$G$5 -> Personne4 | C24: {=IF(COUNTIF(fériés,C$20)=1, IF(AND(INDIRECT(ADDRESS(ROW(),COLUMN()-1))="0", INDIRECT(ADDRESS(ROW(),COLUMN()-2))="0"), "0", "M" ), IF(OFFSET(Paramètres!$H$2,MATCH($B24,Paramètres!$G$2:$G$6,0)-1,MOD(C$20+5,28))="M", "M", "0" ) )} -> 0 | D24: {=IF(COUNTIF(fériés,D$20)=1, IF(AND(INDIRECT(ADDRESS(ROW(),COLUMN()-1))="0", INDIRECT(ADDRESS(ROW(),COLUMN()-2))="0"), "0", "M" ), IF(OFFSET(Paramètres!$H$2,MATCH($B24,Paramètres!$G$2:$G$6,0)-1,MOD(D$20+5,28))="M", "M", "0" ) )} -> 0 | E24: {=IF(COUNTIF(fériés,E$20)=1, IF(AND(INDIRECT(ADDRESS(ROW(),COLUMN()-1))="0", INDIRECT(ADDRESS(ROW(),COLUMN()-2))="0"), "0", "M" ), IF(OFFSET(Paramètres!$H$2,MATCH($B24,Paramètres!$G$2:$G$6,0)-1,MOD(E$20+5,28))="M", "M", "0" ) )} -> 0 | F24: {=IF(COUNTIF(fériés,F$20)=1, IF(AND(INDIRECT(ADDRESS(ROW(),COLUMN()-1))="0", INDIRECT(ADDRESS(ROW(),COLUMN()-2))="0"), "0", "M" ), IF(OFFSET(Paramètres!$H$2,MATCH($B24,Paramètres!$G$2:$G$6,0)-1,MOD(F$20+5,28))="M", "M", "0" ) )} -> 0 | G24: {=IF(COUNTIF(fériés,G$20)=1, IF(AND(INDIRECT(ADDRESS(ROW(),COLUMN()-1))="0", INDIRECT(ADDRESS(ROW(),COLUMN()-2))="0"), "0", "M" ), IF(OFFSET(Paramètres!$H$2,MATCH($B24,Paramètres!$G$2:$G$6,0)-1,MOD(G$20+5,28))="M", "M", "0" ) )} -> 0 | H24: {=IF(COUNTIF(fériés,H$20)=1, IF(AND(INDIRECT(ADDRESS(ROW(),COLUMN()-1))="0", INDIRECT(ADDRESS(ROW(),COLUMN()-2))="0"), "0", "M" ), IF(OFFSET(Paramètres!$H$2,MATCH($B24,Paramètres!$G$2:$G$6,0)-1,MOD(H$20+5,28))="M", "M", "0" ) )} -> 0 | I24: {=IF(COUNTIF(fériés,I$20)=1, IF(AND(INDIRECT(ADDRESS(ROW(),COLUMN()-1))="0", INDIRECT(ADDRESS(ROW(),COLUMN()-2))="0"), "0", "M" ), IF(OFFSET(Paramètres!$H$2,MATCH($B24,Paramètres!$G$2:$G$6,0)-1,MOD(I$20+5,28))="M", "M", "0" ) )} -> 0 | J24: {=IF(COUNTIF(fériés,J$20)=1, IF(AND(INDIRECT(ADDRESS(ROW(),COLUMN()-1))="0", INDIRECT(ADDRESS(ROW(),COLUMN()-2))="0"), "0", "M" ), IF(OFFSET(Paramètres!$H$2,MATCH($B24,Paramètres!$G$2:$G$6,0)-1,MOD(J$20+5,28))="M", "M", "0" ) )} -> M | ... AG24: {=IF(COUNTIF(fériés,AG$20)=1, IF(AND(INDIRECT(ADDRESS(ROW(),COLUMN()-1))="0", INDIRECT(ADDRESS(ROW(),COLUMN()-2))="0"), "0", "M" ), IF(OFFSET(Paramètres!$H$2,MATCH($B24,Paramètres!$G$2:$G$6,0)-1,MOD(AG$20+5,28))="M", "M", "0" ) )} -> 0
B25: =Paramètres!$G$6 -> Personne5 | C25: {=IF(COUNTIF(fériés,C$20)=1, IF(AND(INDIRECT(ADDRESS(ROW(),COLUMN()-1))="0", INDIRECT(ADDRESS(ROW(),COLUMN()-2))="0"), "0", "M" ), IF(OFFSET(Paramètres!$H$2,MATCH($B25,Paramètres!$G$2:$G$6,0)-1,MOD(C$20+5,28))="M", "M", "0" ) )} -> 0 | D25: {=IF(COUNTIF(fériés,D$20)=1, IF(AND(INDIRECT(ADDRESS(ROW(),COLUMN()-1))="0", INDIRECT(ADDRESS(ROW(),COLUMN()-2))="0"), "0", "M" ), IF(OFFSET(Paramètres!$H$2,MATCH($B25,Paramètres!$G$2:$G$6,0)-1,MOD(D$20+5,28))="M", "M", "0" ) )} -> 0 | E25: {=IF(COUNTIF(fériés,E$20)=1, IF(AND(INDIRECT(ADDRESS(ROW(),COLUMN()-1))="0", INDIRECT(ADDRESS(ROW(),COLUMN()-2))="0"), "0", "M" ), IF(OFFSET(Paramètres!$H$2,MATCH($B25,Paramètres!$G$2:$G$6,0)-1,MOD(E$20+5,28))="M", "M", "0" ) )} -> 0 | F25: {=IF(COUNTIF(fériés,F$20)=1, IF(AND(INDIRECT(ADDRESS(ROW(),COLUMN()-1))="0", INDIRECT(ADDRESS(ROW(),COLUMN()-2))="0"), "0", "M" ), IF(OFFSET(Paramètres!$H$2,MATCH($B25,Paramètres!$G$2:$G$6,0)-1,MOD(F$20+5,28))="M", "M", "0" ) )} -> 0 | G25: {=IF(COUNTIF(fériés,G$20)=1, IF(AND(INDIRECT(ADDRESS(ROW(),COLUMN()-1))="0", INDIRECT(ADDRESS(ROW(),COLUMN()-2))="0"), "0", "M" ), IF(OFFSET(Paramètres!$H$2,MATCH($B25,Paramètres!$G$2:$G$6,0)-1,MOD(G$20+5,28))="M", "M", "0" ) )} -> 0 | H25: {=IF(COUNTIF(fériés,H$20)=1, IF(AND(INDIRECT(ADDRESS(ROW(),COLUMN()-1))="0", INDIRECT(ADDRESS(ROW(),COLUMN()-2))="0"), "0", "M" ), IF(OFFSET(Paramètres!$H$2,MATCH($B25,Paramètres!$G$2:$G$6,0)-1,MOD(H$20+5,28))="M", "M", "0" ) )} -> 0 | I25: {=IF(COUNTIF(fériés,I$20)=1, IF(AND(INDIRECT(ADDRESS(ROW(),COLUMN()-1))="0", INDIRECT(ADDRESS(ROW(),COLUMN()-2))="0"), "0", "M" ), IF(OFFSET(Paramètres!$H$2,MATCH($B25,Paramètres!$G$2:$G$6,0)-1,MOD(I$20+5,28))="M", "M", "0" ) )} -> 0 | J25: {=IF(COUNTIF(fériés,J$20)=1, IF(AND(INDIRECT(ADDRESS(ROW(),COLUMN()-1))="0", INDIRECT(ADDRESS(ROW(),COLUMN()-2))="0"), "0", "M" ), IF(OFFSET(Paramètres!$H$2,MATCH($B25,Paramètres!$G$2:$G$6,0)-1,MOD(J$20+5,28))="M", "M", "0" ) )} -> M | ... AG25: {=IF(COUNTIF(fériés,AG$20)=1, IF(AND(INDIRECT(ADDRESS(ROW(),COLUMN()-1))="0", INDIRECT(ADDRESS(ROW(),COLUMN()-2))="0"), "0", "M" ), IF(OFFSET(Paramètres!$H$2,MATCH($B25,Paramètres!$G$2:$G$6,0)-1,MOD(AG$20+5,28))="M", "M", "0" ) )} -> 0
B26: =Paramètres!$G$5 -> Personne4 | C26: =_xlfn.LET( _xlpm.dateCourante,C$20, _xlpm.jourSemaine,WEEKDAY(_xlpm.dateCourante,2), _xlpm.estFerie,COUNTIF(fériés,_xlpm.dateCourante)=1, _xlpm.planLigne,C24, _xlpm.jourAvant,OFFSET(_xlpm.planLigne,0,-1), _xlpm.jourSuivant1,OFFSET(_xlpm.planLigne,0,1), _xlpm.jourSuivant2,OFFSET(_xlpm.planLigne,0,2), _xlpm.jourSuivant3,OFFSET(_xlpm.planLigne,0,3), _xlpm.estTravaillePlan,IFERROR(OFFSET(Paramètres!$H$2, MATCH($B26,Paramètres!$G$2:$G$6,0)-1, MOD(_xlpm.dateCourante+5,28)),""), IF(_xlpm.estFerie, IF(_xlpm.jourSemaine=5, IF(AND(OR(_xlpm.jourSuivant1="M",COUNTIF(fériés,_xlpm.dateCourante-1)=1), OR(_xlpm.jourSuivant2<>"0",_xlpm.jourSuivant3<>"0")), "M","0"), IF(_xlpm.jourSemaine=4, IF(AND(COUNTIF(fériés,_xlpm.dateCourante+1)=1, OR(_xlpm.jourSuivant2<>"0",_xlpm.jourSuivant3<>"0")), "M","0"), IF(_xlpm.jourSemaine=1, IF(_xlpm.jourAvant="M","M","0"), "0"))), IF(_xlpm.estTravaillePlan="M","M","0") )) -> 0 | D26: =_xlfn.LET( _xlpm.dateCourante,D$20, _xlpm.jourSemaine,WEEKDAY(_xlpm.dateCourante,2), _xlpm.estFerie,COUNTIF(fériés,_xlpm.dateCourante)=1, _xlpm.planLigne,D24, _xlpm.jourAvant,OFFSET(_xlpm.planLigne,0,-1), _xlpm.jourSuivant1,OFFSET(_xlpm.planLigne,0,1), _xlpm.jourSuivant2,OFFSET(_xlpm.planLigne,0,2), _xlpm.jourSuivant3,OFFSET(_xlpm.planLigne,0,3), _xlpm.estTravaillePlan,IFERROR(OFFSET(Paramètres!$H$2, MATCH($B26,Paramètres!$G$2:$G$6,0)-1, MOD(_xlpm.dateCourante+5,28)),""), IF(_xlpm.estFerie, IF(_xlpm.jourSemaine=5, IF(AND(OR(_xlpm.jourSuivant1="M",COUNTIF(fériés,_xlpm.dateCourante-1)=1), OR(_xlpm.jourSuivant2<>"0",_xlpm.jourSuivant3<>"0")), "M","0"), IF(_xlpm.jourSemaine=4, IF(AND(COUNTIF(fériés,_xlpm.dateCourante+1)=1, OR(_xlpm.jourSuivant2<>"0",_xlpm.jourSuivant3<>"0")), "M","0"), IF(_xlpm.jourSemaine=1, IF(_xlpm.jourAvant="M","M","0"), "0"))), IF(_xlpm.estTravaillePlan="M","M","0") )) -> 0 | E26: =_xlfn.LET( _xlpm.dateCourante,E$20, _xlpm.jourSemaine,WEEKDAY(_xlpm.dateCourante,2), _xlpm.estFerie,COUNTIF(fériés,_xlpm.dateCourante)=1, _xlpm.planLigne,E24, _xlpm.jourAvant,OFFSET(_xlpm.planLigne,0,-1), _xlpm.jourSuivant1,OFFSET(_xlpm.planLigne,0,1), _xlpm.jourSuivant2,OFFSET(_xlpm.planLigne,0,2), _xlpm.jourSuivant3,OFFSET(_xlpm.planLigne,0,3), _xlpm.estTravaillePlan,IFERROR(OFFSET(Paramètres!$H$2, MATCH($B26,Paramètres!$G$2:$G$6,0)-1, MOD(_xlpm.dateCourante+5,28)),""), IF(_xlpm.estFerie, IF(_xlpm.jourSemaine=5, IF(AND(OR(_xlpm.jourSuivant1="M",COUNTIF(fériés,_xlpm.dateCourante-1)=1), OR(_xlpm.jourSuivant2<>"0",_xlpm.jourSuivant3<>"0")), "M","0"), IF(_xlpm.jourSemaine=4, IF(AND(COUNTIF(fériés,_xlpm.dateCourante+1)=1, OR(_xlpm.jourSuivant2<>"0",_xlpm.jourSuivant3<>"0")), "M","0"), IF(_xlpm.jourSemaine=1, IF(_xlpm.jourAvant="M","M","0"), "0"))), IF(_xlpm.estTravaillePlan="M","M","0") )) -> 0 | F26: =_xlfn.LET( _xlpm.dateCourante,F$20, _xlpm.jourSemaine,WEEKDAY(_xlpm.dateCourante,2), _xlpm.estFerie,COUNTIF(fériés,_xlpm.dateCourante)=1, _xlpm.planLigne,F24, _xlpm.jourAvant,OFFSET(_xlpm.planLigne,0,-1), _xlpm.jourSuivant1,OFFSET(_xlpm.planLigne,0,1), _xlpm.jourSuivant2,OFFSET(_xlpm.planLigne,0,2), _xlpm.jourSuivant3,OFFSET(_xlpm.planLigne,0,3), _xlpm.estTravaillePlan,IFERROR(OFFSET(Paramètres!$H$2, MATCH($B26,Paramètres!$G$2:$G$6,0)-1, MOD(_xlpm.dateCourante+5,28)),""), IF(_xlpm.estFerie, IF(_xlpm.jourSemaine=5, IF(AND(OR(_xlpm.jourSuivant1="M",COUNTIF(fériés,_xlpm.dateCourante-1)=1), OR(_xlpm.jourSuivant2<>"0",_xlpm.jourSuivant3<>"0")), "M","0"), IF(_xlpm.jourSemaine=4, IF(AND(COUNTIF(fériés,_xlpm.dateCourante+1)=1, OR(_xlpm.jourSuivant2<>"0",_xlpm.jourSuivant3<>"0")), "M","0"), IF(_xlpm.jourSemaine=1, IF(_xlpm.jourAvant="M","M","0"), "0"))), IF(_xlpm.estTravaillePlan="M","M","0") )) -> 0 | G26: =_xlfn.LET( _xlpm.dateCourante,G$20, _xlpm.jourSemaine,WEEKDAY(_xlpm.dateCourante,2), _xlpm.estFerie,COUNTIF(fériés,_xlpm.dateCourante)=1, _xlpm.planLigne,G24, _xlpm.jourAvant,OFFSET(_xlpm.planLigne,0,-1), _xlpm.jourSuivant1,OFFSET(_xlpm.planLigne,0,1), _xlpm.jourSuivant2,OFFSET(_xlpm.planLigne,0,2), _xlpm.jourSuivant3,OFFSET(_xlpm.planLigne,0,3), _xlpm.estTravaillePlan,IFERROR(OFFSET(Paramètres!$H$2, MATCH($B26,Paramètres!$G$2:$G$6,0)-1, MOD(_xlpm.dateCourante+5,28)),""), IF(_xlpm.estFerie, IF(_xlpm.jourSemaine=5, IF(AND(OR(_xlpm.jourSuivant1="M",COUNTIF(fériés,_xlpm.dateCourante-1)=1), OR(_xlpm.jourSuivant2<>"0",_xlpm.jourSuivant3<>"0")), "M","0"), IF(_xlpm.jourSemaine=4, IF(AND(COUNTIF(fériés,_xlpm.dateCourante+1)=1, OR(_xlpm.jourSuivant2<>"0",_xlpm.jourSuivant3<>"0")), "M","0"), IF(_xlpm.jourSemaine=1, IF(_xlpm.jourAvant="M","M","0"), "0"))), IF(_xlpm.estTravaillePlan="M","M","0") )) -> 0 | H26: =_xlfn.LET( _xlpm.dateCourante,H$20, _xlpm.jourSemaine,WEEKDAY(_xlpm.dateCourante,2), _xlpm.estFerie,COUNTIF(fériés,_xlpm.dateCourante)=1, _xlpm.planLigne,H24, _xlpm.jourAvant,OFFSET(_xlpm.planLigne,0,-1), _xlpm.jourSuivant1,OFFSET(_xlpm.planLigne,0,1), _xlpm.jourSuivant2,OFFSET(_xlpm.planLigne,0,2), _xlpm.jourSuivant3,OFFSET(_xlpm.planLigne,0,3), _xlpm.estTravaillePlan,IFERROR(OFFSET(Paramètres!$H$2, MATCH($B26,Paramètres!$G$2:$G$6,0)-1, MOD(_xlpm.dateCourante+5,28)),""), IF(_xlpm.estFerie, IF(_xlpm.jourSemaine=5, IF(AND(OR(_xlpm.jourSuivant1="M",COUNTIF(fériés,_xlpm.dateCourante-1)=1), OR(_xlpm.jourSuivant2<>"0",_xlpm.jourSuivant3<>"0")), "M","0"), IF(_xlpm.jourSemaine=4, IF(AND(COUNTIF(fériés,_xlpm.dateCourante+1)=1, OR(_xlpm.jourSuivant2<>"0",_xlpm.jourSuivant3<>"0")), "M","0"), IF(_xlpm.jourSemaine=1, IF(_xlpm.jourAvant="M","M","0"), "0"))), IF(_xlpm.estTravaillePlan="M","M","0") )) -> 0 | I26: =_xlfn.LET( _xlpm.dateCourante,I$20, _xlpm.jourSemaine,WEEKDAY(_xlpm.dateCourante,2), _xlpm.estFerie,COUNTIF(fériés,_xlpm.dateCourante)=1, _xlpm.planLigne,I24, _xlpm.jourAvant,OFFSET(_xlpm.planLigne,0,-1), _xlpm.jourSuivant1,OFFSET(_xlpm.planLigne,0,1), _xlpm.jourSuivant2,OFFSET(_xlpm.planLigne,0,2), _xlpm.jourSuivant3,OFFSET(_xlpm.planLigne,0,3), _xlpm.estTravaillePlan,IFERROR(OFFSET(Paramètres!$H$2, MATCH($B26,Paramètres!$G$2:$G$6,0)-1, MOD(_xlpm.dateCourante+5,28)),""), IF(_xlpm.estFerie, IF(_xlpm.jourSemaine=5, IF(AND(OR(_xlpm.jourSuivant1="M",COUNTIF(fériés,_xlpm.dateCourante-1)=1), OR(_xlpm.jourSuivant2<>"0",_xlpm.jourSuivant3<>"0")), "M","0"), IF(_xlpm.jourSemaine=4, IF(AND(COUNTIF(fériés,_xlpm.dateCourante+1)=1, OR(_xlpm.jourSuivant2<>"0",_xlpm.jourSuivant3<>"0")), "M","0"), IF(_xlpm.jourSemaine=1, IF(_xlpm.jourAvant="M","M","0"), "0"))), IF(_xlpm.estTravaillePlan="M","M","0") )) -> 0 | J26: =_xlfn.LET( _xlpm.dateCourante,J$20, _xlpm.jourSemaine,WEEKDAY(_xlpm.dateCourante,2), _xlpm.estFerie,COUNTIF(fériés,_xlpm.dateCourante)=1, _xlpm.planLigne,J24, _xlpm.jourAvant,OFFSET(_xlpm.planLigne,0,-1), _xlpm.jourSuivant1,OFFSET(_xlpm.planLigne,0,1), _xlpm.jourSuivant2,OFFSET(_xlpm.planLigne,0,2), _xlpm.jourSuivant3,OFFSET(_xlpm.planLigne,0,3), _xlpm.estTravaillePlan,IFERROR(OFFSET(Paramètres!$H$2, MATCH($B26,Paramètres!$G$2:$G$6,0)-1, MOD(_xlpm.dateCourante+5,28)),""), IF(_xlpm.estFerie, IF(_xlpm.jourSemaine=5, IF(AND(OR(_xlpm.jourSuivant1="M",COUNTIF(fériés,_xlpm.dateCourante-1)=1), OR(_xlpm.jourSuivant2<>"0",_xlpm.jourSuivant3<>"0")), "M","0"), IF(_xlpm.jourSemaine=4, IF(AND(COUNTIF(fériés,_xlpm.dateCourante+1)=1, OR(_xlpm.jourSuivant2<>"0",_xlpm.jourSuivant3<>"0")), "M","0"), IF(_xlpm.jourSemaine=1, IF(_xlpm.jourAvant="M","M","0"), "0"))), IF(_xlpm.estTravaillePlan="M","M","0") )) -> M | ... AG26: =_xlfn.LET( _xlpm.dateCourante,AG$20, _xlpm.jourSemaine,WEEKDAY(_xlpm.dateCourante,2), _xlpm.estFerie,COUNTIF(fériés,_xlpm.dateCourante)=1, _xlpm.planLigne,AG24, _xlpm.jourAvant,OFFSET(_xlpm.planLigne,0,-1), _xlpm.jourSuivant1,OFFSET(_xlpm.planLigne,0,1), _xlpm.jourSuivant2,OFFSET(_xlpm.planLigne,0,2), _xlpm.jourSuivant3,OFFSET(_xlpm.planLigne,0,3), _xlpm.estTravaillePlan,IFERROR(OFFSET(Paramètres!$H$2, MATCH($B26,Paramètres!$G$2:$G$6,0)-1, MOD(_xlpm.dateCourante+5,28)),""), IF(_xlpm.estFerie, IF(_xlpm.jourSemaine=5, IF(AND(OR(_xlpm.jourSuivant1="M",COUNTIF(fériés,_xlpm.dateCourante-1)=1), OR(_xlpm.jourSuivant2<>"0",_xlpm.jourSuivant3<>"0")), "M","0"), IF(_xlpm.jourSemaine=4, IF(AND(COUNTIF(fériés,_xlpm.dateCourante+1)=1, OR(_xlpm.jourSuivant2<>"0",_xlpm.jourSuivant3<>"0")), "M","0"), IF(_xlpm.jourSemaine=1, IF(_xlpm.jourAvant="M","M","0"), "0"))), IF(_xlpm.estTravaillePlan="M","M","0") )) -> 0
B27: =Paramètres!$G$6 -> Personne5 | C27: =_xlfn.LET( _xlpm.dateCourante,C$20, _xlpm.jourSemaine,WEEKDAY(_xlpm.dateCourante,2), _xlpm.estFerie,COUNTIF(fériés,_xlpm.dateCourante)=1, _xlpm.planLigne,C25, _xlpm.jourAvant,OFFSET(_xlpm.planLigne,0,-1), _xlpm.jourSuivant1,OFFSET(_xlpm.planLigne,0,1), _xlpm.jourSuivant2,OFFSET(_xlpm.planLigne,0,2), _xlpm.jourSuivant3,OFFSET(_xlpm.planLigne,0,3), _xlpm.estTravaillePlan,IFERROR(OFFSET(Paramètres!$H$2, MATCH($B27,Paramètres!$G$2:$G$6,0)-1, MOD(_xlpm.dateCourante+5,28)),""), IF(_xlpm.estFerie, IF(_xlpm.jourSemaine=5, IF(AND(OR(_xlpm.jourSuivant1="M",COUNTIF(fériés,_xlpm.dateCourante-1)=1), OR(_xlpm.jourSuivant2<>"0",_xlpm.jourSuivant3<>"0")), "M","0"), IF(_xlpm.jourSemaine=4, IF(AND(COUNTIF(fériés,_xlpm.dateCourante+1)=1, OR(_xlpm.jourSuivant2<>"0",_xlpm.jourSuivant3<>"0")), "M","0"), IF(_xlpm.jourSemaine=1, IF(_xlpm.jourAvant="M","M","0"), "0"))), IF(_xlpm.estTravaillePlan="M","M","0") )) -> 0 | D27: =_xlfn.LET( _xlpm.dateCourante,D$20, _xlpm.jourSemaine,WEEKDAY(_xlpm.dateCourante,2), _xlpm.estFerie,COUNTIF(fériés,_xlpm.dateCourante)=1, _xlpm.planLigne,D25, _xlpm.jourAvant,OFFSET(_xlpm.planLigne,0,-1), _xlpm.jourSuivant1,OFFSET(_xlpm.planLigne,0,1), _xlpm.jourSuivant2,OFFSET(_xlpm.planLigne,0,2), _xlpm.jourSuivant3,OFFSET(_xlpm.planLigne,0,3), _xlpm.estTravaillePlan,IFERROR(OFFSET(Paramètres!$H$2, MATCH($B27,Paramètres!$G$2:$G$6,0)-1, MOD(_xlpm.dateCourante+5,28)),""), IF(_xlpm.estFerie, IF(_xlpm.jourSemaine=5, IF(AND(OR(_xlpm.jourSuivant1="M",COUNTIF(fériés,_xlpm.dateCourante-1)=1), OR(_xlpm.jourSuivant2<>"0",_xlpm.jourSuivant3<>"0")), "M","0"), IF(_xlpm.jourSemaine=4, IF(AND(COUNTIF(fériés,_xlpm.dateCourante+1)=1, OR(_xlpm.jourSuivant2<>"0",_xlpm.jourSuivant3<>"0")), "M","0"), IF(_xlpm.jourSemaine=1, IF(_xlpm.jourAvant="M","M","0"), "0"))), IF(_xlpm.estTravaillePlan="M","M","0") )) -> 0 | E27: =_xlfn.LET( _xlpm.dateCourante,E$20, _xlpm.jourSemaine,WEEKDAY(_xlpm.dateCourante,2), _xlpm.estFerie,COUNTIF(fériés,_xlpm.dateCourante)=1, _xlpm.planLigne,E25, _xlpm.jourAvant,OFFSET(_xlpm.planLigne,0,-1), _xlpm.jourSuivant1,OFFSET(_xlpm.planLigne,0,1), _xlpm.jourSuivant2,OFFSET(_xlpm.planLigne,0,2), _xlpm.jourSuivant3,OFFSET(_xlpm.planLigne,0,3), _xlpm.estTravaillePlan,IFERROR(OFFSET(Paramètres!$H$2, MATCH($B27,Paramètres!$G$2:$G$6,0)-1, MOD(_xlpm.dateCourante+5,28)),""), IF(_xlpm.estFerie, IF(_xlpm.jourSemaine=5, IF(AND(OR(_xlpm.jourSuivant1="M",COUNTIF(fériés,_xlpm.dateCourante-1)=1), OR(_xlpm.jourSuivant2<>"0",_xlpm.jourSuivant3<>"0")), "M","0"), IF(_xlpm.jourSemaine=4, IF(AND(COUNTIF(fériés,_xlpm.dateCourante+1)=1, OR(_xlpm.jourSuivant2<>"0",_xlpm.jourSuivant3<>"0")), "M","0"), IF(_xlpm.jourSemaine=1, IF(_xlpm.jourAvant="M","M","0"), "0"))), IF(_xlpm.estTravaillePlan="M","M","0") )) -> 0 | F27: =_xlfn.LET( _xlpm.dateCourante,F$20, _xlpm.jourSemaine,WEEKDAY(_xlpm.dateCourante,2), _xlpm.estFerie,COUNTIF(fériés,_xlpm.dateCourante)=1, _xlpm.planLigne,F25, _xlpm.jourAvant,OFFSET(_xlpm.planLigne,0,-1), _xlpm.jourSuivant1,OFFSET(_xlpm.planLigne,0,1), _xlpm.jourSuivant2,OFFSET(_xlpm.planLigne,0,2), _xlpm.jourSuivant3,OFFSET(_xlpm.planLigne,0,3), _xlpm.estTravaillePlan,IFERROR(OFFSET(Paramètres!$H$2, MATCH($B27,Paramètres!$G$2:$G$6,0)-1, MOD(_xlpm.dateCourante+5,28)),""), IF(_xlpm.estFerie, IF(_xlpm.jourSemaine=5, IF(AND(OR(_xlpm.jourSuivant1="M",COUNTIF(fériés,_xlpm.dateCourante-1)=1), OR(_xlpm.jourSuivant2<>"0",_xlpm.jourSuivant3<>"0")), "M","0"), IF(_xlpm.jourSemaine=4, IF(AND(COUNTIF(fériés,_xlpm.dateCourante+1)=1, OR(_xlpm.jourSuivant2<>"0",_xlpm.jourSuivant3<>"0")), "M","0"), IF(_xlpm.jourSemaine=1, IF(_xlpm.jourAvant="M","M","0"), "0"))), IF(_xlpm.estTravaillePlan="M","M","0") )) -> 0 | G27: =_xlfn.LET( _xlpm.dateCourante,G$20, _xlpm.jourSemaine,WEEKDAY(_xlpm.dateCourante,2), _xlpm.estFerie,COUNTIF(fériés,_xlpm.dateCourante)=1, _xlpm.planLigne,G25, _xlpm.jourAvant,OFFSET(_xlpm.planLigne,0,-1), _xlpm.jourSuivant1,OFFSET(_xlpm.planLigne,0,1), _xlpm.jourSuivant2,OFFSET(_xlpm.planLigne,0,2), _xlpm.jourSuivant3,OFFSET(_xlpm.planLigne,0,3), _xlpm.estTravaillePlan,IFERROR(OFFSET(Paramètres!$H$2, MATCH($B27,Paramètres!$G$2:$G$6,0)-1, MOD(_xlpm.dateCourante+5,28)),""), IF(_xlpm.estFerie, IF(_xlpm.jourSemaine=5, IF(AND(OR(_xlpm.jourSuivant1="M",COUNTIF(fériés,_xlpm.dateCourante-1)=1), OR(_xlpm.jourSuivant2<>"0",_xlpm.jourSuivant3<>"0")), "M","0"), IF(_xlpm.jourSemaine=4, IF(AND(COUNTIF(fériés,_xlpm.dateCourante+1)=1, OR(_xlpm.jourSuivant2<>"0",_xlpm.jourSuivant3<>"0")), "M","0"), IF(_xlpm.jourSemaine=1, IF(_xlpm.jourAvant="M","M","0"), "0"))), IF(_xlpm.estTravaillePlan="M","M","0") )) -> 0 | H27: =_xlfn.LET( _xlpm.dateCourante,H$20, _xlpm.jourSemaine,WEEKDAY(_xlpm.dateCourante,2), _xlpm.estFerie,COUNTIF(fériés,_xlpm.dateCourante)=1, _xlpm.planLigne,H25, _xlpm.jourAvant,OFFSET(_xlpm.planLigne,0,-1), _xlpm.jourSuivant1,OFFSET(_xlpm.planLigne,0,1), _xlpm.jourSuivant2,OFFSET(_xlpm.planLigne,0,2), _xlpm.jourSuivant3,OFFSET(_xlpm.planLigne,0,3), _xlpm.estTravaillePlan,IFERROR(OFFSET(Paramètres!$H$2, MATCH($B27,Paramètres!$G$2:$G$6,0)-1, MOD(_xlpm.dateCourante+5,28)),""), IF(_xlpm.estFerie, IF(_xlpm.jourSemaine=5, IF(AND(OR(_xlpm.jourSuivant1="M",COUNTIF(fériés,_xlpm.dateCourante-1)=1), OR(_xlpm.jourSuivant2<>"0",_xlpm.jourSuivant3<>"0")), "M","0"), IF(_xlpm.jourSemaine=4, IF(AND(COUNTIF(fériés,_xlpm.dateCourante+1)=1, OR(_xlpm.jourSuivant2<>"0",_xlpm.jourSuivant3<>"0")), "M","0"), IF(_xlpm.jourSemaine=1, IF(_xlpm.jourAvant="M","M","0"), "0"))), IF(_xlpm.estTravaillePlan="M","M","0") )) -> 0 | I27: =_xlfn.LET( _xlpm.dateCourante,I$20, _xlpm.jourSemaine,WEEKDAY(_xlpm.dateCourante,2), _xlpm.estFerie,COUNTIF(fériés,_xlpm.dateCourante)=1, _xlpm.planLigne,I25, _xlpm.jourAvant,OFFSET(_xlpm.planLigne,0,-1), _xlpm.jourSuivant1,OFFSET(_xlpm.planLigne,0,1), _xlpm.jourSuivant2,OFFSET(_xlpm.planLigne,0,2), _xlpm.jourSuivant3,OFFSET(_xlpm.planLigne,0,3), _xlpm.estTravaillePlan,IFERROR(OFFSET(Paramètres!$H$2, MATCH($B27,Paramètres!$G$2:$G$6,0)-1, MOD(_xlpm.dateCourante+5,28)),""), IF(_xlpm.estFerie, IF(_xlpm.jourSemaine=5, IF(AND(OR(_xlpm.jourSuivant1="M",COUNTIF(fériés,_xlpm.dateCourante-1)=1), OR(_xlpm.jourSuivant2<>"0",_xlpm.jourSuivant3<>"0")), "M","0"), IF(_xlpm.jourSemaine=4, IF(AND(COUNTIF(fériés,_xlpm.dateCourante+1)=1, OR(_xlpm.jourSuivant2<>"0",_xlpm.jourSuivant3<>"0")), "M","0"), IF(_xlpm.jourSemaine=1, IF(_xlpm.jourAvant="M","M","0"), "0"))), IF(_xlpm.estTravaillePlan="M","M","0") )) -> 0 | J27: =_xlfn.LET( _xlpm.dateCourante,J$20, _xlpm.jourSemaine,WEEKDAY(_xlpm.dateCourante,2), _xlpm.estFerie,COUNTIF(fériés,_xlpm.dateCourante)=1, _xlpm.planLigne,J25, _xlpm.jourAvant,OFFSET(_xlpm.planLigne,0,-1), _xlpm.jourSuivant1,OFFSET(_xlpm.planLigne,0,1), _xlpm.jourSuivant2,OFFSET(_xlpm.planLigne,0,2), _xlpm.jourSuivant3,OFFSET(_xlpm.planLigne,0,3), _xlpm.estTravaillePlan,IFERROR(OFFSET(Paramètres!$H$2, MATCH($B27,Paramètres!$G$2:$G$6,0)-1, MOD(_xlpm.dateCourante+5,28)),""), IF(_xlpm.estFerie, IF(_xlpm.jourSemaine=5, IF(AND(OR(_xlpm.jourSuivant1="M",COUNTIF(fériés,_xlpm.dateCourante-1)=1), OR(_xlpm.jourSuivant2<>"0",_xlpm.jourSuivant3<>"0")), "M","0"), IF(_xlpm.jourSemaine=4, IF(AND(COUNTIF(fériés,_xlpm.dateCourante+1)=1, OR(_xlpm.jourSuivant2<>"0",_xlpm.jourSuivant3<>"0")), "M","0"), IF(_xlpm.jourSemaine=1, IF(_xlpm.jourAvant="M","M","0"), "0"))), IF(_xlpm.estTravaillePlan="M","M","0") )) -> M | ... AG27: =_xlfn.LET( _xlpm.dateCourante,AG$20, _xlpm.jourSemaine,WEEKDAY(_xlpm.dateCourante,2), _xlpm.estFerie,COUNTIF(fériés,_xlpm.dateCourante)=1, _xlpm.planLigne,AG25, _xlpm.jourAvant,OFFSET(_xlpm.planLigne,0,-1), _xlpm.jourSuivant1,OFFSET(_xlpm.planLigne,0,1), _xlpm.jourSuivant2,OFFSET(_xlpm.planLigne,0,2), _xlpm.jourSuivant3,OFFSET(_xlpm.planLigne,0,3), _xlpm.estTravaillePlan,IFERROR(OFFSET(Paramètres!$H$2, MATCH($B27,Paramètres!$G$2:$G$6,0)-1, MOD(_xlpm.dateCourante+5,28)),""), IF(_xlpm.estFerie, IF(_xlpm.jourSemaine=5, IF(AND(OR(_xlpm.jourSuivant1="M",COUNTIF(fériés,_xlpm.dateCourante-1)=1), OR(_xlpm.jourSuivant2<>"0",_xlpm.jourSuivant3<>"0")), "M","0"), IF(_xlpm.jourSemaine=4, IF(AND(COUNTIF(fériés,_xlpm.dateCourante+1)=1, OR(_xlpm.jourSuivant2<>"0",_xlpm.jourSuivant3<>"0")), "M","0"), IF(_xlpm.jourSemaine=1, IF(_xlpm.jourAvant="M","M","0"), "0"))), IF(_xlpm.estTravaillePlan="M","M","0") )) -> 0
B29: =DATE(an,4,1) -> 45748 | C29: =B29 -> 45748 | D29: =C29+1 -> 45749 | E29: =D29+1 -> 45750 | F29: =E29+1 -> 45751 | G29: =F29+1 -> 45752 | H29: =G29+1 -> 45753 | I29: =H29+1 -> 45754 | J29: =I29+1 -> 45755 | K29: =J29+1 -> 45756 | ... AF29: =AE29+1 -> 45777
B30: =Paramètres!$G$2 -> Personne1 | C30: =IF(COUNTIF(fériés,C$29)=0,OFFSET(Paramètres!$H$2,MATCH($B30,Paramètres!$G$2:$G$6,0)-1,MOD(C$29+5,28)),"") -> J | D30: =IF(COUNTIF(fériés,D$29)=0,OFFSET(Paramètres!$H$2,MATCH($B30,Paramètres!$G$2:$G$6,0)-1,MOD(D$29+5,28)),"") -> J | E30: =IF(COUNTIF(fériés,E$29)=0,OFFSET(Paramètres!$H$2,MATCH($B30,Paramètres!$G$2:$G$6,0)-1,MOD(E$29+5,28)),"") -> J | F30: =IF(COUNTIF(fériés,F$29)=0,OFFSET(Paramètres!$H$2,MATCH($B30,Paramètres!$G$2:$G$6,0)-1,MOD(F$29+5,28)),"") -> J | G30: =IF(COUNTIF(fériés,G$29)=0,OFFSET(Paramètres!$H$2,MATCH($B30,Paramètres!$G$2:$G$6,0)-1,MOD(G$29+5,28)),"") -> 0 | H30: =IF(COUNTIF(fériés,H$29)=0,OFFSET(Paramètres!$H$2,MATCH($B30,Paramètres!$G$2:$G$6,0)-1,MOD(H$29+5,28)),"") -> 0 | I30: =IF(COUNTIF(fériés,I$29)=0,OFFSET(Paramètres!$H$2,MATCH($B30,Paramètres!$G$2:$G$6,0)-1,MOD(I$29+5,28)),"") -> J | J30: =IF(COUNTIF(fériés,J$29)=0,OFFSET(Paramètres!$H$2,MATCH($B30,Paramètres!$G$2:$G$6,0)-1,MOD(J$29+5,28)),"") -> J | ... AF30: =IF(COUNTIF(fériés,AF$29)=0,OFFSET(Paramètres!$H$2,MATCH($B30,Paramètres!$G$2:$G$6,0)-1,MOD(AF$29+5,28)),"") -> J
B31: =Paramètres!$G$3 -> Personne2 | C31: =IF(COUNTIF(fériés,C$29)=0,OFFSET(Paramètres!$H$2,MATCH($B31,Paramètres!$G$2:$G$6,0)-1,MOD(C$29+5,28)),"") -> A | D31: =IF(COUNTIF(fériés,D$29)=0,OFFSET(Paramètres!$H$2,MATCH($B31,Paramètres!$G$2:$G$6,0)-1,MOD(D$29+5,28)),"") -> A | E31: =IF(COUNTIF(fériés,E$29)=0,OFFSET(Paramètres!$H$2,MATCH($B31,Paramètres!$G$2:$G$6,0)-1,MOD(E$29+5,28)),"") -> A | F31: =IF(COUNTIF(fériés,F$29)=0,OFFSET(Paramètres!$H$2,MATCH($B31,Paramètres!$G$2:$G$6,0)-1,MOD(F$29+5,28)),"") -> A | G31: =IF(COUNTIF(fériés,G$29)=0,OFFSET(Paramètres!$H$2,MATCH($B31,Paramètres!$G$2:$G$6,0)-1,MOD(G$29+5,28)),"") -> 0 | H31: =IF(COUNTIF(fériés,H$29)=0,OFFSET(Paramètres!$H$2,MATCH($B31,Paramètres!$G$2:$G$6,0)-1,MOD(H$29+5,28)),"") -> 0 | I31: =IF(COUNTIF(fériés,I$29)=0,OFFSET(Paramètres!$H$2,MATCH($B31,Paramètres!$G$2:$G$6,0)-1,MOD(I$29+5,28)),"") -> M | J31: =IF(COUNTIF(fériés,J$29)=0,OFFSET(Paramètres!$H$2,MATCH($B31,Paramètres!$G$2:$G$6,0)-1,MOD(J$29+5,28)),"") -> M | ... AF31: =IF(COUNTIF(fériés,AF$29)=0,OFFSET(Paramètres!$H$2,MATCH($B31,Paramètres!$G$2:$G$6,0)-1,MOD(AF$29+5,28)),"") -> A
B32: =Paramètres!$G$4 -> Personne3 | C32: =IF(COUNTIF(fériés,C$29)=0,OFFSET(Paramètres!$H$2,MATCH($B32,Paramètres!$G$2:$G$6,0)-1,MOD(C$29+5,28)),"") -> M | D32: =IF(COUNTIF(fériés,D$29)=0,OFFSET(Paramètres!$H$2,MATCH($B32,Paramètres!$G$2:$G$6,0)-1,MOD(D$29+5,28)),"") -> M | E32: =IF(COUNTIF(fériés,E$29)=0,OFFSET(Paramètres!$H$2,MATCH($B32,Paramètres!$G$2:$G$6,0)-1,MOD(E$29+5,28)),"") -> M | F32: =IF(COUNTIF(fériés,F$29)=0,OFFSET(Paramètres!$H$2,MATCH($B32,Paramètres!$G$2:$G$6,0)-1,MOD(F$29+5,28)),"") -> M | G32: =IF(COUNTIF(fériés,G$29)=0,OFFSET(Paramètres!$H$2,MATCH($B32,Paramètres!$G$2:$G$6,0)-1,MOD(G$29+5,28)),"") -> 0 | H32: =IF(COUNTIF(fériés,H$29)=0,OFFSET(Paramètres!$H$2,MATCH($B32,Paramètres!$G$2:$G$6,0)-1,MOD(H$29+5,28)),"") -> 0 | I32: =IF(COUNTIF(fériés,I$29)=0,OFFSET(Paramètres!$H$2,MATCH($B32,Paramètres!$G$2:$G$6,0)-1,MOD(I$29+5,28)),"") -> A | J32: =IF(COUNTIF(fériés,J$29)=0,OFFSET(Paramètres!$H$2,MATCH($B32,Paramètres!$G$2:$G$6,0)-1,MOD(J$29+5,28)),"") -> A | ... AF32: =IF(COUNTIF(fériés,AF$29)=0,OFFSET(Paramètres!$H$2,MATCH($B32,Paramètres!$G$2:$G$6,0)-1,MOD(AF$29+5,28)),"") -> M
B33: =Paramètres!$G$5 -> Personne4 | C33: {=IF(COUNTIF(fériés,C$29)=1, IF(AND(INDIRECT(ADDRESS(ROW(),COLUMN()-1))="0", INDIRECT(ADDRESS(ROW(),COLUMN()-2))="0"), "0", "M" ), IF(OFFSET(Paramètres!$H$2,MATCH($B33,Paramètres!$G$2:$G$6,0)-1,MOD(C$29+5,28))="M", "M", "0" ) )} -> 0 | D33: {=IF(COUNTIF(fériés,D$29)=1, IF(AND(INDIRECT(ADDRESS(ROW(),COLUMN()-1))="0", INDIRECT(ADDRESS(ROW(),COLUMN()-2))="0"), "0", "M" ), IF(OFFSET(Paramètres!$H$2,MATCH($B33,Paramètres!$G$2:$G$6,0)-1,MOD(D$29+5,28))="M", "M", "0" ) )} -> 0 | E33: {=IF(COUNTIF(fériés,E$29)=1, IF(AND(INDIRECT(ADDRESS(ROW(),COLUMN()-1))="0", INDIRECT(ADDRESS(ROW(),COLUMN()-2))="0"), "0", "M" ), IF(OFFSET(Paramètres!$H$2,MATCH($B33,Paramètres!$G$2:$G$6,0)-1,MOD(E$29+5,28))="M", "M", "0" ) )} -> 0 | F33: {=IF(COUNTIF(fériés,F$29)=1, IF(AND(INDIRECT(ADDRESS(ROW(),COLUMN()-1))="0", INDIRECT(ADDRESS(ROW(),COLUMN()-2))="0"), "0", "M" ), IF(OFFSET(Paramètres!$H$2,MATCH($B33,Paramètres!$G$2:$G$6,0)-1,MOD(F$29+5,28))="M", "M", "0" ) )} -> 0 | G33: {=IF(COUNTIF(fériés,G$29)=1, IF(AND(INDIRECT(ADDRESS(ROW(),COLUMN()-1))="0", INDIRECT(ADDRESS(ROW(),COLUMN()-2))="0"), "0", "M" ), IF(OFFSET(Paramètres!$H$2,MATCH($B33,Paramètres!$G$2:$G$6,0)-1,MOD(G$29+5,28))="M", "M", "0" ) )} -> M | H33: {=IF(COUNTIF(fériés,H$29)=1, IF(AND(INDIRECT(ADDRESS(ROW(),COLUMN()-1))="0", INDIRECT(ADDRESS(ROW(),COLUMN()-2))="0"), "0", "M" ), IF(OFFSET(Paramètres!$H$2,MATCH($B33,Paramètres!$G$2:$G$6,0)-1,MOD(H$29+5,28))="M", "M", "0" ) )} -> M | I33: {=IF(COUNTIF(fériés,I$29)=1, IF(AND(INDIRECT(ADDRESS(ROW(),COLUMN()-1))="0", INDIRECT(ADDRESS(ROW(),COLUMN()-2))="0"), "0", "M" ), IF(OFFSET(Paramètres!$H$2,MATCH($B33,Paramètres!$G$2:$G$6,0)-1,MOD(I$29+5,28))="M", "M", "0" ) )} -> 0 | J33: {=IF(COUNTIF(fériés,J$29)=1, IF(AND(INDIRECT(ADDRESS(ROW(),COLUMN()-1))="0", INDIRECT(ADDRESS(ROW(),COLUMN()-2))="0"), "0", "M" ), IF(OFFSET(Paramètres!$H$2,MATCH($B33,Paramètres!$G$2:$G$6,0)-1,MOD(J$29+5,28))="M", "M", "0" ) )} -> 0 | ... AF33: {=IF(COUNTIF(fériés,AF$29)=1, IF(AND(INDIRECT(ADDRESS(ROW(),COLUMN()-1))="0", INDIRECT(ADDRESS(ROW(),COLUMN()-2))="0"), "0", "M" ), IF(OFFSET(Paramètres!$H$2,MATCH($B33,Paramètres!$G$2:$G$6,0)-1,MOD(AF$29+5,28))="M", "M", "0" ) )} -> 0
B34: =Paramètres!$G$6 -> Personne5 | C34: {=IF(COUNTIF(fériés,C$29)=1, IF(AND(INDIRECT(ADDRESS(ROW(),COLUMN()-1))="0", INDIRECT(ADDRESS(ROW(),COLUMN()-2))="0"), "0", "M" ), IF(OFFSET(Paramètres!$H$2,MATCH($B34,Paramètres!$G$2:$G$6,0)-1,MOD(C$29+5,28))="M", "M", "0" ) )} -> 0 | D34: {=IF(COUNTIF(fériés,D$29)=1, IF(AND(INDIRECT(ADDRESS(ROW(),COLUMN()-1))="0", INDIRECT(ADDRESS(ROW(),COLUMN()-2))="0"), "0", "M" ), IF(OFFSET(Paramètres!$H$2,MATCH($B34,Paramètres!$G$2:$G$6,0)-1,MOD(D$29+5,28))="M", "M", "0" ) )} -> 0 | E34: {=IF(COUNTIF(fériés,E$29)=1, IF(AND(INDIRECT(ADDRESS(ROW(),COLUMN()-1))="0", INDIRECT(ADDRESS(ROW(),COLUMN()-2))="0"), "0", "M" ), IF(OFFSET(Paramètres!$H$2,MATCH($B34,Paramètres!$G$2:$G$6,0)-1,MOD(E$29+5,28))="M", "M", "0" ) )} -> 0 | F34: {=IF(COUNTIF(fériés,F$29)=1, IF(AND(INDIRECT(ADDRESS(ROW(),COLUMN()-1))="0", INDIRECT(ADDRESS(ROW(),COLUMN()-2))="0"), "0", "M" ), IF(OFFSET(Paramètres!$H$2,MATCH($B34,Paramètres!$G$2:$G$6,0)-1,MOD(F$29+5,28))="M", "M", "0" ) )} -> 0 | G34: {=IF(COUNTIF(fériés,G$29)=1, IF(AND(INDIRECT(ADDRESS(ROW(),COLUMN()-1))="0", INDIRECT(ADDRESS(ROW(),COLUMN()-2))="0"), "0", "M" ), IF(OFFSET(Paramètres!$H$2,MATCH($B34,Paramètres!$G$2:$G$6,0)-1,MOD(G$29+5,28))="M", "M", "0" ) )} -> M | H34: {=IF(COUNTIF(fériés,H$29)=1, IF(AND(INDIRECT(ADDRESS(ROW(),COLUMN()-1))="0", INDIRECT(ADDRESS(ROW(),COLUMN()-2))="0"), "0", "M" ), IF(OFFSET(Paramètres!$H$2,MATCH($B34,Paramètres!$G$2:$G$6,0)-1,MOD(H$29+5,28))="M", "M", "0" ) )} -> M | I34: {=IF(COUNTIF(fériés,I$29)=1, IF(AND(INDIRECT(ADDRESS(ROW(),COLUMN()-1))="0", INDIRECT(ADDRESS(ROW(),COLUMN()-2))="0"), "0", "M" ), IF(OFFSET(Paramètres!$H$2,MATCH($B34,Paramètres!$G$2:$G$6,0)-1,MOD(I$29+5,28))="M", "M", "0" ) )} -> 0 | J34: {=IF(COUNTIF(fériés,J$29)=1, IF(AND(INDIRECT(ADDRESS(ROW(),COLUMN()-1))="0", INDIRECT(ADDRESS(ROW(),COLUMN()-2))="0"), "0", "M" ), IF(OFFSET(Paramètres!$H$2,MATCH($B34,Paramètres!$G$2:$G$6,0)-1,MOD(J$29+5,28))="M", "M", "0" ) )} -> 0 | ... AF34: {=IF(COUNTIF(fériés,AF$29)=1, IF(AND(INDIRECT(ADDRESS(ROW(),COLUMN()-1))="0", INDIRECT(ADDRESS(ROW(),COLUMN()-2))="0"), "0", "M" ), IF(OFFSET(Paramètres!$H$2,MATCH($B34,Paramètres!$G$2:$G$6,0)-1,MOD(AF$29+5,28))="M", "M", "0" ) )} -> 0
B35: =Paramètres!$G$5 -> Personne4 | C35: =_xlfn.LET( _xlpm.dateCourante,C$29, _xlpm.jourSemaine,WEEKDAY(_xlpm.dateCourante,2), _xlpm.estFerie,COUNTIF(fériés,_xlpm.dateCourante)=1, _xlpm.planLigne,C33, _xlpm.jourAvant,OFFSET(_xlpm.planLigne,0,-1), _xlpm.jourSuivant1,OFFSET(_xlpm.planLigne,0,1), _xlpm.jourSuivant2,OFFSET(_xlpm.planLigne,0,2), _xlpm.jourSuivant3,OFFSET(_xlpm.planLigne,0,3), _xlpm.estTravaillePlan,IFERROR(OFFSET(Paramètres!$H$2, MATCH($B35,Paramètres!$G$2:$G$6,0)-1, MOD(_xlpm.dateCourante+5,28)),""), IF(_xlpm.estFerie, IF(_xlpm.jourSemaine=5, IF(AND(OR(_xlpm.jourSuivant1="M",COUNTIF(fériés,_xlpm.dateCourante-1)=1), OR(_xlpm.jourSuivant2<>"0",_xlpm.jourSuivant3<>"0")), "M","0"), IF(_xlpm.jourSemaine=4, IF(AND(COUNTIF(fériés,_xlpm.dateCourante+1)=1, OR(_xlpm.jourSuivant2<>"0",_xlpm.jourSuivant3<>"0")), "M","0"), IF(_xlpm.jourSemaine=1, IF(_xlpm.jourAvant="M","M","0"), "0"))), IF(_xlpm.estTravaillePlan="M","M","0") )) -> 0 | D35: =_xlfn.LET( _xlpm.dateCourante,D$29, _xlpm.jourSemaine,WEEKDAY(_xlpm.dateCourante,2), _xlpm.estFerie,COUNTIF(fériés,_xlpm.dateCourante)=1, _xlpm.planLigne,D33, _xlpm.jourAvant,OFFSET(_xlpm.planLigne,0,-1), _xlpm.jourSuivant1,OFFSET(_xlpm.planLigne,0,1), _xlpm.jourSuivant2,OFFSET(_xlpm.planLigne,0,2), _xlpm.jourSuivant3,OFFSET(_xlpm.planLigne,0,3), _xlpm.estTravaillePlan,IFERROR(OFFSET(Paramètres!$H$2, MATCH($B35,Paramètres!$G$2:$G$6,0)-1, MOD(_xlpm.dateCourante+5,28)),""), IF(_xlpm.estFerie, IF(_xlpm.jourSemaine=5, IF(AND(OR(_xlpm.jourSuivant1="M",COUNTIF(fériés,_xlpm.dateCourante-1)=1), OR(_xlpm.jourSuivant2<>"0",_xlpm.jourSuivant3<>"0")), "M","0"), IF(_xlpm.jourSemaine=4, IF(AND(COUNTIF(fériés,_xlpm.dateCourante+1)=1, OR(_xlpm.jourSuivant2<>"0",_xlpm.jourSuivant3<>"0")), "M","0"), IF(_xlpm.jourSemaine=1, IF(_xlpm.jourAvant="M","M","0"), "0"))), IF(_xlpm.estTravaillePlan="M","M","0") )) -> 0 | E35: =_xlfn.LET( _xlpm.dateCourante,E$29, _xlpm.jourSemaine,WEEKDAY(_xlpm.dateCourante,2), _xlpm.estFerie,COUNTIF(fériés,_xlpm.dateCourante)=1, _xlpm.planLigne,E33, _xlpm.jourAvant,OFFSET(_xlpm.planLigne,0,-1), _xlpm.jourSuivant1,OFFSET(_xlpm.planLigne,0,1), _xlpm.jourSuivant2,OFFSET(_xlpm.planLigne,0,2), _xlpm.jourSuivant3,OFFSET(_xlpm.planLigne,0,3), _xlpm.estTravaillePlan,IFERROR(OFFSET(Paramètres!$H$2, MATCH($B35,Paramètres!$G$2:$G$6,0)-1, MOD(_xlpm.dateCourante+5,28)),""), IF(_xlpm.estFerie, IF(_xlpm.jourSemaine=5, IF(AND(OR(_xlpm.jourSuivant1="M",COUNTIF(fériés,_xlpm.dateCourante-1)=1), OR(_xlpm.jourSuivant2<>"0",_xlpm.jourSuivant3<>"0")), "M","0"), IF(_xlpm.jourSemaine=4, IF(AND(COUNTIF(fériés,_xlpm.dateCourante+1)=1, OR(_xlpm.jourSuivant2<>"0",_xlpm.jourSuivant3<>"0")), "M","0"), IF(_xlpm.jourSemaine=1, IF(_xlpm.jourAvant="M","M","0"), "0"))), IF(_xlpm.estTravaillePlan="M","M","0") )) -> 0 | F35: =_xlfn.LET( _xlpm.dateCourante,F$29, _xlpm.jourSemaine,WEEKDAY(_xlpm.dateCourante,2), _xlpm.estFerie,COUNTIF(fériés,_xlpm.dateCourante)=1, _xlpm.planLigne,F33, _xlpm.jourAvant,OFFSET(_xlpm.planLigne,0,-1), _xlpm.jourSuivant1,OFFSET(_xlpm.planLigne,0,1), _xlpm.jourSuivant2,OFFSET(_xlpm.planLigne,0,2), _xlpm.jourSuivant3,OFFSET(_xlpm.planLigne,0,3), _xlpm.estTravaillePlan,IFERROR(OFFSET(Paramètres!$H$2, MATCH($B35,Paramètres!$G$2:$G$6,0)-1, MOD(_xlpm.dateCourante+5,28)),""), IF(_xlpm.estFerie, IF(_xlpm.jourSemaine=5, IF(AND(OR(_xlpm.jourSuivant1="M",COUNTIF(fériés,_xlpm.dateCourante-1)=1), OR(_xlpm.jourSuivant2<>"0",_xlpm.jourSuivant3<>"0")), "M","0"), IF(_xlpm.jourSemaine=4, IF(AND(COUNTIF(fériés,_xlpm.dateCourante+1)=1, OR(_xlpm.jourSuivant2<>"0",_xlpm.jourSuivant3<>"0")), "M","0"), IF(_xlpm.jourSemaine=1, IF(_xlpm.jourAvant="M","M","0"), "0"))), IF(_xlpm.estTravaillePlan="M","M","0") )) -> 0 | G35: =_xlfn.LET( _xlpm.dateCourante,G$29, _xlpm.jourSemaine,WEEKDAY(_xlpm.dateCourante,2), _xlpm.estFerie,COUNTIF(fériés,_xlpm.dateCourante)=1, _xlpm.planLigne,G33, _xlpm.jourAvant,OFFSET(_xlpm.planLigne,0,-1), _xlpm.jourSuivant1,OFFSET(_xlpm.planLigne,0,1), _xlpm.jourSuivant2,OFFSET(_xlpm.planLigne,0,2), _xlpm.jourSuivant3,OFFSET(_xlpm.planLigne,0,3), _xlpm.estTravaillePlan,IFERROR(OFFSET(Paramètres!$H$2, MATCH($B35,Paramètres!$G$2:$G$6,0)-1, MOD(_xlpm.dateCourante+5,28)),""), IF(_xlpm.estFerie, IF(_xlpm.jourSemaine=5, IF(AND(OR(_xlpm.jourSuivant1="M",COUNTIF(fériés,_xlpm.dateCourante-1)=1), OR(_xlpm.jourSuivant2<>"0",_xlpm.jourSuivant3<>"0")), "M","0"), IF(_xlpm.jourSemaine=4, IF(AND(COUNTIF(fériés,_xlpm.dateCourante+1)=1, OR(_xlpm.jourSuivant2<>"0",_xlpm.jourSuivant3<>"0")), "M","0"), IF(_xlpm.jourSemaine=1, IF(_xlpm.jourAvant="M","M","0"), "0"))), IF(_xlpm.estTravaillePlan="M","M","0") )) -> M | H35: =_xlfn.LET( _xlpm.dateCourante,H$29, _xlpm.jourSemaine,WEEKDAY(_xlpm.dateCourante,2), _xlpm.estFerie,COUNTIF(fériés,_xlpm.dateCourante)=1, _xlpm.planLigne,H33, _xlpm.jourAvant,OFFSET(_xlpm.planLigne,0,-1), _xlpm.jourSuivant1,OFFSET(_xlpm.planLigne,0,1), _xlpm.jourSuivant2,OFFSET(_xlpm.planLigne,0,2), _xlpm.jourSuivant3,OFFSET(_xlpm.planLigne,0,3), _xlpm.estTravaillePlan,IFERROR(OFFSET(Paramètres!$H$2, MATCH($B35,Paramètres!$G$2:$G$6,0)-1, MOD(_xlpm.dateCourante+5,28)),""), IF(_xlpm.estFerie, IF(_xlpm.jourSemaine=5, IF(AND(OR(_xlpm.jourSuivant1="M",COUNTIF(fériés,_xlpm.dateCourante-1)=1), OR(_xlpm.jourSuivant2<>"0",_xlpm.jourSuivant3<>"0")), "M","0"), IF(_xlpm.jourSemaine=4, IF(AND(COUNTIF(fériés,_xlpm.dateCourante+1)=1, OR(_xlpm.jourSuivant2<>"0",_xlpm.jourSuivant3<>"0")), "M","0"), IF(_xlpm.jourSemaine=1, IF(_xlpm.jourAvant="M","M","0"), "0"))), IF(_xlpm.estTravaillePlan="M","M","0") )) -> M | I35: =_xlfn.LET( _xlpm.dateCourante,I$29, _xlpm.jourSemaine,WEEKDAY(_xlpm.dateCourante,2), _xlpm.estFerie,COUNTIF(fériés,_xlpm.dateCourante)=1, _xlpm.planLigne,I33, _xlpm.jourAvant,OFFSET(_xlpm.planLigne,0,-1), _xlpm.jourSuivant1,OFFSET(_xlpm.planLigne,0,1), _xlpm.jourSuivant2,OFFSET(_xlpm.planLigne,0,2), _xlpm.jourSuivant3,OFFSET(_xlpm.planLigne,0,3), _xlpm.estTravaillePlan,IFERROR(OFFSET(Paramètres!$H$2, MATCH($B35,Paramètres!$G$2:$G$6,0)-1, MOD(_xlpm.dateCourante+5,28)),""), IF(_xlpm.estFerie, IF(_xlpm.jourSemaine=5, IF(AND(OR(_xlpm.jourSuivant1="M",COUNTIF(fériés,_xlpm.dateCourante-1)=1), OR(_xlpm.jourSuivant2<>"0",_xlpm.jourSuivant3<>"0")), "M","0"), IF(_xlpm.jourSemaine=4, IF(AND(COUNTIF(fériés,_xlpm.dateCourante+1)=1, OR(_xlpm.jourSuivant2<>"0",_xlpm.jourSuivant3<>"0")), "M","0"), IF(_xlpm.jourSemaine=1, IF(_xlpm.jourAvant="M","M","0"), "0"))), IF(_xlpm.estTravaillePlan="M","M","0") )) -> 0 | J35: =_xlfn.LET( _xlpm.dateCourante,J$29, _xlpm.jourSemaine,WEEKDAY(_xlpm.dateCourante,2), _xlpm.estFerie,COUNTIF(fériés,_xlpm.dateCourante)=1, _xlpm.planLigne,J33, _xlpm.jourAvant,OFFSET(_xlpm.planLigne,0,-1), _xlpm.jourSuivant1,OFFSET(_xlpm.planLigne,0,1), _xlpm.jourSuivant2,OFFSET(_xlpm.planLigne,0,2), _xlpm.jourSuivant3,OFFSET(_xlpm.planLigne,0,3), _xlpm.estTravaillePlan,IFERROR(OFFSET(Paramètres!$H$2, MATCH($B35,Paramètres!$G$2:$G$6,0)-1, MOD(_xlpm.dateCourante+5,28)),""), IF(_xlpm.estFerie, IF(_xlpm.jourSemaine=5, IF(AND(OR(_xlpm.jourSuivant1="M",COUNTIF(fériés,_xlpm.dateCourante-1)=1), OR(_xlpm.jourSuivant2<>"0",_xlpm.jourSuivant3<>"0")), "M","0"), IF(_xlpm.jourSemaine=4, IF(AND(COUNTIF(fériés,_xlpm.dateCourante+1)=1, OR(_xlpm.jourSuivant2<>"0",_xlpm.jourSuivant3<>"0")), "M","0"), IF(_xlpm.jourSemaine=1, IF(_xlpm.jourAvant="M","M","0"), "0"))), IF(_xlpm.estTravaillePlan="M","M","0") )) -> 0 | ... AF35: =_xlfn.LET( _xlpm.dateCourante,AF$29, _xlpm.jourSemaine,WEEKDAY(_xlpm.dateCourante,2), _xlpm.estFerie,COUNTIF(fériés,_xlpm.dateCourante)=1, _xlpm.planLigne,AF33, _xlpm.jourAvant,OFFSET(_xlpm.planLigne,0,-1), _xlpm.jourSuivant1,OFFSET(_xlpm.planLigne,0,1), _xlpm.jourSuivant2,OFFSET(_xlpm.planLigne,0,2), _xlpm.jourSuivant3,OFFSET(_xlpm.planLigne,0,3), _xlpm.estTravaillePlan,IFERROR(OFFSET(Paramètres!$H$2, MATCH($B35,Paramètres!$G$2:$G$6,0)-1, MOD(_xlpm.dateCourante+5,28)),""), IF(_xlpm.estFerie, IF(_xlpm.jourSemaine=5, IF(AND(OR(_xlpm.jourSuivant1="M",COUNTIF(fériés,_xlpm.dateCourante-1)=1), OR(_xlpm.jourSuivant2<>"0",_xlpm.jourSuivant3<>"0")), "M","0"), IF(_xlpm.jourSemaine=4, IF(AND(COUNTIF(fériés,_xlpm.dateCourante+1)=1, OR(_xlpm.jourSuivant2<>"0",_xlpm.jourSuivant3<>"0")), "M","0"), IF(_xlpm.jourSemaine=1, IF(_xlpm.jourAvant="M","M","0"), "0"))), IF(_xlpm.estTravaillePlan="M","M","0") )) -> 0
B36: =Paramètres!$G$6 -> Personne5 | C36: =_xlfn.LET( _xlpm.dateCourante,C$29, _xlpm.jourSemaine,WEEKDAY(_xlpm.dateCourante,2), _xlpm.estFerie,COUNTIF(fériés,_xlpm.dateCourante)=1, _xlpm.planLigne,C34, _xlpm.jourAvant,OFFSET(_xlpm.planLigne,0,-1), _xlpm.jourSuivant1,OFFSET(_xlpm.planLigne,0,1), _xlpm.jourSuivant2,OFFSET(_xlpm.planLigne,0,2), _xlpm.jourSuivant3,OFFSET(_xlpm.planLigne,0,3), _xlpm.estTravaillePlan,IFERROR(OFFSET(Paramètres!$H$2, MATCH($B36,Paramètres!$G$2:$G$6,0)-1, MOD(_xlpm.dateCourante+5,28)),""), IF(_xlpm.estFerie, IF(_xlpm.jourSemaine=5, IF(AND(OR(_xlpm.jourSuivant1="M",COUNTIF(fériés,_xlpm.dateCourante-1)=1), OR(_xlpm.jourSuivant2<>"0",_xlpm.jourSuivant3<>"0")), "M","0"), IF(_xlpm.jourSemaine=4, IF(AND(COUNTIF(fériés,_xlpm.dateCourante+1)=1, OR(_xlpm.jourSuivant2<>"0",_xlpm.jourSuivant3<>"0")), "M","0"), IF(_xlpm.jourSemaine=1, IF(_xlpm.jourAvant="M","M","0"), "0"))), IF(_xlpm.estTravaillePlan="M","M","0") )) -> 0 | D36: =_xlfn.LET( _xlpm.dateCourante,D$29, _xlpm.jourSemaine,WEEKDAY(_xlpm.dateCourante,2), _xlpm.estFerie,COUNTIF(fériés,_xlpm.dateCourante)=1, _xlpm.planLigne,D34, _xlpm.jourAvant,OFFSET(_xlpm.planLigne,0,-1), _xlpm.jourSuivant1,OFFSET(_xlpm.planLigne,0,1), _xlpm.jourSuivant2,OFFSET(_xlpm.planLigne,0,2), _xlpm.jourSuivant3,OFFSET(_xlpm.planLigne,0,3), _xlpm.estTravaillePlan,IFERROR(OFFSET(Paramètres!$H$2, MATCH($B36,Paramètres!$G$2:$G$6,0)-1, MOD(_xlpm.dateCourante+5,28)),""), IF(_xlpm.estFerie, IF(_xlpm.jourSemaine=5, IF(AND(OR(_xlpm.jourSuivant1="M",COUNTIF(fériés,_xlpm.dateCourante-1)=1), OR(_xlpm.jourSuivant2<>"0",_xlpm.jourSuivant3<>"0")), "M","0"), IF(_xlpm.jourSemaine=4, IF(AND(COUNTIF(fériés,_xlpm.dateCourante+1)=1, OR(_xlpm.jourSuivant2<>"0",_xlpm.jourSuivant3<>"0")), "M","0"), IF(_xlpm.jourSemaine=1, IF(_xlpm.jourAvant="M","M","0"), "0"))), IF(_xlpm.estTravaillePlan="M","M","0") )) -> 0 | E36: =_xlfn.LET( _xlpm.dateCourante,E$29, _xlpm.jourSemaine,WEEKDAY(_xlpm.dateCourante,2), _xlpm.estFerie,COUNTIF(fériés,_xlpm.dateCourante)=1, _xlpm.planLigne,E34, _xlpm.jourAvant,OFFSET(_xlpm.planLigne,0,-1), _xlpm.jourSuivant1,OFFSET(_xlpm.planLigne,0,1), _xlpm.jourSuivant2,OFFSET(_xlpm.planLigne,0,2), _xlpm.jourSuivant3,OFFSET(_xlpm.planLigne,0,3), _xlpm.estTravaillePlan,IFERROR(OFFSET(Paramètres!$H$2, MATCH($B36,Paramètres!$G$2:$G$6,0)-1, MOD(_xlpm.dateCourante+5,28)),""), IF(_xlpm.estFerie, IF(_xlpm.jourSemaine=5, IF(AND(OR(_xlpm.jourSuivant1="M",COUNTIF(fériés,_xlpm.dateCourante-1)=1), OR(_xlpm.jourSuivant2<>"0",_xlpm.jourSuivant3<>"0")), "M","0"), IF(_xlpm.jourSemaine=4, IF(AND(COUNTIF(fériés,_xlpm.dateCourante+1)=1, OR(_xlpm.jourSuivant2<>"0",_xlpm.jourSuivant3<>"0")), "M","0"), IF(_xlpm.jourSemaine=1, IF(_xlpm.jourAvant="M","M","0"), "0"))), IF(_xlpm.estTravaillePlan="M","M","0") )) -> 0 | F36: =_xlfn.LET( _xlpm.dateCourante,F$29, _xlpm.jourSemaine,WEEKDAY(_xlpm.dateCourante,2), _xlpm.estFerie,COUNTIF(fériés,_xlpm.dateCourante)=1, _xlpm.planLigne,F34, _xlpm.jourAvant,OFFSET(_xlpm.planLigne,0,-1), _xlpm.jourSuivant1,OFFSET(_xlpm.planLigne,0,1), _xlpm.jourSuivant2,OFFSET(_xlpm.planLigne,0,2), _xlpm.jourSuivant3,OFFSET(_xlpm.planLigne,0,3), _xlpm.estTravaillePlan,IFERROR(OFFSET(Paramètres!$H$2, MATCH($B36,Paramètres!$G$2:$G$6,0)-1, MOD(_xlpm.dateCourante+5,28)),""), IF(_xlpm.estFerie, IF(_xlpm.jourSemaine=5, IF(AND(OR(_xlpm.jourSuivant1="M",COUNTIF(fériés,_xlpm.dateCourante-1)=1), OR(_xlpm.jourSuivant2<>"0",_xlpm.jourSuivant3<>"0")), "M","0"), IF(_xlpm.jourSemaine=4, IF(AND(COUNTIF(fériés,_xlpm.dateCourante+1)=1, OR(_xlpm.jourSuivant2<>"0",_xlpm.jourSuivant3<>"0")), "M","0"), IF(_xlpm.jourSemaine=1, IF(_xlpm.jourAvant="M","M","0"), "0"))), IF(_xlpm.estTravaillePlan="M","M","0") )) -> 0 | G36: =_xlfn.LET( _xlpm.dateCourante,G$29, _xlpm.jourSemaine,WEEKDAY(_xlpm.dateCourante,2), _xlpm.estFerie,COUNTIF(fériés,_xlpm.dateCourante)=1, _xlpm.planLigne,G34, _xlpm.jourAvant,OFFSET(_xlpm.planLigne,0,-1), _xlpm.jourSuivant1,OFFSET(_xlpm.planLigne,0,1), _xlpm.jourSuivant2,OFFSET(_xlpm.planLigne,0,2), _xlpm.jourSuivant3,OFFSET(_xlpm.planLigne,0,3), _xlpm.estTravaillePlan,IFERROR(OFFSET(Paramètres!$H$2, MATCH($B36,Paramètres!$G$2:$G$6,0)-1, MOD(_xlpm.dateCourante+5,28)),""), IF(_xlpm.estFerie, IF(_xlpm.jourSemaine=5, IF(AND(OR(_xlpm.jourSuivant1="M",COUNTIF(fériés,_xlpm.dateCourante-1)=1), OR(_xlpm.jourSuivant2<>"0",_xlpm.jourSuivant3<>"0")), "M","0"), IF(_xlpm.jourSemaine=4, IF(AND(COUNTIF(fériés,_xlpm.dateCourante+1)=1, OR(_xlpm.jourSuivant2<>"0",_xlpm.jourSuivant3<>"0")), "M","0"), IF(_xlpm.jourSemaine=1, IF(_xlpm.jourAvant="M","M","0"), "0"))), IF(_xlpm.estTravaillePlan="M","M","0") )) -> M | H36: =_xlfn.LET( _xlpm.dateCourante,H$29, _xlpm.jourSemaine,WEEKDAY(_xlpm.dateCourante,2), _xlpm.estFerie,COUNTIF(fériés,_xlpm.dateCourante)=1, _xlpm.planLigne,H34, _xlpm.jourAvant,OFFSET(_xlpm.planLigne,0,-1), _xlpm.jourSuivant1,OFFSET(_xlpm.planLigne,0,1), _xlpm.jourSuivant2,OFFSET(_xlpm.planLigne,0,2), _xlpm.jourSuivant3,OFFSET(_xlpm.planLigne,0,3), _xlpm.estTravaillePlan,IFERROR(OFFSET(Paramètres!$H$2, MATCH($B36,Paramètres!$G$2:$G$6,0)-1, MOD(_xlpm.dateCourante+5,28)),""), IF(_xlpm.estFerie, IF(_xlpm.jourSemaine=5, IF(AND(OR(_xlpm.jourSuivant1="M",COUNTIF(fériés,_xlpm.dateCourante-1)=1), OR(_xlpm.jourSuivant2<>"0",_xlpm.jourSuivant3<>"0")), "M","0"), IF(_xlpm.jourSemaine=4, IF(AND(COUNTIF(fériés,_xlpm.dateCourante+1)=1, OR(_xlpm.jourSuivant2<>"0",_xlpm.jourSuivant3<>"0")), "M","0"), IF(_xlpm.jourSemaine=1, IF(_xlpm.jourAvant="M","M","0"), "0"))), IF(_xlpm.estTravaillePlan="M","M","0") )) -> M | I36: =_xlfn.LET( _xlpm.dateCourante,I$29, _xlpm.jourSemaine,WEEKDAY(_xlpm.dateCourante,2), _xlpm.estFerie,COUNTIF(fériés,_xlpm.dateCourante)=1, _xlpm.planLigne,I34, _xlpm.jourAvant,OFFSET(_xlpm.planLigne,0,-1), _xlpm.jourSuivant1,OFFSET(_xlpm.planLigne,0,1), _xlpm.jourSuivant2,OFFSET(_xlpm.planLigne,0,2), _xlpm.jourSuivant3,OFFSET(_xlpm.planLigne,0,3), _xlpm.estTravaillePlan,IFERROR(OFFSET(Paramètres!$H$2, MATCH($B36,Paramètres!$G$2:$G$6,0)-1, MOD(_xlpm.dateCourante+5,28)),""), IF(_xlpm.estFerie, IF(_xlpm.jourSemaine=5, IF(AND(OR(_xlpm.jourSuivant1="M",COUNTIF(fériés,_xlpm.dateCourante-1)=1), OR(_xlpm.jourSuivant2<>"0",_xlpm.jourSuivant3<>"0")), "M","0"), IF(_xlpm.jourSemaine=4, IF(AND(COUNTIF(fériés,_xlpm.dateCourante+1)=1, OR(_xlpm.jourSuivant2<>"0",_xlpm.jourSuivant3<>"0")), "M","0"), IF(_xlpm.jourSemaine=1, IF(_xlpm.jourAvant="M","M","0"), "0"))), IF(_xlpm.estTravaillePlan="M","M","0") )) -> 0 | J36: =_xlfn.LET( _xlpm.dateCourante,J$29, _xlpm.jourSemaine,WEEKDAY(_xlpm.dateCourante,2), _xlpm.estFerie,COUNTIF(fériés,_xlpm.dateCourante)=1, _xlpm.planLigne,J34, _xlpm.jourAvant,OFFSET(_xlpm.planLigne,0,-1), _xlpm.jourSuivant1,OFFSET(_xlpm.planLigne,0,1), _xlpm.jourSuivant2,OFFSET(_xlpm.planLigne,0,2), _xlpm.jourSuivant3,OFFSET(_xlpm.planLigne,0,3), _xlpm.estTravaillePlan,IFERROR(OFFSET(Paramètres!$H$2, MATCH($B36,Paramètres!$G$2:$G$6,0)-1, MOD(_xlpm.dateCourante+5,28)),""), IF(_xlpm.estFerie, IF(_xlpm.jourSemaine=5, IF(AND(OR(_xlpm.jourSuivant1="M",COUNTIF(fériés,_xlpm.dateCourante-1)=1), OR(_xlpm.jourSuivant2<>"0",_xlpm.jourSuivant3<>"0")), "M","0"), IF(_xlpm.jourSemaine=4, IF(AND(COUNTIF(fériés,_xlpm.dateCourante+1)=1, OR(_xlpm.jourSuivant2<>"0",_xlpm.jourSuivant3<>"0")), "M","0"), IF(_xlpm.jourSemaine=1, IF(_xlpm.jourAvant="M","M","0"), "0"))), IF(_xlpm.estTravaillePlan="M","M","0") )) -> 0 | ... AF36: =_xlfn.LET( _xlpm.dateCourante,AF$29, _xlpm.jourSemaine,WEEKDAY(_xlpm.dateCourante,2), _xlpm.estFerie,COUNTIF(fériés,_xlpm.dateCourante)=1, _xlpm.planLigne,AF34, _xlpm.jourAvant,OFFSET(_xlpm.planLigne,0,-1), _xlpm.jourSuivant1,OFFSET(_xlpm.planLigne,0,1), _xlpm.jourSuivant2,OFFSET(_xlpm.planLigne,0,2), _xlpm.jourSuivant3,OFFSET(_xlpm.planLigne,0,3), _xlpm.estTravaillePlan,IFERROR(OFFSET(Paramètres!$H$2, MATCH($B36,Paramètres!$G$2:$G$6,0)-1, MOD(_xlpm.dateCourante+5,28)),""), IF(_xlpm.estFerie, IF(_xlpm.jourSemaine=5, IF(AND(OR(_xlpm.jourSuivant1="M",COUNTIF(fériés,_xlpm.dateCourante-1)=1), OR(_xlpm.jourSuivant2<>"0",_xlpm.jourSuivant3<>"0")), "M","0"), IF(_xlpm.jourSemaine=4, IF(AND(COUNTIF(fériés,_xlpm.dateCourante+1)=1, OR(_xlpm.jourSuivant2<>"0",_xlpm.jourSuivant3<>"0")), "M","0"), IF(_xlpm.jourSemaine=1, IF(_xlpm.jourAvant="M","M","0"), "0"))), IF(_xlpm.estTravaillePlan="M","M","0") )) -> 0
B38: =DATE(an,5,1) -> 45778 | C38: =B38 -> 45778 | D38: =C38+1 -> 45779 | E38: =D38+1 -> 45780 | F38: =E38+1 -> 45781 | G38: =F38+1 -> 45782 | H38: =G38+1 -> 45783 | I38: =H38+1 -> 45784 | J38: =I38+1 -> 45785 | K38: =J38+1 -> 45786 | ... AG38: =AF38+1 -> 45808
B39: =Paramètres!$G$2 -> Personne1 | C39: =IF(COUNTIF(fériés,C$38)=0,OFFSET(Paramètres!$H$2,MATCH($B39,Paramètres!$G$2:$G$6,0)-1,MOD(C$38+5,28)),"") | D39: =IF(COUNTIF(fériés,D$38)=0,OFFSET(Paramètres!$H$2,MATCH($B39,Paramètres!$G$2:$G$6,0)-1,MOD(D$38+5,28)),"") | E39: =IF(COUNTIF(fériés,E$38)=0,OFFSET(Paramètres!$H$2,MATCH($B39,Paramètres!$G$2:$G$6,0)-1,MOD(E$38+5,28)),"") -> 0 | F39: =IF(COUNTIF(fériés,F$38)=0,OFFSET(Paramètres!$H$2,MATCH($B39,Paramètres!$G$2:$G$6,0)-1,MOD(F$38+5,28)),"") -> 0 | G39: =IF(COUNTIF(fériés,G$38)=0,OFFSET(Paramètres!$H$2,MATCH($B39,Paramètres!$G$2:$G$6,0)-1,MOD(G$38+5,28)),"") -> J | H39: =IF(COUNTIF(fériés,H$38)=0,OFFSET(Paramètres!$H$2,MATCH($B39,Paramètres!$G$2:$G$6,0)-1,MOD(H$38+5,28)),"") -> J | I39: =IF(COUNTIF(fériés,I$38)=0,OFFSET(Paramètres!$H$2,MATCH($B39,Paramètres!$G$2:$G$6,0)-1,MOD(I$38+5,28)),"") -> J | J39: =IF(COUNTIF(fériés,J$38)=0,OFFSET(Paramètres!$H$2,MATCH($B39,Paramètres!$G$2:$G$6,0)-1,MOD(J$38+5,28)),"") | ... AG39: =IF(COUNTIF(fériés,AG$38)=0,OFFSET(Paramètres!$H$2,MATCH($B39,Paramètres!$G$2:$G$6,0)-1,MOD(AG$38+5,28)),"") -> 0
B40: =Paramètres!$G$3 -> Personne2 | C40: =IF(COUNTIF(fériés,C$38)=0,OFFSET(Paramètres!$H$2,MATCH($B40,Paramètres!$G$2:$G$6,0)-1,MOD(C$38+5,28)),"") | D40: =IF(COUNTIF(fériés,D$38)=0,OFFSET(Paramètres!$H$2,MATCH($B40,Paramètres!$G$2:$G$6,0)-1,MOD(D$38+5,28)),"") | E40: =IF(COUNTIF(fériés,E$38)=0,OFFSET(Paramètres!$H$2,MATCH($B40,Paramètres!$G$2:$G$6,0)-1,MOD(E$38+5,28)),"") -> 0 | F40: =IF(COUNTIF(fériés,F$38)=0,OFFSET(Paramètres!$H$2,MATCH($B40,Paramètres!$G$2:$G$6,0)-1,MOD(F$38+5,28)),"") -> 0 | G40: =IF(COUNTIF(fériés,G$38)=0,OFFSET(Paramètres!$H$2,MATCH($B40,Paramètres!$G$2:$G$6,0)-1,MOD(G$38+5,28)),"") -> M | H40: =IF(COUNTIF(fériés,H$38)=0,OFFSET(Paramètres!$H$2,MATCH($B40,Paramètres!$G$2:$G$6,0)-1,MOD(H$38+5,28)),"") -> M | I40: =IF(COUNTIF(fériés,I$38)=0,OFFSET(Paramètres!$H$2,MATCH($B40,Paramètres!$G$2:$G$6,0)-1,MOD(I$38+5,28)),"") -> M | J40: =IF(COUNTIF(fériés,J$38)=0,OFFSET(Paramètres!$H$2,MATCH($B40,Paramètres!$G$2:$G$6,0)-1,MOD(J$38+5,28)),"") | ... AG40: =IF(COUNTIF(fériés,AG$38)=0,OFFSET(Paramètres!$H$2,MATCH($B40,Paramètres!$G$2:$G$6,0)-1,MOD(AG$38+5,28)),"") -> 0
B41: =Paramètres!$G$4 -> Personne3 | C41: =IF(COUNTIF(fériés,C$38)=0,OFFSET(Paramètres!$H$2,MATCH($B41,Paramètres!$G$2:$G$6,0)-1,MOD(C$38+5,28)),"") | D41: =IF(COUNTIF(fériés,D$38)=0,OFFSET(Paramètres!$H$2,MATCH($B41,Paramètres!$G$2:$G$6,0)-1,MOD(D$38+5,28)),"") | E41: =IF(COUNTIF(fériés,E$38)=0,OFFSET(Paramètres!$H$2,MATCH($B41,Paramètres!$G$2:$G$6,0)-1,MOD(E$38+5,28)),"") -> 0 | F41: =IF(COUNTIF(fériés,F$38)=0,OFFSET(Paramètres!$H$2,MATCH($B41,Paramètres!$G$2:$G$6,0)-1,MOD(F$38+5,28)),"") -> 0 | G41: =IF(COUNTIF(fériés,G$38)=0,OFFSET(Paramètres!$H$2,MATCH($B41,Paramètres!$G$2:$G$6,0)-1,MOD(G$38+5,28)),"") -> A | H41: =IF(COUNTIF(fériés,H$38)=0,OFFSET(Paramètres!$H$2,MATCH($B41,Paramètres!$G$2:$G$6,0)-1,MOD(H$38+5,28)),"") -> A | I41: =IF(COUNTIF(fériés,I$38)=0,OFFSET(Paramètres!$H$2,MATCH($B41,Paramètres!$G$2:$G$6,0)-1,MOD(I$38+5,28)),"") -> A | J41: =IF(COUNTIF(fériés,J$38)=0,OFFSET(Paramètres!$H$2,MATCH($B41,Paramètres!$G$2:$G$6,0)-1,MOD(J$38+5,28)),"") | ... AG41: =IF(COUNTIF(fériés,AG$38)=0,OFFSET(Paramètres!$H$2,MATCH($B41,Paramètres!$G$2:$G$6,0)-1,MOD(AG$38+5,28)),"") -> 0
B42: =Paramètres!$G$5 -> Personne4 | C42: {=IF(COUNTIF(fériés,C$38)=1, IF(AND(INDIRECT(ADDRESS(ROW(),COLUMN()-1))="0", INDIRECT(ADDRESS(ROW(),COLUMN()-2))="0"), "0", "M" ), IF(OFFSET(Paramètres!$H$2,MATCH($B42,Paramètres!$G$2:$G$6,0)-1,MOD(C$38+5,28))="M", "M", "0" ) )} -> M | D42: {=IF(COUNTIF(fériés,D$38)=1, IF(AND(INDIRECT(ADDRESS(ROW(),COLUMN()-1))="0", INDIRECT(ADDRESS(ROW(),COLUMN()-2))="0"), "0", "M" ), IF(OFFSET(Paramètres!$H$2,MATCH($B42,Paramètres!$G$2:$G$6,0)-1,MOD(D$38+5,28))="M", "M", "0" ) )} -> M | E42: {=IF(COUNTIF(fériés,E$38)=1, IF(AND(INDIRECT(ADDRESS(ROW(),COLUMN()-1))="0", INDIRECT(ADDRESS(ROW(),COLUMN()-2))="0"), "0", "M" ), IF(OFFSET(Paramètres!$H$2,MATCH($B42,Paramètres!$G$2:$G$6,0)-1,MOD(E$38+5,28))="M", "M", "0" ) )} -> M | F42: {=IF(COUNTIF(fériés,F$38)=1, IF(AND(INDIRECT(ADDRESS(ROW(),COLUMN()-1))="0", INDIRECT(ADDRESS(ROW(),COLUMN()-2))="0"), "0", "M" ), IF(OFFSET(Paramètres!$H$2,MATCH($B42,Paramètres!$G$2:$G$6,0)-1,MOD(F$38+5,28))="M", "M", "0" ) )} -> M | G42: {=IF(COUNTIF(fériés,G$38)=1, IF(AND(INDIRECT(ADDRESS(ROW(),COLUMN()-1))="0", INDIRECT(ADDRESS(ROW(),COLUMN()-2))="0"), "0", "M" ), IF(OFFSET(Paramètres!$H$2,MATCH($B42,Paramètres!$G$2:$G$6,0)-1,MOD(G$38+5,28))="M", "M", "0" ) )} -> 0 | H42: {=IF(COUNTIF(fériés,H$38)=1, IF(AND(INDIRECT(ADDRESS(ROW(),COLUMN()-1))="0", INDIRECT(ADDRESS(ROW(),COLUMN()-2))="0"), "0", "M" ), IF(OFFSET(Paramètres!$H$2,MATCH($B42,Paramètres!$G$2:$G$6,0)-1,MOD(H$38+5,28))="M", "M", "0" ) )} -> 0 | I42: {=IF(COUNTIF(fériés,I$38)=1, IF(AND(INDIRECT(ADDRESS(ROW(),COLUMN()-1))="0", INDIRECT(ADDRESS(ROW(),COLUMN()-2))="0"), "0", "M" ), IF(OFFSET(Paramètres!$H$2,MATCH($B42,Paramètres!$G$2:$G$6,0)-1,MOD(I$38+5,28))="M", "M", "0" ) )} -> 0 | J42: {=IF(COUNTIF(fériés,J$38)=1, IF(AND(INDIRECT(ADDRESS(ROW(),COLUMN()-1))="0", INDIRECT(ADDRESS(ROW(),COLUMN()-2))="0"), "0", "M" ), IF(OFFSET(Paramètres!$H$2,MATCH($B42,Paramètres!$G$2:$G$6,0)-1,MOD(J$38+5,28))="M", "M", "0" ) )} -> 0 | ... AG42: {=IF(COUNTIF(fériés,AG$38)=1, IF(AND(INDIRECT(ADDRESS(ROW(),COLUMN()-1))="0", INDIRECT(ADDRESS(ROW(),COLUMN()-2))="0"), "0", "M" ), IF(OFFSET(Paramètres!$H$2,MATCH($B42,Paramètres!$G$2:$G$6,0)-1,MOD(AG$38+5,28))="M", "M", "0" ) )} -> M
B43: =Paramètres!$G$6 -> Personne5 | C43: {=IF(COUNTIF(fériés,C$38)=1, IF(AND(INDIRECT(ADDRESS(ROW(),COLUMN()-1))="0", INDIRECT(ADDRESS(ROW(),COLUMN()-2))="0"), "0", "M" ), IF(OFFSET(Paramètres!$H$2,MATCH($B43,Paramètres!$G$2:$G$6,0)-1,MOD(C$38+5,28))="M", "M", "0" ) )} -> M | D43: {=IF(COUNTIF(fériés,D$38)=1, IF(AND(INDIRECT(ADDRESS(ROW(),COLUMN()-1))="0", INDIRECT(ADDRESS(ROW(),COLUMN()-2))="0"), "0", "M" ), IF(OFFSET(Paramètres!$H$2,MATCH($B43,Paramètres!$G$2:$G$6,0)-1,MOD(D$38+5,28))="M", "M", "0" ) )} -> M | E43: {=IF(COUNTIF(fériés,E$38)=1, IF(AND(INDIRECT(ADDRESS(ROW(),COLUMN()-1))="0", INDIRECT(ADDRESS(ROW(),COLUMN()-2))="0"), "0", "M" ), IF(OFFSET(Paramètres!$H$2,MATCH($B43,Paramètres!$G$2:$G$6,0)-1,MOD(E$38+5,28))="M", "M", "0" ) )} -> M | F43: {=IF(COUNTIF(fériés,F$38)=1, IF(AND(INDIRECT(ADDRESS(ROW(),COLUMN()-1))="0", INDIRECT(ADDRESS(ROW(),COLUMN()-2))="0"), "0", "M" ), IF(OFFSET(Paramètres!$H$2,MATCH($B43,Paramètres!$G$2:$G$6,0)-1,MOD(F$38+5,28))="M", "M", "0" ) )} -> M | G43: {=IF(COUNTIF(fériés,G$38)=1, IF(AND(INDIRECT(ADDRESS(ROW(),COLUMN()-1))="0", INDIRECT(ADDRESS(ROW(),COLUMN()-2))="0"), "0", "M" ), IF(OFFSET(Paramètres!$H$2,MATCH($B43,Paramètres!$G$2:$G$6,0)-1,MOD(G$38+5,28))="M", "M", "0" ) )} -> 0 | H43: {=IF(COUNTIF(fériés,H$38)=1, IF(AND(INDIRECT(ADDRESS(ROW(),COLUMN()-1))="0", INDIRECT(ADDRESS(ROW(),COLUMN()-2))="0"), "0", "M" ), IF(OFFSET(Paramètres!$H$2,MATCH($B43,Paramètres!$G$2:$G$6,0)-1,MOD(H$38+5,28))="M", "M", "0" ) )} -> 0 | I43: {=IF(COUNTIF(fériés,I$38)=1, IF(AND(INDIRECT(ADDRESS(ROW(),COLUMN()-1))="0", INDIRECT(ADDRESS(ROW(),COLUMN()-2))="0"), "0", "M" ), IF(OFFSET(Paramètres!$H$2,MATCH($B43,Paramètres!$G$2:$G$6,0)-1,MOD(I$38+5,28))="M", "M", "0" ) )} -> 0 | J43: {=IF(COUNTIF(fériés,J$38)=1, IF(AND(INDIRECT(ADDRESS(ROW(),COLUMN()-1))="0", INDIRECT(ADDRESS(ROW(),COLUMN()-2))="0"), "0", "M" ), IF(OFFSET(Paramètres!$H$2,MATCH($B43,Paramètres!$G$2:$G$6,0)-1,MOD(J$38+5,28))="M", "M", "0" ) )} -> 0 | ... AG43: {=IF(COUNTIF(fériés,AG$38)=1, IF(AND(INDIRECT(ADDRESS(ROW(),COLUMN()-1))="0", INDIRECT(ADDRESS(ROW(),COLUMN()-2))="0"), "0", "M" ), IF(OFFSET(Paramètres!$H$2,MATCH($B43,Paramètres!$G$2:$G$6,0)-1,MOD(AG$38+5,28))="M", "M", "0" ) )} -> M
B44: =Paramètres!$G$5 -> Personne4 | C44: =_xlfn.LET( _xlpm.dateCourante,C$38, _xlpm.jourSemaine,WEEKDAY(_xlpm.dateCourante,2), _xlpm.estFerie,COUNTIF(fériés,_xlpm.dateCourante)=1, _xlpm.planLigne,C42, _xlpm.jourAvant,OFFSET(_xlpm.planLigne,0,-1), _xlpm.jourSuivant1,OFFSET(_xlpm.planLigne,0,1), _xlpm.jourSuivant2,OFFSET(_xlpm.planLigne,0,2), _xlpm.jourSuivant3,OFFSET(_xlpm.planLigne,0,3), _xlpm.estTravaillePlan,IFERROR(OFFSET(Paramètres!$H$2, MATCH($B44,Paramètres!$G$2:$G$6,0)-1, MOD(_xlpm.dateCourante+5,28)),""), IF(_xlpm.estFerie, IF(_xlpm.jourSemaine=5, IF(AND(OR(_xlpm.jourSuivant1="M",COUNTIF(fériés,_xlpm.dateCourante-1)=1), OR(_xlpm.jourSuivant2<>"0",_xlpm.jourSuivant3<>"0")), "M","0"), IF(_xlpm.jourSemaine=4, IF(AND(COUNTIF(fériés,_xlpm.dateCourante+1)=1, OR(_xlpm.jourSuivant2<>"0",_xlpm.jourSuivant3<>"0")), "M","0"), IF(_xlpm.jourSemaine=1, IF(_xlpm.jourAvant="M","M","0"), "0"))), IF(_xlpm.estTravaillePlan="M","M","0") )) -> M | D44: =_xlfn.LET( _xlpm.dateCourante,D$38, _xlpm.jourSemaine,WEEKDAY(_xlpm.dateCourante,2), _xlpm.estFerie,COUNTIF(fériés,_xlpm.dateCourante)=1, _xlpm.planLigne,D42, _xlpm.jourAvant,OFFSET(_xlpm.planLigne,0,-1), _xlpm.jourSuivant1,OFFSET(_xlpm.planLigne,0,1), _xlpm.jourSuivant2,OFFSET(_xlpm.planLigne,0,2), _xlpm.jourSuivant3,OFFSET(_xlpm.planLigne,0,3), _xlpm.estTravaillePlan,IFERROR(OFFSET(Paramètres!$H$2, MATCH($B44,Paramètres!$G$2:$G$6,0)-1, MOD(_xlpm.dateCourante+5,28)),""), IF(_xlpm.estFerie, IF(_xlpm.jourSemaine=5, IF(AND(OR(_xlpm.jourSuivant1="M",COUNTIF(fériés,_xlpm.dateCourante-1)=1), OR(_xlpm.jourSuivant2<>"0",_xlpm.jourSuivant3<>"0")), "M","0"), IF(_xlpm.jourSemaine=4, IF(AND(COUNTIF(fériés,_xlpm.dateCourante+1)=1, OR(_xlpm.jourSuivant2<>"0",_xlpm.jourSuivant3<>"0")), "M","0"), IF(_xlpm.jourSemaine=1, IF(_xlpm.jourAvant="M","M","0"), "0"))), IF(_xlpm.estTravaillePlan="M","M","0") )) -> M | E44: =_xlfn.LET( _xlpm.dateCourante,E$38, _xlpm.jourSemaine,WEEKDAY(_xlpm.dateCourante,2), _xlpm.estFerie,COUNTIF(fériés,_xlpm.dateCourante)=1, _xlpm.planLigne,E42, _xlpm.jourAvant,OFFSET(_xlpm.planLigne,0,-1), _xlpm.jourSuivant1,OFFSET(_xlpm.planLigne,0,1), _xlpm.jourSuivant2,OFFSET(_xlpm.planLigne,0,2), _xlpm.jourSuivant3,OFFSET(_xlpm.planLigne,0,3), _xlpm.estTravaillePlan,IFERROR(OFFSET(Paramètres!$H$2, MATCH($B44,Paramètres!$G$2:$G$6,0)-1, MOD(_xlpm.dateCourante+5,28)),""), IF(_xlpm.estFerie, IF(_xlpm.jourSemaine=5, IF(AND(OR(_xlpm.jourSuivant1="M",COUNTIF(fériés,_xlpm.dateCourante-1)=1), OR(_xlpm.jourSuivant2<>"0",_xlpm.jourSuivant3<>"0")), "M","0"), IF(_xlpm.jourSemaine=4, IF(AND(COUNTIF(fériés,_xlpm.dateCourante+1)=1, OR(_xlpm.jourSuivant2<>"0",_xlpm.jourSuivant3<>"0")), "M","0"), IF(_xlpm.jourSemaine=1, IF(_xlpm.jourAvant="M","M","0"), "0"))), IF(_xlpm.estTravaillePlan="M","M","0") )) -> M | F44: =_xlfn.LET( _xlpm.dateCourante,F$38, _xlpm.jourSemaine,WEEKDAY(_xlpm.dateCourante,2), _xlpm.estFerie,COUNTIF(fériés,_xlpm.dateCourante)=1, _xlpm.planLigne,F42, _xlpm.jourAvant,OFFSET(_xlpm.planLigne,0,-1), _xlpm.jourSuivant1,OFFSET(_xlpm.planLigne,0,1), _xlpm.jourSuivant2,OFFSET(_xlpm.planLigne,0,2), _xlpm.jourSuivant3,OFFSET(_xlpm.planLigne,0,3), _xlpm.estTravaillePlan,IFERROR(OFFSET(Paramètres!$H$2, MATCH($B44,Paramètres!$G$2:$G$6,0)-1, MOD(_xlpm.dateCourante+5,28)),""), IF(_xlpm.estFerie, IF(_xlpm.jourSemaine=5, IF(AND(OR(_xlpm.jourSuivant1="M",COUNTIF(fériés,_xlpm.dateCourante-1)=1), OR(_xlpm.jourSuivant2<>"0",_xlpm.jourSuivant3<>"0")), "M","0"), IF(_xlpm.jourSemaine=4, IF(AND(COUNTIF(fériés,_xlpm.dateCourante+1)=1, OR(_xlpm.jourSuivant2<>"0",_xlpm.jourSuivant3<>"0")), "M","0"), IF(_xlpm.jourSemaine=1, IF(_xlpm.jourAvant="M","M","0"), "0"))), IF(_xlpm.estTravaillePlan="M","M","0") )) -> M | G44: =_xlfn.LET( _xlpm.dateCourante,G$38, _xlpm.jourSemaine,WEEKDAY(_xlpm.dateCourante,2), _xlpm.estFerie,COUNTIF(fériés,_xlpm.dateCourante)=1, _xlpm.planLigne,G42, _xlpm.jourAvant,OFFSET(_xlpm.planLigne,0,-1), _xlpm.jourSuivant1,OFFSET(_xlpm.planLigne,0,1), _xlpm.jourSuivant2,OFFSET(_xlpm.planLigne,0,2), _xlpm.jourSuivant3,OFFSET(_xlpm.planLigne,0,3), _xlpm.estTravaillePlan,IFERROR(OFFSET(Paramètres!$H$2, MATCH($B44,Paramètres!$G$2:$G$6,0)-1, MOD(_xlpm.dateCourante+5,28)),""), IF(_xlpm.estFerie, IF(_xlpm.jourSemaine=5, IF(AND(OR(_xlpm.jourSuivant1="M",COUNTIF(fériés,_xlpm.dateCourante-1)=1), OR(_xlpm.jourSuivant2<>"0",_xlpm.jourSuivant3<>"0")), "M","0"), IF(_xlpm.jourSemaine=4, IF(AND(COUNTIF(fériés,_xlpm.dateCourante+1)=1, OR(_xlpm.jourSuivant2<>"0",_xlpm.jourSuivant3<>"0")), "M","0"), IF(_xlpm.jourSemaine=1, IF(_xlpm.jourAvant="M","M","0"), "0"))), IF(_xlpm.estTravaillePlan="M","M","0") )) -> 0 | H44: =_xlfn.LET( _xlpm.dateCourante,H$38, _xlpm.jourSemaine,WEEKDAY(_xlpm.dateCourante,2), _xlpm.estFerie,COUNTIF(fériés,_xlpm.dateCourante)=1, _xlpm.planLigne,H42, _xlpm.jourAvant,OFFSET(_xlpm.planLigne,0,-1), _xlpm.jourSuivant1,OFFSET(_xlpm.planLigne,0,1), _xlpm.jourSuivant2,OFFSET(_xlpm.planLigne,0,2), _xlpm.jourSuivant3,OFFSET(_xlpm.planLigne,0,3), _xlpm.estTravaillePlan,IFERROR(OFFSET(Paramètres!$H$2, MATCH($B44,Paramètres!$G$2:$G$6,0)-1, MOD(_xlpm.dateCourante+5,28)),""), IF(_xlpm.estFerie, IF(_xlpm.jourSemaine=5, IF(AND(OR(_xlpm.jourSuivant1="M",COUNTIF(fériés,_xlpm.dateCourante-1)=1), OR(_xlpm.jourSuivant2<>"0",_xlpm.jourSuivant3<>"0")), "M","0"), IF(_xlpm.jourSemaine=4, IF(AND(COUNTIF(fériés,_xlpm.dateCourante+1)=1, OR(_xlpm.jourSuivant2<>"0",_xlpm.jourSuivant3<>"0")), "M","0"), IF(_xlpm.jourSemaine=1, IF(_xlpm.jourAvant="M","M","0"), "0"))), IF(_xlpm.estTravaillePlan="M","M","0") )) -> 0 | I44: =_xlfn.LET( _xlpm.dateCourante,I$38, _xlpm.jourSemaine,WEEKDAY(_xlpm.dateCourante,2), _xlpm.estFerie,COUNTIF(fériés,_xlpm.dateCourante)=1, _xlpm.planLigne,I42, _xlpm.jourAvant,OFFSET(_xlpm.planLigne,0,-1), _xlpm.jourSuivant1,OFFSET(_xlpm.planLigne,0,1), _xlpm.jourSuivant2,OFFSET(_xlpm.planLigne,0,2), _xlpm.jourSuivant3,OFFSET(_xlpm.planLigne,0,3), _xlpm.estTravaillePlan,IFERROR(OFFSET(Paramètres!$H$2, MATCH($B44,Paramètres!$G$2:$G$6,0)-1, MOD(_xlpm.dateCourante+5,28)),""), IF(_xlpm.estFerie, IF(_xlpm.jourSemaine=5, IF(AND(OR(_xlpm.jourSuivant1="M",COUNTIF(fériés,_xlpm.dateCourante-1)=1), OR(_xlpm.jourSuivant2<>"0",_xlpm.jourSuivant3<>"0")), "M","0"), IF(_xlpm.jourSemaine=4, IF(AND(COUNTIF(fériés,_xlpm.dateCourante+1)=1, OR(_xlpm.jourSuivant2<>"0",_xlpm.jourSuivant3<>"0")), "M","0"), IF(_xlpm.jourSemaine=1, IF(_xlpm.jourAvant="M","M","0"), "0"))), IF(_xlpm.estTravaillePlan="M","M","0") )) -> 0 | J44: =_xlfn.LET( _xlpm.dateCourante,J$38, _xlpm.jourSemaine,WEEKDAY(_xlpm.dateCourante,2), _xlpm.estFerie,COUNTIF(fériés,_xlpm.dateCourante)=1, _xlpm.planLigne,J42, _xlpm.jourAvant,OFFSET(_xlpm.planLigne,0,-1), _xlpm.jourSuivant1,OFFSET(_xlpm.planLigne,0,1), _xlpm.jourSuivant2,OFFSET(_xlpm.planLigne,0,2), _xlpm.jourSuivant3,OFFSET(_xlpm.planLigne,0,3), _xlpm.estTravaillePlan,IFERROR(OFFSET(Paramètres!$H$2, MATCH($B44,Paramètres!$G$2:$G$6,0)-1, MOD(_xlpm.dateCourante+5,28)),""), IF(_xlpm.estFerie, IF(_xlpm.jourSemaine=5, IF(AND(OR(_xlpm.jourSuivant1="M",COUNTIF(fériés,_xlpm.dateCourante-1)=1), OR(_xlpm.jourSuivant2<>"0",_xlpm.jourSuivant3<>"0")), "M","0"), IF(_xlpm.jourSemaine=4, IF(AND(COUNTIF(fériés,_xlpm.dateCourante+1)=1, OR(_xlpm.jourSuivant2<>"0",_xlpm.jourSuivant3<>"0")), "M","0"), IF(_xlpm.jourSemaine=1, IF(_xlpm.jourAvant="M","M","0"), "0"))), IF(_xlpm.estTravaillePlan="M","M","0") )) -> 0 | ... AG44: =_xlfn.LET( _xlpm.dateCourante,AG$38, _xlpm.jourSemaine,WEEKDAY(_xlpm.dateCourante,2), _xlpm.estFerie,COUNTIF(fériés,_xlpm.dateCourante)=1, _xlpm.planLigne,AG42, _xlpm.jourAvant,OFFSET(_xlpm.planLigne,0,-1), _xlpm.jourSuivant1,OFFSET(_xlpm.planLigne,0,1), _xlpm.jourSuivant2,OFFSET(_xlpm.planLigne,0,2), _xlpm.jourSuivant3,OFFSET(_xlpm.planLigne,0,3), _xlpm.estTravaillePlan,IFERROR(OFFSET(Paramètres!$H$2, MATCH($B44,Paramètres!$G$2:$G$6,0)-1, MOD(_xlpm.dateCourante+5,28)),""), IF(_xlpm.estFerie, IF(_xlpm.jourSemaine=5, IF(AND(OR(_xlpm.jourSuivant1="M",COUNTIF(fériés,_xlpm.dateCourante-1)=1), OR(_xlpm.jourSuivant2<>"0",_xlpm.jourSuivant3<>"0")), "M","0"), IF(_xlpm.jourSemaine=4, IF(AND(COUNTIF(fériés,_xlpm.dateCourante+1)=1, OR(_xlpm.jourSuivant2<>"0",_xlpm.jourSuivant3<>"0")), "M","0"), IF(_xlpm.jourSemaine=1, IF(_xlpm.jourAvant="M","M","0"), "0"))), IF(_xlpm.estTravaillePlan="M","M","0") )) -> M
B45: =Paramètres!$G$6 -> Personne5 | C45: =_xlfn.LET( _xlpm.dateCourante,C$38, _xlpm.jourSemaine,WEEKDAY(_xlpm.dateCourante,2), _xlpm.estFerie,COUNTIF(fériés,_xlpm.dateCourante)=1, _xlpm.planLigne,C43, _xlpm.jourAvant,OFFSET(_xlpm.planLigne,0,-1), _xlpm.jourSuivant1,OFFSET(_xlpm.planLigne,0,1), _xlpm.jourSuivant2,OFFSET(_xlpm.planLigne,0,2), _xlpm.jourSuivant3,OFFSET(_xlpm.planLigne,0,3), _xlpm.estTravaillePlan,IFERROR(OFFSET(Paramètres!$H$2, MATCH($B45,Paramètres!$G$2:$G$6,0)-1, MOD(_xlpm.dateCourante+5,28)),""), IF(_xlpm.estFerie, IF(_xlpm.jourSemaine=5, IF(AND(OR(_xlpm.jourSuivant1="M",COUNTIF(fériés,_xlpm.dateCourante-1)=1), OR(_xlpm.jourSuivant2<>"0",_xlpm.jourSuivant3<>"0")), "M","0"), IF(_xlpm.jourSemaine=4, IF(AND(COUNTIF(fériés,_xlpm.dateCourante+1)=1, OR(_xlpm.jourSuivant2<>"0",_xlpm.jourSuivant3<>"0")), "M","0"), IF(_xlpm.jourSemaine=1, IF(_xlpm.jourAvant="M","M","0"), "0"))), IF(_xlpm.estTravaillePlan="M","M","0") )) -> M | D45: =_xlfn.LET( _xlpm.dateCourante,D$38, _xlpm.jourSemaine,WEEKDAY(_xlpm.dateCourante,2), _xlpm.estFerie,COUNTIF(fériés,_xlpm.dateCourante)=1, _xlpm.planLigne,D43, _xlpm.jourAvant,OFFSET(_xlpm.planLigne,0,-1), _xlpm.jourSuivant1,OFFSET(_xlpm.planLigne,0,1), _xlpm.jourSuivant2,OFFSET(_xlpm.planLigne,0,2), _xlpm.jourSuivant3,OFFSET(_xlpm.planLigne,0,3), _xlpm.estTravaillePlan,IFERROR(OFFSET(Paramètres!$H$2, MATCH($B45,Paramètres!$G$2:$G$6,0)-1, MOD(_xlpm.dateCourante+5,28)),""), IF(_xlpm.estFerie, IF(_xlpm.jourSemaine=5, IF(AND(OR(_xlpm.jourSuivant1="M",COUNTIF(fériés,_xlpm.dateCourante-1)=1), OR(_xlpm.jourSuivant2<>"0",_xlpm.jourSuivant3<>"0")), "M","0"), IF(_xlpm.jourSemaine=4, IF(AND(COUNTIF(fériés,_xlpm.dateCourante+1)=1, OR(_xlpm.jourSuivant2<>"0",_xlpm.jourSuivant3<>"0")), "M","0"), IF(_xlpm.jourSemaine=1, IF(_xlpm.jourAvant="M","M","0"), "0"))), IF(_xlpm.estTravaillePlan="M","M","0") )) -> M | E45: =_xlfn.LET( _xlpm.dateCourante,E$38, _xlpm.jourSemaine,WEEKDAY(_xlpm.dateCourante,2), _xlpm.estFerie,COUNTIF(fériés,_xlpm.dateCourante)=1, _xlpm.planLigne,E43, _xlpm.jourAvant,OFFSET(_xlpm.planLigne,0,-1), _xlpm.jourSuivant1,OFFSET(_xlpm.planLigne,0,1), _xlpm.jourSuivant2,OFFSET(_xlpm.planLigne,0,2), _xlpm.jourSuivant3,OFFSET(_xlpm.planLigne,0,3), _xlpm.estTravaillePlan,IFERROR(OFFSET(Paramètres!$H$2, MATCH($B45,Paramètres!$G$2:$G$6,0)-1, MOD(_xlpm.dateCourante+5,28)),""), IF(_xlpm.estFerie, IF(_xlpm.jourSemaine=5, IF(AND(OR(_xlpm.jourSuivant1="M",COUNTIF(fériés,_xlpm.dateCourante-1)=1), OR(_xlpm.jourSuivant2<>"0",_xlpm.jourSuivant3<>"0")), "M","0"), IF(_xlpm.jourSemaine=4, IF(AND(COUNTIF(fériés,_xlpm.dateCourante+1)=1, OR(_xlpm.jourSuivant2<>"0",_xlpm.jourSuivant3<>"0")), "M","0"), IF(_xlpm.jourSemaine=1, IF(_xlpm.jourAvant="M","M","0"), "0"))), IF(_xlpm.estTravaillePlan="M","M","0") )) -> M | F45: =_xlfn.LET( _xlpm.dateCourante,F$38, _xlpm.jourSemaine,WEEKDAY(_xlpm.dateCourante,2), _xlpm.estFerie,COUNTIF(fériés,_xlpm.dateCourante)=1, _xlpm.planLigne,F43, _xlpm.jourAvant,OFFSET(_xlpm.planLigne,0,-1), _xlpm.jourSuivant1,OFFSET(_xlpm.planLigne,0,1), _xlpm.jourSuivant2,OFFSET(_xlpm.planLigne,0,2), _xlpm.jourSuivant3,OFFSET(_xlpm.planLigne,0,3), _xlpm.estTravaillePlan,IFERROR(OFFSET(Paramètres!$H$2, MATCH($B45,Paramètres!$G$2:$G$6,0)-1, MOD(_xlpm.dateCourante+5,28)),""), IF(_xlpm.estFerie, IF(_xlpm.jourSemaine=5, IF(AND(OR(_xlpm.jourSuivant1="M",COUNTIF(fériés,_xlpm.dateCourante-1)=1), OR(_xlpm.jourSuivant2<>"0",_xlpm.jourSuivant3<>"0")), "M","0"), IF(_xlpm.jourSemaine=4, IF(AND(COUNTIF(fériés,_xlpm.dateCourante+1)=1, OR(_xlpm.jourSuivant2<>"0",_xlpm.jourSuivant3<>"0")), "M","0"), IF(_xlpm.jourSemaine=1, IF(_xlpm.jourAvant="M","M","0"), "0"))), IF(_xlpm.estTravaillePlan="M","M","0") )) -> M | G45: =_xlfn.LET( _xlpm.dateCourante,G$38, _xlpm.jourSemaine,WEEKDAY(_xlpm.dateCourante,2), _xlpm.estFerie,COUNTIF(fériés,_xlpm.dateCourante)=1, _xlpm.planLigne,G43, _xlpm.jourAvant,OFFSET(_xlpm.planLigne,0,-1), _xlpm.jourSuivant1,OFFSET(_xlpm.planLigne,0,1), _xlpm.jourSuivant2,OFFSET(_xlpm.planLigne,0,2), _xlpm.jourSuivant3,OFFSET(_xlpm.planLigne,0,3), _xlpm.estTravaillePlan,IFERROR(OFFSET(Paramètres!$H$2, MATCH($B45,Paramètres!$G$2:$G$6,0)-1, MOD(_xlpm.dateCourante+5,28)),""), IF(_xlpm.estFerie, IF(_xlpm.jourSemaine=5, IF(AND(OR(_xlpm.jourSuivant1="M",COUNTIF(fériés,_xlpm.dateCourante-1)=1), OR(_xlpm.jourSuivant2<>"0",_xlpm.jourSuivant3<>"0")), "M","0"), IF(_xlpm.jourSemaine=4, IF(AND(COUNTIF(fériés,_xlpm.dateCourante+1)=1, OR(_xlpm.jourSuivant2<>"0",_xlpm.jourSuivant3<>"0")), "M","0"), IF(_xlpm.jourSemaine=1, IF(_xlpm.jourAvant="M","M","0"), "0"))), IF(_xlpm.estTravaillePlan="M","M","0") )) -> 0 | H45: =_xlfn.LET( _xlpm.dateCourante,H$38, _xlpm.jourSemaine,WEEKDAY(_xlpm.dateCourante,2), _xlpm.estFerie,COUNTIF(fériés,_xlpm.dateCourante)=1, _xlpm.planLigne,H43, _xlpm.jourAvant,OFFSET(_xlpm.planLigne,0,-1), _xlpm.jourSuivant1,OFFSET(_xlpm.planLigne,0,1), _xlpm.jourSuivant2,OFFSET(_xlpm.planLigne,0,2), _xlpm.jourSuivant3,OFFSET(_xlpm.planLigne,0,3), _xlpm.estTravaillePlan,IFERROR(OFFSET(Paramètres!$H$2, MATCH($B45,Paramètres!$G$2:$G$6,0)-1, MOD(_xlpm.dateCourante+5,28)),""), IF(_xlpm.estFerie, IF(_xlpm.jourSemaine=5, IF(AND(OR(_xlpm.jourSuivant1="M",COUNTIF(fériés,_xlpm.dateCourante-1)=1), OR(_xlpm.jourSuivant2<>"0",_xlpm.jourSuivant3<>"0")), "M","0"), IF(_xlpm.jourSemaine=4, IF(AND(COUNTIF(fériés,_xlpm.dateCourante+1)=1, OR(_xlpm.jourSuivant2<>"0",_xlpm.jourSuivant3<>"0")), "M","0"), IF(_xlpm.jourSemaine=1, IF(_xlpm.jourAvant="M","M","0"), "0"))), IF(_xlpm.estTravaillePlan="M","M","0") )) -> 0 | I45: =_xlfn.LET( _xlpm.dateCourante,I$38, _xlpm.jourSemaine,WEEKDAY(_xlpm.dateCourante,2), _xlpm.estFerie,COUNTIF(fériés,_xlpm.dateCourante)=1, _xlpm.planLigne,I43, _xlpm.jourAvant,OFFSET(_xlpm.planLigne,0,-1), _xlpm.jourSuivant1,OFFSET(_xlpm.planLigne,0,1), _xlpm.jourSuivant2,OFFSET(_xlpm.planLigne,0,2), _xlpm.jourSuivant3,OFFSET(_xlpm.planLigne,0,3), _xlpm.estTravaillePlan,IFERROR(OFFSET(Paramètres!$H$2, MATCH($B45,Paramètres!$G$2:$G$6,0)-1, MOD(_xlpm.dateCourante+5,28)),""), IF(_xlpm.estFerie, IF(_xlpm.jourSemaine=5, IF(AND(OR(_xlpm.jourSuivant1="M",COUNTIF(fériés,_xlpm.dateCourante-1)=1), OR(_xlpm.jourSuivant2<>"0",_xlpm.jourSuivant3<>"0")), "M","0"), IF(_xlpm.jourSemaine=4, IF(AND(COUNTIF(fériés,_xlpm.dateCourante+1)=1, OR(_xlpm.jourSuivant2<>"0",_xlpm.jourSuivant3<>"0")), "M","0"), IF(_xlpm.jourSemaine=1, IF(_xlpm.jourAvant="M","M","0"), "0"))), IF(_xlpm.estTravaillePlan="M","M","0") )) -> 0 | J45: =_xlfn.LET( _xlpm.dateCourante,J$38, _xlpm.jourSemaine,WEEKDAY(_xlpm.dateCourante,2), _xlpm.estFerie,COUNTIF(fériés,_xlpm.dateCourante)=1, _xlpm.planLigne,J43, _xlpm.jourAvant,OFFSET(_xlpm.planLigne,0,-1), _xlpm.jourSuivant1,OFFSET(_xlpm.planLigne,0,1), _xlpm.jourSuivant2,OFFSET(_xlpm.planLigne,0,2), _xlpm.jourSuivant3,OFFSET(_xlpm.planLigne,0,3), _xlpm.estTravaillePlan,IFERROR(OFFSET(Paramètres!$H$2, MATCH($B45,Paramètres!$G$2:$G$6,0)-1, MOD(_xlpm.dateCourante+5,28)),""), IF(_xlpm.estFerie, IF(_xlpm.jourSemaine=5, IF(AND(OR(_xlpm.jourSuivant1="M",COUNTIF(fériés,_xlpm.dateCourante-1)=1), OR(_xlpm.jourSuivant2<>"0",_xlpm.jourSuivant3<>"0")), "M","0"), IF(_xlpm.jourSemaine=4, IF(AND(COUNTIF(fériés,_xlpm.dateCourante+1)=1, OR(_xlpm.jourSuivant2<>"0",_xlpm.jourSuivant3<>"0")), "M","0"), IF(_xlpm.jourSemaine=1, IF(_xlpm.jourAvant="M","M","0"), "0"))), IF(_xlpm.estTravaillePlan="M","M","0") )) -> 0 | ... AG45: =_xlfn.LET( _xlpm.dateCourante,AG$38, _xlpm.jourSemaine,WEEKDAY(_xlpm.dateCourante,2), _xlpm.estFerie,COUNTIF(fériés,_xlpm.dateCourante)=1, _xlpm.planLigne,AG43, _xlpm.jourAvant,OFFSET(_xlpm.planLigne,0,-1), _xlpm.jourSuivant1,OFFSET(_xlpm.planLigne,0,1), _xlpm.jourSuivant2,OFFSET(_xlpm.planLigne,0,2), _xlpm.jourSuivant3,OFFSET(_xlpm.planLigne,0,3), _xlpm.estTravaillePlan,IFERROR(OFFSET(Paramètres!$H$2, MATCH($B45,Paramètres!$G$2:$G$6,0)-1, MOD(_xlpm.dateCourante+5,28)),""), IF(_xlpm.estFerie, IF(_xlpm.jourSemaine=5, IF(AND(OR(_xlpm.jourSuivant1="M",COUNTIF(fériés,_xlpm.dateCourante-1)=1), OR(_xlpm.jourSuivant2<>"0",_xlpm.jourSuivant3<>"0")), "M","0"), IF(_xlpm.jourSemaine=4, IF(AND(COUNTIF(fériés,_xlpm.dateCourante+1)=1, OR(_xlpm.jourSuivant2<>"0",_xlpm.jourSuivant3<>"0")), "M","0"), IF(_xlpm.jourSemaine=1, IF(_xlpm.jourAvant="M","M","0"), "0"))), IF(_xlpm.estTravaillePlan="M","M","0") )) -> M
B47: =DATE(an,6,1) -> 45809 | C47: =B47 -> 45809 | D47: =C47+1 -> 45810 | E47: =D47+1 -> 45811 | F47: =E47+1 -> 45812 | G47: =F47+1 -> 45813 | H47: =G47+1 -> 45814 | I47: =H47+1 -> 45815 | J47: =I47+1 -> 45816 | K47: =J47+1 -> 45817 | ... AF47: =AE47+1 -> 45838
B48: =Paramètres!$G$2 -> Personne1 | C48: =IF(COUNTIF(fériés,C$47)=0,OFFSET(Paramètres!$H$2,MATCH($B48,Paramètres!$G$2:$G$6,0)-1,MOD(C$47+5,28)),"") -> 0 | D48: =IF(COUNTIF(fériés,D$47)=0,OFFSET(Paramètres!$H$2,MATCH($B48,Paramètres!$G$2:$G$6,0)-1,MOD(D$47+5,28)),"") -> J | E48: =IF(COUNTIF(fériés,E$47)=0,OFFSET(Paramètres!$H$2,MATCH($B48,Paramètres!$G$2:$G$6,0)-1,MOD(E$47+5,28)),"") -> J | F48: =IF(COUNTIF(fériés,F$47)=0,OFFSET(Paramètres!$H$2,MATCH($B48,Paramètres!$G$2:$G$6,0)-1,MOD(F$47+5,28)),"") -> J | G48: =IF(COUNTIF(fériés,G$47)=0,OFFSET(Paramètres!$H$2,MATCH($B48,Paramètres!$G$2:$G$6,0)-1,MOD(G$47+5,28)),"") -> J | H48: =IF(COUNTIF(fériés,H$47)=0,OFFSET(Paramètres!$H$2,MATCH($B48,Paramètres!$G$2:$G$6,0)-1,MOD(H$47+5,28)),"") -> J | I48: =IF(COUNTIF(fériés,I$47)=0,OFFSET(Paramètres!$H$2,MATCH($B48,Paramètres!$G$2:$G$6,0)-1,MOD(I$47+5,28)),"") -> 0 | J48: =IF(COUNTIF(fériés,J$47)=0,OFFSET(Paramètres!$H$2,MATCH($B48,Paramètres!$G$2:$G$6,0)-1,MOD(J$47+5,28)),"") -> 0 | ... AF48: =IF(COUNTIF(fériés,AF$47)=0,OFFSET(Paramètres!$H$2,MATCH($B48,Paramètres!$G$2:$G$6,0)-1,MOD(AF$47+5,28)),"") -> J
B49: =Paramètres!$G$3 -> Personne2 | C49: =IF(COUNTIF(fériés,C$47)=0,OFFSET(Paramètres!$H$2,MATCH($B49,Paramètres!$G$2:$G$6,0)-1,MOD(C$47+5,28)),"") -> 0 | D49: =IF(COUNTIF(fériés,D$47)=0,OFFSET(Paramètres!$H$2,MATCH($B49,Paramètres!$G$2:$G$6,0)-1,MOD(D$47+5,28)),"") -> M | E49: =IF(COUNTIF(fériés,E$47)=0,OFFSET(Paramètres!$H$2,MATCH($B49,Paramètres!$G$2:$G$6,0)-1,MOD(E$47+5,28)),"") -> M | F49: =IF(COUNTIF(fériés,F$47)=0,OFFSET(Paramètres!$H$2,MATCH($B49,Paramètres!$G$2:$G$6,0)-1,MOD(F$47+5,28)),"") -> M | G49: =IF(COUNTIF(fériés,G$47)=0,OFFSET(Paramètres!$H$2,MATCH($B49,Paramètres!$G$2:$G$6,0)-1,MOD(G$47+5,28)),"") -> M | H49: =IF(COUNTIF(fériés,H$47)=0,OFFSET(Paramètres!$H$2,MATCH($B49,Paramètres!$G$2:$G$6,0)-1,MOD(H$47+5,28)),"") -> M | I49: =IF(COUNTIF(fériés,I$47)=0,OFFSET(Paramètres!$H$2,MATCH($B49,Paramètres!$G$2:$G$6,0)-1,MOD(I$47+5,28)),"") -> 0 | J49: =IF(COUNTIF(fériés,J$47)=0,OFFSET(Paramètres!$H$2,MATCH($B49,Paramètres!$G$2:$G$6,0)-1,MOD(J$47+5,28)),"") -> 0 | ... AF49: =IF(COUNTIF(fériés,AF$47)=0,OFFSET(Paramètres!$H$2,MATCH($B49,Paramètres!$G$2:$G$6,0)-1,MOD(AF$47+5,28)),"") -> M
B50: =Paramètres!$G$4 -> Personne3 | C50: =IF(COUNTIF(fériés,C$47)=0,OFFSET(Paramètres!$H$2,MATCH($B50,Paramètres!$G$2:$G$6,0)-1,MOD(C$47+5,28)),"") -> 0 | D50: =IF(COUNTIF(fériés,D$47)=0,OFFSET(Paramètres!$H$2,MATCH($B50,Paramètres!$G$2:$G$6,0)-1,MOD(D$47+5,28)),"") -> A | E50: =IF(COUNTIF(fériés,E$47)=0,OFFSET(Paramètres!$H$2,MATCH($B50,Paramètres!$G$2:$G$6,0)-1,MOD(E$47+5,28)),"") -> A | F50: =IF(COUNTIF(fériés,F$47)=0,OFFSET(Paramètres!$H$2,MATCH($B50,Paramètres!$G$2:$G$6,0)-1,MOD(F$47+5,28)),"") -> A | G50: =IF(COUNTIF(fériés,G$47)=0,OFFSET(Paramètres!$H$2,MATCH($B50,Paramètres!$G$2:$G$6,0)-1,MOD(G$47+5,28)),"") -> A | H50: =IF(COUNTIF(fériés,H$47)=0,OFFSET(Paramètres!$H$2,MATCH($B50,Paramètres!$G$2:$G$6,0)-1,MOD(H$47+5,28)),"") -> A | I50: =IF(COUNTIF(fériés,I$47)=0,OFFSET(Paramètres!$H$2,MATCH($B50,Paramètres!$G$2:$G$6,0)-1,MOD(I$47+5,28)),"") -> 0 | J50: =IF(COUNTIF(fériés,J$47)=0,OFFSET(Paramètres!$H$2,MATCH($B50,Paramètres!$G$2:$G$6,0)-1,MOD(J$47+5,28)),"") -> 0 | ... AF50: =IF(COUNTIF(fériés,AF$47)=0,OFFSET(Paramètres!$H$2,MATCH($B50,Paramètres!$G$2:$G$6,0)-1,MOD(AF$47+5,28)),"") -> A
B51: =Paramètres!$G$5 -> Personne4 | C51: {=IF(COUNTIF(fériés,C$47)=1, IF(AND(INDIRECT(ADDRESS(ROW(),COLUMN()-1))="0", INDIRECT(ADDRESS(ROW(),COLUMN()-2))="0"), "0", "M" ), IF(OFFSET(Paramètres!$H$2,MATCH($B51,Paramètres!$G$2:$G$6,0)-1,MOD(C$47+5,28))="M", "M", "0" ) )} -> M | D51: {=IF(COUNTIF(fériés,D$47)=1, IF(AND(INDIRECT(ADDRESS(ROW(),COLUMN()-1))="0", INDIRECT(ADDRESS(ROW(),COLUMN()-2))="0"), "0", "M" ), IF(OFFSET(Paramètres!$H$2,MATCH($B51,Paramètres!$G$2:$G$6,0)-1,MOD(D$47+5,28))="M", "M", "0" ) )} -> 0 | E51: {=IF(COUNTIF(fériés,E$47)=1, IF(AND(INDIRECT(ADDRESS(ROW(),COLUMN()-1))="0", INDIRECT(ADDRESS(ROW(),COLUMN()-2))="0"), "0", "M" ), IF(OFFSET(Paramètres!$H$2,MATCH($B51,Paramètres!$G$2:$G$6,0)-1,MOD(E$47+5,28))="M", "M", "0" ) )} -> 0 | F51: {=IF(COUNTIF(fériés,F$47)=1, IF(AND(INDIRECT(ADDRESS(ROW(),COLUMN()-1))="0", INDIRECT(ADDRESS(ROW(),COLUMN()-2))="0"), "0", "M" ), IF(OFFSET(Paramètres!$H$2,MATCH($B51,Paramètres!$G$2:$G$6,0)-1,MOD(F$47+5,28))="M", "M", "0" ) )} -> 0 | G51: {=IF(COUNTIF(fériés,G$47)=1, IF(AND(INDIRECT(ADDRESS(ROW(),COLUMN()-1))="0", INDIRECT(ADDRESS(ROW(),COLUMN()-2))="0"), "0", "M" ), IF(OFFSET(Paramètres!$H$2,MATCH($B51,Paramètres!$G$2:$G$6,0)-1,MOD(G$47+5,28))="M", "M", "0" ) )} -> 0 | H51: {=IF(COUNTIF(fériés,H$47)=1, IF(AND(INDIRECT(ADDRESS(ROW(),COLUMN()-1))="0", INDIRECT(ADDRESS(ROW(),COLUMN()-2))="0"), "0", "M" ), IF(OFFSET(Paramètres!$H$2,MATCH($B51,Paramètres!$G$2:$G$6,0)-1,MOD(H$47+5,28))="M", "M", "0" ) )} -> 0 | I51: {=IF(COUNTIF(fériés,I$47)=1, IF(AND(INDIRECT(ADDRESS(ROW(),COLUMN()-1))="0", INDIRECT(ADDRESS(ROW(),COLUMN()-2))="0"), "0", "M" ), IF(OFFSET(Paramètres!$H$2,MATCH($B51,Paramètres!$G$2:$G$6,0)-1,MOD(I$47+5,28))="M", "M", "0" ) )} -> 0 | J51: {=IF(COUNTIF(fériés,J$47)=1, IF(AND(INDIRECT(ADDRESS(ROW(),COLUMN()-1))="0", INDIRECT(ADDRESS(ROW(),COLUMN()-2))="0"), "0", "M" ), IF(OFFSET(Paramètres!$H$2,MATCH($B51,Paramètres!$G$2:$G$6,0)-1,MOD(J$47+5,28))="M", "M", "0" ) )} -> 0 | ... AF51: {=IF(COUNTIF(fériés,AF$47)=1, IF(AND(INDIRECT(ADDRESS(ROW(),COLUMN()-1))="0", INDIRECT(ADDRESS(ROW(),COLUMN()-2))="0"), "0", "M" ), IF(OFFSET(Paramètres!$H$2,MATCH($B51,Paramètres!$G$2:$G$6,0)-1,MOD(AF$47+5,28))="M", "M", "0" ) )} -> 0
B52: =Paramètres!$G$6 -> Personne5 | C52: {=IF(COUNTIF(fériés,C$47)=1, IF(AND(INDIRECT(ADDRESS(ROW(),COLUMN()-1))="0", INDIRECT(ADDRESS(ROW(),COLUMN()-2))="0"), "0", "M" ), IF(OFFSET(Paramètres!$H$2,MATCH($B52,Paramètres!$G$2:$G$6,0)-1,MOD(C$47+5,28))="M", "M", "0" ) )} -> M | D52: {=IF(COUNTIF(fériés,D$47)=1, IF(AND(INDIRECT(ADDRESS(ROW(),COLUMN()-1))="0", INDIRECT(ADDRESS(ROW(),COLUMN()-2))="0"), "0", "M" ), IF(OFFSET(Paramètres!$H$2,MATCH($B52,Paramètres!$G$2:$G$6,0)-1,MOD(D$47+5,28))="M", "M", "0" ) )} -> 0 | E52: {=IF(COUNTIF(fériés,E$47)=1, IF(AND(INDIRECT(ADDRESS(ROW(),COLUMN()-1))="0", INDIRECT(ADDRESS(ROW(),COLUMN()-2))="0"), "0", "M" ), IF(OFFSET(Paramètres!$H$2,MATCH($B52,Paramètres!$G$2:$G$6,0)-1,MOD(E$47+5,28))="M", "M", "0" ) )} -> 0 | F52: {=IF(COUNTIF(fériés,F$47)=1, IF(AND(INDIRECT(ADDRESS(ROW(),COLUMN()-1))="0", INDIRECT(ADDRESS(ROW(),COLUMN()-2))="0"), "0", "M" ), IF(OFFSET(Paramètres!$H$2,MATCH($B52,Paramètres!$G$2:$G$6,0)-1,MOD(F$47+5,28))="M", "M", "0" ) )} -> 0 | G52: {=IF(COUNTIF(fériés,G$47)=1, IF(AND(INDIRECT(ADDRESS(ROW(),COLUMN()-1))="0", INDIRECT(ADDRESS(ROW(),COLUMN()-2))="0"), "0", "M" ), IF(OFFSET(Paramètres!$H$2,MATCH($B52,Paramètres!$G$2:$G$6,0)-1,MOD(G$47+5,28))="M", "M", "0" ) )} -> 0 | H52: {=IF(COUNTIF(fériés,H$47)=1, IF(AND(INDIRECT(ADDRESS(ROW(),COLUMN()-1))="0", INDIRECT(ADDRESS(ROW(),COLUMN()-2))="0"), "0", "M" ), IF(OFFSET(Paramètres!$H$2,MATCH($B52,Paramètres!$G$2:$G$6,0)-1,MOD(H$47+5,28))="M", "M", "0" ) )} -> 0 | I52: {=IF(COUNTIF(fériés,I$47)=1, IF(AND(INDIRECT(ADDRESS(ROW(),COLUMN()-1))="0", INDIRECT(ADDRESS(ROW(),COLUMN()-2))="0"), "0", "M" ), IF(OFFSET(Paramètres!$H$2,MATCH($B52,Paramètres!$G$2:$G$6,0)-1,MOD(I$47+5,28))="M", "M", "0" ) )} -> 0 | J52: {=IF(COUNTIF(fériés,J$47)=1, IF(AND(INDIRECT(ADDRESS(ROW(),COLUMN()-1))="0", INDIRECT(ADDRESS(ROW(),COLUMN()-2))="0"), "0", "M" ), IF(OFFSET(Paramètres!$H$2,MATCH($B52,Paramètres!$G$2:$G$6,0)-1,MOD(J$47+5,28))="M", "M", "0" ) )} -> 0 | ... AF52: {=IF(COUNTIF(fériés,AF$47)=1, IF(AND(INDIRECT(ADDRESS(ROW(),COLUMN()-1))="0", INDIRECT(ADDRESS(ROW(),COLUMN()-2))="0"), "0", "M" ), IF(OFFSET(Paramètres!$H$2,MATCH($B52,Paramètres!$G$2:$G$6,0)-1,MOD(AF$47+5,28))="M", "M", "0" ) )} -> 0
B53: =Paramètres!$G$5 -> Personne4 | C53: =_xlfn.LET( _xlpm.dateCourante,C$47, _xlpm.jourSemaine,WEEKDAY(_xlpm.dateCourante,2), _xlpm.estFerie,COUNTIF(fériés,_xlpm.dateCourante)=1, _xlpm.planLigne,C51, _xlpm.jourAvant,OFFSET(_xlpm.planLigne,0,-1), _xlpm.jourSuivant1,OFFSET(_xlpm.planLigne,0,1), _xlpm.jourSuivant2,OFFSET(_xlpm.planLigne,0,2), _xlpm.jourSuivant3,OFFSET(_xlpm.planLigne,0,3), _xlpm.estTravaillePlan,IFERROR(OFFSET(Paramètres!$H$2, MATCH($B53,Paramètres!$G$2:$G$6,0)-1, MOD(_xlpm.dateCourante+5,28)),""), IF(_xlpm.estFerie, IF(_xlpm.jourSemaine=5, IF(AND(OR(_xlpm.jourSuivant1="M",COUNTIF(fériés,_xlpm.dateCourante-1)=1), OR(_xlpm.jourSuivant2<>"0",_xlpm.jourSuivant3<>"0")), "M","0"), IF(_xlpm.jourSemaine=4, IF(AND(COUNTIF(fériés,_xlpm.dateCourante+1)=1, OR(_xlpm.jourSuivant2<>"0",_xlpm.jourSuivant3<>"0")), "M","0"), IF(_xlpm.jourSemaine=1, IF(_xlpm.jourAvant="M","M","0"), "0"))), IF(_xlpm.estTravaillePlan="M","M","0") )) -> M | D53: =_xlfn.LET( _xlpm.dateCourante,D$47, _xlpm.jourSemaine,WEEKDAY(_xlpm.dateCourante,2), _xlpm.estFerie,COUNTIF(fériés,_xlpm.dateCourante)=1, _xlpm.planLigne,D51, _xlpm.jourAvant,OFFSET(_xlpm.planLigne,0,-1), _xlpm.jourSuivant1,OFFSET(_xlpm.planLigne,0,1), _xlpm.jourSuivant2,OFFSET(_xlpm.planLigne,0,2), _xlpm.jourSuivant3,OFFSET(_xlpm.planLigne,0,3), _xlpm.estTravaillePlan,IFERROR(OFFSET(Paramètres!$H$2, MATCH($B53,Paramètres!$G$2:$G$6,0)-1, MOD(_xlpm.dateCourante+5,28)),""), IF(_xlpm.estFerie, IF(_xlpm.jourSemaine=5, IF(AND(OR(_xlpm.jourSuivant1="M",COUNTIF(fériés,_xlpm.dateCourante-1)=1), OR(_xlpm.jourSuivant2<>"0",_xlpm.jourSuivant3<>"0")), "M","0"), IF(_xlpm.jourSemaine=4, IF(AND(COUNTIF(fériés,_xlpm.dateCourante+1)=1, OR(_xlpm.jourSuivant2<>"0",_xlpm.jourSuivant3<>"0")), "M","0"), IF(_xlpm.jourSemaine=1, IF(_xlpm.jourAvant="M","M","0"), "0"))), IF(_xlpm.estTravaillePlan="M","M","0") )) -> 0 | E53: =_xlfn.LET( _xlpm.dateCourante,E$47, _xlpm.jourSemaine,WEEKDAY(_xlpm.dateCourante,2), _xlpm.estFerie,COUNTIF(fériés,_xlpm.dateCourante)=1, _xlpm.planLigne,E51, _xlpm.jourAvant,OFFSET(_xlpm.planLigne,0,-1), _xlpm.jourSuivant1,OFFSET(_xlpm.planLigne,0,1), _xlpm.jourSuivant2,OFFSET(_xlpm.planLigne,0,2), _xlpm.jourSuivant3,OFFSET(_xlpm.planLigne,0,3), _xlpm.estTravaillePlan,IFERROR(OFFSET(Paramètres!$H$2, MATCH($B53,Paramètres!$G$2:$G$6,0)-1, MOD(_xlpm.dateCourante+5,28)),""), IF(_xlpm.estFerie, IF(_xlpm.jourSemaine=5, IF(AND(OR(_xlpm.jourSuivant1="M",COUNTIF(fériés,_xlpm.dateCourante-1)=1), OR(_xlpm.jourSuivant2<>"0",_xlpm.jourSuivant3<>"0")), "M","0"), IF(_xlpm.jourSemaine=4, IF(AND(COUNTIF(fériés,_xlpm.dateCourante+1)=1, OR(_xlpm.jourSuivant2<>"0",_xlpm.jourSuivant3<>"0")), "M","0"), IF(_xlpm.jourSemaine=1, IF(_xlpm.jourAvant="M","M","0"), "0"))), IF(_xlpm.estTravaillePlan="M","M","0") )) -> 0 | F53: =_xlfn.LET( _xlpm.dateCourante,F$47, _xlpm.jourSemaine,WEEKDAY(_xlpm.dateCourante,2), _xlpm.estFerie,COUNTIF(fériés,_xlpm.dateCourante)=1, _xlpm.planLigne,F51, _xlpm.jourAvant,OFFSET(_xlpm.planLigne,0,-1), _xlpm.jourSuivant1,OFFSET(_xlpm.planLigne,0,1), _xlpm.jourSuivant2,OFFSET(_xlpm.planLigne,0,2), _xlpm.jourSuivant3,OFFSET(_xlpm.planLigne,0,3), _xlpm.estTravaillePlan,IFERROR(OFFSET(Paramètres!$H$2, MATCH($B53,Paramètres!$G$2:$G$6,0)-1, MOD(_xlpm.dateCourante+5,28)),""), IF(_xlpm.estFerie, IF(_xlpm.jourSemaine=5, IF(AND(OR(_xlpm.jourSuivant1="M",COUNTIF(fériés,_xlpm.dateCourante-1)=1), OR(_xlpm.jourSuivant2<>"0",_xlpm.jourSuivant3<>"0")), "M","0"), IF(_xlpm.jourSemaine=4, IF(AND(COUNTIF(fériés,_xlpm.dateCourante+1)=1, OR(_xlpm.jourSuivant2<>"0",_xlpm.jourSuivant3<>"0")), "M","0"), IF(_xlpm.jourSemaine=1, IF(_xlpm.jourAvant="M","M","0"), "0"))), IF(_xlpm.estTravaillePlan="M","M","0") )) -> 0 | G53: =_xlfn.LET( _xlpm.dateCourante,G$47, _xlpm.jourSemaine,WEEKDAY(_xlpm.dateCourante,2), _xlpm.estFerie,COUNTIF(fériés,_xlpm.dateCourante)=1, _xlpm.planLigne,G51, _xlpm.jourAvant,OFFSET(_xlpm.planLigne,0,-1), _xlpm.jourSuivant1,OFFSET(_xlpm.planLigne,0,1), _xlpm.jourSuivant2,OFFSET(_xlpm.planLigne,0,2), _xlpm.jourSuivant3,OFFSET(_xlpm.planLigne,0,3), _xlpm.estTravaillePlan,IFERROR(OFFSET(Paramètres!$H$2, MATCH($B53,Paramètres!$G$2:$G$6,0)-1, MOD(_xlpm.dateCourante+5,28)),""), IF(_xlpm.estFerie, IF(_xlpm.jourSemaine=5, IF(AND(OR(_xlpm.jourSuivant1="M",COUNTIF(fériés,_xlpm.dateCourante-1)=1), OR(_xlpm.jourSuivant2<>"0",_xlpm.jourSuivant3<>"0")), "M","0"), IF(_xlpm.jourSemaine=4, IF(AND(COUNTIF(fériés,_xlpm.dateCourante+1)=1, OR(_xlpm.jourSuivant2<>"0",_xlpm.jourSuivant3<>"0")), "M","0"), IF(_xlpm.jourSemaine=1, IF(_xlpm.jourAvant="M","M","0"), "0"))), IF(_xlpm.estTravaillePlan="M","M","0") )) -> 0 | H53: =_xlfn.LET( _xlpm.dateCourante,H$47, _xlpm.jourSemaine,WEEKDAY(_xlpm.dateCourante,2), _xlpm.estFerie,COUNTIF(fériés,_xlpm.dateCourante)=1, _xlpm.planLigne,H51, _xlpm.jourAvant,OFFSET(_xlpm.planLigne,0,-1), _xlpm.jourSuivant1,OFFSET(_xlpm.planLigne,0,1), _xlpm.jourSuivant2,OFFSET(_xlpm.planLigne,0,2), _xlpm.jourSuivant3,OFFSET(_xlpm.planLigne,0,3), _xlpm.estTravaillePlan,IFERROR(OFFSET(Paramètres!$H$2, MATCH($B53,Paramètres!$G$2:$G$6,0)-1, MOD(_xlpm.dateCourante+5,28)),""), IF(_xlpm.estFerie, IF(_xlpm.jourSemaine=5, IF(AND(OR(_xlpm.jourSuivant1="M",COUNTIF(fériés,_xlpm.dateCourante-1)=1), OR(_xlpm.jourSuivant2<>"0",_xlpm.jourSuivant3<>"0")), "M","0"), IF(_xlpm.jourSemaine=4, IF(AND(COUNTIF(fériés,_xlpm.dateCourante+1)=1, OR(_xlpm.jourSuivant2<>"0",_xlpm.jourSuivant3<>"0")), "M","0"), IF(_xlpm.jourSemaine=1, IF(_xlpm.jourAvant="M","M","0"), "0"))), IF(_xlpm.estTravaillePlan="M","M","0") )) -> 0 | I53: =_xlfn.LET( _xlpm.dateCourante,I$47, _xlpm.jourSemaine,WEEKDAY(_xlpm.dateCourante,2), _xlpm.estFerie,COUNTIF(fériés,_xlpm.dateCourante)=1, _xlpm.planLigne,I51, _xlpm.jourAvant,OFFSET(_xlpm.planLigne,0,-1), _xlpm.jourSuivant1,OFFSET(_xlpm.planLigne,0,1), _xlpm.jourSuivant2,OFFSET(_xlpm.planLigne,0,2), _xlpm.jourSuivant3,OFFSET(_xlpm.planLigne,0,3), _xlpm.estTravaillePlan,IFERROR(OFFSET(Paramètres!$H$2, MATCH($B53,Paramètres!$G$2:$G$6,0)-1, MOD(_xlpm.dateCourante+5,28)),""), IF(_xlpm.estFerie, IF(_xlpm.jourSemaine=5, IF(AND(OR(_xlpm.jourSuivant1="M",COUNTIF(fériés,_xlpm.dateCourante-1)=1), OR(_xlpm.jourSuivant2<>"0",_xlpm.jourSuivant3<>"0")), "M","0"), IF(_xlpm.jourSemaine=4, IF(AND(COUNTIF(fériés,_xlpm.dateCourante+1)=1, OR(_xlpm.jourSuivant2<>"0",_xlpm.jourSuivant3<>"0")), "M","0"), IF(_xlpm.jourSemaine=1, IF(_xlpm.jourAvant="M","M","0"), "0"))), IF(_xlpm.estTravaillePlan="M","M","0") )) -> 0 | J53: =_xlfn.LET( _xlpm.dateCourante,J$47, _xlpm.jourSemaine,WEEKDAY(_xlpm.dateCourante,2), _xlpm.estFerie,COUNTIF(fériés,_xlpm.dateCourante)=1, _xlpm.planLigne,J51, _xlpm.jourAvant,OFFSET(_xlpm.planLigne,0,-1), _xlpm.jourSuivant1,OFFSET(_xlpm.planLigne,0,1), _xlpm.jourSuivant2,OFFSET(_xlpm.planLigne,0,2), _xlpm.jourSuivant3,OFFSET(_xlpm.planLigne,0,3), _xlpm.estTravaillePlan,IFERROR(OFFSET(Paramètres!$H$2, MATCH($B53,Paramètres!$G$2:$G$6,0)-1, MOD(_xlpm.dateCourante+5,28)),""), IF(_xlpm.estFerie, IF(_xlpm.jourSemaine=5, IF(AND(OR(_xlpm.jourSuivant1="M",COUNTIF(fériés,_xlpm.dateCourante-1)=1), OR(_xlpm.jourSuivant2<>"0",_xlpm.jourSuivant3<>"0")), "M","0"), IF(_xlpm.jourSemaine=4, IF(AND(COUNTIF(fériés,_xlpm.dateCourante+1)=1, OR(_xlpm.jourSuivant2<>"0",_xlpm.jourSuivant3<>"0")), "M","0"), IF(_xlpm.jourSemaine=1, IF(_xlpm.jourAvant="M","M","0"), "0"))), IF(_xlpm.estTravaillePlan="M","M","0") )) -> 0 | ... Q53: =_xlfn.LET( _xlpm.dateCourante,Q$47, _xlpm.jourSemaine,WEEKDAY(_xlpm.dateCourante,2), _xlpm.estFerie,COUNTIF(fériés,_xlpm.dateCourante)=1, _xlpm.planLigne,Q51, _xlpm.jourAvant,OFFSET(_xlpm.planLigne,0,-1), _xlpm.jourSuivant1,OFFSET(_xlpm.planLigne,0,1), _xlpm.jourSuivant2,OFFSET(_xlpm.planLigne,0,2), _xlpm.jourSuivant3,OFFSET(_xlpm.planLigne,0,3), _xlpm.estTravaillePlan,IFERROR(OFFSET(Paramètres!$H$2, MATCH($B53,Paramètres!$G$2:$G$6,0)-1, MOD(_xlpm.dateCourante+5,28)),""), IF(_xlpm.estFerie, IF(_xlpm.jourSemaine=5, IF(AND(OR(_xlpm.jourSuivant1="M",COUNTIF(fériés,_xlpm.dateCourante-1)=1), OR(_xlpm.jourSuivant2<>"0",_xlpm.jourSuivant3<>"0")), "M","0"), IF(_xlpm.jourSemaine=4, IF(AND(COUNTIF(fériés,_xlpm.dateCourante+1)=1, OR(_xlpm.jourSuivant2<>"0",_xlpm.jourSuivant3<>"0")), "M","0"), IF(_xlpm.jourSemaine=1, IF(_xlpm.jourAvant="M","M","0"), "0"))), IF(_xlpm.estTravaillePlan="M","M","0") )) -> M | S53: =_xlfn.LET( _xlpm.dateCourante,S$47, _xlpm.jourSemaine,WEEKDAY(_xlpm.dateCourante,2), _xlpm.estFerie,COUNTIF(fériés,_xlpm.dateCourante)=1, _xlpm.planLigne,S51, _xlpm.jourAvant,OFFSET(_xlpm.planLigne,0,-1), _xlpm.jourSuivant1,OFFSET(_xlpm.planLigne,0,1), _xlpm.jourSuivant2,OFFSET(_xlpm.planLigne,0,2), _xlpm.jourSuivant3,OFFSET(_xlpm.planLigne,0,3), _xlpm.estTravaillePlan,IFERROR(OFFSET(Paramètres!$H$2, MATCH($B53,Paramètres!$G$2:$G$6,0)-1, MOD(_xlpm.dateCourante+5,28)),""), IF(_xlpm.estFerie, IF(_xlpm.jourSemaine=5, IF(AND(OR(_xlpm.jourSuivant1="M",COUNTIF(fériés,_xlpm.dateCourante-1)=1), OR(_xlpm.jourSuivant2<>"0",_xlpm.jourSuivant3<>"0")), "M","0"), IF(_xlpm.jourSemaine=4, IF(AND(COUNTIF(fériés,_xlpm.dateCourante+1)=1, OR(_xlpm.jourSuivant2<>"0",_xlpm.jourSuivant3<>"0")), "M","0"), IF(_xlpm.jourSemaine=1, IF(_xlpm.jourAvant="M","M","0"), "0"))), IF(_xlpm.estTravaillePlan="M","M","0") )) -> 0 | T53: =_xlfn.LET( _xlpm.dateCourante,T$47, _xlpm.jourSemaine,WEEKDAY(_xlpm.dateCourante,2), _xlpm.estFerie,COUNTIF(fériés,_xlpm.dateCourante)=1, _xlpm.planLigne,T51, _xlpm.jourAvant,OFFSET(_xlpm.planLigne,0,-1), _xlpm.jourSuivant1,OFFSET(_xlpm.planLigne,0,1), _xlpm.jourSuivant2,OFFSET(_xlpm.planLigne,0,2), _xlpm.jourSuivant3,OFFSET(_xlpm.planLigne,0,3), _xlpm.estTravaillePlan,IFERROR(OFFSET(Paramètres!$H$2, MATCH($B53,Paramètres!$G$2:$G$6,0)-1, MOD(_xlpm.dateCourante+5,28)),""), IF(_xlpm.estFerie, IF(_xlpm.jourSemaine=5, IF(AND(OR(_xlpm.jourSuivant1="M",COUNTIF(fériés,_xlpm.dateCourante-1)=1), OR(_xlpm.jourSuivant2<>"0",_xlpm.jourSuivant3<>"0")), "M","0"), IF(_xlpm.jourSemaine=4, IF(AND(COUNTIF(fériés,_xlpm.dateCourante+1)=1, OR(_xlpm.jourSuivant2<>"0",_xlpm.jourSuivant3<>"0")), "M","0"), IF(_xlpm.jourSemaine=1, IF(_xlpm.jourAvant="M","M","0"), "0"))), IF(_xlpm.estTravaillePlan="M","M","0") )) -> 0 | U53: =_xlfn.LET( _xlpm.dateCourante,U$47, _xlpm.jourSemaine,WEEKDAY(_xlpm.dateCourante,2), _xlpm.estFerie,COUNTIF(fériés,_xlpm.dateCourante)=1, _xlpm.planLigne,U51, _xlpm.jourAvant,OFFSET(_xlpm.planLigne,0,-1), _xlpm.jourSuivant1,OFFSET(_xlpm.planLigne,0,1), _xlpm.jourSuivant2,OFFSET(_xlpm.planLigne,0,2), _xlpm.jourSuivant3,OFFSET(_xlpm.planLigne,0,3), _xlpm.estTravaillePlan,IFERROR(OFFSET(Paramètres!$H$2, MATCH($B53,Paramètres!$G$2:$G$6,0)-1, MOD(_xlpm.dateCourante+5,28)),""), IF(_xlpm.estFerie, IF(_xlpm.jourSemaine=5, IF(AND(OR(_xlpm.jourSuivant1="M",COUNTIF(fériés,_xlpm.dateCourante-1)=1), OR(_xlpm.jourSuivant2<>"0",_xlpm.jourSuivant3<>"0")), "M","0"), IF(_xlpm.jourSemaine=4, IF(AND(COUNTIF(fériés,_xlpm.dateCourante+1)=1, OR(_xlpm.jourSuivant2<>"0",_xlpm.jourSuivant3<>"0")), "M","0"), IF(_xlpm.jourSemaine=1, IF(_xlpm.jourAvant="M","M","0"), "0"))), IF(_xlpm.estTravaillePlan="M","M","0") )) -> 0 | V53: =_xlfn.LET( _xlpm.dateCourante,V$47, _xlpm.jourSemaine,WEEKDAY(_xlpm.dateCourante,2), _xlpm.estFerie,COUNTIF(fériés,_xlpm.dateCourante)=1, _xlpm.planLigne,V51, _xlpm.jourAvant,OFFSET(_xlpm.planLigne,0,-1), _xlpm.jourSuivant1,OFFSET(_xlpm.planLigne,0,1), _xlpm.jourSuivant2,OFFSET(_xlpm.planLigne,0,2), _xlpm.jourSuivant3,OFFSET(_xlpm.planLigne,0,3), _xlpm.estTravaillePlan,IFERROR(OFFSET(Paramètres!$H$2, MATCH($B53,Paramètres!$G$2:$G$6,0)-1, MOD(_xlpm.dateCourante+5,28)),""), IF(_xlpm.estFerie, IF(_xlpm.jourSemaine=5, IF(AND(OR(_xlpm.jourSuivant1="M",COUNTIF(fériés,_xlpm.dateCourante-1)=1), OR(_xlpm.jourSuivant2<>"0",_xlpm.jourSuivant3<>"0")), "M","0"), IF(_xlpm.jourSemaine=4, IF(AND(COUNTIF(fériés,_xlpm.dateCourante+1)=1, OR(_xlpm.jourSuivant2<>"0",_xlpm.jourSuivant3<>"0")), "M","0"), IF(_xlpm.jourSemaine=1, IF(_xlpm.jourAvant="M","M","0"), "0"))), IF(_xlpm.estTravaillePlan="M","M","0") )) -> 0 | W53: =_xlfn.LET( _xlpm.dateCourante,W$47, _xlpm.jourSemaine,WEEKDAY(_xlpm.dateCourante,2), _xlpm.estFerie,COUNTIF(fériés,_xlpm.dateCourante)=1, _xlpm.planLigne,W51, _xlpm.jourAvant,OFFSET(_xlpm.planLigne,0,-1), _xlpm.jourSuivant1,OFFSET(_xlpm.planLigne,0,1), _xlpm.jourSuivant2,OFFSET(_xlpm.planLigne,0,2), _xlpm.jourSuivant3,OFFSET(_xlpm.planLigne,0,3), _xlpm.estTravaillePlan,IFERROR(OFFSET(Paramètres!$H$2, MATCH($B53,Paramètres!$G$2:$G$6,0)-1, MOD(_xlpm.dateCourante+5,28)),""), IF(_xlpm.estFerie, IF(_xlpm.jourSemaine=5, IF(AND(OR(_xlpm.jourSuivant1="M",COUNTIF(fériés,_xlpm.dateCourante-1)=1), OR(_xlpm.jourSuivant2<>"0",_xlpm.jourSuivant3<>"0")), "M","0"), IF(_xlpm.jourSemaine=4, IF(AND(COUNTIF(fériés,_xlpm.dateCourante+1)=1, OR(_xlpm.jourSuivant2<>"0",_xlpm.jourSuivant3<>"0")), "M","0"), IF(_xlpm.jourSemaine=1, IF(_xlpm.jourAvant="M","M","0"), "0"))), IF(_xlpm.estTravaillePlan="M","M","0") )) -> 0 | X53: =_xlfn.LET( _xlpm.dateCourante,X$47, _xlpm.jourSemaine,WEEKDAY(_xlpm.dateCourante,2), _xlpm.estFerie,COUNTIF(fériés,_xlpm.dateCourante)=1, _xlpm.planLigne,X51, _xlpm.jourAvant,OFFSET(_xlpm.planLigne,0,-1), _xlpm.jourSuivant1,OFFSET(_xlpm.planLigne,0,1), _xlpm.jourSuivant2,OFFSET(_xlpm.planLigne,0,2), _xlpm.jourSuivant3,OFFSET(_xlpm.planLigne,0,3), _xlpm.estTravaillePlan,IFERROR(OFFSET(Paramètres!$H$2, MATCH($B53,Paramètres!$G$2:$G$6,0)-1, MOD(_xlpm.dateCourante+5,28)),""), IF(_xlpm.estFerie, IF(_xlpm.jourSemaine=5, IF(AND(OR(_xlpm.jourSuivant1="M",COUNTIF(fériés,_xlpm.dateCourante-1)=1), OR(_xlpm.jourSuivant2<>"0",_xlpm.jourSuivant3<>"0")), "M","0"), IF(_xlpm.jourSemaine=4, IF(AND(COUNTIF(fériés,_xlpm.dateCourante+1)=1, OR(_xlpm.jourSuivant2<>"0",_xlpm.jourSuivant3<>"0")), "M","0"), IF(_xlpm.jourSemaine=1, IF(_xlpm.jourAvant="M","M","0"), "0"))), IF(_xlpm.estTravaillePlan="M","M","0") )) -> 0 | Y53: =_xlfn.LET( _xlpm.dateCourante,Y$47, _xlpm.jourSemaine,WEEKDAY(_xlpm.dateCourante,2), _xlpm.estFerie,COUNTIF(fériés,_xlpm.dateCourante)=1, _xlpm.planLigne,Y51, _xlpm.jourAvant,OFFSET(_xlpm.planLigne,0,-1), _xlpm.jourSuivant1,OFFSET(_xlpm.planLigne,0,1), _xlpm.jourSuivant2,OFFSET(_xlpm.planLigne,0,2), _xlpm.jourSuivant3,OFFSET(_xlpm.planLigne,0,3), _xlpm.estTravaillePlan,IFERROR(OFFSET(Paramètres!$H$2, MATCH($B53,Paramètres!$G$2:$G$6,0)-1, MOD(_xlpm.dateCourante+5,28)),""), IF(_xlpm.estFerie, IF(_xlpm.jourSemaine=5, IF(AND(OR(_xlpm.jourSuivant1="M",COUNTIF(fériés,_xlpm.dateCourante-1)=1), OR(_xlpm.jourSuivant2<>"0",_xlpm.jourSuivant3<>"0")), "M","0"), IF(_xlpm.jourSemaine=4, IF(AND(COUNTIF(fériés,_xlpm.dateCourante+1)=1, OR(_xlpm.jourSuivant2<>"0",_xlpm.jourSuivant3<>"0")), "M","0"), IF(_xlpm.jourSemaine=1, IF(_xlpm.jourAvant="M","M","0"), "0"))), IF(_xlpm.estTravaillePlan="M","M","0") )) -> 0 | Z53: =_xlfn.LET( _xlpm.dateCourante,Z$47, _xlpm.jourSemaine,WEEKDAY(_xlpm.dateCourante,2), _xlpm.estFerie,COUNTIF(fériés,_xlpm.dateCourante)=1, _xlpm.planLigne,Z51, _xlpm.jourAvant,OFFSET(_xlpm.planLigne,0,-1), _xlpm.jourSuivant1,OFFSET(_xlpm.planLigne,0,1), _xlpm.jourSuivant2,OFFSET(_xlpm.planLigne,0,2), _xlpm.jourSuivant3,OFFSET(_xlpm.planLigne,0,3), _xlpm.estTravaillePlan,IFERROR(OFFSET(Paramètres!$H$2, MATCH($B53,Paramètres!$G$2:$G$6,0)-1, MOD(_xlpm.dateCourante+5,28)),""), IF(_xlpm.estFerie, IF(_xlpm.jourSemaine=5, IF(AND(OR(_xlpm.jourSuivant1="M",COUNTIF(fériés,_xlpm.dateCourante-1)=1), OR(_xlpm.jourSuivant2<>"0",_xlpm.jourSuivant3<>"0")), "M","0"), IF(_xlpm.jourSemaine=4, IF(AND(COUNTIF(fériés,_xlpm.dateCourante+1)=1, OR(_xlpm.jourSuivant2<>"0",_xlpm.jourSuivant3<>"0")), "M","0"), IF(_xlpm.jourSemaine=1, IF(_xlpm.jourAvant="M","M","0"), "0"))), IF(_xlpm.estTravaillePlan="M","M","0") )) -> 0 | ... AF53: =_xlfn.LET( _xlpm.dateCourante,AF$47, _xlpm.jourSemaine,WEEKDAY(_xlpm.dateCourante,2), _xlpm.estFerie,COUNTIF(fériés,_xlpm.dateCourante)=1, _xlpm.planLigne,AF51, _xlpm.jourAvant,OFFSET(_xlpm.planLigne,0,-1), _xlpm.jourSuivant1,OFFSET(_xlpm.planLigne,0,1), _xlpm.jourSuivant2,OFFSET(_xlpm.planLigne,0,2), _xlpm.jourSuivant3,OFFSET(_xlpm.planLigne,0,3), _xlpm.estTravaillePlan,IFERROR(OFFSET(Paramètres!$H$2, MATCH($B53,Paramètres!$G$2:$G$6,0)-1, MOD(_xlpm.dateCourante+5,28)),""), IF(_xlpm.estFerie, IF(_xlpm.jourSemaine=5, IF(AND(OR(_xlpm.jourSuivant1="M",COUNTIF(fériés,_xlpm.dateCourante-1)=1), OR(_xlpm.jourSuivant2<>"0",_xlpm.jourSuivant3<>"0")), "M","0"), IF(_xlpm.jourSemaine=4, IF(AND(COUNTIF(fériés,_xlpm.dateCourante+1)=1, OR(_xlpm.jourSuivant2<>"0",_xlpm.jourSuivant3<>"0")), "M","0"), IF(_xlpm.jourSemaine=1, IF(_xlpm.jourAvant="M","M","0"), "0"))), IF(_xlpm.estTravaillePlan="M","M","0") )) -> 0
