Workbook
Name an: Roulement!$B$1
Name fériés: Paramètres!$B$2:$B$23

Sheet Paramètres
A1: Fériés/Pont | H1: l | I1: m | J1: me | K1: j | L1: v | M1: s | N1: d | O1: l | P1: m | Q1: me | R1: j | S1: v | T1: s | U1: d | V1: l | W1: m | X1: me | Y1: j | Z1: v | AA1: s | AB1: d | AC1: l | AD1: m | AE1: me | AF1: j | AG1: v | AH1: s | AI1: d | AJ1: l | AK1: m | AL1: me | AM1: j | AN1: v | AO1: s | AP1: d
A2: Nouvel an | B2: =DATE(an,1,1) -> 45658 | G2: Personne1 | H2: J | I2: J | J2: J | K2: J | L2: J | O2: J | P2: J | Q2: J | R2: J | S2: J | V2: J | W2: J | X2: J | Y2: J | Z2: J | AC2: J | AD2: J | AE2: J | AF2: J | AG2: J | AJ2: J | AK2: J | AL2: J | AM2: J | AN2: J
A3: Pont | B3: =IF(WEEKDAY(B2,2)=2,B2-1,IF(WEEKDAY(B2,2)=4,B2+1,"")) | G3: Personne2 | H3: A | I3: A | J3: A | K3: A | L3: A | O3: M | P3: M | Q3: M | R3: M | S3: M | V3: A | W3: A | X3: A | Y3: A | Z3: A | AC3: M | AD3: M | AE3: M | AF3: M | AG3: M | AJ3: A | AK3: A | AL3: A | AM3: A | AN3: A
A4: Pâques (Lundi) | B4: =ROUND((DAY(MINUTE(an/38)/2 + 55) & "/4/" & an) / 7,0) * 7-5 -> 45768 | G4: Personne3 | H4: M | I4: M | J4: M | K4: M | L4: M | O4: A | P4: A | Q4: A | R4: A | S4: A | V4: M | W4: M | X4: M | Y4: M | Z4: M | AC4: A | AD4: A | AE4: A | AF4: A | AG4: A | AJ4: M | AK4: M | AL4: M | AM4: M | AN4: M
A5: Pont | B5: =IF(WEEKDAY(B4,2)=2,B4-1,IF(WEEKDAY(B4,2)=4,B4+1,"")) | G5: Personne4
A6: Fête du travail | B6: =DATE(an,5,1) -> 45778 | G6: Personne5 | M6: M | N6: M | T6: M | U6: M | AA6: M | AB6: M | AH6: M | AI6: M | AO6: M | AP6: M
A7: Pont | B7: =IF(WEEKDAY(B6,2)=2,B6-1,IF(WEEKDAY(B6,2)=4,B6+1,"")) -> 45779 | H7: 1 | I7: 2 | J7: 3 | K7: 4 | L7: 5 | M7: 6 | N7: 7 | O7: 8 | P7: 9 | Q7: 10 | R7: 11 | S7: 12 | T7: 13 | U7: 14 | V7: 15 | W7: 16 | X7: 17 | Y7: 18 | Z7: 19 | AA7: 20 | AB7: 21 | AC7: 22 | AD7: 23 | AE7: 24 | AF7: 25 | AG7: 26 | AH7: 27 | AI7: 28 | AJ7: 29 | AK7: 30 | AL7: 31 | AM7: 32 | AN7: 33 | AO7: 34 | AP7: 35
A8: Armistice 1945 | B8: =DATE(an;5;8)
A9: Pont | B9: =IF(WEEKDAY(B8,2)=2,B8-1,IF(WEEKDAY(B8,2)=4,B8+1,"")) -> #VALUE!
A10: Ascension | B10: =B4+38 -> 45806
A11: Pont | B11: =IF(WEEKDAY(B10,2)=2,B10-1,IF(WEEKDAY(B10,2)=4,B10+1,"")) -> 45807
A12: Fête nationale | B12: =DATE(an,7,21) -> 45859
A13: Pont | B13: =IF(WEEKDAY(B12,2)=2,B12-1,IF(WEEKDAY(B12,2)=4,B12+1,""))
A14: Pentecôte (Lundi) | B14: =B4+49 -> 45817
A15: Pont | B15: =IF(WEEKDAY(B14,2)=2,B14-1,IF(WEEKDAY(B14,2)=4,B14+1,""))
A16: Assomption | B16: =DATE(an,8,15) -> 45884
A17: Pont | B17: =IF(WEEKDAY(B16,2)=2,B16-1,IF(WEEKDAY(B16,2)=4,B16+1,""))
A18: Toussaint | B18: =DATE(an,11,1) -> 45962
A19: Pont | B19: =IF(WEEKDAY(B18,2)=2,B18-1,IF(WEEKDAY(B18,2)=4,B18+1,""))
A20: Armistice 1918 | B20: =DATE(an,11,11) -> 45972
A21: Pont | B21: =IF(WEEKDAY(B20,2)=2,B20-1,IF(WEEKDAY(B20,2)=4,B20+1,"")) -> 45971
A22: Noël | B22: =DATE(an,12,25) -> 46016
A23: Pont | B23: =IF(WEEKDAY(B22,2)=2,B22-1,IF(WEEKDAY(B22,2)=4,B22+1,"")) -> 46017

Sheet Roulement
B1: 2025 | C1: 1 | D1: 2 | E1: 3 | F1: 4 | G1: 5 | H1: 6 | I1: 7 | J1: 8 | K1: 9 | L1: 10 | M1: 11 | N1: 12 | O1: 13 | P1: 14 | Q1: 15 | R1: 16 | S1: 17 | T1: 18 | U1: 19 | V1: 20 | W1: 21 | X1: 22 | Y1: 23 | Z1: 24 | AA1: 25 | AB1: 26 | AC1: 27 | AD1: 28 | AE1: 29 | AF1: 30 | AG1: 31 | AH1: =AH2 -> 45689 | AI1: =AI2 -> 45690 | AJ1: =AJ2 -> 45691 | AK1: =AK2 -> 45692 | AL1: =AL2 -> 45693 | AM1: =AM2 -> 45694 | AN1: =AN2 -> 45695 | AO1: =AO2 -> 45696 | ... ND1: =ND2 -> 46023
B2: =DATE(an,1,1) -> 45658 | C2: =B2 -> 45658 | D2: =C2+1 -> 45659 | E2: =D2+1 -> 45660 | F2: =E2+1 -> 45661 | G2: =F2+1 -> 45662 | H2: =G2+1 -> 45663 | I2: =H2+1 -> 45664 | J2: =I2+1 -> 45665 | K2: =J2+1 -> 45666 | ... ND2: =NC2+1 -> 46023
B3: =Paramètres!$G$2 -> Personne1 | C3: =IF(COUNTIF(fériés,C2)=0,OFFSET(Paramètres!$H$2,MATCH($B3,Paramètres!$G$2:$G$6,0)-1,MOD(C2+5,35)),"") | D3: =IF(COUNTIF(fériés,D2)=0,OFFSET(Paramètres!$H$2,MATCH($B3,Paramètres!$G$2:$G$6,0)-1,MOD(D2+5,35)),"") -> J | E3: =IF(COUNTIF(fériés,E2)=0,OFFSET(Paramètres!$H$2,MATCH($B3,Paramètres!$G$2:$G$6,0)-1,MOD(E2+5,35)),"") -> J | F3: =IF(COUNTIF(fériés,F2)=0,OFFSET(Paramètres!$H$2,MATCH($B3,Paramètres!$G$2:$G$6,0)-1,MOD(F2+5,35)),"") -> 0 | G3: =IF(COUNTIF(fériés,G2)=0,OFFSET(Paramètres!$H$2,MATCH($B3,Paramètres!$G$2:$G$6,0)-1,MOD(G2+5,35)),"") -> 0 | H3: =IF(COUNTIF(fériés,H2)=0,OFFSET(Paramètres!$H$2,MATCH($B3,Paramètres!$G$2:$G$6,0)-1,MOD(H2+5,35)),"") -> J | I3: =IF(COUNTIF(fériés,I2)=0,OFFSET(Paramètres!$H$2,MATCH($B3,Paramètres!$G$2:$G$6,0)-1,MOD(I2+5,35)),"") -> J | J3: =IF(COUNTIF(fériés,J2)=0,OFFSET(Paramètres!$H$2,MATCH($B3,Paramètres!$G$2:$G$6,0)-1,MOD(J2+5,35)),"") -> J | ... ND3: =IF(COUNTIF(fériés,ND2)=0,OFFSET(Paramètres!$H$2,MATCH($B3,Paramètres!$G$2:$G$6,0)-1,MOD(ND2+5,35)),"") -> J
B4: =Paramètres!$G$3 -> Personne2 | C4: =IF(COUNTIF(fériés,C3)=0,OFFSET(Paramètres!$H$2,MATCH($B4,Paramètres!$G$2:$G$6,0)-1,MOD(C2+5,35)),"") | D4: =IF(COUNTIF(fériés,D3)=0,OFFSET(Paramètres!$H$2,MATCH($B4,Paramètres!$G$2:$G$6,0)-1,MOD(D2+5,35)),"") -> M | E4: =IF(COUNTIF(fériés,E3)=0,OFFSET(Paramètres!$H$2,MATCH($B4,Paramètres!$G$2:$G$6,0)-1,MOD(E2+5,35)),"") -> M | F4: =IF(COUNTIF(fériés,F3)=0,OFFSET(Paramètres!$H$2,MATCH($B4,Paramètres!$G$2:$G$6,0)-1,MOD(F2+5,35)),"") -> 0 | G4: =IF(COUNTIF(fériés,G3)=0,OFFSET(Paramètres!$H$2,MATCH($B4,Paramètres!$G$2:$G$6,0)-1,MOD(G2+5,35)),"") -> 0 | H4: =IF(COUNTIF(fériés,H3)=0,OFFSET(Paramètres!$H$2,MATCH($B4,Paramètres!$G$2:$G$6,0)-1,MOD(H2+5,35)),"") -> A | I4: =IF(COUNTIF(fériés,I3)=0,OFFSET(Paramètres!$H$2,MATCH($B4,Paramètres!$G$2:$G$6,0)-1,MOD(I2+5,35)),"") -> A | J4: =IF(COUNTIF(fériés,J3)=0,OFFSET(Paramètres!$H$2,MATCH($B4,Paramètres!$G$2:$G$6,0)-1,MOD(J2+5,35)),"") -> A | ... ND4: =IF(COUNTIF(fériés,ND3)=0,OFFSET(Paramètres!$H$2,MATCH($B4,Paramètres!$G$2:$G$6,0)-1,MOD(ND2+5,35)),"") -> A
B5: =Paramètres!$G$4 -> Personne3 | C5: =IF(COUNTIF(fériés,C4)=0,OFFSET(Paramètres!$H$2,MATCH($B5,Paramètres!$G$2:$G$6,0)-1,MOD(C2+5,35)),"") | D5: =IF(COUNTIF(fériés,D4)=0,OFFSET(Paramètres!$H$2,MATCH($B5,Paramètres!$G$2:$G$6,0)-1,MOD(D2+5,35)),"") -> A | E5: =IF(COUNTIF(fériés,E4)=0,OFFSET(Paramètres!$H$2,MATCH($B5,Paramètres!$G$2:$G$6,0)-1,MOD(E2+5,35)),"") -> A | F5: =IF(COUNTIF(fériés,F4)=0,OFFSET(Paramètres!$H$2,MATCH($B5,Paramètres!$G$2:$G$6,0)-1,MOD(F2+5,35)),"") -> 0 | G5: =IF(COUNTIF(fériés,G4)=0,OFFSET(Paramètres!$H$2,MATCH($B5,Paramètres!$G$2:$G$6,0)-1,MOD(G2+5,35)),"") -> 0 | H5: =IF(COUNTIF(fériés,H4)=0,OFFSET(Paramètres!$H$2,MATCH($B5,Paramètres!$G$2:$G$6,0)-1,MOD(H2+5,35)),"") -> M | I5: =IF(COUNTIF(fériés,I4)=0,OFFSET(Paramètres!$H$2,MATCH($B5,Paramètres!$G$2:$G$6,0)-1,MOD(I2+5,35)),"") -> M | J5: =IF(COUNTIF(fériés,J4)=0,OFFSET(Paramètres!$H$2,MATCH($B5,Paramètres!$G$2:$G$6,0)-1,MOD(J2+5,35)),"") -> M | ... ND5: =IF(COUNTIF(fériés,ND4)=0,OFFSET(Paramètres!$H$2,MATCH($B5,Paramètres!$G$2:$G$6,0)-1,MOD(ND2+5,35)),"") -> M
B6: =Paramètres!$G$5 -> Personne4 | C6: =IF(OR(COUNTIF(fériés,C2)=0,WEEKDAY(C2,2)>5),OFFSET(Paramètres!$H$2,MATCH($B6,Paramètres!$G$2:$G$6,0)-1,MOD(C2+5,35)),OFFSET(C6,IF(WEEKDAY(C2,2)<3,1,0),7-WEEKDAY(C2,2))) -> 0 | D6: =IF(OR(COUNTIF(fériés,D2)=0,WEEKDAY(D2,2)>5),OFFSET(Paramètres!$H$2,MATCH($B6,Paramètres!$G$2:$G$6,0)-1,MOD(D2+5,35)),OFFSET(D6,IF(WEEKDAY(D2,2)<3,1,0),7-WEEKDAY(D2,2))) -> 0 | E6: =IF(OR(COUNTIF(fériés,E2)=0,WEEKDAY(E2,2)>5),OFFSET(Paramètres!$H$2,MATCH($B6,Paramètres!$G$2:$G$6,0)-1,MOD(E2+5,35)),OFFSET(E6,IF(WEEKDAY(E2,2)<3,1,0),7-WEEKDAY(E2,2))) -> 0 | F6: =IF(OR(COUNTIF(fériés,F2)=0,WEEKDAY(F2,2)>5),OFFSET(Paramètres!$H$2,MATCH($B6,Paramètres!$G$2:$G$6,0)-1,MOD(F2+5,35)),OFFSET(F6,IF(WEEKDAY(F2,2)<3,1,0),7-WEEKDAY(F2,2))) -> 0 | G6: =IF(OR(COUNTIF(fériés,G2)=0,WEEKDAY(G2,2)>5),OFFSET(Paramètres!$H$2,MATCH($B6,Paramètres!$G$2:$G$6,0)-1,MOD(G2+5,35)),OFFSET(G6,IF(WEEKDAY(G2,2)<3,1,0),7-WEEKDAY(G2,2))) -> 0 | H6: =IF(OR(COUNTIF(fériés,H2)=0,WEEKDAY(H2,2)>5),OFFSET(Paramètres!$H$2,MATCH($B6,Paramètres!$G$2:$G$6,0)-1,MOD(H2+5,35)),OFFSET(H6,IF(WEEKDAY(H2,2)<3,1,0),7-WEEKDAY(H2,2))) -> 0 | I6: =IF(OR(COUNTIF(fériés,I2)=0,WEEKDAY(I2,2)>5),OFFSET(Paramètres!$H$2,MATCH($B6,Paramètres!$G$2:$G$6,0)-1,MOD(I2+5,35)),OFFSET(I6,IF(WEEKDAY(I2,2)<3,1,0),7-WEEKDAY(I2,2))) -> 0 | J6: =IF(OR(COUNTIF(fériés,J2)=0,WEEKDAY(J2,2)>5),OFFSET(Paramètres!$H$2,MATCH($B6,Paramètres!$G$2:$G$6,0)-1,MOD(J2+5,35)),OFFSET(J6,IF(WEEKDAY(J2,2)<3,1,0),7-WEEKDAY(J2,2))) -> 0 | ... ND6: =IF(OR(COUNTIF(fériés,ND2)=0,WEEKDAY(ND2,2)>5),OFFSET(Paramètres!$H$2,MATCH($B6,Paramètres!$G$2:$G$6,0)-1,MOD(ND2+5,35)),OFFSET(ND6,IF(WEEKDAY(ND2,2)<3,1,0),7-WEEKDAY(ND2,2))) -> 0
B7: =Paramètres!$G$6 -> Personne5 | C7: =IF(OR(COUNTIF(fériés,C2)=0,WEEKDAY(C2,2)>5),OFFSET(Paramètres!$H$2,MATCH($B7,Paramètres!$G$2:$G$6,0)-1,MOD(C2+5,35)),OFFSET(C7,IF(WEEKDAY(C2,2)<3,1,0),7-WEEKDAY(C2,2))) -> M | D7: =IF(OR(COUNTIF(fériés,D2)=0,WEEKDAY(D2,2)>5),OFFSET(Paramètres!$H$2,MATCH($B7,Paramètres!$G$2:$G$6,0)-1,MOD(D2+5,35)),OFFSET(D7,IF(WEEKDAY(D2,2)<3,1,0),7-WEEKDAY(D2,2))) -> 0 | E7: =IF(OR(COUNTIF(fériés,E2)=0,WEEKDAY(E2,2)>5),OFFSET(Paramètres!$H$2,MATCH($B7,Paramètres!$G$2:$G$6,0)-1,MOD(E2+5,35)),OFFSET(E7,IF(WEEKDAY(E2,2)<3,1,0),7-WEEKDAY(E2,2))) -> 0 | F7: =IF(OR(COUNTIF(fériés,F2)=0,WEEKDAY(F2,2)>5),OFFSET(Paramètres!$H$2,MATCH($B7,Paramètres!$G$2:$G$6,0)-1,MOD(F2+5,35)),OFFSET(F7,IF(WEEKDAY(F2,2)<3,1,0),7-WEEKDAY(F2,2))) -> M | G7: =IF(OR(COUNTIF(fériés,G2)=0,WEEKDAY(G2,2)>5),OFFSET(Paramètres!$H$2,MATCH($B7,Paramètres!$G$2:$G$6,0)-1,MOD(G2+5,35)),OFFSET(G7,IF(WEEKDAY(G2,2)<3,1,0),7-WEEKDAY(G2,2))) -> M | H7: =IF(OR(COUNTIF(fériés,H2)=0,WEEKDAY(H2,2)>5),OFFSET(Paramètres!$H$2,MATCH($B7,Paramètres!$G$2:$G$6,0)-1,MOD(H2+5,35)),OFFSET(H7,IF(WEEKDAY(H2,2)<3,1,0),7-WEEKDAY(H2,2))) -> 0 | I7: =IF(OR(COUNTIF(fériés,I2)=0,WEEKDAY(I2,2)>5),OFFSET(Paramètres!$H$2,MATCH($B7,Paramètres!$G$2:$G$6,0)-1,MOD(I2+5,35)),OFFSET(I7,IF(WEEKDAY(I2,2)<3,1,0),7-WEEKDAY(I2,2))) -> 0 | J7: =IF(OR(COUNTIF(fériés,J2)=0,WEEKDAY(J2,2)>5),OFFSET(Paramètres!$H$2,MATCH($B7,Paramètres!$G$2:$G$6,0)-1,MOD(J2+5,35)),OFFSET(J7,IF(WEEKDAY(J2,2)<3,1,0),7-WEEKDAY(J2,2))) -> 0 | ... ND7: =IF(OR(COUNTIF(fériés,ND2)=0,WEEKDAY(ND2,2)>5),OFFSET(Paramètres!$H$2,MATCH($B7,Paramètres!$G$2:$G$6,0)-1,MOD(ND2+5,35)),OFFSET(ND7,IF(WEEKDAY(ND2,2)<3,1,0),7-WEEKDAY(ND2,2))) -> 0
