Workbook
Name Lettre: Données!$A$2:$A$12

Sheet Accueil
B1: 2 | C1: 2021 | D1: 5
A3: 1 | C3: =DATE(C1,D1,1) -> 44317
A4: 2 | C4: =C3+1 -> 44318
A5: 3 | C5: =C4+1 -> 44319
A6: 4 | C6: =C5+1 -> 44320
A7: 5 | C7: =C6+1 -> 44321
A8: 6 | C8: =C7+1 -> 44322
A9: 7 | C9: =C8+1 -> 44323
A10: 8 | C10: =C9+1 -> 44324
A11: 9 | C11: =C10+1 -> 44325
A12: 10 | C12: =C11+1 -> 44326
A13: 11 | C13: =C12+1 -> 44327
A14: 12 | C14: =C13+1 -> 44328
A15: 13 | C15: =C14+1 -> 44329
... A30: 28 | C30: =C29+1 -> 44344
A31: 29 | C31: =IF(DAY($C$30+1)<DAY($C$30),"",$C$30+1) -> 44345
A32: 30 | C32: =IF(DAY($C$30+2)<DAY($C$30),"",$C$30+2) -> 44346
A33: 31 | C33: =IF(DAY($C$30+3)<DAY($C$30),"",$C$30+3) -> 44347

Sheet Mois + Fiche
B5: =DATE(Accueil!$C$1,Accueil!$D$1,1) -> 44317 | Q5: Semaine | T5: Total € | U5: Nombres de jours | V5: Heures | W5: Total
B6: =INDEX({"Dim","Lun","Mar","Mer","Jeu","Ven","Sam"},1+MOD(Accueil!$B$1+1-2,7)) -> Lun | D6: =INDEX({"Dim","Lun","Mar","Mer","Jeu","Ven","Sam"},1+MOD(Accueil!$B$1+2-2,7)) -> Mar | F6: =INDEX({"Dim","Lun","Mar","Mer","Jeu","Ven","Sam"},1+MOD(Accueil!$B$1+3-2,7)) -> Mer | H6: =INDEX({"Dim","Lun","Mar","Mer","Jeu","Ven","Sam"},1+MOD(Accueil!$B$1+4-2,7)) -> Jeu | J6: =INDEX({"Dim","Lun","Mar","Mer","Jeu","Ven","Sam"},1+MOD(Accueil!$B$1+5-2,7)) -> Ven | L6: =INDEX({"Dim","Lun","Mar","Mer","Jeu","Ven","Sam"},1+MOD(Accueil!$B$1+6-2,7)) -> Sam | N6: =INDEX({"Dim","Lun","Mar","Mer","Jeu","Ven","Sam"},1+MOD(Accueil!$B$1+7-2,7)) -> Dim | S6: Taux horraire
B7: =IF(MONTH($B$5)<>MONTH($B$5-(WEEKDAY($B$5,1)-(Accueil!$B$1-1))-IF((WEEKDAY($B$5,1)-(Accueil!$B$1-1))<=0,7,0)+(ROW(B7)-ROW($B$7))*7+(COLUMN(B7)-COLUMN($B$7)+1)),"",$B$5-(WEEKDAY($B$5,1)-(Accueil!$B$1-1))-IF((WEEKDAY($B$5,1)-(Accueil!$B$1-1))<=0,7,0)+(ROW(B7)-ROW($B$7))*7+(COLUMN(B7)-COLUMN($B$7)+1)) | D7: =IF(MONTH($B$5)<>MONTH($B$5-(WEEKDAY($B$5,1)-(Accueil!$B$1-1))-IF((WEEKDAY($B$5,1)-(Accueil!$B$1-1))<=0,7,0)+(ROW(C7)-ROW($B$7))*7+(COLUMN(C7)-COLUMN($B$7)+1)),"",$B$5-(WEEKDAY($B$5,1)-(Accueil!$B$1-1))-IF((WEEKDAY($B$5,1)-(Accueil!$B$1-1))<=0,7,0)+(ROW(C7)-ROW($B$7))*7+(COLUMN(C7)-COLUMN($B$7)+1)) | F7: =IF(MONTH($B$5)<>MONTH($B$5-(WEEKDAY($B$5,1)-(Accueil!$B$1-1))-IF((WEEKDAY($B$5,1)-(Accueil!$B$1-1))<=0,7,0)+(ROW(D7)-ROW($B$7))*7+(COLUMN(D7)-COLUMN($B$7)+1)),"",$B$5-(WEEKDAY($B$5,1)-(Accueil!$B$1-1))-IF((WEEKDAY($B$5,1)-(Accueil!$B$1-1))<=0,7,0)+(ROW(D7)-ROW($B$7))*7+(COLUMN(D7)-COLUMN($B$7)+1)) | H7: =IF(MONTH($B$5)<>MONTH($B$5-(WEEKDAY($B$5,1)-(Accueil!$B$1-1))-IF((WEEKDAY($B$5,1)-(Accueil!$B$1-1))<=0,7,0)+(ROW(E7)-ROW($B$7))*7+(COLUMN(E7)-COLUMN($B$7)+1)),"",$B$5-(WEEKDAY($B$5,1)-(Accueil!$B$1-1))-IF((WEEKDAY($B$5,1)-(Accueil!$B$1-1))<=0,7,0)+(ROW(E7)-ROW($B$7))*7+(COLUMN(E7)-COLUMN($B$7)+1)) | J7: =IF(MONTH($B$5)<>MONTH($B$5-(WEEKDAY($B$5,1)-(Accueil!$B$1-1))-IF((WEEKDAY($B$5,1)-(Accueil!$B$1-1))<=0,7,0)+(ROW(F7)-ROW($B$7))*7+(COLUMN(F7)-COLUMN($B$7)+1)),"",$B$5-(WEEKDAY($B$5,1)-(Accueil!$B$1-1))-IF((WEEKDAY($B$5,1)-(Accueil!$B$1-1))<=0,7,0)+(ROW(F7)-ROW($B$7))*7+(COLUMN(F7)-COLUMN($B$7)+1)) | L7: =IF(MONTH($B$5)<>MONTH($B$5-(WEEKDAY($B$5,1)-(Accueil!$B$1-1))-IF((WEEKDAY($B$5,1)-(Accueil!$B$1-1))<=0,7,0)+(ROW(G7)-ROW($B$7))*7+(COLUMN(G7)-COLUMN($B$7)+1)),"",$B$5-(WEEKDAY($B$5,1)-(Accueil!$B$1-1))-IF((WEEKDAY($B$5,1)-(Accueil!$B$1-1))<=0,7,0)+(ROW(G7)-ROW($B$7))*7+(COLUMN(G7)-COLUMN($B$7)+1)) -> 44317 | M7: sn | N7: =IF(MONTH($B$5)<>MONTH($B$5-(WEEKDAY($B$5,1)-(Accueil!$B$1-1))-IF((WEEKDAY($B$5,1)-(Accueil!$B$1-1))<=0,7,0)+(ROW(H7)-ROW($B$7))*7+(COLUMN(H7)-COLUMN($B$7)+1)),"",$B$5-(WEEKDAY($B$5,1)-(Accueil!$B$1-1))-IF((WEEKDAY($B$5,1)-(Accueil!$B$1-1))<=0,7,0)+(ROW(H7)-ROW($B$7))*7+(COLUMN(H7)-COLUMN($B$7)+1)) -> 44318 | O7: dn | P7: =IF(B7="","",B7) | Q7: =IF(N7="","",(INT(MOD(INT((N7-2)/7)+0.6,52+5/28))+1)) -> 17 | S7: Samedi nuit | T7: =(7*T6*1.5)+(5*T6*2)*1.25 -> 0 | W7: =(T7*U7) -> 0
B8: =IF(MONTH($B$5)<>MONTH($B$5-(WEEKDAY($B$5,1)-(Accueil!$B$1-1))-IF((WEEKDAY($B$5,1)-(Accueil!$B$1-1))<=0,7,0)+(ROW(B8)-ROW($B$7))*7+(COLUMN(B8)-COLUMN($B$7)+1)),"",$B$5-(WEEKDAY($B$5,1)-(Accueil!$B$1-1))-IF((WEEKDAY($B$5,1)-(Accueil!$B$1-1))<=0,7,0)+(ROW(B8)-ROW($B$7))*7+(COLUMN(B8)-COLUMN($B$7)+1)) -> 44319 | D8: =IF(MONTH($B$5)<>MONTH($B$5-(WEEKDAY($B$5,1)-(Accueil!$B$1-1))-IF((WEEKDAY($B$5,1)-(Accueil!$B$1-1))<=0,7,0)+(ROW(C8)-ROW($B$7))*7+(COLUMN(C8)-COLUMN($B$7)+1)),"",$B$5-(WEEKDAY($B$5,1)-(Accueil!$B$1-1))-IF((WEEKDAY($B$5,1)-(Accueil!$B$1-1))<=0,7,0)+(ROW(C8)-ROW($B$7))*7+(COLUMN(C8)-COLUMN($B$7)+1)) -> 44320 | F8: =IF(MONTH($B$5)<>MONTH($B$5-(WEEKDAY($B$5,1)-(Accueil!$B$1-1))-IF((WEEKDAY($B$5,1)-(Accueil!$B$1-1))<=0,7,0)+(ROW(D8)-ROW($B$7))*7+(COLUMN(D8)-COLUMN($B$7)+1)),"",$B$5-(WEEKDAY($B$5,1)-(Accueil!$B$1-1))-IF((WEEKDAY($B$5,1)-(Accueil!$B$1-1))<=0,7,0)+(ROW(D8)-ROW($B$7))*7+(COLUMN(D8)-COLUMN($B$7)+1)) -> 44321 | H8: =IF(MONTH($B$5)<>MONTH($B$5-(WEEKDAY($B$5,1)-(Accueil!$B$1-1))-IF((WEEKDAY($B$5,1)-(Accueil!$B$1-1))<=0,7,0)+(ROW(E8)-ROW($B$7))*7+(COLUMN(E8)-COLUMN($B$7)+1)),"",$B$5-(WEEKDAY($B$5,1)-(Accueil!$B$1-1))-IF((WEEKDAY($B$5,1)-(Accueil!$B$1-1))<=0,7,0)+(ROW(E8)-ROW($B$7))*7+(COLUMN(E8)-COLUMN($B$7)+1)) -> 44322 | J8: =IF(MONTH($B$5)<>MONTH($B$5-(WEEKDAY($B$5,1)-(Accueil!$B$1-1))-IF((WEEKDAY($B$5,1)-(Accueil!$B$1-1))<=0,7,0)+(ROW(F8)-ROW($B$7))*7+(COLUMN(F8)-COLUMN($B$7)+1)),"",$B$5-(WEEKDAY($B$5,1)-(Accueil!$B$1-1))-IF((WEEKDAY($B$5,1)-(Accueil!$B$1-1))<=0,7,0)+(ROW(F8)-ROW($B$7))*7+(COLUMN(F8)-COLUMN($B$7)+1)) -> 44323 | L8: =IF(MONTH($B$5)<>MONTH($B$5-(WEEKDAY($B$5,1)-(Accueil!$B$1-1))-IF((WEEKDAY($B$5,1)-(Accueil!$B$1-1))<=0,7,0)+(ROW(G8)-ROW($B$7))*7+(COLUMN(G8)-COLUMN($B$7)+1)),"",$B$5-(WEEKDAY($B$5,1)-(Accueil!$B$1-1))-IF((WEEKDAY($B$5,1)-(Accueil!$B$1-1))<=0,7,0)+(ROW(G8)-ROW($B$7))*7+(COLUMN(G8)-COLUMN($B$7)+1)) -> 44324 | M8: sm | N8: =IF(MONTH($B$5)<>MONTH($B$5-(WEEKDAY($B$5,1)-(Accueil!$B$1-1))-IF((WEEKDAY($B$5,1)-(Accueil!$B$1-1))<=0,7,0)+(ROW(H8)-ROW($B$7))*7+(COLUMN(H8)-COLUMN($B$7)+1)),"",$B$5-(WEEKDAY($B$5,1)-(Accueil!$B$1-1))-IF((WEEKDAY($B$5,1)-(Accueil!$B$1-1))<=0,7,0)+(ROW(H8)-ROW($B$7))*7+(COLUMN(H8)-COLUMN($B$7)+1)) -> 44325 | O8: dm | P8: =IF(B8="","",B8) -> 44319 | Q8: =IF(P8="","",(INT(MOD(INT((P8-2)/7)+0.6,52+5/28))+1)) -> 18 | S8: Dimanche nuit | T8: =(T6*12*2)*1.25 -> 0 | W8: =(T8*U8) -> 0
B9: =IF(MONTH($B$5)<>MONTH($B$5-(WEEKDAY($B$5,1)-(Accueil!$B$1-1))-IF((WEEKDAY($B$5,1)-(Accueil!$B$1-1))<=0,7,0)+(ROW(B9)-ROW($B$7))*7+(COLUMN(B9)-COLUMN($B$7)+1)),"",$B$5-(WEEKDAY($B$5,1)-(Accueil!$B$1-1))-IF((WEEKDAY($B$5,1)-(Accueil!$B$1-1))<=0,7,0)+(ROW(B9)-ROW($B$7))*7+(COLUMN(B9)-COLUMN($B$7)+1)) -> 44326 | D9: =IF(MONTH($B$5)<>MONTH($B$5-(WEEKDAY($B$5,1)-(Accueil!$B$1-1))-IF((WEEKDAY($B$5,1)-(Accueil!$B$1-1))<=0,7,0)+(ROW(C9)-ROW($B$7))*7+(COLUMN(C9)-COLUMN($B$7)+1)),"",$B$5-(WEEKDAY($B$5,1)-(Accueil!$B$1-1))-IF((WEEKDAY($B$5,1)-(Accueil!$B$1-1))<=0,7,0)+(ROW(C9)-ROW($B$7))*7+(COLUMN(C9)-COLUMN($B$7)+1)) -> 44327 | F9: =IF(MONTH($B$5)<>MONTH($B$5-(WEEKDAY($B$5,1)-(Accueil!$B$1-1))-IF((WEEKDAY($B$5,1)-(Accueil!$B$1-1))<=0,7,0)+(ROW(D9)-ROW($B$7))*7+(COLUMN(D9)-COLUMN($B$7)+1)),"",$B$5-(WEEKDAY($B$5,1)-(Accueil!$B$1-1))-IF((WEEKDAY($B$5,1)-(Accueil!$B$1-1))<=0,7,0)+(ROW(D9)-ROW($B$7))*7+(COLUMN(D9)-COLUMN($B$7)+1)) -> 44328 | G9: js m/a | H9: =IF(MONTH($B$5)<>MONTH($B$5-(WEEKDAY($B$5,1)-(Accueil!$B$1-1))-IF((WEEKDAY($B$5,1)-(Accueil!$B$1-1))<=0,7,0)+(ROW(E9)-ROW($B$7))*7+(COLUMN(E9)-COLUMN($B$7)+1)),"",$B$5-(WEEKDAY($B$5,1)-(Accueil!$B$1-1))-IF((WEEKDAY($B$5,1)-(Accueil!$B$1-1))<=0,7,0)+(ROW(E9)-ROW($B$7))*7+(COLUMN(E9)-COLUMN($B$7)+1)) -> 44329 | I9: jf | J9: =IF(MONTH($B$5)<>MONTH($B$5-(WEEKDAY($B$5,1)-(Accueil!$B$1-1))-IF((WEEKDAY($B$5,1)-(Accueil!$B$1-1))<=0,7,0)+(ROW(F9)-ROW($B$7))*7+(COLUMN(F9)-COLUMN($B$7)+1)),"",$B$5-(WEEKDAY($B$5,1)-(Accueil!$B$1-1))-IF((WEEKDAY($B$5,1)-(Accueil!$B$1-1))<=0,7,0)+(ROW(F9)-ROW($B$7))*7+(COLUMN(F9)-COLUMN($B$7)+1)) -> 44330 | L9: =IF(MONTH($B$5)<>MONTH($B$5-(WEEKDAY($B$5,1)-(Accueil!$B$1-1))-IF((WEEKDAY($B$5,1)-(Accueil!$B$1-1))<=0,7,0)+(ROW(G9)-ROW($B$7))*7+(COLUMN(G9)-COLUMN($B$7)+1)),"",$B$5-(WEEKDAY($B$5,1)-(Accueil!$B$1-1))-IF((WEEKDAY($B$5,1)-(Accueil!$B$1-1))<=0,7,0)+(ROW(G9)-ROW($B$7))*7+(COLUMN(G9)-COLUMN($B$7)+1)) -> 44331 | M9: sn | N9: =IF(MONTH($B$5)<>MONTH($B$5-(WEEKDAY($B$5,1)-(Accueil!$B$1-1))-IF((WEEKDAY($B$5,1)-(Accueil!$B$1-1))<=0,7,0)+(ROW(H9)-ROW($B$7))*7+(COLUMN(H9)-COLUMN($B$7)+1)),"",$B$5-(WEEKDAY($B$5,1)-(Accueil!$B$1-1))-IF((WEEKDAY($B$5,1)-(Accueil!$B$1-1))<=0,7,0)+(ROW(H9)-ROW($B$7))*7+(COLUMN(H9)-COLUMN($B$7)+1)) -> 44332 | O9: dn | P9: =IF(B9="","",B9) -> 44326 | Q9: =IF(P9="","",(INT(MOD(INT((P9-2)/7)+0.6,52+5/28))+1)) -> 19 | S9: Samedi matin | T9: =(T6*1.06*8)+(T6*1.5*4)*1.06 -> 0 | W9: =(T9*U9) -> 0
B10: =IF(MONTH($B$5)<>MONTH($B$5-(WEEKDAY($B$5,1)-(Accueil!$B$1-1))-IF((WEEKDAY($B$5,1)-(Accueil!$B$1-1))<=0,7,0)+(ROW(B10)-ROW($B$7))*7+(COLUMN(B10)-COLUMN($B$7)+1)),"",$B$5-(WEEKDAY($B$5,1)-(Accueil!$B$1-1))-IF((WEEKDAY($B$5,1)-(Accueil!$B$1-1))<=0,7,0)+(ROW(B10)-ROW($B$7))*7+(COLUMN(B10)-COLUMN($B$7)+1)) -> 44333 | D10: =IF(MONTH($B$5)<>MONTH($B$5-(WEEKDAY($B$5,1)-(Accueil!$B$1-1))-IF((WEEKDAY($B$5,1)-(Accueil!$B$1-1))<=0,7,0)+(ROW(C10)-ROW($B$7))*7+(COLUMN(C10)-COLUMN($B$7)+1)),"",$B$5-(WEEKDAY($B$5,1)-(Accueil!$B$1-1))-IF((WEEKDAY($B$5,1)-(Accueil!$B$1-1))<=0,7,0)+(ROW(C10)-ROW($B$7))*7+(COLUMN(C10)-COLUMN($B$7)+1)) -> 44334 | F10: =IF(MONTH($B$5)<>MONTH($B$5-(WEEKDAY($B$5,1)-(Accueil!$B$1-1))-IF((WEEKDAY($B$5,1)-(Accueil!$B$1-1))<=0,7,0)+(ROW(D10)-ROW($B$7))*7+(COLUMN(D10)-COLUMN($B$7)+1)),"",$B$5-(WEEKDAY($B$5,1)-(Accueil!$B$1-1))-IF((WEEKDAY($B$5,1)-(Accueil!$B$1-1))<=0,7,0)+(ROW(D10)-ROW($B$7))*7+(COLUMN(D10)-COLUMN($B$7)+1)) -> 44335 | H10: =IF(MONTH($B$5)<>MONTH($B$5-(WEEKDAY($B$5,1)-(Accueil!$B$1-1))-IF((WEEKDAY($B$5,1)-(Accueil!$B$1-1))<=0,7,0)+(ROW(E10)-ROW($B$7))*7+(COLUMN(E10)-COLUMN($B$7)+1)),"",$B$5-(WEEKDAY($B$5,1)-(Accueil!$B$1-1))-IF((WEEKDAY($B$5,1)-(Accueil!$B$1-1))<=0,7,0)+(ROW(E10)-ROW($B$7))*7+(COLUMN(E10)-COLUMN($B$7)+1)) -> 44336 | J10: =IF(MONTH($B$5)<>MONTH($B$5-(WEEKDAY($B$5,1)-(Accueil!$B$1-1))-IF((WEEKDAY($B$5,1)-(Accueil!$B$1-1))<=0,7,0)+(ROW(F10)-ROW($B$7))*7+(COLUMN(F10)-COLUMN($B$7)+1)),"",$B$5-(WEEKDAY($B$5,1)-(Accueil!$B$1-1))-IF((WEEKDAY($B$5,1)-(Accueil!$B$1-1))<=0,7,0)+(ROW(F10)-ROW($B$7))*7+(COLUMN(F10)-COLUMN($B$7)+1)) -> 44337 | L10: =IF(MONTH($B$5)<>MONTH($B$5-(WEEKDAY($B$5,1)-(Accueil!$B$1-1))-IF((WEEKDAY($B$5,1)-(Accueil!$B$1-1))<=0,7,0)+(ROW(G10)-ROW($B$7))*7+(COLUMN(G10)-COLUMN($B$7)+1)),"",$B$5-(WEEKDAY($B$5,1)-(Accueil!$B$1-1))-IF((WEEKDAY($B$5,1)-(Accueil!$B$1-1))<=0,7,0)+(ROW(G10)-ROW($B$7))*7+(COLUMN(G10)-COLUMN($B$7)+1)) -> 44338 | M10: sm | N10: =IF(MONTH($B$5)<>MONTH($B$5-(WEEKDAY($B$5,1)-(Accueil!$B$1-1))-IF((WEEKDAY($B$5,1)-(Accueil!$B$1-1))<=0,7,0)+(ROW(H10)-ROW($B$7))*7+(COLUMN(H10)-COLUMN($B$7)+1)),"",$B$5-(WEEKDAY($B$5,1)-(Accueil!$B$1-1))-IF((WEEKDAY($B$5,1)-(Accueil!$B$1-1))<=0,7,0)+(ROW(H10)-ROW($B$7))*7+(COLUMN(H10)-COLUMN($B$7)+1)) -> 44339 | O10: dm | P10: =IF(B10="","",B10) -> 44333 | Q10: =IF(P10="","",(INT(MOD(INT((P10-2)/7)+0.6,52+5/28))+1)) -> 20 | S10: Dimanche matin | T10: =(T6*12*2)*1.06 -> 0 | W10: =(T10*U10) -> 0
B11: =IF(MONTH($B$5)<>MONTH($B$5-(WEEKDAY($B$5,1)-(Accueil!$B$1-1))-IF((WEEKDAY($B$5,1)-(Accueil!$B$1-1))<=0,7,0)+(ROW(B11)-ROW($B$7))*7+(COLUMN(B11)-COLUMN($B$7)+1)),"",$B$5-(WEEKDAY($B$5,1)-(Accueil!$B$1-1))-IF((WEEKDAY($B$5,1)-(Accueil!$B$1-1))<=0,7,0)+(ROW(B11)-ROW($B$7))*7+(COLUMN(B11)-COLUMN($B$7)+1)) -> 44340 | C11: jf | D11: =IF(MONTH($B$5)<>MONTH($B$5-(WEEKDAY($B$5,1)-(Accueil!$B$1-1))-IF((WEEKDAY($B$5,1)-(Accueil!$B$1-1))<=0,7,0)+(ROW(C11)-ROW($B$7))*7+(COLUMN(C11)-COLUMN($B$7)+1)),"",$B$5-(WEEKDAY($B$5,1)-(Accueil!$B$1-1))-IF((WEEKDAY($B$5,1)-(Accueil!$B$1-1))<=0,7,0)+(ROW(C11)-ROW($B$7))*7+(COLUMN(C11)-COLUMN($B$7)+1)) -> 44341 | F11: =IF(MONTH($B$5)<>MONTH($B$5-(WEEKDAY($B$5,1)-(Accueil!$B$1-1))-IF((WEEKDAY($B$5,1)-(Accueil!$B$1-1))<=0,7,0)+(ROW(D11)-ROW($B$7))*7+(COLUMN(D11)-COLUMN($B$7)+1)),"",$B$5-(WEEKDAY($B$5,1)-(Accueil!$B$1-1))-IF((WEEKDAY($B$5,1)-(Accueil!$B$1-1))<=0,7,0)+(ROW(D11)-ROW($B$7))*7+(COLUMN(D11)-COLUMN($B$7)+1)) -> 44342 | H11: =IF(MONTH($B$5)<>MONTH($B$5-(WEEKDAY($B$5,1)-(Accueil!$B$1-1))-IF((WEEKDAY($B$5,1)-(Accueil!$B$1-1))<=0,7,0)+(ROW(E11)-ROW($B$7))*7+(COLUMN(E11)-COLUMN($B$7)+1)),"",$B$5-(WEEKDAY($B$5,1)-(Accueil!$B$1-1))-IF((WEEKDAY($B$5,1)-(Accueil!$B$1-1))<=0,7,0)+(ROW(E11)-ROW($B$7))*7+(COLUMN(E11)-COLUMN($B$7)+1)) -> 44343 | J11: =IF(MONTH($B$5)<>MONTH($B$5-(WEEKDAY($B$5,1)-(Accueil!$B$1-1))-IF((WEEKDAY($B$5,1)-(Accueil!$B$1-1))<=0,7,0)+(ROW(F11)-ROW($B$7))*7+(COLUMN(F11)-COLUMN($B$7)+1)),"",$B$5-(WEEKDAY($B$5,1)-(Accueil!$B$1-1))-IF((WEEKDAY($B$5,1)-(Accueil!$B$1-1))<=0,7,0)+(ROW(F11)-ROW($B$7))*7+(COLUMN(F11)-COLUMN($B$7)+1)) -> 44344 | L11: =IF(MONTH($B$5)<>MONTH($B$5-(WEEKDAY($B$5,1)-(Accueil!$B$1-1))-IF((WEEKDAY($B$5,1)-(Accueil!$B$1-1))<=0,7,0)+(ROW(G11)-ROW($B$7))*7+(COLUMN(G11)-COLUMN($B$7)+1)),"",$B$5-(WEEKDAY($B$5,1)-(Accueil!$B$1-1))-IF((WEEKDAY($B$5,1)-(Accueil!$B$1-1))<=0,7,0)+(ROW(G11)-ROW($B$7))*7+(COLUMN(G11)-COLUMN($B$7)+1)) -> 44345 | M11: sn | N11: =IF(MONTH($B$5)<>MONTH($B$5-(WEEKDAY($B$5,1)-(Accueil!$B$1-1))-IF((WEEKDAY($B$5,1)-(Accueil!$B$1-1))<=0,7,0)+(ROW(H11)-ROW($B$7))*7+(COLUMN(H11)-COLUMN($B$7)+1)),"",$B$5-(WEEKDAY($B$5,1)-(Accueil!$B$1-1))-IF((WEEKDAY($B$5,1)-(Accueil!$B$1-1))<=0,7,0)+(ROW(H11)-ROW($B$7))*7+(COLUMN(H11)-COLUMN($B$7)+1)) -> 44346 | O11: dn | P11: =IF(B11="","",B11) -> 44340 | Q11: =IF(P11="","",(INT(MOD(INT((P11-2)/7)+0.6,52+5/28))+1)) -> 21 | S11: Jours semaine m/a-m | T11: =(T6*1.06*8) -> 0 | W11: =(T6*1.06*8)*U11 -> 0
B12: =IF(MONTH($B$5)<>MONTH($B$5-(WEEKDAY($B$5,1)-(Accueil!$B$1-1))-IF((WEEKDAY($B$5,1)-(Accueil!$B$1-1))<=0,7,0)+(ROW(B12)-ROW($B$7))*7+(COLUMN(B12)-COLUMN($B$7)+1)),"",$B$5-(WEEKDAY($B$5,1)-(Accueil!$B$1-1))-IF((WEEKDAY($B$5,1)-(Accueil!$B$1-1))<=0,7,0)+(ROW(B12)-ROW($B$7))*7+(COLUMN(B12)-COLUMN($B$7)+1)) -> 44347 | D12: =IF(MONTH($B$5)<>MONTH($B$5-(WEEKDAY($B$5,1)-(Accueil!$B$1-1))-IF((WEEKDAY($B$5,1)-(Accueil!$B$1-1))<=0,7,0)+(ROW(C12)-ROW($B$7))*7+(COLUMN(C12)-COLUMN($B$7)+1)),"",$B$5-(WEEKDAY($B$5,1)-(Accueil!$B$1-1))-IF((WEEKDAY($B$5,1)-(Accueil!$B$1-1))<=0,7,0)+(ROW(C12)-ROW($B$7))*7+(COLUMN(C12)-COLUMN($B$7)+1)) | F12: =IF(MONTH($B$5)<>MONTH($B$5-(WEEKDAY($B$5,1)-(Accueil!$B$1-1))-IF((WEEKDAY($B$5,1)-(Accueil!$B$1-1))<=0,7,0)+(ROW(D12)-ROW($B$7))*7+(COLUMN(D12)-COLUMN($B$7)+1)),"",$B$5-(WEEKDAY($B$5,1)-(Accueil!$B$1-1))-IF((WEEKDAY($B$5,1)-(Accueil!$B$1-1))<=0,7,0)+(ROW(D12)-ROW($B$7))*7+(COLUMN(D12)-COLUMN($B$7)+1)) | H12: =IF(MONTH($B$5)<>MONTH($B$5-(WEEKDAY($B$5,1)-(Accueil!$B$1-1))-IF((WEEKDAY($B$5,1)-(Accueil!$B$1-1))<=0,7,0)+(ROW(E12)-ROW($B$7))*7+(COLUMN(E12)-COLUMN($B$7)+1)),"",$B$5-(WEEKDAY($B$5,1)-(Accueil!$B$1-1))-IF((WEEKDAY($B$5,1)-(Accueil!$B$1-1))<=0,7,0)+(ROW(E12)-ROW($B$7))*7+(COLUMN(E12)-COLUMN($B$7)+1)) | J12: =IF(MONTH($B$5)<>MONTH($B$5-(WEEKDAY($B$5,1)-(Accueil!$B$1-1))-IF((WEEKDAY($B$5,1)-(Accueil!$B$1-1))<=0,7,0)+(ROW(F12)-ROW($B$7))*7+(COLUMN(F12)-COLUMN($B$7)+1)),"",$B$5-(WEEKDAY($B$5,1)-(Accueil!$B$1-1))-IF((WEEKDAY($B$5,1)-(Accueil!$B$1-1))<=0,7,0)+(ROW(F12)-ROW($B$7))*7+(COLUMN(F12)-COLUMN($B$7)+1)) | L12: =IF(MONTH($B$5)<>MONTH($B$5-(WEEKDAY($B$5,1)-(Accueil!$B$1-1))-IF((WEEKDAY($B$5,1)-(Accueil!$B$1-1))<=0,7,0)+(ROW(G12)-ROW($B$7))*7+(COLUMN(G12)-COLUMN($B$7)+1)),"",$B$5-(WEEKDAY($B$5,1)-(Accueil!$B$1-1))-IF((WEEKDAY($B$5,1)-(Accueil!$B$1-1))<=0,7,0)+(ROW(G12)-ROW($B$7))*7+(COLUMN(G12)-COLUMN($B$7)+1)) | N12: =IF(MONTH($B$5)<>MONTH($B$5-(WEEKDAY($B$5,1)-(Accueil!$B$1-1))-IF((WEEKDAY($B$5,1)-(Accueil!$B$1-1))<=0,7,0)+(ROW(H12)-ROW($B$7))*7+(COLUMN(H12)-COLUMN($B$7)+1)),"",$B$5-(WEEKDAY($B$5,1)-(Accueil!$B$1-1))-IF((WEEKDAY($B$5,1)-(Accueil!$B$1-1))<=0,7,0)+(ROW(H12)-ROW($B$7))*7+(COLUMN(H12)-COLUMN($B$7)+1)) | P12: =IF(B12="","",B12) -> 44347 | Q12: =IF(P12="","",(INT(MOD(INT((P12-2)/7)+0.6,52+5/28))+1)) -> 22 | S12: Jours semaine nuit | T12: =(T6*1.25*8) -> 0 | W12: =(T6*1.25*8)*U12 -> 0
S13: Journée de pont | T13: =(T6*1.5*12) -> 0 | W13: =(T6*1.5*12)*U13 -> 0
S14: Jours fériés | T14: =(T6*2*12)+(8*T6) -> 0 | W14: =(T6*2*12+T6*8)*U14 -> 0
S15: Heure sup m/a-m | T15: =(T6*1.56*8) -> 0 | W15: =(T15*U15) -> 0
S16: Heure sup nuit | T16: =(T6*1.875*8) -> 0 | W16: =T16*U16 -> 0
S17: Réunion | T17: =(T6*1.5) -> 0 | W17: =T17*V17 -> 0
C18: et il faudrait un bouton pour sauvegarder la feuille | S18: Formation | T18: =(T6*1.5) -> 0 | W18: =(T18*V18) -> 0
S19: Ticket restaurant | T19: 8 | U19: =(2*U7)+(U8*3)+(U9*2)+(U10*3)+U11+U12+(U14*3)+U15+U16 -> 0 | W19: =U19*T19 -> 0
S20: Trajet par Voyage | T20: 4.5 | U20: =(U7+U8+U9+U10) -> 0 | W20: =(T20*U20) -> 0
S21: Prime flex salaire
S22: Prime de transfert
S23: Congé ancienneté
S25: Total brut | W25: =(W7+W8+W9+W10+W11+W12+W13+W14+W15+W16+W17+W18+W19+W20+W21+W22+W23) -> 0
S26: Total net | W26: =(W25*0.84) -> 0

Sheet Données
A1: LETTRE | B1: DÉNOMINATION | D1: MOIS | E1: MOIS2 | G1: ANNÉES | I1: JOURS | J1: DATES
A2: sn | B2: Samedi nuit | D2: 1 | E2: Janvier | G2: 2021 | I2: Premier de l'AN | J2: =DATE(Accueil!C1,1,1) -> 44197
A3: dn | B3: Dimanche nuit | D3: 2 | E3: Février | G3: 2022 | I3: Pâques | J3: =ROUND(DATE(Accueil!C1,4,MOD(234-11*MOD(Accueil!C1,19),30))/7,0)*7-6 -> 44290
A4: sm | B4: Samedi matin | D4: 3 | E4: Mars | G4: 2023 | I4: Lundi de Pâques | J4: =J3+1 -> 44291
A5: dm | B5: Dimanche matin | D5: 4 | E5: Avril | G5: 2024 | I5: Fête du travail | J5: =DATE(Accueil!C1,5,1) -> 44317
A6: js m/a | B6: Js M/A-p | D6: 5 | E6: Mai | G6: 2025 | I6: Victoire de 1945 | J6: =DATE(Accueil!C1,5,8) -> 44324
A7: js n | B7: Js Nuit | D7: 6 | E7: Juin | G7: 2026 | I7: Ascension | J7: =J3+39 -> 44329
A8: jp | B8: J de Pont | D8: 7 | E8: Juillet | G8: 2027 | I8: Pentecôte | J8: =J3+50 -> 44340
A9: jf | B9: Jours fériés | D9: 8 | E9: Août | G9: 2028 | I9: Fête nationale | J9: =DATE(Accueil!C1,7,14) -> 44391
A10: h m/a | B10: Heure sup m/a-p | D10: 9 | E10: Septembre | G10: 2029 | I10: Assomption | J10: =DATE(Accueil!C1,8,15) -> 44423
A11: h n | B11: Heure sup nuit | D11: 10 | E11: Octobre | G11: 2030 | I11: Toussaint | J11: =DATE(Accueil!C1,11,1) -> 44501
D12: 11 | E12: Novembre | I12: Armistice | J12: =DATE(Accueil!C1,11,11) -> 44511
D13: 12 | E13: Décembre | I13: Noël | J13: =DATE(Accueil!C1,12,25) -> 44555
