Workbook

Sheet Total poids
B2: Poids | E2: Total Poids
B3: P1 | C3: 600 | E3: =SUM(C3:C8) -> 3600
B4: P2 | C4: 600
B5: P3 | C5: 600
B6: P4 | C6: 600
B7: P5 | C7: 600
B8: P6 | C8: 600

Sheet L1
B2: Date | C2: Heure | D2: Team | E2: M1 | H2: ='Total poids'!C3 -> 600 | I2: M2 | L2: ='Total poids'!C4 -> 600 | M2: M3 | P2: ='Total poids'!C5 -> 600 | Q2: M4 | T2: ='Total poids'!C6 -> 600 | U2: M5 | X2: ='Total poids'!C7 -> 600 | Y2: M6 | AB2: ='Total poids'!C8 -> 600 | AC2: TOTAL | AE2: {='Total poids'!E3:F3} -> 3600 | AF2: 0
AC3: Poids kg/h | AD3: Poids/Nom | AE3: Remarques
B4: 44114 | C4: 0.42361111 | D4: T23 | E4: 1550 | F4: =IF(E4="","",E4*0.36) -> 558 | G4: =IF(B4="","",$H$2) -> 600 | H4: =IFERROR(IF(E4="","",F4/G4),"") -> 0.93 | I4: 1550 | J4: =IF(I4="","",I4*0.36) -> 558 | K4: =IF(B4="","",$L$2) -> 600 | L4: =IFERROR(IF(I4="","",J4/K4),"") -> 0.93 | M4: 1550 | N4: =IF(M4="","",M4*0.36) -> 558 | O4: =IF(B4="","",$P$2) -> 600 | P4: =IFERROR(IF(M4="","",N4/O4),"") -> 0.93 | Q4: 1550 | R4: =IF(Q4="","",Q4*0.36) -> 558 | S4: =IF(B4="","",$T$2) -> 600 | T4: =IFERROR(IF(Q4="","",R4/S4),"") -> 0.93 | U4: 1550 | V4: =IF(U4="","",U4*0.36) -> 558 | W4: =IF(B4="","",$X$2) -> 600 | X4: =IFERROR(IF(U4="","",V4/W4),"") -> 0.93 | Y4: 1550 | Z4: =IF(Y4="","",Y4*0.36) -> 558 | AA4: =IF(B4="","",$AB$2) -> 600 | AB4: =IFERROR(IF(Y4="","",Z4/AA4),"") -> 0.93 | AC4: =IF(B4="","",F4+J4+N4+R4+V4+Z4) -> 3348 | AD4: =IF(B4="","",$AE$2) -> 3600
B5: 44114 | C5: 0.45833333 | D5: T23 | E5: 1550 | F5: =IF(E5="","",E5*0.36) -> 558 | G5: =IF(B5="","",$H$2) -> 600 | H5: =IFERROR(IF(E5="","",F5/G5),"") -> 0.93 | I5: 1550 | J5: =IF(I5="","",I5*0.36) -> 558 | K5: =IF(B5="","",$L$2) -> 600 | L5: =IFERROR(IF(I5="","",J5/K5),"") -> 0.93 | M5: 1450 | N5: =IF(M5="","",M5*0.36) -> 522 | O5: =IF(B5="","",$P$2) -> 600 | P5: =IFERROR(IF(M5="","",N5/O5),"") -> 0.87 | Q5: 1450 | R5: =IF(Q5="","",Q5*0.36) -> 522 | S5: =IF(B5="","",$T$2) -> 600 | T5: =IFERROR(IF(Q5="","",R5/S5),"") -> 0.87 | U5: 1450 | V5: =IF(U5="","",U5*0.36) -> 522 | W5: =IF(B5="","",$X$2) -> 600 | X5: =IFERROR(IF(U5="","",V5/W5),"") -> 0.87 | Y5: 1500 | Z5: =IF(Y5="","",Y5*0.36) -> 540 | AA5: =IF(B5="","",$AB$2) -> 600 | AB5: =IFERROR(IF(Y5="","",Z5/AA5),"") -> 0.9 | AC5: =IF(B5="","",F5+J5+N5+R5+V5+Z5) -> 3222 | AD5: =IF(B5="","",$AE$2) -> 3600
F6: =IF(E6="","",E6*0.36) | G6: =IF(B6="","",$H$2) | H6: =IFERROR(IF(E6="","",F6/G6),"") | J6: =IF(I6="","",I6*0.36) | K6: =IF(B6="","",$L$2) | L6: =IFERROR(IF(I6="","",J6/K6),"") | N6: =IF(M6="","",M6*0.36) | O6: =IF(B6="","",$P$2) | P6: =IFERROR(IF(M6="","",N6/O6),"") | R6: =IF(Q6="","",Q6*0.36) | S6: =IF(B6="","",$T$2) | T6: =IFERROR(IF(Q6="","",R6/S6),"") | V6: =IF(U6="","",U6*0.36) | W6: =IF(B6="","",$X$2) | X6: =IFERROR(IF(U6="","",V6/W6),"") | Z6: =IF(Y6="","",Y6*0.36) | AA6: =IF(B6="","",$AB$2) | AB6: =IFERROR(IF(Y6="","",Z6/AA6),"") | AC6: =IF(B6="","",F6+J6+N6+R6+V6+Z6) | AD6: =IF(B6="","",$AE$2)
F7: =IF(E7="","",E7*0.36) | G7: =IF(B7="","",$H$2) | H7: =IFERROR(IF(E7="","",F7/G7),"") | J7: =IF(I7="","",I7*0.36) | K7: =IF(B7="","",$L$2) | L7: =IFERROR(IF(I7="","",J7/K7),"") | N7: =IF(M7="","",M7*0.36) | O7: =IF(B7="","",$P$2) | P7: =IFERROR(IF(M7="","",N7/O7),"") | R7: =IF(Q7="","",Q7*0.36) | S7: =IF(B7="","",$T$2) | T7: =IFERROR(IF(Q7="","",R7/S7),"") | V7: =IF(U7="","",U7*0.36) | W7: =IF(B7="","",$X$2) | X7: =IFERROR(IF(U7="","",V7/W7),"") | Z7: =IF(Y7="","",Y7*0.36) | AA7: =IF(B7="","",$AB$2) | AB7: =IFERROR(IF(Y7="","",Z7/AA7),"") | AC7: =IF(B7="","",F7+J7+N7+R7+V7+Z7) | AD7: =IF(B7="","",$AE$2)
F8: =IF(E8="","",E8*0.36) | G8: =IF(B8="","",$H$2) | H8: =IFERROR(IF(E8="","",F8/G8),"") | J8: =IF(I8="","",I8*0.36) | K8: =IF(B8="","",$L$2) | L8: =IFERROR(IF(I8="","",J8/K8),"") | N8: =IF(M8="","",M8*0.36) | O8: =IF(B8="","",$P$2) | P8: =IFERROR(IF(M8="","",N8/O8),"") | R8: =IF(Q8="","",Q8*0.36) | S8: =IF(B8="","",$T$2) | T8: =IFERROR(IF(Q8="","",R8/S8),"") | V8: =IF(U8="","",U8*0.36) | W8: =IF(B8="","",$X$2) | X8: =IFERROR(IF(U8="","",V8/W8),"") | Z8: =IF(Y8="","",Y8*0.36) | AA8: =IF(B8="","",$AB$2) | AB8: =IFERROR(IF(Y8="","",Z8/AA8),"") | AC8: =IF(B8="","",F8+J8+N8+R8+V8+Z8) | AD8: =IF(B8="","",$AE$2)
F9: =IF(E9="","",E9*0.36) | G9: =IF(B9="","",$H$2) | H9: =IFERROR(IF(E9="","",F9/G9),"") | J9: =IF(I9="","",I9*0.36) | K9: =IF(B9="","",$L$2) | L9: =IFERROR(IF(I9="","",J9/K9),"") | N9: =IF(M9="","",M9*0.36) | O9: =IF(B9="","",$P$2) | P9: =IFERROR(IF(M9="","",N9/O9),"") | R9: =IF(Q9="","",Q9*0.36) | S9: =IF(B9="","",$T$2) | T9: =IFERROR(IF(Q9="","",R9/S9),"") | V9: =IF(U9="","",U9*0.36) | W9: =IF(B9="","",$X$2) | X9: =IFERROR(IF(U9="","",V9/W9),"") | Z9: =IF(Y9="","",Y9*0.36) | AA9: =IF(B9="","",$AB$2) | AB9: =IFERROR(IF(Y9="","",Z9/AA9),"") | AC9: =IF(B9="","",F9+J9+N9+R9+V9+Z9) | AD9: =IF(B9="","",$AE$2)
F29: =IF(E29="","",E29*0.36) | G29: =IF(B29="","",$H$2) | H29: =IFERROR(IF(E29="","",F29/G29),"") | J29: =IF(I29="","",I29*0.36) | K29: =IF(B29="","",$L$2) | L29: =IFERROR(IF(I29="","",J29/K29),"") | N29: =IF(M29="","",M29*0.36) | O29: =IF(B29="","",$P$2) | P29: =IFERROR(IF(M29="","",N29/O29),"") | R29: =IF(Q29="","",Q29*0.36) | S29: =IF(B29="","",$T$2) | T29: =IFERROR(IF(Q29="","",R29/S29),"") | V29: =IF(U29="","",U29*0.36) | W29: =IF(B29="","",$X$2) | X29: =IFERROR(IF(U29="","",V29/W29),"") | Z29: =IF(Y29="","",Y29*0.36) | AA29: =IF(B29="","",$AB$2) | AB29: =IFERROR(IF(Y29="","",Z29/AA29),"") | AC29: =IF(B29="","",F29+J29+N29+R29+V29+Z29) | AD29: =IF(B29="","",$AE$2)
