Workbook

Sheet Sheet1
A1: Col A | B1: Col B
A2: 1 | B2: 2
A3: 2 | B3: 3
A4: 3 | B4: 4
A5: 4 | B5: 5
A6: 5 | B6: 6
A7: 6 | B7: 7
A8: 7 | B8: 8
A9: 8 | B9: 9
A10: 9 | B10: 10
A11: 10 | B11: 11
A12: 11 | B12: 12
A13: 12 | B13: 13
... A23: 23 | B23: 24
A24: q | B24: q
A25: 24 | B25: 25
A26: 25 | B26: 26
A27: 26 | B27: 27
A28: 27 | B28: 28
A29: 28 | B29: 29
A30: 29 | B30: 30
A31: 30 | B31: 31
A32: 31 | B32: 32
A33: 32 | B33: 33
A34: 33 | B34: 34
A35: 34 | B35: 35
A36: 35 | B36: 36
... A45: 44 | B45: 45
A46: 45
A47: 46
A48: 47
A49: 48
A50: 49
A51: 50
A52: 51

Sheet Sheet2
A1: Col A | B1: Col B
A2: =Sheet1!A2 -> 1 | B2: =Sheet1!B2 -> 2
A3: =Sheet1!A3 -> 2 | B3: =Sheet1!B3 -> 3
A4: =Sheet1!A4 -> 3 | B4: =Sheet1!B4 -> 4
A5: =Sheet1!A5 -> 4 | B5: =Sheet1!B5 -> 5
A6: =Sheet1!A6 -> 5 | B6: =Sheet1!B6 -> 6
A7: =Sheet1!A7 -> 6 | B7: =Sheet1!B7 -> 7
A8: =Sheet1!A8 -> 7 | B8: =Sheet1!B8 -> 8
A9: =Sheet1!A9 -> 8 | B9: =Sheet1!B9 -> 9
A10: =Sheet1!A10 -> 9 | B10: =Sheet1!B10 -> 10
A11: =Sheet1!A11 -> 10 | B11: =Sheet1!B11 -> 11
A12: =Sheet1!A12 -> 11 | B12: =Sheet1!B12 -> 12
A13: =Sheet1!A13 -> 12 | B13: =Sheet1!B13 -> 13
... A22: =Sheet1!A22 -> 21 | B22: =Sheet1!B22 -> 22
A23: =Sheet1!#REF! -> #REF! | B23: =Sheet1!#REF! -> #REF!
A24: =Sheet1!A23 -> 23 | B24: =Sheet1!B23 -> 24
A25: =Sheet1!A25 -> 24 | B25: =Sheet1!B25 -> 25
A26: =Sheet1!A26 -> 25 | B26: =Sheet1!B26 -> 26
A27: =Sheet1!A27 -> 26 | B27: =Sheet1!B27 -> 27
A28: =Sheet1!A28 -> 27 | B28: =Sheet1!B28 -> 28
A29: =Sheet1!A29 -> 28 | B29: =Sheet1!B29 -> 29
A30: =Sheet1!A30 -> 29 | B30: =Sheet1!B30 -> 30
A31: =Sheet1!A31 -> 30 | B31: =Sheet1!B31 -> 31
A32: =Sheet1!A32 -> 31 | B32: =Sheet1!B32 -> 32
A33: =Sheet1!A33 -> 32 | B33: =Sheet1!B33 -> 33
A34: =Sheet1!A34 -> 33 | B34: =Sheet1!B34 -> 34
A35: =Sheet1!A35 -> 34 | B35: =Sheet1!B35 -> 35
A36: =Sheet1!A36 -> 35 | B36: =Sheet1!B36 -> 36
... A45: =Sheet1!A45 -> 44 | B45: =Sheet1!B45 -> 45
A46: 45
A47: 46
A48: 47
A49: 48
A50: 49
A51: 50
A52: 51
