Workbook

Sheet Calendrier
D1: =YEAR(D5) -> 2020 | E1: =YEAR(E5) -> 2020 | F1: =YEAR(F5) -> 2020 | G1: =YEAR(G5) -> 2020 | H1: =YEAR(H5) -> 2020 | I1: =YEAR(I5) -> 2020 | J1: =YEAR(J5) -> 2020 | K1: =YEAR(K5) -> 2020 | ... ENG1: =YEAR(ENG5) -> 2030
D2: =CHOOSE(MONTH(D5),"janvier","février","mars","avril","mai","juin","juillet","aout","septembre","octobre","novembre","décembre") -> janvier | E2: =CHOOSE(MONTH(E5),"janvier","février","mars","avril","mai","juin","juillet","aout","septembre","octobre","novembre","décembre") -> janvier | F2: =CHOOSE(MONTH(F5),"janvier","février","mars","avril","mai","juin","juillet","aout","septembre","octobre","novembre","décembre") -> janvier | G2: =CHOOSE(MONTH(G5),"janvier","février","mars","avril","mai","juin","juillet","aout","septembre","octobre","novembre","décembre") -> janvier | H2: =CHOOSE(MONTH(H5),"janvier","février","mars","avril","mai","juin","juillet","aout","septembre","octobre","novembre","décembre") -> janvier | I2: =CHOOSE(MONTH(I5),"janvier","février","mars","avril","mai","juin","juillet","aout","septembre","octobre","novembre","décembre") -> janvier | J2: =CHOOSE(MONTH(J5),"janvier","février","mars","avril","mai","juin","juillet","aout","septembre","octobre","novembre","décembre") -> janvier | K2: =CHOOSE(MONTH(K5),"janvier","février","mars","avril","mai","juin","juillet","aout","septembre","octobre","novembre","décembre") -> janvier | ... ENG2: =CHOOSE(MONTH(ENG5),"janvier","février","mars","avril","mai","juin","juillet","aout","septembre","octobre","novembre","décembre") -> avril
D3: =CONCATENATE("S",WEEKNUM(D5,2)) -> S1 | E3: =CONCATENATE("S",WEEKNUM(E5,2)) -> S1 | F3: =CONCATENATE("S",WEEKNUM(F5,2)) -> S1 | G3: =CONCATENATE("S",WEEKNUM(G5,2)) -> S1 | H3: =CONCATENATE("S",WEEKNUM(H5,2)) -> S1 | I3: =CONCATENATE("S",WEEKNUM(I5,2)) -> S2 | J3: =CONCATENATE("S",WEEKNUM(J5,2)) -> S2 | K3: =CONCATENATE("S",WEEKNUM(K5,2)) -> S2 | ... ENG3: =CONCATENATE("S",WEEKNUM(ENG5,2)) -> S14
D4: =DAY(D5) -> 1 | E4: =DAY(E5) -> 2 | F4: =DAY(F5) -> 3 | G4: =DAY(G5) -> 4 | H4: =DAY(H5) -> 5 | I4: =DAY(I5) -> 6 | J4: =DAY(J5) -> 7 | K4: =DAY(K5) -> 8 | ... ENG4: =DAY(ENG5) -> 5
D5: 43831 | E5: 43832 | F5: 43833 | G5: 43834 | H5: 43835 | I5: 43836 | J5: 43837 | K5: 43838 | L5: 43839 | M5: 43840 | N5: 43841 | O5: 43842 | P5: 43843 | Q5: 43844 | R5: 43845 | S5: 43846 | T5: 43847 | U5: 43848 | V5: 43849 | W5: 43850 | X5: 43851 | Y5: 43852 | Z5: 43853 | AA5: 43854 | AB5: 43855 | AC5: 43856 | AD5: 43857 | AE5: 43858 | AF5: 43859 | AG5: 43860 | AH5: 43861 | AI5: 43862 | AJ5: 43863 | AK5: 43864 | AL5: 43865 | AM5: 43866 | AN5: 43867 | AO5: 43868 | AP5: 43869 | AQ5: 43870 | AR5: 43871 | AS5: 43872 | AT5: 43873 | AU5: 43874 | AV5: 43875 | AW5: 43876 | AX5: 43877 | AY5: 43878 | AZ5: 43879 | BA5: 43880 | BB5: 43881 | BC5: 43882 | BD5: 43883 | BE5: 43884 | BF5: 43885 | BG5: 43886 | BH5: 43887 | BI5: 43888 | BJ5: 43889 | BK5: 43890 | BL5: 43891 | BM5: 43892 | BN5: 43893 | BO5: 43894 | BP5: 43895 | BQ5: 43896 | BR5: 43897 | BS5: 43898 | BT5: 43899 | BU5: 43900 | BV5: 43901 | BW5: 43902 | BX5: 43903 | BY5: 43904 | BZ5: 43905 | CA5: 43906 | CB5: 43907 | CC5: 43908 | CD5: 43909 | CE5: 43910 | CF5: 43911 | CG5: 43912 | CH5: 43913 | CI5: 43914 | CJ5: 43915 | CK5: 43916 | CL5: 43917 | CM5: 43918 | CN5: 43919 | CO5: 43920 | CP5: 43921 | CQ5: 43922 | CR5: 43923 | CS5: 43924 | CT5: 43925 | CU5: 43926 | CV5: 43927 | CW5: 43928 | CX5: 43929 | CY5: 43930 | CZ5: 43931 | DA5: 43932 | DB5: 43933 | DC5: 43934 | DD5: 43935 | DE5: 43936 | DF5: 43937 | DG5: 43938 | DH5: 43939 | DI5: 43940 | DJ5: 43941 | DK5: 43942 | DL5: 43943 | DM5: 43944 | DN5: 43945 | DO5: 43946 | DP5: 43947 | DQ5: 43948 | DR5: 43949 | DS5: 43950 | DT5: 43951 | DU5: 43952 | DV5: 43953 | DW5: 43954 | DX5: 43955 | DY5: 43956 | DZ5: 43957 | EA5: 43958 | EB5: 43959 | EC5: 43960 | ED5: 43961 | EE5: 43962 | EF5: 43963 | EG5: 43964 | EH5: 43965 | EI5: 43966 | EJ5: 43967 | EK5: 43968 | EL5: 43969 | EM5: 43970 | EN5: 43971 | EO5: 43972 | EP5: 43973 | EQ5: 43974 | ER5: 43975 | ES5: 43976 | ET5: 43977 | EU5: 43978 | EV5: 43979 | EW5: 43980 | EX5: 43981 | EY5: 43982 | EZ5: 43983 | FA5: 43984 | FB5: 43985 | FC5: 43986 | FD5: 43987 | FE5: 43988 | FF5: 43989 | FG5: 43990 | FH5: 43991 | FI5: 43992 | FJ5: 43993 | FK5: 43994 | FL5: 43995 | FM5: 43996 | FN5: 43997 | FO5: 43998 | FP5: 43999 | FQ5: 44000 | FR5: 44001 | FS5: 44002 | FT5: 44003 | FU5: 44004 | FV5: 44005 | FW5: 44006 | FX5: 44007 | FY5: 44008 | FZ5: 44009 | GA5: 44010 | GB5: 44011 | GC5: 44012 | GD5: 44013 | GE5: 44014 | GF5: 44015 | GG5: 44016 | GH5: 44017 | GI5: 44018 | GJ5: 44019 | GK5: 44020 | GL5: 44021 | GM5: 44022 | GN5: 44023 | GO5: 44024 | GP5: 44025 | GQ5: 44026 | GR5: 44027 | GS5: 44028 | GT5: 44029 | GU5: 44030 | GV5: 44031 | GW5: 44032 | GX5: 44033 | GY5: 44034 | GZ5: 44035 | HA5: 44036 | HB5: 44037 | HC5: 44038 | HD5: 44039 | HE5: 44040 | HF5: 44041 | HG5: 44042 | HH5: 44043 | HI5: 44044 | HJ5: 44045 | HK5: 44046 | HL5: 44047 | HM5: 44048 | HN5: 44049 | HO5: 44050 | HP5: 44051 | HQ5: 44052 | HR5: 44053 | HS5: 44054 | HT5: 44055 | HU5: 44056 | HV5: 44057 | HW5: 44058 | HX5: 44059 | HY5: 44060 | HZ5: 44061 | IA5: 44062 | IB5: 44063 | IC5: 44064 | ID5: 44065 | IE5: 44066 | IF5: 44067 | IG5: 44068 | IH5: 44069 | II5: 44070 | IJ5: 44071 | IK5: 44072 | IL5: 44073 | IM5: 44074 | IN5: 44075 | IO5: 44076 | IP5: 44077 | IQ5: 44078 | IR5: 44079 | IS5: 44080 | IT5: 44081 | IU5: 44082 | IV5: 44083 | IW5: 44084 | IX5: 44085 | IY5: 44086 | IZ5: 44087 | JA5: 44088 | JB5: 44089 | JC5: 44090 | JD5: 44091 | JE5: 44092 | JF5: 44093 | JG5: 44094 | JH5: 44095 | JI5: 44096 | JJ5: 44097 | JK5: 44098 | JL5: 44099 | JM5: 44100 | JN5: 44101 | JO5: 44102 | JP5: 44103 | JQ5: 44104 | JR5: 44105 | JS5: 44106 | JT5: 44107 | JU5: 44108 | JV5: 44109 | JW5: 44110 | JX5: 44111 | JY5: 44112 | JZ5: 44113 | KA5: 44114 | KB5: 44115 | KC5: 44116 | KD5: 44117 | KE5: 44118 | KF5: 44119 | KG5: 44120 | KH5: 44121 | KI5: 44122 | KJ5: 44123 | KK5: 44124 | KL5: 44125 | KM5: 44126 | KN5: 44127 | KO5: 44128 | KP5: 44129 | KQ5: 44130 | KR5: 44131 | KS5: 44132 | KT5: 44133 | KU5: 44134 | KV5: 44135 | KW5: 44136 | KX5: 44137 | KY5: 44138 | KZ5: 44139 | LA5: 44140 | LB5: 44141 | LC5: 44142 | LD5: 44143 | LE5: 44144 | LF5: 44145 | LG5: 44146 | LH5: 44147 | LI5: 44148 | LJ5: 44149 | LK5: 44150 | LL5: 44151 | LM5: 44152 | LN5: 44153 | LO5: 44154 | LP5: 44155 | LQ5: 44156 | LR5: 44157 | LS5: 44158 | LT5: 44159 | LU5: 44160 | LV5: 44161 | LW5: 44162 | LX5: 44163 | LY5: 44164 | LZ5: 44165 | MA5: 44166 | MB5: 44167 | MC5: 44168 | MD5: 44169 | ME5: 44170 | MF5: 44171 | MG5: 44172 | MH5: 44173 | MI5: 44174 | MJ5: 44175 | MK5: 44176 | ML5: 44177 | MM5: 44178 | MN5: 44179 | MO5: 44180 | MP5: 44181 | MQ5: 44182 | MR5: 44183 | MS5: 44184 | MT5: 44185 | MU5: 44186 | MV5: 44187 | MW5: 44188 | MX5: 44189 | MY5: 44190 | MZ5: 44191 | NA5: 44192 | NB5: 44193 | NC5: 44194 | ND5: 44195 | NE5: 44196 | NF5: 44197 | NG5: 44198 | NH5: 44199 | NI5: 44200 | NJ5: 44201 | NK5: 44202 | NL5: 44203 | NM5: 44204 | NN5: 44205 | NO5: 44206 | NP5: 44207 | NQ5: 44208 | NR5: 44209 | NS5: 44210 | NT5: 44211 | NU5: 44212 | NV5: 44213 | NW5: 44214 | NX5: 44215 | NY5: 44216 | NZ5: 44217 | OA5: 44218 | OB5: 44219 | OC5: 44220 | OD5: 44221 | OE5: 44222 | OF5: 44223 | OG5: 44224 | OH5: 44225 | OI5: 44226 | OJ5: 44227 | OK5: 44228 | OL5: 44229 | OM5: 44230 | ON5: 44231 | OO5: 44232 | OP5: 44233 | OQ5: 44234 | OR5: 44235 | OS5: 44236 | OT5: 44237 | OU5: 44238 | OV5: 44239 | OW5: 44240 | OX5: 44241 | OY5: 44242 | OZ5: 44243 | PA5: 44244 | PB5: 44245 | PC5: 44246 | PD5: 44247 | PE5: 44248 | PF5: 44249 | PG5: 44250 | PH5: 44251 | PI5: 44252 | PJ5: 44253 | PK5: 44254 | PL5: 44255 | PM5: 44256 | PN5: 44257 | PO5: 44258 | PP5: 44259 | PQ5: 44260 | PR5: 44261 | PS5: 44262 | PT5: 44263 | PU5: 44264 | PV5: 44265 | PW5: 44266 | PX5: 44267 | PY5: 44268 | PZ5: 44269 | QA5: 44270 | QB5: 44271 | QC5: 44272 | QD5: 44273 | QE5: 44274 | QF5: 44275 | QG5: 44276 | QH5: 44277 | QI5: 44278 | QJ5: 44279 | QK5: 44280 | QL5: 44281 | QM5: 44282 | QN5: 44283 | QO5: 44284 | QP5: 44285 | QQ5: 44286 | QR5: 44287 | QS5: 44288 | QT5: 44289 | QU5: 44290 | QV5: 44291 | QW5: 44292 | QX5: 44293 | QY5: 44294 | QZ5: 44295 | RA5: 44296 | RB5: 44297 | RC5: 44298 | RD5: 44299 | RE5: 44300 | RF5: 44301 | RG5: 44302 | RH5: 44303 | RI5: 44304 | RJ5: 44305 | RK5: 44306 | RL5: 44307 | RM5: 44308 | RN5: 44309 | RO5: 44310 | RP5: 44311 | RQ5: 44312 | RR5: 44313 | RS5: 44314 | RT5: 44315 | RU5: 44316 | RV5: 44317 | RW5: 44318 | RX5: 44319 | RY5: 44320 | RZ5: 44321 | SA5: 44322 | SB5: 44323 | SC5: 44324 | SD5: 44325 | SE5: 44326 | SF5: 44327 | SG5: 44328 | SH5: 44329 | SI5: 44330 | SJ5: 44331 | SK5: 44332 | SL5: 44333 | SM5: 44334 | SN5: 44335 | SO5: 44336 | SP5: 44337 | SQ5: 44338 | SR5: 44339 | SS5: 44340 | ST5: 44341 | SU5: 44342 | SV5: 44343 | SW5: 44344 | SX5: 44345 | SY5: 44346 | SZ5: 44347 | TA5: 44348 | TB5: 44349 | TC5: 44350 | TD5: 44351 | TE5: 44352 | TF5: 44353 | TG5: 44354 | TH5: 44355 | TI5: 44356 | TJ5: 44357 | TK5: 44358 | TL5: 44359 | TM5: 44360 | TN5: 44361 | TO5: 44362 | TP5: 44363 | TQ5: 44364 | TR5: 44365 | TS5: 44366 | TT5: 44367 | TU5: 44368 | TV5: 44369 | TW5: 44370 | TX5: 44371 | TY5: 44372 | TZ5: 44373 | UA5: 44374 | UB5: 44375 | UC5: 44376 | UD5: 44377 | UE5: 44378 | UF5: 44379 | UG5: 44380 | UH5: 44381 | UI5: 44382 | UJ5: 44383 | UK5: 44384 | UL5: 44385 | UM5: 44386 | UN5: 44387 | UO5: 44388 | UP5: 44389 | UQ5: 44390 | UR5: 44391 | US5: 44392 | UT5: 44393 | UU5: 44394 | UV5: 44395 | UW5: 44396 | UX5: 44397 | UY5: 44398 | UZ5: 44399 | VA5: 44400 | VB5: 44401 | VC5: 44402 | VD5: 44403 | VE5: 44404 | VF5: 44405 | VG5: 44406 | VH5: 44407 | VI5: 44408 | VJ5: 44409 | VK5: 44410 | VL5: 44411 | VM5: 44412 | VN5: 44413 | VO5: 44414 | VP5: 44415 | VQ5: 44416 | VR5: 44417 | VS5: 44418 | VT5: 44419 | VU5: 44420 | VV5: 44421 | VW5: 44422 | VX5: 44423 | VY5: 44424 | VZ5: 44425 | WA5: 44426 | WB5: 44427 | WC5: 44428 | WD5: 44429 | WE5: 44430 | WF5: 44431 | WG5: 44432 | WH5: 44433 | WI5: 44434 | WJ5: 44435 | WK5: 44436 | WL5: 44437 | WM5: 44438 | WN5: 44439 | WO5: 44440 | WP5: 44441 | WQ5: 44442 | WR5: 44443 | WS5: 44444 | WT5: 44445 | WU5: 44446 | WV5: 44447 | WW5: 44448 | WX5: 44449 | WY5: 44450 | WZ5: 44451 | XA5: 44452 | XB5: 44453 | XC5: 44454 | XD5: 44455 | XE5: 44456 | XF5: 44457 | XG5: 44458 | XH5: 44459 | XI5: 44460 | XJ5: 44461 | XK5: 44462 | XL5: 44463 | XM5: 44464 | XN5: 44465 | XO5: 44466 | XP5: 44467 | XQ5: 44468 | XR5: 44469 | XS5: 44470 | XT5: 44471 | XU5: 44472 | XV5: 44473 | XW5: 44474 | XX5: 44475 | XY5: 44476 | XZ5: 44477 | YA5: 44478 | YB5: 44479 | YC5: 44480 | YD5: 44481 | YE5: 44482 | YF5: 44483 | YG5: 44484 | YH5: 44485 | YI5: 44486 | YJ5: 44487 | YK5: 44488 | YL5: 44489 | YM5: 44490 | YN5: 44491 | YO5: 44492 | YP5: 44493 | YQ5: 44494 | YR5: 44495 | YS5: 44496 | YT5: 44497 | YU5: 44498 | YV5: 44499 | YW5: 44500 | YX5: 44501 | YY5: 44502 | YZ5: 44503 | ZA5: 44504 | ZB5: 44505 | ZC5: 44506 | ZD5: 44507 | ZE5: 44508 | ZF5: 44509 | ZG5: 44510 | ZH5: 44511 | ZI5: 44512 | ZJ5: 44513 | ZK5: 44514 | ZL5: 44515 | ZM5: 44516 | ZN5: 44517 | ZO5: 44518 | ZP5: 44519 | ZQ5: 44520 | ZR5: 44521 | ZS5: 44522 | ZT5: 44523 | ZU5: 44524 | ZV5: 44525 | ZW5: 44526 | ZX5: 44527 | ZY5: 44528 | ZZ5: 44529 | AAA5: 44530 | AAB5: 44531 | AAC5: 44532 | AAD5: 44533 | AAE5: 44534 | AAF5: 44535 | AAG5: 44536 | AAH5: 44537 | AAI5: 44538 | AAJ5: 44539 | AAK5: 44540 | AAL5: 44541 | AAM5: 44542 | AAN5: 44543 | AAO5: 44544 | AAP5: 44545 | AAQ5: 44546 | AAR5: 44547 | AAS5: 44548 | AAT5: 44549 | AAU5: 44550 | AAV5: 44551 | AAW5: 44552 | AAX5: 44553 | AAY5: 44554 | AAZ5: 44555 | ABA5: 44556 | ABB5: 44557 | ABC5: 44558 | ABD5: 44559 | ABE5: 44560 | ABF5: 44561 | ABG5: 44562 | ABH5: 44563 | ABI5: 44564 | ABJ5: 44565 | ABK5: 44566 | ABL5: 44567 | ABM5: 44568 | ABN5: 44569 | ABO5: 44570 | ABP5: 44571 | ABQ5: 44572 | ABR5: 44573 | ABS5: 44574 | ABT5: 44575 | ABU5: 44576 | ABV5: 44577 | ABW5: 44578 | ABX5: 44579 | ABY5: 44580 | ABZ5: 44581 | ACA5: 44582 | ACB5: 44583 | ACC5: 44584 | ACD5: 44585 | ACE5: 44586 | ACF5: 44587 | ACG5: 44588 | ACH5: 44589 | ACI5: 44590 | ACJ5: 44591 | ACK5: 44592 | ACL5: 44593 | ACM5: 44594 | ACN5: 44595 | ACO5: 44596 | ACP5: 44597 | ACQ5: 44598 | ACR5: 44599 | ACS5: 44600 | ACT5: 44601 | ACU5: 44602 | ACV5: 44603 | ACW5: 44604 | ACX5: 44605 | ACY5: 44606 | ACZ5: 44607 | ADA5: 44608 | ADB5: 44609 | ADC5: 44610 | ADD5: 44611 | ADE5: 44612 | ADF5: 44613 | ADG5: 44614 | ADH5: 44615 | ADI5: 44616 | ADJ5: 44617 | ADK5: 44618 | ADL5: 44619 | ADM5: 44620 | ADN5: 44621 | ADO5: 44622 | ADP5: 44623 | ADQ5: 44624 | ADR5: 44625 | ADS5: 44626 | ADT5: 44627 | ADU5: 44628 | ADV5: 44629 | ADW5: 44630 | ADX5: 44631 | ADY5: 44632 | ADZ5: 44633 | AEA5: 44634 | AEB5: 44635 | AEC5: 44636 | AED5: 44637 | AEE5: 44638 | AEF5: 44639 | AEG5: 44640 | AEH5: 44641 | AEI5: 44642 | AEJ5: 44643 | AEK5: 44644 | AEL5: 44645 | AEM5: 44646 | AEN5: 44647 | AEO5: 44648 | AEP5: 44649 | AEQ5: 44650 | AER5: 44651 | AES5: 44652 | AET5: 44653 | AEU5: 44654 | AEV5: 44655 | AEW5: 44656 | AEX5: 44657 | AEY5: 44658 | AEZ5: 44659 | AFA5: 44660 | AFB5: 44661 | AFC5: 44662 | AFD5: 44663 | AFE5: 44664 | AFF5: 44665 | AFG5: 44666 | AFH5: 44667 | AFI5: 44668 | AFJ5: 44669 | AFK5: 44670 | AFL5: 44671 | AFM5: 44672 | AFN5: 44673 | AFO5: 44674 | AFP5: 44675 | AFQ5: 44676 | AFR5: 44677 | AFS5: 44678 | AFT5: 44679 | AFU5: 44680 | AFV5: 44681 | AFW5: 44682 | AFX5: 44683 | AFY5: 44684 | AFZ5: 44685 | AGA5: 44686 | AGB5: 44687 | AGC5: 44688 | AGD5: 44689 | AGE5: 44690 | AGF5: 44691 | AGG5: 44692 | AGH5: 44693 | AGI5: 44694 | AGJ5: 44695 | AGK5: 44696 | AGL5: 44697 | AGM5: 44698 | AGN5: 44699 | AGO5: 44700 | AGP5: 44701 | AGQ5: 44702 | AGR5: 44703 | AGS5: 44704 | AGT5: 44705 | AGU5: 44706 | AGV5: 44707 | AGW5: 44708 | AGX5: 44709 | AGY5: 44710 | AGZ5: 44711 | AHA5: 44712 | AHB5: 44713 | AHC5: 44714 | AHD5: 44715 | AHE5: 44716 | AHF5: 44717 | AHG5: 44718 | AHH5: 44719 | AHI5: 44720 | AHJ5: 44721 | AHK5: 44722 | AHL5: 44723 | AHM5: 44724 | AHN5: 44725 | AHO5: 44726 | AHP5: 44727 | AHQ5: 44728 | AHR5: 44729 | AHS5: 44730 | AHT5: 44731 | AHU5: 44732 | AHV5: 44733 | AHW5: 44734 | AHX5: 44735 | AHY5: 44736 | AHZ5: 44737 | AIA5: 44738 | AIB5: 44739 | AIC5: 44740 | AID5: 44741 | AIE5: 44742 | AIF5: 44743 | AIG5: 44744 | AIH5: 44745 | AII5: 44746 | AIJ5: 44747 | AIK5: 44748 | AIL5: 44749 | AIM5: 44750 | AIN5: 44751 | AIO5: 44752 | AIP5: 44753 | AIQ5: 44754 | AIR5: 44755 | AIS5: 44756 | AIT5: 44757 | AIU5: 44758 | AIV5: 44759 | AIW5: 44760 | AIX5: 44761 | AIY5: 44762 | AIZ5: 44763 | AJA5: 44764 | AJB5: 44765 | AJC5: 44766 | AJD5: 44767 | AJE5: 44768 | AJF5: 44769 | AJG5: 44770 | AJH5: 44771 | AJI5: 44772 | AJJ5: 44773 | AJK5: 44774 | AJL5: 44775 | AJM5: 44776 | AJN5: 44777 | AJO5: 44778 | AJP5: 44779 | AJQ5: 44780 | AJR5: 44781 | AJS5: 44782 | AJT5: 44783 | AJU5: 44784 | AJV5: 44785 | AJW5: 44786 | AJX5: 44787 | AJY5: 44788 | AJZ5: 44789 | AKA5: 44790 | AKB5: 44791 | AKC5: 44792 | AKD5: 44793 | AKE5: 44794 | AKF5: 44795 | AKG5: 44796 | AKH5: 44797 | AKI5: 44798 | AKJ5: 44799 | AKK5: 44800 | AKL5: 44801 | AKM5: 44802 | AKN5: 44803 | AKO5: 44804 | AKP5: 44805 | AKQ5: 44806 | AKR5: 44807 | AKS5: 44808 | AKT5: 44809 | AKU5: 44810 | AKV5: 44811 | AKW5: 44812 | AKX5: 44813 | AKY5: 44814 | AKZ5: 44815 | ALA5: 44816 | ALB5: 44817 | ALC5: 44818 | ALD5: 44819 | ALE5: 44820 | ALF5: 44821 | ALG5: 44822 | ALH5: 44823 | ALI5: 44824 | ALJ5: 44825 | ALK5: 44826 | ALL5: 44827 | ALM5: 44828 | ALN5: 44829 | ALO5: 44830 | ALP5: 44831 | ALQ5: 44832 | ALR5: 44833 | ALS5: 44834 | ALT5: 44835 | ALU5: 44836 | ALV5: 44837 | ALW5: 44838 | ALX5: 44839 | ALY5: 44840 | ALZ5: 44841 | AMA5: 44842 | AMB5: 44843 | AMC5: 44844 | AMD5: 44845 | AME5: 44846 | AMF5: 44847 | AMG5: 44848 | AMH5: 44849 | AMI5: 44850 | AMJ5: 44851 | AMK5: 44852 | AML5: 44853 | AMM5: 44854 | AMN5: 44855 | AMO5: 44856 | AMP5: 44857 | AMQ5: 44858 | AMR5: 44859 | AMS5: 44860 | AMT5: 44861 | AMU5: 44862 | AMV5: 44863 | AMW5: 44864 | AMX5: 44865 | AMY5: 44866 | AMZ5: 44867 | ANA5: 44868 | ANB5: 44869 | ANC5: 44870 | AND5: 44871 | ANE5: 44872 | ANF5: 44873 | ANG5: 44874 | ANH5: 44875 | ANI5: 44876 | ANJ5: 44877 | ANK5: 44878 | ANL5: 44879 | ANM5: 44880 | ANN5: 44881 | ANO5: 44882 | ANP5: 44883 | ANQ5: 44884 | ANR5: 44885 | ANS5: 44886 | ANT5: 44887 | ANU5: 44888 | ANV5: 44889 | ANW5: 44890 | ANX5: 44891 | ANY5: 44892 | ANZ5: 44893 | AOA5: 44894 | AOB5: 44895 | AOC5: 44896 | AOD5: 44897 | AOE5: 44898 | AOF5: 44899 | AOG5: 44900 | AOH5: 44901 | AOI5: 44902 | AOJ5: 44903 | AOK5: 44904 | AOL5: 44905 | AOM5: 44906 | AON5: 44907 | AOO5: 44908 | AOP5: 44909 | AOQ5: 44910 | AOR5: 44911 | AOS5: 44912 | AOT5: 44913 | AOU5: 44914 | AOV5: 44915 | AOW5: 44916 | AOX5: 44917 | AOY5: 44918 | AOZ5: 44919 | APA5: 44920 | APB5: 44921 | APC5: 44922 | APD5: 44923 | APE5: 44924 | APF5: 44925 | APG5: 44926 | APH5: 44927 | API5: 44928 | APJ5: 44929 | APK5: 44930 | APL5: 44931 | APM5: 44932 | APN5: 44933 | APO5: 44934 | APP5: 44935 | APQ5: 44936 | APR5: 44937 | APS5: 44938 | APT5: 44939 | APU5: 44940 | APV5: 44941 | APW5: 44942 | APX5: 44943 | APY5: 44944 | APZ5: 44945 | AQA5: 44946 | AQB5: 44947 | AQC5: 44948 | AQD5: 44949 | AQE5: 44950 | AQF5: 44951 | AQG5: 44952 | AQH5: 44953 | AQI5: 44954 | AQJ5: 44955 | AQK5: 44956 | AQL5: 44957 | AQM5: 44958 | AQN5: 44959 | AQO5: 44960 | AQP5: 44961 | AQQ5: 44962 | AQR5: 44963 | AQS5: 44964 | AQT5: 44965 | AQU5: 44966 | AQV5: 44967 | AQW5: 44968 | AQX5: 44969 | AQY5: 44970 | AQZ5: 44971 | ARA5: 44972 | ARB5: 44973 | ARC5: 44974 | ARD5: 44975 | ARE5: 44976 | ARF5: 44977 | ARG5: 44978 | ARH5: 44979 | ARI5: 44980 | ARJ5: 44981 | ARK5: 44982 | ARL5: 44983 | ARM5: 44984 | ARN5: 44985 | ARO5: 44986 | ARP5: 44987 | ARQ5: 44988 | ARR5: 44989 | ARS5: 44990 | ART5: 44991 | ARU5: 44992 | ARV5: 44993 | ARW5: 44994 | ARX5: 44995 | ARY5: 44996 | ARZ5: 44997 | ASA5: 44998 | ASB5: 44999 | ASC5: 45000 | ASD5: 45001 | ASE5: 45002 | ASF5: 45003 | ASG5: 45004 | ASH5: 45005 | ASI5: 45006 | ASJ5: 45007 | ASK5: 45008 | ASL5: 45009 | ASM5: 45010 | ASN5: 45011 | ASO5: 45012 | ASP5: 45013 | ASQ5: 45014 | ASR5: 45015 | ASS5: 45016 | AST5: 45017 | ASU5: 45018 | ASV5: 45019 | ASW5: 45020 | ASX5: 45021 | ASY5: 45022 | ASZ5: 45023 | ATA5: 45024 | ATB5: 45025 | ATC5: 45026 | ATD5: 45027 | ATE5: 45028 | ATF5: 45029 | ATG5: 45030 | ATH5: 45031 | ATI5: 45032 | ATJ5: 45033 | ATK5: 45034 | ATL5: 45035 | ATM5: 45036 | ATN5: 45037 | ATO5: 45038 | ATP5: 45039 | ATQ5: 45040 | ATR5: 45041 | ATS5: 45042 | ATT5: 45043 | ATU5: 45044 | ATV5: 45045 | ATW5: 45046 | ATX5: 45047 | ATY5: 45048 | ATZ5: 45049 | AUA5: 45050 | AUB5: 45051 | AUC5: 45052 | AUD5: 45053 | AUE5: 45054 | AUF5: 45055 | AUG5: 45056 | AUH5: 45057 | AUI5: 45058 | AUJ5: 45059 | AUK5: 45060 | AUL5: 45061 | AUM5: 45062 | AUN5: 45063 | AUO5: 45064 | AUP5: 45065 | AUQ5: 45066 | AUR5: 45067 | AUS5: 45068 | AUT5: 45069 | AUU5: 45070 | AUV5: 45071 | AUW5: 45072 | AUX5: 45073 | AUY5: 45074 | AUZ5: 45075 | AVA5: 45076 | AVB5: 45077 | AVC5: 45078 | AVD5: 45079 | AVE5: 45080 | AVF5: 45081 | AVG5: 45082 | AVH5: 45083 | AVI5: 45084 | AVJ5: 45085 | AVK5: 45086 | AVL5: 45087 | AVM5: 45088 | AVN5: 45089 | AVO5: 45090 | AVP5: 45091 | AVQ5: 45092 | AVR5: 45093 | AVS5: 45094 | AVT5: 45095 | AVU5: 45096 | AVV5: 45097 | AVW5: 45098 | AVX5: 45099 | AVY5: 45100 | AVZ5: 45101 | AWA5: 45102 | AWB5: 45103 | AWC5: 45104 | AWD5: 45105 | AWE5: 45106 | AWF5: 45107 | AWG5: 45108 | AWH5: 45109 | AWI5: 45110 | AWJ5: 45111 | AWK5: 45112 | AWL5: 45113 | AWM5: 45114 | AWN5: 45115 | AWO5: 45116 | AWP5: 45117 | AWQ5: 45118 | AWR5: 45119 | AWS5: 45120 | AWT5: 45121 | AWU5: 45122 | AWV5: 45123 | AWW5: 45124 | AWX5: 45125 | AWY5: 45126 | AWZ5: 45127 | AXA5: 45128 | AXB5: 45129 | AXC5: 45130 | AXD5: 45131 | AXE5: 45132 | AXF5: 45133 | AXG5: 45134 | AXH5: 45135 | AXI5: 45136 | AXJ5: 45137 | AXK5: 45138 | AXL5: 45139 | AXM5: 45140 | AXN5: 45141 | AXO5: 45142 | AXP5: 45143 | AXQ5: 45144 | AXR5: 45145 | AXS5: 45146 | AXT5: 45147 | AXU5: 45148 | AXV5: 45149 | AXW5: 45150 | AXX5: 45151 | AXY5: 45152 | AXZ5: 45153 | AYA5: 45154 | AYB5: 45155 | AYC5: 45156 | AYD5: 45157 | AYE5: 45158 | AYF5: 45159 | AYG5: 45160 | AYH5: 45161 | AYI5: 45162 | AYJ5: 45163 | AYK5: 45164 | AYL5: 45165 | AYM5: 45166 | AYN5: 45167 | AYO5: 45168 | AYP5: 45169 | AYQ5: 45170 | AYR5: 45171 | AYS5: 45172 | AYT5: 45173 | AYU5: 45174 | AYV5: 45175 | AYW5: 45176 | AYX5: 45177 | AYY5: 45178 | AYZ5: 45179 | AZA5: 45180 | AZB5: 45181 | AZC5: 45182 | AZD5: 45183 | AZE5: 45184 | AZF5: 45185 | AZG5: 45186 | AZH5: 45187 | AZI5: 45188 | AZJ5: 45189 | AZK5: 45190 | AZL5: 45191 | AZM5: 45192 | AZN5: 45193 | AZO5: 45194 | AZP5: 45195 | AZQ5: 45196 | AZR5: 45197 | AZS5: 45198 | AZT5: 45199 | AZU5: 45200 | AZV5: 45201 | AZW5: 45202 | AZX5: 45203 | AZY5: 45204 | AZZ5: 45205 | BAA5: 45206 | BAB5: 45207 | BAC5: 45208 | BAD5: 45209 | BAE5: 45210 | BAF5: 45211 | BAG5: 45212 | BAH5: 45213 | BAI5: 45214 | BAJ5: 45215 | BAK5: 45216 | BAL5: 45217 | BAM5: 45218 | BAN5: 45219 | BAO5: 45220 | BAP5: 45221 | BAQ5: 45222 | BAR5: 45223 | BAS5: 45224 | BAT5: 45225 | BAU5: 45226 | BAV5: 45227 | BAW5: 45228 | BAX5: 45229 | BAY5: 45230 | BAZ5: 45231 | BBA5: 45232 | BBB5: 45233 | BBC5: 45234 | BBD5: 45235 | BBE5: 45236 | BBF5: 45237 | BBG5: 45238 | BBH5: 45239 | BBI5: 45240 | BBJ5: 45241 | BBK5: 45242 | BBL5: 45243 | BBM5: 45244 | BBN5: 45245 | BBO5: 45246 | BBP5: 45247 | BBQ5: 45248 | BBR5: 45249 | BBS5: 45250 | BBT5: 45251 | BBU5: 45252 | BBV5: 45253 | BBW5: 45254 | BBX5: 45255 | BBY5: 45256 | BBZ5: 45257 | BCA5: 45258 | BCB5: 45259 | BCC5: 45260 | BCD5: 45261 | BCE5: 45262 | BCF5: 45263 | BCG5: 45264 | BCH5: 45265 | BCI5: 45266 | BCJ5: 45267 | BCK5: 45268 | BCL5: 45269 | BCM5: 45270 | BCN5: 45271 | BCO5: 45272 | BCP5: 45273 | BCQ5: 45274 | BCR5: 45275 | BCS5: 45276 | BCT5: 45277 | BCU5: 45278 | BCV5: 45279 | BCW5: 45280 | BCX5: 45281 | BCY5: 45282 | BCZ5: 45283 | BDA5: 45284 | BDB5: 45285 | BDC5: 45286 | BDD5: 45287 | BDE5: 45288 | BDF5: 45289 | BDG5: 45290 | BDH5: 45291 | BDI5: 45292 | BDJ5: 45293 | BDK5: 45294 | BDL5: 45295 | BDM5: 45296 | BDN5: 45297 | BDO5: 45298 | BDP5: 45299 | BDQ5: 45300 | BDR5: 45301 | BDS5: 45302 | BDT5: 45303 | BDU5: 45304 | BDV5: 45305 | BDW5: 45306 | BDX5: 45307 | BDY5: 45308 | BDZ5: 45309 | BEA5: 45310 | BEB5: 45311 | BEC5: 45312 | BED5: 45313 | BEE5: 45314 | BEF5: 45315 | BEG5: 45316 | BEH5: 45317 | BEI5: 45318 | BEJ5: 45319 | BEK5: 45320 | BEL5: 45321 | BEM5: 45322 | BEN5: 45323 | BEO5: 45324 | BEP5: 45325 | BEQ5: 45326 | BER5: 45327 | BES5: 45328 | BET5: 45329 | BEU5: 45330 | BEV5: 45331 | BEW5: 45332 | BEX5: 45333 | BEY5: 45334 | BEZ5: 45335 | BFA5: 45336 | BFB5: 45337 | BFC5: 45338 | BFD5: 45339 | BFE5: 45340 | BFF5: 45341 | BFG5: 45342 | BFH5: 45343 | BFI5: 45344 | BFJ5: 45345 | BFK5: 45346 | BFL5: 45347 | BFM5: 45348 | BFN5: 45349 | BFO5: 45350 | BFP5: 45351 | BFQ5: 45352 | BFR5: 45353 | BFS5: 45354 | BFT5: 45355 | BFU5: 45356 | BFV5: 45357 | BFW5: 45358 | BFX5: 45359 | BFY5: 45360 | BFZ5: 45361 | BGA5: 45362 | BGB5: 45363 | BGC5: 45364 | BGD5: 45365 | BGE5: 45366 | BGF5: 45367 | BGG5: 45368 | BGH5: 45369 | BGI5: 45370 | BGJ5: 45371 | BGK5: 45372 | BGL5: 45373 | BGM5: 45374 | BGN5: 45375 | BGO5: 45376 | BGP5: 45377 | BGQ5: 45378 | BGR5: 45379 | BGS5: 45380 | BGT5: 45381 | BGU5: 45382 | BGV5: 45383 | BGW5: 45384 | BGX5: 45385 | BGY5: 45386 | BGZ5: 45387 | BHA5: 45388 | BHB5: 45389 | BHC5: 45390 | BHD5: 45391 | BHE5: 45392 | BHF5: 45393 | BHG5: 45394 | BHH5: 45395 | BHI5: 45396 | BHJ5: 45397 | BHK5: 45398 | BHL5: 45399 | BHM5: 45400 | BHN5: 45401 | BHO5: 45402 | BHP5: 45403 | BHQ5: 45404 | BHR5: 45405 | BHS5: 45406 | BHT5: 45407 | BHU5: 45408 | BHV5: 45409 | BHW5: 45410 | BHX5: 45411 | BHY5: 45412 | BHZ5: 45413 | BIA5: 45414 | BIB5: 45415 | BIC5: 45416 | BID5: 45417 | BIE5: 45418 | BIF5: 45419 | BIG5: 45420 | BIH5: 45421 | BII5: 45422 | BIJ5: 45423 | BIK5: 45424 | BIL5: 45425 | BIM5: 45426 | BIN5: 45427 | BIO5: 45428 | BIP5: 45429 | BIQ5: 45430 | BIR5: 45431 | BIS5: 45432 | BIT5: 45433 | BIU5: 45434 | BIV5: 45435 | BIW5: 45436 | BIX5: 45437 | BIY5: 45438 | BIZ5: 45439 | BJA5: 45440 | BJB5: 45441 | BJC5: 45442 | BJD5: 45443 | BJE5: 45444 | BJF5: 45445 | BJG5: 45446 | BJH5: 45447 | BJI5: 45448 | BJJ5: 45449 | BJK5: 45450 | BJL5: 45451 | BJM5: 45452 | BJN5: 45453 | BJO5: 45454 | BJP5: 45455 | BJQ5: 45456 | BJR5: 45457 | BJS5: 45458 | BJT5: 45459 | BJU5: 45460 | BJV5: 45461 | BJW5: 45462 | BJX5: 45463 | BJY5: 45464 | BJZ5: 45465 | BKA5: 45466 | BKB5: 45467 | BKC5: 45468 | BKD5: 45469 | BKE5: 45470 | BKF5: 45471 | BKG5: 45472 | BKH5: 45473 | BKI5: 45474 | BKJ5: 45475 | BKK5: 45476 | BKL5: 45477 | BKM5: 45478 | BKN5: 45479 | BKO5: 45480 | BKP5: 45481 | BKQ5: 45482 | BKR5: 45483 | BKS5: 45484 | BKT5: 45485 | BKU5: 45486 | BKV5: 45487 | BKW5: 45488 | BKX5: 45489 | BKY5: 45490 | BKZ5: 45491 | BLA5: 45492 | BLB5: 45493 | BLC5: 45494 | BLD5: 45495 | BLE5: 45496 | BLF5: 45497 | BLG5: 45498 | BLH5: 45499 | BLI5: 45500 | BLJ5: 45501 | BLK5: 45502 | BLL5: 45503 | BLM5: 45504 | BLN5: 45505 | BLO5: 45506 | BLP5: 45507 | BLQ5: 45508 | BLR5: 45509 | BLS5: 45510 | BLT5: 45511 | BLU5: 45512 | BLV5: 45513 | BLW5: 45514 | BLX5: 45515 | BLY5: 45516 | BLZ5: 45517 | BMA5: 45518 | BMB5: 45519 | BMC5: 45520 | BMD5: 45521 | BME5: 45522 | BMF5: 45523 | BMG5: 45524 | BMH5: 45525 | BMI5: 45526 | BMJ5: 45527 | BMK5: 45528 | BML5: 45529 | BMM5: 45530 | BMN5: 45531 | BMO5: 45532 | BMP5: 45533 | BMQ5: 45534 | BMR5: 45535 | BMS5: 45536 | BMT5: 45537 | BMU5: 45538 | BMV5: 45539 | BMW5: 45540 | BMX5: 45541 | BMY5: 45542 | BMZ5: 45543 | BNA5: 45544 | BNB5: 45545 | BNC5: 45546 | BND5: 45547 | BNE5: 45548 | BNF5: 45549 | BNG5: 45550 | BNH5: 45551 | BNI5: 45552 | BNJ5: 45553 | BNK5: 45554 | BNL5: 45555 | BNM5: 45556 | BNN5: 45557 | BNO5: 45558 | BNP5: 45559 | BNQ5: 45560 | BNR5: 45561 | BNS5: 45562 | BNT5: 45563 | BNU5: 45564 | BNV5: 45565 | BNW5: 45566 | BNX5: 45567 | BNY5: 45568 | BNZ5: 45569 | BOA5: 45570 | BOB5: 45571 | BOC5: 45572 | BOD5: 45573 | BOE5: 45574 | BOF5: 45575 | BOG5: 45576 | BOH5: 45577 | BOI5: 45578 | BOJ5: 45579 | BOK5: 45580 | BOL5: 45581 | BOM5: 45582 | BON5: 45583 | BOO5: 45584 | BOP5: 45585 | BOQ5: 45586 | BOR5: 45587 | BOS5: 45588 | BOT5: 45589 | BOU5: 45590 | BOV5: 45591 | BOW5: 45592 | BOX5: 45593 | BOY5: 45594 | BOZ5: 45595 | BPA5: 45596 | BPB5: 45597 | BPC5: 45598 | BPD5: 45599 | BPE5: 45600 | BPF5: 45601 | BPG5: 45602 | BPH5: 45603 | BPI5: 45604 | BPJ5: 45605 | BPK5: 45606 | BPL5: 45607 | BPM5: 45608 | BPN5: 45609 | BPO5: 45610 | BPP5: 45611 | BPQ5: 45612 | BPR5: 45613 | BPS5: 45614 | BPT5: 45615 | BPU5: 45616 | BPV5: 45617 | BPW5: 45618 | BPX5: 45619 | BPY5: 45620 | BPZ5: 45621 | BQA5: 45622 | BQB5: 45623 | BQC5: 45624 | BQD5: 45625 | BQE5: 45626 | BQF5: 45627 | BQG5: 45628 | BQH5: 45629 | BQI5: 45630 | BQJ5: 45631 | BQK5: 45632 | BQL5: 45633 | BQM5: 45634 | BQN5: 45635 | BQO5: 45636 | BQP5: 45637 | BQQ5: 45638 | BQR5: 45639 | BQS5: 45640 | BQT5: 45641 | BQU5: 45642 | BQV5: 45643 | BQW5: 45644 | BQX5: 45645 | BQY5: 45646 | BQZ5: 45647 | BRA5: 45648 | BRB5: 45649 | BRC5: 45650 | BRD5: 45651 | BRE5: 45652 | BRF5: 45653 | BRG5: 45654 | BRH5: 45655 | BRI5: 45656 | BRJ5: 45657 | BRK5: 45658 | BRL5: 45659 | BRM5: 45660 | BRN5: 45661 | BRO5: 45662 | BRP5: 45663 | BRQ5: 45664 | BRR5: 45665 | BRS5: 45666 | BRT5: 45667 | BRU5: 45668 | BRV5: 45669 | BRW5: 45670 | BRX5: 45671 | BRY5: 45672 | BRZ5: 45673 | BSA5: 45674 | BSB5: 45675 | BSC5: 45676 | BSD5: 45677 | BSE5: 45678 | BSF5: 45679 | BSG5: 45680 | BSH5: 45681 | BSI5: 45682 | BSJ5: 45683 | BSK5: 45684 | BSL5: 45685 | BSM5: 45686 | BSN5: 45687 | BSO5: 45688 | BSP5: 45689 | BSQ5: 45690 | BSR5: 45691 | BSS5: 45692 | BST5: 45693 | BSU5: 45694 | BSV5: 45695 | BSW5: 45696 | BSX5: 45697 | BSY5: 45698 | BSZ5: 45699 | BTA5: 45700 | BTB5: 45701 | BTC5: 45702 | BTD5: 45703 | BTE5: 45704 | BTF5: 45705 | BTG5: 45706 | BTH5: 45707 | BTI5: 45708 | BTJ5: 45709 | BTK5: 45710 | BTL5: 45711 | BTM5: 45712 | BTN5: 45713 | BTO5: 45714 | BTP5: 45715 | BTQ5: 45716 | BTR5: 45717 | BTS5: 45718 | BTT5: 45719 | BTU5: 45720 | BTV5: 45721 | BTW5: 45722 | BTX5: 45723 | BTY5: 45724 | BTZ5: 45725 | BUA5: 45726 | BUB5: 45727 | BUC5: 45728 | BUD5: 45729 | BUE5: 45730 | BUF5: 45731 | BUG5: 45732 | BUH5: 45733 | BUI5: 45734 | BUJ5: 45735 | BUK5: 45736 | BUL5: 45737 | BUM5: 45738 | BUN5: 45739 | BUO5: 45740 | BUP5: 45741 | BUQ5: 45742 | BUR5: 45743 | BUS5: 45744 | BUT5: 45745 | BUU5: 45746 | BUV5: 45747 | BUW5: 45748 | BUX5: 45749 | BUY5: 45750 | BUZ5: 45751 | BVA5: 45752 | BVB5: 45753 | BVC5: 45754 | BVD5: 45755 | BVE5: 45756 | BVF5: 45757 | BVG5: 45758 | BVH5: 45759 | BVI5: 45760 | BVJ5: 45761 | BVK5: 45762 | BVL5: 45763 | BVM5: 45764 | BVN5: 45765 | BVO5: 45766 | BVP5: 45767 | BVQ5: 45768 | BVR5: 45769 | BVS5: 45770 | BVT5: 45771 | BVU5: 45772 | BVV5: 45773 | BVW5: 45774 | BVX5: 45775 | BVY5: 45776 | BVZ5: 45777 | BWA5: 45778 | BWB5: 45779 | BWC5: 45780 | BWD5: 45781 | BWE5: 45782 | BWF5: 45783 | BWG5: 45784 | BWH5: 45785 | BWI5: 45786 | BWJ5: 45787 | BWK5: 45788 | BWL5: 45789 | BWM5: 45790 | BWN5: 45791 | BWO5: 45792 | BWP5: 45793 | BWQ5: 45794 | BWR5: 45795 | BWS5: 45796 | BWT5: 45797 | BWU5: 45798 | BWV5: 45799 | BWW5: 45800 | BWX5: 45801 | BWY5: 45802 | BWZ5: 45803 | BXA5: 45804 | BXB5: 45805 | BXC5: 45806 | BXD5: 45807 | BXE5: 45808 | BXF5: 45809 | BXG5: 45810 | BXH5: 45811 | BXI5: 45812 | BXJ5: 45813 | BXK5: 45814 | BXL5: 45815 | BXM5: 45816 | BXN5: 45817 | BXO5: 45818 | BXP5: 45819 | BXQ5: 45820 | BXR5: 45821 | BXS5: 45822 | BXT5: 45823 | BXU5: 45824 | BXV5: 45825 | BXW5: 45826 | BXX5: 45827 | BXY5: 45828 | BXZ5: 45829 | BYA5: 45830 | BYB5: 45831 | BYC5: 45832 | BYD5: 45833 | BYE5: 45834 | BYF5: 45835 | BYG5: 45836 | BYH5: 45837 | BYI5: 45838 | BYJ5: 45839 | BYK5: 45840 | BYL5: 45841 | BYM5: 45842 | BYN5: 45843 | BYO5: 45844 | BYP5: 45845 | BYQ5: 45846 | BYR5: 45847 | BYS5: 45848 | BYT5: 45849 | BYU5: 45850 | BYV5: 45851 | BYW5: 45852 | BYX5: 45853 | BYY5: 45854 | BYZ5: 45855 | BZA5: 45856 | BZB5: 45857 | BZC5: 45858 | BZD5: 45859 | BZE5: 45860 | BZF5: 45861 | BZG5: 45862 | BZH5: 45863 | BZI5: 45864 | BZJ5: 45865 | BZK5: 45866 | BZL5: 45867 | BZM5: 45868 | BZN5: 45869 | BZO5: 45870 | BZP5: 45871 | BZQ5: 45872 | BZR5: 45873 | BZS5: 45874 | BZT5: 45875 | BZU5: 45876 | BZV5: 45877 | BZW5: 45878 | BZX5: 45879 | BZY5: 45880 | BZZ5: 45881 | CAA5: 45882 | CAB5: 45883 | CAC5: 45884 | CAD5: 45885 | CAE5: 45886 | CAF5: 45887 | CAG5: 45888 | CAH5: 45889 | CAI5: 45890 | CAJ5: 45891 | CAK5: 45892 | CAL5: 45893 | CAM5: 45894 | CAN5: 45895 | CAO5: 45896 | CAP5: 45897 | CAQ5: 45898 | CAR5: 45899 | CAS5: 45900 | CAT5: 45901 | CAU5: 45902 | CAV5: 45903 | CAW5: 45904 | CAX5: 45905 | CAY5: 45906 | CAZ5: 45907 | CBA5: 45908 | CBB5: 45909 | CBC5: 45910 | CBD5: 45911 | CBE5: 45912 | CBF5: 45913 | CBG5: 45914 | CBH5: 45915 | CBI5: 45916 | CBJ5: 45917 | CBK5: 45918 | CBL5: 45919 | CBM5: 45920 | CBN5: 45921 | CBO5: 45922 | CBP5: 45923 | CBQ5: 45924 | CBR5: 45925 | CBS5: 45926 | CBT5: 45927 | CBU5: 45928 | CBV5: 45929 | CBW5: 45930 | CBX5: 45931 | CBY5: 45932 | CBZ5: 45933 | CCA5: 45934 | CCB5: 45935 | CCC5: 45936 | CCD5: 45937 | CCE5: 45938 | CCF5: 45939 | CCG5: 45940 | CCH5: 45941 | CCI5: 45942 | CCJ5: 45943 | CCK5: 45944 | CCL5: 45945 | CCM5: 45946 | CCN5: 45947 | CCO5: 45948 | CCP5: 45949 | CCQ5: 45950 | CCR5: 45951 | CCS5: 45952 | CCT5: 45953 | CCU5: 45954 | CCV5: 45955 | CCW5: 45956 | CCX5: 45957 | CCY5: 45958 | CCZ5: 45959 | CDA5: 45960 | CDB5: 45961 | CDC5: 45962 | CDD5: 45963 | CDE5: 45964 | CDF5: 45965 | CDG5: 45966 | CDH5: 45967 | CDI5: 45968 | CDJ5: 45969 | CDK5: 45970 | CDL5: 45971 | CDM5: 45972 | CDN5: 45973 | CDO5: 45974 | CDP5: 45975 | CDQ5: 45976 | CDR5: 45977 | CDS5: 45978 | CDT5: 45979 | CDU5: 45980 | CDV5: 45981 | CDW5: 45982 | CDX5: 45983 | CDY5: 45984 | CDZ5: 45985 | CEA5: 45986 | CEB5: 45987 | CEC5: 45988 | CED5: 45989 | CEE5: 45990 | CEF5: 45991 | CEG5: 45992 | CEH5: 45993 | CEI5: 45994 | CEJ5: 45995 | CEK5: 45996 | CEL5: 45997 | CEM5: 45998 | CEN5: 45999 | CEO5: 46000 | CEP5: 46001 | CEQ5: 46002 | CER5: 46003 | CES5: 46004 | CET5: 46005 | CEU5: 46006 | CEV5: 46007 | CEW5: 46008 | CEX5: 46009 | CEY5: 46010 | CEZ5: 46011 | CFA5: 46012 | CFB5: 46013 | CFC5: 46014 | CFD5: 46015 | CFE5: 46016 | CFF5: 46017 | CFG5: 46018 | CFH5: 46019 | CFI5: 46020 | CFJ5: 46021 | CFK5: 46022 | CFL5: 46023 | CFM5: 46024 | CFN5: 46025 | CFO5: 46026 | CFP5: 46027 | CFQ5: 46028 | CFR5: 46029 | CFS5: 46030 | CFT5: 46031 | CFU5: 46032 | CFV5: 46033 | CFW5: 46034 | CFX5: 46035 | CFY5: 46036 | CFZ5: 46037 | CGA5: 46038 | CGB5: 46039 | CGC5: 46040 | CGD5: 46041 | CGE5: 46042 | CGF5: 46043 | CGG5: 46044 | CGH5: 46045 | CGI5: 46046 | CGJ5: 46047 | CGK5: 46048 | CGL5: 46049 | CGM5: 46050 | CGN5: 46051 | CGO5: 46052 | CGP5: 46053 | CGQ5: 46054 | CGR5: 46055 | CGS5: 46056 | CGT5: 46057 | CGU5: 46058 | CGV5: 46059 | CGW5: 46060 | CGX5: 46061 | CGY5: 46062 | CGZ5: 46063 | CHA5: 46064 | CHB5: 46065 | CHC5: 46066 | CHD5: 46067 | CHE5: 46068 | CHF5: 46069 | CHG5: 46070 | CHH5: 46071 | CHI5: 46072 | CHJ5: 46073 | CHK5: 46074 | CHL5: 46075 | CHM5: 46076 | CHN5: 46077 | CHO5: 46078 | CHP5: 46079 | CHQ5: 46080 | CHR5: 46081 | CHS5: 46082 | CHT5: 46083 | CHU5: 46084 | CHV5: 46085 | CHW5: 46086 | CHX5: 46087 | CHY5: 46088 | CHZ5: 46089 | CIA5: 46090 | CIB5: 46091 | CIC5: 46092 | CID5: 46093 | CIE5: 46094 | CIF5: 46095 | CIG5: 46096 | CIH5: 46097 | CII5: 46098 | CIJ5: 46099 | CIK5: 46100 | CIL5: 46101 | CIM5: 46102 | CIN5: 46103 | CIO5: 46104 | CIP5: 46105 | CIQ5: 46106 | CIR5: 46107 | CIS5: 46108 | CIT5: 46109 | CIU5: 46110 | CIV5: 46111 | CIW5: 46112 | CIX5: 46113 | CIY5: 46114 | CIZ5: 46115 | CJA5: 46116 | CJB5: 46117 | CJC5: 46118 | CJD5: 46119 | CJE5: 46120 | CJF5: 46121 | CJG5: 46122 | CJH5: 46123 | CJI5: 46124 | CJJ5: 46125 | CJK5: 46126 | CJL5: 46127 | CJM5: 46128 | CJN5: 46129 | CJO5: 46130 | CJP5: 46131 | CJQ5: 46132 | CJR5: 46133 | CJS5: 46134 | CJT5: 46135 | CJU5: 46136 | CJV5: 46137 | CJW5: 46138 | CJX5: 46139 | CJY5: 46140 | CJZ5: 46141 | CKA5: 46142 | CKB5: 46143 | CKC5: 46144 | CKD5: 46145 | CKE5: 46146 | CKF5: 46147 | CKG5: 46148 | CKH5: 46149 | CKI5: 46150 | CKJ5: 46151 | CKK5: 46152 | CKL5: 46153 | CKM5: 46154 | CKN5: 46155 | CKO5: 46156 | CKP5: 46157 | CKQ5: 46158 | CKR5: 46159 | CKS5: 46160 | CKT5: 46161 | CKU5: 46162 | CKV5: 46163 | CKW5: 46164 | CKX5: 46165 | CKY5: 46166 | CKZ5: 46167 | CLA5: 46168 | CLB5: 46169 | CLC5: 46170 | CLD5: 46171 | CLE5: 46172 | CLF5: 46173 | CLG5: 46174 | CLH5: 46175 | CLI5: 46176 | CLJ5: 46177 | CLK5: 46178 | CLL5: 46179 | CLM5: 46180 | CLN5: 46181 | CLO5: 46182 | CLP5: 46183 | CLQ5: 46184 | CLR5: 46185 | CLS5: 46186 | CLT5: 46187 | CLU5: 46188 | CLV5: 46189 | CLW5: 46190 | CLX5: 46191 | CLY5: 46192 | CLZ5: 46193 | CMA5: 46194 | CMB5: 46195 | CMC5: 46196 | CMD5: 46197 | CME5: 46198 | CMF5: 46199 | CMG5: 46200 | CMH5: 46201 | CMI5: 46202 | CMJ5: 46203 | CMK5: 46204 | CML5: 46205 | CMM5: 46206 | CMN5: 46207 | CMO5: 46208 | CMP5: 46209 | CMQ5: 46210 | CMR5: 46211 | CMS5: 46212 | CMT5: 46213 | CMU5: 46214 | CMV5: 46215 | CMW5: 46216 | CMX5: 46217 | CMY5: 46218 | CMZ5: 46219 | CNA5: 46220 | CNB5: 46221 | CNC5: 46222 | CND5: 46223 | CNE5: 46224 | CNF5: 46225 | CNG5: 46226 | CNH5: 46227 | CNI5: 46228 | CNJ5: 46229 | CNK5: 46230 | CNL5: 46231 | CNM5: 46232 | CNN5: 46233 | CNO5: 46234 | CNP5: 46235 | CNQ5: 46236 | CNR5: 46237 | CNS5: 46238 | CNT5: 46239 | CNU5: 46240 | CNV5: 46241 | CNW5: 46242 | CNX5: 46243 | CNY5: 46244 | CNZ5: 46245 | COA5: 46246 | COB5: 46247 | COC5: 46248 | COD5: 46249 | COE5: 46250 | COF5: 46251 | COG5: 46252 | COH5: 46253 | COI5: 46254 | COJ5: 46255 | COK5: 46256 | COL5: 46257 | COM5: 46258 | CON5: 46259 | COO5: 46260 | COP5: 46261 | COQ5: 46262 | COR5: 46263 | COS5: 46264 | COT5: 46265 | COU5: 46266 | COV5: 46267 | COW5: 46268 | COX5: 46269 | COY5: 46270 | COZ5: 46271 | CPA5: 46272 | CPB5: 46273 | CPC5: 46274 | CPD5: 46275 | CPE5: 46276 | CPF5: 46277 | CPG5: 46278 | CPH5: 46279 | CPI5: 46280 | CPJ5: 46281 | CPK5: 46282 | CPL5: 46283 | CPM5: 46284 | CPN5: 46285 | CPO5: 46286 | CPP5: 46287 | CPQ5: 46288 | CPR5: 46289 | CPS5: 46290 | CPT5: 46291 | CPU5: 46292 | CPV5: 46293 | CPW5: 46294 | CPX5: 46295 | CPY5: 46296 | CPZ5: 46297 | CQA5: 46298 | CQB5: 46299 | CQC5: 46300 | CQD5: 46301 | CQE5: 46302 | CQF5: 46303 | CQG5: 46304 | CQH5: 46305 | CQI5: 46306 | CQJ5: 46307 | CQK5: 46308 | CQL5: 46309 | CQM5: 46310 | CQN5: 46311 | CQO5: 46312 | CQP5: 46313 | CQQ5: 46314 | CQR5: 46315 | CQS5: 46316 | CQT5: 46317 | CQU5: 46318 | CQV5: 46319 | CQW5: 46320 | CQX5: 46321 | CQY5: 46322 | CQZ5: 46323 | CRA5: 46324 | CRB5: 46325 | CRC5: 46326 | CRD5: 46327 | CRE5: 46328 | CRF5: 46329 | CRG5: 46330 | CRH5: 46331 | CRI5: 46332 | CRJ5: 46333 | CRK5: 46334 | CRL5: 46335 | CRM5: 46336 | CRN5: 46337 | CRO5: 46338 | CRP5: 46339 | CRQ5: 46340 | CRR5: 46341 | CRS5: 46342 | CRT5: 46343 | CRU5: 46344 | CRV5: 46345 | CRW5: 46346 | CRX5: 46347 | CRY5: 46348 | CRZ5: 46349 | CSA5: 46350 | CSB5: 46351 | CSC5: 46352 | CSD5: 46353 | CSE5: 46354 | CSF5: 46355 | CSG5: 46356 | CSH5: 46357 | CSI5: 46358 | CSJ5: 46359 | CSK5: 46360 | CSL5: 46361 | CSM5: 46362 | CSN5: 46363 | CSO5: 46364 | CSP5: 46365 | CSQ5: 46366 | CSR5: 46367 | CSS5: 46368 | CST5: 46369 | CSU5: 46370 | CSV5: 46371 | CSW5: 46372 | CSX5: 46373 | CSY5: 46374 | CSZ5: 46375 | CTA5: 46376 | CTB5: 46377 | CTC5: 46378 | CTD5: 46379 | CTE5: 46380 | CTF5: 46381 | CTG5: 46382 | CTH5: 46383 | CTI5: 46384 | CTJ5: 46385 | CTK5: 46386 | CTL5: 46387 | CTM5: 46388 | CTN5: 46389 | CTO5: 46390 | CTP5: 46391 | CTQ5: 46392 | CTR5: 46393 | CTS5: 46394 | CTT5: 46395 | CTU5: 46396 | CTV5: 46397 | CTW5: 46398 | CTX5: 46399 | CTY5: 46400 | CTZ5: 46401 | CUA5: 46402 | CUB5: 46403 | CUC5: 46404 | CUD5: 46405 | CUE5: 46406 | CUF5: 46407 | CUG5: 46408 | CUH5: 46409 | CUI5: 46410 | CUJ5: 46411 | CUK5: 46412 | CUL5: 46413 | CUM5: 46414 | CUN5: 46415 | CUO5: 46416 | CUP5: 46417 | CUQ5: 46418 | CUR5: 46419 | CUS5: 46420 | CUT5: 46421 | CUU5: 46422 | CUV5: 46423 | CUW5: 46424 | CUX5: 46425 | CUY5: 46426 | CUZ5: 46427 | CVA5: 46428 | CVB5: 46429 | CVC5: 46430 | CVD5: 46431 | CVE5: 46432 | CVF5: 46433 | CVG5: 46434 | CVH5: 46435 | CVI5: 46436 | CVJ5: 46437 | CVK5: 46438 | CVL5: 46439 | CVM5: 46440 | CVN5: 46441 | CVO5: 46442 | CVP5: 46443 | CVQ5: 46444 | CVR5: 46445 | CVS5: 46446 | CVT5: 46447 | CVU5: 46448 | CVV5: 46449 | CVW5: 46450 | CVX5: 46451 | CVY5: 46452 | CVZ5: 46453 | CWA5: 46454 | CWB5: 46455 | CWC5: 46456 | CWD5: 46457 | CWE5: 46458 | CWF5: 46459 | CWG5: 46460 | CWH5: 46461 | CWI5: 46462 | CWJ5: 46463 | CWK5: 46464 | CWL5: 46465 | CWM5: 46466 | CWN5: 46467 | CWO5: 46468 | CWP5: 46469 | CWQ5: 46470 | CWR5: 46471 | CWS5: 46472 | CWT5: 46473 | CWU5: 46474 | CWV5: 46475 | CWW5: 46476 | CWX5: 46477 | CWY5: 46478 | CWZ5: 46479 | CXA5: 46480 | CXB5: 46481 | CXC5: 46482 | CXD5: 46483 | CXE5: 46484 | CXF5: 46485 | CXG5: 46486 | CXH5: 46487 | CXI5: 46488 | CXJ5: 46489 | CXK5: 46490 | CXL5: 46491 | CXM5: 46492 | CXN5: 46493 | CXO5: 46494 | CXP5: 46495 | CXQ5: 46496 | CXR5: 46497 | CXS5: 46498 | CXT5: 46499 | CXU5: 46500 | CXV5: 46501 | CXW5: 46502 | CXX5: 46503 | CXY5: 46504 | CXZ5: 46505 | CYA5: 46506 | CYB5: 46507 | CYC5: 46508 | CYD5: 46509 | CYE5: 46510 | CYF5: 46511 | CYG5: 46512 | CYH5: 46513 | CYI5: 46514 | CYJ5: 46515 | CYK5: 46516 | CYL5: 46517 | CYM5: 46518 | CYN5: 46519 | CYO5: 46520 | CYP5: 46521 | CYQ5: 46522 | CYR5: 46523 | CYS5: 46524 | CYT5: 46525 | CYU5: 46526 | CYV5: 46527 | CYW5: 46528 | CYX5: 46529 | CYY5: 46530 | CYZ5: 46531 | CZA5: 46532 | CZB5: 46533 | CZC5: 46534 | CZD5: 46535 | CZE5: 46536 | CZF5: 46537 | CZG5: 46538 | CZH5: 46539 | CZI5: 46540 | CZJ5: 46541 | CZK5: 46542 | CZL5: 46543 | CZM5: 46544 | CZN5: 46545 | CZO5: 46546 | CZP5: 46547 | CZQ5: 46548 | CZR5: 46549 | CZS5: 46550 | CZT5: 46551 | CZU5: 46552 | CZV5: 46553 | CZW5: 46554 | CZX5: 46555 | CZY5: 46556 | CZZ5: 46557 | DAA5: 46558 | DAB5: 46559 | DAC5: 46560 | DAD5: 46561 | DAE5: 46562 | DAF5: 46563 | DAG5: 46564 | DAH5: 46565 | DAI5: 46566 | DAJ5: 46567 | DAK5: 46568 | DAL5: 46569 | DAM5: 46570 | DAN5: 46571 | DAO5: 46572 | DAP5: 46573 | DAQ5: 46574 | DAR5: 46575 | DAS5: 46576 | DAT5: 46577 | DAU5: 46578 | DAV5: 46579 | DAW5: 46580 | DAX5: 46581 | DAY5: 46582 | DAZ5: 46583 | DBA5: 46584 | DBB5: 46585 | DBC5: 46586 | DBD5: 46587 | DBE5: 46588 | DBF5: 46589 | DBG5: 46590 | DBH5: 46591 | DBI5: 46592 | DBJ5: 46593 | DBK5: 46594 | DBL5: 46595 | DBM5: 46596 | DBN5: 46597 | DBO5: 46598 | DBP5: 46599 | DBQ5: 46600 | DBR5: 46601 | DBS5: 46602 | DBT5: 46603 | DBU5: 46604 | DBV5: 46605 | DBW5: 46606 | DBX5: 46607 | DBY5: 46608 | DBZ5: 46609 | DCA5: 46610 | DCB5: 46611 | DCC5: 46612 | DCD5: 46613 | DCE5: 46614 | DCF5: 46615 | DCG5: 46616 | DCH5: 46617 | DCI5: 46618 | DCJ5: 46619 | DCK5: 46620 | DCL5: 46621 | DCM5: 46622 | DCN5: 46623 | DCO5: 46624 | DCP5: 46625 | DCQ5: 46626 | DCR5: 46627 | DCS5: 46628 | DCT5: 46629 | DCU5: 46630 | DCV5: 46631 | DCW5: 46632 | DCX5: 46633 | DCY5: 46634 | DCZ5: 46635 | DDA5: 46636 | DDB5: 46637 | DDC5: 46638 | DDD5: 46639 | DDE5: 46640 | DDF5: 46641 | DDG5: 46642 | DDH5: 46643 | DDI5: 46644 | DDJ5: 46645 | DDK5: 46646 | DDL5: 46647 | DDM5: 46648 | DDN5: 46649 | DDO5: 46650 | DDP5: 46651 | DDQ5: 46652 | DDR5: 46653 | DDS5: 46654 | DDT5: 46655 | DDU5: 46656 | DDV5: 46657 | DDW5: 46658 | DDX5: 46659 | DDY5: 46660 | DDZ5: 46661 | DEA5: 46662 | DEB5: 46663 | DEC5: 46664 | DED5: 46665 | DEE5: 46666 | DEF5: 46667 | DEG5: 46668 | DEH5: 46669 | DEI5: 46670 | DEJ5: 46671 | DEK5: 46672 | DEL5: 46673 | DEM5: 46674 | DEN5: 46675 | DEO5: 46676 | DEP5: 46677 | DEQ5: 46678 | DER5: 46679 | DES5: 46680 | DET5: 46681 | DEU5: 46682 | DEV5: 46683 | DEW5: 46684 | DEX5: 46685 | DEY5: 46686 | DEZ5: 46687 | DFA5: 46688 | DFB5: 46689 | DFC5: 46690 | DFD5: 46691 | DFE5: 46692 | DFF5: 46693 | DFG5: 46694 | DFH5: 46695 | DFI5: 46696 | DFJ5: 46697 | DFK5: 46698 | DFL5: 46699 | DFM5: 46700 | DFN5: 46701 | DFO5: 46702 | DFP5: 46703 | DFQ5: 46704 | DFR5: 46705 | DFS5: 46706 | DFT5: 46707 | DFU5: 46708 | DFV5: 46709 | DFW5: 46710 | DFX5: 46711 | DFY5: 46712 | DFZ5: 46713 | DGA5: 46714 | DGB5: 46715 | DGC5: 46716 | DGD5: 46717 | DGE5: 46718 | DGF5: 46719 | DGG5: 46720 | DGH5: 46721 | DGI5: 46722 | DGJ5: 46723 | DGK5: 46724 | DGL5: 46725 | DGM5: 46726 | DGN5: 46727 | DGO5: 46728 | DGP5: 46729 | DGQ5: 46730 | DGR5: 46731 | DGS5: 46732 | DGT5: 46733 | DGU5: 46734 | DGV5: 46735 | DGW5: 46736 | DGX5: 46737 | DGY5: 46738 | DGZ5: 46739 | DHA5: 46740 | DHB5: 46741 | DHC5: 46742 | DHD5: 46743 | DHE5: 46744 | DHF5: 46745 | DHG5: 46746 | DHH5: 46747 | DHI5: 46748 | DHJ5: 46749 | DHK5: 46750 | DHL5: 46751 | DHM5: 46752 | DHN5: 46753 | DHO5: 46754 | DHP5: 46755 | DHQ5: 46756 | DHR5: 46757 | DHS5: 46758 | DHT5: 46759 | DHU5: 46760 | DHV5: 46761 | DHW5: 46762 | DHX5: 46763 | DHY5: 46764 | DHZ5: 46765 | DIA5: 46766 | DIB5: 46767 | DIC5: 46768 | DID5: 46769 | DIE5: 46770 | DIF5: 46771 | DIG5: 46772 | DIH5: 46773 | DII5: 46774 | DIJ5: 46775 | DIK5: 46776 | DIL5: 46777 | DIM5: 46778 | DIN5: 46779 | DIO5: 46780 | DIP5: 46781 | DIQ5: 46782 | DIR5: 46783 | DIS5: 46784 | DIT5: 46785 | DIU5: 46786 | DIV5: 46787 | DIW5: 46788 | DIX5: 46789 | DIY5: 46790 | DIZ5: 46791 | DJA5: 46792 | DJB5: 46793 | DJC5: 46794 | DJD5: 46795 | DJE5: 46796 | DJF5: 46797 | DJG5: 46798 | DJH5: 46799 | DJI5: 46800 | DJJ5: 46801 | DJK5: 46802 | DJL5: 46803 | DJM5: 46804 | DJN5: 46805 | DJO5: 46806 | DJP5: 46807 | DJQ5: 46808 | DJR5: 46809 | DJS5: 46810 | DJT5: 46811 | DJU5: 46812 | DJV5: 46813 | DJW5: 46814 | DJX5: 46815 | DJY5: 46816 | DJZ5: 46817 | DKA5: 46818 | DKB5: 46819 | DKC5: 46820 | DKD5: 46821 | DKE5: 46822 | DKF5: 46823 | DKG5: 46824 | DKH5: 46825 | DKI5: 46826 | DKJ5: 46827 | DKK5: 46828 | DKL5: 46829 | DKM5: 46830 | DKN5: 46831 | DKO5: 46832 | DKP5: 46833 | DKQ5: 46834 | DKR5: 46835 | DKS5: 46836 | DKT5: 46837 | DKU5: 46838 | DKV5: 46839 | DKW5: 46840 | DKX5: 46841 | DKY5: 46842 | DKZ5: 46843 | DLA5: 46844 | DLB5: 46845 | DLC5: 46846 | DLD5: 46847 | DLE5: 46848 | DLF5: 46849 | DLG5: 46850 | DLH5: 46851 | DLI5: 46852 | DLJ5: 46853 | DLK5: 46854 | DLL5: 46855 | DLM5: 46856 | DLN5: 46857 | DLO5: 46858 | DLP5: 46859 | DLQ5: 46860 | DLR5: 46861 | DLS5: 46862 | DLT5: 46863 | DLU5: 46864 | DLV5: 46865 | DLW5: 46866 | DLX5: 46867 | DLY5: 46868 | DLZ5: 46869 | DMA5: 46870 | DMB5: 46871 | DMC5: 46872 | DMD5: 46873 | DME5: 46874 | DMF5: 46875 | DMG5: 46876 | DMH5: 46877 | DMI5: 46878 | DMJ5: 46879 | DMK5: 46880 | DML5: 46881 | DMM5: 46882 | DMN5: 46883 | DMO5: 46884 | DMP5: 46885 | DMQ5: 46886 | DMR5: 46887 | DMS5: 46888 | DMT5: 46889 | DMU5: 46890 | DMV5: 46891 | DMW5: 46892 | DMX5: 46893 | DMY5: 46894 | DMZ5: 46895 | DNA5: 46896 | DNB5: 46897 | DNC5: 46898 | DND5: 46899 | DNE5: 46900 | DNF5: 46901 | DNG5: 46902 | DNH5: 46903 | DNI5: 46904 | DNJ5: 46905 | DNK5: 46906 | DNL5: 46907 | DNM5: 46908 | DNN5: 46909 | DNO5: 46910 | DNP5: 46911 | DNQ5: 46912 | DNR5: 46913 | DNS5: 46914 | DNT5: 46915 | DNU5: 46916 | DNV5: 46917 | DNW5: 46918 | DNX5: 46919 | DNY5: 46920 | DNZ5: 46921 | DOA5: 46922 | DOB5: 46923 | DOC5: 46924 | DOD5: 46925 | DOE5: 46926 | DOF5: 46927 | DOG5: 46928 | DOH5: 46929 | DOI5: 46930 | DOJ5: 46931 | DOK5: 46932 | DOL5: 46933 | DOM5: 46934 | DON5: 46935 | DOO5: 46936 | DOP5: 46937 | DOQ5: 46938 | DOR5: 46939 | DOS5: 46940 | DOT5: 46941 | DOU5: 46942 | DOV5: 46943 | DOW5: 46944 | DOX5: 46945 | DOY5: 46946 | DOZ5: 46947 | DPA5: 46948 | DPB5: 46949 | DPC5: 46950 | DPD5: 46951 | DPE5: 46952 | DPF5: 46953 | DPG5: 46954 | DPH5: 46955 | DPI5: 46956 | DPJ5: 46957 | DPK5: 46958 | DPL5: 46959 | DPM5: 46960 | DPN5: 46961 | DPO5: 46962 | DPP5: 46963 | DPQ5: 46964 | DPR5: 46965 | DPS5: 46966 | DPT5: 46967 | DPU5: 46968 | DPV5: 46969 | DPW5: 46970 | DPX5: 46971 | DPY5: 46972 | DPZ5: 46973 | DQA5: 46974 | DQB5: 46975 | DQC5: 46976 | DQD5: 46977 | DQE5: 46978 | DQF5: 46979 | DQG5: 46980 | DQH5: 46981 | DQI5: 46982 | DQJ5: 46983 | DQK5: 46984 | DQL5: 46985 | DQM5: 46986 | DQN5: 46987 | DQO5: 46988 | DQP5: 46989 | DQQ5: 46990 | DQR5: 46991 | DQS5: 46992 | DQT5: 46993 | DQU5: 46994 | DQV5: 46995 | DQW5: 46996 | DQX5: 46997 | DQY5: 46998 | DQZ5: 46999 | DRA5: 47000 | DRB5: 47001 | DRC5: 47002 | DRD5: 47003 | DRE5: 47004 | DRF5: 47005 | DRG5: 47006 | DRH5: 47007 | DRI5: 47008 | DRJ5: 47009 | DRK5: 47010 | DRL5: 47011 | DRM5: 47012 | DRN5: 47013 | DRO5: 47014 | DRP5: 47015 | DRQ5: 47016 | DRR5: 47017 | DRS5: 47018 | DRT5: 47019 | DRU5: 47020 | DRV5: 47021 | DRW5: 47022 | DRX5: 47023 | DRY5: 47024 | DRZ5: 47025 | DSA5: 47026 | DSB5: 47027 | DSC5: 47028 | DSD5: 47029 | DSE5: 47030 | DSF5: 47031 | DSG5: 47032 | DSH5: 47033 | DSI5: 47034 | DSJ5: 47035 | DSK5: 47036 | DSL5: 47037 | DSM5: 47038 | DSN5: 47039 | DSO5: 47040 | DSP5: 47041 | DSQ5: 47042 | DSR5: 47043 | DSS5: 47044 | DST5: 47045 | DSU5: 47046 | DSV5: 47047 | DSW5: 47048 | DSX5: 47049 | DSY5: 47050 | DSZ5: 47051 | DTA5: 47052 | DTB5: 47053 | DTC5: 47054 | DTD5: 47055 | DTE5: 47056 | DTF5: 47057 | DTG5: 47058 | DTH5: 47059 | DTI5: 47060 | DTJ5: 47061 | DTK5: 47062 | DTL5: 47063 | DTM5: 47064 | DTN5: 47065 | DTO5: 47066 | DTP5: 47067 | DTQ5: 47068 | DTR5: 47069 | DTS5: 47070 | DTT5: 47071 | DTU5: 47072 | DTV5: 47073 | DTW5: 47074 | DTX5: 47075 | DTY5: 47076 | DTZ5: 47077 | DUA5: 47078 | DUB5: 47079 | DUC5: 47080 | DUD5: 47081 | DUE5: 47082 | DUF5: 47083 | DUG5: 47084 | DUH5: 47085 | DUI5: 47086 | DUJ5: 47087 | DUK5: 47088 | DUL5: 47089 | DUM5: 47090 | DUN5: 47091 | DUO5: 47092 | DUP5: 47093 | DUQ5: 47094 | DUR5: 47095 | DUS5: 47096 | DUT5: 47097 | DUU5: 47098 | DUV5: 47099 | DUW5: 47100 | DUX5: 47101 | DUY5: 47102 | DUZ5: 47103 | DVA5: 47104 | DVB5: 47105 | DVC5: 47106 | DVD5: 47107 | DVE5: 47108 | DVF5: 47109 | DVG5: 47110 | DVH5: 47111 | DVI5: 47112 | DVJ5: 47113 | DVK5: 47114 | DVL5: 47115 | DVM5: 47116 | DVN5: 47117 | DVO5: 47118 | DVP5: 47119 | DVQ5: 47120 | DVR5: 47121 | DVS5: 47122 | DVT5: 47123 | DVU5: 47124 | DVV5: 47125 | DVW5: 47126 | DVX5: 47127 | DVY5: 47128 | DVZ5: 47129 | DWA5: 47130 | DWB5: 47131 | DWC5: 47132 | DWD5: 47133 | DWE5: 47134 | DWF5: 47135 | DWG5: 47136 | DWH5: 47137 | DWI5: 47138 | DWJ5: 47139 | DWK5: 47140 | DWL5: 47141 | DWM5: 47142 | DWN5: 47143 | DWO5: 47144 | DWP5: 47145 | DWQ5: 47146 | DWR5: 47147 | DWS5: 47148 | DWT5: 47149 | DWU5: 47150 | DWV5: 47151 | DWW5: 47152 | DWX5: 47153 | DWY5: 47154 | DWZ5: 47155 | DXA5: 47156 | DXB5: 47157 | DXC5: 47158 | DXD5: 47159 | DXE5: 47160 | DXF5: 47161 | DXG5: 47162 | DXH5: 47163 | DXI5: 47164 | DXJ5: 47165 | DXK5: 47166 | DXL5: 47167 | DXM5: 47168 | DXN5: 47169 | DXO5: 47170 | DXP5: 47171 | DXQ5: 47172 | DXR5: 47173 | DXS5: 47174 | DXT5: 47175 | DXU5: 47176 | DXV5: 47177 | DXW5: 47178 | DXX5: 47179 | DXY5: 47180 | DXZ5: 47181 | DYA5: 47182 | DYB5: 47183 | DYC5: 47184 | DYD5: 47185 | DYE5: 47186 | DYF5: 47187 | DYG5: 47188 | DYH5: 47189 | DYI5: 47190 | DYJ5: 47191 | DYK5: 47192 | DYL5: 47193 | DYM5: 47194 | DYN5: 47195 | DYO5: 47196 | DYP5: 47197 | DYQ5: 47198 | DYR5: 47199 | DYS5: 47200 | DYT5: 47201 | DYU5: 47202 | DYV5: 47203 | DYW5: 47204 | DYX5: 47205 | DYY5: 47206 | DYZ5: 47207 | DZA5: 47208 | DZB5: 47209 | DZC5: 47210 | DZD5: 47211 | DZE5: 47212 | DZF5: 47213 | DZG5: 47214 | DZH5: 47215 | DZI5: 47216 | DZJ5: 47217 | DZK5: 47218 | DZL5: 47219 | DZM5: 47220 | DZN5: 47221 | DZO5: 47222 | DZP5: 47223 | DZQ5: 47224 | DZR5: 47225 | DZS5: 47226 | DZT5: 47227 | DZU5: 47228 | DZV5: 47229 | DZW5: 47230 | DZX5: 47231 | DZY5: 47232 | DZZ5: 47233 | EAA5: 47234 | EAB5: 47235 | EAC5: 47236 | EAD5: 47237 | EAE5: 47238 | EAF5: 47239 | EAG5: 47240 | EAH5: 47241 | EAI5: 47242 | EAJ5: 47243 | EAK5: 47244 | EAL5: 47245 | EAM5: 47246 | EAN5: 47247 | EAO5: 47248 | EAP5: 47249 | EAQ5: 47250 | EAR5: 47251 | EAS5: 47252 | EAT5: 47253 | EAU5: 47254 | EAV5: 47255 | EAW5: 47256 | EAX5: 47257 | EAY5: 47258 | EAZ5: 47259 | EBA5: 47260 | EBB5: 47261 | EBC5: 47262 | EBD5: 47263 | EBE5: 47264 | EBF5: 47265 | EBG5: 47266 | EBH5: 47267 | EBI5: 47268 | EBJ5: 47269 | EBK5: 47270 | EBL5: 47271 | EBM5: 47272 | EBN5: 47273 | EBO5: 47274 | EBP5: 47275 | EBQ5: 47276 | EBR5: 47277 | EBS5: 47278 | EBT5: 47279 | EBU5: 47280 | EBV5: 47281 | EBW5: 47282 | EBX5: 47283 | EBY5: 47284 | EBZ5: 47285 | ECA5: 47286 | ECB5: 47287 | ECC5: 47288 | ECD5: 47289 | ECE5: 47290 | ECF5: 47291 | ECG5: 47292 | ECH5: 47293 | ECI5: 47294 | ECJ5: 47295 | ECK5: 47296 | ECL5: 47297 | ECM5: 47298 | ECN5: 47299 | ECO5: 47300 | ECP5: 47301 | ECQ5: 47302 | ECR5: 47303 | ECS5: 47304 | ECT5: 47305 | ECU5: 47306 | ECV5: 47307 | ECW5: 47308 | ECX5: 47309 | ECY5: 47310 | ECZ5: 47311 | EDA5: 47312 | EDB5: 47313 | EDC5: 47314 | EDD5: 47315 | EDE5: 47316 | EDF5: 47317 | EDG5: 47318 | EDH5: 47319 | EDI5: 47320 | EDJ5: 47321 | EDK5: 47322 | EDL5: 47323 | EDM5: 47324 | EDN5: 47325 | EDO5: 47326 | EDP5: 47327 | EDQ5: 47328 | EDR5: 47329 | EDS5: 47330 | EDT5: 47331 | EDU5: 47332 | EDV5: 47333 | EDW5: 47334 | EDX5: 47335 | EDY5: 47336 | EDZ5: 47337 | EEA5: 47338 | EEB5: 47339 | EEC5: 47340 | EED5: 47341 | EEE5: 47342 | EEF5: 47343 | EEG5: 47344 | EEH5: 47345 | EEI5: 47346 | EEJ5: 47347 | EEK5: 47348 | EEL5: 47349 | EEM5: 47350 | EEN5: 47351 | EEO5: 47352 | EEP5: 47353 | EEQ5: 47354 | EER5: 47355 | EES5: 47356 | EET5: 47357 | EEU5: 47358 | EEV5: 47359 | EEW5: 47360 | EEX5: 47361 | EEY5: 47362 | EEZ5: 47363 | EFA5: 47364 | EFB5: 47365 | EFC5: 47366 | EFD5: 47367 | EFE5: 47368 | EFF5: 47369 | EFG5: 47370 | EFH5: 47371 | EFI5: 47372 | EFJ5: 47373 | EFK5: 47374 | EFL5: 47375 | EFM5: 47376 | EFN5: 47377 | EFO5: 47378 | EFP5: 47379 | EFQ5: 47380 | EFR5: 47381 | EFS5: 47382 | EFT5: 47383 | EFU5: 47384 | EFV5: 47385 | EFW5: 47386 | EFX5: 47387 | EFY5: 47388 | EFZ5: 47389 | EGA5: 47390 | EGB5: 47391 | EGC5: 47392 | EGD5: 47393 | EGE5: 47394 | EGF5: 47395 | EGG5: 47396 | EGH5: 47397 | EGI5: 47398 | EGJ5: 47399 | EGK5: 47400 | EGL5: 47401 | EGM5: 47402 | EGN5: 47403 | EGO5: 47404 | EGP5: 47405 | EGQ5: 47406 | EGR5: 47407 | EGS5: 47408 | EGT5: 47409 | EGU5: 47410 | EGV5: 47411 | EGW5: 47412 | EGX5: 47413 | EGY5: 47414 | EGZ5: 47415 | EHA5: 47416 | EHB5: 47417 | EHC5: 47418 | EHD5: 47419 | EHE5: 47420 | EHF5: 47421 | EHG5: 47422 | EHH5: 47423 | EHI5: 47424 | EHJ5: 47425 | EHK5: 47426 | EHL5: 47427 | EHM5: 47428 | EHN5: 47429 | EHO5: 47430 | EHP5: 47431 | EHQ5: 47432 | EHR5: 47433 | EHS5: 47434 | EHT5: 47435 | EHU5: 47436 | EHV5: 47437 | EHW5: 47438 | EHX5: 47439 | EHY5: 47440 | EHZ5: 47441 | EIA5: 47442 | EIB5: 47443 | EIC5: 47444 | EID5: 47445 | EIE5: 47446 | EIF5: 47447 | EIG5: 47448 | EIH5: 47449 | EII5: 47450 | EIJ5: 47451 | EIK5: 47452 | EIL5: 47453 | EIM5: 47454 | EIN5: 47455 | EIO5: 47456 | EIP5: 47457 | EIQ5: 47458 | EIR5: 47459 | EIS5: 47460 | EIT5: 47461 | EIU5: 47462 | EIV5: 47463 | EIW5: 47464 | EIX5: 47465 | EIY5: 47466 | EIZ5: 47467 | EJA5: 47468 | EJB5: 47469 | EJC5: 47470 | EJD5: 47471 | EJE5: 47472 | EJF5: 47473 | EJG5: 47474 | EJH5: 47475 | EJI5: 47476 | EJJ5: 47477 | EJK5: 47478 | EJL5: 47479 | EJM5: 47480 | EJN5: 47481 | EJO5: 47482 | EJP5: 47483 | EJQ5: 47484 | EJR5: 47485 | EJS5: 47486 | EJT5: 47487 | EJU5: 47488 | EJV5: 47489 | EJW5: 47490 | EJX5: 47491 | EJY5: 47492 | EJZ5: 47493 | EKA5: 47494 | EKB5: 47495 | EKC5: 47496 | EKD5: 47497 | EKE5: 47498 | EKF5: 47499 | EKG5: 47500 | EKH5: 47501 | EKI5: 47502 | EKJ5: 47503 | EKK5: 47504 | EKL5: 47505 | EKM5: 47506 | EKN5: 47507 | EKO5: 47508 | EKP5: 47509 | EKQ5: 47510 | EKR5: 47511 | EKS5: 47512 | EKT5: 47513 | EKU5: 47514 | EKV5: 47515 | EKW5: 47516 | EKX5: 47517 | EKY5: 47518 | EKZ5: 47519 | ELA5: 47520 | ELB5: 47521 | ELC5: 47522 | ELD5: 47523 | ELE5: 47524 | ELF5: 47525 | ELG5: 47526 | ELH5: 47527 | ELI5: 47528 | ELJ5: 47529 | ELK5: 47530 | ELL5: 47531 | ELM5: 47532 | ELN5: 47533 | ELO5: 47534 | ELP5: 47535 | ELQ5: 47536 | ELR5: 47537 | ELS5: 47538 | ELT5: 47539 | ELU5: 47540 | ELV5: 47541 | ELW5: 47542 | ELX5: 47543 | ELY5: 47544 | ELZ5: 47545 | EMA5: 47546 | EMB5: 47547 | EMC5: 47548 | EMD5: 47549 | EME5: 47550 | EMF5: 47551 | EMG5: 47552 | EMH5: 47553 | EMI5: 47554 | EMJ5: 47555 | EMK5: 47556 | EML5: 47557 | EMM5: 47558 | EMN5: 47559 | EMO5: 47560 | EMP5: 47561 | EMQ5: 47562 | EMR5: 47563 | EMS5: 47564 | EMT5: 47565 | EMU5: 47566 | EMV5: 47567 | EMW5: 47568 | EMX5: 47569 | EMY5: 47570 | EMZ5: 47571 | ENA5: 47572 | ENB5: 47573 | ENC5: 47574 | END5: 47575 | ENE5: 47576 | ENF5: 47577 | ENG5: 47578
C6: =IF(Données!A2<>"",Données!A2,"") -> Valentin
C7: =IF(Données!A3<>"",Données!A3,"") -> Cyril
C8: =IF(Données!A4<>"",Données!A4,"") -> Philippe
C9: =IF(Données!A5<>"",Données!A5,"") -> Arnaud
C10: =IF(Données!A6<>"",Données!A6,"")
C11: =IF(Données!A7<>"",Données!A7,"")
C12: =IF(Données!A8<>"",Données!A8,"")
C13: =IF(Données!A9<>"",Données!A9,"")
C14: =IF(Données!A10<>"",Données!A10,"")
C15: =IF(Données!A11<>"",Données!A11,"")
C16: =IF(Données!A12<>"",Données!A12,"")
C17: =IF(Données!A13<>"",Données!A13,"")
... C26: =IF(Données!A22<>"",Données!A22,"")
C28: =IF(Données!A34<>"",Données!A34,"")
C29: =IF(Données!A35<>"",Données!A35,"")
C30: =IF(Données!A36<>"",Données!A36,"")
C31: =IF(Données!A37<>"",Données!A37,"")
C32: =IF(Données!A38<>"",Données!A38,"")
C33: =IF(Données!A39<>"",Données!A39,"")
C34: =IF(Données!A40<>"",Données!A40,"")
C35: =IF(Données!A41<>"",Données!A41,"")
C36: =IF(Données!A42<>"",Données!A42,"")
C37: =IF(Données!A43<>"",Données!A43,"")
C38: =IF(Données!A44<>"",Données!A44,"")
C39: =IF(Données!A45<>"",Données!A45,"")
... C41: =IF(Données!A47<>"",Données!A47,"")

Sheet Données
A1: Equipe: | C1: JOURS FERIES ET NON-TRAVAILLES
A2: Valentin | D2: 2020 | E2: 2021 | F2: 2022 | G2: 2023 | H2: 2024 | I2: 2025 | J2: 2026 | K2: 2028 | L2: 2029 | M2: 2030
A3: Cyril | C3: Jour de l’An | D3: =DATE(D2,1,1) -> 43831 | E3: =DATE(E2,1,1) -> 44197 | F3: =DATE(F2,1,1) -> 44562 | G3: =DATE(G2,1,1) -> 44927 | H3: =DATE(H2,1,1) -> 45292 | I3: =DATE(I2,1,1) -> 45658 | J3: =DATE(J2,1,1) -> 46023 | K3: =DATE(K2,1,1) -> 46753 | ... M3: =DATE(M2,1,1) -> 47484
A4: Philippe | C4: Pâques | D4: =ROUND(DATE(D2,4,MOD(234-11*MOD(D2,19),30))/7,0)*7-6 -> 43933 | E4: =ROUND(DATE(E2,4,MOD(234-11*MOD(E2,19),30))/7,0)*7-6 -> 44290 | F4: =ROUND(DATE(F2,4,MOD(234-11*MOD(F2,19),30))/7,0)*7-6 -> 44668 | G4: =ROUND(DATE(G2,4,MOD(234-11*MOD(G2,19),30))/7,0)*7-6 -> 45025 | H4: =ROUND(DATE(H2,4,MOD(234-11*MOD(H2,19),30))/7,0)*7-6 -> 45382 | I4: =ROUND(DATE(I2,4,MOD(234-11*MOD(I2,19),30))/7,0)*7-6 -> 45767 | J4: =ROUND(DATE(J2,4,MOD(234-11*MOD(J2,19),30))/7,0)*7-6 -> 46117 | K4: =ROUND(DATE(K2,4,MOD(234-11*MOD(K2,19),30))/7,0)*7-6 -> 46859 | ... M4: =ROUND(DATE(M2,4,MOD(234-11*MOD(M2,19),30))/7,0)*7-6 -> 47594
A5: Arnaud | C5: Lundi de Pâques | D5: =D4+1 -> 43934 | E5: =E4+1 -> 44291 | F5: =F4+1 -> 44669 | G5: =G4+1 -> 45026 | H5: =H4+1 -> 45383 | I5: =I4+1 -> 45768 | J5: =J4+1 -> 46118 | K5: =K4+1 -> 46860 | ... M5: =M4+1 -> 47595
C6: Fête du travail | D6: =DATE(D2,5,1) -> 43952 | E6: =DATE(E2,5,1) -> 44317 | F6: =DATE(F2,5,1) -> 44682 | G6: =DATE(G2,5,1) -> 45047 | H6: =DATE(H2,5,1) -> 45413 | I6: =DATE(I2,5,1) -> 45778 | J6: =DATE(J2,5,1) -> 46143 | K6: =DATE(K2,5,1) -> 46874 | ... M6: =DATE(M2,5,1) -> 47604
C7: Victoire 1945 | D7: =DATE(D2,5,8) -> 43959 | E7: =DATE(E2,5,8) -> 44324 | F7: =DATE(F2,5,8) -> 44689 | G7: =DATE(G2,5,8) -> 45054 | H7: =DATE(H2,5,8) -> 45420 | I7: =DATE(I2,5,8) -> 45785 | J7: =DATE(J2,5,8) -> 46150 | K7: =DATE(K2,5,8) -> 46881 | ... M7: =DATE(M2,5,8) -> 47611
C8: Ascension | D8: =D4+39 -> 43972 | E8: =E4+39 -> 44329 | F8: =F4+39 -> 44707 | G8: =G4+39 -> 45064 | H8: =H4+39 -> 45421 | I8: =I4+39 -> 45806 | J8: =J4+39 -> 46156 | K8: =K4+39 -> 46898 | ... M8: =M4+39 -> 47633
C9: Pentecôte | D9: =D4+49 -> 43982 | E9: =E4+49 -> 44339 | F9: =F4+49 -> 44717 | G9: =G4+49 -> 45074 | H9: =H4+49 -> 45431 | I9: =I4+49 -> 45816 | J9: =J4+49 -> 46166 | K9: =K4+49 -> 46908 | ... M9: =M4+49 -> 47643
C10: Lundi de Pentecôte | D10: =D4+50 -> 43983 | E10: =E4+50 -> 44340 | F10: =F4+50 -> 44718 | G10: =G4+50 -> 45075 | H10: =H4+50 -> 45432 | I10: =I4+50 -> 45817 | J10: =J4+50 -> 46167 | K10: =K4+50 -> 46909 | ... M10: =M4+50 -> 47644
C11: Fête Nationale | D11: =DATE(D2,7,14) -> 44026 | E11: =DATE(E2,7,14) -> 44391 | F11: =DATE(F2,7,14) -> 44756 | G11: =DATE(G2,7,14) -> 45121 | H11: =DATE(H2,7,14) -> 45487 | I11: =DATE(I2,7,14) -> 45852 | J11: =DATE(J2,7,14) -> 46217 | K11: =DATE(K2,7,14) -> 46948 | ... M11: =DATE(M2,7,14) -> 47678
C12: Assomption | D12: =DATE(D2,8,15) -> 44058 | E12: =DATE(E2,8,15) -> 44423 | F12: =DATE(F2,8,15) -> 44788 | G12: =DATE(G2,8,15) -> 45153 | H12: =DATE(H2,8,15) -> 45519 | I12: =DATE(I2,8,15) -> 45884 | J12: =DATE(J2,8,15) -> 46249 | K12: =DATE(K2,8,15) -> 46980 | ... M12: =DATE(M2,8,15) -> 47710
C13: Toussaint | D13: =DATE(D2,11,1) -> 44136 | E13: =DATE(E2,11,1) -> 44501 | F13: =DATE(F2,11,1) -> 44866 | G13: =DATE(G2,11,1) -> 45231 | H13: =DATE(H2,11,1) -> 45597 | I13: =DATE(I2,11,1) -> 45962 | J13: =DATE(J2,11,1) -> 46327 | K13: =DATE(K2,11,1) -> 47058 | ... M13: =DATE(M2,11,1) -> 47788
C14: Armistice 1918 | D14: =DATE(D2,11,11) -> 44146 | E14: =DATE(E2,11,11) -> 44511 | F14: =DATE(F2,11,11) -> 44876 | G14: =DATE(G2,11,11) -> 45241 | H14: =DATE(H2,11,11) -> 45607 | I14: =DATE(I2,11,11) -> 45972 | J14: =DATE(J2,11,11) -> 46337 | K14: =DATE(K2,11,11) -> 47068 | ... M14: =DATE(M2,11,11) -> 47798
C15: Noël | D15: =DATE(D2,12,25) -> 44190 | E15: =DATE(E2,12,25) -> 44555 | F15: =DATE(F2,12,25) -> 44920 | G15: =DATE(G2,12,25) -> 45285 | H15: =DATE(H2,12,25) -> 45651 | I15: =DATE(I2,12,25) -> 46016 | J15: =DATE(J2,12,25) -> 46381 | K15: =DATE(K2,12,25) -> 47112 | ... M15: =DATE(M2,12,25) -> 47842
C16: Fermeture | D16: 44046
D17: 44047
D18: 44048
D19: 44049
D20: 44050
