Workbook

Sheet Feuil1
A1: table 1
A2: table 2
A3: table 3
A4: table 4
A5: table 5
A6: table 6
A7: table 7
A8: table 8
A9: table 9
A10: table 10
A11: table 11
A12: table 12
... A51: table 51

Sheet Feuil2
A1: LUNDI
A2: MARDI
A3: MERCREDI
A4: JEUDI
A5: VENDREDI
A6: SAMEDI
A7: DIMANCHE

Sheet Feuil3
A1: janvier
A2: février
A3: mars
A4: avril
A5: mai
A6: juin
A7: juillet
A8: août
A9: septembre
A10: octobre
A11: novembre
A12: décembre

Sheet Feuil4
A1: ici je voudrais afficher l'ensemble des données présentes dans FEUIL1 Une fois toute les données récupérées, je voudrais avoir les données de FEUIL2 puis de FEUIL3. Le problème de la fonction présente en_dessous est expliquée en B53
A2: =IF(Feuil1!A1<>"",Feuil1!A1,IF(Feuil2!A1<>"",Feuil2!A1,IF(Feuil3!A1<>"",Feuil3!A1,""))) -> table 1
A3: =IF(Feuil1!A2<>"",Feuil1!A2,IF(Feuil2!A2<>"",Feuil2!A2,IF(Feuil3!A2<>"",Feuil3!A2,""))) -> table 2
A4: =IF(Feuil1!A3<>"",Feuil1!A3,IF(Feuil2!A3<>"",Feuil2!A3,IF(Feuil3!A3<>"",Feuil3!A3,""))) -> table 3
A5: =IF(Feuil1!A4<>"",Feuil1!A4,IF(Feuil2!A4<>"",Feuil2!A4,IF(Feuil3!A4<>"",Feuil3!A4,""))) -> table 4
A6: =IF(Feuil1!A5<>"",Feuil1!A5,IF(Feuil2!A5<>"",Feuil2!A5,IF(Feuil3!A5<>"",Feuil3!A5,""))) -> table 5
A7: =IF(Feuil1!A6<>"",Feuil1!A6,IF(Feuil2!A6<>"",Feuil2!A6,IF(Feuil3!A6<>"",Feuil3!A6,""))) -> table 6
A8: =IF(Feuil1!A7<>"",Feuil1!A7,IF(Feuil2!A7<>"",Feuil2!A7,IF(Feuil3!A7<>"",Feuil3!A7,""))) -> table 7
A9: =IF(Feuil1!A8<>"",Feuil1!A8,IF(Feuil2!A8<>"",Feuil2!A8,IF(Feuil3!A8<>"",Feuil3!A8,""))) -> table 8
A10: =IF(Feuil1!A9<>"",Feuil1!A9,IF(Feuil2!A9<>"",Feuil2!A9,IF(Feuil3!A9<>"",Feuil3!A9,""))) -> table 9
A11: =IF(Feuil1!A10<>"",Feuil1!A10,IF(Feuil2!A10<>"",Feuil2!A10,IF(Feuil3!A10<>"",Feuil3!A10,""))) -> table 10
A12: =IF(Feuil1!A11<>"",Feuil1!A11,IF(Feuil2!A11<>"",Feuil2!A11,IF(Feuil3!A11<>"",Feuil3!A11,""))) -> table 11
A13: =IF(Feuil1!A12<>"",Feuil1!A12,IF(Feuil2!A12<>"",Feuil2!A12,IF(Feuil3!A12<>"",Feuil3!A12,""))) -> table 12
... A52: =IF(Feuil1!A51<>"",Feuil1!A51,IF(Feuil2!A51<>"",Feuil2!A51,IF(Feuil3!A51<>"",Feuil3!A51,""))) -> table 51
A53: =IF(Feuil1!A52<>"",Feuil1!A52,IF(Feuil2!A52<>"",Feuil2!A52,IF(Feuil3!A52<>"",Feuil3!A52,""))) | B53: ICI je voudrais donc qu'on reparte en A1 de la FEUIL2 et non pas être en A52
A54: =IF(Feuil1!A53<>"",Feuil1!A53,IF(Feuil2!A53<>"",Feuil2!A53,IF(Feuil3!A53<>"",Feuil3!A53,"")))
A55: =IF(Feuil1!A54<>"",Feuil1!A54,IF(Feuil2!A54<>"",Feuil2!A54,IF(Feuil3!A54<>"",Feuil3!A54,"")))
