Workbook
Name Année: '[1]Grille modulation'!$AM$2:$AM$25
Name feries: [2]donnée!$F$4:$F$16
Name mois: #REF!

Sheet RC81
A1: Calendrier prévisionnel de rupture conventionnelle
A2: Evènements | C2: Calcul des délais | D2: Invitation | E2: Fin de RC | F2: Envoi DIRECCTE
A3: Lettre d'invitation à négocier | C3: Remise en MP | D3: 44053 | E3: =WORKDAY(WORKDAY.INTL(E4,-6,11,'Jours Fériés'!E5:E30)-1,1,'Jours Fériés'!E5:E30) -> 44054 | F3: =WORKDAY(WORKDAY.INTL(F4,-6,11,'Jours Fériés'!E5:E30)-1,1,'Jours Fériés'!E5:E30) -> 44053
A4: Entretien 1 / signature | C4: 5 jours ouvrables à partir du lendemain de la réception de la convocation (aucun délai légal) | D4: =WORKDAY(WORKDAY.INTL(D3,6,11,'Jours Fériés'!$E$5:$E$30)-1,1,'Jours Fériés'!$E$5:$E$30) -> 44061 | E4: =IF(B5="x",WORKDAY(WORKDAY.INTL(E6,-6,11,'Jours Fériés'!E5:E30)-1,1,'Jours Fériés'!E5:E30),WORKDAY(WORKDAY.INTL(E6,-1,11,'Jours Fériés'!E5:E30)-1,1,'Jours Fériés'!E5:E30)) -> 44062 | F4: =IF(B5="x",WORKDAY(WORKDAY.INTL(F6,-6,11,'Jours Fériés'!E5:E30)-1,1,'Jours Fériés'!E5:E30),WORKDAY(WORKDAY.INTL(F6,-1,11,'Jours Fériés'!E5:E30)-1,1,'Jours Fériés'!E5:E30)) -> 44061
A5: Entretien 2 / Signature | C5: 3 jours ouvrables à partir du lendemain de l'entretien 1 (aucun délai légal) | D5: =IF(B5="X",WORKDAY(WORKDAY.INTL(D4,4,11,'Jours Fériés'!E5:E30)-1,1,'Jours Fériés'!E5:E30),D4) -> 44061 | E5: =IF(B5="X",WORKDAY(WORKDAY.INTL(E6,-1,11,'Jours Fériés'!E5:E30)-1,1,'Jours Fériés'!E5:E30),D4) -> 44061 | F5: =IF(B5="X",WORKDAY(WORKDAY.INTL(F6,-1,11,'Jours Fériés'!E5:E30)-1,1,'Jours Fériés'!E5:E30),D4) -> 44061
A6: Début délai rétractation | C6: Lendemain du jour de signature de la convention | D6: =D5+1 -> 44062 | E6: =WORKDAY(E7-15,1,'Jours Fériés'!E5:E30) -> 44063 | F6: =WORKDAY(F7-15,1,'Jours Fériés'!E5:E30) -> 44062
A7: Fin du délai rétractation | C7: 15 jours calendaires, se termine à 24h. Lorsque le délai expire normalement un samedi, un dimanche ou un jour férié ou chômé, il est prorogé jusqu'au premier jour ouvrable suivant. | D7: =IF(ISNUMBER(MATCH(IF(WEEKDAY(D5+15,2)=6,D5+15+2,IF(WEEKDAY(D5+15,2)=7,D5+15+1,D5+15)),fer,0)),IF(WEEKDAY(D5+15,2)=6,D5+15+2,IF(WEEKDAY(D5+15,2)=7,D5+15+1,D5+15))+1,IF(WEEKDAY(D5+15,2)=6,D5+15+2,IF(WEEKDAY(D5+15,2)=7,D5+15+1,D5+15))) -> 44076 | E7: =WORKDAY(WORKDAY.INTL(E8,-1,11,'Jours Fériés'!E5:E30)-1,1,'Jours Fériés'!E5:E30) -> 44077 | F7: =WORKDAY(WORKDAY.INTL(F8,-1,11,'Jours Fériés'!E5:E30)-1,1,'Jours Fériés'!E5:E30) -> 44076
A8: Envoi de la demande d'homologation à la DIRECCTE | C8: Lendemain du dernier jour de rétractation | D8: =WORKDAY(D7+1,0,'Jours Fériés'!E5:E30) -> 44077 | E8: =WORKDAY(WORKDAY.INTL(E9,-3,11,'Jours Fériés'!E5:E30)-1,1,'Jours Fériés'!E5:E30) -> 44078 | F8: 44077
A9: Date prévisible de réception | C9: 3 jours pleins à partir de la date d'envoi de la demande. | D9: =WORKDAY(WORKDAY.INTL(D8,3,11,'Jours Fériés'!E5:E30)-1,1,'Jours Fériés'!E5:E30) -> 44081 | E9: =WORKDAY(WORKDAY.INTL(E10,-1,11,'Jours Fériés'!E5:E30)-1,1,'Jours Fériés'!E5:E30) -> 44082 | F9: =WORKDAY(WORKDAY.INTL(F8,3,11,'Jours Fériés'!E5:E30)-1,1,'Jours Fériés'!E5:E30) -> 44081
A10: Début du délai d'homologation | C10: Le lendemain du jour ouvrable de réception de la demande par la DIRECCTE. | D10: =WORKDAY(WORKDAY.INTL(D9,1,11,'Jours Fériés'!E5:E30)-1,1,'Jours Fériés'!E5:E30) -> 44082 | E10: =WORKDAY(WORKDAY.INTL(E11,-15,11,'Jours Fériés'!E5:E30)+1,1,'Jours Fériés'!E5:E30) -> 44083 | F10: =WORKDAY(WORKDAY.INTL(F9,1,11,'Jours Fériés'!E5:E30)-1,1,'Jours Fériés'!E5:E30) -> 44082
A11: Fin du délai d'homologation | C11: Expire le 15ème jour ouvrable à 24h. Lorsque le délai expire normalement un samedi, un dimanche ou un jour férié ou chômé, il est prorogé jusqu'au premier jour ouvrable suivant. | D11: =WORKDAY(WORKDAY.INTL(D9,15,11,'Jours Fériés'!E5:E30)-1,1,'Jours Fériés'!E5:E30) -> 44098 | E11: =WORKDAY(WORKDAY.INTL(E12,-1,11,'Jours Fériés'!E5:E30)-1,1,'Jours Fériés'!E5:E30) -> 44098 | F11: =WORKDAY(WORKDAY.INTL(F9,15,11,'Jours Fériés'!E5:E30)-1,1,'Jours Fériés'!E5:E30) -> 44098
A12: Date de rupture du contrat | C12: Le lendemain du dernier jour ouvrable d'homologation de la DIRECCTE en cas de décision implicite, au lendemain de la notification en cas de décision explicite. | D12: =WORKDAY(D11+1,0,'Jours Fériés'!E5:E30) -> 44099 | E12: 44099 | F12: =WORKDAY(F11+1,0,'Jours Fériés'!E5:E30) -> 44099

Sheet Jours Fériés
C2: =YEAR(D2) -> 2020 | D2: 44062 | K2: =C2+1 -> 2021
C4: Jour | D4: JF | E4: Date | F4: N° Sem | G4: Ouvrés
A5: =IF(C5="Samedi",0,1) -> 1 | B5: =IF(C5="Dimanche",0,1) -> 1 | C5: =CHOOSE(WEEKDAY(E5),"Dimanche","Lundi","Mardi","Mercredi","Jeudi","Vendredi","Samedi") -> Mercredi | D5: Jour de l’an | E5: =DATE($C$2,1,1) -> 43831 | F5: =WEEKNUM(E5,21) -> 1 | G5: =IF(A5+B5=2,1,0) -> 1
A6: =IF(C6="Samedi",0,1) -> 1 | B6: =IF(C6="Dimanche",0,1) -> 0 | C6: =CHOOSE(WEEKDAY(E6),"Dimanche","Lundi","Mardi","Mercredi","Jeudi","Vendredi","Samedi") -> Dimanche | D6: Pâques | E6: =FLOOR(DAY(MINUTE($C$2/38)/2+56)&"/5/"&$C$2,7)-34 -> 43933 | F6: =WEEKNUM(E6,21) -> 15 | G6: =IF(A6+B6=2,1,0) -> 0
A7: =IF(C7="Samedi",0,1) -> 1 | B7: =IF(C7="Dimanche",0,1) -> 1 | C7: =CHOOSE(WEEKDAY(E7),"Dimanche","Lundi","Mardi","Mercredi","Jeudi","Vend redi","Samedi") -> Lundi | D7: de Pâques | E7: =E6 + 1 -> 43934 | F7: =WEEKNUM(E7,21) -> 16 | G7: =IF(A7+B7=2,1,0) -> 1
A8: =IF(C8="Samedi",0,1) -> 1 | B8: =IF(C8="Dimanche",0,1) -> 1 | C8: =CHOOSE(WEEKDAY(E8),"Dimanche","Lundi","Mardi","Mercredi","Jeudi","Vend redi","Samedi") -> Vend redi | D8: Fête du travail | E8: =DATE($C$2,5,1) -> 43952 | F8: =WEEKNUM(E8,21) -> 18 | G8: =IF(A8+B8=2,1,0) -> 1
A9: =IF(C9="Samedi",0,1) -> 1 | B9: =IF(C9="Dimanche",0,1) -> 1 | C9: =CHOOSE(WEEKDAY(E9),"Dimanche","Lundi","Mardi","Mercredi","Jeudi","Vendredi","Samedi") -> Vendredi | D9: Armistice 39/45 | E9: =DATE($C$2,5,8) -> 43959 | F9: =WEEKNUM(E9,21) -> 19 | G9: =IF(A9+B9=2,1,0) -> 1
A10: =IF(C10="Samedi",0,1) -> 1 | B10: =IF(C10="Dimanche",0,1) -> 1 | C10: =CHOOSE(WEEKDAY(E10),"Dimanche","Lundi","Mardi","Mercredi","Jeudi","Vendredi","Samedi") -> Jeudi | D10: Ascension | E10: =E6 + 39 -> 43972 | F10: =WEEKNUM(E10,21) -> 21 | G10: =IF(A10+B10=2,1,0) -> 1
A11: =IF(C11="Samedi",0,1) -> 1 | B11: =IF(C11="Dimanche",0,1) -> 0 | C11: =CHOOSE(WEEKDAY(E11),"Dimanche","Lundi","Mardi","Mercredi","Jeudi","Vendredi","Samedi") -> Dimanche | D11: Pentecôte | E11: =E6 + 49 -> 43982 | F11: =WEEKNUM(E11,21) -> 22 | G11: =IF(A11+B11=2,1,0) -> 0
A12: =IF(C12="Samedi",0,1) -> 1 | B12: =IF(C12="Dimanche",0,1) -> 1 | C12: =CHOOSE(WEEKDAY(E12),"Dimanche","Lundi","Mardi","Mercredi","Jeudi","Vendredi","Samedi") -> Lundi | D12: de Pentecôte | E12: =E6 + 50 -> 43983 | F12: =WEEKNUM(E12,21) -> 23 | G12: =IF(A12+B12=2,1,0) -> 1
A13: =IF(C13="Samedi",0,1) -> 1 | B13: =IF(C13="Dimanche",0,1) -> 1 | C13: =CHOOSE(WEEKDAY(E13),"Dimanche","Lundi","Mardi","Mercredi","Jeudi","Vendredi","Samedi") -> Mardi | D13: Fête Nationale | E13: =DATE($C$2,7,14) -> 44026 | F13: =WEEKNUM(E13,21) -> 29 | G13: =IF(A13+B13=2,1,0) -> 1
A14: =IF(C14="Samedi",0,1) -> 0 | B14: =IF(C14="Dimanche",0,1) -> 1 | C14: =CHOOSE(WEEKDAY(E14),"Dimanche","Lundi","Mardi","Mercredi","Jeudi","Vendredi","Samedi") -> Samedi | D14: Assomption | E14: =DATE($C$2,8,15) -> 44058 | F14: =WEEKNUM(E14,21) -> 33 | G14: =IF(A14+B14=2,1,0) -> 0
A15: =IF(C15="Samedi",0,1) -> 1 | B15: =IF(C15="Dimanche",0,1) -> 0 | C15: =CHOOSE(WEEKDAY(E15),"Dimanche","Lundi","Mardi","Mercredi","Jeudi","Vendredi","Samedi") -> Dimanche | D15: Toussaint | E15: =DATE($C$2,11,1) -> 44136 | F15: =WEEKNUM(E15,21) -> 44 | G15: =IF(A15+B15=2,1,0) -> 0
A16: =IF(C16="Samedi",0,1) -> 1 | B16: =IF(C16="Dimanche",0,1) -> 1 | C16: =CHOOSE(WEEKDAY(E16),"Dimanche","Lundi","Mardi","Mercredi","Jeudi","Vendredi","Samedi") -> Mercredi | D16: Armistice 14/18 | E16: =DATE($C$2,11,11) -> 44146 | F16: =WEEKNUM(E16,21) -> 46 | G16: =IF(A16+B16=2,1,0) -> 1
A17: =IF(C17="Samedi",0,1) -> 1 | B17: =IF(C17="Dimanche",0,1) -> 1 | C17: =CHOOSE(WEEKDAY(E17),"Dimanche","Lundi","Mardi","Mercredi","Jeudi","Vendredi","Samedi") -> Vendredi | D17: Noël | E17: =DATE($C$2,12,25) -> 44190 | F17: =WEEKNUM(E17,21) -> 52 | G17: =IF(A17+B17=2,1,0) -> 1 | I17: Nb JF | J17: =SUM(G5:G17) -> 9
A18: =IF(C18="Samedi",0,1) -> 1 | B18: =IF(C18="Dimanche",0,1) -> 1 | C18: =CHOOSE(WEEKDAY(E18),"Dimanche","Lundi","Mardi","Mercredi","Jeudi","Vendredi","Samedi") -> Vendredi | D18: Jour de l’an | E18: =DATE(C2+1,1,1) -> 44197 | F18: =WEEKNUM(E18,21) -> 53 | G18: =IF(A18+B18=2,1,0) -> 1
A19: =IF(C19="Samedi",0,1) -> 1 | B19: =IF(C19="Dimanche",0,1) -> 0 | C19: =CHOOSE(WEEKDAY(E19),"Dimanche","Lundi","Mardi","Mercredi","Jeudi","Vendredi","Samedi") -> Dimanche | D19: Pâques | E19: =FLOOR(DAY(MINUTE($K$2/38)/2+56)&"/5/"&$K$2,7)-34 -> 44290 | F19: =WEEKNUM(E19,21) -> 13 | G19: =IF(A19+B19=2,1,0) -> 0
A20: =IF(C20="Samedi",0,1) -> 1 | B20: =IF(C20="Dimanche",0,1) -> 1 | C20: =CHOOSE(WEEKDAY(E20),"Dimanche","Lundi","Mardi","Mercredi","Jeudi","Vend redi","Samedi") -> Lundi | D20: de Pâques | E20: =E19 + 1 -> 44291 | F20: =WEEKNUM(E20,21) -> 14 | G20: =IF(A20+B20=2,1,0) -> 1
A21: =IF(C21="Samedi",0,1) -> 0 | B21: =IF(C21="Dimanche",0,1) -> 1 | C21: =CHOOSE(WEEKDAY(E21),"Dimanche","Lundi","Mardi","Mercredi","Jeudi","Vend redi","Samedi") -> Samedi | D21: Fête du travail | E21: =DATE($K$2,5,1) -> 44317 | F21: =WEEKNUM(E21,21) -> 17 | G21: =IF(A21+B21=2,1,0) -> 0
A22: =IF(C22="Samedi",0,1) -> 0 | B22: =IF(C22="Dimanche",0,1) -> 1 | C22: =CHOOSE(WEEKDAY(E22),"Dimanche","Lundi","Mardi","Mercredi","Jeudi","Vendredi","Samedi") -> Samedi | D22: Armistice 39/45 | E22: =DATE($K$2,5,8) -> 44324 | F22: =WEEKNUM(E22,21) -> 18 | G22: =IF(A22+B22=2,1,0) -> 0
A23: =IF(C23="Samedi",0,1) -> 1 | B23: =IF(C23="Dimanche",0,1) -> 1 | C23: =CHOOSE(WEEKDAY(E23),"Dimanche","Lundi","Mardi","Mercredi","Jeudi","Vendredi","Samedi") -> Jeudi | D23: Ascension | E23: =E19 + 39 -> 44329 | F23: =WEEKNUM(E23,21) -> 19 | G23: =IF(A23+B23=2,1,0) -> 1
A24: =IF(C24="Samedi",0,1) -> 1 | B24: =IF(C24="Dimanche",0,1) -> 0 | C24: =CHOOSE(WEEKDAY(E24),"Dimanche","Lundi","Mardi","Mercredi","Jeudi","Vendredi","Samedi") -> Dimanche | D24: Pentecôte | E24: =E19 + 49 -> 44339 | F24: =WEEKNUM(E24,21) -> 20 | G24: =IF(A24+B24=2,1,0) -> 0
A25: =IF(C25="Samedi",0,1) -> 1 | B25: =IF(C25="Dimanche",0,1) -> 1 | C25: =CHOOSE(WEEKDAY(E25),"Dimanche","Lundi","Mardi","Mercredi","Jeudi","Vendredi","Samedi") -> Lundi | D25: de Pentecôte | E25: =E19 + 50 -> 44340 | F25: =WEEKNUM(E25,21) -> 21 | G25: =IF(A25+B25=2,1,0) -> 1
A26: =IF(C26="Samedi",0,1) -> 1 | B26: =IF(C26="Dimanche",0,1) -> 1 | C26: =CHOOSE(WEEKDAY(E26),"Dimanche","Lundi","Mardi","Mercredi","Jeudi","Vendredi","Samedi") -> Mercredi | D26: Fête Nationale | E26: =DATE($K$2,7,14) -> 44391 | F26: =WEEKNUM(E26,21) -> 28 | G26: =IF(A26+B26=2,1,0) -> 1
A27: =IF(C27="Samedi",0,1) -> 1 | B27: =IF(C27="Dimanche",0,1) -> 0 | C27: =CHOOSE(WEEKDAY(E27),"Dimanche","Lundi","Mardi","Mercredi","Jeudi","Vendredi","Samedi") -> Dimanche | D27: Assomption | E27: =DATE($K$2,8,15) -> 44423 | F27: =WEEKNUM(E27,21) -> 32 | G27: =IF(A27+B27=2,1,0) -> 0
A28: =IF(C28="Samedi",0,1) -> 1 | B28: =IF(C28="Dimanche",0,1) -> 1 | C28: =CHOOSE(WEEKDAY(E28),"Dimanche","Lundi","Mardi","Mercredi","Jeudi","Vendredi","Samedi") -> Lundi | D28: Toussaint | E28: =DATE($K$2,11,1) -> 44501 | F28: =WEEKNUM(E28,21) -> 44 | G28: =IF(A28+B28=2,1,0) -> 1
A29: =IF(C29="Samedi",0,1) -> 1 | B29: =IF(C29="Dimanche",0,1) -> 1 | C29: =CHOOSE(WEEKDAY(E29),"Dimanche","Lundi","Mardi","Mercredi","Jeudi","Vendredi","Samedi") -> Jeudi | D29: Armistice 14/18 | E29: =DATE($K$2,11,11) -> 44511 | F29: =WEEKNUM(E29,21) -> 45 | G29: =IF(A29+B29=2,1,0) -> 1
A30: =IF(C30="Samedi",0,1) -> 0 | B30: =IF(C30="Dimanche",0,1) -> 1 | C30: =CHOOSE(WEEKDAY(E30),"Dimanche","Lundi","Mardi","Mercredi","Jeudi","Vendredi","Samedi") -> Samedi | D30: Noël | E30: =DATE($K$2,12,25) -> 44555 | F30: =WEEKNUM(E30,21) -> 51 | G30: =IF(A30+B30=2,1,0) -> 0 | I30: NB JF | J30: =SUM(G18:G30) -> 7
