Workbook

Sheet Fichier vierge
B1: 2022
E2: Modifier les cellules en jaune pour mettre à jour le calendrier
E4: mise en forme pour JRE, CP, FERIE
B5: Début | C5: 44562
B6: Fin | C6: 44926
E8: Temps de travail matin | G8: Temps de travail après-midi | I8: Total heures travaillées par jour | J8: Heures supplémentaires | K8: Commentaires | L8: Cumul heures travaillées semaine | M8: Total mois HCR | N8: Total mois HPL | O8: Total mois centièrme | P8: Payé M+1 | Q8: Payé M+2 | R8: Reste à payer | V8: 1 | W8: JANVIER
A9: Mois | B9: Semaine | E9: Heure début | F9: Heure fin | G9: Heure début | H9: Heure fin | V9: 2 | W9: FEVRIER
A10: =VLOOKUP(MONTH($C10),$V$8:$W$19,2,0) -> JANVIER | B10: 53 | C10: =$C$5 -> 44562 | D10: =VLOOKUP(WEEKDAY($C10),$V$21:$W$27,2,0) -> Samedi | E10: =IF(OR(D10="Samedi",D10="Dimanche"),"",Données!$C$3) | F10: =IF(OR(D10="Samedi",D10="Dimanche"),"",Données!$D$3) | G10: =IF(OR(D10="Samedi",D10="Dimanche"),"",Données!$E$3) | H10: =IF(OR(D10="Samedi",D10="Dimanche"),"",Données!$F$3) | I10: =IFERROR(IF(OR(D10="samedi",D10="dimanche")*(F10-E10)+(H10-G10)=0,"",F10-E10+(H10-G10)),"") | K10: {=IF(OR(C10=$U$19:$U$31),"FERIE","")} -> FERIE | L10: =IF(D10="Dimanche",SUM(I4:I10),"") | M10: =SUMIF(K10:K40,"HCR",J10:J40) -> 0 | N10: =SUMIF(K10:K40,"HPL",J10:J40) -> 0 | O10: =N10*24 -> 0 | R10: =O10-(P10+Q10) -> 0 | V10: 3 | W10: MARS
C11: =IF(ISERROR(IF((C10+1)<=$C$6,(C10+1),"")),"",IF((C10+1)<=$C$6,(C10+1),"")) -> 44563 | D11: =IF(ISERROR(VLOOKUP(WEEKDAY($C11),$V$21:$W$27,2,0)),"",VLOOKUP(WEEKDAY($C11),$V$21:$W$27,2,0)) -> Dimanche | E11: =IF(OR(D11="Samedi",D11="Dimanche"),"",Données!$C$3) | F11: =IF(OR(D11="Samedi",D11="Dimanche"),"",Données!$D$3) | G11: =IF(OR(D11="Samedi",D11="Dimanche"),"",Données!$E$3) | H11: =IF(OR(D11="Samedi",D11="Dimanche"),"",Données!$F$3) | I11: =IFERROR(IF(OR(D11="samedi",D11="dimanche")*(F11-E11)+(H11-G11)=0,"",F11-E11+(H11-G11)),"") | K11: {=IF(OR(C11=$U$19:$U$31),"FERIE","")} | L11: =IF(D11="Dimanche",SUM(I5:I11),"") -> 0 | V11: 4 | W11: AVRIL
B12: 1 | C12: =IF(ISERROR(IF((C11+1)<=$C$6,(C11+1),"")),"",IF((C11+1)<=$C$6,(C11+1),"")) -> 44564 | D12: =IF(ISERROR(VLOOKUP(WEEKDAY($C12),$V$21:$W$27,2,0)),"",VLOOKUP(WEEKDAY($C12),$V$21:$W$27,2,0)) -> Lundi | E12: =IF(OR(D12="Samedi",D12="Dimanche"),"",Données!$C$3) -> 0.35416667 | F12: =IF(OR(D12="Samedi",D12="Dimanche"),"",Données!$D$3) -> 0.5125 | G12: =IF(OR(D12="Samedi",D12="Dimanche"),"",Données!$E$3) -> 0.53680556 | H12: =IF(OR(D12="Samedi",D12="Dimanche"),"",Données!$F$3) -> 16:41 | I12: =IFERROR(IF(OR(D12="samedi",D12="dimanche")*(F12-E12)+(H12-G12)=0,"",F12-E12+(H12-G12)),"") -> 0.31666667 | J12: =IF(I12-Données!$C$2>0,I12-Données!$C$2,0) -> 5.5511151e-17 | K12: {=IF(OR(C12=$U$19:$U$31),"FERIE","")} | S12: =SUMIF(K12:K40,"HPL",J12:J40) -> 0 | V12: 5 | W12: MAI
C13: =IF(ISERROR(IF((C12+1)<=$C$6,(C12+1),"")),"",IF((C12+1)<=$C$6,(C12+1),"")) -> 44565 | D13: =IF(ISERROR(VLOOKUP(WEEKDAY($C13),$V$21:$W$27,2,0)),"",VLOOKUP(WEEKDAY($C13),$V$21:$W$27,2,0)) -> Mardi | E13: 0.35416667 | F13: =IF(OR(D13="Samedi",D13="Dimanche"),"",Données!$D$3) -> 0.5125 | G13: =IF(OR(D13="Samedi",D13="Dimanche"),"",Données!$E$3) -> 0.53680556 | H13: =IF(OR(D13="Samedi",D13="Dimanche"),"",Données!$F$3) -> 16:41 | I13: =IFERROR(IF(OR(D13="samedi",D13="dimanche")*(F13-E13)+(H13-G13)=0,"",F13-E13+(H13-G13)),"") -> 0.31666667 | J13: =IF(I13-Données!$C$2>0,I13-Données!$C$2,0) -> 5.5511151e-17 | S13: =SUMIF(K13:K41,"HCR",J13:J41) -> 0 | V13: 6 | W13: JUIN
C14: =IF(ISERROR(IF((C13+1)<=$C$6,(C13+1),"")),"",IF((C13+1)<=$C$6,(C13+1),"")) -> 44566 | D14: =IF(ISERROR(VLOOKUP(WEEKDAY($C14),$V$21:$W$27,2,0)),"",VLOOKUP(WEEKDAY($C14),$V$21:$W$27,2,0)) -> Mercredi | E14: 0.39583333 | F14: =IF(OR(D14="Samedi",D14="Dimanche"),"",Données!$D$3) -> 0.5125 | G14: =IF(OR(D14="Samedi",D14="Dimanche"),"",Données!$E$3) -> 0.53680556 | H14: =IF(OR(D14="Samedi",D14="Dimanche"),"",Données!$F$3) -> 16:41 | I14: =IFERROR(IF(OR(D14="samedi",D14="dimanche")*(F14-E14)+(H14-G14)=0,"",F14-E14+(H14-G14)),"") -> 0.275 | J14: =IF(I14-Données!$C$2>0,I14-Données!$C$2,0) -> 0 | V14: 7 | W14: JUILLET
C15: =IF(ISERROR(IF((C14+1)<=$C$6,(C14+1),"")),"",IF((C14+1)<=$C$6,(C14+1),"")) -> 44567 | D15: =IF(ISERROR(VLOOKUP(WEEKDAY($C15),$V$21:$W$27,2,0)),"",VLOOKUP(WEEKDAY($C15),$V$21:$W$27,2,0)) -> Jeudi | E15: 0.35416667 | F15: =IF(OR(D15="Samedi",D15="Dimanche"),"",Données!$D$3) -> 0.5125 | G15: =IF(OR(D15="Samedi",D15="Dimanche"),"",Données!$E$3) -> 0.53680556 | H15: =IF(OR(D15="Samedi",D15="Dimanche"),"",Données!$F$3) -> 16:41 | I15: =IFERROR(IF(OR(D15="samedi",D15="dimanche")*(F15-E15)+(H15-G15)=0,"",F15-E15+(H15-G15)),"") -> 0.31666667 | J15: =IF(I15-Données!$C$2>0,I15-Données!$C$2,0) -> 5.5511151e-17 | V15: 8 | W15: AOÛT
C16: =IF(ISERROR(IF((C15+1)<=$C$6,(C15+1),"")),"",IF((C15+1)<=$C$6,(C15+1),"")) -> 44568 | D16: =IF(ISERROR(VLOOKUP(WEEKDAY($C16),$V$21:$W$27,2,0)),"",VLOOKUP(WEEKDAY($C16),$V$21:$W$27,2,0)) -> Vendredi | E16: =IF(OR(D16="Samedi",D16="Dimanche"),"",Données!$C$3) -> 0.35416667 | F16: =IF(OR(D16="Samedi",D16="Dimanche"),"",Données!$D$3) -> 0.5125 | G16: =IF(OR(D16="Samedi",D16="Dimanche"),"",Données!$E$3) -> 0.53680556 | H16: =IF(OR(D16="Samedi",D16="Dimanche"),"",Données!$F$3) -> 16:41 | I16: =IFERROR(IF(OR(D16="samedi",D16="dimanche")*(F16-E16)+(H16-G16)=0,"",F16-E16+(H16-G16)),"") -> 0.31666667 | J16: =IF(I16-Données!$C$2>0,I16-Données!$C$2,0) -> 5.5511151e-17 | V16: 9 | W16: SEPTEMBRE
C17: =IF(ISERROR(IF((C16+1)<=$C$6,(C16+1),"")),"",IF((C16+1)<=$C$6,(C16+1),"")) -> 44569 | D17: =IF(ISERROR(VLOOKUP(WEEKDAY($C17),$V$21:$W$27,2,0)),"",VLOOKUP(WEEKDAY($C17),$V$21:$W$27,2,0)) -> Samedi | E17: =IF(OR(D17="Samedi",D17="Dimanche"),"",Données!$C$3) | F17: =IF(OR(D17="Samedi",D17="Dimanche"),"",Données!$D$3) | G17: =IF(OR(D17="Samedi",D17="Dimanche"),"",Données!$E$3) | H17: =IF(OR(D17="Samedi",D17="Dimanche"),"",Données!$F$3) | I17: =IFERROR(IF(OR(D17="samedi",D17="dimanche")*(F17-E17)+(H17-G17)=0,"",F17-E17+(H17-G17)),"") | K17: {=IF(OR(C17=$U$19:$U$31),"FERIE","")} | V17: 10 | W17: OCTOBRE
C18: =IF(ISERROR(IF((C17+1)<=$C$6,(C17+1),"")),"",IF((C17+1)<=$C$6,(C17+1),"")) -> 44570 | D18: =IF(ISERROR(VLOOKUP(WEEKDAY($C18),$V$21:$W$27,2,0)),"",VLOOKUP(WEEKDAY($C18),$V$21:$W$27,2,0)) -> Dimanche | E18: =IF(OR(D18="Samedi",D18="Dimanche"),"",Données!$C$3) | F18: =IF(OR(D18="Samedi",D18="Dimanche"),"",Données!$D$3) | G18: =IF(OR(D18="Samedi",D18="Dimanche"),"",Données!$E$3) | H18: =IF(OR(D18="Samedi",D18="Dimanche"),"",Données!$F$3) | I18: =IFERROR(IF(OR(D18="samedi",D18="dimanche")*(F18-E18)+(H18-G18)=0,"",F18-E18+(H18-G18)),"") | J18: =IF(D18="Dimanche",SUM(J12:J16),"") -> 2.220446e-16 | K18: {=IF(OR(C18=$U$19:$U$31),"FERIE","")} | L18: =IF(D18="Dimanche",SUM(I12:I18),"") -> 1.5416667 | T18: Jour férié | V18: 11 | W18: NOVEMBRE
B19: 2 | C19: =IF(ISERROR(IF((C18+1)<=$C$6,(C18+1),"")),"",IF((C18+1)<=$C$6,(C18+1),"")) -> 44571 | D19: =IF(ISERROR(VLOOKUP(WEEKDAY($C19),$V$21:$W$27,2,0)),"",VLOOKUP(WEEKDAY($C19),$V$21:$W$27,2,0)) -> Lundi | E19: =IF(OR(D19="Samedi",D19="Dimanche"),"",Données!$C$3) -> 0.35416667 | F19: =IF(OR(D19="Samedi",D19="Dimanche"),"",Données!$D$3) -> 0.5125 | G19: =IF(OR(D19="Samedi",D19="Dimanche"),"",Données!$E$3) -> 0.53680556 | H19: =IF(OR(D19="Samedi",D19="Dimanche"),"",Données!$F$3) -> 16:41 | I19: =IFERROR(IF(OR(D19="samedi",D19="dimanche")*(F19-E19)+(H19-G19)=0,"",F19-E19+(H19-G19)),"") -> 0.31666667 | K19: {=IF(OR(C19=$U$19:$U$31),"FERIE","")} | T19: Jour de l’An | U19: =DATE(B1,1,1) -> 44562 | V19: 12 | W19: DECEMBRE
C20: =IF(ISERROR(IF((C19+1)<=$C$6,(C19+1),"")),"",IF((C19+1)<=$C$6,(C19+1),"")) -> 44572 | D20: =IF(ISERROR(VLOOKUP(WEEKDAY($C20),$V$21:$W$27,2,0)),"",VLOOKUP(WEEKDAY($C20),$V$21:$W$27,2,0)) -> Mardi | E20: =IF(OR(D20="Samedi",D20="Dimanche"),"",Données!$C$3) -> 0.35416667 | F20: =IF(OR(D20="Samedi",D20="Dimanche"),"",Données!$D$3) -> 0.5125 | G20: =IF(OR(D20="Samedi",D20="Dimanche"),"",Données!$E$3) -> 0.53680556 | H20: =IF(OR(D20="Samedi",D20="Dimanche"),"",Données!$F$3) -> 16:41 | I20: =IFERROR(IF(OR(D20="samedi",D20="dimanche")*(F20-E20)+(H20-G20)=0,"",F20-E20+(H20-G20)),"") -> 0.31666667 | K20: {=IF(OR(C20=$U$19:$U$31),"FERIE","")} | T20: Pâques | U20: =ROUND(DATE(B1,4,MOD(234-11*MOD(B1,19),30))/7,0)*7-6 -> 44668
C21: =IF(ISERROR(IF((C20+1)<=$C$6,(C20+1),"")),"",IF((C20+1)<=$C$6,(C20+1),"")) -> 44573 | D21: =IF(ISERROR(VLOOKUP(WEEKDAY($C21),$V$21:$W$27,2,0)),"",VLOOKUP(WEEKDAY($C21),$V$21:$W$27,2,0)) -> Mercredi | E21: =IF(OR(D21="Samedi",D21="Dimanche"),"",Données!$C$3) -> 0.35416667 | F21: =IF(OR(D21="Samedi",D21="Dimanche"),"",Données!$D$3) -> 0.5125 | G21: =IF(OR(D21="Samedi",D21="Dimanche"),"",Données!$E$3) -> 0.53680556 | H21: 0.69513889 | I21: =IFERROR(IF(OR(D21="samedi",D21="dimanche")*(F21-E21)+(H21-G21)=0,"",F21-E21+(H21-G21)),"") -> 0.31666667 | T21: Lundi de Pâques | U21: =U20+1 -> 44669 | V21: 1 | W21: Dimanche
C22: =IF(ISERROR(IF((C21+1)<=$C$6,(C21+1),"")),"",IF((C21+1)<=$C$6,(C21+1),"")) -> 44574 | D22: =IF(ISERROR(VLOOKUP(WEEKDAY($C22),$V$21:$W$27,2,0)),"",VLOOKUP(WEEKDAY($C22),$V$21:$W$27,2,0)) -> Jeudi | E22: =IF(OR(D22="Samedi",D22="Dimanche"),"",Données!$C$3) -> 0.35416667 | F22: =IF(OR(D22="Samedi",D22="Dimanche"),"",Données!$D$3) -> 0.5125 | G22: =IF(OR(D22="Samedi",D22="Dimanche"),"",Données!$E$3) -> 0.53680556 | H22: =IF(OR(D22="Samedi",D22="Dimanche"),"",Données!$F$3) -> 16:41 | I22: =IFERROR(IF(OR(D22="samedi",D22="dimanche")*(F22-E22)+(H22-G22)=0,"",F22-E22+(H22-G22)),"") -> 0.31666667 | K22: {=IF(OR(C22=$U$19:$U$31),"FERIE","")} | T22: Fête du travail | U22: =DATE(B1,5,1) -> 44682 | V22: 2 | W22: Lundi
C23: =IF(ISERROR(IF((C22+1)<=$C$6,(C22+1),"")),"",IF((C22+1)<=$C$6,(C22+1),"")) -> 44575 | D23: =IF(ISERROR(VLOOKUP(WEEKDAY($C23),$V$21:$W$27,2,0)),"",VLOOKUP(WEEKDAY($C23),$V$21:$W$27,2,0)) -> Vendredi | E23: =IF(OR(D23="Samedi",D23="Dimanche"),"",Données!$C$3) -> 0.35416667 | F23: =IF(OR(D23="Samedi",D23="Dimanche"),"",Données!$D$3) -> 0.5125 | G23: =IF(OR(D23="Samedi",D23="Dimanche"),"",Données!$E$3) -> 0.53680556 | H23: =IF(OR(D23="Samedi",D23="Dimanche"),"",Données!$F$3) -> 16:41 | I23: =IFERROR(IF(OR(D23="samedi",D23="dimanche")*(F23-E23)+(H23-G23)=0,"",F23-E23+(H23-G23)),"") -> 0.31666667 | K23: {=IF(OR(C23=$U$19:$U$31),"FERIE","")} | T23: Victoire 1945 | U23: =DATE(B1,5,8) -> 44689 | V23: 3 | W23: Mardi
C24: =IF(ISERROR(IF((C23+1)<=$C$6,(C23+1),"")),"",IF((C23+1)<=$C$6,(C23+1),"")) -> 44576 | D24: =IF(ISERROR(VLOOKUP(WEEKDAY($C24),$V$21:$W$27,2,0)),"",VLOOKUP(WEEKDAY($C24),$V$21:$W$27,2,0)) -> Samedi | E24: =IF(OR(D24="Samedi",D24="Dimanche"),"",Données!$C$3) | F24: =IF(OR(D24="Samedi",D24="Dimanche"),"",Données!$D$3) | G24: =IF(OR(D24="Samedi",D24="Dimanche"),"",Données!$E$3) | H24: =IF(OR(D24="Samedi",D24="Dimanche"),"",Données!$F$3) | I24: =IFERROR(IF(OR(D24="samedi",D24="dimanche")*(F24-E24)+(H24-G24)=0,"",F24-E24+(H24-G24)),"") | K24: {=IF(OR(C24=$U$19:$U$31),"FERIE","")} | T24: Ascension | U24: =U20+39 -> 44707 | V24: 4 | W24: Mercredi
C25: =IF(ISERROR(IF((C24+1)<=$C$6,(C24+1),"")),"",IF((C24+1)<=$C$6,(C24+1),"")) -> 44577 | D25: =IF(ISERROR(VLOOKUP(WEEKDAY($C25),$V$21:$W$27,2,0)),"",VLOOKUP(WEEKDAY($C25),$V$21:$W$27,2,0)) -> Dimanche | E25: =IF(OR(D25="Samedi",D25="Dimanche"),"",Données!$C$3) | F25: =IF(OR(D25="Samedi",D25="Dimanche"),"",Données!$D$3) | G25: =IF(OR(D25="Samedi",D25="Dimanche"),"",Données!$E$3) | H25: =IF(OR(D25="Samedi",D25="Dimanche"),"",Données!$F$3) | I25: =IFERROR(IF(OR(D25="samedi",D25="dimanche")*(F25-E25)+(H25-G25)=0,"",F25-E25+(H25-G25)),"") | K25: {=IF(OR(C25=$U$19:$U$31),"FERIE","")} | L25: =IF(D25="Dimanche",SUM(I19:I25),"") -> 1.5833333 | T25: Pentecôte | U25: =U20+49 -> 44717 | V25: 5 | W25: Jeudi
B26: 3 | C26: =IF(ISERROR(IF((C25+1)<=$C$6,(C25+1),"")),"",IF((C25+1)<=$C$6,(C25+1),"")) -> 44578 | D26: =IF(ISERROR(VLOOKUP(WEEKDAY($C26),$V$21:$W$27,2,0)),"",VLOOKUP(WEEKDAY($C26),$V$21:$W$27,2,0)) -> Lundi | E26: =IF(OR(D26="Samedi",D26="Dimanche"),"",Données!$C$3) -> 0.35416667 | F26: =IF(OR(D26="Samedi",D26="Dimanche"),"",Données!$D$3) -> 0.5125 | G26: =IF(OR(D26="Samedi",D26="Dimanche"),"",Données!$E$3) -> 0.53680556 | H26: =IF(OR(D26="Samedi",D26="Dimanche"),"",Données!$F$3) -> 16:41 | I26: =IFERROR(IF(OR(D26="samedi",D26="dimanche")*(F26-E26)+(H26-G26)=0,"",F26-E26+(H26-G26)),"") -> 0.31666667 | K26: {=IF(OR(C26=$U$19:$U$31),"FERIE","")} | T26: Lundi de Pentecôte | U26: =U20+50 -> 44718 | V26: 6 | W26: Vendredi
C27: =IF(ISERROR(IF((C26+1)<=$C$6,(C26+1),"")),"",IF((C26+1)<=$C$6,(C26+1),"")) -> 44579 | D27: =IF(ISERROR(VLOOKUP(WEEKDAY($C27),$V$21:$W$27,2,0)),"",VLOOKUP(WEEKDAY($C27),$V$21:$W$27,2,0)) -> Mardi | E27: =IF(OR(D27="Samedi",D27="Dimanche"),"",Données!$C$3) -> 0.35416667 | F27: =IF(OR(D27="Samedi",D27="Dimanche"),"",Données!$D$3) -> 0.5125 | G27: =IF(OR(D27="Samedi",D27="Dimanche"),"",Données!$E$3) -> 0.53680556 | H27: =IF(OR(D27="Samedi",D27="Dimanche"),"",Données!$F$3) -> 16:41 | I27: =IFERROR(IF(OR(D27="samedi",D27="dimanche")*(F27-E27)+(H27-G27)=0,"",F27-E27+(H27-G27)),"") -> 0.31666667 | K27: {=IF(OR(C27=$U$19:$U$31),"FERIE","")} | T27: Fête Nationale | U27: =DATE(B1,7,14) -> 44756 | V27: 7 | W27: Samedi
C28: =IF(ISERROR(IF((C27+1)<=$C$6,(C27+1),"")),"",IF((C27+1)<=$C$6,(C27+1),"")) -> 44580 | D28: =IF(ISERROR(VLOOKUP(WEEKDAY($C28),$V$21:$W$27,2,0)),"",VLOOKUP(WEEKDAY($C28),$V$21:$W$27,2,0)) -> Mercredi | E28: =IF(OR(D28="Samedi",D28="Dimanche"),"",Données!$C$3) -> 0.35416667 | F28: =IF(OR(D28="Samedi",D28="Dimanche"),"",Données!$D$3) -> 0.5125 | G28: =IF(OR(D28="Samedi",D28="Dimanche"),"",Données!$E$3) -> 0.53680556 | H28: =IF(OR(D28="Samedi",D28="Dimanche"),"",Données!$F$3) -> 16:41 | I28: =IFERROR(IF(OR(D28="samedi",D28="dimanche")*(F28-E28)+(H28-G28)=0,"",F28-E28+(H28-G28)),"") -> 0.31666667 | T28: Assomption | U28: =DATE(B1,8,15) -> 44788
C29: =IF(ISERROR(IF((C28+1)<=$C$6,(C28+1),"")),"",IF((C28+1)<=$C$6,(C28+1),"")) -> 44581 | D29: =IF(ISERROR(VLOOKUP(WEEKDAY($C29),$V$21:$W$27,2,0)),"",VLOOKUP(WEEKDAY($C29),$V$21:$W$27,2,0)) -> Jeudi | E29: =IF(OR(D29="Samedi",D29="Dimanche"),"",Données!$C$3) -> 0.35416667 | F29: =IF(OR(D29="Samedi",D29="Dimanche"),"",Données!$D$3) -> 0.5125 | G29: =IF(OR(D29="Samedi",D29="Dimanche"),"",Données!$E$3) -> 0.53680556 | H29: =IF(OR(D29="Samedi",D29="Dimanche"),"",Données!$F$3) -> 16:41 | I29: =IFERROR(IF(OR(D29="samedi",D29="dimanche")*(F29-E29)+(H29-G29)=0,"",F29-E29+(H29-G29)),"") -> 0.31666667 | K29: {=IF(OR(C29=$U$19:$U$31),"FERIE","")} | T29: Toussaint | U29: =DATE(B1,11,1) -> 44866
C30: =IF(ISERROR(IF((C29+1)<=$C$6,(C29+1),"")),"",IF((C29+1)<=$C$6,(C29+1),"")) -> 44582 | D30: =IF(ISERROR(VLOOKUP(WEEKDAY($C30),$V$21:$W$27,2,0)),"",VLOOKUP(WEEKDAY($C30),$V$21:$W$27,2,0)) -> Vendredi | E30: =IF(OR(D30="Samedi",D30="Dimanche"),"",Données!$C$3) -> 0.35416667 | F30: =IF(OR(D30="Samedi",D30="Dimanche"),"",Données!$D$3) -> 0.5125 | G30: =IF(OR(D30="Samedi",D30="Dimanche"),"",Données!$E$3) -> 0.53680556 | H30: =IF(OR(D30="Samedi",D30="Dimanche"),"",Données!$F$3) -> 16:41 | I30: =IFERROR(IF(OR(D30="samedi",D30="dimanche")*(F30-E30)+(H30-G30)=0,"",F30-E30+(H30-G30)),"") -> 0.31666667 | K30: {=IF(OR(C30=$U$19:$U$31),"FERIE","")} | T30: Armistice 1918 | U30: =DATE(B1,11,11) -> 44876
C31: =IF(ISERROR(IF((C30+1)<=$C$6,(C30+1),"")),"",IF((C30+1)<=$C$6,(C30+1),"")) -> 44583 | D31: =IF(ISERROR(VLOOKUP(WEEKDAY($C31),$V$21:$W$27,2,0)),"",VLOOKUP(WEEKDAY($C31),$V$21:$W$27,2,0)) -> Samedi | E31: =IF(OR(D31="Samedi",D31="Dimanche"),"",Données!$C$3) | F31: =IF(OR(D31="Samedi",D31="Dimanche"),"",Données!$D$3) | G31: =IF(OR(D31="Samedi",D31="Dimanche"),"",Données!$E$3) | H31: =IF(OR(D31="Samedi",D31="Dimanche"),"",Données!$F$3) | I31: =IFERROR(IF(OR(D31="samedi",D31="dimanche")*(F31-E31)+(H31-G31)=0,"",F31-E31+(H31-G31)),"") | K31: {=IF(OR(C31=$U$19:$U$31),"FERIE","")} | T31: Noël | U31: =DATE(B1,12,25) -> 44920
C32: =IF(ISERROR(IF((C31+1)<=$C$6,(C31+1),"")),"",IF((C31+1)<=$C$6,(C31+1),"")) -> 44584 | D32: =IF(ISERROR(VLOOKUP(WEEKDAY($C32),$V$21:$W$27,2,0)),"",VLOOKUP(WEEKDAY($C32),$V$21:$W$27,2,0)) -> Dimanche | E32: =IF(OR(D32="Samedi",D32="Dimanche"),"",Données!$C$3) | F32: =IF(OR(D32="Samedi",D32="Dimanche"),"",Données!$D$3) | G32: =IF(OR(D32="Samedi",D32="Dimanche"),"",Données!$E$3) | H32: =IF(OR(D32="Samedi",D32="Dimanche"),"",Données!$F$3) | I32: =IFERROR(IF(OR(D32="samedi",D32="dimanche")*(F32-E32)+(H32-G32)=0,"",F32-E32+(H32-G32)),"") | K32: {=IF(OR(C32=$U$19:$U$31),"FERIE","")} | L32: =IF(D32="Dimanche",SUM(I26:I32),"") -> 1.5833333
B33: 4 | C33: =IF(ISERROR(IF((C32+1)<=$C$6,(C32+1),"")),"",IF((C32+1)<=$C$6,(C32+1),"")) -> 44585 | D33: =IF(ISERROR(VLOOKUP(WEEKDAY($C33),$V$21:$W$27,2,0)),"",VLOOKUP(WEEKDAY($C33),$V$21:$W$27,2,0)) -> Lundi | E33: =IF(OR(D33="Samedi",D33="Dimanche"),"",Données!$C$3) -> 0.35416667 | F33: =IF(OR(D33="Samedi",D33="Dimanche"),"",Données!$D$3) -> 0.5125 | G33: =IF(OR(D33="Samedi",D33="Dimanche"),"",Données!$E$3) -> 0.53680556 | H33: =IF(OR(D33="Samedi",D33="Dimanche"),"",Données!$F$3) -> 16:41 | I33: =IFERROR(IF(OR(D33="samedi",D33="dimanche")*(F33-E33)+(H33-G33)=0,"",F33-E33+(H33-G33)),"") -> 0.31666667 | K33: {=IF(OR(C33=$U$19:$U$31),"FERIE","")}
C34: =IF(ISERROR(IF((C33+1)<=$C$6,(C33+1),"")),"",IF((C33+1)<=$C$6,(C33+1),"")) -> 44586 | D34: =IF(ISERROR(VLOOKUP(WEEKDAY($C34),$V$21:$W$27,2,0)),"",VLOOKUP(WEEKDAY($C34),$V$21:$W$27,2,0)) -> Mardi | E34: =IF(OR(D34="Samedi",D34="Dimanche"),"",Données!$C$3) -> 0.35416667 | F34: =IF(OR(D34="Samedi",D34="Dimanche"),"",Données!$D$3) -> 0.5125 | G34: =IF(OR(D34="Samedi",D34="Dimanche"),"",Données!$E$3) -> 0.53680556 | H34: =IF(OR(D34="Samedi",D34="Dimanche"),"",Données!$F$3) -> 16:41 | I34: =IFERROR(IF(OR(D34="samedi",D34="dimanche")*(F34-E34)+(H34-G34)=0,"",F34-E34+(H34-G34)),"") -> 0.31666667 | K34: {=IF(OR(C34=$U$19:$U$31),"FERIE","")}
C35: =IF(ISERROR(IF((C34+1)<=$C$6,(C34+1),"")),"",IF((C34+1)<=$C$6,(C34+1),"")) -> 44587 | D35: =IF(ISERROR(VLOOKUP(WEEKDAY($C35),$V$21:$W$27,2,0)),"",VLOOKUP(WEEKDAY($C35),$V$21:$W$27,2,0)) -> Mercredi | E35: =IF(OR(D35="Samedi",D35="Dimanche"),"",Données!$C$3) -> 0.35416667 | F35: =IF(OR(D35="Samedi",D35="Dimanche"),"",Données!$D$3) -> 0.5125 | G35: =IF(OR(D35="Samedi",D35="Dimanche"),"",Données!$E$3) -> 0.53680556 | H35: =IF(OR(D35="Samedi",D35="Dimanche"),"",Données!$F$3) -> 16:41 | I35: =IFERROR(IF(OR(D35="samedi",D35="dimanche")*(F35-E35)+(H35-G35)=0,"",F35-E35+(H35-G35)),"") -> 0.31666667 | K35: {=IF(OR(C35=$U$19:$U$31),"FERIE","")}
C36: =IF(ISERROR(IF((C35+1)<=$C$6,(C35+1),"")),"",IF((C35+1)<=$C$6,(C35+1),"")) -> 44588 | D36: =IF(ISERROR(VLOOKUP(WEEKDAY($C36),$V$21:$W$27,2,0)),"",VLOOKUP(WEEKDAY($C36),$V$21:$W$27,2,0)) -> Jeudi | E36: =IF(OR(D36="Samedi",D36="Dimanche"),"",Données!$C$3) -> 0.35416667 | F36: =IF(OR(D36="Samedi",D36="Dimanche"),"",Données!$D$3) -> 0.5125 | G36: =IF(OR(D36="Samedi",D36="Dimanche"),"",Données!$E$3) -> 0.53680556 | H36: =IF(OR(D36="Samedi",D36="Dimanche"),"",Données!$F$3) -> 16:41 | I36: =IFERROR(IF(OR(D36="samedi",D36="dimanche")*(F36-E36)+(H36-G36)=0,"",F36-E36+(H36-G36)),"") -> 0.31666667 | K36: {=IF(OR(C36=$U$19:$U$31),"FERIE","")}
C37: =IF(ISERROR(IF((C36+1)<=$C$6,(C36+1),"")),"",IF((C36+1)<=$C$6,(C36+1),"")) -> 44589 | D37: =IF(ISERROR(VLOOKUP(WEEKDAY($C37),$V$21:$W$27,2,0)),"",VLOOKUP(WEEKDAY($C37),$V$21:$W$27,2,0)) -> Vendredi | E37: =IF(OR(D37="Samedi",D37="Dimanche"),"",Données!$C$3) -> 0.35416667 | F37: =IF(OR(D37="Samedi",D37="Dimanche"),"",Données!$D$3) -> 0.5125 | G37: =IF(OR(D37="Samedi",D37="Dimanche"),"",Données!$E$3) -> 0.53680556 | H37: =IF(OR(D37="Samedi",D37="Dimanche"),"",Données!$F$3) -> 16:41 | I37: =IFERROR(IF(OR(D37="samedi",D37="dimanche")*(F37-E37)+(H37-G37)=0,"",F37-E37+(H37-G37)),"") -> 0.31666667 | K37: {=IF(OR(C37=$U$19:$U$31),"FERIE","")}
C38: =IF(ISERROR(IF((C37+1)<=$C$6,(C37+1),"")),"",IF((C37+1)<=$C$6,(C37+1),"")) -> 44590 | D38: =IF(ISERROR(VLOOKUP(WEEKDAY($C38),$V$21:$W$27,2,0)),"",VLOOKUP(WEEKDAY($C38),$V$21:$W$27,2,0)) -> Samedi | E38: =IF(OR(D38="Samedi",D38="Dimanche"),"",Données!$C$3) | F38: =IF(OR(D38="Samedi",D38="Dimanche"),"",Données!$D$3) | G38: =IF(OR(D38="Samedi",D38="Dimanche"),"",Données!$E$3) | H38: =IF(OR(D38="Samedi",D38="Dimanche"),"",Données!$F$3) | I38: =IFERROR(IF(OR(D38="samedi",D38="dimanche")*(F38-E38)+(H38-G38)=0,"",F38-E38+(H38-G38)),"") | K38: {=IF(OR(C38=$U$19:$U$31),"FERIE","")}
C39: =IF(ISERROR(IF((C38+1)<=$C$6,(C38+1),"")),"",IF((C38+1)<=$C$6,(C38+1),"")) -> 44591 | D39: =IF(ISERROR(VLOOKUP(WEEKDAY($C39),$V$21:$W$27,2,0)),"",VLOOKUP(WEEKDAY($C39),$V$21:$W$27,2,0)) -> Dimanche | E39: =IF(OR(D39="Samedi",D39="Dimanche"),"",Données!$C$3) | F39: =IF(OR(D39="Samedi",D39="Dimanche"),"",Données!$D$3) | G39: =IF(OR(D39="Samedi",D39="Dimanche"),"",Données!$E$3) | H39: =IF(OR(D39="Samedi",D39="Dimanche"),"",Données!$F$3) | I39: =IFERROR(IF(OR(D39="samedi",D39="dimanche")*(F39-E39)+(H39-G39)=0,"",F39-E39+(H39-G39)),"") | K39: {=IF(OR(C39=$U$19:$U$31),"FERIE","")} | L39: =IF(D39="Dimanche",SUM(I33:I39),"") -> 1.5833333 | T39: {=IF(OR(K10=$U$19:$U$31),"ferie","")}
B40: 5 | C40: =IF(ISERROR(IF((C39+1)<=$C$6,(C39+1),"")),"",IF((C39+1)<=$C$6,(C39+1),"")) -> 44592 | D40: =IF(ISERROR(VLOOKUP(WEEKDAY($C40),$V$21:$W$27,2,0)),"",VLOOKUP(WEEKDAY($C40),$V$21:$W$27,2,0)) -> Lundi | E40: =IF(OR(D40="Samedi",D40="Dimanche"),"",Données!$C$3) -> 0.35416667 | F40: =IF(OR(D40="Samedi",D40="Dimanche"),"",Données!$D$3) -> 0.5125 | G40: =IF(OR(D40="Samedi",D40="Dimanche"),"",Données!$E$3) -> 0.53680556 | H40: =IF(OR(D40="Samedi",D40="Dimanche"),"",Données!$F$3) -> 16:41 | I40: =IFERROR(IF(OR(D40="samedi",D40="dimanche")*(F40-E40)+(H40-G40)=0,"",F40-E40+(H40-G40)),"") -> 0.31666667 | K40: {=IF(OR(C40=$U$19:$U$31),"FERIE","")} | T40: {=IF(OR(K12=U19:U31),"ferie","")}
A41: =VLOOKUP(MONTH($C41),$V$8:$W$19,2,0) -> FEVRIER | C41: =IF(ISERROR(IF((C40+1)<=$C$6,(C40+1),"")),"",IF((C40+1)<=$C$6,(C40+1),"")) -> 44593 | D41: =IF(ISERROR(VLOOKUP(WEEKDAY($C41),$V$21:$W$27,2,0)),"",VLOOKUP(WEEKDAY($C41),$V$21:$W$27,2,0)) -> Mardi | E41: =IF(OR(D41="Samedi",D41="Dimanche"),"",Données!$C$3) -> 0.35416667 | F41: =IF(OR(D41="Samedi",D41="Dimanche"),"",Données!$D$3) -> 0.5125 | G41: =IF(OR(D41="Samedi",D41="Dimanche"),"",Données!$E$3) -> 0.53680556 | H41: =IF(OR(D41="Samedi",D41="Dimanche"),"",Données!$F$3) -> 16:41 | I41: =IFERROR(IF(OR(D41="samedi",D41="dimanche")*(F41-E41)+(H41-G41)=0,"",F41-E41+(H41-G41)),"") -> 0.31666667 | K41: {=IF(OR(C41=$U$19:$U$31),"FERIE","")} | M41: =SUMIF(K41:K68,"HCR",J41:J68) -> 0 | N41: =SUMIF(K41:K68,"HPL",J41:J68) -> 0 | O41: =N41*24 -> 0 | R41: =O41-(P41+Q41) -> 0
C42: =IF(ISERROR(IF((C41+1)<=$C$6,(C41+1),"")),"",IF((C41+1)<=$C$6,(C41+1),"")) -> 44594 | D42: =IF(ISERROR(VLOOKUP(WEEKDAY($C42),$V$21:$W$27,2,0)),"",VLOOKUP(WEEKDAY($C42),$V$21:$W$27,2,0)) -> Mercredi | E42: 0.35416667 | F42: =IF(OR(D42="Samedi",D42="Dimanche"),"",Données!$D$3) -> 0.5125 | G42: =IF(OR(D42="Samedi",D42="Dimanche"),"",Données!$E$3) -> 0.53680556 | H42: =IF(OR(D42="Samedi",D42="Dimanche"),"",Données!$F$3) -> 16:41 | I42: =IFERROR(IF(OR(D42="samedi",D42="dimanche")*(F42-E42)+(H42-G42)=0,"",F42-E42+(H42-G42)),"") -> 0.31666667
...

Sheet Données
B2: total jour | C2: 0.31666667
B3: horaires | C3: 0.35416667 | D3: 0.5125 | E3: 0.53680556 | F3: 16:41

Sheet 2021
B1: 2021
E2: Modifier les cellules en jaune pour mettre à jour le calendrier
E4: mise en forme pour JRE, CP, FERIE
B5: Début | C5: 44197
B6: Fin | C6: 44561
E8: Temps de travail matin | G8: Temps de travail après-midi | I8: Total heures travaillées par jour | J8: Heures supplémentaires | K8: Commentaires | L8: Cumul heures travaillées semaine | M8: Total mois HCR | N8: Total mois HPL | O8: Total mois centièrme | P8: Payé M+1 | Q8: Payé M+2 | R8: Reste à payer | V8: 1 | W8: JANVIER
A9: Mois | B9: Semaine | E9: Heure début | F9: Heure fin | G9: Heure début | H9: Heure fin | V9: 2 | W9: FEVRIER
A10: =VLOOKUP(MONTH($C10),$V$8:$W$19,2,0) -> JANVIER | B10: 53 | C10: =$C$5 -> 44197 | D10: =VLOOKUP(WEEKDAY($C10),$V$21:$W$27,2,0) -> Vendredi | K10: {=IF(OR(C10=$U$19:$U$31),"FERIE","")} -> FERIE | L10: =IF(D10="Dimanche",SUM(I4:I10),"") | M10: =SUMIF(K10:K40,"HCR",J10:J40) -> 0 | N10: =SUMIF(K10:K40,"HPL",J10:J40) -> 0 | O10: =N10*24 -> 0 | R10: =O10-(P10+Q10) -> 0 | V10: 3 | W10: MARS
C11: =IF(ISERROR(IF((C10+1)<=$C$6,(C10+1),"")),"",IF((C10+1)<=$C$6,(C10+1),"")) -> 44198 | D11: =IF(ISERROR(VLOOKUP(WEEKDAY($C11),$V$21:$W$27,2,0)),"",VLOOKUP(WEEKDAY($C11),$V$21:$W$27,2,0)) -> Samedi | E11: =IF(OR(D11="Samedi",D11="Dimanche"),"",Données!$C$3) | F11: =IF(OR(D11="Samedi",D11="Dimanche"),"",Données!$D$3) | G11: =IF(OR(D11="Samedi",D11="Dimanche"),"",Données!$E$3) | H11: =IF(OR(D11="Samedi",D11="Dimanche"),"",Données!$F$3) | I11: =IFERROR(IF(OR(D11="samedi",D11="dimanche")*(F11-E11)+(H11-G11)=0,"",F11-E11+(H11-G11)),"") | K11: {=IF(OR(C11=$U$19:$U$31),"FERIE","")} | L11: =IF(D11="Dimanche",SUM(I5:I11),"") | V11: 4 | W11: AVRIL
B12: 1 | C12: =IF(ISERROR(IF((C11+1)<=$C$6,(C11+1),"")),"",IF((C11+1)<=$C$6,(C11+1),"")) -> 44199 | D12: =IF(ISERROR(VLOOKUP(WEEKDAY($C12),$V$21:$W$27,2,0)),"",VLOOKUP(WEEKDAY($C12),$V$21:$W$27,2,0)) -> Dimanche | E12: =IF(OR(D12="Samedi",D12="Dimanche"),"",Données!$C$3) | F12: =IF(OR(D12="Samedi",D12="Dimanche"),"",Données!$D$3) | G12: =IF(OR(D12="Samedi",D12="Dimanche"),"",Données!$E$3) | H12: =IF(OR(D12="Samedi",D12="Dimanche"),"",Données!$F$3) | I12: =IFERROR(IF(OR(D12="samedi",D12="dimanche")*(F12-E12)+(H12-G12)=0,"",F12-E12+(H12-G12)),"") | K12: {=IF(OR(C12=$U$19:$U$31),"FERIE","")} | S12: =SUMIF(K12:K40,"HPL",J12:J40) -> 0 | V12: 5 | W12: MAI
C13: =IF(ISERROR(IF((C12+1)<=$C$6,(C12+1),"")),"",IF((C12+1)<=$C$6,(C12+1),"")) -> 44200 | D13: =IF(ISERROR(VLOOKUP(WEEKDAY($C13),$V$21:$W$27,2,0)),"",VLOOKUP(WEEKDAY($C13),$V$21:$W$27,2,0)) -> Lundi | E13: 0.32291667 | F13: =IF(OR(D13="Samedi",D13="Dimanche"),"",Données!$D$3) -> 0.5125 | G13: =IF(OR(D13="Samedi",D13="Dimanche"),"",Données!$E$3) -> 0.53680556 | H13: =IF(OR(D13="Samedi",D13="Dimanche"),"",Données!$F$3) -> 16:41 | I13: =IFERROR(IF(OR(D13="samedi",D13="dimanche")*(F13-E13)+(H13-G13)=0,"",F13-E13+(H13-G13)),"") -> 0.34791667 | J13: =IF(I13-Données!$C$2>0,I13-Données!$C$2,0) -> 0.03125 | S13: =SUMIF(K13:K41,"HCR",J13:J41) -> 0 | V13: 6 | W13: JUIN
C14: =IF(ISERROR(IF((C13+1)<=$C$6,(C13+1),"")),"",IF((C13+1)<=$C$6,(C13+1),"")) -> 44201 | D14: =IF(ISERROR(VLOOKUP(WEEKDAY($C14),$V$21:$W$27,2,0)),"",VLOOKUP(WEEKDAY($C14),$V$21:$W$27,2,0)) -> Mardi | E14: 0.32291667 | F14: =IF(OR(D14="Samedi",D14="Dimanche"),"",Données!$D$3) -> 0.5125 | G14: =IF(OR(D14="Samedi",D14="Dimanche"),"",Données!$E$3) -> 0.53680556 | H14: =IF(OR(D14="Samedi",D14="Dimanche"),"",Données!$F$3) -> 16:41 | I14: =IFERROR(IF(OR(D14="samedi",D14="dimanche")*(F14-E14)+(H14-G14)=0,"",F14-E14+(H14-G14)),"") -> 0.34791667 | J14: =IF(I14-Données!$C$2>0,I14-Données!$C$2,0) -> 0.03125 | V14: 7 | W14: JUILLET
C15: =IF(ISERROR(IF((C14+1)<=$C$6,(C14+1),"")),"",IF((C14+1)<=$C$6,(C14+1),"")) -> 44202 | D15: =IF(ISERROR(VLOOKUP(WEEKDAY($C15),$V$21:$W$27,2,0)),"",VLOOKUP(WEEKDAY($C15),$V$21:$W$27,2,0)) -> Mercredi | E15: 0.3125 | F15: =IF(OR(D15="Samedi",D15="Dimanche"),"",Données!$D$3) -> 0.5125 | G15: =IF(OR(D15="Samedi",D15="Dimanche"),"",Données!$E$3) -> 0.53680556 | H15: =IF(OR(D15="Samedi",D15="Dimanche"),"",Données!$F$3) -> 16:41 | I15: =IFERROR(IF(OR(D15="samedi",D15="dimanche")*(F15-E15)+(H15-G15)=0,"",F15-E15+(H15-G15)),"") -> 0.35833333 | J15: =IF(I15-Données!$C$2>0,I15-Données!$C$2,0) -> 0.041666667 | V15: 8 | W15: AOÛT
C16: =IF(ISERROR(IF((C15+1)<=$C$6,(C15+1),"")),"",IF((C15+1)<=$C$6,(C15+1),"")) -> 44203 | D16: =IF(ISERROR(VLOOKUP(WEEKDAY($C16),$V$21:$W$27,2,0)),"",VLOOKUP(WEEKDAY($C16),$V$21:$W$27,2,0)) -> Jeudi | E16: =IF(OR(D16="Samedi",D16="Dimanche"),"",Données!$C$3) -> 0.35416667 | F16: =IF(OR(D16="Samedi",D16="Dimanche"),"",Données!$D$3) -> 0.5125 | G16: =IF(OR(D16="Samedi",D16="Dimanche"),"",Données!$E$3) -> 0.53680556 | H16: =IF(OR(D16="Samedi",D16="Dimanche"),"",Données!$F$3) -> 16:41 | I16: =IFERROR(IF(OR(D16="samedi",D16="dimanche")*(F16-E16)+(H16-G16)=0,"",F16-E16+(H16-G16)),"") -> 0.31666667 | J16: =IF(I16-Données!$C$2>0,I16-Données!$C$2,0) -> 5.5511151e-17 | V16: 9 | W16: SEPTEMBRE
C17: =IF(ISERROR(IF((C16+1)<=$C$6,(C16+1),"")),"",IF((C16+1)<=$C$6,(C16+1),"")) -> 44204 | D17: =IF(ISERROR(VLOOKUP(WEEKDAY($C17),$V$21:$W$27,2,0)),"",VLOOKUP(WEEKDAY($C17),$V$21:$W$27,2,0)) -> Vendredi | E17: =IF(OR(D17="Samedi",D17="Dimanche"),"",Données!$C$3) -> 0.35416667 | F17: =IF(OR(D17="Samedi",D17="Dimanche"),"",Données!$D$3) -> 0.5125 | G17: =IF(OR(D17="Samedi",D17="Dimanche"),"",Données!$E$3) -> 0.53680556 | H17: =IF(OR(D17="Samedi",D17="Dimanche"),"",Données!$F$3) -> 16:41 | I17: =IFERROR(IF(OR(D17="samedi",D17="dimanche")*(F17-E17)+(H17-G17)=0,"",F17-E17+(H17-G17)),"") -> 0.31666667 | J17: =IF(I17-Données!$C$2>0,I17-Données!$C$2,0) -> 5.5511151e-17 | K17: CP | V17: 10 | W17: OCTOBRE
C18: =IF(ISERROR(IF((C17+1)<=$C$6,(C17+1),"")),"",IF((C17+1)<=$C$6,(C17+1),"")) -> 44205 | D18: =IF(ISERROR(VLOOKUP(WEEKDAY($C18),$V$21:$W$27,2,0)),"",VLOOKUP(WEEKDAY($C18),$V$21:$W$27,2,0)) -> Samedi | E18: =IF(OR(D18="Samedi",D18="Dimanche"),"",Données!$C$3) | F18: =IF(OR(D18="Samedi",D18="Dimanche"),"",Données!$D$3) | G18: =IF(OR(D18="Samedi",D18="Dimanche"),"",Données!$E$3) | H18: =IF(OR(D18="Samedi",D18="Dimanche"),"",Données!$F$3) | I18: =IFERROR(IF(OR(D18="samedi",D18="dimanche")*(F18-E18)+(H18-G18)=0,"",F18-E18+(H18-G18)),"") | J18: =IF(D18="Dimanche",SUM(J12:J16),"") | K18: {=IF(OR(C18=$U$19:$U$31),"FERIE","")} | L18: =IF(D18="Dimanche",SUM(I12:I18),"") | T18: Jour férié | V18: 11 | W18: NOVEMBRE
B19: 2 | C19: =IF(ISERROR(IF((C18+1)<=$C$6,(C18+1),"")),"",IF((C18+1)<=$C$6,(C18+1),"")) -> 44206 | D19: =IF(ISERROR(VLOOKUP(WEEKDAY($C19),$V$21:$W$27,2,0)),"",VLOOKUP(WEEKDAY($C19),$V$21:$W$27,2,0)) -> Dimanche | E19: =IF(OR(D19="Samedi",D19="Dimanche"),"",Données!$C$3) | F19: =IF(OR(D19="Samedi",D19="Dimanche"),"",Données!$D$3) | G19: =IF(OR(D19="Samedi",D19="Dimanche"),"",Données!$E$3) | H19: =IF(OR(D19="Samedi",D19="Dimanche"),"",Données!$F$3) | I19: =IFERROR(IF(OR(D19="samedi",D19="dimanche")*(F19-E19)+(H19-G19)=0,"",F19-E19+(H19-G19)),"") | J19: =IF(D19="Dimanche",SUM(J13:J17),"") -> 0.10416667 | K19: {=IF(OR(C19=$U$19:$U$31),"FERIE","")} | T19: Jour de l’An | U19: =DATE(B1,1,1) -> 44197 | V19: 12 | W19: DECEMBRE
C20: =IF(ISERROR(IF((C19+1)<=$C$6,(C19+1),"")),"",IF((C19+1)<=$C$6,(C19+1),"")) -> 44207 | D20: =IF(ISERROR(VLOOKUP(WEEKDAY($C20),$V$21:$W$27,2,0)),"",VLOOKUP(WEEKDAY($C20),$V$21:$W$27,2,0)) -> Lundi | E20: =IF(OR(D20="Samedi",D20="Dimanche"),"",Données!$C$3) -> 0.35416667 | F20: =IF(OR(D20="Samedi",D20="Dimanche"),"",Données!$D$3) -> 0.5125 | G20: =IF(OR(D20="Samedi",D20="Dimanche"),"",Données!$E$3) -> 0.53680556 | H20: =IF(OR(D20="Samedi",D20="Dimanche"),"",Données!$F$3) -> 16:41 | I20: =IFERROR(IF(OR(D20="samedi",D20="dimanche")*(F20-E20)+(H20-G20)=0,"",F20-E20+(H20-G20)),"") -> 0.31666667 | J20: =IF(I20-Données!$C$2>0,I20-Données!$C$2,0) -> 5.5511151e-17 | K20: {=IF(OR(C20=$U$19:$U$31),"FERIE","")} | T20: Pâques | U20: =ROUND(DATE(B1,4,MOD(234-11*MOD(B1,19),30))/7,0)*7-6 -> 44290
C21: =IF(ISERROR(IF((C20+1)<=$C$6,(C20+1),"")),"",IF((C20+1)<=$C$6,(C20+1),"")) -> 44208 | D21: =IF(ISERROR(VLOOKUP(WEEKDAY($C21),$V$21:$W$27,2,0)),"",VLOOKUP(WEEKDAY($C21),$V$21:$W$27,2,0)) -> Mardi | E21: =IF(OR(D21="Samedi",D21="Dimanche"),"",Données!$C$3) -> 0.35416667 | F21: =IF(OR(D21="Samedi",D21="Dimanche"),"",Données!$D$3) -> 0.5125 | G21: =IF(OR(D21="Samedi",D21="Dimanche"),"",Données!$E$3) -> 0.53680556 | H21: 0.69513889 | I21: =IFERROR(IF(OR(D21="samedi",D21="dimanche")*(F21-E21)+(H21-G21)=0,"",F21-E21+(H21-G21)),"") -> 0.31666667 | J21: =IF(I21-Données!$C$2>0,I21-Données!$C$2,0) -> 5.5511151e-17 | T21: Lundi de Pâques | U21: =U20+1 -> 44291 | V21: 1 | W21: Dimanche
C22: =IF(ISERROR(IF((C21+1)<=$C$6,(C21+1),"")),"",IF((C21+1)<=$C$6,(C21+1),"")) -> 44209 | D22: =IF(ISERROR(VLOOKUP(WEEKDAY($C22),$V$21:$W$27,2,0)),"",VLOOKUP(WEEKDAY($C22),$V$21:$W$27,2,0)) -> Mercredi | E22: =IF(OR(D22="Samedi",D22="Dimanche"),"",Données!$C$3) -> 0.35416667 | F22: =IF(OR(D22="Samedi",D22="Dimanche"),"",Données!$D$3) -> 0.5125 | G22: =IF(OR(D22="Samedi",D22="Dimanche"),"",Données!$E$3) -> 0.53680556 | H22: =IF(OR(D22="Samedi",D22="Dimanche"),"",Données!$F$3) -> 16:41 | I22: =IFERROR(IF(OR(D22="samedi",D22="dimanche")*(F22-E22)+(H22-G22)=0,"",F22-E22+(H22-G22)),"") -> 0.31666667 | J22: =IF(I22-Données!$C$2>0,I22-Données!$C$2,0) -> 5.5511151e-17 | K22: {=IF(OR(C22=$U$19:$U$31),"FERIE","")} | T22: Fête du travail | U22: =DATE(B1,5,1) -> 44317 | V22: 2 | W22: Lundi
C23: =IF(ISERROR(IF((C22+1)<=$C$6,(C22+1),"")),"",IF((C22+1)<=$C$6,(C22+1),"")) -> 44210 | D23: =IF(ISERROR(VLOOKUP(WEEKDAY($C23),$V$21:$W$27,2,0)),"",VLOOKUP(WEEKDAY($C23),$V$21:$W$27,2,0)) -> Jeudi | E23: =IF(OR(D23="Samedi",D23="Dimanche"),"",Données!$C$3) -> 0.35416667 | F23: =IF(OR(D23="Samedi",D23="Dimanche"),"",Données!$D$3) -> 0.5125 | G23: =IF(OR(D23="Samedi",D23="Dimanche"),"",Données!$E$3) -> 0.53680556 | H23: =IF(OR(D23="Samedi",D23="Dimanche"),"",Données!$F$3) -> 16:41 | I23: =IFERROR(IF(OR(D23="samedi",D23="dimanche")*(F23-E23)+(H23-G23)=0,"",F23-E23+(H23-G23)),"") -> 0.31666667 | J23: =IF(I23-Données!$C$2>0,I23-Données!$C$2,0) -> 5.5511151e-17 | K23: {=IF(OR(C23=$U$19:$U$31),"FERIE","")} | T23: Victoire 1945 | U23: =DATE(B1,5,8) -> 44324 | V23: 3 | W23: Mardi
C24: =IF(ISERROR(IF((C23+1)<=$C$6,(C23+1),"")),"",IF((C23+1)<=$C$6,(C23+1),"")) -> 44211 | D24: =IF(ISERROR(VLOOKUP(WEEKDAY($C24),$V$21:$W$27,2,0)),"",VLOOKUP(WEEKDAY($C24),$V$21:$W$27,2,0)) -> Vendredi | E24: =IF(OR(D24="Samedi",D24="Dimanche"),"",Données!$C$3) -> 0.35416667 | F24: =IF(OR(D24="Samedi",D24="Dimanche"),"",Données!$D$3) -> 0.5125 | G24: =IF(OR(D24="Samedi",D24="Dimanche"),"",Données!$E$3) -> 0.53680556 | H24: =IF(OR(D24="Samedi",D24="Dimanche"),"",Données!$F$3) -> 16:41 | I24: =IFERROR(IF(OR(D24="samedi",D24="dimanche")*(F24-E24)+(H24-G24)=0,"",F24-E24+(H24-G24)),"") -> 0.31666667 | J24: =IF(I24-Données!$C$2>0,I24-Données!$C$2,0) -> 5.5511151e-17 | K24: CP | T24: Ascension | U24: =U20+39 -> 44329 | V24: 4 | W24: Mercredi
C25: =IF(ISERROR(IF((C24+1)<=$C$6,(C24+1),"")),"",IF((C24+1)<=$C$6,(C24+1),"")) -> 44212 | D25: =IF(ISERROR(VLOOKUP(WEEKDAY($C25),$V$21:$W$27,2,0)),"",VLOOKUP(WEEKDAY($C25),$V$21:$W$27,2,0)) -> Samedi | E25: =IF(OR(D25="Samedi",D25="Dimanche"),"",Données!$C$3) | F25: =IF(OR(D25="Samedi",D25="Dimanche"),"",Données!$D$3) | G25: =IF(OR(D25="Samedi",D25="Dimanche"),"",Données!$E$3) | H25: =IF(OR(D25="Samedi",D25="Dimanche"),"",Données!$F$3) | I25: =IFERROR(IF(OR(D25="samedi",D25="dimanche")*(F25-E25)+(H25-G25)=0,"",F25-E25+(H25-G25)),"") | J25: =IF(D25="Dimanche",SUM(J19:J23),"") | K25: {=IF(OR(C25=$U$19:$U$31),"FERIE","")} | L25: =IF(D25="Dimanche",SUM(I19:I25),"") | T25: Pentecôte | U25: =U20+49 -> 44339 | V25: 5 | W25: Jeudi
B26: 3 | C26: =IF(ISERROR(IF((C25+1)<=$C$6,(C25+1),"")),"",IF((C25+1)<=$C$6,(C25+1),"")) -> 44213 | D26: =IF(ISERROR(VLOOKUP(WEEKDAY($C26),$V$21:$W$27,2,0)),"",VLOOKUP(WEEKDAY($C26),$V$21:$W$27,2,0)) -> Dimanche | E26: =IF(OR(D26="Samedi",D26="Dimanche"),"",Données!$C$3) | F26: =IF(OR(D26="Samedi",D26="Dimanche"),"",Données!$D$3) | G26: =IF(OR(D26="Samedi",D26="Dimanche"),"",Données!$E$3) | H26: =IF(OR(D26="Samedi",D26="Dimanche"),"",Données!$F$3) | I26: =IFERROR(IF(OR(D26="samedi",D26="dimanche")*(F26-E26)+(H26-G26)=0,"",F26-E26+(H26-G26)),"") | J26: =IF(D26="Dimanche",SUM(J20:J24),"") -> 2.7755576e-16 | K26: {=IF(OR(C26=$U$19:$U$31),"FERIE","")} | T26: Lundi de Pentecôte | U26: =U20+50 -> 44340 | V26: 6 | W26: Vendredi
C27: =IF(ISERROR(IF((C26+1)<=$C$6,(C26+1),"")),"",IF((C26+1)<=$C$6,(C26+1),"")) -> 44214 | D27: =IF(ISERROR(VLOOKUP(WEEKDAY($C27),$V$21:$W$27,2,0)),"",VLOOKUP(WEEKDAY($C27),$V$21:$W$27,2,0)) -> Lundi | E27: =IF(OR(D27="Samedi",D27="Dimanche"),"",Données!$C$3) -> 0.35416667 | F27: =IF(OR(D27="Samedi",D27="Dimanche"),"",Données!$D$3) -> 0.5125 | G27: =IF(OR(D27="Samedi",D27="Dimanche"),"",Données!$E$3) -> 0.53680556 | H27: =IF(OR(D27="Samedi",D27="Dimanche"),"",Données!$F$3) -> 16:41 | I27: =IFERROR(IF(OR(D27="samedi",D27="dimanche")*(F27-E27)+(H27-G27)=0,"",F27-E27+(H27-G27)),"") -> 0.31666667 | J27: =IF(I27-Données!$C$2>0,I27-Données!$C$2,0) -> 5.5511151e-17 | K27: {=IF(OR(C27=$U$19:$U$31),"FERIE","")} | T27: Fête Nationale | U27: =DATE(B1,7,14) -> 44391 | V27: 7 | W27: Samedi
C28: =IF(ISERROR(IF((C27+1)<=$C$6,(C27+1),"")),"",IF((C27+1)<=$C$6,(C27+1),"")) -> 44215 | D28: =IF(ISERROR(VLOOKUP(WEEKDAY($C28),$V$21:$W$27,2,0)),"",VLOOKUP(WEEKDAY($C28),$V$21:$W$27,2,0)) -> Mardi | E28: =IF(OR(D28="Samedi",D28="Dimanche"),"",Données!$C$3) -> 0.35416667 | F28: =IF(OR(D28="Samedi",D28="Dimanche"),"",Données!$D$3) -> 0.5125 | G28: =IF(OR(D28="Samedi",D28="Dimanche"),"",Données!$E$3) -> 0.53680556 | H28: =IF(OR(D28="Samedi",D28="Dimanche"),"",Données!$F$3) -> 16:41 | I28: =IFERROR(IF(OR(D28="samedi",D28="dimanche")*(F28-E28)+(H28-G28)=0,"",F28-E28+(H28-G28)),"") -> 0.31666667 | J28: =IF(I28-Données!$C$2>0,I28-Données!$C$2,0) -> 5.5511151e-17 | T28: Assomption | U28: =DATE(B1,8,15) -> 44423
C29: =IF(ISERROR(IF((C28+1)<=$C$6,(C28+1),"")),"",IF((C28+1)<=$C$6,(C28+1),"")) -> 44216 | D29: =IF(ISERROR(VLOOKUP(WEEKDAY($C29),$V$21:$W$27,2,0)),"",VLOOKUP(WEEKDAY($C29),$V$21:$W$27,2,0)) -> Mercredi | E29: =IF(OR(D29="Samedi",D29="Dimanche"),"",Données!$C$3) -> 0.35416667 | F29: =IF(OR(D29="Samedi",D29="Dimanche"),"",Données!$D$3) -> 0.5125 | G29: =IF(OR(D29="Samedi",D29="Dimanche"),"",Données!$E$3) -> 0.53680556 | H29: =IF(OR(D29="Samedi",D29="Dimanche"),"",Données!$F$3) -> 16:41 | I29: =IFERROR(IF(OR(D29="samedi",D29="dimanche")*(F29-E29)+(H29-G29)=0,"",F29-E29+(H29-G29)),"") -> 0.31666667 | J29: =IF(I29-Données!$C$2>0,I29-Données!$C$2,0) -> 5.5511151e-17 | K29: {=IF(OR(C29=$U$19:$U$31),"FERIE","")} | T29: Toussaint | U29: =DATE(B1,11,1) -> 44501
C30: =IF(ISERROR(IF((C29+1)<=$C$6,(C29+1),"")),"",IF((C29+1)<=$C$6,(C29+1),"")) -> 44217 | D30: =IF(ISERROR(VLOOKUP(WEEKDAY($C30),$V$21:$W$27,2,0)),"",VLOOKUP(WEEKDAY($C30),$V$21:$W$27,2,0)) -> Jeudi | E30: =IF(OR(D30="Samedi",D30="Dimanche"),"",Données!$C$3) -> 0.35416667 | F30: =IF(OR(D30="Samedi",D30="Dimanche"),"",Données!$D$3) -> 0.5125 | G30: =IF(OR(D30="Samedi",D30="Dimanche"),"",Données!$E$3) -> 0.53680556 | H30: =IF(OR(D30="Samedi",D30="Dimanche"),"",Données!$F$3) -> 16:41 | I30: =IFERROR(IF(OR(D30="samedi",D30="dimanche")*(F30-E30)+(H30-G30)=0,"",F30-E30+(H30-G30)),"") -> 0.31666667 | J30: =IF(I30-Données!$C$2>0,I30-Données!$C$2,0) -> 5.5511151e-17 | K30: {=IF(OR(C30=$U$19:$U$31),"FERIE","")} | T30: Armistice 1918 | U30: =DATE(B1,11,11) -> 44511
C31: =IF(ISERROR(IF((C30+1)<=$C$6,(C30+1),"")),"",IF((C30+1)<=$C$6,(C30+1),"")) -> 44218 | D31: =IF(ISERROR(VLOOKUP(WEEKDAY($C31),$V$21:$W$27,2,0)),"",VLOOKUP(WEEKDAY($C31),$V$21:$W$27,2,0)) -> Vendredi | E31: =IF(OR(D31="Samedi",D31="Dimanche"),"",Données!$C$3) -> 0.35416667 | F31: =IF(OR(D31="Samedi",D31="Dimanche"),"",Données!$D$3) -> 0.5125 | G31: =IF(OR(D31="Samedi",D31="Dimanche"),"",Données!$E$3) -> 0.53680556 | H31: =IF(OR(D31="Samedi",D31="Dimanche"),"",Données!$F$3) -> 16:41 | I31: =IFERROR(IF(OR(D31="samedi",D31="dimanche")*(F31-E31)+(H31-G31)=0,"",F31-E31+(H31-G31)),"") -> 0.31666667 | J31: =IF(I31-Données!$C$2>0,I31-Données!$C$2,0) -> 5.5511151e-17 | K31: CP | T31: Noël | U31: =DATE(B1,12,25) -> 44555
C32: =IF(ISERROR(IF((C31+1)<=$C$6,(C31+1),"")),"",IF((C31+1)<=$C$6,(C31+1),"")) -> 44219 | D32: =IF(ISERROR(VLOOKUP(WEEKDAY($C32),$V$21:$W$27,2,0)),"",VLOOKUP(WEEKDAY($C32),$V$21:$W$27,2,0)) -> Samedi | E32: =IF(OR(D32="Samedi",D32="Dimanche"),"",Données!$C$3) | F32: =IF(OR(D32="Samedi",D32="Dimanche"),"",Données!$D$3) | G32: =IF(OR(D32="Samedi",D32="Dimanche"),"",Données!$E$3) | H32: =IF(OR(D32="Samedi",D32="Dimanche"),"",Données!$F$3) | I32: =IFERROR(IF(OR(D32="samedi",D32="dimanche")*(F32-E32)+(H32-G32)=0,"",F32-E32+(H32-G32)),"") | J32: =IF(D32="Dimanche",SUM(J26:J30),"") | K32: {=IF(OR(C32=$U$19:$U$31),"FERIE","")} | L32: =IF(D32="Dimanche",SUM(I26:I32),"")
B33: 4 | C33: =IF(ISERROR(IF((C32+1)<=$C$6,(C32+1),"")),"",IF((C32+1)<=$C$6,(C32+1),"")) -> 44220 | D33: =IF(ISERROR(VLOOKUP(WEEKDAY($C33),$V$21:$W$27,2,0)),"",VLOOKUP(WEEKDAY($C33),$V$21:$W$27,2,0)) -> Dimanche | E33: =IF(OR(D33="Samedi",D33="Dimanche"),"",Données!$C$3) | F33: =IF(OR(D33="Samedi",D33="Dimanche"),"",Données!$D$3) | G33: =IF(OR(D33="Samedi",D33="Dimanche"),"",Données!$E$3) | H33: =IF(OR(D33="Samedi",D33="Dimanche"),"",Données!$F$3) | I33: =IFERROR(IF(OR(D33="samedi",D33="dimanche")*(F33-E33)+(H33-G33)=0,"",F33-E33+(H33-G33)),"") | J33: =IF(D33="Dimanche",SUM(J27:J31),"") -> 2.7755576e-16 | K33: {=IF(OR(C33=$U$19:$U$31),"FERIE","")}
C34: =IF(ISERROR(IF((C33+1)<=$C$6,(C33+1),"")),"",IF((C33+1)<=$C$6,(C33+1),"")) -> 44221 | D34: =IF(ISERROR(VLOOKUP(WEEKDAY($C34),$V$21:$W$27,2,0)),"",VLOOKUP(WEEKDAY($C34),$V$21:$W$27,2,0)) -> Lundi | E34: =IF(OR(D34="Samedi",D34="Dimanche"),"",Données!$C$3) -> 0.35416667 | F34: =IF(OR(D34="Samedi",D34="Dimanche"),"",Données!$D$3) -> 0.5125 | G34: =IF(OR(D34="Samedi",D34="Dimanche"),"",Données!$E$3) -> 0.53680556 | H34: =IF(OR(D34="Samedi",D34="Dimanche"),"",Données!$F$3) -> 16:41 | I34: =IFERROR(IF(OR(D34="samedi",D34="dimanche")*(F34-E34)+(H34-G34)=0,"",F34-E34+(H34-G34)),"") -> 0.31666667 | J34: =IF(I34-Données!$C$2>0,I34-Données!$C$2,0) -> 5.5511151e-17 | K34: {=IF(OR(C34=$U$19:$U$31),"FERIE","")}
C35: =IF(ISERROR(IF((C34+1)<=$C$6,(C34+1),"")),"",IF((C34+1)<=$C$6,(C34+1),"")) -> 44222 | D35: =IF(ISERROR(VLOOKUP(WEEKDAY($C35),$V$21:$W$27,2,0)),"",VLOOKUP(WEEKDAY($C35),$V$21:$W$27,2,0)) -> Mardi | E35: =IF(OR(D35="Samedi",D35="Dimanche"),"",Données!$C$3) -> 0.35416667 | F35: =IF(OR(D35="Samedi",D35="Dimanche"),"",Données!$D$3) -> 0.5125 | G35: =IF(OR(D35="Samedi",D35="Dimanche"),"",Données!$E$3) -> 0.53680556 | H35: =IF(OR(D35="Samedi",D35="Dimanche"),"",Données!$F$3) -> 16:41 | I35: =IFERROR(IF(OR(D35="samedi",D35="dimanche")*(F35-E35)+(H35-G35)=0,"",F35-E35+(H35-G35)),"") -> 0.31666667 | J35: =IF(I35-Données!$C$2>0,I35-Données!$C$2,0) -> 5.5511151e-17 | K35: {=IF(OR(C35=$U$19:$U$31),"FERIE","")}
C36: =IF(ISERROR(IF((C35+1)<=$C$6,(C35+1),"")),"",IF((C35+1)<=$C$6,(C35+1),"")) -> 44223 | D36: =IF(ISERROR(VLOOKUP(WEEKDAY($C36),$V$21:$W$27,2,0)),"",VLOOKUP(WEEKDAY($C36),$V$21:$W$27,2,0)) -> Mercredi | E36: =IF(OR(D36="Samedi",D36="Dimanche"),"",Données!$C$3) -> 0.35416667 | F36: =IF(OR(D36="Samedi",D36="Dimanche"),"",Données!$D$3) -> 0.5125 | G36: =IF(OR(D36="Samedi",D36="Dimanche"),"",Données!$E$3) -> 0.53680556 | H36: =IF(OR(D36="Samedi",D36="Dimanche"),"",Données!$F$3) -> 16:41 | I36: =IFERROR(IF(OR(D36="samedi",D36="dimanche")*(F36-E36)+(H36-G36)=0,"",F36-E36+(H36-G36)),"") -> 0.31666667 | J36: =IF(I36-Données!$C$2>0,I36-Données!$C$2,0) -> 5.5511151e-17 | K36: {=IF(OR(C36=$U$19:$U$31),"FERIE","")}
C37: =IF(ISERROR(IF((C36+1)<=$C$6,(C36+1),"")),"",IF((C36+1)<=$C$6,(C36+1),"")) -> 44224 | D37: =IF(ISERROR(VLOOKUP(WEEKDAY($C37),$V$21:$W$27,2,0)),"",VLOOKUP(WEEKDAY($C37),$V$21:$W$27,2,0)) -> Jeudi | E37: =IF(OR(D37="Samedi",D37="Dimanche"),"",Données!$C$3) -> 0.35416667 | F37: =IF(OR(D37="Samedi",D37="Dimanche"),"",Données!$D$3) -> 0.5125 | G37: =IF(OR(D37="Samedi",D37="Dimanche"),"",Données!$E$3) -> 0.53680556 | H37: =IF(OR(D37="Samedi",D37="Dimanche"),"",Données!$F$3) -> 16:41 | I37: =IFERROR(IF(OR(D37="samedi",D37="dimanche")*(F37-E37)+(H37-G37)=0,"",F37-E37+(H37-G37)),"") -> 0.31666667 | J37: =IF(I37-Données!$C$2>0,I37-Données!$C$2,0) -> 5.5511151e-17 | K37: {=IF(OR(C37=$U$19:$U$31),"FERIE","")}
C38: =IF(ISERROR(IF((C37+1)<=$C$6,(C37+1),"")),"",IF((C37+1)<=$C$6,(C37+1),"")) -> 44225 | D38: =IF(ISERROR(VLOOKUP(WEEKDAY($C38),$V$21:$W$27,2,0)),"",VLOOKUP(WEEKDAY($C38),$V$21:$W$27,2,0)) -> Vendredi | E38: =IF(OR(D38="Samedi",D38="Dimanche"),"",Données!$C$3) -> 0.35416667 | F38: =IF(OR(D38="Samedi",D38="Dimanche"),"",Données!$D$3) -> 0.5125 | G38: =IF(OR(D38="Samedi",D38="Dimanche"),"",Données!$E$3) -> 0.53680556 | H38: =IF(OR(D38="Samedi",D38="Dimanche"),"",Données!$F$3) -> 16:41 | I38: =IFERROR(IF(OR(D38="samedi",D38="dimanche")*(F38-E38)+(H38-G38)=0,"",F38-E38+(H38-G38)),"") -> 0.31666667 | J38: =IF(I38-Données!$C$2>0,I38-Données!$C$2,0) -> 5.5511151e-17 | K38: {=IF(OR(C38=$U$19:$U$31),"FERIE","")}
C39: =IF(ISERROR(IF((C38+1)<=$C$6,(C38+1),"")),"",IF((C38+1)<=$C$6,(C38+1),"")) -> 44226 | D39: =IF(ISERROR(VLOOKUP(WEEKDAY($C39),$V$21:$W$27,2,0)),"",VLOOKUP(WEEKDAY($C39),$V$21:$W$27,2,0)) -> Samedi | E39: =IF(OR(D39="Samedi",D39="Dimanche"),"",Données!$C$3) | F39: =IF(OR(D39="Samedi",D39="Dimanche"),"",Données!$D$3) | G39: =IF(OR(D39="Samedi",D39="Dimanche"),"",Données!$E$3) | H39: =IF(OR(D39="Samedi",D39="Dimanche"),"",Données!$F$3) | I39: =IFERROR(IF(OR(D39="samedi",D39="dimanche")*(F39-E39)+(H39-G39)=0,"",F39-E39+(H39-G39)),"") | J39: =IF(D39="Dimanche",SUM(J33:J37),"") | K39: {=IF(OR(C39=$U$19:$U$31),"FERIE","")} | L39: =IF(D39="Dimanche",SUM(I33:I39),"") | T39: {=IF(OR(K10=$U$19:$U$31),"ferie","")}
B40: 5 | C40: =IF(ISERROR(IF((C39+1)<=$C$6,(C39+1),"")),"",IF((C39+1)<=$C$6,(C39+1),"")) -> 44227 | D40: =IF(ISERROR(VLOOKUP(WEEKDAY($C40),$V$21:$W$27,2,0)),"",VLOOKUP(WEEKDAY($C40),$V$21:$W$27,2,0)) -> Dimanche | E40: =IF(OR(D40="Samedi",D40="Dimanche"),"",Données!$C$3) | F40: =IF(OR(D40="Samedi",D40="Dimanche"),"",Données!$D$3) | G40: =IF(OR(D40="Samedi",D40="Dimanche"),"",Données!$E$3) | H40: =IF(OR(D40="Samedi",D40="Dimanche"),"",Données!$F$3) | I40: =IFERROR(IF(OR(D40="samedi",D40="dimanche")*(F40-E40)+(H40-G40)=0,"",F40-E40+(H40-G40)),"") | J40: =IF(D40="Dimanche",SUM(J34:J38),"") -> 2.7755576e-16 | K40: {=IF(OR(C40=$U$19:$U$31),"FERIE","")} | T40: {=IF(OR(K12=U19:U31),"ferie","")}
A41: =VLOOKUP(MONTH($C41),$V$8:$W$19,2,0) -> FEVRIER | C41: =IF(ISERROR(IF((C40+1)<=$C$6,(C40+1),"")),"",IF((C40+1)<=$C$6,(C40+1),"")) -> 44228 | D41: =IF(ISERROR(VLOOKUP(WEEKDAY($C41),$V$21:$W$27,2,0)),"",VLOOKUP(WEEKDAY($C41),$V$21:$W$27,2,0)) -> Lundi | E41: =IF(OR(D41="Samedi",D41="Dimanche"),"",Données!$C$3) -> 0.35416667 | F41: =IF(OR(D41="Samedi",D41="Dimanche"),"",Données!$D$3) -> 0.5125 | G41: =IF(OR(D41="Samedi",D41="Dimanche"),"",Données!$E$3) -> 0.53680556 | H41: =IF(OR(D41="Samedi",D41="Dimanche"),"",Données!$F$3) -> 16:41 | I41: =IFERROR(IF(OR(D41="samedi",D41="dimanche")*(F41-E41)+(H41-G41)=0,"",F41-E41+(H41-G41)),"") -> 0.31666667 | J41: =IF(I41-Données!$C$2>0,I41-Données!$C$2,0) -> 5.5511151e-17 | K41: {=IF(OR(C41=$U$19:$U$31),"FERIE","")} | M41: =SUMIF(K41:K68,"HCR",J41:J68) -> 0 | N41: =SUMIF(K41:K68,"HPL",J41:J68) -> 0 | O41: =N41*24 -> 0 | R41: =O41-(P41+Q41) -> 0
C42: =IF(ISERROR(IF((C41+1)<=$C$6,(C41+1),"")),"",IF((C41+1)<=$C$6,(C41+1),"")) -> 44229 | D42: =IF(ISERROR(VLOOKUP(WEEKDAY($C42),$V$21:$W$27,2,0)),"",VLOOKUP(WEEKDAY($C42),$V$21:$W$27,2,0)) -> Mardi | E42: 0.35416667 | F42: =IF(OR(D42="Samedi",D42="Dimanche"),"",Données!$D$3) -> 0.5125 | G42: =IF(OR(D42="Samedi",D42="Dimanche"),"",Données!$E$3) -> 0.53680556 | H42: =IF(OR(D42="Samedi",D42="Dimanche"),"",Données!$F$3) -> 16:41 | I42: =IFERROR(IF(OR(D42="samedi",D42="dimanche")*(F42-E42)+(H42-G42)=0,"",F42-E42+(H42-G42)),"") -> 0.31666667 | J42: =IF(I42-Données!$C$2>0,I42-Données!$C$2,0) -> 5.5511151e-17
...

Sheet 2022
B1: 2022
E2: Modifier les cellules en jaune pour mettre à jour le calendrier
E4: mise en forme pour JRE, CP, FERIE
B5: Début | C5: 44562
B6: Fin | C6: 44926
E8: Temps de travail matin | G8: Temps de travail après-midi | I8: Total heures travaillées par jour | J8: Heures supplémentaires | K8: Commentaires | L8: Cumul heures travaillées semaine | M8: Total mois HCR | N8: Total mois HPL | O8: Total mois centièrme | P8: Payé M+1 | Q8: Payé M+2 | R8: Reste à payer | V8: 1 | W8: JANVIER
A9: Mois | B9: Semaine | E9: Heure début | F9: Heure fin | G9: Heure début | H9: Heure fin | V9: 2 | W9: FEVRIER
A10: =VLOOKUP(MONTH($C10),$V$8:$W$19,2,0) -> JANVIER | B10: 53 | C10: =$C$5 -> 44562 | D10: =VLOOKUP(WEEKDAY($C10),$V$21:$W$27,2,0) -> Samedi | E10: =IF(OR(D10="Samedi",D10="Dimanche"),"",Données!$C$3) | F10: =IF(OR(D10="Samedi",D10="Dimanche"),"",Données!$D$3) | G10: =IF(OR(D10="Samedi",D10="Dimanche"),"",Données!$E$3) | H10: =IF(OR(D10="Samedi",D10="Dimanche"),"",Données!$F$3) | I10: =IFERROR(IF(OR(D10="samedi",D10="dimanche")*(F10-E10)+(H10-G10)=0,"",F10-E10+(H10-G10)),"") | K10: {=IF(OR(C10=$U$19:$U$31),"FERIE","")} -> FERIE | L10: =IF(D10="Dimanche",SUM(I4:I10),"") | M10: =SUMIF(K10:K40,"HCR",J10:J40) -> 0.090277778 | N10: =SUMIF(K10:K40,"HPL",J10:J40) -> 0.19444444 | O10: =N10*24 -> 4.6666667 | P10: 4.41 | R10: =O10-(P10+Q10) -> 0.25666667 | V10: 3 | W10: MARS
C11: =IF(ISERROR(IF((C10+1)<=$C$6,(C10+1),"")),"",IF((C10+1)<=$C$6,(C10+1),"")) -> 44563 | D11: =IF(ISERROR(VLOOKUP(WEEKDAY($C11),$V$21:$W$27,2,0)),"",VLOOKUP(WEEKDAY($C11),$V$21:$W$27,2,0)) -> Dimanche | E11: =IF(OR(D11="Samedi",D11="Dimanche"),"",Données!$C$3) | F11: =IF(OR(D11="Samedi",D11="Dimanche"),"",Données!$D$3) | G11: =IF(OR(D11="Samedi",D11="Dimanche"),"",Données!$E$3) | H11: =IF(OR(D11="Samedi",D11="Dimanche"),"",Données!$F$3) | I11: =IFERROR(IF(OR(D11="samedi",D11="dimanche")*(F11-E11)+(H11-G11)=0,"",F11-E11+(H11-G11)),"") | K11: {=IF(OR(C11=$U$19:$U$31),"FERIE","")} | L11: =IF(D11="Dimanche",SUM(I5:I11),"") -> 0 | V11: 4 | W11: AVRIL
B12: 1 | C12: =IF(ISERROR(IF((C11+1)<=$C$6,(C11+1),"")),"",IF((C11+1)<=$C$6,(C11+1),"")) -> 44564 | D12: =IF(ISERROR(VLOOKUP(WEEKDAY($C12),$V$21:$W$27,2,0)),"",VLOOKUP(WEEKDAY($C12),$V$21:$W$27,2,0)) -> Lundi | K12: CP | V12: 5 | W12: MAI
C13: =IF(ISERROR(IF((C12+1)<=$C$6,(C12+1),"")),"",IF((C12+1)<=$C$6,(C12+1),"")) -> 44565 | D13: =IF(ISERROR(VLOOKUP(WEEKDAY($C13),$V$21:$W$27,2,0)),"",VLOOKUP(WEEKDAY($C13),$V$21:$W$27,2,0)) -> Mardi | E13: 0.35416667 | F13: =IF(OR(D13="Samedi",D13="Dimanche"),"",Données!$D$3) -> 0.5125 | G13: =IF(OR(D13="Samedi",D13="Dimanche"),"",Données!$E$3) -> 0.53680556 | H13: =IF(OR(D13="Samedi",D13="Dimanche"),"",Données!$F$3) -> 16:41 | I13: =IFERROR(IF(OR(D13="samedi",D13="dimanche")*(F13-E13)+(H13-G13)=0,"",F13-E13+(H13-G13)),"") -> 0.31666667 | J13: =IF(I13-Données!$C$2>0,I13-Données!$C$2,0) -> 5.5511151e-17 | K13: HPL | V13: 6 | W13: JUIN
C14: =IF(ISERROR(IF((C13+1)<=$C$6,(C13+1),"")),"",IF((C13+1)<=$C$6,(C13+1),"")) -> 44566 | D14: =IF(ISERROR(VLOOKUP(WEEKDAY($C14),$V$21:$W$27,2,0)),"",VLOOKUP(WEEKDAY($C14),$V$21:$W$27,2,0)) -> Mercredi | E14: 0.35416667 | F14: =IF(OR(D14="Samedi",D14="Dimanche"),"",Données!$D$3) -> 0.5125 | G14: =IF(OR(D14="Samedi",D14="Dimanche"),"",Données!$E$3) -> 0.53680556 | H14: =IF(OR(D14="Samedi",D14="Dimanche"),"",Données!$F$3) -> 16:41 | I14: =IFERROR(IF(OR(D14="samedi",D14="dimanche")*(F14-E14)+(H14-G14)=0,"",F14-E14+(H14-G14)),"") -> 0.31666667 | J14: =IF(I14-Données!$C$2>0,I14-Données!$C$2,0) -> 5.5511151e-17 | K14: HPL | V14: 7 | W14: JUILLET
C15: =IF(ISERROR(IF((C14+1)<=$C$6,(C14+1),"")),"",IF((C14+1)<=$C$6,(C14+1),"")) -> 44567 | D15: =IF(ISERROR(VLOOKUP(WEEKDAY($C15),$V$21:$W$27,2,0)),"",VLOOKUP(WEEKDAY($C15),$V$21:$W$27,2,0)) -> Jeudi | E15: 0.33680556 | F15: =IF(OR(D15="Samedi",D15="Dimanche"),"",Données!$D$3) -> 0.5125 | G15: =IF(OR(D15="Samedi",D15="Dimanche"),"",Données!$E$3) -> 0.53680556 | H15: =IF(OR(D15="Samedi",D15="Dimanche"),"",Données!$F$3) -> 16:41 | I15: =IFERROR(IF(OR(D15="samedi",D15="dimanche")*(F15-E15)+(H15-G15)=0,"",F15-E15+(H15-G15)),"") -> 0.33402778 | J15: =IF(I15-Données!$C$2>0,I15-Données!$C$2,0) -> 0.017361111 | K15: HPL | V15: 8 | W15: AOÛT
C16: =IF(ISERROR(IF((C15+1)<=$C$6,(C15+1),"")),"",IF((C15+1)<=$C$6,(C15+1),"")) -> 44568 | D16: =IF(ISERROR(VLOOKUP(WEEKDAY($C16),$V$21:$W$27,2,0)),"",VLOOKUP(WEEKDAY($C16),$V$21:$W$27,2,0)) -> Vendredi | E16: 0.33680556 | F16: =IF(OR(D16="Samedi",D16="Dimanche"),"",Données!$D$3) -> 0.5125 | G16: =IF(OR(D16="Samedi",D16="Dimanche"),"",Données!$E$3) -> 0.53680556 | H16: =IF(OR(D16="Samedi",D16="Dimanche"),"",Données!$F$3) -> 16:41 | I16: =IFERROR(IF(OR(D16="samedi",D16="dimanche")*(F16-E16)+(H16-G16)=0,"",F16-E16+(H16-G16)),"") -> 0.33402778 | J16: =IF(I16-Données!$C$2>0,I16-Données!$C$2,0) -> 0.017361111 | K16: HPL | V16: 9 | W16: SEPTEMBRE
C17: =IF(ISERROR(IF((C16+1)<=$C$6,(C16+1),"")),"",IF((C16+1)<=$C$6,(C16+1),"")) -> 44569 | D17: =IF(ISERROR(VLOOKUP(WEEKDAY($C17),$V$21:$W$27,2,0)),"",VLOOKUP(WEEKDAY($C17),$V$21:$W$27,2,0)) -> Samedi | E17: =IF(OR(D17="Samedi",D17="Dimanche"),"",Données!$C$3) | F17: =IF(OR(D17="Samedi",D17="Dimanche"),"",Données!$D$3) | G17: =IF(OR(D17="Samedi",D17="Dimanche"),"",Données!$E$3) | H17: =IF(OR(D17="Samedi",D17="Dimanche"),"",Données!$F$3) | I17: =IFERROR(IF(OR(D17="samedi",D17="dimanche")*(F17-E17)+(H17-G17)=0,"",F17-E17+(H17-G17)),"") | K17: {=IF(OR(C17=$U$19:$U$31),"FERIE","")} | V17: 10 | W17: OCTOBRE
C18: =IF(ISERROR(IF((C17+1)<=$C$6,(C17+1),"")),"",IF((C17+1)<=$C$6,(C17+1),"")) -> 44570 | D18: =IF(ISERROR(VLOOKUP(WEEKDAY($C18),$V$21:$W$27,2,0)),"",VLOOKUP(WEEKDAY($C18),$V$21:$W$27,2,0)) -> Dimanche | E18: =IF(OR(D18="Samedi",D18="Dimanche"),"",Données!$C$3) | F18: =IF(OR(D18="Samedi",D18="Dimanche"),"",Données!$D$3) | G18: =IF(OR(D18="Samedi",D18="Dimanche"),"",Données!$E$3) | H18: =IF(OR(D18="Samedi",D18="Dimanche"),"",Données!$F$3) | I18: =IFERROR(IF(OR(D18="samedi",D18="dimanche")*(F18-E18)+(H18-G18)=0,"",F18-E18+(H18-G18)),"") | J18: =IF(D18="Dimanche",SUM(J12:J16),"") -> 0.034722222 | K18: {=IF(OR(C18=$U$19:$U$31),"FERIE","")} | L18: =IF(D18="Dimanche",SUM(I12:I18),"") -> 1.3013889 | T18: Jour férié | V18: 11 | W18: NOVEMBRE
B19: 2 | C19: =IF(ISERROR(IF((C18+1)<=$C$6,(C18+1),"")),"",IF((C18+1)<=$C$6,(C18+1),"")) -> 44571 | D19: =IF(ISERROR(VLOOKUP(WEEKDAY($C19),$V$21:$W$27,2,0)),"",VLOOKUP(WEEKDAY($C19),$V$21:$W$27,2,0)) -> Lundi | K19: CP | T19: Jour de l’An | U19: =DATE(B1,1,1) -> 44562 | V19: 12 | W19: DECEMBRE
C20: =IF(ISERROR(IF((C19+1)<=$C$6,(C19+1),"")),"",IF((C19+1)<=$C$6,(C19+1),"")) -> 44572 | D20: =IF(ISERROR(VLOOKUP(WEEKDAY($C20),$V$21:$W$27,2,0)),"",VLOOKUP(WEEKDAY($C20),$V$21:$W$27,2,0)) -> Mardi | E20: 0.33333333 | F20: =IF(OR(D20="Samedi",D20="Dimanche"),"",Données!$D$3) -> 0.5125 | G20: =IF(OR(D20="Samedi",D20="Dimanche"),"",Données!$E$3) -> 0.53680556 | H20: 0.70902778 | I20: =IFERROR(IF(OR(D20="samedi",D20="dimanche")*(F20-E20)+(H20-G20)=0,"",F20-E20+(H20-G20)),"") -> 0.35138889 | J20: =IF(I20-Données!$C$2>0,I20-Données!$C$2,0) -> 0.034722222 | K20: HPL | T20: Pâques | U20: =ROUND(DATE(B1,4,MOD(234-11*MOD(B1,19),30))/7,0)*7-6 -> 44668
C21: =IF(ISERROR(IF((C20+1)<=$C$6,(C20+1),"")),"",IF((C20+1)<=$C$6,(C20+1),"")) -> 44573 | D21: =IF(ISERROR(VLOOKUP(WEEKDAY($C21),$V$21:$W$27,2,0)),"",VLOOKUP(WEEKDAY($C21),$V$21:$W$27,2,0)) -> Mercredi | E21: 0.34375 | F21: =IF(OR(D21="Samedi",D21="Dimanche"),"",Données!$D$3) -> 0.5125 | G21: =IF(OR(D21="Samedi",D21="Dimanche"),"",Données!$E$3) -> 0.53680556 | H21: 0.69513889 | I21: =IFERROR(IF(OR(D21="samedi",D21="dimanche")*(F21-E21)+(H21-G21)=0,"",F21-E21+(H21-G21)),"") -> 0.32708333 | J21: =IF(I21-Données!$C$2>0,I21-Données!$C$2,0) -> 0.010416667 | K21: HPL | T21: Lundi de Pâques | U21: =U20+1 -> 44669 | V21: 1 | W21: Dimanche
C22: =IF(ISERROR(IF((C21+1)<=$C$6,(C21+1),"")),"",IF((C21+1)<=$C$6,(C21+1),"")) -> 44574 | D22: =IF(ISERROR(VLOOKUP(WEEKDAY($C22),$V$21:$W$27,2,0)),"",VLOOKUP(WEEKDAY($C22),$V$21:$W$27,2,0)) -> Jeudi | E22: 0.33333333 | F22: =IF(OR(D22="Samedi",D22="Dimanche"),"",Données!$D$3) -> 0.5125 | G22: =IF(OR(D22="Samedi",D22="Dimanche"),"",Données!$E$3) -> 0.53680556 | H22: 0.70902778 | I22: =IFERROR(IF(OR(D22="samedi",D22="dimanche")*(F22-E22)+(H22-G22)=0,"",F22-E22+(H22-G22)),"") -> 0.35138889 | J22: =IF(I22-Données!$C$2>0,I22-Données!$C$2,0) -> 0.034722222 | K22: HPL | T22: Fête du travail | U22: =DATE(B1,5,1) -> 44682 | V22: 2 | W22: Lundi
C23: =IF(ISERROR(IF((C22+1)<=$C$6,(C22+1),"")),"",IF((C22+1)<=$C$6,(C22+1),"")) -> 44575 | D23: =IF(ISERROR(VLOOKUP(WEEKDAY($C23),$V$21:$W$27,2,0)),"",VLOOKUP(WEEKDAY($C23),$V$21:$W$27,2,0)) -> Vendredi | K23: CP | T23: Victoire 1945 | U23: =DATE(B1,5,8) -> 44689 | V23: 3 | W23: Mardi
C24: =IF(ISERROR(IF((C23+1)<=$C$6,(C23+1),"")),"",IF((C23+1)<=$C$6,(C23+1),"")) -> 44576 | D24: =IF(ISERROR(VLOOKUP(WEEKDAY($C24),$V$21:$W$27,2,0)),"",VLOOKUP(WEEKDAY($C24),$V$21:$W$27,2,0)) -> Samedi | E24: =IF(OR(D24="Samedi",D24="Dimanche"),"",Données!$C$3) | F24: =IF(OR(D24="Samedi",D24="Dimanche"),"",Données!$D$3) | G24: =IF(OR(D24="Samedi",D24="Dimanche"),"",Données!$E$3) | H24: =IF(OR(D24="Samedi",D24="Dimanche"),"",Données!$F$3) | I24: =IFERROR(IF(OR(D24="samedi",D24="dimanche")*(F24-E24)+(H24-G24)=0,"",F24-E24+(H24-G24)),"") | K24: {=IF(OR(C24=$U$19:$U$31),"FERIE","")} | T24: Ascension | U24: =U20+39 -> 44707 | V24: 4 | W24: Mercredi
C25: =IF(ISERROR(IF((C24+1)<=$C$6,(C24+1),"")),"",IF((C24+1)<=$C$6,(C24+1),"")) -> 44577 | D25: =IF(ISERROR(VLOOKUP(WEEKDAY($C25),$V$21:$W$27,2,0)),"",VLOOKUP(WEEKDAY($C25),$V$21:$W$27,2,0)) -> Dimanche | E25: =IF(OR(D25="Samedi",D25="Dimanche"),"",Données!$C$3) | F25: =IF(OR(D25="Samedi",D25="Dimanche"),"",Données!$D$3) | G25: =IF(OR(D25="Samedi",D25="Dimanche"),"",Données!$E$3) | H25: =IF(OR(D25="Samedi",D25="Dimanche"),"",Données!$F$3) | I25: =IFERROR(IF(OR(D25="samedi",D25="dimanche")*(F25-E25)+(H25-G25)=0,"",F25-E25+(H25-G25)),"") | J25: =IF(D25="Dimanche",SUM(J19:J23),"") -> 0.079861111 | K25: {=IF(OR(C25=$U$19:$U$31),"FERIE","")} | L25: =IF(D25="Dimanche",SUM(I19:I25),"") -> 1.0298611 | T25: Pentecôte | U25: =U20+49 -> 44717 | V25: 5 | W25: Jeudi
B26: 3 | C26: =IF(ISERROR(IF((C25+1)<=$C$6,(C25+1),"")),"",IF((C25+1)<=$C$6,(C25+1),"")) -> 44578 | D26: =IF(ISERROR(VLOOKUP(WEEKDAY($C26),$V$21:$W$27,2,0)),"",VLOOKUP(WEEKDAY($C26),$V$21:$W$27,2,0)) -> Lundi | E26: 0.34375 | F26: =IF(OR(D26="Samedi",D26="Dimanche"),"",Données!$D$3) -> 0.5125 | G26: =IF(OR(D26="Samedi",D26="Dimanche"),"",Données!$E$3) -> 0.53680556 | H26: 0.7125 | I26: =IFERROR(IF(OR(D26="samedi",D26="dimanche")*(F26-E26)+(H26-G26)=0,"",F26-E26+(H26-G26)),"") -> 0.34444444 | J26: =IF(I26-Données!$C$2>0,I26-Données!$C$2,0) -> 0.027777778 | K26: HPL | T26: Lundi de Pentecôte | U26: =U20+50 -> 44718 | V26: 6 | W26: Vendredi
C27: =IF(ISERROR(IF((C26+1)<=$C$6,(C26+1),"")),"",IF((C26+1)<=$C$6,(C26+1),"")) -> 44579 | D27: =IF(ISERROR(VLOOKUP(WEEKDAY($C27),$V$21:$W$27,2,0)),"",VLOOKUP(WEEKDAY($C27),$V$21:$W$27,2,0)) -> Mardi | E27: 0.33333333 | F27: =IF(OR(D27="Samedi",D27="Dimanche"),"",Données!$D$3) -> 0.5125 | G27: =IF(OR(D27="Samedi",D27="Dimanche"),"",Données!$E$3) -> 0.53680556 | H27: =IF(OR(D27="Samedi",D27="Dimanche"),"",Données!$F$3) -> 16:41 | I27: =IFERROR(IF(OR(D27="samedi",D27="dimanche")*(F27-E27)+(H27-G27)=0,"",F27-E27+(H27-G27)),"") -> 0.3375 | J27: =IF(I27-Données!$C$2>0,I27-Données!$C$2,0) -> 0.020833333 | K27: HPL | T27: Fête Nationale | U27: =DATE(B1,7,14) -> 44756 | V27: 7 | W27: Samedi
C28: =IF(ISERROR(IF((C27+1)<=$C$6,(C27+1),"")),"",IF((C27+1)<=$C$6,(C27+1),"")) -> 44580 | D28: =IF(ISERROR(VLOOKUP(WEEKDAY($C28),$V$21:$W$27,2,0)),"",VLOOKUP(WEEKDAY($C28),$V$21:$W$27,2,0)) -> Mercredi | E28: 0.34375 | F28: =IF(OR(D28="Samedi",D28="Dimanche"),"",Données!$D$3) -> 0.5125 | G28: =IF(OR(D28="Samedi",D28="Dimanche"),"",Données!$E$3) -> 0.53680556 | H28: =IF(OR(D28="Samedi",D28="Dimanche"),"",Données!$F$3) -> 16:41 | I28: =IFERROR(IF(OR(D28="samedi",D28="dimanche")*(F28-E28)+(H28-G28)=0,"",F28-E28+(H28-G28)),"") -> 0.32708333 | J28: =IF(I28-Données!$C$2>0,I28-Données!$C$2,0) -> 0.010416667 | K28: HPL | T28: Assomption | U28: =DATE(B1,8,15) -> 44788
C29: =IF(ISERROR(IF((C28+1)<=$C$6,(C28+1),"")),"",IF((C28+1)<=$C$6,(C28+1),"")) -> 44581 | D29: =IF(ISERROR(VLOOKUP(WEEKDAY($C29),$V$21:$W$27,2,0)),"",VLOOKUP(WEEKDAY($C29),$V$21:$W$27,2,0)) -> Jeudi | E29: 0.34375 | F29: =IF(OR(D29="Samedi",D29="Dimanche"),"",Données!$D$3) -> 0.5125 | G29: =IF(OR(D29="Samedi",D29="Dimanche"),"",Données!$E$3) -> 0.53680556 | H29: =IF(OR(D29="Samedi",D29="Dimanche"),"",Données!$F$3) -> 16:41 | I29: =IFERROR(IF(OR(D29="samedi",D29="dimanche")*(F29-E29)+(H29-G29)=0,"",F29-E29+(H29-G29)),"") -> 0.32708333 | J29: =IF(I29-Données!$C$2>0,I29-Données!$C$2,0) -> 0.010416667 | K29: HPL | T29: Toussaint | U29: =DATE(B1,11,1) -> 44866
