Workbook

Sheet Fichier vierge
B1: 2022
E2: Modifier les cellules en jaune pour mettre à jour le calendrier
E4: mise en forme pour JRE, CP, FERIE
B5: Début | C5: 44562
B6: Fin | C6: 44926
E8: Temps de travail matin | G8: Temps de travail après-midi | I8: Total heures travaillées par jour | J8: Heures supplémentaires | K8: Commentaires | L8: Cumul heures travaillées semaine | M8: Total mois HCR | N8: Total mois HPL | O8: Total mois centièrme | P8: Payé M+1 | Q8: Payé M+2 | R8: Reste à payer | V8: 1 | W8: JANVIER
A9: Mois | B9: Semaine | E9: Heure début | F9: Heure fin | G9: Heure début | H9: Heure fin | V9: 2 | W9: FEVRIER
A10: =VLOOKUP(MONTH($C10),$V$8:$W$19,2,0) -> JANVIER | B10: 53 | C10: =$C$5 -> 44562 | D10: =VLOOKUP(WEEKDAY($C10),$V$21:$W$27,2,0) -> Samedi | E10: =IF(OR(D10="Samedi",D10="Dimanche"),"",Données!$C$3) | F10: =IF(OR(D10="Samedi",D10="Dimanche"),"",Données!$D$3) | G10: =IF(OR(D10="Samedi",D10="Dimanche"),"",Données!$E$3) | H10: =IF(OR(D10="Samedi",D10="Dimanche"),"",Données!$F$3) | I10: =IFERROR(IF(OR(D10="samedi",D10="dimanche")*(F10-E10)+(H10-G10)=0,"",F10-E10+(H10-G10)),"") | K10: {=IF(OR(C10=$U$19:$U$31),"FERIE","")} -> FERIE | L10: =IF(D10="Dimanche",SUM(I4:I10),"") | M10: =SUMIF(K10:K40,"HCR",J10:J40) -> 0 | N10: =SUMIF(K10:K40,"HPL",J10:J40) -> 0 | O10: =N10*24 -> 0 | R10: =O10-(P10+Q10) -> 0 | V10: 3 | W10: MARS
C11: =IF(ISERROR(IF((C10+1)<=$C$6,(C10+1),"")),"",IF((C10+1)<=$C$6,(C10+1),"")) -> 44563 | D11: =IF(ISERROR(VLOOKUP(WEEKDAY($C11),$V$21:$W$27,2,0)),"",VLOOKUP(WEEKDAY($C11),$V$21:$W$27,2,0)) -> Dimanche | E11: =IF(OR(D11="Samedi",D11="Dimanche"),"",Données!$C$3) | F11: =IF(OR(D11="Samedi",D11="Dimanche"),"",Données!$D$3) | G11: =IF(OR(D11="Samedi",D11="Dimanche"),"",Données!$E$3) | H11: =IF(OR(D11="Samedi",D11="Dimanche"),"",Données!$F$3) | I11: =IFERROR(IF(OR(D11="samedi",D11="dimanche")*(F11-E11)+(H11-G11)=0,"",F11-E11+(H11-G11)),"") | K11: {=IF(OR(C11=$U$19:$U$31),"FERIE","")} | L11: =IF(D11="Dimanche",SUM(I5:I11),"") -> 0 | V11: 4 | W11: AVRIL
B12: 1 | C12: =IF(ISERROR(IF((C11+1)<=$C$6,(C11+1),"")),"",IF((C11+1)<=$C$6,(C11+1),"")) -> 44564 | D12: =IF(ISERROR(VLOOKUP(WEEKDAY($C12),$V$21:$W$27,2,0)),"",VLOOKUP(WEEKDAY($C12),$V$21:$W$27,2,0)) -> Lundi | E12: =IF(OR(D12="Samedi",D12="Dimanche"),"",Données!$C$3) -> 0.35416667 | F12: =IF(OR(D12="Samedi",D12="Dimanche"),"",Données!$D$3) -> 0.5125 | G12: =IF(OR(D12="Samedi",D12="Dimanche"),"",Données!$E$3) -> 0.53680556 | H12: =IF(OR(D12="Samedi",D12="Dimanche"),"",Données!$F$3) -> 16:41 | I12: =IFERROR(IF(OR(D12="samedi",D12="dimanche")*(F12-E12)+(H12-G12)=0,"",F12-E12+(H12-G12)),"") -> 0.31666667 | J12: =IF(I12-Données!$C$2>0,I12-Données!$C$2,0) -> 5.5511151e-17 | K12: {=IF(OR(C12=$U$19:$U$31),"FERIE","")} | S12: =SUMIF(K12:K40,"HPL",J12:J40) -> 0 | V12: 5 | W12: MAI
C13: =IF(ISERROR(IF((C12+1)<=$C$6,(C12+1),"")),"",IF((C12+1)<=$C$6,(C12+1),"")) -> 44565 | D13: =IF(ISERROR(VLOOKUP(WEEKDAY($C13),$V$21:$W$27,2,0)),"",VLOOKUP(WEEKDAY($C13),$V$21:$W$27,2,0)) -> Mardi | E13: 0.35416667 | F13: =IF(OR(D13="Samedi",D13="Dimanche"),"",Données!$D$3) -> 0.5125 | G13: =IF(OR(D13="Samedi",D13="Dimanche"),"",Données!$E$3) -> 0.53680556 | H13: =IF(OR(D13="Samedi",D13="Dimanche"),"",Données!$F$3) -> 16:41 | I13: =IFERROR(IF(OR(D13="samedi",D13="dimanche")*(F13-E13)+(H13-G13)=0,"",F13-E13+(H13-G13)),"") -> 0.31666667 | J13: =IF(I13-Données!$C$2>0,I13-Données!$C$2,0) -> 5.5511151e-17 | S13: =SUMIF(K13:K41,"HCR",J13:J41) -> 0 | V13: 6 | W13: JUIN
C14: =IF(ISERROR(IF((C13+1)<=$C$6,(C13+1),"")),"",IF((C13+1)<=$C$6,(C13+1),"")) -> 44566 | D14: =IF(ISERROR(VLOOKUP(WEEKDAY($C14),$V$21:$W$27,2,0)),"",VLOOKUP(WEEKDAY($C14),$V$21:$W$27,2,0)) -> Mercredi | E14: 0.39583333 | F14: =IF(OR(D14="Samedi",D14="Dimanche"),"",Données!$D$3) -> 0.5125 | G14: =IF(OR(D14="Samedi",D14="Dimanche"),"",Données!$E$3) -> 0.53680556 | H14: =IF(OR(D14="Samedi",D14="Dimanche"),"",Données!$F$3) -> 16:41 | I14: =IFERROR(IF(OR(D14="samedi",D14="dimanche")*(F14-E14)+(H14-G14)=0,"",F14-E14+(H14-G14)),"") -> 0.275 | J14: =IF(I14-Données!$C$2>0,I14-Données!$C$2,0) -> 0 | V14: 7 | W14: JUILLET
C15: =IF(ISERROR(IF((C14+1)<=$C$6,(C14+1),"")),"",IF((C14+1)<=$C$6,(C14+1),"")) -> 44567 | D15: =IF(ISERROR(VLOOKUP(WEEKDAY($C15),$V$21:$W$27,2,0)),"",VLOOKUP(WEEKDAY($C15),$V$21:$W$27,2,0)) -> Jeudi | E15: 0.35416667 | F15: =IF(OR(D15="Samedi",D15="Dimanche"),"",Données!$D$3) -> 0.5125 | G15: =IF(OR(D15="Samedi",D15="Dimanche"),"",Données!$E$3) -> 0.53680556 | H15: =IF(OR(D15="Samedi",D15="Dimanche"),"",Données!$F$3) -> 16:41 | I15: =IFERROR(IF(OR(D15="samedi",D15="dimanche")*(F15-E15)+(H15-G15)=0,"",F15-E15+(H15-G15)),"") -> 0.31666667 | J15: =IF(I15-Données!$C$2>0,I15-Données!$C$2,0) -> 5.5511151e-17 | V15: 8 | W15: AOÛT
C16: =IF(ISERROR(IF((C15+1)<=$C$6,(C15+1),"")),"",IF((C15+1)<=$C$6,(C15+1),"")) -> 44568 | D16: =IF(ISERROR(VLOOKUP(WEEKDAY($C16),$V$21:$W$27,2,0)),"",VLOOKUP(WEEKDAY($C16),$V$21:$W$27,2,0)) -> Vendredi | E16: =IF(OR(D16="Samedi",D16="Dimanche"),"",Données!$C$3) -> 0.35416667 | F16: =IF(OR(D16="Samedi",D16="Dimanche"),"",Données!$D$3) -> 0.5125 | G16: =IF(OR(D16="Samedi",D16="Dimanche"),"",Données!$E$3) -> 0.53680556 | H16: =IF(OR(D16="Samedi",D16="Dimanche"),"",Données!$F$3) -> 16:41 | I16: =IFERROR(IF(OR(D16="samedi",D16="dimanche")*(F16-E16)+(H16-G16)=0,"",F16-E16+(H16-G16)),"") -> 0.31666667 | J16: =IF(I16-Données!$C$2>0,I16-Données!$C$2,0) -> 5.5511151e-17 | V16: 9 | W16: SEPTEMBRE
C17: =IF(ISERROR(IF((C16+1)<=$C$6,(C16+1),"")),"",IF((C16+1)<=$C$6,(C16+1),"")) -> 44569 | D17: =IF(ISERROR(VLOOKUP(WEEKDAY($C17),$V$21:$W$27,2,0)),"",VLOOKUP(WEEKDAY($C17),$V$21:$W$27,2,0)) -> Samedi | E17: =IF(OR(D17="Samedi",D17="Dimanche"),"",Données!$C$3) | F17: =IF(OR(D17="Samedi",D17="Dimanche"),"",Données!$D$3) | G17: =IF(OR(D17="Samedi",D17="Dimanche"),"",Données!$E$3) | H17: =IF(OR(D17="Samedi",D17="Dimanche"),"",Données!$F$3) | I17: =IFERROR(IF(OR(D17="samedi",D17="dimanche")*(F17-E17)+(H17-G17)=0,"",F17-E17+(H17-G17)),"") | K17: {=IF(OR(C17=$U$19:$U$31),"FERIE","")} | V17: 10 | W17: OCTOBRE
C18: =IF(ISERROR(IF((C17+1)<=$C$6,(C17+1),"")),"",IF((C17+1)<=$C$6,(C17+1),"")) -> 44570 | D18: =IF(ISERROR(VLOOKUP(WEEKDAY($C18),$V$21:$W$27,2,0)),"",VLOOKUP(WEEKDAY($C18),$V$21:$W$27,2,0)) -> Dimanche | E18: =IF(OR(D18="Samedi",D18="Dimanche"),"",Données!$C$3) | F18: =IF(OR(D18="Samedi",D18="Dimanche"),"",Données!$D$3) | G18: =IF(OR(D18="Samedi",D18="Dimanche"),"",Données!$E$3) | H18: =IF(OR(D18="Samedi",D18="Dimanche"),"",Données!$F$3) | I18: =IFERROR(IF(OR(D18="samedi",D18="dimanche")*(F18-E18)+(H18-G18)=0,"",F18-E18+(H18-G18)),"") | J18: =IF(D18="Dimanche",SUM(J12:J16),"") -> 2.220446e-16 | K18: {=IF(OR(C18=$U$19:$U$31),"FERIE","")} | L18: =IF(D18="Dimanche",SUM(I12:I18),"") -> 1.5416667 | T18: Jour férié | V18: 11 | W18: NOVEMBRE
B19: 2 | C19: =IF(ISERROR(IF((C18+1)<=$C$6,(C18+1),"")),"",IF((C18+1)<=$C$6,(C18+1),"")) -> 44571 | D19: =IF(ISERROR(VLOOKUP(WEEKDAY($C19),$V$21:$W$27,2,0)),"",VLOOKUP(WEEKDAY($C19),$V$21:$W$27,2,0)) -> Lundi | E19: =IF(OR(D19="Samedi",D19="Dimanche"),"",Données!$C$3) -> 0.35416667 | F19: =IF(OR(D19="Samedi",D19="Dimanche"),"",Données!$D$3) -> 0.5125 | G19: =IF(OR(D19="Samedi",D19="Dimanche"),"",Données!$E$3) -> 0.53680556 | H19: =IF(OR(D19="Samedi",D19="Dimanche"),"",Données!$F$3) -> 16:41 | I19: =IFERROR(IF(OR(D19="samedi",D19="dimanche")*(F19-E19)+(H19-G19)=0,"",F19-E19+(H19-G19)),"") -> 0.31666667 | K19: {=IF(OR(C19=$U$19:$U$31),"FERIE","")} | T19: Jour de l’An | U19: =DATE(B1,1,1) -> 44562 | V19: 12 | W19: DECEMBRE
C20: =IF(ISERROR(IF((C19+1)<=$C$6,(C19+1),"")),"",IF((C19+1)<=$C$6,(C19+1),"")) -> 44572 | D20: =IF(ISERROR(VLOOKUP(WEEKDAY($C20),$V$21:$W$27,2,0)),"",VLOOKUP(WEEKDAY($C20),$V$21:$W$27,2,0)) -> Mardi | E20: =IF(OR(D20="Samedi",D20="Dimanche"),"",Données!$C$3) -> 0.35416667 | F20: =IF(OR(D20="Samedi",D20="Dimanche"),"",Données!$D$3) -> 0.5125 | G20: =IF(OR(D20="Samedi",D20="Dimanche"),"",Données!$E$3) -> 0.53680556 | H20: =IF(OR(D20="Samedi",D20="Dimanche"),"",Données!$F$3) -> 16:41 | I20: =IFERROR(IF(OR(D20="samedi",D20="dimanche")*(F20-E20)+(H20-G20)=0,"",F20-E20+(H20-G20)),"") -> 0.31666667 | K20: {=IF(OR(C20=$U$19:$U$31),"FERIE","")} | T20: Pâques | U20: =ROUND(DATE(B1,4,MOD(234-11*MOD(B1,19),30))/7,0)*7-6 -> 44668
C21: =IF(ISERROR(IF((C20+1)<=$C$6,(C20+1),"")),"",IF((C20+1)<=$C$6,(C20+1),"")) -> 44573 | D21: =IF(ISERROR(VLOOKUP(WEEKDAY($C21),$V$21:$W$27,2,0)),"",VLOOKUP(WEEKDAY($C21),$V$21:$W$27,2,0)) -> Mercredi | E21: =IF(OR(D21="Samedi",D21="Dimanche"),"",Données!$C$3) -> 0.35416667 | F21: =IF(OR(D21="Samedi",D21="Dimanche"),"",Données!$D$3) -> 0.5125 | G21: =IF(OR(D21="Samedi",D21="Dimanche"),"",Données!$E$3) -> 0.53680556 | H21: 0.69513889 | I21: =IFERROR(IF(OR(D21="samedi",D21="dimanche")*(F21-E21)+(H21-G21)=0,"",F21-E21+(H21-G21)),"") -> 0.31666667 | T21: Lundi de Pâques | U21: =U20+1 -> 44669 | V21: 1 | W21: Dimanche
C22: =IF(ISERROR(IF((C21+1)<=$C$6,(C21+1),"")),"",IF((C21+1)<=$C$6,(C21+1),"")) -> 44574 | D22: =IF(ISERROR(VLOOKUP(WEEKDAY($C22),$V$21:$W$27,2,0)),"",VLOOKUP(WEEKDAY($C22),$V$21:$W$27,2,0)) -> Jeudi | E22: =IF(OR(D22="Samedi",D22="Dimanche"),"",Données!$C$3) -> 0.35416667 | F22: =IF(OR(D22="Samedi",D22="Dimanche"),"",Données!$D$3) -> 0.5125 | G22: =IF(OR(D22="Samedi",D22="Dimanche"),"",Données!$E$3) -> 0.53680556 | H22: =IF(OR(D22="Samedi",D22="Dimanche"),"",Données!$F$3) -> 16:41 | I22: =IFERROR(IF(OR(D22="samedi",D22="dimanche")*(F22-E22)+(H22-G22)=0,"",F22-E22+(H22-G22)),"") -> 0.31666667 | K22: {=IF(OR(C22=$U$19:$U$31),"FERIE","")} | T22: Fête du travail | U22: =DATE(B1,5,1) -> 44682 | V22: 2 | W22: Lundi
C23: =IF(ISERROR(IF((C22+1)<=$C$6,(C22+1),"")),"",IF((C22+1)<=$C$6,(C22+1),"")) -> 44575 | D23: =IF(ISERROR(VLOOKUP(WEEKDAY($C23),$V$21:$W$27,2,0)),"",VLOOKUP(WEEKDAY($C23),$V$21:$W$27,2,0)) -> Vendredi | E23: =IF(OR(D23="Samedi",D23="Dimanche"),"",Données!$C$3) -> 0.35416667 | F23: =IF(OR(D23="Samedi",D23="Dimanche"),"",Données!$D$3) -> 0.5125 | G23: =IF(OR(D23="Samedi",D23="Dimanche"),"",Données!$E$3) -> 0.53680556 | H23: =IF(OR(D23="Samedi",D23="Dimanche"),"",Données!$F$3) -> 16:41 | I23: =IFERROR(IF(OR(D23="samedi",D23="dimanche")*(F23-E23)+(H23-G23)=0,"",F23-E23+(H23-G23)),"") -> 0.31666667 | K23: {=IF(OR(C23=$U$19:$U$31),"FERIE","")} | T23: Victoire 1945 | U23: =DATE(B1,5,8) -> 44689 | V23: 3 | W23: Mardi
C24: =IF(ISERROR(IF((C23+1)<=$C$6,(C23+1),"")),"",IF((C23+1)<=$C$6,(C23+1),"")) -> 44576 | D24: =IF(ISERROR(VLOOKUP(WEEKDAY($C24),$V$21:$W$27,2,0)),"",VLOOKUP(WEEKDAY($C24),$V$21:$W$27,2,0)) -> Samedi | E24: =IF(OR(D24="Samedi",D24="Dimanche"),"",Données!$C$3) | F24: =IF(OR(D24="Samedi",D24="Dimanche"),"",Données!$D$3) | G24: =IF(OR(D24="Samedi",D24="Dimanche"),"",Données!$E$3) | H24: =IF(OR(D24="Samedi",D24="Dimanche"),"",Données!$F$3) | I24: =IFERROR(IF(OR(D24="samedi",D24="dimanche")*(F24-E24)+(H24-G24)=0,"",F24-E24+(H24-G24)),"") | K24: {=IF(OR(C24=$U$19:$U$31),"FERIE","")} | T24: Ascension | U24: =U20+39 -> 44707 | V24: 4 | W24: Mercredi
C25: =IF(ISERROR(IF((C24+1)<=$C$6,(C24+1),"")),"",IF((C24+1)<=$C$6,(C24+1),"")) -> 44577 | D25: =IF(ISERROR(VLOOKUP(WEEKDAY($C25),$V$21:$W$27,2,0)),"",VLOOKUP(WEEKDAY($C25),$V$21:$W$27,2,0)) -> Dimanche | E25: =IF(OR(D25="Samedi",D25="Dimanche"),"",Données!$C$3) | F25: =IF(OR(D25="Samedi",D25="Dimanche"),"",Données!$D$3) | G25: =IF(OR(D25="Samedi",D25="Dimanche"),"",Données!$E$3) | H25: =IF(OR(D25="Samedi",D25="Dimanche"),"",Données!$F$3) | I25: =IFERROR(IF(OR(D25="samedi",D25="dimanche")*(F25-E25)+(H25-G25)=0,"",F25-E25+(H25-G25)),"") | K25: {=IF(OR(C25=$U$19:$U$31),"FERIE","")} | L25: =IF(D25="Dimanche",SUM(I19:I25),"") -> 1.5833333 | T25: Pentecôte | U25: =U20+49 -> 44717 | V25: 5 | W25: Jeudi
B26: 3 | C26: =IF(ISERROR(IF((C25+1)<=$C$6,(C25+1),"")),"",IF((C25+1)<=$C$6,(C25+1),"")) -> 44578 | D26: =IF(ISERROR(VLOOKUP(WEEKDAY($C26),$V$21:$W$27,2,0)),"",VLOOKUP(WEEKDAY($C26),$V$21:$W$27,2,0)) -> Lundi | E26: =IF(OR(D26="Samedi",D26="Dimanche"),"",Données!$C$3) -> 0.35416667 | F26: =IF(OR(D26="Samedi",D26="Dimanche"),"",Données!$D$3) -> 0.5125 | G26: =IF(OR(D26="Samedi",D26="Dimanche"),"",Données!$E$3) -> 0.53680556 | H26: =IF(OR(D26="Samedi",D26="Dimanche"),"",Données!$F$3) -> 16:41 | I26: =IFERROR(IF(OR(D26="samedi",D26="dimanche")*(F26-E26)+(H26-G26)=0,"",F26-E26+(H26-G26)),"") -> 0.31666667 | K26: {=IF(OR(C26=$U$19:$U$31),"FERIE","")} | T26: Lundi de Pentecôte | U26: =U20+50 -> 44718 | V26: 6 | W26: Vendredi
C27: =IF(ISERROR(IF((C26+1)<=$C$6,(C26+1),"")),"",IF((C26+1)<=$C$6,(C26+1),"")) -> 44579 | D27: =IF(ISERROR(VLOOKUP(WEEKDAY($C27),$V$21:$W$27,2,0)),"",VLOOKUP(WEEKDAY($C27),$V$21:$W$27,2,0)) -> Mardi | E27: =IF(OR(D27="Samedi",D27="Dimanche"),"",Données!$C$3) -> 0.35416667 | F27: =IF(OR(D27="Samedi",D27="Dimanche"),"",Données!$D$3) -> 0.5125 | G27: =IF(OR(D27="Samedi",D27="Dimanche"),"",Données!$E$3) -> 0.53680556 | H27: =IF(OR(D27="Samedi",D27="Dimanche"),"",Données!$F$3) -> 16:41 | I27: =IFERROR(IF(OR(D27="samedi",D27="dimanche")*(F27-E27)+(H27-G27)=0,"",F27-E27+(H27-G27)),"") -> 0.31666667 | K27: {=IF(OR(C27=$U$19:$U$31),"FERIE","")} | T27: Fête Nationale | U27: =DATE(B1,7,14) -> 44756 | V27: 7 | W27: Samedi
C28: =IF(ISERROR(IF((C27+1)<=$C$6,(C27+1),"")),"",IF((C27+1)<=$C$6,(C27+1),"")) -> 44580 | D28: =IF(ISERROR(VLOOKUP(WEEKDAY($C28),$V$21:$W$27,2,0)),"",VLOOKUP(WEEKDAY($C28),$V$21:$W$27,2,0)) -> Mercredi | E28: =IF(OR(D28="Samedi",D28="Dimanche"),"",Données!$C$3) -> 0.35416667 | F28: =IF(OR(D28="Samedi",D28="Dimanche"),"",Données!$D$3) -> 0.5125 | G28: =IF(OR(D28="Samedi",D28="Dimanche"),"",Données!$E$3) -> 0.53680556 | H28: =IF(OR(D28="Samedi",D28="Dimanche"),"",Données!$F$3) -> 16:41 | I28: =IFERROR(IF(OR(D28="samedi",D28="dimanche")*(F28-E28)+(H28-G28)=0,"",F28-E28+(H28-G28)),"") -> 0.31666667 | T28: Assomption | U28: =DATE(B1,8,15) -> 44788
C29: =IF(ISERROR(IF((C28+1)<=$C$6,(C28+1),"")),"",IF((C28+1)<=$C$6,(C28+1),"")) -> 44581 | D29: =IF(ISERROR(VLOOKUP(WEEKDAY($C29),$V$21:$W$27,2,0)),"",VLOOKUP(WEEKDAY($C29),$V$21:$W$27,2,0)) -> Jeudi | E29: =IF(OR(D29="Samedi",D29="Dimanche"),"",Données!$C$3) -> 0.35416667 | F29: =IF(OR(D29="Samedi",D29="Dimanche"),"",Données!$D$3) -> 0.5125 | G29: =IF(OR(D29="Samedi",D29="Dimanche"),"",Données!$E$3) -> 0.53680556 | H29: =IF(OR(D29="Samedi",D29="Dimanche"),"",Données!$F$3) -> 16:41 | I29: =IFERROR(IF(OR(D29="samedi",D29="dimanche")*(F29-E29)+(H29-G29)=0,"",F29-E29+(H29-G29)),"") -> 0.31666667 | K29: {=IF(OR(C29=$U$19:$U$31),"FERIE","")} | T29: Toussaint | U29: =DATE(B1,11,1) -> 44866
C30: =IF(ISERROR(IF((C29+1)<=$C$6,(C29+1),"")),"",IF((C29+1)<=$C$6,(C29+1),"")) -> 44582 | D30: =IF(ISERROR(VLOOKUP(WEEKDAY($C30),$V$21:$W$27,2,0)),"",VLOOKUP(WEEKDAY($C30),$V$21:$W$27,2,0)) -> Vendredi | E30: =IF(OR(D30="Samedi",D30="Dimanche"),"",Données!$C$3) -> 0.35416667 | F30: =IF(OR(D30="Samedi",D30="Dimanche"),"",Données!$D$3) -> 0.5125 | G30: =IF(OR(D30="Samedi",D30="Dimanche"),"",Données!$E$3) -> 0.53680556 | H30: =IF(OR(D30="Samedi",D30="Dimanche"),"",Données!$F$3) -> 16:41 | I30: =IFERROR(IF(OR(D30="samedi",D30="dimanche")*(F30-E30)+(H30-G30)=0,"",F30-E30+(H30-G30)),"") -> 0.31666667 | K30: {=IF(OR(C30=$U$19:$U$31),"FERIE","")} | T30: Armistice 1918 | U30: =DATE(B1,11,11) -> 44876
C31: =IF(ISERROR(IF((C30+1)<=$C$6,(C30+1),"")),"",IF((C30+1)<=$C$6,(C30+1),"")) -> 44583 | D31: =IF(ISERROR(VLOOKUP(WEEKDAY($C31),$V$21:$W$27,2,0)),"",VLOOKUP(WEEKDAY($C31),$V$21:$W$27,2,0)) -> Samedi | E31: =IF(OR(D31="Samedi",D31="Dimanche"),"",Données!$C$3) | F31: =IF(OR(D31="Samedi",D31="Dimanche"),"",Données!$D$3) | G31: =IF(OR(D31="Samedi",D31="Dimanche"),"",Données!$E$3) | H31: =IF(OR(D31="Samedi",D31="Dimanche"),"",Données!$F$3) | I31: =IFERROR(IF(OR(D31="samedi",D31="dimanche")*(F31-E31)+(H31-G31)=0,"",F31-E31+(H31-G31)),"") | K31: {=IF(OR(C31=$U$19:$U$31),"FERIE","")} | T31: Noël | U31: =DATE(B1,12,25) -> 44920
C32: =IF(ISERROR(IF((C31+1)<=$C$6,(C31+1),"")),"",IF((C31+1)<=$C$6,(C31+1),"")) -> 44584 | D32: =IF(ISERROR(VLOOKUP(WEEKDAY($C32),$V$21:$W$27,2,0)),"",VLOOKUP(WEEKDAY($C32),$V$21:$W$27,2,0)) -> Dimanche | E32: =IF(OR(D32="Samedi",D32="Dimanche"),"",Données!$C$3) | F32: =IF(OR(D32="Samedi",D32="Dimanche"),"",Données!$D$3) | G32: =IF(OR(D32="Samedi",D32="Dimanche"),"",Données!$E$3) | H32: =IF(OR(D32="Samedi",D32="Dimanche"),"",Données!$F$3) | I32: =IFERROR(IF(OR(D32="samedi",D32="dimanche")*(F32-E32)+(H32-G32)=0,"",F32-E32+(H32-G32)),"") | K32: {=IF(OR(C32=$U$19:$U$31),"FERIE","")} | L32: =IF(D32="Dimanche",SUM(I26:I32),"") -> 1.5833333
B33: 4 | C33: =IF(ISERROR(IF((C32+1)<=$C$6,(C32+1),"")),"",IF((C32+1)<=$C$6,(C32+1),"")) -> 44585 | D33: =IF(ISERROR(VLOOKUP(WEEKDAY($C33),$V$21:$W$27,2,0)),"",VLOOKUP(WEEKDAY($C33),$V$21:$W$27,2,0)) -> Lundi | E33: =IF(OR(D33="Samedi",D33="Dimanche"),"",Données!$C$3) -> 0.35416667 | F33: =IF(OR(D33="Samedi",D33="Dimanche"),"",Données!$D$3) -> 0.5125 | G33: =IF(OR(D33="Samedi",D33="Dimanche"),"",Données!$E$3) -> 0.53680556 | H33: =IF(OR(D33="Samedi",D33="Dimanche"),"",Données!$F$3) -> 16:41 | I33: =IFERROR(IF(OR(D33="samedi",D33="dimanche")*(F33-E33)+(H33-G33)=0,"",F33-E33+(H33-G33)),"") -> 0.31666667 | K33: {=IF(OR(C33=$U$19:$U$31),"FERIE","")}
C34: =IF(ISERROR(IF((C33+1)<=$C$6,(C33+1),"")),"",IF((C33+1)<=$C$6,(C33+1),"")) -> 44586 | D34: =IF(ISERROR(VLOOKUP(WEEKDAY($C34),$V$21:$W$27,2,0)),"",VLOOKUP(WEEKDAY($C34),$V$21:$W$27,2,0)) -> Mardi | E34: =IF(OR(D34="Samedi",D34="Dimanche"),"",Données!$C$3) -> 0.35416667 | F34: =IF(OR(D34="Samedi",D34="Dimanche"),"",Données!$D$3) -> 0.5125 | G34: =IF(OR(D34="Samedi",D34="Dimanche"),"",Données!$E$3) -> 0.53680556 | H34: =IF(OR(D34="Samedi",D34="Dimanche"),"",Données!$F$3) -> 16:41 | I34: =IFERROR(IF(OR(D34="samedi",D34="dimanche")*(F34-E34)+(H34-G34)=0,"",F34-E34+(H34-G34)),"") -> 0.31666667 | K34: {=IF(OR(C34=$U$19:$U$31),"FERIE","")}
C35: =IF(ISERROR(IF((C34+1)<=$C$6,(C34+1),"")),"",IF((C34+1)<=$C$6,(C34+1),"")) -> 44587 | D35: =IF(ISERROR(VLOOKUP(WEEKDAY($C35),$V$21:$W$27,2,0)),"",VLOOKUP(WEEKDAY($C35),$V$21:$W$27,2,0)) -> Mercredi | E35: =IF(OR(D35="Samedi",D35="Dimanche"),"",Données!$C$3) -> 0.35416667 | F35: =IF(OR(D35="Samedi",D35="Dimanche"),"",Données!$D$3) -> 0.5125 | G35: =IF(OR(D35="Samedi",D35="Dimanche"),"",Données!$E$3) -> 0.53680556 | H35: =IF(OR(D35="Samedi",D35="Dimanche"),"",Données!$F$3) -> 16:41 | I35: =IFERROR(IF(OR(D35="samedi",D35="dimanche")*(F35-E35)+(H35-G35)=0,"",F35-E35+(H35-G35)),"") -> 0.31666667 | K35: {=IF(OR(C35=$U$19:$U$31),"FERIE","")}
C36: =IF(ISERROR(IF((C35+1)<=$C$6,(C35+1),"")),"",IF((C35+1)<=$C$6,(C35+1),"")) -> 44588 | D36: =IF(ISERROR(VLOOKUP(WEEKDAY($C36),$V$21:$W$27,2,0)),"",VLOOKUP(WEEKDAY($C36),$V$21:$W$27,2,0)) -> Jeudi | E36: =IF(OR(D36="Samedi",D36="Dimanche"),"",Données!$C$3) -> 0.35416667 | F36: =IF(OR(D36="Samedi",D36="Dimanche"),"",Données!$D$3) -> 0.5125 | G36: =IF(OR(D36="Samedi",D36="Dimanche"),"",Données!$E$3) -> 0.53680556 | H36: =IF(OR(D36="Samedi",D36="Dimanche"),"",Données!$F$3) -> 16:41 | I36: =IFERROR(IF(OR(D36="samedi",D36="dimanche")*(F36-E36)+(H36-G36)=0,"",F36-E36+(H36-G36)),"") -> 0.31666667 | K36: {=IF(OR(C36=$U$19:$U$31),"FERIE","")}
C37: =IF(ISERROR(IF((C36+1)<=$C$6,(C36+1),"")),"",IF((C36+1)<=$C$6,(C36+1),"")) -> 44589 | D37: =IF(ISERROR(VLOOKUP(WEEKDAY($C37),$V$21:$W$27,2,0)),"",VLOOKUP(WEEKDAY($C37),$V$21:$W$27,2,0)) -> Vendredi | E37: =IF(OR(D37="Samedi",D37="Dimanche"),"",Données!$C$3) -> 0.35416667 | F37: =IF(OR(D37="Samedi",D37="Dimanche"),"",Données!$D$3) -> 0.5125 | G37: =IF(OR(D37="Samedi",D37="Dimanche"),"",Données!$E$3) -> 0.53680556 | H37: =IF(OR(D37="Samedi",D37="Dimanche"),"",Données!$F$3) -> 16:41 | I37: =IFERROR(IF(OR(D37="samedi",D37="dimanche")*(F37-E37)+(H37-G37)=0,"",F37-E37+(H37-G37)),"") -> 0.31666667 | K37: {=IF(OR(C37=$U$19:$U$31),"FERIE","")}
C38: =IF(ISERROR(IF((C37+1)<=$C$6,(C37+1),"")),"",IF((C37+1)<=$C$6,(C37+1),"")) -> 44590 | D38: =IF(ISERROR(VLOOKUP(WEEKDAY($C38),$V$21:$W$27,2,0)),"",VLOOKUP(WEEKDAY($C38),$V$21:$W$27,2,0)) -> Samedi | E38: =IF(OR(D38="Samedi",D38="Dimanche"),"",Données!$C$3) | F38: =IF(OR(D38="Samedi",D38="Dimanche"),"",Données!$D$3) | G38: =IF(OR(D38="Samedi",D38="Dimanche"),"",Données!$E$3) | H38: =IF(OR(D38="Samedi",D38="Dimanche"),"",Données!$F$3) | I38: =IFERROR(IF(OR(D38="samedi",D38="dimanche")*(F38-E38)+(H38-G38)=0,"",F38-E38+(H38-G38)),"") | K38: {=IF(OR(C38=$U$19:$U$31),"FERIE","")}
C39: =IF(ISERROR(IF((C38+1)<=$C$6,(C38+1),"")),"",IF((C38+1)<=$C$6,(C38+1),"")) -> 44591 | D39: =IF(ISERROR(VLOOKUP(WEEKDAY($C39),$V$21:$W$27,2,0)),"",VLOOKUP(WEEKDAY($C39),$V$21:$W$27,2,0)) -> Dimanche | E39: =IF(OR(D39="Samedi",D39="Dimanche"),"",Données!$C$3) | F39: =IF(OR(D39="Samedi",D39="Dimanche"),"",Données!$D$3) | G39: =IF(OR(D39="Samedi",D39="Dimanche"),"",Données!$E$3) | H39: =IF(OR(D39="Samedi",D39="Dimanche"),"",Données!$F$3) | I39: =IFERROR(IF(OR(D39="samedi",D39="dimanche")*(F39-E39)+(H39-G39)=0,"",F39-E39+(H39-G39)),"") | K39: {=IF(OR(C39=$U$19:$U$31),"FERIE","")} | L39: =IF(D39="Dimanche",SUM(I33:I39),"") -> 1.5833333 | T39: {=IF(OR(K10=$U$19:$U$31),"ferie","")}
B40: 5 | C40: =IF(ISERROR(IF((C39+1)<=$C$6,(C39+1),"")),"",IF((C39+1)<=$C$6,(C39+1),"")) -> 44592 | D40: =IF(ISERROR(VLOOKUP(WEEKDAY($C40),$V$21:$W$27,2,0)),"",VLOOKUP(WEEKDAY($C40),$V$21:$W$27,2,0)) -> Lundi | E40: =IF(OR(D40="Samedi",D40="Dimanche"),"",Données!$C$3) -> 0.35416667 | F40: =IF(OR(D40="Samedi",D40="Dimanche"),"",Données!$D$3) -> 0.5125 | G40: =IF(OR(D40="Samedi",D40="Dimanche"),"",Données!$E$3) -> 0.53680556 | H40: =IF(OR(D40="Samedi",D40="Dimanche"),"",Données!$F$3) -> 16:41 | I40: =IFERROR(IF(OR(D40="samedi",D40="dimanche")*(F40-E40)+(H40-G40)=0,"",F40-E40+(H40-G40)),"") -> 0.31666667 | K40: {=IF(OR(C40=$U$19:$U$31),"FERIE","")} | T40: {=IF(OR(K12=U19:U31),"ferie","")}
A41: =VLOOKUP(MONTH($C41),$V$8:$W$19,2,0) -> FEVRIER | C41: =IF(ISERROR(IF((C40+1)<=$C$6,(C40+1),"")),"",IF((C40+1)<=$C$6,(C40+1),"")) -> 44593 | D41: =IF(ISERROR(VLOOKUP(WEEKDAY($C41),$V$21:$W$27,2,0)),"",VLOOKUP(WEEKDAY($C41),$V$21:$W$27,2,0)) -> Mardi | E41: =IF(OR(D41="Samedi",D41="Dimanche"),"",Données!$C$3) -> 0.35416667 | F41: =IF(OR(D41="Samedi",D41="Dimanche"),"",Données!$D$3) -> 0.5125 | G41: =IF(OR(D41="Samedi",D41="Dimanche"),"",Données!$E$3) -> 0.53680556 | H41: =IF(OR(D41="Samedi",D41="Dimanche"),"",Données!$F$3) -> 16:41 | I41: =IFERROR(IF(OR(D41="samedi",D41="dimanche")*(F41-E41)+(H41-G41)=0,"",F41-E41+(H41-G41)),"") -> 0.31666667 | K41: {=IF(OR(C41=$U$19:$U$31),"FERIE","")} | M41: =SUMIF(K41:K68,"HCR",J41:J68) -> 0 | N41: =SUMIF(K41:K68,"HPL",J41:J68) -> 0 | O41: =N41*24 -> 0 | R41: =O41-(P41+Q41) -> 0
C42: =IF(ISERROR(IF((C41+1)<=$C$6,(C41+1),"")),"",IF((C41+1)<=$C$6,(C41+1),"")) -> 44594 | D42: =IF(ISERROR(VLOOKUP(WEEKDAY($C42),$V$21:$W$27,2,0)),"",VLOOKUP(WEEKDAY($C42),$V$21:$W$27,2,0)) -> Mercredi | E42: 0.35416667 | F42: =IF(OR(D42="Samedi",D42="Dimanche"),"",Données!$D$3) -> 0.5125 | G42: =IF(OR(D42="Samedi",D42="Dimanche"),"",Données!$E$3) -> 0.53680556 | H42: =IF(OR(D42="Samedi",D42="Dimanche"),"",Données!$F$3) -> 16:41 | I42: =IFERROR(IF(OR(D42="samedi",D42="dimanche")*(F42-E42)+(H42-G42)=0,"",F42-E42+(H42-G42)),"") -> 0.31666667
C43: =IF(ISERROR(IF((C42+1)<=$C$6,(C42+1),"")),"",IF((C42+1)<=$C$6,(C42+1),"")) -> 44595 | D43: =IF(ISERROR(VLOOKUP(WEEKDAY($C43),$V$21:$W$27,2,0)),"",VLOOKUP(WEEKDAY($C43),$V$21:$W$27,2,0)) -> Jeudi | E43: =IF(OR(D43="Samedi",D43="Dimanche"),"",Données!$C$3) -> 0.35416667 | F43: =IF(OR(D43="Samedi",D43="Dimanche"),"",Données!$D$3) -> 0.5125 | G43: =IF(OR(D43="Samedi",D43="Dimanche"),"",Données!$E$3) -> 0.53680556 | H43: =IF(OR(D43="Samedi",D43="Dimanche"),"",Données!$F$3) -> 16:41 | I43: =IFERROR(IF(OR(D43="samedi",D43="dimanche")*(F43-E43)+(H43-G43)=0,"",F43-E43+(H43-G43)),"") -> 0.31666667 | K43: {=IF(OR(C43=$U$19:$U$31),"FERIE","")}
C44: =IF(ISERROR(IF((C43+1)<=$C$6,(C43+1),"")),"",IF((C43+1)<=$C$6,(C43+1),"")) -> 44596 | D44: =IF(ISERROR(VLOOKUP(WEEKDAY($C44),$V$21:$W$27,2,0)),"",VLOOKUP(WEEKDAY($C44),$V$21:$W$27,2,0)) -> Vendredi | E44: =IF(OR(D44="Samedi",D44="Dimanche"),"",Données!$C$3) -> 0.35416667 | F44: =IF(OR(D44="Samedi",D44="Dimanche"),"",Données!$D$3) -> 0.5125 | G44: =IF(OR(D44="Samedi",D44="Dimanche"),"",Données!$E$3) -> 0.53680556 | H44: =IF(OR(D44="Samedi",D44="Dimanche"),"",Données!$F$3) -> 16:41 | I44: =IFERROR(IF(OR(D44="samedi",D44="dimanche")*(F44-E44)+(H44-G44)=0,"",F44-E44+(H44-G44)),"") -> 0.31666667 | K44: {=IF(OR(C44=$U$19:$U$31),"FERIE","")}
C45: =IF(ISERROR(IF((C44+1)<=$C$6,(C44+1),"")),"",IF((C44+1)<=$C$6,(C44+1),"")) -> 44597 | D45: =IF(ISERROR(VLOOKUP(WEEKDAY($C45),$V$21:$W$27,2,0)),"",VLOOKUP(WEEKDAY($C45),$V$21:$W$27,2,0)) -> Samedi | E45: =IF(OR(D45="Samedi",D45="Dimanche"),"",Données!$C$3) | F45: =IF(OR(D45="Samedi",D45="Dimanche"),"",Données!$D$3) | G45: =IF(OR(D45="Samedi",D45="Dimanche"),"",Données!$E$3) | H45: =IF(OR(D45="Samedi",D45="Dimanche"),"",Données!$F$3) | I45: =IFERROR(IF(OR(D45="samedi",D45="dimanche")*(F45-E45)+(H45-G45)=0,"",F45-E45+(H45-G45)),"") | K45: {=IF(OR(C45=$U$19:$U$31),"FERIE","")}
C46: =IF(ISERROR(IF((C45+1)<=$C$6,(C45+1),"")),"",IF((C45+1)<=$C$6,(C45+1),"")) -> 44598 | D46: =IF(ISERROR(VLOOKUP(WEEKDAY($C46),$V$21:$W$27,2,0)),"",VLOOKUP(WEEKDAY($C46),$V$21:$W$27,2,0)) -> Dimanche | E46: =IF(OR(D46="Samedi",D46="Dimanche"),"",Données!$C$3) | F46: =IF(OR(D46="Samedi",D46="Dimanche"),"",Données!$D$3) | G46: =IF(OR(D46="Samedi",D46="Dimanche"),"",Données!$E$3) | H46: =IF(OR(D46="Samedi",D46="Dimanche"),"",Données!$F$3) | I46: =IFERROR(IF(OR(D46="samedi",D46="dimanche")*(F46-E46)+(H46-G46)=0,"",F46-E46+(H46-G46)),"") | K46: {=IF(OR(C46=$U$19:$U$31),"FERIE","")} | L46: =IF(D46="Dimanche",SUM(I40:I46),"") -> 1.5833333
B47: 6 | C47: =IF(ISERROR(IF((C46+1)<=$C$6,(C46+1),"")),"",IF((C46+1)<=$C$6,(C46+1),"")) -> 44599 | D47: =IF(ISERROR(VLOOKUP(WEEKDAY($C47),$V$21:$W$27,2,0)),"",VLOOKUP(WEEKDAY($C47),$V$21:$W$27,2,0)) -> Lundi | E47: =IF(OR(D47="Samedi",D47="Dimanche"),"",Données!$C$3) -> 0.35416667 | F47: =IF(OR(D47="Samedi",D47="Dimanche"),"",Données!$D$3) -> 0.5125 | G47: =IF(OR(D47="Samedi",D47="Dimanche"),"",Données!$E$3) -> 0.53680556 | H47: =IF(OR(D47="Samedi",D47="Dimanche"),"",Données!$F$3) -> 16:41 | I47: =IFERROR(IF(OR(D47="samedi",D47="dimanche")*(F47-E47)+(H47-G47)=0,"",F47-E47+(H47-G47)),"") -> 0.31666667 | K47: {=IF(OR(C47=$U$19:$U$31),"FERIE","")}
C48: =IF(ISERROR(IF((C47+1)<=$C$6,(C47+1),"")),"",IF((C47+1)<=$C$6,(C47+1),"")) -> 44600 | D48: =IF(ISERROR(VLOOKUP(WEEKDAY($C48),$V$21:$W$27,2,0)),"",VLOOKUP(WEEKDAY($C48),$V$21:$W$27,2,0)) -> Mardi | E48: =IF(OR(D48="Samedi",D48="Dimanche"),"",Données!$C$3) -> 0.35416667 | F48: =IF(OR(D48="Samedi",D48="Dimanche"),"",Données!$D$3) -> 0.5125 | G48: =IF(OR(D48="Samedi",D48="Dimanche"),"",Données!$E$3) -> 0.53680556 | H48: =IF(OR(D48="Samedi",D48="Dimanche"),"",Données!$F$3) -> 16:41 | I48: =IFERROR(IF(OR(D48="samedi",D48="dimanche")*(F48-E48)+(H48-G48)=0,"",F48-E48+(H48-G48)),"") -> 0.31666667 | K48: {=IF(OR(C48=$U$19:$U$31),"FERIE","")}
C49: =IF(ISERROR(IF((C48+1)<=$C$6,(C48+1),"")),"",IF((C48+1)<=$C$6,(C48+1),"")) -> 44601 | D49: =IF(ISERROR(VLOOKUP(WEEKDAY($C49),$V$21:$W$27,2,0)),"",VLOOKUP(WEEKDAY($C49),$V$21:$W$27,2,0)) -> Mercredi | E49: =IF(OR(D49="Samedi",D49="Dimanche"),"",Données!$C$3) -> 0.35416667 | F49: =IF(OR(D49="Samedi",D49="Dimanche"),"",Données!$D$3) -> 0.5125 | G49: =IF(OR(D49="Samedi",D49="Dimanche"),"",Données!$E$3) -> 0.53680556 | H49: =IF(OR(D49="Samedi",D49="Dimanche"),"",Données!$F$3) -> 16:41 | I49: =IFERROR(IF(OR(D49="samedi",D49="dimanche")*(F49-E49)+(H49-G49)=0,"",F49-E49+(H49-G49)),"") -> 0.31666667 | K49: {=IF(OR(C49=$U$19:$U$31),"FERIE","")}
C50: =IF(ISERROR(IF((C49+1)<=$C$6,(C49+1),"")),"",IF((C49+1)<=$C$6,(C49+1),"")) -> 44602 | D50: =IF(ISERROR(VLOOKUP(WEEKDAY($C50),$V$21:$W$27,2,0)),"",VLOOKUP(WEEKDAY($C50),$V$21:$W$27,2,0)) -> Jeudi | E50: =IF(OR(D50="Samedi",D50="Dimanche"),"",Données!$C$3) -> 0.35416667 | F50: =IF(OR(D50="Samedi",D50="Dimanche"),"",Données!$D$3) -> 0.5125 | G50: =IF(OR(D50="Samedi",D50="Dimanche"),"",Données!$E$3) -> 0.53680556 | H50: =IF(OR(D50="Samedi",D50="Dimanche"),"",Données!$F$3) -> 16:41 | I50: =IFERROR(IF(OR(D50="samedi",D50="dimanche")*(F50-E50)+(H50-G50)=0,"",F50-E50+(H50-G50)),"") -> 0.31666667 | K50: {=IF(OR(C50=$U$19:$U$31),"FERIE","")}
C51: =IF(ISERROR(IF((C50+1)<=$C$6,(C50+1),"")),"",IF((C50+1)<=$C$6,(C50+1),"")) -> 44603 | D51: =IF(ISERROR(VLOOKUP(WEEKDAY($C51),$V$21:$W$27,2,0)),"",VLOOKUP(WEEKDAY($C51),$V$21:$W$27,2,0)) -> Vendredi | E51: =IF(OR(D51="Samedi",D51="Dimanche"),"",Données!$C$3) -> 0.35416667 | F51: =IF(OR(D51="Samedi",D51="Dimanche"),"",Données!$D$3) -> 0.5125 | G51: =IF(OR(D51="Samedi",D51="Dimanche"),"",Données!$E$3) -> 0.53680556 | H51: =IF(OR(D51="Samedi",D51="Dimanche"),"",Données!$F$3) -> 16:41 | I51: =IFERROR(IF(OR(D51="samedi",D51="dimanche")*(F51-E51)+(H51-G51)=0,"",F51-E51+(H51-G51)),"") -> 0.31666667 | K51: {=IF(OR(C51=$U$19:$U$31),"FERIE","")}
C52: =IF(ISERROR(IF((C51+1)<=$C$6,(C51+1),"")),"",IF((C51+1)<=$C$6,(C51+1),"")) -> 44604 | D52: =IF(ISERROR(VLOOKUP(WEEKDAY($C52),$V$21:$W$27,2,0)),"",VLOOKUP(WEEKDAY($C52),$V$21:$W$27,2,0)) -> Samedi | E52: =IF(OR(D52="Samedi",D52="Dimanche"),"",Données!$C$3) | F52: =IF(OR(D52="Samedi",D52="Dimanche"),"",Données!$D$3) | G52: =IF(OR(D52="Samedi",D52="Dimanche"),"",Données!$E$3) | H52: =IF(OR(D52="Samedi",D52="Dimanche"),"",Données!$F$3) | I52: =IFERROR(IF(OR(D52="samedi",D52="dimanche")*(F52-E52)+(H52-G52)=0,"",F52-E52+(H52-G52)),"") | K52: {=IF(OR(C52=$U$19:$U$31),"FERIE","")}
C53: =IF(ISERROR(IF((C52+1)<=$C$6,(C52+1),"")),"",IF((C52+1)<=$C$6,(C52+1),"")) -> 44605 | D53: =IF(ISERROR(VLOOKUP(WEEKDAY($C53),$V$21:$W$27,2,0)),"",VLOOKUP(WEEKDAY($C53),$V$21:$W$27,2,0)) -> Dimanche | E53: =IF(OR(D53="Samedi",D53="Dimanche"),"",Données!$C$3) | F53: =IF(OR(D53="Samedi",D53="Dimanche"),"",Données!$D$3) | G53: =IF(OR(D53="Samedi",D53="Dimanche"),"",Données!$E$3) | H53: =IF(OR(D53="Samedi",D53="Dimanche"),"",Données!$F$3) | I53: =IFERROR(IF(OR(D53="samedi",D53="dimanche")*(F53-E53)+(H53-G53)=0,"",F53-E53+(H53-G53)),"") | K53: {=IF(OR(C53=$U$19:$U$31),"FERIE","")} | L53: =IF(D53="Dimanche",SUM(I47:I53),"") -> 1.5833333
B54: 7 | C54: =IF(ISERROR(IF((C53+1)<=$C$6,(C53+1),"")),"",IF((C53+1)<=$C$6,(C53+1),"")) -> 44606 | D54: =IF(ISERROR(VLOOKUP(WEEKDAY($C54),$V$21:$W$27,2,0)),"",VLOOKUP(WEEKDAY($C54),$V$21:$W$27,2,0)) -> Lundi | E54: =IF(OR(D54="Samedi",D54="Dimanche"),"",Données!$C$3) -> 0.35416667 | F54: =IF(OR(D54="Samedi",D54="Dimanche"),"",Données!$D$3) -> 0.5125 | G54: =IF(OR(D54="Samedi",D54="Dimanche"),"",Données!$E$3) -> 0.53680556 | H54: =IF(OR(D54="Samedi",D54="Dimanche"),"",Données!$F$3) -> 16:41 | I54: =IFERROR(IF(OR(D54="samedi",D54="dimanche")*(F54-E54)+(H54-G54)=0,"",F54-E54+(H54-G54)),"") -> 0.31666667 | K54: {=IF(OR(C54=$U$19:$U$31),"FERIE","")}
C55: =IF(ISERROR(IF((C54+1)<=$C$6,(C54+1),"")),"",IF((C54+1)<=$C$6,(C54+1),"")) -> 44607 | D55: =IF(ISERROR(VLOOKUP(WEEKDAY($C55),$V$21:$W$27,2,0)),"",VLOOKUP(WEEKDAY($C55),$V$21:$W$27,2,0)) -> Mardi | E55: =IF(OR(D55="Samedi",D55="Dimanche"),"",Données!$C$3) -> 0.35416667 | F55: =IF(OR(D55="Samedi",D55="Dimanche"),"",Données!$D$3) -> 0.5125 | G55: =IF(OR(D55="Samedi",D55="Dimanche"),"",Données!$E$3) -> 0.53680556 | H55: =IF(OR(D55="Samedi",D55="Dimanche"),"",Données!$F$3) -> 16:41 | I55: =IFERROR(IF(OR(D55="samedi",D55="dimanche")*(F55-E55)+(H55-G55)=0,"",F55-E55+(H55-G55)),"") -> 0.31666667 | K55: {=IF(OR(C55=$U$19:$U$31),"FERIE","")}
C56: =IF(ISERROR(IF((C55+1)<=$C$6,(C55+1),"")),"",IF((C55+1)<=$C$6,(C55+1),"")) -> 44608 | D56: =IF(ISERROR(VLOOKUP(WEEKDAY($C56),$V$21:$W$27,2,0)),"",VLOOKUP(WEEKDAY($C56),$V$21:$W$27,2,0)) -> Mercredi | E56: =IF(OR(D56="Samedi",D56="Dimanche"),"",Données!$C$3) -> 0.35416667 | F56: =IF(OR(D56="Samedi",D56="Dimanche"),"",Données!$D$3) -> 0.5125 | G56: =IF(OR(D56="Samedi",D56="Dimanche"),"",Données!$E$3) -> 0.53680556 | H56: =IF(OR(D56="Samedi",D56="Dimanche"),"",Données!$F$3) -> 16:41 | I56: =IFERROR(IF(OR(D56="samedi",D56="dimanche")*(F56-E56)+(H56-G56)=0,"",F56-E56+(H56-G56)),"") -> 0.31666667 | K56: {=IF(OR(C56=$U$19:$U$31),"FERIE","")}
C57: =IF(ISERROR(IF((C56+1)<=$C$6,(C56+1),"")),"",IF((C56+1)<=$C$6,(C56+1),"")) -> 44609 | D57: =IF(ISERROR(VLOOKUP(WEEKDAY($C57),$V$21:$W$27,2,0)),"",VLOOKUP(WEEKDAY($C57),$V$21:$W$27,2,0)) -> Jeudi | E57: =IF(OR(D57="Samedi",D57="Dimanche"),"",Données!$C$3) -> 0.35416667 | F57: =IF(OR(D57="Samedi",D57="Dimanche"),"",Données!$D$3) -> 0.5125 | G57: =IF(OR(D57="Samedi",D57="Dimanche"),"",Données!$E$3) -> 0.53680556 | H57: =IF(OR(D57="Samedi",D57="Dimanche"),"",Données!$F$3) -> 16:41 | I57: =IFERROR(IF(OR(D57="samedi",D57="dimanche")*(F57-E57)+(H57-G57)=0,"",F57-E57+(H57-G57)),"") -> 0.31666667 | K57: {=IF(OR(C57=$U$19:$U$31),"FERIE","")}
C58: =IF(ISERROR(IF((C57+1)<=$C$6,(C57+1),"")),"",IF((C57+1)<=$C$6,(C57+1),"")) -> 44610 | D58: =IF(ISERROR(VLOOKUP(WEEKDAY($C58),$V$21:$W$27,2,0)),"",VLOOKUP(WEEKDAY($C58),$V$21:$W$27,2,0)) -> Vendredi | E58: =IF(OR(D58="Samedi",D58="Dimanche"),"",Données!$C$3) -> 0.35416667 | F58: =IF(OR(D58="Samedi",D58="Dimanche"),"",Données!$D$3) -> 0.5125 | G58: =IF(OR(D58="Samedi",D58="Dimanche"),"",Données!$E$3) -> 0.53680556 | H58: =IF(OR(D58="Samedi",D58="Dimanche"),"",Données!$F$3) -> 16:41 | I58: =IFERROR(IF(OR(D58="samedi",D58="dimanche")*(F58-E58)+(H58-G58)=0,"",F58-E58+(H58-G58)),"") -> 0.31666667 | K58: {=IF(OR(C58=$U$19:$U$31),"FERIE","")}
C59: =IF(ISERROR(IF((C58+1)<=$C$6,(C58+1),"")),"",IF((C58+1)<=$C$6,(C58+1),"")) -> 44611 | D59: =IF(ISERROR(VLOOKUP(WEEKDAY($C59),$V$21:$W$27,2,0)),"",VLOOKUP(WEEKDAY($C59),$V$21:$W$27,2,0)) -> Samedi | E59: =IF(OR(D59="Samedi",D59="Dimanche"),"",Données!$C$3) | F59: =IF(OR(D59="Samedi",D59="Dimanche"),"",Données!$D$3) | G59: =IF(OR(D59="Samedi",D59="Dimanche"),"",Données!$E$3) | H59: =IF(OR(D59="Samedi",D59="Dimanche"),"",Données!$F$3) | I59: =IFERROR(IF(OR(D59="samedi",D59="dimanche")*(F59-E59)+(H59-G59)=0,"",F59-E59+(H59-G59)),"") | K59: {=IF(OR(C59=$U$19:$U$31),"FERIE","")}
C60: =IF(ISERROR(IF((C59+1)<=$C$6,(C59+1),"")),"",IF((C59+1)<=$C$6,(C59+1),"")) -> 44612 | D60: =IF(ISERROR(VLOOKUP(WEEKDAY($C60),$V$21:$W$27,2,0)),"",VLOOKUP(WEEKDAY($C60),$V$21:$W$27,2,0)) -> Dimanche | E60: =IF(OR(D60="Samedi",D60="Dimanche"),"",Données!$C$3) | F60: =IF(OR(D60="Samedi",D60="Dimanche"),"",Données!$D$3) | G60: =IF(OR(D60="Samedi",D60="Dimanche"),"",Données!$E$3) | H60: =IF(OR(D60="Samedi",D60="Dimanche"),"",Données!$F$3) | I60: =IFERROR(IF(OR(D60="samedi",D60="dimanche")*(F60-E60)+(H60-G60)=0,"",F60-E60+(H60-G60)),"") | K60: {=IF(OR(C60=$U$19:$U$31),"FERIE","")} | L60: =IF(D60="Dimanche",SUM(I54:I60),"") -> 1.5833333
B61: 8 | C61: =IF(ISERROR(IF((C60+1)<=$C$6,(C60+1),"")),"",IF((C60+1)<=$C$6,(C60+1),"")) -> 44613 | D61: =IF(ISERROR(VLOOKUP(WEEKDAY($C61),$V$21:$W$27,2,0)),"",VLOOKUP(WEEKDAY($C61),$V$21:$W$27,2,0)) -> Lundi | E61: =IF(OR(D61="Samedi",D61="Dimanche"),"",Données!$C$3) -> 0.35416667 | F61: =IF(OR(D61="Samedi",D61="Dimanche"),"",Données!$D$3) -> 0.5125 | G61: =IF(OR(D61="Samedi",D61="Dimanche"),"",Données!$E$3) -> 0.53680556 | H61: =IF(OR(D61="Samedi",D61="Dimanche"),"",Données!$F$3) -> 16:41 | I61: =IFERROR(IF(OR(D61="samedi",D61="dimanche")*(F61-E61)+(H61-G61)=0,"",F61-E61+(H61-G61)),"") -> 0.31666667 | K61: {=IF(OR(C61=$U$19:$U$31),"FERIE","")}
C62: =IF(ISERROR(IF((C61+1)<=$C$6,(C61+1),"")),"",IF((C61+1)<=$C$6,(C61+1),"")) -> 44614 | D62: =IF(ISERROR(VLOOKUP(WEEKDAY($C62),$V$21:$W$27,2,0)),"",VLOOKUP(WEEKDAY($C62),$V$21:$W$27,2,0)) -> Mardi | E62: =IF(OR(D62="Samedi",D62="Dimanche"),"",Données!$C$3) -> 0.35416667 | F62: =IF(OR(D62="Samedi",D62="Dimanche"),"",Données!$D$3) -> 0.5125 | G62: =IF(OR(D62="Samedi",D62="Dimanche"),"",Données!$E$3) -> 0.53680556 | H62: =IF(OR(D62="Samedi",D62="Dimanche"),"",Données!$F$3) -> 16:41 | I62: =IFERROR(IF(OR(D62="samedi",D62="dimanche")*(F62-E62)+(H62-G62)=0,"",F62-E62+(H62-G62)),"") -> 0.31666667 | K62: {=IF(OR(C62=$U$19:$U$31),"FERIE","")}
C63: =IF(ISERROR(IF((C62+1)<=$C$6,(C62+1),"")),"",IF((C62+1)<=$C$6,(C62+1),"")) -> 44615 | D63: =IF(ISERROR(VLOOKUP(WEEKDAY($C63),$V$21:$W$27,2,0)),"",VLOOKUP(WEEKDAY($C63),$V$21:$W$27,2,0)) -> Mercredi | E63: =IF(OR(D63="Samedi",D63="Dimanche"),"",Données!$C$3) -> 0.35416667 | F63: =IF(OR(D63="Samedi",D63="Dimanche"),"",Données!$D$3) -> 0.5125 | G63: =IF(OR(D63="Samedi",D63="Dimanche"),"",Données!$E$3) -> 0.53680556 | H63: =IF(OR(D63="Samedi",D63="Dimanche"),"",Données!$F$3) -> 16:41 | I63: =IFERROR(IF(OR(D63="samedi",D63="dimanche")*(F63-E63)+(H63-G63)=0,"",F63-E63+(H63-G63)),"") -> 0.31666667 | K63: {=IF(OR(C63=$U$19:$U$31),"FERIE","")}
C64: =IF(ISERROR(IF((C63+1)<=$C$6,(C63+1),"")),"",IF((C63+1)<=$C$6,(C63+1),"")) -> 44616 | D64: =IF(ISERROR(VLOOKUP(WEEKDAY($C64),$V$21:$W$27,2,0)),"",VLOOKUP(WEEKDAY($C64),$V$21:$W$27,2,0)) -> Jeudi | E64: =IF(OR(D64="Samedi",D64="Dimanche"),"",Données!$C$3) -> 0.35416667 | F64: =IF(OR(D64="Samedi",D64="Dimanche"),"",Données!$D$3) -> 0.5125 | G64: =IF(OR(D64="Samedi",D64="Dimanche"),"",Données!$E$3) -> 0.53680556 | H64: =IF(OR(D64="Samedi",D64="Dimanche"),"",Données!$F$3) -> 16:41 | I64: =IFERROR(IF(OR(D64="samedi",D64="dimanche")*(F64-E64)+(H64-G64)=0,"",F64-E64+(H64-G64)),"") -> 0.31666667 | K64: {=IF(OR(C64=$U$19:$U$31),"FERIE","")}
C65: =IF(ISERROR(IF((C64+1)<=$C$6,(C64+1),"")),"",IF((C64+1)<=$C$6,(C64+1),"")) -> 44617 | D65: =IF(ISERROR(VLOOKUP(WEEKDAY($C65),$V$21:$W$27,2,0)),"",VLOOKUP(WEEKDAY($C65),$V$21:$W$27,2,0)) -> Vendredi | E65: =IF(OR(D65="Samedi",D65="Dimanche"),"",Données!$C$3) -> 0.35416667 | F65: =IF(OR(D65="Samedi",D65="Dimanche"),"",Données!$D$3) -> 0.5125 | G65: =IF(OR(D65="Samedi",D65="Dimanche"),"",Données!$E$3) -> 0.53680556 | H65: =IF(OR(D65="Samedi",D65="Dimanche"),"",Données!$F$3) -> 16:41 | I65: =IFERROR(IF(OR(D65="samedi",D65="dimanche")*(F65-E65)+(H65-G65)=0,"",F65-E65+(H65-G65)),"") -> 0.31666667 | K65: {=IF(OR(C65=$U$19:$U$31),"FERIE","")}
C66: =IF(ISERROR(IF((C65+1)<=$C$6,(C65+1),"")),"",IF((C65+1)<=$C$6,(C65+1),"")) -> 44618 | D66: =IF(ISERROR(VLOOKUP(WEEKDAY($C66),$V$21:$W$27,2,0)),"",VLOOKUP(WEEKDAY($C66),$V$21:$W$27,2,0)) -> Samedi | E66: =IF(OR(D66="Samedi",D66="Dimanche"),"",Données!$C$3) | F66: =IF(OR(D66="Samedi",D66="Dimanche"),"",Données!$D$3) | G66: =IF(OR(D66="Samedi",D66="Dimanche"),"",Données!$E$3) | H66: =IF(OR(D66="Samedi",D66="Dimanche"),"",Données!$F$3) | I66: =IFERROR(IF(OR(D66="samedi",D66="dimanche")*(F66-E66)+(H66-G66)=0,"",F66-E66+(H66-G66)),"") | K66: {=IF(OR(C66=$U$19:$U$31),"FERIE","")}
C67: =IF(ISERROR(IF((C66+1)<=$C$6,(C66+1),"")),"",IF((C66+1)<=$C$6,(C66+1),"")) -> 44619 | D67: =IF(ISERROR(VLOOKUP(WEEKDAY($C67),$V$21:$W$27,2,0)),"",VLOOKUP(WEEKDAY($C67),$V$21:$W$27,2,0)) -> Dimanche | E67: =IF(OR(D67="Samedi",D67="Dimanche"),"",Données!$C$3) | F67: =IF(OR(D67="Samedi",D67="Dimanche"),"",Données!$D$3) | G67: =IF(OR(D67="Samedi",D67="Dimanche"),"",Données!$E$3) | H67: =IF(OR(D67="Samedi",D67="Dimanche"),"",Données!$F$3) | I67: =IFERROR(IF(OR(D67="samedi",D67="dimanche")*(F67-E67)+(H67-G67)=0,"",F67-E67+(H67-G67)),"") | K67: {=IF(OR(C67=$U$19:$U$31),"FERIE","")} | L67: =IF(D67="Dimanche",SUM(I61:I67),"") -> 1.5833333
B68: 9 | C68: =IF(ISERROR(IF((C67+1)<=$C$6,(C67+1),"")),"",IF((C67+1)<=$C$6,(C67+1),"")) -> 44620 | D68: =IF(ISERROR(VLOOKUP(WEEKDAY($C68),$V$21:$W$27,2,0)),"",VLOOKUP(WEEKDAY($C68),$V$21:$W$27,2,0)) -> Lundi | E68: =IF(OR(D68="Samedi",D68="Dimanche"),"",Données!$C$3) -> 0.35416667 | F68: =IF(OR(D68="Samedi",D68="Dimanche"),"",Données!$D$3) -> 0.5125 | G68: =IF(OR(D68="Samedi",D68="Dimanche"),"",Données!$E$3) -> 0.53680556 | H68: =IF(OR(D68="Samedi",D68="Dimanche"),"",Données!$F$3) -> 16:41 | I68: =IFERROR(IF(OR(D68="samedi",D68="dimanche")*(F68-E68)+(H68-G68)=0,"",F68-E68+(H68-G68)),"") -> 0.31666667 | K68: {=IF(OR(C68=$U$19:$U$31),"FERIE","")}
A69: =VLOOKUP(MONTH($C69),$V$8:$W$19,2,0) -> MARS | C69: =IF(ISERROR(IF((C68+1)<=$C$6,(C68+1),"")),"",IF((C68+1)<=$C$6,(C68+1),"")) -> 44621 | D69: =IF(ISERROR(VLOOKUP(WEEKDAY($C69),$V$21:$W$27,2,0)),"",VLOOKUP(WEEKDAY($C69),$V$21:$W$27,2,0)) -> Mardi | E69: =IF(OR(D69="Samedi",D69="Dimanche"),"",Données!$C$3) -> 0.35416667 | F69: =IF(OR(D69="Samedi",D69="Dimanche"),"",Données!$D$3) -> 0.5125 | G69: =IF(OR(D69="Samedi",D69="Dimanche"),"",Données!$E$3) -> 0.53680556 | H69: =IF(OR(D69="Samedi",D69="Dimanche"),"",Données!$F$3) -> 16:41 | I69: =IFERROR(IF(OR(D69="samedi",D69="dimanche")*(F69-E69)+(H69-G69)=0,"",F69-E69+(H69-G69)),"") -> 0.31666667 | K69: {=IF(OR(C69=$U$19:$U$31),"FERIE","")} | M69: =SUMIF(K69:K99,"HCR",J69:J99) -> 0 | N69: =SUMIF(K69:K99,"HPL",J69:J99) -> 0 | O69: =N69*24 -> 0 | R69: =O69-(P69+Q69) -> 0
C70: =IF(ISERROR(IF((C69+1)<=$C$6,(C69+1),"")),"",IF((C69+1)<=$C$6,(C69+1),"")) -> 44622 | D70: =IF(ISERROR(VLOOKUP(WEEKDAY($C70),$V$21:$W$27,2,0)),"",VLOOKUP(WEEKDAY($C70),$V$21:$W$27,2,0)) -> Mercredi | E70: =IF(OR(D70="Samedi",D70="Dimanche"),"",Données!$C$3) -> 0.35416667 | F70: =IF(OR(D70="Samedi",D70="Dimanche"),"",Données!$D$3) -> 0.5125 | G70: =IF(OR(D70="Samedi",D70="Dimanche"),"",Données!$E$3) -> 0.53680556 | H70: =IF(OR(D70="Samedi",D70="Dimanche"),"",Données!$F$3) -> 16:41 | I70: =IFERROR(IF(OR(D70="samedi",D70="dimanche")*(F70-E70)+(H70-G70)=0,"",F70-E70+(H70-G70)),"") -> 0.31666667 | K70: {=IF(OR(C70=$U$19:$U$31),"FERIE","")}
C71: =IF(ISERROR(IF((C70+1)<=$C$6,(C70+1),"")),"",IF((C70+1)<=$C$6,(C70+1),"")) -> 44623 | D71: =IF(ISERROR(VLOOKUP(WEEKDAY($C71),$V$21:$W$27,2,0)),"",VLOOKUP(WEEKDAY($C71),$V$21:$W$27,2,0)) -> Jeudi | E71: =IF(OR(D71="Samedi",D71="Dimanche"),"",Données!$C$3) -> 0.35416667 | F71: =IF(OR(D71="Samedi",D71="Dimanche"),"",Données!$D$3) -> 0.5125 | G71: =IF(OR(D71="Samedi",D71="Dimanche"),"",Données!$E$3) -> 0.53680556 | H71: =IF(OR(D71="Samedi",D71="Dimanche"),"",Données!$F$3) -> 16:41 | I71: =IFERROR(IF(OR(D71="samedi",D71="dimanche")*(F71-E71)+(H71-G71)=0,"",F71-E71+(H71-G71)),"") -> 0.31666667 | K71: {=IF(OR(C71=$U$19:$U$31),"FERIE","")}
C72: =IF(ISERROR(IF((C71+1)<=$C$6,(C71+1),"")),"",IF((C71+1)<=$C$6,(C71+1),"")) -> 44624 | D72: =IF(ISERROR(VLOOKUP(WEEKDAY($C72),$V$21:$W$27,2,0)),"",VLOOKUP(WEEKDAY($C72),$V$21:$W$27,2,0)) -> Vendredi | E72: =IF(OR(D72="Samedi",D72="Dimanche"),"",Données!$C$3) -> 0.35416667 | F72: =IF(OR(D72="Samedi",D72="Dimanche"),"",Données!$D$3) -> 0.5125 | G72: =IF(OR(D72="Samedi",D72="Dimanche"),"",Données!$E$3) -> 0.53680556 | H72: =IF(OR(D72="Samedi",D72="Dimanche"),"",Données!$F$3) -> 16:41 | I72: =IFERROR(IF(OR(D72="samedi",D72="dimanche")*(F72-E72)+(H72-G72)=0,"",F72-E72+(H72-G72)),"") -> 0.31666667 | K72: {=IF(OR(C72=$U$19:$U$31),"FERIE","")}
C73: =IF(ISERROR(IF((C72+1)<=$C$6,(C72+1),"")),"",IF((C72+1)<=$C$6,(C72+1),"")) -> 44625 | D73: =IF(ISERROR(VLOOKUP(WEEKDAY($C73),$V$21:$W$27,2,0)),"",VLOOKUP(WEEKDAY($C73),$V$21:$W$27,2,0)) -> Samedi | E73: =IF(OR(D73="Samedi",D73="Dimanche"),"",Données!$C$3) | F73: =IF(OR(D73="Samedi",D73="Dimanche"),"",Données!$D$3) | G73: =IF(OR(D73="Samedi",D73="Dimanche"),"",Données!$E$3) | H73: =IF(OR(D73="Samedi",D73="Dimanche"),"",Données!$F$3) | I73: =IFERROR(IF(OR(D73="samedi",D73="dimanche")*(F73-E73)+(H73-G73)=0,"",F73-E73+(H73-G73)),"") | K73: {=IF(OR(C73=$U$19:$U$31),"FERIE","")}
C74: =IF(ISERROR(IF((C73+1)<=$C$6,(C73+1),"")),"",IF((C73+1)<=$C$6,(C73+1),"")) -> 44626 | D74: =IF(ISERROR(VLOOKUP(WEEKDAY($C74),$V$21:$W$27,2,0)),"",VLOOKUP(WEEKDAY($C74),$V$21:$W$27,2,0)) -> Dimanche | E74: =IF(OR(D74="Samedi",D74="Dimanche"),"",Données!$C$3) | F74: =IF(OR(D74="Samedi",D74="Dimanche"),"",Données!$D$3) | G74: =IF(OR(D74="Samedi",D74="Dimanche"),"",Données!$E$3) | H74: =IF(OR(D74="Samedi",D74="Dimanche"),"",Données!$F$3) | I74: =IFERROR(IF(OR(D74="samedi",D74="dimanche")*(F74-E74)+(H74-G74)=0,"",F74-E74+(H74-G74)),"") | K74: {=IF(OR(C74=$U$19:$U$31),"FERIE","")} | L74: =IF(D74="Dimanche",SUM(I68:I74),"") -> 1.5833333
B75: 10 | C75: =IF(ISERROR(IF((C74+1)<=$C$6,(C74+1),"")),"",IF((C74+1)<=$C$6,(C74+1),"")) -> 44627 | D75: =IF(ISERROR(VLOOKUP(WEEKDAY($C75),$V$21:$W$27,2,0)),"",VLOOKUP(WEEKDAY($C75),$V$21:$W$27,2,0)) -> Lundi | E75: =IF(OR(D75="Samedi",D75="Dimanche"),"",Données!$C$3) -> 0.35416667 | F75: =IF(OR(D75="Samedi",D75="Dimanche"),"",Données!$D$3) -> 0.5125 | G75: =IF(OR(D75="Samedi",D75="Dimanche"),"",Données!$E$3) -> 0.53680556 | H75: =IF(OR(D75="Samedi",D75="Dimanche"),"",Données!$F$3) -> 16:41 | I75: =IFERROR(IF(OR(D75="samedi",D75="dimanche")*(F75-E75)+(H75-G75)=0,"",F75-E75+(H75-G75)),"") -> 0.31666667 | K75: {=IF(OR(C75=$U$19:$U$31),"FERIE","")}
C76: =IF(ISERROR(IF((C75+1)<=$C$6,(C75+1),"")),"",IF((C75+1)<=$C$6,(C75+1),"")) -> 44628 | D76: =IF(ISERROR(VLOOKUP(WEEKDAY($C76),$V$21:$W$27,2,0)),"",VLOOKUP(WEEKDAY($C76),$V$21:$W$27,2,0)) -> Mardi | E76: =IF(OR(D76="Samedi",D76="Dimanche"),"",Données!$C$3) -> 0.35416667 | F76: =IF(OR(D76="Samedi",D76="Dimanche"),"",Données!$D$3) -> 0.5125 | G76: =IF(OR(D76="Samedi",D76="Dimanche"),"",Données!$E$3) -> 0.53680556 | H76: =IF(OR(D76="Samedi",D76="Dimanche"),"",Données!$F$3) -> 16:41 | I76: =IFERROR(IF(OR(D76="samedi",D76="dimanche")*(F76-E76)+(H76-G76)=0,"",F76-E76+(H76-G76)),"") -> 0.31666667 | K76: {=IF(OR(C76=$U$19:$U$31),"FERIE","")}
C77: =IF(ISERROR(IF((C76+1)<=$C$6,(C76+1),"")),"",IF((C76+1)<=$C$6,(C76+1),"")) -> 44629 | D77: =IF(ISERROR(VLOOKUP(WEEKDAY($C77),$V$21:$W$27,2,0)),"",VLOOKUP(WEEKDAY($C77),$V$21:$W$27,2,0)) -> Mercredi | E77: =IF(OR(D77="Samedi",D77="Dimanche"),"",Données!$C$3) -> 0.35416667 | F77: =IF(OR(D77="Samedi",D77="Dimanche"),"",Données!$D$3) -> 0.5125 | G77: =IF(OR(D77="Samedi",D77="Dimanche"),"",Données!$E$3) -> 0.53680556 | H77: =IF(OR(D77="Samedi",D77="Dimanche"),"",Données!$F$3) -> 16:41 | I77: =IFERROR(IF(OR(D77="samedi",D77="dimanche")*(F77-E77)+(H77-G77)=0,"",F77-E77+(H77-G77)),"") -> 0.31666667 | K77: {=IF(OR(C77=$U$19:$U$31),"FERIE","")}
C78: =IF(ISERROR(IF((C77+1)<=$C$6,(C77+1),"")),"",IF((C77+1)<=$C$6,(C77+1),"")) -> 44630 | D78: =IF(ISERROR(VLOOKUP(WEEKDAY($C78),$V$21:$W$27,2,0)),"",VLOOKUP(WEEKDAY($C78),$V$21:$W$27,2,0)) -> Jeudi | E78: =IF(OR(D78="Samedi",D78="Dimanche"),"",Données!$C$3) -> 0.35416667 | F78: =IF(OR(D78="Samedi",D78="Dimanche"),"",Données!$D$3) -> 0.5125 | G78: =IF(OR(D78="Samedi",D78="Dimanche"),"",Données!$E$3) -> 0.53680556 | H78: =IF(OR(D78="Samedi",D78="Dimanche"),"",Données!$F$3) -> 16:41 | I78: =IFERROR(IF(OR(D78="samedi",D78="dimanche")*(F78-E78)+(H78-G78)=0,"",F78-E78+(H78-G78)),"") -> 0.31666667 | K78: {=IF(OR(C78=$U$19:$U$31),"FERIE","")}
C79: =IF(ISERROR(IF((C78+1)<=$C$6,(C78+1),"")),"",IF((C78+1)<=$C$6,(C78+1),"")) -> 44631 | D79: =IF(ISERROR(VLOOKUP(WEEKDAY($C79),$V$21:$W$27,2,0)),"",VLOOKUP(WEEKDAY($C79),$V$21:$W$27,2,0)) -> Vendredi | E79: =IF(OR(D79="Samedi",D79="Dimanche"),"",Données!$C$3) -> 0.35416667 | F79: =IF(OR(D79="Samedi",D79="Dimanche"),"",Données!$D$3) -> 0.5125 | G79: =IF(OR(D79="Samedi",D79="Dimanche"),"",Données!$E$3) -> 0.53680556 | H79: =IF(OR(D79="Samedi",D79="Dimanche"),"",Données!$F$3) -> 16:41 | I79: =IFERROR(IF(OR(D79="samedi",D79="dimanche")*(F79-E79)+(H79-G79)=0,"",F79-E79+(H79-G79)),"") -> 0.31666667 | K79: {=IF(OR(C79=$U$19:$U$31),"FERIE","")}
C80: =IF(ISERROR(IF((C79+1)<=$C$6,(C79+1),"")),"",IF((C79+1)<=$C$6,(C79+1),"")) -> 44632 | D80: =IF(ISERROR(VLOOKUP(WEEKDAY($C80),$V$21:$W$27,2,0)),"",VLOOKUP(WEEKDAY($C80),$V$21:$W$27,2,0)) -> Samedi | E80: =IF(OR(D80="Samedi",D80="Dimanche"),"",Données!$C$3) | F80: =IF(OR(D80="Samedi",D80="Dimanche"),"",Données!$D$3) | G80: =IF(OR(D80="Samedi",D80="Dimanche"),"",Données!$E$3) | H80: =IF(OR(D80="Samedi",D80="Dimanche"),"",Données!$F$3) | I80: =IFERROR(IF(OR(D80="samedi",D80="dimanche")*(F80-E80)+(H80-G80)=0,"",F80-E80+(H80-G80)),"") | K80: {=IF(OR(C80=$U$19:$U$31),"FERIE","")}
C81: =IF(ISERROR(IF((C80+1)<=$C$6,(C80+1),"")),"",IF((C80+1)<=$C$6,(C80+1),"")) -> 44633 | D81: =IF(ISERROR(VLOOKUP(WEEKDAY($C81),$V$21:$W$27,2,0)),"",VLOOKUP(WEEKDAY($C81),$V$21:$W$27,2,0)) -> Dimanche | E81: =IF(OR(D81="Samedi",D81="Dimanche"),"",Données!$C$3) | F81: =IF(OR(D81="Samedi",D81="Dimanche"),"",Données!$D$3) | G81: =IF(OR(D81="Samedi",D81="Dimanche"),"",Données!$E$3) | H81: =IF(OR(D81="Samedi",D81="Dimanche"),"",Données!$F$3) | I81: =IFERROR(IF(OR(D81="samedi",D81="dimanche")*(F81-E81)+(H81-G81)=0,"",F81-E81+(H81-G81)),"") | K81: {=IF(OR(C81=$U$19:$U$31),"FERIE","")} | L81: =IF(D81="Dimanche",SUM(I75:I81),"") -> 1.5833333
B82: 11 | C82: =IF(ISERROR(IF((C81+1)<=$C$6,(C81+1),"")),"",IF((C81+1)<=$C$6,(C81+1),"")) -> 44634 | D82: =IF(ISERROR(VLOOKUP(WEEKDAY($C82),$V$21:$W$27,2,0)),"",VLOOKUP(WEEKDAY($C82),$V$21:$W$27,2,0)) -> Lundi | E82: =IF(OR(D82="Samedi",D82="Dimanche"),"",Données!$C$3) -> 0.35416667 | F82: =IF(OR(D82="Samedi",D82="Dimanche"),"",Données!$D$3) -> 0.5125 | G82: =IF(OR(D82="Samedi",D82="Dimanche"),"",Données!$E$3) -> 0.53680556 | H82: =IF(OR(D82="Samedi",D82="Dimanche"),"",Données!$F$3) -> 16:41 | I82: =IFERROR(IF(OR(D82="samedi",D82="dimanche")*(F82-E82)+(H82-G82)=0,"",F82-E82+(H82-G82)),"") -> 0.31666667 | K82: {=IF(OR(C82=$U$19:$U$31),"FERIE","")}
C83: =IF(ISERROR(IF((C82+1)<=$C$6,(C82+1),"")),"",IF((C82+1)<=$C$6,(C82+1),"")) -> 44635 | D83: =IF(ISERROR(VLOOKUP(WEEKDAY($C83),$V$21:$W$27,2,0)),"",VLOOKUP(WEEKDAY($C83),$V$21:$W$27,2,0)) -> Mardi | E83: =IF(OR(D83="Samedi",D83="Dimanche"),"",Données!$C$3) -> 0.35416667 | F83: =IF(OR(D83="Samedi",D83="Dimanche"),"",Données!$D$3) -> 0.5125 | G83: =IF(OR(D83="Samedi",D83="Dimanche"),"",Données!$E$3) -> 0.53680556 | H83: =IF(OR(D83="Samedi",D83="Dimanche"),"",Données!$F$3) -> 16:41 | I83: =IFERROR(IF(OR(D83="samedi",D83="dimanche")*(F83-E83)+(H83-G83)=0,"",F83-E83+(H83-G83)),"") -> 0.31666667 | K83: {=IF(OR(C83=$U$19:$U$31),"FERIE","")}
C84: =IF(ISERROR(IF((C83+1)<=$C$6,(C83+1),"")),"",IF((C83+1)<=$C$6,(C83+1),"")) -> 44636 | D84: =IF(ISERROR(VLOOKUP(WEEKDAY($C84),$V$21:$W$27,2,0)),"",VLOOKUP(WEEKDAY($C84),$V$21:$W$27,2,0)) -> Mercredi | E84: =IF(OR(D84="Samedi",D84="Dimanche"),"",Données!$C$3) -> 0.35416667 | F84: =IF(OR(D84="Samedi",D84="Dimanche"),"",Données!$D$3) -> 0.5125 | G84: =IF(OR(D84="Samedi",D84="Dimanche"),"",Données!$E$3) -> 0.53680556 | H84: =IF(OR(D84="Samedi",D84="Dimanche"),"",Données!$F$3) -> 16:41 | I84: =IFERROR(IF(OR(D84="samedi",D84="dimanche")*(F84-E84)+(H84-G84)=0,"",F84-E84+(H84-G84)),"") -> 0.31666667 | K84: {=IF(OR(C84=$U$19:$U$31),"FERIE","")}
C85: =IF(ISERROR(IF((C84+1)<=$C$6,(C84+1),"")),"",IF((C84+1)<=$C$6,(C84+1),"")) -> 44637 | D85: =IF(ISERROR(VLOOKUP(WEEKDAY($C85),$V$21:$W$27,2,0)),"",VLOOKUP(WEEKDAY($C85),$V$21:$W$27,2,0)) -> Jeudi | E85: =IF(OR(D85="Samedi",D85="Dimanche"),"",Données!$C$3) -> 0.35416667 | F85: =IF(OR(D85="Samedi",D85="Dimanche"),"",Données!$D$3) -> 0.5125 | G85: =IF(OR(D85="Samedi",D85="Dimanche"),"",Données!$E$3) -> 0.53680556 | H85: =IF(OR(D85="Samedi",D85="Dimanche"),"",Données!$F$3) -> 16:41 | I85: =IFERROR(IF(OR(D85="samedi",D85="dimanche")*(F85-E85)+(H85-G85)=0,"",F85-E85+(H85-G85)),"") -> 0.31666667 | K85: {=IF(OR(C85=$U$19:$U$31),"FERIE","")}
C86: =IF(ISERROR(IF((C85+1)<=$C$6,(C85+1),"")),"",IF((C85+1)<=$C$6,(C85+1),"")) -> 44638 | D86: =IF(ISERROR(VLOOKUP(WEEKDAY($C86),$V$21:$W$27,2,0)),"",VLOOKUP(WEEKDAY($C86),$V$21:$W$27,2,0)) -> Vendredi | E86: =IF(OR(D86="Samedi",D86="Dimanche"),"",Données!$C$3) -> 0.35416667 | F86: =IF(OR(D86="Samedi",D86="Dimanche"),"",Données!$D$3) -> 0.5125 | G86: =IF(OR(D86="Samedi",D86="Dimanche"),"",Données!$E$3) -> 0.53680556 | H86: =IF(OR(D86="Samedi",D86="Dimanche"),"",Données!$F$3) -> 16:41 | I86: =IFERROR(IF(OR(D86="samedi",D86="dimanche")*(F86-E86)+(H86-G86)=0,"",F86-E86+(H86-G86)),"") -> 0.31666667 | K86: {=IF(OR(C86=$U$19:$U$31),"FERIE","")}
C87: =IF(ISERROR(IF((C86+1)<=$C$6,(C86+1),"")),"",IF((C86+1)<=$C$6,(C86+1),"")) -> 44639 | D87: =IF(ISERROR(VLOOKUP(WEEKDAY($C87),$V$21:$W$27,2,0)),"",VLOOKUP(WEEKDAY($C87),$V$21:$W$27,2,0)) -> Samedi | E87: =IF(OR(D87="Samedi",D87="Dimanche"),"",Données!$C$3) | F87: =IF(OR(D87="Samedi",D87="Dimanche"),"",Données!$D$3) | G87: =IF(OR(D87="Samedi",D87="Dimanche"),"",Données!$E$3) | H87: =IF(OR(D87="Samedi",D87="Dimanche"),"",Données!$F$3) | I87: =IFERROR(IF(OR(D87="samedi",D87="dimanche")*(F87-E87)+(H87-G87)=0,"",F87-E87+(H87-G87)),"") | K87: {=IF(OR(C87=$U$19:$U$31),"FERIE","")}
C88: =IF(ISERROR(IF((C87+1)<=$C$6,(C87+1),"")),"",IF((C87+1)<=$C$6,(C87+1),"")) -> 44640 | D88: =IF(ISERROR(VLOOKUP(WEEKDAY($C88),$V$21:$W$27,2,0)),"",VLOOKUP(WEEKDAY($C88),$V$21:$W$27,2,0)) -> Dimanche | E88: =IF(OR(D88="Samedi",D88="Dimanche"),"",Données!$C$3) | F88: =IF(OR(D88="Samedi",D88="Dimanche"),"",Données!$D$3) | G88: =IF(OR(D88="Samedi",D88="Dimanche"),"",Données!$E$3) | H88: =IF(OR(D88="Samedi",D88="Dimanche"),"",Données!$F$3) | I88: =IFERROR(IF(OR(D88="samedi",D88="dimanche")*(F88-E88)+(H88-G88)=0,"",F88-E88+(H88-G88)),"") | K88: {=IF(OR(C88=$U$19:$U$31),"FERIE","")} | L88: =IF(D88="Dimanche",SUM(I82:I88),"") -> 1.5833333
B89: 12 | C89: =IF(ISERROR(IF((C88+1)<=$C$6,(C88+1),"")),"",IF((C88+1)<=$C$6,(C88+1),"")) -> 44641 | D89: =IF(ISERROR(VLOOKUP(WEEKDAY($C89),$V$21:$W$27,2,0)),"",VLOOKUP(WEEKDAY($C89),$V$21:$W$27,2,0)) -> Lundi | E89: =IF(OR(D89="Samedi",D89="Dimanche"),"",Données!$C$3) -> 0.35416667 | F89: =IF(OR(D89="Samedi",D89="Dimanche"),"",Données!$D$3) -> 0.5125 | G89: =IF(OR(D89="Samedi",D89="Dimanche"),"",Données!$E$3) -> 0.53680556 | H89: =IF(OR(D89="Samedi",D89="Dimanche"),"",Données!$F$3) -> 16:41 | I89: =IFERROR(IF(OR(D89="samedi",D89="dimanche")*(F89-E89)+(H89-G89)=0,"",F89-E89+(H89-G89)),"") -> 0.31666667 | K89: {=IF(OR(C89=$U$19:$U$31),"FERIE","")}
C90: =IF(ISERROR(IF((C89+1)<=$C$6,(C89+1),"")),"",IF((C89+1)<=$C$6,(C89+1),"")) -> 44642 | D90: =IF(ISERROR(VLOOKUP(WEEKDAY($C90),$V$21:$W$27,2,0)),"",VLOOKUP(WEEKDAY($C90),$V$21:$W$27,2,0)) -> Mardi | E90: =IF(OR(D90="Samedi",D90="Dimanche"),"",Données!$C$3) -> 0.35416667 | F90: =IF(OR(D90="Samedi",D90="Dimanche"),"",Données!$D$3) -> 0.5125 | G90: =IF(OR(D90="Samedi",D90="Dimanche"),"",Données!$E$3) -> 0.53680556 | H90: =IF(OR(D90="Samedi",D90="Dimanche"),"",Données!$F$3) -> 16:41 | I90: =IFERROR(IF(OR(D90="samedi",D90="dimanche")*(F90-E90)+(H90-G90)=0,"",F90-E90+(H90-G90)),"") -> 0.31666667 | K90: {=IF(OR(C90=$U$19:$U$31),"FERIE","")}
C91: =IF(ISERROR(IF((C90+1)<=$C$6,(C90+1),"")),"",IF((C90+1)<=$C$6,(C90+1),"")) -> 44643 | D91: =IF(ISERROR(VLOOKUP(WEEKDAY($C91),$V$21:$W$27,2,0)),"",VLOOKUP(WEEKDAY($C91),$V$21:$W$27,2,0)) -> Mercredi | E91: =IF(OR(D91="Samedi",D91="Dimanche"),"",Données!$C$3) -> 0.35416667 | F91: =IF(OR(D91="Samedi",D91="Dimanche"),"",Données!$D$3) -> 0.5125 | G91: =IF(OR(D91="Samedi",D91="Dimanche"),"",Données!$E$3) -> 0.53680556 | H91: =IF(OR(D91="Samedi",D91="Dimanche"),"",Données!$F$3) -> 16:41 | I91: =IFERROR(IF(OR(D91="samedi",D91="dimanche")*(F91-E91)+(H91-G91)=0,"",F91-E91+(H91-G91)),"") -> 0.31666667 | K91: {=IF(OR(C91=$U$19:$U$31),"FERIE","")}
C92: =IF(ISERROR(IF((C91+1)<=$C$6,(C91+1),"")),"",IF((C91+1)<=$C$6,(C91+1),"")) -> 44644 | D92: =IF(ISERROR(VLOOKUP(WEEKDAY($C92),$V$21:$W$27,2,0)),"",VLOOKUP(WEEKDAY($C92),$V$21:$W$27,2,0)) -> Jeudi | E92: =IF(OR(D92="Samedi",D92="Dimanche"),"",Données!$C$3) -> 0.35416667 | F92: =IF(OR(D92="Samedi",D92="Dimanche"),"",Données!$D$3) -> 0.5125 | G92: =IF(OR(D92="Samedi",D92="Dimanche"),"",Données!$E$3) -> 0.53680556 | H92: =IF(OR(D92="Samedi",D92="Dimanche"),"",Données!$F$3) -> 16:41 | I92: =IFERROR(IF(OR(D92="samedi",D92="dimanche")*(F92-E92)+(H92-G92)=0,"",F92-E92+(H92-G92)),"") -> 0.31666667 | K92: {=IF(OR(C92=$U$19:$U$31),"FERIE","")}
C93: =IF(ISERROR(IF((C92+1)<=$C$6,(C92+1),"")),"",IF((C92+1)<=$C$6,(C92+1),"")) -> 44645 | D93: =IF(ISERROR(VLOOKUP(WEEKDAY($C93),$V$21:$W$27,2,0)),"",VLOOKUP(WEEKDAY($C93),$V$21:$W$27,2,0)) -> Vendredi | E93: =IF(OR(D93="Samedi",D93="Dimanche"),"",Données!$C$3) -> 0.35416667 | F93: =IF(OR(D93="Samedi",D93="Dimanche"),"",Données!$D$3) -> 0.5125 | G93: =IF(OR(D93="Samedi",D93="Dimanche"),"",Données!$E$3) -> 0.53680556 | H93: =IF(OR(D93="Samedi",D93="Dimanche"),"",Données!$F$3) -> 16:41 | I93: =IFERROR(IF(OR(D93="samedi",D93="dimanche")*(F93-E93)+(H93-G93)=0,"",F93-E93+(H93-G93)),"") -> 0.31666667 | K93: {=IF(OR(C93=$U$19:$U$31),"FERIE","")}
C94: =IF(ISERROR(IF((C93+1)<=$C$6,(C93+1),"")),"",IF((C93+1)<=$C$6,(C93+1),"")) -> 44646 | D94: =IF(ISERROR(VLOOKUP(WEEKDAY($C94),$V$21:$W$27,2,0)),"",VLOOKUP(WEEKDAY($C94),$V$21:$W$27,2,0)) -> Samedi | E94: =IF(OR(D94="Samedi",D94="Dimanche"),"",Données!$C$3) | F94: =IF(OR(D94="Samedi",D94="Dimanche"),"",Données!$D$3) | G94: =IF(OR(D94="Samedi",D94="Dimanche"),"",Données!$E$3) | H94: =IF(OR(D94="Samedi",D94="Dimanche"),"",Données!$F$3) | I94: =IFERROR(IF(OR(D94="samedi",D94="dimanche")*(F94-E94)+(H94-G94)=0,"",F94-E94+(H94-G94)),"") | K94: {=IF(OR(C94=$U$19:$U$31),"FERIE","")}
C95: =IF(ISERROR(IF((C94+1)<=$C$6,(C94+1),"")),"",IF((C94+1)<=$C$6,(C94+1),"")) -> 44647 | D95: =IF(ISERROR(VLOOKUP(WEEKDAY($C95),$V$21:$W$27,2,0)),"",VLOOKUP(WEEKDAY($C95),$V$21:$W$27,2,0)) -> Dimanche | E95: =IF(OR(D95="Samedi",D95="Dimanche"),"",Données!$C$3) | F95: =IF(OR(D95="Samedi",D95="Dimanche"),"",Données!$D$3) | G95: =IF(OR(D95="Samedi",D95="Dimanche"),"",Données!$E$3) | H95: =IF(OR(D95="Samedi",D95="Dimanche"),"",Données!$F$3) | I95: =IFERROR(IF(OR(D95="samedi",D95="dimanche")*(F95-E95)+(H95-G95)=0,"",F95-E95+(H95-G95)),"") | K95: {=IF(OR(C95=$U$19:$U$31),"FERIE","")} | L95: =IF(D95="Dimanche",SUM(I89:I95),"") -> 1.5833333
B96: 13 | C96: =IF(ISERROR(IF((C95+1)<=$C$6,(C95+1),"")),"",IF((C95+1)<=$C$6,(C95+1),"")) -> 44648 | D96: =IF(ISERROR(VLOOKUP(WEEKDAY($C96),$V$21:$W$27,2,0)),"",VLOOKUP(WEEKDAY($C96),$V$21:$W$27,2,0)) -> Lundi | E96: =IF(OR(D96="Samedi",D96="Dimanche"),"",Données!$C$3) -> 0.35416667 | F96: =IF(OR(D96="Samedi",D96="Dimanche"),"",Données!$D$3) -> 0.5125 | G96: =IF(OR(D96="Samedi",D96="Dimanche"),"",Données!$E$3) -> 0.53680556 | H96: =IF(OR(D96="Samedi",D96="Dimanche"),"",Données!$F$3) -> 16:41 | I96: =IFERROR(IF(OR(D96="samedi",D96="dimanche")*(F96-E96)+(H96-G96)=0,"",F96-E96+(H96-G96)),"") -> 0.31666667 | K96: {=IF(OR(C96=$U$19:$U$31),"FERIE","")}
C97: =IF(ISERROR(IF((C96+1)<=$C$6,(C96+1),"")),"",IF((C96+1)<=$C$6,(C96+1),"")) -> 44649 | D97: =IF(ISERROR(VLOOKUP(WEEKDAY($C97),$V$21:$W$27,2,0)),"",VLOOKUP(WEEKDAY($C97),$V$21:$W$27,2,0)) -> Mardi | E97: =IF(OR(D97="Samedi",D97="Dimanche"),"",Données!$C$3) -> 0.35416667 | F97: =IF(OR(D97="Samedi",D97="Dimanche"),"",Données!$D$3) -> 0.5125 | G97: =IF(OR(D97="Samedi",D97="Dimanche"),"",Données!$E$3) -> 0.53680556 | H97: =IF(OR(D97="Samedi",D97="Dimanche"),"",Données!$F$3) -> 16:41 | I97: =IFERROR(IF(OR(D97="samedi",D97="dimanche")*(F97-E97)+(H97-G97)=0,"",F97-E97+(H97-G97)),"") -> 0.31666667 | K97: {=IF(OR(C97=$U$19:$U$31),"FERIE","")}
C98: =IF(ISERROR(IF((C97+1)<=$C$6,(C97+1),"")),"",IF((C97+1)<=$C$6,(C97+1),"")) -> 44650 | D98: =IF(ISERROR(VLOOKUP(WEEKDAY($C98),$V$21:$W$27,2,0)),"",VLOOKUP(WEEKDAY($C98),$V$21:$W$27,2,0)) -> Mercredi | E98: =IF(OR(D98="Samedi",D98="Dimanche"),"",Données!$C$3) -> 0.35416667 | F98: =IF(OR(D98="Samedi",D98="Dimanche"),"",Données!$D$3) -> 0.5125 | G98: =IF(OR(D98="Samedi",D98="Dimanche"),"",Données!$E$3) -> 0.53680556 | H98: =IF(OR(D98="Samedi",D98="Dimanche"),"",Données!$F$3) -> 16:41 | I98: =IFERROR(IF(OR(D98="samedi",D98="dimanche")*(F98-E98)+(H98-G98)=0,"",F98-E98+(H98-G98)),"") -> 0.31666667 | K98: {=IF(OR(C98=$U$19:$U$31),"FERIE","")}
C99: =IF(ISERROR(IF((C98+1)<=$C$6,(C98+1),"")),"",IF((C98+1)<=$C$6,(C98+1),"")) -> 44651 | D99: =IF(ISERROR(VLOOKUP(WEEKDAY($C99),$V$21:$W$27,2,0)),"",VLOOKUP(WEEKDAY($C99),$V$21:$W$27,2,0)) -> Jeudi | E99: =IF(OR(D99="Samedi",D99="Dimanche"),"",Données!$C$3) -> 0.35416667 | F99: =IF(OR(D99="Samedi",D99="Dimanche"),"",Données!$D$3) -> 0.5125 | G99: =IF(OR(D99="Samedi",D99="Dimanche"),"",Données!$E$3) -> 0.53680556 | H99: =IF(OR(D99="Samedi",D99="Dimanche"),"",Données!$F$3) -> 16:41 | I99: =IFERROR(IF(OR(D99="samedi",D99="dimanche")*(F99-E99)+(H99-G99)=0,"",F99-E99+(H99-G99)),"") -> 0.31666667 | K99: {=IF(OR(C99=$U$19:$U$31),"FERIE","")}
A100: =VLOOKUP(MONTH($C100),$V$8:$W$19,2,0) -> AVRIL | C100: =IF(ISERROR(IF((C99+1)<=$C$6,(C99+1),"")),"",IF((C99+1)<=$C$6,(C99+1),"")) -> 44652 | D100: =IF(ISERROR(VLOOKUP(WEEKDAY($C100),$V$21:$W$27,2,0)),"",VLOOKUP(WEEKDAY($C100),$V$21:$W$27,2,0)) -> Vendredi | E100: =IF(OR(D100="Samedi",D100="Dimanche"),"",Données!$C$3) -> 0.35416667 | F100: =IF(OR(D100="Samedi",D100="Dimanche"),"",Données!$D$3) -> 0.5125 | G100: =IF(OR(D100="Samedi",D100="Dimanche"),"",Données!$E$3) -> 0.53680556 | H100: =IF(OR(D100="Samedi",D100="Dimanche"),"",Données!$F$3) -> 16:41 | I100: =IFERROR(IF(OR(D100="samedi",D100="dimanche")*(F100-E100)+(H100-G100)=0,"",F100-E100+(H100-G100)),"") -> 0.31666667 | K100: {=IF(OR(C100=$U$19:$U$31),"FERIE","")} | M100: =SUMIF(K100:K129,"HCR",J100:J129) -> 0 | N100: =SUMIF(K100:K129,"HPL",J100:J129) -> 0 | O100: =N100*24 -> 0 | R100: =O100-(P100+Q100) -> 0
C101: =IF(ISERROR(IF((C100+1)<=$C$6,(C100+1),"")),"",IF((C100+1)<=$C$6,(C100+1),"")) -> 44653 | D101: =IF(ISERROR(VLOOKUP(WEEKDAY($C101),$V$21:$W$27,2,0)),"",VLOOKUP(WEEKDAY($C101),$V$21:$W$27,2,0)) -> Samedi | E101: =IF(OR(D101="Samedi",D101="Dimanche"),"",Données!$C$3) | F101: =IF(OR(D101="Samedi",D101="Dimanche"),"",Données!$D$3) | G101: =IF(OR(D101="Samedi",D101="Dimanche"),"",Données!$E$3) | H101: =IF(OR(D101="Samedi",D101="Dimanche"),"",Données!$F$3) | I101: =IFERROR(IF(OR(D101="samedi",D101="dimanche")*(F101-E101)+(H101-G101)=0,"",F101-E101+(H101-G101)),"") | K101: {=IF(OR(C101=$U$19:$U$31),"FERIE","")}
C102: =IF(ISERROR(IF((C101+1)<=$C$6,(C101+1),"")),"",IF((C101+1)<=$C$6,(C101+1),"")) -> 44654 | D102: =IF(ISERROR(VLOOKUP(WEEKDAY($C102),$V$21:$W$27,2,0)),"",VLOOKUP(WEEKDAY($C102),$V$21:$W$27,2,0)) -> Dimanche | E102: =IF(OR(D102="Samedi",D102="Dimanche"),"",Données!$C$3) | F102: =IF(OR(D102="Samedi",D102="Dimanche"),"",Données!$D$3) | G102: =IF(OR(D102="Samedi",D102="Dimanche"),"",Données!$E$3) | H102: =IF(OR(D102="Samedi",D102="Dimanche"),"",Données!$F$3) | I102: =IFERROR(IF(OR(D102="samedi",D102="dimanche")*(F102-E102)+(H102-G102)=0,"",F102-E102+(H102-G102)),"") | K102: {=IF(OR(C102=$U$19:$U$31),"FERIE","")} | L102: =IF(D102="Dimanche",SUM(I96:I102),"") -> 1.5833333
...

Sheet Données
B2: total jour | C2: 0.31666667
B3: horaires | C3: 0.35416667 | D3: 0.5125 | E3: 0.53680556 | F3: 16:41

Sheet 2021
B1: 2021
E2: Modifier les cellules en jaune pour mettre à jour le calendrier
E4: mise en forme pour JRE, CP, FERIE
B5: Début | C5: 44197
B6: Fin | C6: 44561
E8: Temps de travail matin | G8: Temps de travail après-midi | I8: Total heures travaillées par jour | J8: Heures supplémentaires | K8: Commentaires | L8: Cumul heures travaillées semaine | M8: Total mois HCR | N8: Total mois HPL | O8: Total mois centièrme | P8: Payé M+1 | Q8: Payé M+2 | R8: Reste à payer | V8: 1 | W8: JANVIER
A9: Mois | B9: Semaine | E9: Heure début | F9: Heure fin | G9: Heure début | H9: Heure fin | V9: 2 | W9: FEVRIER
A10: =VLOOKUP(MONTH($C10),$V$8:$W$19,2,0) -> JANVIER | B10: 53 | C10: =$C$5 -> 44197 | D10: =VLOOKUP(WEEKDAY($C10),$V$21:$W$27,2,0) -> Vendredi | K10: {=IF(OR(C10=$U$19:$U$31),"FERIE","")} -> FERIE | L10: =IF(D10="Dimanche",SUM(I4:I10),"") | M10: =SUMIF(K10:K40,"HCR",J10:J40) -> 0 | N10: =SUMIF(K10:K40,"HPL",J10:J40) -> 0 | O10: =N10*24 -> 0 | R10: =O10-(P10+Q10) -> 0 | V10: 3 | W10: MARS
C11: =IF(ISERROR(IF((C10+1)<=$C$6,(C10+1),"")),"",IF((C10+1)<=$C$6,(C10+1),"")) -> 44198 | D11: =IF(ISERROR(VLOOKUP(WEEKDAY($C11),$V$21:$W$27,2,0)),"",VLOOKUP(WEEKDAY($C11),$V$21:$W$27,2,0)) -> Samedi | E11: =IF(OR(D11="Samedi",D11="Dimanche"),"",Données!$C$3) | F11: =IF(OR(D11="Samedi",D11="Dimanche"),"",Données!$D$3) | G11: =IF(OR(D11="Samedi",D11="Dimanche"),"",Données!$E$3) | H11: =IF(OR(D11="Samedi",D11="Dimanche"),"",Données!$F$3) | I11: =IFERROR(IF(OR(D11="samedi",D11="dimanche")*(F11-E11)+(H11-G11)=0,"",F11-E11+(H11-G11)),"") | K11: {=IF(OR(C11=$U$19:$U$31),"FERIE","")} | L11: =IF(D11="Dimanche",SUM(I5:I11),"") | V11: 4 | W11: AVRIL
B12: 1 | C12: =IF(ISERROR(IF((C11+1)<=$C$6,(C11+1),"")),"",IF((C11+1)<=$C$6,(C11+1),"")) -> 44199 | D12: =IF(ISERROR(VLOOKUP(WEEKDAY($C12),$V$21:$W$27,2,0)),"",VLOOKUP(WEEKDAY($C12),$V$21:$W$27,2,0)) -> Dimanche | E12: =IF(OR(D12="Samedi",D12="Dimanche"),"",Données!$C$3) | F12: =IF(OR(D12="Samedi",D12="Dimanche"),"",Données!$D$3) | G12: =IF(OR(D12="Samedi",D12="Dimanche"),"",Données!$E$3) | H12: =IF(OR(D12="Samedi",D12="Dimanche"),"",Données!$F$3) | I12: =IFERROR(IF(OR(D12="samedi",D12="dimanche")*(F12-E12)+(H12-G12)=0,"",F12-E12+(H12-G12)),"") | K12: {=IF(OR(C12=$U$19:$U$31),"FERIE","")} | S12: =SUMIF(K12:K40,"HPL",J12:J40) -> 0 | V12: 5 | W12: MAI
C13: =IF(ISERROR(IF((C12+1)<=$C$6,(C12+1),"")),"",IF((C12+1)<=$C$6,(C12+1),"")) -> 44200 | D13: =IF(ISERROR(VLOOKUP(WEEKDAY($C13),$V$21:$W$27,2,0)),"",VLOOKUP(WEEKDAY($C13),$V$21:$W$27,2,0)) -> Lundi | E13: 0.32291667 | F13: =IF(OR(D13="Samedi",D13="Dimanche"),"",Données!$D$3) -> 0.5125 | G13: =IF(OR(D13="Samedi",D13="Dimanche"),"",Données!$E$3) -> 0.53680556 | H13: =IF(OR(D13="Samedi",D13="Dimanche"),"",Données!$F$3) -> 16:41 | I13: =IFERROR(IF(OR(D13="samedi",D13="dimanche")*(F13-E13)+(H13-G13)=0,"",F13-E13+(H13-G13)),"") -> 0.34791667 | J13: =IF(I13-Données!$C$2>0,I13-Données!$C$2,0) -> 0.03125 | S13: =SUMIF(K13:K41,"HCR",J13:J41) -> 0 | V13: 6 | W13: JUIN
C14: =IF(ISERROR(IF((C13+1)<=$C$6,(C13+1),"")),"",IF((C13+1)<=$C$6,(C13+1),"")) -> 44201 | D14: =IF(ISERROR(VLOOKUP(WEEKDAY($C14),$V$21:$W$27,2,0)),"",VLOOKUP(WEEKDAY($C14),$V$21:$W$27,2,0)) -> Mardi | E14: 0.32291667 | F14: =IF(OR(D14="Samedi",D14="Dimanche"),"",Données!$D$3) -> 0.5125 | G14: =IF(OR(D14="Samedi",D14="Dimanche"),"",Données!$E$3) -> 0.53680556 | H14: =IF(OR(D14="Samedi",D14="Dimanche"),"",Données!$F$3) -> 16:41 | I14: =IFERROR(IF(OR(D14="samedi",D14="dimanche")*(F14-E14)+(H14-G14)=0,"",F14-E14+(H14-G14)),"") -> 0.34791667 | J14: =IF(I14-Données!$C$2>0,I14-Données!$C$2,0) -> 0.03125 | V14: 7 | W14: JUILLET
C15: =IF(ISERROR(IF((C14+1)<=$C$6,(C14+1),"")),"",IF((C14+1)<=$C$6,(C14+1),"")) -> 44202 | D15: =IF(ISERROR(VLOOKUP(WEEKDAY($C15),$V$21:$W$27,2,0)),"",VLOOKUP(WEEKDAY($C15),$V$21:$W$27,2,0)) -> Mercredi | E15: 0.3125 | F15: =IF(OR(D15="Samedi",D15="Dimanche"),"",Données!$D$3) -> 0.5125 | G15: =IF(OR(D15="Samedi",D15="Dimanche"),"",Données!$E$3) -> 0.53680556 | H15: =IF(OR(D15="Samedi",D15="Dimanche"),"",Données!$F$3) -> 16:41 | I15: =IFERROR(IF(OR(D15="samedi",D15="dimanche")*(F15-E15)+(H15-G15)=0,"",F15-E15+(H15-G15)),"") -> 0.35833333 | J15: =IF(I15-Données!$C$2>0,I15-Données!$C$2,0) -> 0.041666667 | V15: 8 | W15: AOÛT
C16: =IF(ISERROR(IF((C15+1)<=$C$6,(C15+1),"")),"",IF((C15+1)<=$C$6,(C15+1),"")) -> 44203 | D16: =IF(ISERROR(VLOOKUP(WEEKDAY($C16),$V$21:$W$27,2,0)),"",VLOOKUP(WEEKDAY($C16),$V$21:$W$27,2,0)) -> Jeudi | E16: =IF(OR(D16="Samedi",D16="Dimanche"),"",Données!$C$3) -> 0.35416667 | F16: =IF(OR(D16="Samedi",D16="Dimanche"),"",Données!$D$3) -> 0.5125 | G16: =IF(OR(D16="Samedi",D16="Dimanche"),"",Données!$E$3) -> 0.53680556 | H16: =IF(OR(D16="Samedi",D16="Dimanche"),"",Données!$F$3) -> 16:41 | I16: =IFERROR(IF(OR(D16="samedi",D16="dimanche")*(F16-E16)+(H16-G16)=0,"",F16-E16+(H16-G16)),"") -> 0.31666667 | J16: =IF(I16-Données!$C$2>0,I16-Données!$C$2,0) -> 5.5511151e-17 | V16: 9 | W16: SEPTEMBRE
C17: =IF(ISERROR(IF((C16+1)<=$C$6,(C16+1),"")),"",IF((C16+1)<=$C$6,(C16+1),"")) -> 44204 | D17: =IF(ISERROR(VLOOKUP(WEEKDAY($C17),$V$21:$W$27,2,0)),"",VLOOKUP(WEEKDAY($C17),$V$21:$W$27,2,0)) -> Vendredi | E17: =IF(OR(D17="Samedi",D17="Dimanche"),"",Données!$C$3) -> 0.35416667 | F17: =IF(OR(D17="Samedi",D17="Dimanche"),"",Données!$D$3) -> 0.5125 | G17: =IF(OR(D17="Samedi",D17="Dimanche"),"",Données!$E$3) -> 0.53680556 | H17: =IF(OR(D17="Samedi",D17="Dimanche"),"",Données!$F$3) -> 16:41 | I17: =IFERROR(IF(OR(D17="samedi",D17="dimanche")*(F17-E17)+(H17-G17)=0,"",F17-E17+(H17-G17)),"") -> 0.31666667 | J17: =IF(I17-Données!$C$2>0,I17-Données!$C$2,0) -> 5.5511151e-17 | K17: CP | V17: 10 | W17: OCTOBRE
C18: =IF(ISERROR(IF((C17+1)<=$C$6,(C17+1),"")),"",IF((C17+1)<=$C$6,(C17+1),"")) -> 44205 | D18: =IF(ISERROR(VLOOKUP(WEEKDAY($C18),$V$21:$W$27,2,0)),"",VLOOKUP(WEEKDAY($C18),$V$21:$W$27,2,0)) -> Samedi | E18: =IF(OR(D18="Samedi",D18="Dimanche"),"",Données!$C$3) | F18: =IF(OR(D18="Samedi",D18="Dimanche"),"",Données!$D$3) | G18: =IF(OR(D18="Samedi",D18="Dimanche"),"",Données!$E$3) | H18: =IF(OR(D18="Samedi",D18="Dimanche"),"",Données!$F$3) | I18: =IFERROR(IF(OR(D18="samedi",D18="dimanche")*(F18-E18)+(H18-G18)=0,"",F18-E18+(H18-G18)),"") | J18: =IF(D18="Dimanche",SUM(J12:J16),"") | K18: {=IF(OR(C18=$U$19:$U$31),"FERIE","")} | L18: =IF(D18="Dimanche",SUM(I12:I18),"") | T18: Jour férié | V18: 11 | W18: NOVEMBRE
B19: 2 | C19: =IF(ISERROR(IF((C18+1)<=$C$6,(C18+1),"")),"",IF((C18+1)<=$C$6,(C18+1),"")) -> 44206 | D19: =IF(ISERROR(VLOOKUP(WEEKDAY($C19),$V$21:$W$27,2,0)),"",VLOOKUP(WEEKDAY($C19),$V$21:$W$27,2,0)) -> Dimanche | E19: =IF(OR(D19="Samedi",D19="Dimanche"),"",Données!$C$3) | F19: =IF(OR(D19="Samedi",D19="Dimanche"),"",Données!$D$3) | G19: =IF(OR(D19="Samedi",D19="Dimanche"),"",Données!$E$3) | H19: =IF(OR(D19="Samedi",D19="Dimanche"),"",Données!$F$3) | I19: =IFERROR(IF(OR(D19="samedi",D19="dimanche")*(F19-E19)+(H19-G19)=0,"",F19-E19+(H19-G19)),"") | J19: =IF(D19="Dimanche",SUM(J13:J17),"") -> 0.10416667 | K19: {=IF(OR(C19=$U$19:$U$31),"FERIE","")} | T19: Jour de l’An | U19: =DATE(B1,1,1) -> 44197 | V19: 12 | W19: DECEMBRE
C20: =IF(ISERROR(IF((C19+1)<=$C$6,(C19+1),"")),"",IF((C19+1)<=$C$6,(C19+1),"")) -> 44207 | D20: =IF(ISERROR(VLOOKUP(WEEKDAY($C20),$V$21:$W$27,2,0)),"",VLOOKUP(WEEKDAY($C20),$V$21:$W$27,2,0)) -> Lundi | E20: =IF(OR(D20="Samedi",D20="Dimanche"),"",Données!$C$3) -> 0.35416667 | F20: =IF(OR(D20="Samedi",D20="Dimanche"),"",Données!$D$3) -> 0.5125 | G20: =IF(OR(D20="Samedi",D20="Dimanche"),"",Données!$E$3) -> 0.53680556 | H20: =IF(OR(D20="Samedi",D20="Dimanche"),"",Données!$F$3) -> 16:41 | I20: =IFERROR(IF(OR(D20="samedi",D20="dimanche")*(F20-E20)+(H20-G20)=0,"",F20-E20+(H20-G20)),"") -> 0.31666667 | J20: =IF(I20-Données!$C$2>0,I20-Données!$C$2,0) -> 5.5511151e-17 | K20: {=IF(OR(C20=$U$19:$U$31),"FERIE","")} | T20: Pâques | U20: =ROUND(DATE(B1,4,MOD(234-11*MOD(B1,19),30))/7,0)*7-6 -> 44290
C21: =IF(ISERROR(IF((C20+1)<=$C$6,(C20+1),"")),"",IF((C20+1)<=$C$6,(C20+1),"")) -> 44208 | D21: =IF(ISERROR(VLOOKUP(WEEKDAY($C21),$V$21:$W$27,2,0)),"",VLOOKUP(WEEKDAY($C21),$V$21:$W$27,2,0)) -> Mardi | E21: =IF(OR(D21="Samedi",D21="Dimanche"),"",Données!$C$3) -> 0.35416667 | F21: =IF(OR(D21="Samedi",D21="Dimanche"),"",Données!$D$3) -> 0.5125 | G21: =IF(OR(D21="Samedi",D21="Dimanche"),"",Données!$E$3) -> 0.53680556 | H21: 0.69513889 | I21: =IFERROR(IF(OR(D21="samedi",D21="dimanche")*(F21-E21)+(H21-G21)=0,"",F21-E21+(H21-G21)),"") -> 0.31666667 | J21: =IF(I21-Données!$C$2>0,I21-Données!$C$2,0) -> 5.5511151e-17 | T21: Lundi de Pâques | U21: =U20+1 -> 44291 | V21: 1 | W21: Dimanche
C22: =IF(ISERROR(IF((C21+1)<=$C$6,(C21+1),"")),"",IF((C21+1)<=$C$6,(C21+1),"")) -> 44209 | D22: =IF(ISERROR(VLOOKUP(WEEKDAY($C22),$V$21:$W$27,2,0)),"",VLOOKUP(WEEKDAY($C22),$V$21:$W$27,2,0)) -> Mercredi | E22: =IF(OR(D22="Samedi",D22="Dimanche"),"",Données!$C$3) -> 0.35416667 | F22: =IF(OR(D22="Samedi",D22="Dimanche"),"",Données!$D$3) -> 0.5125 | G22: =IF(OR(D22="Samedi",D22="Dimanche"),"",Données!$E$3) -> 0.53680556 | H22: =IF(OR(D22="Samedi",D22="Dimanche"),"",Données!$F$3) -> 16:41 | I22: =IFERROR(IF(OR(D22="samedi",D22="dimanche")*(F22-E22)+(H22-G22)=0,"",F22-E22+(H22-G22)),"") -> 0.31666667 | J22: =IF(I22-Données!$C$2>0,I22-Données!$C$2,0) -> 5.5511151e-17 | K22: {=IF(OR(C22=$U$19:$U$31),"FERIE","")} | T22: Fête du travail | U22: =DATE(B1,5,1) -> 44317 | V22: 2 | W22: Lundi
C23: =IF(ISERROR(IF((C22+1)<=$C$6,(C22+1),"")),"",IF((C22+1)<=$C$6,(C22+1),"")) -> 44210 | D23: =IF(ISERROR(VLOOKUP(WEEKDAY($C23),$V$21:$W$27,2,0)),"",VLOOKUP(WEEKDAY($C23),$V$21:$W$27,2,0)) -> Jeudi | E23: =IF(OR(D23="Samedi",D23="Dimanche"),"",Données!$C$3) -> 0.35416667 | F23: =IF(OR(D23="Samedi",D23="Dimanche"),"",Données!$D$3) -> 0.5125 | G23: =IF(OR(D23="Samedi",D23="Dimanche"),"",Données!$E$3) -> 0.53680556 | H23: =IF(OR(D23="Samedi",D23="Dimanche"),"",Données!$F$3) -> 16:41 | I23: =IFERROR(IF(OR(D23="samedi",D23="dimanche")*(F23-E23)+(H23-G23)=0,"",F23-E23+(H23-G23)),"") -> 0.31666667 | J23: =IF(I23-Données!$C$2>0,I23-Données!$C$2,0) -> 5.5511151e-17 | K23: {=IF(OR(C23=$U$19:$U$31),"FERIE","")} | T23: Victoire 1945 | U23: =DATE(B1,5,8) -> 44324 | V23: 3 | W23: Mardi
C24: =IF(ISERROR(IF((C23+1)<=$C$6,(C23+1),"")),"",IF((C23+1)<=$C$6,(C23+1),"")) -> 44211 | D24: =IF(ISERROR(VLOOKUP(WEEKDAY($C24),$V$21:$W$27,2,0)),"",VLOOKUP(WEEKDAY($C24),$V$21:$W$27,2,0)) -> Vendredi | E24: =IF(OR(D24="Samedi",D24="Dimanche"),"",Données!$C$3) -> 0.35416667 | F24: =IF(OR(D24="Samedi",D24="Dimanche"),"",Données!$D$3) -> 0.5125 | G24: =IF(OR(D24="Samedi",D24="Dimanche"),"",Données!$E$3) -> 0.53680556 | H24: =IF(OR(D24="Samedi",D24="Dimanche"),"",Données!$F$3) -> 16:41 | I24: =IFERROR(IF(OR(D24="samedi",D24="dimanche")*(F24-E24)+(H24-G24)=0,"",F24-E24+(H24-G24)),"") -> 0.31666667 | J24: =IF(I24-Données!$C$2>0,I24-Données!$C$2,0) -> 5.5511151e-17 | K24: CP | T24: Ascension | U24: =U20+39 -> 44329 | V24: 4 | W24: Mercredi
C25: =IF(ISERROR(IF((C24+1)<=$C$6,(C24+1),"")),"",IF((C24+1)<=$C$6,(C24+1),"")) -> 44212 | D25: =IF(ISERROR(VLOOKUP(WEEKDAY($C25),$V$21:$W$27,2,0)),"",VLOOKUP(WEEKDAY($C25),$V$21:$W$27,2,0)) -> Samedi | E25: =IF(OR(D25="Samedi",D25="Dimanche"),"",Données!$C$3) | F25: =IF(OR(D25="Samedi",D25="Dimanche"),"",Données!$D$3) | G25: =IF(OR(D25="Samedi",D25="Dimanche"),"",Données!$E$3) | H25: =IF(OR(D25="Samedi",D25="Dimanche"),"",Données!$F$3) | I25: =IFERROR(IF(OR(D25="samedi",D25="dimanche")*(F25-E25)+(H25-G25)=0,"",F25-E25+(H25-G25)),"") | J25: =IF(D25="Dimanche",SUM(J19:J23),"") | K25: {=IF(OR(C25=$U$19:$U$31),"FERIE","")} | L25: =IF(D25="Dimanche",SUM(I19:I25),"") | T25: Pentecôte | U25: =U20+49 -> 44339 | V25: 5 | W25: Jeudi
B26: 3 | C26: =IF(ISERROR(IF((C25+1)<=$C$6,(C25+1),"")),"",IF((C25+1)<=$C$6,(C25+1),"")) -> 44213 | D26: =IF(ISERROR(VLOOKUP(WEEKDAY($C26),$V$21:$W$27,2,0)),"",VLOOKUP(WEEKDAY($C26),$V$21:$W$27,2,0)) -> Dimanche | E26: =IF(OR(D26="Samedi",D26="Dimanche"),"",Données!$C$3) | F26: =IF(OR(D26="Samedi",D26="Dimanche"),"",Données!$D$3) | G26: =IF(OR(D26="Samedi",D26="Dimanche"),"",Données!$E$3) | H26: =IF(OR(D26="Samedi",D26="Dimanche"),"",Données!$F$3) | I26: =IFERROR(IF(OR(D26="samedi",D26="dimanche")*(F26-E26)+(H26-G26)=0,"",F26-E26+(H26-G26)),"") | J26: =IF(D26="Dimanche",SUM(J20:J24),"") -> 2.7755576e-16 | K26: {=IF(OR(C26=$U$19:$U$31),"FERIE","")} | T26: Lundi de Pentecôte | U26: =U20+50 -> 44340 | V26: 6 | W26: Vendredi
C27: =IF(ISERROR(IF((C26+1)<=$C$6,(C26+1),"")),"",IF((C26+1)<=$C$6,(C26+1),"")) -> 44214 | D27: =IF(ISERROR(VLOOKUP(WEEKDAY($C27),$V$21:$W$27,2,0)),"",VLOOKUP(WEEKDAY($C27),$V$21:$W$27,2,0)) -> Lundi | E27: =IF(OR(D27="Samedi",D27="Dimanche"),"",Données!$C$3) -> 0.35416667 | F27: =IF(OR(D27="Samedi",D27="Dimanche"),"",Données!$D$3) -> 0.5125 | G27: =IF(OR(D27="Samedi",D27="Dimanche"),"",Données!$E$3) -> 0.53680556 | H27: =IF(OR(D27="Samedi",D27="Dimanche"),"",Données!$F$3) -> 16:41 | I27: =IFERROR(IF(OR(D27="samedi",D27="dimanche")*(F27-E27)+(H27-G27)=0,"",F27-E27+(H27-G27)),"") -> 0.31666667 | J27: =IF(I27-Données!$C$2>0,I27-Données!$C$2,0) -> 5.5511151e-17 | K27: {=IF(OR(C27=$U$19:$U$31),"FERIE","")} | T27: Fête Nationale | U27: =DATE(B1,7,14) -> 44391 | V27: 7 | W27: Samedi
C28: =IF(ISERROR(IF((C27+1)<=$C$6,(C27+1),"")),"",IF((C27+1)<=$C$6,(C27+1),"")) -> 44215 | D28: =IF(ISERROR(VLOOKUP(WEEKDAY($C28),$V$21:$W$27,2,0)),"",VLOOKUP(WEEKDAY($C28),$V$21:$W$27,2,0)) -> Mardi | E28: =IF(OR(D28="Samedi",D28="Dimanche"),"",Données!$C$3) -> 0.35416667 | F28: =IF(OR(D28="Samedi",D28="Dimanche"),"",Données!$D$3) -> 0.5125 | G28: =IF(OR(D28="Samedi",D28="Dimanche"),"",Données!$E$3) -> 0.53680556 | H28: =IF(OR(D28="Samedi",D28="Dimanche"),"",Données!$F$3) -> 16:41 | I28: =IFERROR(IF(OR(D28="samedi",D28="dimanche")*(F28-E28)+(H28-G28)=0,"",F28-E28+(H28-G28)),"") -> 0.31666667 | J28: =IF(I28-Données!$C$2>0,I28-Données!$C$2,0) -> 5.5511151e-17 | T28: Assomption | U28: =DATE(B1,8,15) -> 44423
C29: =IF(ISERROR(IF((C28+1)<=$C$6,(C28+1),"")),"",IF((C28+1)<=$C$6,(C28+1),"")) -> 44216 | D29: =IF(ISERROR(VLOOKUP(WEEKDAY($C29),$V$21:$W$27,2,0)),"",VLOOKUP(WEEKDAY($C29),$V$21:$W$27,2,0)) -> Mercredi | E29: =IF(OR(D29="Samedi",D29="Dimanche"),"",Données!$C$3) -> 0.35416667 | F29: =IF(OR(D29="Samedi",D29="Dimanche"),"",Données!$D$3) -> 0.5125 | G29: =IF(OR(D29="Samedi",D29="Dimanche"),"",Données!$E$3) -> 0.53680556 | H29: =IF(OR(D29="Samedi",D29="Dimanche"),"",Données!$F$3) -> 16:41 | I29: =IFERROR(IF(OR(D29="samedi",D29="dimanche")*(F29-E29)+(H29-G29)=0,"",F29-E29+(H29-G29)),"") -> 0.31666667 | J29: =IF(I29-Données!$C$2>0,I29-Données!$C$2,0) -> 5.5511151e-17 | K29: {=IF(OR(C29=$U$19:$U$31),"FERIE","")} | T29: Toussaint | U29: =DATE(B1,11,1) -> 44501
C30: =IF(ISERROR(IF((C29+1)<=$C$6,(C29+1),"")),"",IF((C29+1)<=$C$6,(C29+1),"")) -> 44217 | D30: =IF(ISERROR(VLOOKUP(WEEKDAY($C30),$V$21:$W$27,2,0)),"",VLOOKUP(WEEKDAY($C30),$V$21:$W$27,2,0)) -> Jeudi | E30: =IF(OR(D30="Samedi",D30="Dimanche"),"",Données!$C$3) -> 0.35416667 | F30: =IF(OR(D30="Samedi",D30="Dimanche"),"",Données!$D$3) -> 0.5125 | G30: =IF(OR(D30="Samedi",D30="Dimanche"),"",Données!$E$3) -> 0.53680556 | H30: =IF(OR(D30="Samedi",D30="Dimanche"),"",Données!$F$3) -> 16:41 | I30: =IFERROR(IF(OR(D30="samedi",D30="dimanche")*(F30-E30)+(H30-G30)=0,"",F30-E30+(H30-G30)),"") -> 0.31666667 | J30: =IF(I30-Données!$C$2>0,I30-Données!$C$2,0) -> 5.5511151e-17 | K30: {=IF(OR(C30=$U$19:$U$31),"FERIE","")} | T30: Armistice 1918 | U30: =DATE(B1,11,11) -> 44511
C31: =IF(ISERROR(IF((C30+1)<=$C$6,(C30+1),"")),"",IF((C30+1)<=$C$6,(C30+1),"")) -> 44218 | D31: =IF(ISERROR(VLOOKUP(WEEKDAY($C31),$V$21:$W$27,2,0)),"",VLOOKUP(WEEKDAY($C31),$V$21:$W$27,2,0)) -> Vendredi | E31: =IF(OR(D31="Samedi",D31="Dimanche"),"",Données!$C$3) -> 0.35416667 | F31: =IF(OR(D31="Samedi",D31="Dimanche"),"",Données!$D$3) -> 0.5125 | G31: =IF(OR(D31="Samedi",D31="Dimanche"),"",Données!$E$3) -> 0.53680556 | H31: =IF(OR(D31="Samedi",D31="Dimanche"),"",Données!$F$3) -> 16:41 | I31: =IFERROR(IF(OR(D31="samedi",D31="dimanche")*(F31-E31)+(H31-G31)=0,"",F31-E31+(H31-G31)),"") -> 0.31666667 | J31: =IF(I31-Données!$C$2>0,I31-Données!$C$2,0) -> 5.5511151e-17 | K31: CP | T31: Noël | U31: =DATE(B1,12,25) -> 44555
C32: =IF(ISERROR(IF((C31+1)<=$C$6,(C31+1),"")),"",IF((C31+1)<=$C$6,(C31+1),"")) -> 44219 | D32: =IF(ISERROR(VLOOKUP(WEEKDAY($C32),$V$21:$W$27,2,0)),"",VLOOKUP(WEEKDAY($C32),$V$21:$W$27,2,0)) -> Samedi | E32: =IF(OR(D32="Samedi",D32="Dimanche"),"",Données!$C$3) | F32: =IF(OR(D32="Samedi",D32="Dimanche"),"",Données!$D$3) | G32: =IF(OR(D32="Samedi",D32="Dimanche"),"",Données!$E$3) | H32: =IF(OR(D32="Samedi",D32="Dimanche"),"",Données!$F$3) | I32: =IFERROR(IF(OR(D32="samedi",D32="dimanche")*(F32-E32)+(H32-G32)=0,"",F32-E32+(H32-G32)),"") | J32: =IF(D32="Dimanche",SUM(J26:J30),"") | K32: {=IF(OR(C32=$U$19:$U$31),"FERIE","")} | L32: =IF(D32="Dimanche",SUM(I26:I32),"")
B33: 4 | C33: =IF(ISERROR(IF((C32+1)<=$C$6,(C32+1),"")),"",IF((C32+1)<=$C$6,(C32+1),"")) -> 44220 | D33: =IF(ISERROR(VLOOKUP(WEEKDAY($C33),$V$21:$W$27,2,0)),"",VLOOKUP(WEEKDAY($C33),$V$21:$W$27,2,0)) -> Dimanche | E33: =IF(OR(D33="Samedi",D33="Dimanche"),"",Données!$C$3) | F33: =IF(OR(D33="Samedi",D33="Dimanche"),"",Données!$D$3) | G33: =IF(OR(D33="Samedi",D33="Dimanche"),"",Données!$E$3) | H33: =IF(OR(D33="Samedi",D33="Dimanche"),"",Données!$F$3) | I33: =IFERROR(IF(OR(D33="samedi",D33="dimanche")*(F33-E33)+(H33-G33)=0,"",F33-E33+(H33-G33)),"") | J33: =IF(D33="Dimanche",SUM(J27:J31),"") -> 2.7755576e-16 | K33: {=IF(OR(C33=$U$19:$U$31),"FERIE","")}
C34: =IF(ISERROR(IF((C33+1)<=$C$6,(C33+1),"")),"",IF((C33+1)<=$C$6,(C33+1),"")) -> 44221 | D34: =IF(ISERROR(VLOOKUP(WEEKDAY($C34),$V$21:$W$27,2,0)),"",VLOOKUP(WEEKDAY($C34),$V$21:$W$27,2,0)) -> Lundi | E34: =IF(OR(D34="Samedi",D34="Dimanche"),"",Données!$C$3) -> 0.35416667 | F34: =IF(OR(D34="Samedi",D34="Dimanche"),"",Données!$D$3) -> 0.5125 | G34: =IF(OR(D34="Samedi",D34="Dimanche"),"",Données!$E$3) -> 0.53680556 | H34: =IF(OR(D34="Samedi",D34="Dimanche"),"",Données!$F$3) -> 16:41 | I34: =IFERROR(IF(OR(D34="samedi",D34="dimanche")*(F34-E34)+(H34-G34)=0,"",F34-E34+(H34-G34)),"") -> 0.31666667 | J34: =IF(I34-Données!$C$2>0,I34-Données!$C$2,0) -> 5.5511151e-17 | K34: {=IF(OR(C34=$U$19:$U$31),"FERIE","")}
C35: =IF(ISERROR(IF((C34+1)<=$C$6,(C34+1),"")),"",IF((C34+1)<=$C$6,(C34+1),"")) -> 44222 | D35: =IF(ISERROR(VLOOKUP(WEEKDAY($C35),$V$21:$W$27,2,0)),"",VLOOKUP(WEEKDAY($C35),$V$21:$W$27,2,0)) -> Mardi | E35: =IF(OR(D35="Samedi",D35="Dimanche"),"",Données!$C$3) -> 0.35416667 | F35: =IF(OR(D35="Samedi",D35="Dimanche"),"",Données!$D$3) -> 0.5125 | G35: =IF(OR(D35="Samedi",D35="Dimanche"),"",Données!$E$3) -> 0.53680556 | H35: =IF(OR(D35="Samedi",D35="Dimanche"),"",Données!$F$3) -> 16:41 | I35: =IFERROR(IF(OR(D35="samedi",D35="dimanche")*(F35-E35)+(H35-G35)=0,"",F35-E35+(H35-G35)),"") -> 0.31666667 | J35: =IF(I35-Données!$C$2>0,I35-Données!$C$2,0) -> 5.5511151e-17 | K35: {=IF(OR(C35=$U$19:$U$31),"FERIE","")}
C36: =IF(ISERROR(IF((C35+1)<=$C$6,(C35+1),"")),"",IF((C35+1)<=$C$6,(C35+1),"")) -> 44223 | D36: =IF(ISERROR(VLOOKUP(WEEKDAY($C36),$V$21:$W$27,2,0)),"",VLOOKUP(WEEKDAY($C36),$V$21:$W$27,2,0)) -> Mercredi | E36: =IF(OR(D36="Samedi",D36="Dimanche"),"",Données!$C$3) -> 0.35416667 | F36: =IF(OR(D36="Samedi",D36="Dimanche"),"",Données!$D$3) -> 0.5125 | G36: =IF(OR(D36="Samedi",D36="Dimanche"),"",Données!$E$3) -> 0.53680556 | H36: =IF(OR(D36="Samedi",D36="Dimanche"),"",Données!$F$3) -> 16:41 | I36: =IFERROR(IF(OR(D36="samedi",D36="dimanche")*(F36-E36)+(H36-G36)=0,"",F36-E36+(H36-G36)),"") -> 0.31666667 | J36: =IF(I36-Données!$C$2>0,I36-Données!$C$2,0) -> 5.5511151e-17 | K36: {=IF(OR(C36=$U$19:$U$31),"FERIE","")}
C37: =IF(ISERROR(IF((C36+1)<=$C$6,(C36+1),"")),"",IF((C36+1)<=$C$6,(C36+1),"")) -> 44224 | D37: =IF(ISERROR(VLOOKUP(WEEKDAY($C37),$V$21:$W$27,2,0)),"",VLOOKUP(WEEKDAY($C37),$V$21:$W$27,2,0)) -> Jeudi | E37: =IF(OR(D37="Samedi",D37="Dimanche"),"",Données!$C$3) -> 0.35416667 | F37: =IF(OR(D37="Samedi",D37="Dimanche"),"",Données!$D$3) -> 0.5125 | G37: =IF(OR(D37="Samedi",D37="Dimanche"),"",Données!$E$3) -> 0.53680556 | H37: =IF(OR(D37="Samedi",D37="Dimanche"),"",Données!$F$3) -> 16:41 | I37: =IFERROR(IF(OR(D37="samedi",D37="dimanche")*(F37-E37)+(H37-G37)=0,"",F37-E37+(H37-G37)),"") -> 0.31666667 | J37: =IF(I37-Données!$C$2>0,I37-Données!$C$2,0) -> 5.5511151e-17 | K37: {=IF(OR(C37=$U$19:$U$31),"FERIE","")}
C38: =IF(ISERROR(IF((C37+1)<=$C$6,(C37+1),"")),"",IF((C37+1)<=$C$6,(C37+1),"")) -> 44225 | D38: =IF(ISERROR(VLOOKUP(WEEKDAY($C38),$V$21:$W$27,2,0)),"",VLOOKUP(WEEKDAY($C38),$V$21:$W$27,2,0)) -> Vendredi | E38: =IF(OR(D38="Samedi",D38="Dimanche"),"",Données!$C$3) -> 0.35416667 | F38: =IF(OR(D38="Samedi",D38="Dimanche"),"",Données!$D$3) -> 0.5125 | G38: =IF(OR(D38="Samedi",D38="Dimanche"),"",Données!$E$3) -> 0.53680556 | H38: =IF(OR(D38="Samedi",D38="Dimanche"),"",Données!$F$3) -> 16:41 | I38: =IFERROR(IF(OR(D38="samedi",D38="dimanche")*(F38-E38)+(H38-G38)=0,"",F38-E38+(H38-G38)),"") -> 0.31666667 | J38: =IF(I38-Données!$C$2>0,I38-Données!$C$2,0) -> 5.5511151e-17 | K38: {=IF(OR(C38=$U$19:$U$31),"FERIE","")}
C39: =IF(ISERROR(IF((C38+1)<=$C$6,(C38+1),"")),"",IF((C38+1)<=$C$6,(C38+1),"")) -> 44226 | D39: =IF(ISERROR(VLOOKUP(WEEKDAY($C39),$V$21:$W$27,2,0)),"",VLOOKUP(WEEKDAY($C39),$V$21:$W$27,2,0)) -> Samedi | E39: =IF(OR(D39="Samedi",D39="Dimanche"),"",Données!$C$3) | F39: =IF(OR(D39="Samedi",D39="Dimanche"),"",Données!$D$3) | G39: =IF(OR(D39="Samedi",D39="Dimanche"),"",Données!$E$3) | H39: =IF(OR(D39="Samedi",D39="Dimanche"),"",Données!$F$3) | I39: =IFERROR(IF(OR(D39="samedi",D39="dimanche")*(F39-E39)+(H39-G39)=0,"",F39-E39+(H39-G39)),"") | J39: =IF(D39="Dimanche",SUM(J33:J37),"") | K39: {=IF(OR(C39=$U$19:$U$31),"FERIE","")} | L39: =IF(D39="Dimanche",SUM(I33:I39),"") | T39: {=IF(OR(K10=$U$19:$U$31),"ferie","")}
B40: 5 | C40: =IF(ISERROR(IF((C39+1)<=$C$6,(C39+1),"")),"",IF((C39+1)<=$C$6,(C39+1),"")) -> 44227 | D40: =IF(ISERROR(VLOOKUP(WEEKDAY($C40),$V$21:$W$27,2,0)),"",VLOOKUP(WEEKDAY($C40),$V$21:$W$27,2,0)) -> Dimanche | E40: =IF(OR(D40="Samedi",D40="Dimanche"),"",Données!$C$3) | F40: =IF(OR(D40="Samedi",D40="Dimanche"),"",Données!$D$3) | G40: =IF(OR(D40="Samedi",D40="Dimanche"),"",Données!$E$3) | H40: =IF(OR(D40="Samedi",D40="Dimanche"),"",Données!$F$3) | I40: =IFERROR(IF(OR(D40="samedi",D40="dimanche")*(F40-E40)+(H40-G40)=0,"",F40-E40+(H40-G40)),"") | J40: =IF(D40="Dimanche",SUM(J34:J38),"") -> 2.7755576e-16 | K40: {=IF(OR(C40=$U$19:$U$31),"FERIE","")} | T40: {=IF(OR(K12=U19:U31),"ferie","")}
A41: =VLOOKUP(MONTH($C41),$V$8:$W$19,2,0) -> FEVRIER | C41: =IF(ISERROR(IF((C40+1)<=$C$6,(C40+1),"")),"",IF((C40+1)<=$C$6,(C40+1),"")) -> 44228 | D41: =IF(ISERROR(VLOOKUP(WEEKDAY($C41),$V$21:$W$27,2,0)),"",VLOOKUP(WEEKDAY($C41),$V$21:$W$27,2,0)) -> Lundi | E41: =IF(OR(D41="Samedi",D41="Dimanche"),"",Données!$C$3) -> 0.35416667 | F41: =IF(OR(D41="Samedi",D41="Dimanche"),"",Données!$D$3) -> 0.5125 | G41: =IF(OR(D41="Samedi",D41="Dimanche"),"",Données!$E$3) -> 0.53680556 | H41: =IF(OR(D41="Samedi",D41="Dimanche"),"",Données!$F$3) -> 16:41 | I41: =IFERROR(IF(OR(D41="samedi",D41="dimanche")*(F41-E41)+(H41-G41)=0,"",F41-E41+(H41-G41)),"") -> 0.31666667 | J41: =IF(I41-Données!$C$2>0,I41-Données!$C$2,0) -> 5.5511151e-17 | K41: {=IF(OR(C41=$U$19:$U$31),"FERIE","")} | M41: =SUMIF(K41:K68,"HCR",J41:J68) -> 0 | N41: =SUMIF(K41:K68,"HPL",J41:J68) -> 0 | O41: =N41*24 -> 0 | R41: =O41-(P41+Q41) -> 0
C42: =IF(ISERROR(IF((C41+1)<=$C$6,(C41+1),"")),"",IF((C41+1)<=$C$6,(C41+1),"")) -> 44229 | D42: =IF(ISERROR(VLOOKUP(WEEKDAY($C42),$V$21:$W$27,2,0)),"",VLOOKUP(WEEKDAY($C42),$V$21:$W$27,2,0)) -> Mardi | E42: 0.35416667 | F42: =IF(OR(D42="Samedi",D42="Dimanche"),"",Données!$D$3) -> 0.5125 | G42: =IF(OR(D42="Samedi",D42="Dimanche"),"",Données!$E$3) -> 0.53680556 | H42: =IF(OR(D42="Samedi",D42="Dimanche"),"",Données!$F$3) -> 16:41 | I42: =IFERROR(IF(OR(D42="samedi",D42="dimanche")*(F42-E42)+(H42-G42)=0,"",F42-E42+(H42-G42)),"") -> 0.31666667 | J42: =IF(I42-Données!$C$2>0,I42-Données!$C$2,0) -> 5.5511151e-17
C43: =IF(ISERROR(IF((C42+1)<=$C$6,(C42+1),"")),"",IF((C42+1)<=$C$6,(C42+1),"")) -> 44230 | D43: =IF(ISERROR(VLOOKUP(WEEKDAY($C43),$V$21:$W$27,2,0)),"",VLOOKUP(WEEKDAY($C43),$V$21:$W$27,2,0)) -> Mercredi | E43: =IF(OR(D43="Samedi",D43="Dimanche"),"",Données!$C$3) -> 0.35416667 | F43: =IF(OR(D43="Samedi",D43="Dimanche"),"",Données!$D$3) -> 0.5125 | G43: =IF(OR(D43="Samedi",D43="Dimanche"),"",Données!$E$3) -> 0.53680556 | H43: =IF(OR(D43="Samedi",D43="Dimanche"),"",Données!$F$3) -> 16:41 | I43: =IFERROR(IF(OR(D43="samedi",D43="dimanche")*(F43-E43)+(H43-G43)=0,"",F43-E43+(H43-G43)),"") -> 0.31666667 | J43: =IF(I43-Données!$C$2>0,I43-Données!$C$2,0) -> 5.5511151e-17 | K43: {=IF(OR(C43=$U$19:$U$31),"FERIE","")}
C44: =IF(ISERROR(IF((C43+1)<=$C$6,(C43+1),"")),"",IF((C43+1)<=$C$6,(C43+1),"")) -> 44231 | D44: =IF(ISERROR(VLOOKUP(WEEKDAY($C44),$V$21:$W$27,2,0)),"",VLOOKUP(WEEKDAY($C44),$V$21:$W$27,2,0)) -> Jeudi | E44: =IF(OR(D44="Samedi",D44="Dimanche"),"",Données!$C$3) -> 0.35416667 | F44: =IF(OR(D44="Samedi",D44="Dimanche"),"",Données!$D$3) -> 0.5125 | G44: =IF(OR(D44="Samedi",D44="Dimanche"),"",Données!$E$3) -> 0.53680556 | H44: =IF(OR(D44="Samedi",D44="Dimanche"),"",Données!$F$3) -> 16:41 | I44: =IFERROR(IF(OR(D44="samedi",D44="dimanche")*(F44-E44)+(H44-G44)=0,"",F44-E44+(H44-G44)),"") -> 0.31666667 | J44: =IF(I44-Données!$C$2>0,I44-Données!$C$2,0) -> 5.5511151e-17 | K44: {=IF(OR(C44=$U$19:$U$31),"FERIE","")}
C45: =IF(ISERROR(IF((C44+1)<=$C$6,(C44+1),"")),"",IF((C44+1)<=$C$6,(C44+1),"")) -> 44232 | D45: =IF(ISERROR(VLOOKUP(WEEKDAY($C45),$V$21:$W$27,2,0)),"",VLOOKUP(WEEKDAY($C45),$V$21:$W$27,2,0)) -> Vendredi | E45: =IF(OR(D45="Samedi",D45="Dimanche"),"",Données!$C$3) -> 0.35416667 | F45: =IF(OR(D45="Samedi",D45="Dimanche"),"",Données!$D$3) -> 0.5125 | G45: =IF(OR(D45="Samedi",D45="Dimanche"),"",Données!$E$3) -> 0.53680556 | H45: =IF(OR(D45="Samedi",D45="Dimanche"),"",Données!$F$3) -> 16:41 | I45: =IFERROR(IF(OR(D45="samedi",D45="dimanche")*(F45-E45)+(H45-G45)=0,"",F45-E45+(H45-G45)),"") -> 0.31666667 | J45: =IF(I45-Données!$C$2>0,I45-Données!$C$2,0) -> 5.5511151e-17 | K45: {=IF(OR(C45=$U$19:$U$31),"FERIE","")}
C46: =IF(ISERROR(IF((C45+1)<=$C$6,(C45+1),"")),"",IF((C45+1)<=$C$6,(C45+1),"")) -> 44233 | D46: =IF(ISERROR(VLOOKUP(WEEKDAY($C46),$V$21:$W$27,2,0)),"",VLOOKUP(WEEKDAY($C46),$V$21:$W$27,2,0)) -> Samedi | E46: =IF(OR(D46="Samedi",D46="Dimanche"),"",Données!$C$3) | F46: =IF(OR(D46="Samedi",D46="Dimanche"),"",Données!$D$3) | G46: =IF(OR(D46="Samedi",D46="Dimanche"),"",Données!$E$3) | H46: =IF(OR(D46="Samedi",D46="Dimanche"),"",Données!$F$3) | I46: =IFERROR(IF(OR(D46="samedi",D46="dimanche")*(F46-E46)+(H46-G46)=0,"",F46-E46+(H46-G46)),"") | J46: =IF(D46="Dimanche",SUM(J40:J44),"") | K46: {=IF(OR(C46=$U$19:$U$31),"FERIE","")} | L46: =IF(D46="Dimanche",SUM(I40:I46),"")
B47: 6 | C47: =IF(ISERROR(IF((C46+1)<=$C$6,(C46+1),"")),"",IF((C46+1)<=$C$6,(C46+1),"")) -> 44234 | D47: =IF(ISERROR(VLOOKUP(WEEKDAY($C47),$V$21:$W$27,2,0)),"",VLOOKUP(WEEKDAY($C47),$V$21:$W$27,2,0)) -> Dimanche | E47: =IF(OR(D47="Samedi",D47="Dimanche"),"",Données!$C$3) | F47: =IF(OR(D47="Samedi",D47="Dimanche"),"",Données!$D$3) | G47: =IF(OR(D47="Samedi",D47="Dimanche"),"",Données!$E$3) | H47: =IF(OR(D47="Samedi",D47="Dimanche"),"",Données!$F$3) | I47: =IFERROR(IF(OR(D47="samedi",D47="dimanche")*(F47-E47)+(H47-G47)=0,"",F47-E47+(H47-G47)),"") | J47: =IF(D47="Dimanche",SUM(J41:J45),"") -> 2.7755576e-16 | K47: {=IF(OR(C47=$U$19:$U$31),"FERIE","")}
C48: =IF(ISERROR(IF((C47+1)<=$C$6,(C47+1),"")),"",IF((C47+1)<=$C$6,(C47+1),"")) -> 44235 | D48: =IF(ISERROR(VLOOKUP(WEEKDAY($C48),$V$21:$W$27,2,0)),"",VLOOKUP(WEEKDAY($C48),$V$21:$W$27,2,0)) -> Lundi | E48: =IF(OR(D48="Samedi",D48="Dimanche"),"",Données!$C$3) -> 0.35416667 | F48: =IF(OR(D48="Samedi",D48="Dimanche"),"",Données!$D$3) -> 0.5125 | G48: =IF(OR(D48="Samedi",D48="Dimanche"),"",Données!$E$3) -> 0.53680556 | H48: =IF(OR(D48="Samedi",D48="Dimanche"),"",Données!$F$3) -> 16:41 | I48: =IFERROR(IF(OR(D48="samedi",D48="dimanche")*(F48-E48)+(H48-G48)=0,"",F48-E48+(H48-G48)),"") -> 0.31666667 | J48: =IF(I48-Données!$C$2>0,I48-Données!$C$2,0) -> 5.5511151e-17 | K48: {=IF(OR(C48=$U$19:$U$31),"FERIE","")}
C49: =IF(ISERROR(IF((C48+1)<=$C$6,(C48+1),"")),"",IF((C48+1)<=$C$6,(C48+1),"")) -> 44236 | D49: =IF(ISERROR(VLOOKUP(WEEKDAY($C49),$V$21:$W$27,2,0)),"",VLOOKUP(WEEKDAY($C49),$V$21:$W$27,2,0)) -> Mardi | E49: =IF(OR(D49="Samedi",D49="Dimanche"),"",Données!$C$3) -> 0.35416667 | F49: =IF(OR(D49="Samedi",D49="Dimanche"),"",Données!$D$3) -> 0.5125 | G49: =IF(OR(D49="Samedi",D49="Dimanche"),"",Données!$E$3) -> 0.53680556 | H49: =IF(OR(D49="Samedi",D49="Dimanche"),"",Données!$F$3) -> 16:41 | I49: =IFERROR(IF(OR(D49="samedi",D49="dimanche")*(F49-E49)+(H49-G49)=0,"",F49-E49+(H49-G49)),"") -> 0.31666667 | J49: =IF(I49-Données!$C$2>0,I49-Données!$C$2,0) -> 5.5511151e-17 | K49: {=IF(OR(C49=$U$19:$U$31),"FERIE","")}
C50: =IF(ISERROR(IF((C49+1)<=$C$6,(C49+1),"")),"",IF((C49+1)<=$C$6,(C49+1),"")) -> 44237 | D50: =IF(ISERROR(VLOOKUP(WEEKDAY($C50),$V$21:$W$27,2,0)),"",VLOOKUP(WEEKDAY($C50),$V$21:$W$27,2,0)) -> Mercredi | E50: =IF(OR(D50="Samedi",D50="Dimanche"),"",Données!$C$3) -> 0.35416667 | F50: =IF(OR(D50="Samedi",D50="Dimanche"),"",Données!$D$3) -> 0.5125 | G50: =IF(OR(D50="Samedi",D50="Dimanche"),"",Données!$E$3) -> 0.53680556 | H50: =IF(OR(D50="Samedi",D50="Dimanche"),"",Données!$F$3) -> 16:41 | I50: =IFERROR(IF(OR(D50="samedi",D50="dimanche")*(F50-E50)+(H50-G50)=0,"",F50-E50+(H50-G50)),"") -> 0.31666667 | J50: =IF(I50-Données!$C$2>0,I50-Données!$C$2,0) -> 5.5511151e-17 | K50: {=IF(OR(C50=$U$19:$U$31),"FERIE","")}
C51: =IF(ISERROR(IF((C50+1)<=$C$6,(C50+1),"")),"",IF((C50+1)<=$C$6,(C50+1),"")) -> 44238 | D51: =IF(ISERROR(VLOOKUP(WEEKDAY($C51),$V$21:$W$27,2,0)),"",VLOOKUP(WEEKDAY($C51),$V$21:$W$27,2,0)) -> Jeudi | E51: =IF(OR(D51="Samedi",D51="Dimanche"),"",Données!$C$3) -> 0.35416667 | F51: =IF(OR(D51="Samedi",D51="Dimanche"),"",Données!$D$3) -> 0.5125 | G51: =IF(OR(D51="Samedi",D51="Dimanche"),"",Données!$E$3) -> 0.53680556 | H51: =IF(OR(D51="Samedi",D51="Dimanche"),"",Données!$F$3) -> 16:41 | I51: =IFERROR(IF(OR(D51="samedi",D51="dimanche")*(F51-E51)+(H51-G51)=0,"",F51-E51+(H51-G51)),"") -> 0.31666667 | J51: =IF(I51-Données!$C$2>0,I51-Données!$C$2,0) -> 5.5511151e-17 | K51: {=IF(OR(C51=$U$19:$U$31),"FERIE","")}
C52: =IF(ISERROR(IF((C51+1)<=$C$6,(C51+1),"")),"",IF((C51+1)<=$C$6,(C51+1),"")) -> 44239 | D52: =IF(ISERROR(VLOOKUP(WEEKDAY($C52),$V$21:$W$27,2,0)),"",VLOOKUP(WEEKDAY($C52),$V$21:$W$27,2,0)) -> Vendredi | E52: =IF(OR(D52="Samedi",D52="Dimanche"),"",Données!$C$3) -> 0.35416667 | F52: =IF(OR(D52="Samedi",D52="Dimanche"),"",Données!$D$3) -> 0.5125 | G52: =IF(OR(D52="Samedi",D52="Dimanche"),"",Données!$E$3) -> 0.53680556 | H52: =IF(OR(D52="Samedi",D52="Dimanche"),"",Données!$F$3) -> 16:41 | I52: =IFERROR(IF(OR(D52="samedi",D52="dimanche")*(F52-E52)+(H52-G52)=0,"",F52-E52+(H52-G52)),"") -> 0.31666667 | J52: =IF(I52-Données!$C$2>0,I52-Données!$C$2,0) -> 5.5511151e-17 | K52: {=IF(OR(C52=$U$19:$U$31),"FERIE","")}
C53: =IF(ISERROR(IF((C52+1)<=$C$6,(C52+1),"")),"",IF((C52+1)<=$C$6,(C52+1),"")) -> 44240 | D53: =IF(ISERROR(VLOOKUP(WEEKDAY($C53),$V$21:$W$27,2,0)),"",VLOOKUP(WEEKDAY($C53),$V$21:$W$27,2,0)) -> Samedi | E53: =IF(OR(D53="Samedi",D53="Dimanche"),"",Données!$C$3) | F53: =IF(OR(D53="Samedi",D53="Dimanche"),"",Données!$D$3) | G53: =IF(OR(D53="Samedi",D53="Dimanche"),"",Données!$E$3) | H53: =IF(OR(D53="Samedi",D53="Dimanche"),"",Données!$F$3) | I53: =IFERROR(IF(OR(D53="samedi",D53="dimanche")*(F53-E53)+(H53-G53)=0,"",F53-E53+(H53-G53)),"") | J53: =IF(D53="Dimanche",SUM(J47:J51),"") | K53: {=IF(OR(C53=$U$19:$U$31),"FERIE","")} | L53: =IF(D53="Dimanche",SUM(I47:I53),"")
B54: 7 | C54: =IF(ISERROR(IF((C53+1)<=$C$6,(C53+1),"")),"",IF((C53+1)<=$C$6,(C53+1),"")) -> 44241 | D54: =IF(ISERROR(VLOOKUP(WEEKDAY($C54),$V$21:$W$27,2,0)),"",VLOOKUP(WEEKDAY($C54),$V$21:$W$27,2,0)) -> Dimanche | E54: =IF(OR(D54="Samedi",D54="Dimanche"),"",Données!$C$3) | F54: =IF(OR(D54="Samedi",D54="Dimanche"),"",Données!$D$3) | G54: =IF(OR(D54="Samedi",D54="Dimanche"),"",Données!$E$3) | H54: =IF(OR(D54="Samedi",D54="Dimanche"),"",Données!$F$3) | I54: =IFERROR(IF(OR(D54="samedi",D54="dimanche")*(F54-E54)+(H54-G54)=0,"",F54-E54+(H54-G54)),"") | J54: =IF(D54="Dimanche",SUM(J48:J52),"") -> 2.7755576e-16 | K54: {=IF(OR(C54=$U$19:$U$31),"FERIE","")}
C55: =IF(ISERROR(IF((C54+1)<=$C$6,(C54+1),"")),"",IF((C54+1)<=$C$6,(C54+1),"")) -> 44242 | D55: =IF(ISERROR(VLOOKUP(WEEKDAY($C55),$V$21:$W$27,2,0)),"",VLOOKUP(WEEKDAY($C55),$V$21:$W$27,2,0)) -> Lundi | E55: =IF(OR(D55="Samedi",D55="Dimanche"),"",Données!$C$3) -> 0.35416667 | F55: =IF(OR(D55="Samedi",D55="Dimanche"),"",Données!$D$3) -> 0.5125 | G55: =IF(OR(D55="Samedi",D55="Dimanche"),"",Données!$E$3) -> 0.53680556 | H55: =IF(OR(D55="Samedi",D55="Dimanche"),"",Données!$F$3) -> 16:41 | I55: =IFERROR(IF(OR(D55="samedi",D55="dimanche")*(F55-E55)+(H55-G55)=0,"",F55-E55+(H55-G55)),"") -> 0.31666667 | J55: =IF(I55-Données!$C$2>0,I55-Données!$C$2,0) -> 5.5511151e-17 | K55: {=IF(OR(C55=$U$19:$U$31),"FERIE","")}
C56: =IF(ISERROR(IF((C55+1)<=$C$6,(C55+1),"")),"",IF((C55+1)<=$C$6,(C55+1),"")) -> 44243 | D56: =IF(ISERROR(VLOOKUP(WEEKDAY($C56),$V$21:$W$27,2,0)),"",VLOOKUP(WEEKDAY($C56),$V$21:$W$27,2,0)) -> Mardi | E56: =IF(OR(D56="Samedi",D56="Dimanche"),"",Données!$C$3) -> 0.35416667 | F56: =IF(OR(D56="Samedi",D56="Dimanche"),"",Données!$D$3) -> 0.5125 | G56: =IF(OR(D56="Samedi",D56="Dimanche"),"",Données!$E$3) -> 0.53680556 | H56: =IF(OR(D56="Samedi",D56="Dimanche"),"",Données!$F$3) -> 16:41 | I56: =IFERROR(IF(OR(D56="samedi",D56="dimanche")*(F56-E56)+(H56-G56)=0,"",F56-E56+(H56-G56)),"") -> 0.31666667 | J56: =IF(I56-Données!$C$2>0,I56-Données!$C$2,0) -> 5.5511151e-17 | K56: {=IF(OR(C56=$U$19:$U$31),"FERIE","")}
C57: =IF(ISERROR(IF((C56+1)<=$C$6,(C56+1),"")),"",IF((C56+1)<=$C$6,(C56+1),"")) -> 44244 | D57: =IF(ISERROR(VLOOKUP(WEEKDAY($C57),$V$21:$W$27,2,0)),"",VLOOKUP(WEEKDAY($C57),$V$21:$W$27,2,0)) -> Mercredi | E57: =IF(OR(D57="Samedi",D57="Dimanche"),"",Données!$C$3) -> 0.35416667 | F57: =IF(OR(D57="Samedi",D57="Dimanche"),"",Données!$D$3) -> 0.5125 | G57: =IF(OR(D57="Samedi",D57="Dimanche"),"",Données!$E$3) -> 0.53680556 | H57: =IF(OR(D57="Samedi",D57="Dimanche"),"",Données!$F$3) -> 16:41 | I57: =IFERROR(IF(OR(D57="samedi",D57="dimanche")*(F57-E57)+(H57-G57)=0,"",F57-E57+(H57-G57)),"") -> 0.31666667 | J57: =IF(I57-Données!$C$2>0,I57-Données!$C$2,0) -> 5.5511151e-17 | K57: {=IF(OR(C57=$U$19:$U$31),"FERIE","")}
C58: =IF(ISERROR(IF((C57+1)<=$C$6,(C57+1),"")),"",IF((C57+1)<=$C$6,(C57+1),"")) -> 44245 | D58: =IF(ISERROR(VLOOKUP(WEEKDAY($C58),$V$21:$W$27,2,0)),"",VLOOKUP(WEEKDAY($C58),$V$21:$W$27,2,0)) -> Jeudi | E58: =IF(OR(D58="Samedi",D58="Dimanche"),"",Données!$C$3) -> 0.35416667 | F58: =IF(OR(D58="Samedi",D58="Dimanche"),"",Données!$D$3) -> 0.5125 | G58: =IF(OR(D58="Samedi",D58="Dimanche"),"",Données!$E$3) -> 0.53680556 | H58: =IF(OR(D58="Samedi",D58="Dimanche"),"",Données!$F$3) -> 16:41 | I58: =IFERROR(IF(OR(D58="samedi",D58="dimanche")*(F58-E58)+(H58-G58)=0,"",F58-E58+(H58-G58)),"") -> 0.31666667 | J58: =IF(I58-Données!$C$2>0,I58-Données!$C$2,0) -> 5.5511151e-17 | K58: {=IF(OR(C58=$U$19:$U$31),"FERIE","")}
C59: =IF(ISERROR(IF((C58+1)<=$C$6,(C58+1),"")),"",IF((C58+1)<=$C$6,(C58+1),"")) -> 44246 | D59: =IF(ISERROR(VLOOKUP(WEEKDAY($C59),$V$21:$W$27,2,0)),"",VLOOKUP(WEEKDAY($C59),$V$21:$W$27,2,0)) -> Vendredi | E59: =IF(OR(D59="Samedi",D59="Dimanche"),"",Données!$C$3) -> 0.35416667 | F59: =IF(OR(D59="Samedi",D59="Dimanche"),"",Données!$D$3) -> 0.5125 | G59: =IF(OR(D59="Samedi",D59="Dimanche"),"",Données!$E$3) -> 0.53680556 | H59: =IF(OR(D59="Samedi",D59="Dimanche"),"",Données!$F$3) -> 16:41 | I59: =IFERROR(IF(OR(D59="samedi",D59="dimanche")*(F59-E59)+(H59-G59)=0,"",F59-E59+(H59-G59)),"") -> 0.31666667 | J59: =IF(I59-Données!$C$2>0,I59-Données!$C$2,0) -> 5.5511151e-17 | K59: {=IF(OR(C59=$U$19:$U$31),"FERIE","")}
C60: =IF(ISERROR(IF((C59+1)<=$C$6,(C59+1),"")),"",IF((C59+1)<=$C$6,(C59+1),"")) -> 44247 | D60: =IF(ISERROR(VLOOKUP(WEEKDAY($C60),$V$21:$W$27,2,0)),"",VLOOKUP(WEEKDAY($C60),$V$21:$W$27,2,0)) -> Samedi | E60: =IF(OR(D60="Samedi",D60="Dimanche"),"",Données!$C$3) | F60: =IF(OR(D60="Samedi",D60="Dimanche"),"",Données!$D$3) | G60: =IF(OR(D60="Samedi",D60="Dimanche"),"",Données!$E$3) | H60: =IF(OR(D60="Samedi",D60="Dimanche"),"",Données!$F$3) | I60: =IFERROR(IF(OR(D60="samedi",D60="dimanche")*(F60-E60)+(H60-G60)=0,"",F60-E60+(H60-G60)),"") | J60: =IF(D60="Dimanche",SUM(J54:J58),"") | K60: {=IF(OR(C60=$U$19:$U$31),"FERIE","")} | L60: =IF(D60="Dimanche",SUM(I54:I60),"")
B61: 8 | C61: =IF(ISERROR(IF((C60+1)<=$C$6,(C60+1),"")),"",IF((C60+1)<=$C$6,(C60+1),"")) -> 44248 | D61: =IF(ISERROR(VLOOKUP(WEEKDAY($C61),$V$21:$W$27,2,0)),"",VLOOKUP(WEEKDAY($C61),$V$21:$W$27,2,0)) -> Dimanche | E61: =IF(OR(D61="Samedi",D61="Dimanche"),"",Données!$C$3) | F61: =IF(OR(D61="Samedi",D61="Dimanche"),"",Données!$D$3) | G61: =IF(OR(D61="Samedi",D61="Dimanche"),"",Données!$E$3) | H61: =IF(OR(D61="Samedi",D61="Dimanche"),"",Données!$F$3) | I61: =IFERROR(IF(OR(D61="samedi",D61="dimanche")*(F61-E61)+(H61-G61)=0,"",F61-E61+(H61-G61)),"") | J61: =IF(D61="Dimanche",SUM(J55:J59),"") -> 2.7755576e-16 | K61: {=IF(OR(C61=$U$19:$U$31),"FERIE","")}
C62: =IF(ISERROR(IF((C61+1)<=$C$6,(C61+1),"")),"",IF((C61+1)<=$C$6,(C61+1),"")) -> 44249 | D62: =IF(ISERROR(VLOOKUP(WEEKDAY($C62),$V$21:$W$27,2,0)),"",VLOOKUP(WEEKDAY($C62),$V$21:$W$27,2,0)) -> Lundi | E62: =IF(OR(D62="Samedi",D62="Dimanche"),"",Données!$C$3) -> 0.35416667 | F62: =IF(OR(D62="Samedi",D62="Dimanche"),"",Données!$D$3) -> 0.5125 | G62: =IF(OR(D62="Samedi",D62="Dimanche"),"",Données!$E$3) -> 0.53680556 | H62: =IF(OR(D62="Samedi",D62="Dimanche"),"",Données!$F$3) -> 16:41 | I62: =IFERROR(IF(OR(D62="samedi",D62="dimanche")*(F62-E62)+(H62-G62)=0,"",F62-E62+(H62-G62)),"") -> 0.31666667 | J62: =IF(I62-Données!$C$2>0,I62-Données!$C$2,0) -> 5.5511151e-17 | K62: {=IF(OR(C62=$U$19:$U$31),"FERIE","")}
C63: =IF(ISERROR(IF((C62+1)<=$C$6,(C62+1),"")),"",IF((C62+1)<=$C$6,(C62+1),"")) -> 44250 | D63: =IF(ISERROR(VLOOKUP(WEEKDAY($C63),$V$21:$W$27,2,0)),"",VLOOKUP(WEEKDAY($C63),$V$21:$W$27,2,0)) -> Mardi | E63: =IF(OR(D63="Samedi",D63="Dimanche"),"",Données!$C$3) -> 0.35416667 | F63: =IF(OR(D63="Samedi",D63="Dimanche"),"",Données!$D$3) -> 0.5125 | G63: =IF(OR(D63="Samedi",D63="Dimanche"),"",Données!$E$3) -> 0.53680556 | H63: =IF(OR(D63="Samedi",D63="Dimanche"),"",Données!$F$3) -> 16:41 | I63: =IFERROR(IF(OR(D63="samedi",D63="dimanche")*(F63-E63)+(H63-G63)=0,"",F63-E63+(H63-G63)),"") -> 0.31666667 | J63: =IF(I63-Données!$C$2>0,I63-Données!$C$2,0) -> 5.5511151e-17 | K63: {=IF(OR(C63=$U$19:$U$31),"FERIE","")}
C64: =IF(ISERROR(IF((C63+1)<=$C$6,(C63+1),"")),"",IF((C63+1)<=$C$6,(C63+1),"")) -> 44251 | D64: =IF(ISERROR(VLOOKUP(WEEKDAY($C64),$V$21:$W$27,2,0)),"",VLOOKUP(WEEKDAY($C64),$V$21:$W$27,2,0)) -> Mercredi | E64: =IF(OR(D64="Samedi",D64="Dimanche"),"",Données!$C$3) -> 0.35416667 | F64: =IF(OR(D64="Samedi",D64="Dimanche"),"",Données!$D$3) -> 0.5125 | G64: =IF(OR(D64="Samedi",D64="Dimanche"),"",Données!$E$3) -> 0.53680556 | H64: =IF(OR(D64="Samedi",D64="Dimanche"),"",Données!$F$3) -> 16:41 | I64: =IFERROR(IF(OR(D64="samedi",D64="dimanche")*(F64-E64)+(H64-G64)=0,"",F64-E64+(H64-G64)),"") -> 0.31666667 | J64: =IF(I64-Données!$C$2>0,I64-Données!$C$2,0) -> 5.5511151e-17 | K64: {=IF(OR(C64=$U$19:$U$31),"FERIE","")}
C65: =IF(ISERROR(IF((C64+1)<=$C$6,(C64+1),"")),"",IF((C64+1)<=$C$6,(C64+1),"")) -> 44252 | D65: =IF(ISERROR(VLOOKUP(WEEKDAY($C65),$V$21:$W$27,2,0)),"",VLOOKUP(WEEKDAY($C65),$V$21:$W$27,2,0)) -> Jeudi | E65: =IF(OR(D65="Samedi",D65="Dimanche"),"",Données!$C$3) -> 0.35416667 | F65: =IF(OR(D65="Samedi",D65="Dimanche"),"",Données!$D$3) -> 0.5125 | G65: =IF(OR(D65="Samedi",D65="Dimanche"),"",Données!$E$3) -> 0.53680556 | H65: =IF(OR(D65="Samedi",D65="Dimanche"),"",Données!$F$3) -> 16:41 | I65: =IFERROR(IF(OR(D65="samedi",D65="dimanche")*(F65-E65)+(H65-G65)=0,"",F65-E65+(H65-G65)),"") -> 0.31666667 | J65: =IF(I65-Données!$C$2>0,I65-Données!$C$2,0) -> 5.5511151e-17 | K65: {=IF(OR(C65=$U$19:$U$31),"FERIE","")}
C66: =IF(ISERROR(IF((C65+1)<=$C$6,(C65+1),"")),"",IF((C65+1)<=$C$6,(C65+1),"")) -> 44253 | D66: =IF(ISERROR(VLOOKUP(WEEKDAY($C66),$V$21:$W$27,2,0)),"",VLOOKUP(WEEKDAY($C66),$V$21:$W$27,2,0)) -> Vendredi | E66: =IF(OR(D66="Samedi",D66="Dimanche"),"",Données!$C$3) -> 0.35416667 | F66: =IF(OR(D66="Samedi",D66="Dimanche"),"",Données!$D$3) -> 0.5125 | G66: =IF(OR(D66="Samedi",D66="Dimanche"),"",Données!$E$3) -> 0.53680556 | H66: =IF(OR(D66="Samedi",D66="Dimanche"),"",Données!$F$3) -> 16:41 | I66: =IFERROR(IF(OR(D66="samedi",D66="dimanche")*(F66-E66)+(H66-G66)=0,"",F66-E66+(H66-G66)),"") -> 0.31666667 | J66: =IF(I66-Données!$C$2>0,I66-Données!$C$2,0) -> 5.5511151e-17 | K66: {=IF(OR(C66=$U$19:$U$31),"FERIE","")}
C67: =IF(ISERROR(IF((C66+1)<=$C$6,(C66+1),"")),"",IF((C66+1)<=$C$6,(C66+1),"")) -> 44254 | D67: =IF(ISERROR(VLOOKUP(WEEKDAY($C67),$V$21:$W$27,2,0)),"",VLOOKUP(WEEKDAY($C67),$V$21:$W$27,2,0)) -> Samedi | E67: =IF(OR(D67="Samedi",D67="Dimanche"),"",Données!$C$3) | F67: =IF(OR(D67="Samedi",D67="Dimanche"),"",Données!$D$3) | G67: =IF(OR(D67="Samedi",D67="Dimanche"),"",Données!$E$3) | H67: =IF(OR(D67="Samedi",D67="Dimanche"),"",Données!$F$3) | I67: =IFERROR(IF(OR(D67="samedi",D67="dimanche")*(F67-E67)+(H67-G67)=0,"",F67-E67+(H67-G67)),"") | J67: =IF(D67="Dimanche",SUM(J61:J65),"") | K67: {=IF(OR(C67=$U$19:$U$31),"FERIE","")} | L67: =IF(D67="Dimanche",SUM(I61:I67),"")
B68: 9 | C68: =IF(ISERROR(IF((C67+1)<=$C$6,(C67+1),"")),"",IF((C67+1)<=$C$6,(C67+1),"")) -> 44255 | D68: =IF(ISERROR(VLOOKUP(WEEKDAY($C68),$V$21:$W$27,2,0)),"",VLOOKUP(WEEKDAY($C68),$V$21:$W$27,2,0)) -> Dimanche | E68: =IF(OR(D68="Samedi",D68="Dimanche"),"",Données!$C$3) | F68: =IF(OR(D68="Samedi",D68="Dimanche"),"",Données!$D$3) | G68: =IF(OR(D68="Samedi",D68="Dimanche"),"",Données!$E$3) | H68: =IF(OR(D68="Samedi",D68="Dimanche"),"",Données!$F$3) | I68: =IFERROR(IF(OR(D68="samedi",D68="dimanche")*(F68-E68)+(H68-G68)=0,"",F68-E68+(H68-G68)),"") | J68: =IF(D68="Dimanche",SUM(J62:J66),"") -> 2.7755576e-16 | K68: {=IF(OR(C68=$U$19:$U$31),"FERIE","")}
A69: =VLOOKUP(MONTH($C69),$V$8:$W$19,2,0) -> MARS | C69: =IF(ISERROR(IF((C68+1)<=$C$6,(C68+1),"")),"",IF((C68+1)<=$C$6,(C68+1),"")) -> 44256 | D69: =IF(ISERROR(VLOOKUP(WEEKDAY($C69),$V$21:$W$27,2,0)),"",VLOOKUP(WEEKDAY($C69),$V$21:$W$27,2,0)) -> Lundi | E69: =IF(OR(D69="Samedi",D69="Dimanche"),"",Données!$C$3) -> 0.35416667 | F69: =IF(OR(D69="Samedi",D69="Dimanche"),"",Données!$D$3) -> 0.5125 | G69: =IF(OR(D69="Samedi",D69="Dimanche"),"",Données!$E$3) -> 0.53680556 | H69: =IF(OR(D69="Samedi",D69="Dimanche"),"",Données!$F$3) -> 16:41 | I69: =IFERROR(IF(OR(D69="samedi",D69="dimanche")*(F69-E69)+(H69-G69)=0,"",F69-E69+(H69-G69)),"") -> 0.31666667 | J69: =IF(I69-Données!$C$2>0,I69-Données!$C$2,0) -> 5.5511151e-17 | K69: {=IF(OR(C69=$U$19:$U$31),"FERIE","")} | M69: =SUMIF(K69:K99,"HCR",J69:J99) -> 0 | N69: =SUMIF(K69:K99,"HPL",J69:J99) -> 0 | O69: =N69*24 -> 0 | R69: =O69-(P69+Q69) -> 0
C70: =IF(ISERROR(IF((C69+1)<=$C$6,(C69+1),"")),"",IF((C69+1)<=$C$6,(C69+1),"")) -> 44257 | D70: =IF(ISERROR(VLOOKUP(WEEKDAY($C70),$V$21:$W$27,2,0)),"",VLOOKUP(WEEKDAY($C70),$V$21:$W$27,2,0)) -> Mardi | E70: =IF(OR(D70="Samedi",D70="Dimanche"),"",Données!$C$3) -> 0.35416667 | F70: =IF(OR(D70="Samedi",D70="Dimanche"),"",Données!$D$3) -> 0.5125 | G70: =IF(OR(D70="Samedi",D70="Dimanche"),"",Données!$E$3) -> 0.53680556 | H70: =IF(OR(D70="Samedi",D70="Dimanche"),"",Données!$F$3) -> 16:41 | I70: =IFERROR(IF(OR(D70="samedi",D70="dimanche")*(F70-E70)+(H70-G70)=0,"",F70-E70+(H70-G70)),"") -> 0.31666667 | J70: =IF(I70-Données!$C$2>0,I70-Données!$C$2,0) -> 5.5511151e-17 | K70: {=IF(OR(C70=$U$19:$U$31),"FERIE","")}
C71: =IF(ISERROR(IF((C70+1)<=$C$6,(C70+1),"")),"",IF((C70+1)<=$C$6,(C70+1),"")) -> 44258 | D71: =IF(ISERROR(VLOOKUP(WEEKDAY($C71),$V$21:$W$27,2,0)),"",VLOOKUP(WEEKDAY($C71),$V$21:$W$27,2,0)) -> Mercredi | E71: =IF(OR(D71="Samedi",D71="Dimanche"),"",Données!$C$3) -> 0.35416667 | F71: =IF(OR(D71="Samedi",D71="Dimanche"),"",Données!$D$3) -> 0.5125 | G71: =IF(OR(D71="Samedi",D71="Dimanche"),"",Données!$E$3) -> 0.53680556 | H71: =IF(OR(D71="Samedi",D71="Dimanche"),"",Données!$F$3) -> 16:41 | I71: =IFERROR(IF(OR(D71="samedi",D71="dimanche")*(F71-E71)+(H71-G71)=0,"",F71-E71+(H71-G71)),"") -> 0.31666667 | J71: =IF(I71-Données!$C$2>0,I71-Données!$C$2,0) -> 5.5511151e-17 | K71: {=IF(OR(C71=$U$19:$U$31),"FERIE","")}
C72: =IF(ISERROR(IF((C71+1)<=$C$6,(C71+1),"")),"",IF((C71+1)<=$C$6,(C71+1),"")) -> 44259 | D72: =IF(ISERROR(VLOOKUP(WEEKDAY($C72),$V$21:$W$27,2,0)),"",VLOOKUP(WEEKDAY($C72),$V$21:$W$27,2,0)) -> Jeudi | E72: =IF(OR(D72="Samedi",D72="Dimanche"),"",Données!$C$3) -> 0.35416667 | F72: =IF(OR(D72="Samedi",D72="Dimanche"),"",Données!$D$3) -> 0.5125 | G72: =IF(OR(D72="Samedi",D72="Dimanche"),"",Données!$E$3) -> 0.53680556 | H72: =IF(OR(D72="Samedi",D72="Dimanche"),"",Données!$F$3) -> 16:41 | I72: =IFERROR(IF(OR(D72="samedi",D72="dimanche")*(F72-E72)+(H72-G72)=0,"",F72-E72+(H72-G72)),"") -> 0.31666667 | J72: =IF(I72-Données!$C$2>0,I72-Données!$C$2,0) -> 5.5511151e-17 | K72: {=IF(OR(C72=$U$19:$U$31),"FERIE","")}
C73: =IF(ISERROR(IF((C72+1)<=$C$6,(C72+1),"")),"",IF((C72+1)<=$C$6,(C72+1),"")) -> 44260 | D73: =IF(ISERROR(VLOOKUP(WEEKDAY($C73),$V$21:$W$27,2,0)),"",VLOOKUP(WEEKDAY($C73),$V$21:$W$27,2,0)) -> Vendredi | E73: =IF(OR(D73="Samedi",D73="Dimanche"),"",Données!$C$3) -> 0.35416667 | F73: =IF(OR(D73="Samedi",D73="Dimanche"),"",Données!$D$3) -> 0.5125 | G73: =IF(OR(D73="Samedi",D73="Dimanche"),"",Données!$E$3) -> 0.53680556 | H73: =IF(OR(D73="Samedi",D73="Dimanche"),"",Données!$F$3) -> 16:41 | I73: =IFERROR(IF(OR(D73="samedi",D73="dimanche")*(F73-E73)+(H73-G73)=0,"",F73-E73+(H73-G73)),"") -> 0.31666667 | J73: =IF(I73-Données!$C$2>0,I73-Données!$C$2,0) -> 5.5511151e-17 | K73: {=IF(OR(C73=$U$19:$U$31),"FERIE","")}
C74: =IF(ISERROR(IF((C73+1)<=$C$6,(C73+1),"")),"",IF((C73+1)<=$C$6,(C73+1),"")) -> 44261 | D74: =IF(ISERROR(VLOOKUP(WEEKDAY($C74),$V$21:$W$27,2,0)),"",VLOOKUP(WEEKDAY($C74),$V$21:$W$27,2,0)) -> Samedi | E74: =IF(OR(D74="Samedi",D74="Dimanche"),"",Données!$C$3) | F74: =IF(OR(D74="Samedi",D74="Dimanche"),"",Données!$D$3) | G74: =IF(OR(D74="Samedi",D74="Dimanche"),"",Données!$E$3) | H74: =IF(OR(D74="Samedi",D74="Dimanche"),"",Données!$F$3) | I74: =IFERROR(IF(OR(D74="samedi",D74="dimanche")*(F74-E74)+(H74-G74)=0,"",F74-E74+(H74-G74)),"") | J74: =IF(D74="Dimanche",SUM(J68:J72),"") | K74: {=IF(OR(C74=$U$19:$U$31),"FERIE","")} | L74: =IF(D74="Dimanche",SUM(I68:I74),"")
B75: 10 | C75: =IF(ISERROR(IF((C74+1)<=$C$6,(C74+1),"")),"",IF((C74+1)<=$C$6,(C74+1),"")) -> 44262 | D75: =IF(ISERROR(VLOOKUP(WEEKDAY($C75),$V$21:$W$27,2,0)),"",VLOOKUP(WEEKDAY($C75),$V$21:$W$27,2,0)) -> Dimanche | E75: =IF(OR(D75="Samedi",D75="Dimanche"),"",Données!$C$3) | F75: =IF(OR(D75="Samedi",D75="Dimanche"),"",Données!$D$3) | G75: =IF(OR(D75="Samedi",D75="Dimanche"),"",Données!$E$3) | H75: =IF(OR(D75="Samedi",D75="Dimanche"),"",Données!$F$3) | I75: =IFERROR(IF(OR(D75="samedi",D75="dimanche")*(F75-E75)+(H75-G75)=0,"",F75-E75+(H75-G75)),"") | J75: =IF(D75="Dimanche",SUM(J69:J73),"") -> 2.7755576e-16 | K75: {=IF(OR(C75=$U$19:$U$31),"FERIE","")}
C76: =IF(ISERROR(IF((C75+1)<=$C$6,(C75+1),"")),"",IF((C75+1)<=$C$6,(C75+1),"")) -> 44263 | D76: =IF(ISERROR(VLOOKUP(WEEKDAY($C76),$V$21:$W$27,2,0)),"",VLOOKUP(WEEKDAY($C76),$V$21:$W$27,2,0)) -> Lundi | E76: =IF(OR(D76="Samedi",D76="Dimanche"),"",Données!$C$3) -> 0.35416667 | F76: =IF(OR(D76="Samedi",D76="Dimanche"),"",Données!$D$3) -> 0.5125 | G76: =IF(OR(D76="Samedi",D76="Dimanche"),"",Données!$E$3) -> 0.53680556 | H76: =IF(OR(D76="Samedi",D76="Dimanche"),"",Données!$F$3) -> 16:41 | I76: =IFERROR(IF(OR(D76="samedi",D76="dimanche")*(F76-E76)+(H76-G76)=0,"",F76-E76+(H76-G76)),"") -> 0.31666667 | J76: =IF(I76-Données!$C$2>0,I76-Données!$C$2,0) -> 5.5511151e-17 | K76: {=IF(OR(C76=$U$19:$U$31),"FERIE","")}
C77: =IF(ISERROR(IF((C76+1)<=$C$6,(C76+1),"")),"",IF((C76+1)<=$C$6,(C76+1),"")) -> 44264 | D77: =IF(ISERROR(VLOOKUP(WEEKDAY($C77),$V$21:$W$27,2,0)),"",VLOOKUP(WEEKDAY($C77),$V$21:$W$27,2,0)) -> Mardi | E77: =IF(OR(D77="Samedi",D77="Dimanche"),"",Données!$C$3) -> 0.35416667 | F77: =IF(OR(D77="Samedi",D77="Dimanche"),"",Données!$D$3) -> 0.5125 | G77: =IF(OR(D77="Samedi",D77="Dimanche"),"",Données!$E$3) -> 0.53680556 | H77: =IF(OR(D77="Samedi",D77="Dimanche"),"",Données!$F$3) -> 16:41 | I77: =IFERROR(IF(OR(D77="samedi",D77="dimanche")*(F77-E77)+(H77-G77)=0,"",F77-E77+(H77-G77)),"") -> 0.31666667 | J77: =IF(I77-Données!$C$2>0,I77-Données!$C$2,0) -> 5.5511151e-17 | K77: {=IF(OR(C77=$U$19:$U$31),"FERIE","")}
C78: =IF(ISERROR(IF((C77+1)<=$C$6,(C77+1),"")),"",IF((C77+1)<=$C$6,(C77+1),"")) -> 44265 | D78: =IF(ISERROR(VLOOKUP(WEEKDAY($C78),$V$21:$W$27,2,0)),"",VLOOKUP(WEEKDAY($C78),$V$21:$W$27,2,0)) -> Mercredi | E78: =IF(OR(D78="Samedi",D78="Dimanche"),"",Données!$C$3) -> 0.35416667 | F78: =IF(OR(D78="Samedi",D78="Dimanche"),"",Données!$D$3) -> 0.5125 | G78: =IF(OR(D78="Samedi",D78="Dimanche"),"",Données!$E$3) -> 0.53680556 | H78: =IF(OR(D78="Samedi",D78="Dimanche"),"",Données!$F$3) -> 16:41 | I78: =IFERROR(IF(OR(D78="samedi",D78="dimanche")*(F78-E78)+(H78-G78)=0,"",F78-E78+(H78-G78)),"") -> 0.31666667 | J78: =IF(I78-Données!$C$2>0,I78-Données!$C$2,0) -> 5.5511151e-17 | K78: {=IF(OR(C78=$U$19:$U$31),"FERIE","")}
C79: =IF(ISERROR(IF((C78+1)<=$C$6,(C78+1),"")),"",IF((C78+1)<=$C$6,(C78+1),"")) -> 44266 | D79: =IF(ISERROR(VLOOKUP(WEEKDAY($C79),$V$21:$W$27,2,0)),"",VLOOKUP(WEEKDAY($C79),$V$21:$W$27,2,0)) -> Jeudi | E79: =IF(OR(D79="Samedi",D79="Dimanche"),"",Données!$C$3) -> 0.35416667 | F79: =IF(OR(D79="Samedi",D79="Dimanche"),"",Données!$D$3) -> 0.5125 | G79: =IF(OR(D79="Samedi",D79="Dimanche"),"",Données!$E$3) -> 0.53680556 | H79: =IF(OR(D79="Samedi",D79="Dimanche"),"",Données!$F$3) -> 16:41 | I79: =IFERROR(IF(OR(D79="samedi",D79="dimanche")*(F79-E79)+(H79-G79)=0,"",F79-E79+(H79-G79)),"") -> 0.31666667 | J79: =IF(I79-Données!$C$2>0,I79-Données!$C$2,0) -> 5.5511151e-17 | K79: {=IF(OR(C79=$U$19:$U$31),"FERIE","")}
C80: =IF(ISERROR(IF((C79+1)<=$C$6,(C79+1),"")),"",IF((C79+1)<=$C$6,(C79+1),"")) -> 44267 | D80: =IF(ISERROR(VLOOKUP(WEEKDAY($C80),$V$21:$W$27,2,0)),"",VLOOKUP(WEEKDAY($C80),$V$21:$W$27,2,0)) -> Vendredi | E80: =IF(OR(D80="Samedi",D80="Dimanche"),"",Données!$C$3) -> 0.35416667 | F80: =IF(OR(D80="Samedi",D80="Dimanche"),"",Données!$D$3) -> 0.5125 | G80: =IF(OR(D80="Samedi",D80="Dimanche"),"",Données!$E$3) -> 0.53680556 | H80: =IF(OR(D80="Samedi",D80="Dimanche"),"",Données!$F$3) -> 16:41 | I80: =IFERROR(IF(OR(D80="samedi",D80="dimanche")*(F80-E80)+(H80-G80)=0,"",F80-E80+(H80-G80)),"") -> 0.31666667 | J80: =IF(I80-Données!$C$2>0,I80-Données!$C$2,0) -> 5.5511151e-17 | K80: {=IF(OR(C80=$U$19:$U$31),"FERIE","")}
C81: =IF(ISERROR(IF((C80+1)<=$C$6,(C80+1),"")),"",IF((C80+1)<=$C$6,(C80+1),"")) -> 44268 | D81: =IF(ISERROR(VLOOKUP(WEEKDAY($C81),$V$21:$W$27,2,0)),"",VLOOKUP(WEEKDAY($C81),$V$21:$W$27,2,0)) -> Samedi | E81: =IF(OR(D81="Samedi",D81="Dimanche"),"",Données!$C$3) | F81: =IF(OR(D81="Samedi",D81="Dimanche"),"",Données!$D$3) | G81: =IF(OR(D81="Samedi",D81="Dimanche"),"",Données!$E$3) | H81: =IF(OR(D81="Samedi",D81="Dimanche"),"",Données!$F$3) | I81: =IFERROR(IF(OR(D81="samedi",D81="dimanche")*(F81-E81)+(H81-G81)=0,"",F81-E81+(H81-G81)),"") | J81: =IF(D81="Dimanche",SUM(J75:J79),"") | K81: {=IF(OR(C81=$U$19:$U$31),"FERIE","")} | L81: =IF(D81="Dimanche",SUM(I75:I81),"")
B82: 11 | C82: =IF(ISERROR(IF((C81+1)<=$C$6,(C81+1),"")),"",IF((C81+1)<=$C$6,(C81+1),"")) -> 44269 | D82: =IF(ISERROR(VLOOKUP(WEEKDAY($C82),$V$21:$W$27,2,0)),"",VLOOKUP(WEEKDAY($C82),$V$21:$W$27,2,0)) -> Dimanche | E82: =IF(OR(D82="Samedi",D82="Dimanche"),"",Données!$C$3) | F82: =IF(OR(D82="Samedi",D82="Dimanche"),"",Données!$D$3) | G82: =IF(OR(D82="Samedi",D82="Dimanche"),"",Données!$E$3) | H82: =IF(OR(D82="Samedi",D82="Dimanche"),"",Données!$F$3) | I82: =IFERROR(IF(OR(D82="samedi",D82="dimanche")*(F82-E82)+(H82-G82)=0,"",F82-E82+(H82-G82)),"") | J82: =IF(D82="Dimanche",SUM(J76:J80),"") -> 2.7755576e-16 | K82: {=IF(OR(C82=$U$19:$U$31),"FERIE","")}
C83: =IF(ISERROR(IF((C82+1)<=$C$6,(C82+1),"")),"",IF((C82+1)<=$C$6,(C82+1),"")) -> 44270 | D83: =IF(ISERROR(VLOOKUP(WEEKDAY($C83),$V$21:$W$27,2,0)),"",VLOOKUP(WEEKDAY($C83),$V$21:$W$27,2,0)) -> Lundi | E83: =IF(OR(D83="Samedi",D83="Dimanche"),"",Données!$C$3) -> 0.35416667 | F83: =IF(OR(D83="Samedi",D83="Dimanche"),"",Données!$D$3) -> 0.5125 | G83: =IF(OR(D83="Samedi",D83="Dimanche"),"",Données!$E$3) -> 0.53680556 | H83: =IF(OR(D83="Samedi",D83="Dimanche"),"",Données!$F$3) -> 16:41 | I83: =IFERROR(IF(OR(D83="samedi",D83="dimanche")*(F83-E83)+(H83-G83)=0,"",F83-E83+(H83-G83)),"") -> 0.31666667 | J83: =IF(I83-Données!$C$2>0,I83-Données!$C$2,0) -> 5.5511151e-17 | K83: {=IF(OR(C83=$U$19:$U$31),"FERIE","")}
C84: =IF(ISERROR(IF((C83+1)<=$C$6,(C83+1),"")),"",IF((C83+1)<=$C$6,(C83+1),"")) -> 44271 | D84: =IF(ISERROR(VLOOKUP(WEEKDAY($C84),$V$21:$W$27,2,0)),"",VLOOKUP(WEEKDAY($C84),$V$21:$W$27,2,0)) -> Mardi | E84: =IF(OR(D84="Samedi",D84="Dimanche"),"",Données!$C$3) -> 0.35416667 | F84: =IF(OR(D84="Samedi",D84="Dimanche"),"",Données!$D$3) -> 0.5125 | G84: =IF(OR(D84="Samedi",D84="Dimanche"),"",Données!$E$3) -> 0.53680556 | H84: =IF(OR(D84="Samedi",D84="Dimanche"),"",Données!$F$3) -> 16:41 | I84: =IFERROR(IF(OR(D84="samedi",D84="dimanche")*(F84-E84)+(H84-G84)=0,"",F84-E84+(H84-G84)),"") -> 0.31666667 | J84: =IF(I84-Données!$C$2>0,I84-Données!$C$2,0) -> 5.5511151e-17 | K84: {=IF(OR(C84=$U$19:$U$31),"FERIE","")}
C85: =IF(ISERROR(IF((C84+1)<=$C$6,(C84+1),"")),"",IF((C84+1)<=$C$6,(C84+1),"")) -> 44272 | D85: =IF(ISERROR(VLOOKUP(WEEKDAY($C85),$V$21:$W$27,2,0)),"",VLOOKUP(WEEKDAY($C85),$V$21:$W$27,2,0)) -> Mercredi | E85: =IF(OR(D85="Samedi",D85="Dimanche"),"",Données!$C$3) -> 0.35416667 | F85: =IF(OR(D85="Samedi",D85="Dimanche"),"",Données!$D$3) -> 0.5125 | G85: =IF(OR(D85="Samedi",D85="Dimanche"),"",Données!$E$3) -> 0.53680556 | H85: =IF(OR(D85="Samedi",D85="Dimanche"),"",Données!$F$3) -> 16:41 | I85: =IFERROR(IF(OR(D85="samedi",D85="dimanche")*(F85-E85)+(H85-G85)=0,"",F85-E85+(H85-G85)),"") -> 0.31666667 | J85: =IF(I85-Données!$C$2>0,I85-Données!$C$2,0) -> 5.5511151e-17 | K85: {=IF(OR(C85=$U$19:$U$31),"FERIE","")}
C86: =IF(ISERROR(IF((C85+1)<=$C$6,(C85+1),"")),"",IF((C85+1)<=$C$6,(C85+1),"")) -> 44273 | D86: =IF(ISERROR(VLOOKUP(WEEKDAY($C86),$V$21:$W$27,2,0)),"",VLOOKUP(WEEKDAY($C86),$V$21:$W$27,2,0)) -> Jeudi | E86: =IF(OR(D86="Samedi",D86="Dimanche"),"",Données!$C$3) -> 0.35416667 | F86: =IF(OR(D86="Samedi",D86="Dimanche"),"",Données!$D$3) -> 0.5125 | G86: =IF(OR(D86="Samedi",D86="Dimanche"),"",Données!$E$3) -> 0.53680556 | H86: =IF(OR(D86="Samedi",D86="Dimanche"),"",Données!$F$3) -> 16:41 | I86: =IFERROR(IF(OR(D86="samedi",D86="dimanche")*(F86-E86)+(H86-G86)=0,"",F86-E86+(H86-G86)),"") -> 0.31666667 | J86: =IF(I86-Données!$C$2>0,I86-Données!$C$2,0) -> 5.5511151e-17 | K86: {=IF(OR(C86=$U$19:$U$31),"FERIE","")}
C87: =IF(ISERROR(IF((C86+1)<=$C$6,(C86+1),"")),"",IF((C86+1)<=$C$6,(C86+1),"")) -> 44274 | D87: =IF(ISERROR(VLOOKUP(WEEKDAY($C87),$V$21:$W$27,2,0)),"",VLOOKUP(WEEKDAY($C87),$V$21:$W$27,2,0)) -> Vendredi | E87: =IF(OR(D87="Samedi",D87="Dimanche"),"",Données!$C$3) -> 0.35416667 | F87: =IF(OR(D87="Samedi",D87="Dimanche"),"",Données!$D$3) -> 0.5125 | G87: =IF(OR(D87="Samedi",D87="Dimanche"),"",Données!$E$3) -> 0.53680556 | H87: =IF(OR(D87="Samedi",D87="Dimanche"),"",Données!$F$3) -> 16:41 | I87: =IFERROR(IF(OR(D87="samedi",D87="dimanche")*(F87-E87)+(H87-G87)=0,"",F87-E87+(H87-G87)),"") -> 0.31666667 | J87: =IF(I87-Données!$C$2>0,I87-Données!$C$2,0) -> 5.5511151e-17 | K87: {=IF(OR(C87=$U$19:$U$31),"FERIE","")}
C88: =IF(ISERROR(IF((C87+1)<=$C$6,(C87+1),"")),"",IF((C87+1)<=$C$6,(C87+1),"")) -> 44275 | D88: =IF(ISERROR(VLOOKUP(WEEKDAY($C88),$V$21:$W$27,2,0)),"",VLOOKUP(WEEKDAY($C88),$V$21:$W$27,2,0)) -> Samedi | E88: =IF(OR(D88="Samedi",D88="Dimanche"),"",Données!$C$3) | F88: =IF(OR(D88="Samedi",D88="Dimanche"),"",Données!$D$3) | G88: =IF(OR(D88="Samedi",D88="Dimanche"),"",Données!$E$3) | H88: =IF(OR(D88="Samedi",D88="Dimanche"),"",Données!$F$3) | I88: =IFERROR(IF(OR(D88="samedi",D88="dimanche")*(F88-E88)+(H88-G88)=0,"",F88-E88+(H88-G88)),"") | J88: =IF(D88="Dimanche",SUM(J82:J86),"") | K88: {=IF(OR(C88=$U$19:$U$31),"FERIE","")} | L88: =IF(D88="Dimanche",SUM(I82:I88),"")
B89: 12 | C89: =IF(ISERROR(IF((C88+1)<=$C$6,(C88+1),"")),"",IF((C88+1)<=$C$6,(C88+1),"")) -> 44276 | D89: =IF(ISERROR(VLOOKUP(WEEKDAY($C89),$V$21:$W$27,2,0)),"",VLOOKUP(WEEKDAY($C89),$V$21:$W$27,2,0)) -> Dimanche | E89: =IF(OR(D89="Samedi",D89="Dimanche"),"",Données!$C$3) | F89: =IF(OR(D89="Samedi",D89="Dimanche"),"",Données!$D$3) | G89: =IF(OR(D89="Samedi",D89="Dimanche"),"",Données!$E$3) | H89: =IF(OR(D89="Samedi",D89="Dimanche"),"",Données!$F$3) | I89: =IFERROR(IF(OR(D89="samedi",D89="dimanche")*(F89-E89)+(H89-G89)=0,"",F89-E89+(H89-G89)),"") | J89: =IF(D89="Dimanche",SUM(J83:J87),"") -> 2.7755576e-16 | K89: {=IF(OR(C89=$U$19:$U$31),"FERIE","")}
C90: =IF(ISERROR(IF((C89+1)<=$C$6,(C89+1),"")),"",IF((C89+1)<=$C$6,(C89+1),"")) -> 44277 | D90: =IF(ISERROR(VLOOKUP(WEEKDAY($C90),$V$21:$W$27,2,0)),"",VLOOKUP(WEEKDAY($C90),$V$21:$W$27,2,0)) -> Lundi | E90: =IF(OR(D90="Samedi",D90="Dimanche"),"",Données!$C$3) -> 0.35416667 | F90: =IF(OR(D90="Samedi",D90="Dimanche"),"",Données!$D$3) -> 0.5125 | G90: =IF(OR(D90="Samedi",D90="Dimanche"),"",Données!$E$3) -> 0.53680556 | H90: =IF(OR(D90="Samedi",D90="Dimanche"),"",Données!$F$3) -> 16:41 | I90: =IFERROR(IF(OR(D90="samedi",D90="dimanche")*(F90-E90)+(H90-G90)=0,"",F90-E90+(H90-G90)),"") -> 0.31666667 | J90: =IF(I90-Données!$C$2>0,I90-Données!$C$2,0) -> 5.5511151e-17 | K90: {=IF(OR(C90=$U$19:$U$31),"FERIE","")}
C91: =IF(ISERROR(IF((C90+1)<=$C$6,(C90+1),"")),"",IF((C90+1)<=$C$6,(C90+1),"")) -> 44278 | D91: =IF(ISERROR(VLOOKUP(WEEKDAY($C91),$V$21:$W$27,2,0)),"",VLOOKUP(WEEKDAY($C91),$V$21:$W$27,2,0)) -> Mardi | E91: =IF(OR(D91="Samedi",D91="Dimanche"),"",Données!$C$3) -> 0.35416667 | F91: =IF(OR(D91="Samedi",D91="Dimanche"),"",Données!$D$3) -> 0.5125 | G91: =IF(OR(D91="Samedi",D91="Dimanche"),"",Données!$E$3) -> 0.53680556 | H91: =IF(OR(D91="Samedi",D91="Dimanche"),"",Données!$F$3) -> 16:41 | I91: =IFERROR(IF(OR(D91="samedi",D91="dimanche")*(F91-E91)+(H91-G91)=0,"",F91-E91+(H91-G91)),"") -> 0.31666667 | J91: =IF(I91-Données!$C$2>0,I91-Données!$C$2,0) -> 5.5511151e-17 | K91: {=IF(OR(C91=$U$19:$U$31),"FERIE","")}
C92: =IF(ISERROR(IF((C91+1)<=$C$6,(C91+1),"")),"",IF((C91+1)<=$C$6,(C91+1),"")) -> 44279 | D92: =IF(ISERROR(VLOOKUP(WEEKDAY($C92),$V$21:$W$27,2,0)),"",VLOOKUP(WEEKDAY($C92),$V$21:$W$27,2,0)) -> Mercredi | E92: =IF(OR(D92="Samedi",D92="Dimanche"),"",Données!$C$3) -> 0.35416667 | F92: =IF(OR(D92="Samedi",D92="Dimanche"),"",Données!$D$3) -> 0.5125 | G92: =IF(OR(D92="Samedi",D92="Dimanche"),"",Données!$E$3) -> 0.53680556 | H92: =IF(OR(D92="Samedi",D92="Dimanche"),"",Données!$F$3) -> 16:41 | I92: =IFERROR(IF(OR(D92="samedi",D92="dimanche")*(F92-E92)+(H92-G92)=0,"",F92-E92+(H92-G92)),"") -> 0.31666667 | J92: =IF(I92-Données!$C$2>0,I92-Données!$C$2,0) -> 5.5511151e-17 | K92: {=IF(OR(C92=$U$19:$U$31),"FERIE","")}
C93: =IF(ISERROR(IF((C92+1)<=$C$6,(C92+1),"")),"",IF((C92+1)<=$C$6,(C92+1),"")) -> 44280 | D93: =IF(ISERROR(VLOOKUP(WEEKDAY($C93),$V$21:$W$27,2,0)),"",VLOOKUP(WEEKDAY($C93),$V$21:$W$27,2,0)) -> Jeudi | E93: =IF(OR(D93="Samedi",D93="Dimanche"),"",Données!$C$3) -> 0.35416667 | F93: =IF(OR(D93="Samedi",D93="Dimanche"),"",Données!$D$3) -> 0.5125 | G93: =IF(OR(D93="Samedi",D93="Dimanche"),"",Données!$E$3) -> 0.53680556 | H93: =IF(OR(D93="Samedi",D93="Dimanche"),"",Données!$F$3) -> 16:41 | I93: =IFERROR(IF(OR(D93="samedi",D93="dimanche")*(F93-E93)+(H93-G93)=0,"",F93-E93+(H93-G93)),"") -> 0.31666667 | J93: =IF(I93-Données!$C$2>0,I93-Données!$C$2,0) -> 5.5511151e-17 | K93: {=IF(OR(C93=$U$19:$U$31),"FERIE","")}
C94: =IF(ISERROR(IF((C93+1)<=$C$6,(C93+1),"")),"",IF((C93+1)<=$C$6,(C93+1),"")) -> 44281 | D94: =IF(ISERROR(VLOOKUP(WEEKDAY($C94),$V$21:$W$27,2,0)),"",VLOOKUP(WEEKDAY($C94),$V$21:$W$27,2,0)) -> Vendredi | E94: =IF(OR(D94="Samedi",D94="Dimanche"),"",Données!$C$3) -> 0.35416667 | F94: =IF(OR(D94="Samedi",D94="Dimanche"),"",Données!$D$3) -> 0.5125 | G94: =IF(OR(D94="Samedi",D94="Dimanche"),"",Données!$E$3) -> 0.53680556 | H94: =IF(OR(D94="Samedi",D94="Dimanche"),"",Données!$F$3) -> 16:41 | I94: =IFERROR(IF(OR(D94="samedi",D94="dimanche")*(F94-E94)+(H94-G94)=0,"",F94-E94+(H94-G94)),"") -> 0.31666667 | J94: =IF(I94-Données!$C$2>0,I94-Données!$C$2,0) -> 5.5511151e-17 | K94: {=IF(OR(C94=$U$19:$U$31),"FERIE","")}
C95: =IF(ISERROR(IF((C94+1)<=$C$6,(C94+1),"")),"",IF((C94+1)<=$C$6,(C94+1),"")) -> 44282 | D95: =IF(ISERROR(VLOOKUP(WEEKDAY($C95),$V$21:$W$27,2,0)),"",VLOOKUP(WEEKDAY($C95),$V$21:$W$27,2,0)) -> Samedi | E95: =IF(OR(D95="Samedi",D95="Dimanche"),"",Données!$C$3) | F95: =IF(OR(D95="Samedi",D95="Dimanche"),"",Données!$D$3) | G95: =IF(OR(D95="Samedi",D95="Dimanche"),"",Données!$E$3) | H95: =IF(OR(D95="Samedi",D95="Dimanche"),"",Données!$F$3) | I95: =IFERROR(IF(OR(D95="samedi",D95="dimanche")*(F95-E95)+(H95-G95)=0,"",F95-E95+(H95-G95)),"") | J95: =IF(D95="Dimanche",SUM(J89:J93),"") | K95: {=IF(OR(C95=$U$19:$U$31),"FERIE","")} | L95: =IF(D95="Dimanche",SUM(I89:I95),"")
B96: 13 | C96: =IF(ISERROR(IF((C95+1)<=$C$6,(C95+1),"")),"",IF((C95+1)<=$C$6,(C95+1),"")) -> 44283 | D96: =IF(ISERROR(VLOOKUP(WEEKDAY($C96),$V$21:$W$27,2,0)),"",VLOOKUP(WEEKDAY($C96),$V$21:$W$27,2,0)) -> Dimanche | E96: =IF(OR(D96="Samedi",D96="Dimanche"),"",Données!$C$3) | F96: =IF(OR(D96="Samedi",D96="Dimanche"),"",Données!$D$3) | G96: =IF(OR(D96="Samedi",D96="Dimanche"),"",Données!$E$3) | H96: =IF(OR(D96="Samedi",D96="Dimanche"),"",Données!$F$3) | I96: =IFERROR(IF(OR(D96="samedi",D96="dimanche")*(F96-E96)+(H96-G96)=0,"",F96-E96+(H96-G96)),"") | J96: =IF(D96="Dimanche",SUM(J90:J94),"") -> 2.7755576e-16 | K96: {=IF(OR(C96=$U$19:$U$31),"FERIE","")}
C97: =IF(ISERROR(IF((C96+1)<=$C$6,(C96+1),"")),"",IF((C96+1)<=$C$6,(C96+1),"")) -> 44284 | D97: =IF(ISERROR(VLOOKUP(WEEKDAY($C97),$V$21:$W$27,2,0)),"",VLOOKUP(WEEKDAY($C97),$V$21:$W$27,2,0)) -> Lundi | E97: =IF(OR(D97="Samedi",D97="Dimanche"),"",Données!$C$3) -> 0.35416667 | F97: =IF(OR(D97="Samedi",D97="Dimanche"),"",Données!$D$3) -> 0.5125 | G97: =IF(OR(D97="Samedi",D97="Dimanche"),"",Données!$E$3) -> 0.53680556 | H97: =IF(OR(D97="Samedi",D97="Dimanche"),"",Données!$F$3) -> 16:41 | I97: =IFERROR(IF(OR(D97="samedi",D97="dimanche")*(F97-E97)+(H97-G97)=0,"",F97-E97+(H97-G97)),"") -> 0.31666667 | J97: =IF(I97-Données!$C$2>0,I97-Données!$C$2,0) -> 5.5511151e-17 | K97: {=IF(OR(C97=$U$19:$U$31),"FERIE","")}
C98: =IF(ISERROR(IF((C97+1)<=$C$6,(C97+1),"")),"",IF((C97+1)<=$C$6,(C97+1),"")) -> 44285 | D98: =IF(ISERROR(VLOOKUP(WEEKDAY($C98),$V$21:$W$27,2,0)),"",VLOOKUP(WEEKDAY($C98),$V$21:$W$27,2,0)) -> Mardi | E98: =IF(OR(D98="Samedi",D98="Dimanche"),"",Données!$C$3) -> 0.35416667 | F98: =IF(OR(D98="Samedi",D98="Dimanche"),"",Données!$D$3) -> 0.5125 | G98: =IF(OR(D98="Samedi",D98="Dimanche"),"",Données!$E$3) -> 0.53680556 | H98: =IF(OR(D98="Samedi",D98="Dimanche"),"",Données!$F$3) -> 16:41 | I98: =IFERROR(IF(OR(D98="samedi",D98="dimanche")*(F98-E98)+(H98-G98)=0,"",F98-E98+(H98-G98)),"") -> 0.31666667 | J98: =IF(I98-Données!$C$2>0,I98-Données!$C$2,0) -> 5.5511151e-17 | K98: {=IF(OR(C98=$U$19:$U$31),"FERIE","")}
C99: =IF(ISERROR(IF((C98+1)<=$C$6,(C98+1),"")),"",IF((C98+1)<=$C$6,(C98+1),"")) -> 44286 | D99: =IF(ISERROR(VLOOKUP(WEEKDAY($C99),$V$21:$W$27,2,0)),"",VLOOKUP(WEEKDAY($C99),$V$21:$W$27,2,0)) -> Mercredi | E99: =IF(OR(D99="Samedi",D99="Dimanche"),"",Données!$C$3) -> 0.35416667 | F99: =IF(OR(D99="Samedi",D99="Dimanche"),"",Données!$D$3) -> 0.5125 | G99: =IF(OR(D99="Samedi",D99="Dimanche"),"",Données!$E$3) -> 0.53680556 | H99: =IF(OR(D99="Samedi",D99="Dimanche"),"",Données!$F$3) -> 16:41 | I99: =IFERROR(IF(OR(D99="samedi",D99="dimanche")*(F99-E99)+(H99-G99)=0,"",F99-E99+(H99-G99)),"") -> 0.31666667 | J99: =IF(I99-Données!$C$2>0,I99-Données!$C$2,0) -> 5.5511151e-17 | K99: {=IF(OR(C99=$U$19:$U$31),"FERIE","")}
A100: =VLOOKUP(MONTH($C100),$V$8:$W$19,2,0) -> AVRIL | C100: =IF(ISERROR(IF((C99+1)<=$C$6,(C99+1),"")),"",IF((C99+1)<=$C$6,(C99+1),"")) -> 44287 | D100: =IF(ISERROR(VLOOKUP(WEEKDAY($C100),$V$21:$W$27,2,0)),"",VLOOKUP(WEEKDAY($C100),$V$21:$W$27,2,0)) -> Jeudi | E100: =IF(OR(D100="Samedi",D100="Dimanche"),"",Données!$C$3) -> 0.35416667 | F100: =IF(OR(D100="Samedi",D100="Dimanche"),"",Données!$D$3) -> 0.5125 | G100: =IF(OR(D100="Samedi",D100="Dimanche"),"",Données!$E$3) -> 0.53680556 | H100: =IF(OR(D100="Samedi",D100="Dimanche"),"",Données!$F$3) -> 16:41 | I100: =IFERROR(IF(OR(D100="samedi",D100="dimanche")*(F100-E100)+(H100-G100)=0,"",F100-E100+(H100-G100)),"") -> 0.31666667 | J100: =IF(I100-Données!$C$2>0,I100-Données!$C$2,0) -> 5.5511151e-17 | K100: {=IF(OR(C100=$U$19:$U$31),"FERIE","")} | M100: =SUMIF(K100:K129,"HCR",J100:J129) -> 0 | N100: =SUMIF(K100:K129,"HPL",J100:J129) -> 0 | O100: =N100*24 -> 0 | R100: =O100-(P100+Q100) -> 0
C101: =IF(ISERROR(IF((C100+1)<=$C$6,(C100+1),"")),"",IF((C100+1)<=$C$6,(C100+1),"")) -> 44288 | D101: =IF(ISERROR(VLOOKUP(WEEKDAY($C101),$V$21:$W$27,2,0)),"",VLOOKUP(WEEKDAY($C101),$V$21:$W$27,2,0)) -> Vendredi | E101: =IF(OR(D101="Samedi",D101="Dimanche"),"",Données!$C$3) -> 0.35416667 | F101: =IF(OR(D101="Samedi",D101="Dimanche"),"",Données!$D$3) -> 0.5125 | G101: =IF(OR(D101="Samedi",D101="Dimanche"),"",Données!$E$3) -> 0.53680556 | H101: =IF(OR(D101="Samedi",D101="Dimanche"),"",Données!$F$3) -> 16:41 | I101: =IFERROR(IF(OR(D101="samedi",D101="dimanche")*(F101-E101)+(H101-G101)=0,"",F101-E101+(H101-G101)),"") -> 0.31666667 | J101: =IF(I101-Données!$C$2>0,I101-Données!$C$2,0) -> 5.5511151e-17 | K101: {=IF(OR(C101=$U$19:$U$31),"FERIE","")}
C102: =IF(ISERROR(IF((C101+1)<=$C$6,(C101+1),"")),"",IF((C101+1)<=$C$6,(C101+1),"")) -> 44289 | D102: =IF(ISERROR(VLOOKUP(WEEKDAY($C102),$V$21:$W$27,2,0)),"",VLOOKUP(WEEKDAY($C102),$V$21:$W$27,2,0)) -> Samedi | E102: =IF(OR(D102="Samedi",D102="Dimanche"),"",Données!$C$3) | F102: =IF(OR(D102="Samedi",D102="Dimanche"),"",Données!$D$3) | G102: =IF(OR(D102="Samedi",D102="Dimanche"),"",Données!$E$3) | H102: =IF(OR(D102="Samedi",D102="Dimanche"),"",Données!$F$3) | I102: =IFERROR(IF(OR(D102="samedi",D102="dimanche")*(F102-E102)+(H102-G102)=0,"",F102-E102+(H102-G102)),"") | J102: =IF(D102="Dimanche",SUM(J96:J100),"") | K102: {=IF(OR(C102=$U$19:$U$31),"FERIE","")} | L102: =IF(D102="Dimanche",SUM(I96:I102),"")
...

Sheet 2022
B1: 2022
E2: Modifier les cellules en jaune pour mettre à jour le calendrier
E4: mise en forme pour JRE, CP, FERIE
B5: Début | C5: 44562
B6: Fin | C6: 44926
E8: Temps de travail matin | G8: Temps de travail après-midi | I8: Total heures travaillées par jour | J8: Heures supplémentaires | K8: Commentaires | L8: Cumul heures travaillées semaine | M8: Total mois HCR | N8: Total mois HPL | O8: Total mois centièrme | P8: Payé M+1 | Q8: Payé M+2 | R8: Reste à payer | V8: 1 | W8: JANVIER
A9: Mois | B9: Semaine | E9: Heure début | F9: Heure fin | G9: Heure début | H9: Heure fin | V9: 2 | W9: FEVRIER
A10: =VLOOKUP(MONTH($C10),$V$8:$W$19,2,0) -> JANVIER | B10: 53 | C10: =$C$5 -> 44562 | D10: =VLOOKUP(WEEKDAY($C10),$V$21:$W$27,2,0) -> Samedi | E10: =IF(OR(D10="Samedi",D10="Dimanche"),"",Données!$C$3) | F10: =IF(OR(D10="Samedi",D10="Dimanche"),"",Données!$D$3) | G10: =IF(OR(D10="Samedi",D10="Dimanche"),"",Données!$E$3) | H10: =IF(OR(D10="Samedi",D10="Dimanche"),"",Données!$F$3) | I10: =IFERROR(IF(OR(D10="samedi",D10="dimanche")*(F10-E10)+(H10-G10)=0,"",F10-E10+(H10-G10)),"") | K10: {=IF(OR(C10=$U$19:$U$31),"FERIE","")} -> FERIE | L10: =IF(D10="Dimanche",SUM(I4:I10),"") | M10: =SUMIF(K10:K40,"HCR",J10:J40) -> 0.090277778 | N10: =SUMIF(K10:K40,"HPL",J10:J40) -> 0.19444444 | O10: =N10*24 -> 4.6666667 | P10: 4.41 | R10: =O10-(P10+Q10) -> 0.25666667 | V10: 3 | W10: MARS
C11: =IF(ISERROR(IF((C10+1)<=$C$6,(C10+1),"")),"",IF((C10+1)<=$C$6,(C10+1),"")) -> 44563 | D11: =IF(ISERROR(VLOOKUP(WEEKDAY($C11),$V$21:$W$27,2,0)),"",VLOOKUP(WEEKDAY($C11),$V$21:$W$27,2,0)) -> Dimanche | E11: =IF(OR(D11="Samedi",D11="Dimanche"),"",Données!$C$3) | F11: =IF(OR(D11="Samedi",D11="Dimanche"),"",Données!$D$3) | G11: =IF(OR(D11="Samedi",D11="Dimanche"),"",Données!$E$3) | H11: =IF(OR(D11="Samedi",D11="Dimanche"),"",Données!$F$3) | I11: =IFERROR(IF(OR(D11="samedi",D11="dimanche")*(F11-E11)+(H11-G11)=0,"",F11-E11+(H11-G11)),"") | K11: {=IF(OR(C11=$U$19:$U$31),"FERIE","")} | L11: =IF(D11="Dimanche",SUM(I5:I11),"") -> 0 | V11: 4 | W11: AVRIL
B12: 1 | C12: =IF(ISERROR(IF((C11+1)<=$C$6,(C11+1),"")),"",IF((C11+1)<=$C$6,(C11+1),"")) -> 44564 | D12: =IF(ISERROR(VLOOKUP(WEEKDAY($C12),$V$21:$W$27,2,0)),"",VLOOKUP(WEEKDAY($C12),$V$21:$W$27,2,0)) -> Lundi | K12: CP | V12: 5 | W12: MAI
C13: =IF(ISERROR(IF((C12+1)<=$C$6,(C12+1),"")),"",IF((C12+1)<=$C$6,(C12+1),"")) -> 44565 | D13: =IF(ISERROR(VLOOKUP(WEEKDAY($C13),$V$21:$W$27,2,0)),"",VLOOKUP(WEEKDAY($C13),$V$21:$W$27,2,0)) -> Mardi | E13: 0.35416667 | F13: =IF(OR(D13="Samedi",D13="Dimanche"),"",Données!$D$3) -> 0.5125 | G13: =IF(OR(D13="Samedi",D13="Dimanche"),"",Données!$E$3) -> 0.53680556 | H13: =IF(OR(D13="Samedi",D13="Dimanche"),"",Données!$F$3) -> 16:41 | I13: =IFERROR(IF(OR(D13="samedi",D13="dimanche")*(F13-E13)+(H13-G13)=0,"",F13-E13+(H13-G13)),"") -> 0.31666667 | J13: =IF(I13-Données!$C$2>0,I13-Données!$C$2,0) -> 5.5511151e-17 | K13: HPL | V13: 6 | W13: JUIN
C14: =IF(ISERROR(IF((C13+1)<=$C$6,(C13+1),"")),"",IF((C13+1)<=$C$6,(C13+1),"")) -> 44566 | D14: =IF(ISERROR(VLOOKUP(WEEKDAY($C14),$V$21:$W$27,2,0)),"",VLOOKUP(WEEKDAY($C14),$V$21:$W$27,2,0)) -> Mercredi | E14: 0.35416667 | F14: =IF(OR(D14="Samedi",D14="Dimanche"),"",Données!$D$3) -> 0.5125 | G14: =IF(OR(D14="Samedi",D14="Dimanche"),"",Données!$E$3) -> 0.53680556 | H14: =IF(OR(D14="Samedi",D14="Dimanche"),"",Données!$F$3) -> 16:41 | I14: =IFERROR(IF(OR(D14="samedi",D14="dimanche")*(F14-E14)+(H14-G14)=0,"",F14-E14+(H14-G14)),"") -> 0.31666667 | J14: =IF(I14-Données!$C$2>0,I14-Données!$C$2,0) -> 5.5511151e-17 | K14: HPL | V14: 7 | W14: JUILLET
C15: =IF(ISERROR(IF((C14+1)<=$C$6,(C14+1),"")),"",IF((C14+1)<=$C$6,(C14+1),"")) -> 44567 | D15: =IF(ISERROR(VLOOKUP(WEEKDAY($C15),$V$21:$W$27,2,0)),"",VLOOKUP(WEEKDAY($C15),$V$21:$W$27,2,0)) -> Jeudi | E15: 0.33680556 | F15: =IF(OR(D15="Samedi",D15="Dimanche"),"",Données!$D$3) -> 0.5125 | G15: =IF(OR(D15="Samedi",D15="Dimanche"),"",Données!$E$3) -> 0.53680556 | H15: =IF(OR(D15="Samedi",D15="Dimanche"),"",Données!$F$3) -> 16:41 | I15: =IFERROR(IF(OR(D15="samedi",D15="dimanche")*(F15-E15)+(H15-G15)=0,"",F15-E15+(H15-G15)),"") -> 0.33402778 | J15: =IF(I15-Données!$C$2>0,I15-Données!$C$2,0) -> 0.017361111 | K15: HPL | V15: 8 | W15: AOÛT
C16: =IF(ISERROR(IF((C15+1)<=$C$6,(C15+1),"")),"",IF((C15+1)<=$C$6,(C15+1),"")) -> 44568 | D16: =IF(ISERROR(VLOOKUP(WEEKDAY($C16),$V$21:$W$27,2,0)),"",VLOOKUP(WEEKDAY($C16),$V$21:$W$27,2,0)) -> Vendredi | E16: 0.33680556 | F16: =IF(OR(D16="Samedi",D16="Dimanche"),"",Données!$D$3) -> 0.5125 | G16: =IF(OR(D16="Samedi",D16="Dimanche"),"",Données!$E$3) -> 0.53680556 | H16: =IF(OR(D16="Samedi",D16="Dimanche"),"",Données!$F$3) -> 16:41 | I16: =IFERROR(IF(OR(D16="samedi",D16="dimanche")*(F16-E16)+(H16-G16)=0,"",F16-E16+(H16-G16)),"") -> 0.33402778 | J16: =IF(I16-Données!$C$2>0,I16-Données!$C$2,0) -> 0.017361111 | K16: HPL | V16: 9 | W16: SEPTEMBRE
C17: =IF(ISERROR(IF((C16+1)<=$C$6,(C16+1),"")),"",IF((C16+1)<=$C$6,(C16+1),"")) -> 44569 | D17: =IF(ISERROR(VLOOKUP(WEEKDAY($C17),$V$21:$W$27,2,0)),"",VLOOKUP(WEEKDAY($C17),$V$21:$W$27,2,0)) -> Samedi | E17: =IF(OR(D17="Samedi",D17="Dimanche"),"",Données!$C$3) | F17: =IF(OR(D17="Samedi",D17="Dimanche"),"",Données!$D$3) | G17: =IF(OR(D17="Samedi",D17="Dimanche"),"",Données!$E$3) | H17: =IF(OR(D17="Samedi",D17="Dimanche"),"",Données!$F$3) | I17: =IFERROR(IF(OR(D17="samedi",D17="dimanche")*(F17-E17)+(H17-G17)=0,"",F17-E17+(H17-G17)),"") | K17: {=IF(OR(C17=$U$19:$U$31),"FERIE","")} | V17: 10 | W17: OCTOBRE
C18: =IF(ISERROR(IF((C17+1)<=$C$6,(C17+1),"")),"",IF((C17+1)<=$C$6,(C17+1),"")) -> 44570 | D18: =IF(ISERROR(VLOOKUP(WEEKDAY($C18),$V$21:$W$27,2,0)),"",VLOOKUP(WEEKDAY($C18),$V$21:$W$27,2,0)) -> Dimanche | E18: =IF(OR(D18="Samedi",D18="Dimanche"),"",Données!$C$3) | F18: =IF(OR(D18="Samedi",D18="Dimanche"),"",Données!$D$3) | G18: =IF(OR(D18="Samedi",D18="Dimanche"),"",Données!$E$3) | H18: =IF(OR(D18="Samedi",D18="Dimanche"),"",Données!$F$3) | I18: =IFERROR(IF(OR(D18="samedi",D18="dimanche")*(F18-E18)+(H18-G18)=0,"",F18-E18+(H18-G18)),"") | J18: =IF(D18="Dimanche",SUM(J12:J16),"") -> 0.034722222 | K18: {=IF(OR(C18=$U$19:$U$31),"FERIE","")} | L18: =IF(D18="Dimanche",SUM(I12:I18),"") -> 1.3013889 | T18: Jour férié | V18: 11 | W18: NOVEMBRE
B19: 2 | C19: =IF(ISERROR(IF((C18+1)<=$C$6,(C18+1),"")),"",IF((C18+1)<=$C$6,(C18+1),"")) -> 44571 | D19: =IF(ISERROR(VLOOKUP(WEEKDAY($C19),$V$21:$W$27,2,0)),"",VLOOKUP(WEEKDAY($C19),$V$21:$W$27,2,0)) -> Lundi | K19: CP | T19: Jour de l’An | U19: =DATE(B1,1,1) -> 44562 | V19: 12 | W19: DECEMBRE
C20: =IF(ISERROR(IF((C19+1)<=$C$6,(C19+1),"")),"",IF((C19+1)<=$C$6,(C19+1),"")) -> 44572 | D20: =IF(ISERROR(VLOOKUP(WEEKDAY($C20),$V$21:$W$27,2,0)),"",VLOOKUP(WEEKDAY($C20),$V$21:$W$27,2,0)) -> Mardi | E20: 0.33333333 | F20: =IF(OR(D20="Samedi",D20="Dimanche"),"",Données!$D$3) -> 0.5125 | G20: =IF(OR(D20="Samedi",D20="Dimanche"),"",Données!$E$3) -> 0.53680556 | H20: 0.70902778 | I20: =IFERROR(IF(OR(D20="samedi",D20="dimanche")*(F20-E20)+(H20-G20)=0,"",F20-E20+(H20-G20)),"") -> 0.35138889 | J20: =IF(I20-Données!$C$2>0,I20-Données!$C$2,0) -> 0.034722222 | K20: HPL | T20: Pâques | U20: =ROUND(DATE(B1,4,MOD(234-11*MOD(B1,19),30))/7,0)*7-6 -> 44668
C21: =IF(ISERROR(IF((C20+1)<=$C$6,(C20+1),"")),"",IF((C20+1)<=$C$6,(C20+1),"")) -> 44573 | D21: =IF(ISERROR(VLOOKUP(WEEKDAY($C21),$V$21:$W$27,2,0)),"",VLOOKUP(WEEKDAY($C21),$V$21:$W$27,2,0)) -> Mercredi | E21: 0.34375 | F21: =IF(OR(D21="Samedi",D21="Dimanche"),"",Données!$D$3) -> 0.5125 | G21: =IF(OR(D21="Samedi",D21="Dimanche"),"",Données!$E$3) -> 0.53680556 | H21: 0.69513889 | I21: =IFERROR(IF(OR(D21="samedi",D21="dimanche")*(F21-E21)+(H21-G21)=0,"",F21-E21+(H21-G21)),"") -> 0.32708333 | J21: =IF(I21-Données!$C$2>0,I21-Données!$C$2,0) -> 0.010416667 | K21: HPL | T21: Lundi de Pâques | U21: =U20+1 -> 44669 | V21: 1 | W21: Dimanche
C22: =IF(ISERROR(IF((C21+1)<=$C$6,(C21+1),"")),"",IF((C21+1)<=$C$6,(C21+1),"")) -> 44574 | D22: =IF(ISERROR(VLOOKUP(WEEKDAY($C22),$V$21:$W$27,2,0)),"",VLOOKUP(WEEKDAY($C22),$V$21:$W$27,2,0)) -> Jeudi | E22: 0.33333333 | F22: =IF(OR(D22="Samedi",D22="Dimanche"),"",Données!$D$3) -> 0.5125 | G22: =IF(OR(D22="Samedi",D22="Dimanche"),"",Données!$E$3) -> 0.53680556 | H22: 0.70902778 | I22: =IFERROR(IF(OR(D22="samedi",D22="dimanche")*(F22-E22)+(H22-G22)=0,"",F22-E22+(H22-G22)),"") -> 0.35138889 | J22: =IF(I22-Données!$C$2>0,I22-Données!$C$2,0) -> 0.034722222 | K22: HPL | T22: Fête du travail | U22: =DATE(B1,5,1) -> 44682 | V22: 2 | W22: Lundi
C23: =IF(ISERROR(IF((C22+1)<=$C$6,(C22+1),"")),"",IF((C22+1)<=$C$6,(C22+1),"")) -> 44575 | D23: =IF(ISERROR(VLOOKUP(WEEKDAY($C23),$V$21:$W$27,2,0)),"",VLOOKUP(WEEKDAY($C23),$V$21:$W$27,2,0)) -> Vendredi | K23: CP | T23: Victoire 1945 | U23: =DATE(B1,5,8) -> 44689 | V23: 3 | W23: Mardi
C24: =IF(ISERROR(IF((C23+1)<=$C$6,(C23+1),"")),"",IF((C23+1)<=$C$6,(C23+1),"")) -> 44576 | D24: =IF(ISERROR(VLOOKUP(WEEKDAY($C24),$V$21:$W$27,2,0)),"",VLOOKUP(WEEKDAY($C24),$V$21:$W$27,2,0)) -> Samedi | E24: =IF(OR(D24="Samedi",D24="Dimanche"),"",Données!$C$3) | F24: =IF(OR(D24="Samedi",D24="Dimanche"),"",Données!$D$3) | G24: =IF(OR(D24="Samedi",D24="Dimanche"),"",Données!$E$3) | H24: =IF(OR(D24="Samedi",D24="Dimanche"),"",Données!$F$3) | I24: =IFERROR(IF(OR(D24="samedi",D24="dimanche")*(F24-E24)+(H24-G24)=0,"",F24-E24+(H24-G24)),"") | K24: {=IF(OR(C24=$U$19:$U$31),"FERIE","")} | T24: Ascension | U24: =U20+39 -> 44707 | V24: 4 | W24: Mercredi
C25: =IF(ISERROR(IF((C24+1)<=$C$6,(C24+1),"")),"",IF((C24+1)<=$C$6,(C24+1),"")) -> 44577 | D25: =IF(ISERROR(VLOOKUP(WEEKDAY($C25),$V$21:$W$27,2,0)),"",VLOOKUP(WEEKDAY($C25),$V$21:$W$27,2,0)) -> Dimanche | E25: =IF(OR(D25="Samedi",D25="Dimanche"),"",Données!$C$3) | F25: =IF(OR(D25="Samedi",D25="Dimanche"),"",Données!$D$3) | G25: =IF(OR(D25="Samedi",D25="Dimanche"),"",Données!$E$3) | H25: =IF(OR(D25="Samedi",D25="Dimanche"),"",Données!$F$3) | I25: =IFERROR(IF(OR(D25="samedi",D25="dimanche")*(F25-E25)+(H25-G25)=0,"",F25-E25+(H25-G25)),"") | J25: =IF(D25="Dimanche",SUM(J19:J23),"") -> 0.079861111 | K25: {=IF(OR(C25=$U$19:$U$31),"FERIE","")} | L25: =IF(D25="Dimanche",SUM(I19:I25),"") -> 1.0298611 | T25: Pentecôte | U25: =U20+49 -> 44717 | V25: 5 | W25: Jeudi
B26: 3 | C26: =IF(ISERROR(IF((C25+1)<=$C$6,(C25+1),"")),"",IF((C25+1)<=$C$6,(C25+1),"")) -> 44578 | D26: =IF(ISERROR(VLOOKUP(WEEKDAY($C26),$V$21:$W$27,2,0)),"",VLOOKUP(WEEKDAY($C26),$V$21:$W$27,2,0)) -> Lundi | E26: 0.34375 | F26: =IF(OR(D26="Samedi",D26="Dimanche"),"",Données!$D$3) -> 0.5125 | G26: =IF(OR(D26="Samedi",D26="Dimanche"),"",Données!$E$3) -> 0.53680556 | H26: 0.7125 | I26: =IFERROR(IF(OR(D26="samedi",D26="dimanche")*(F26-E26)+(H26-G26)=0,"",F26-E26+(H26-G26)),"") -> 0.34444444 | J26: =IF(I26-Données!$C$2>0,I26-Données!$C$2,0) -> 0.027777778 | K26: HPL | T26: Lundi de Pentecôte | U26: =U20+50 -> 44718 | V26: 6 | W26: Vendredi
C27: =IF(ISERROR(IF((C26+1)<=$C$6,(C26+1),"")),"",IF((C26+1)<=$C$6,(C26+1),"")) -> 44579 | D27: =IF(ISERROR(VLOOKUP(WEEKDAY($C27),$V$21:$W$27,2,0)),"",VLOOKUP(WEEKDAY($C27),$V$21:$W$27,2,0)) -> Mardi | E27: 0.33333333 | F27: =IF(OR(D27="Samedi",D27="Dimanche"),"",Données!$D$3) -> 0.5125 | G27: =IF(OR(D27="Samedi",D27="Dimanche"),"",Données!$E$3) -> 0.53680556 | H27: =IF(OR(D27="Samedi",D27="Dimanche"),"",Données!$F$3) -> 16:41 | I27: =IFERROR(IF(OR(D27="samedi",D27="dimanche")*(F27-E27)+(H27-G27)=0,"",F27-E27+(H27-G27)),"") -> 0.3375 | J27: =IF(I27-Données!$C$2>0,I27-Données!$C$2,0) -> 0.020833333 | K27: HPL | T27: Fête Nationale | U27: =DATE(B1,7,14) -> 44756 | V27: 7 | W27: Samedi
C28: =IF(ISERROR(IF((C27+1)<=$C$6,(C27+1),"")),"",IF((C27+1)<=$C$6,(C27+1),"")) -> 44580 | D28: =IF(ISERROR(VLOOKUP(WEEKDAY($C28),$V$21:$W$27,2,0)),"",VLOOKUP(WEEKDAY($C28),$V$21:$W$27,2,0)) -> Mercredi | E28: 0.34375 | F28: =IF(OR(D28="Samedi",D28="Dimanche"),"",Données!$D$3) -> 0.5125 | G28: =IF(OR(D28="Samedi",D28="Dimanche"),"",Données!$E$3) -> 0.53680556 | H28: =IF(OR(D28="Samedi",D28="Dimanche"),"",Données!$F$3) -> 16:41 | I28: =IFERROR(IF(OR(D28="samedi",D28="dimanche")*(F28-E28)+(H28-G28)=0,"",F28-E28+(H28-G28)),"") -> 0.32708333 | J28: =IF(I28-Données!$C$2>0,I28-Données!$C$2,0) -> 0.010416667 | K28: HPL | T28: Assomption | U28: =DATE(B1,8,15) -> 44788
C29: =IF(ISERROR(IF((C28+1)<=$C$6,(C28+1),"")),"",IF((C28+1)<=$C$6,(C28+1),"")) -> 44581 | D29: =IF(ISERROR(VLOOKUP(WEEKDAY($C29),$V$21:$W$27,2,0)),"",VLOOKUP(WEEKDAY($C29),$V$21:$W$27,2,0)) -> Jeudi | E29: 0.34375 | F29: =IF(OR(D29="Samedi",D29="Dimanche"),"",Données!$D$3) -> 0.5125 | G29: =IF(OR(D29="Samedi",D29="Dimanche"),"",Données!$E$3) -> 0.53680556 | H29: =IF(OR(D29="Samedi",D29="Dimanche"),"",Données!$F$3) -> 16:41 | I29: =IFERROR(IF(OR(D29="samedi",D29="dimanche")*(F29-E29)+(H29-G29)=0,"",F29-E29+(H29-G29)),"") -> 0.32708333 | J29: =IF(I29-Données!$C$2>0,I29-Données!$C$2,0) -> 0.010416667 | K29: HPL | T29: Toussaint | U29: =DATE(B1,11,1) -> 44866
C30: =IF(ISERROR(IF((C29+1)<=$C$6,(C29+1),"")),"",IF((C29+1)<=$C$6,(C29+1),"")) -> 44582 | D30: =IF(ISERROR(VLOOKUP(WEEKDAY($C30),$V$21:$W$27,2,0)),"",VLOOKUP(WEEKDAY($C30),$V$21:$W$27,2,0)) -> Vendredi | K30: CP | T30: Armistice 1918 | U30: =DATE(B1,11,11) -> 44876
C31: =IF(ISERROR(IF((C30+1)<=$C$6,(C30+1),"")),"",IF((C30+1)<=$C$6,(C30+1),"")) -> 44583 | D31: =IF(ISERROR(VLOOKUP(WEEKDAY($C31),$V$21:$W$27,2,0)),"",VLOOKUP(WEEKDAY($C31),$V$21:$W$27,2,0)) -> Samedi | E31: =IF(OR(D31="Samedi",D31="Dimanche"),"",Données!$C$3) | F31: =IF(OR(D31="Samedi",D31="Dimanche"),"",Données!$D$3) | G31: =IF(OR(D31="Samedi",D31="Dimanche"),"",Données!$E$3) | H31: =IF(OR(D31="Samedi",D31="Dimanche"),"",Données!$F$3) | I31: =IFERROR(IF(OR(D31="samedi",D31="dimanche")*(F31-E31)+(H31-G31)=0,"",F31-E31+(H31-G31)),"") | K31: {=IF(OR(C31=$U$19:$U$31),"FERIE","")} | T31: Noël | U31: =DATE(B1,12,25) -> 44920
C32: =IF(ISERROR(IF((C31+1)<=$C$6,(C31+1),"")),"",IF((C31+1)<=$C$6,(C31+1),"")) -> 44584 | D32: =IF(ISERROR(VLOOKUP(WEEKDAY($C32),$V$21:$W$27,2,0)),"",VLOOKUP(WEEKDAY($C32),$V$21:$W$27,2,0)) -> Dimanche | E32: =IF(OR(D32="Samedi",D32="Dimanche"),"",Données!$C$3) | F32: =IF(OR(D32="Samedi",D32="Dimanche"),"",Données!$D$3) | G32: =IF(OR(D32="Samedi",D32="Dimanche"),"",Données!$E$3) | H32: =IF(OR(D32="Samedi",D32="Dimanche"),"",Données!$F$3) | I32: =IFERROR(IF(OR(D32="samedi",D32="dimanche")*(F32-E32)+(H32-G32)=0,"",F32-E32+(H32-G32)),"") | J32: =IF(D32="Dimanche",SUM(J26:J30),"") -> 0.069444444 | K32: {=IF(OR(C32=$U$19:$U$31),"FERIE","")} | L32: =IF(D32="Dimanche",SUM(I26:I32),"") -> 1.3361111
B33: 4 | C33: =IF(ISERROR(IF((C32+1)<=$C$6,(C32+1),"")),"",IF((C32+1)<=$C$6,(C32+1),"")) -> 44585 | D33: =IF(ISERROR(VLOOKUP(WEEKDAY($C33),$V$21:$W$27,2,0)),"",VLOOKUP(WEEKDAY($C33),$V$21:$W$27,2,0)) -> Lundi | E33: 0.34375 | F33: =IF(OR(D33="Samedi",D33="Dimanche"),"",Données!$D$3) -> 0.5125 | G33: =IF(OR(D33="Samedi",D33="Dimanche"),"",Données!$E$3) -> 0.53680556 | H33: 0.70555556 | I33: =IFERROR(IF(OR(D33="samedi",D33="dimanche")*(F33-E33)+(H33-G33)=0,"",F33-E33+(H33-G33)),"") -> 0.3375 | J33: =IF(I33-Données!$C$2>0,I33-Données!$C$2,0) -> 0.020833333 | K33: HCR
C34: =IF(ISERROR(IF((C33+1)<=$C$6,(C33+1),"")),"",IF((C33+1)<=$C$6,(C33+1),"")) -> 44586 | D34: =IF(ISERROR(VLOOKUP(WEEKDAY($C34),$V$21:$W$27,2,0)),"",VLOOKUP(WEEKDAY($C34),$V$21:$W$27,2,0)) -> Mardi | E34: 0.33333333 | F34: =IF(OR(D34="Samedi",D34="Dimanche"),"",Données!$D$3) -> 0.5125 | G34: =IF(OR(D34="Samedi",D34="Dimanche"),"",Données!$E$3) -> 0.53680556 | H34: 0.70902778 | I34: =IFERROR(IF(OR(D34="samedi",D34="dimanche")*(F34-E34)+(H34-G34)=0,"",F34-E34+(H34-G34)),"") -> 0.35138889 | J34: =IF(I34-Données!$C$2>0,I34-Données!$C$2,0) -> 0.034722222 | K34: HCR
C35: =IF(ISERROR(IF((C34+1)<=$C$6,(C34+1),"")),"",IF((C34+1)<=$C$6,(C34+1),"")) -> 44587 | D35: =IF(ISERROR(VLOOKUP(WEEKDAY($C35),$V$21:$W$27,2,0)),"",VLOOKUP(WEEKDAY($C35),$V$21:$W$27,2,0)) -> Mercredi | E35: 0.34375 | F35: =IF(OR(D35="Samedi",D35="Dimanche"),"",Données!$D$3) -> 0.5125 | G35: =IF(OR(D35="Samedi",D35="Dimanche"),"",Données!$E$3) -> 0.53680556 | H35: 0.66736111 | I35: =IFERROR(IF(OR(D35="samedi",D35="dimanche")*(F35-E35)+(H35-G35)=0,"",F35-E35+(H35-G35)),"") -> 0.29930556 | J35: =IF(I35-Données!$C$2>0,I35-Données!$C$2,0) -> 0 | K35: HCR
C36: =IF(ISERROR(IF((C35+1)<=$C$6,(C35+1),"")),"",IF((C35+1)<=$C$6,(C35+1),"")) -> 44588 | D36: =IF(ISERROR(VLOOKUP(WEEKDAY($C36),$V$21:$W$27,2,0)),"",VLOOKUP(WEEKDAY($C36),$V$21:$W$27,2,0)) -> Jeudi | E36: 0.33333333 | F36: =IF(OR(D36="Samedi",D36="Dimanche"),"",Données!$D$3) -> 0.5125 | G36: =IF(OR(D36="Samedi",D36="Dimanche"),"",Données!$E$3) -> 0.53680556 | H36: 0.70902778 | I36: =IFERROR(IF(OR(D36="samedi",D36="dimanche")*(F36-E36)+(H36-G36)=0,"",F36-E36+(H36-G36)),"") -> 0.35138889 | J36: =IF(I36-Données!$C$2>0,I36-Données!$C$2,0) -> 0.034722222 | K36: HCR
C37: =IF(ISERROR(IF((C36+1)<=$C$6,(C36+1),"")),"",IF((C36+1)<=$C$6,(C36+1),"")) -> 44589 | D37: =IF(ISERROR(VLOOKUP(WEEKDAY($C37),$V$21:$W$27,2,0)),"",VLOOKUP(WEEKDAY($C37),$V$21:$W$27,2,0)) -> Vendredi | K37: CP
C38: =IF(ISERROR(IF((C37+1)<=$C$6,(C37+1),"")),"",IF((C37+1)<=$C$6,(C37+1),"")) -> 44590 | D38: =IF(ISERROR(VLOOKUP(WEEKDAY($C38),$V$21:$W$27,2,0)),"",VLOOKUP(WEEKDAY($C38),$V$21:$W$27,2,0)) -> Samedi | E38: =IF(OR(D38="Samedi",D38="Dimanche"),"",Données!$C$3) | F38: =IF(OR(D38="Samedi",D38="Dimanche"),"",Données!$D$3) | G38: =IF(OR(D38="Samedi",D38="Dimanche"),"",Données!$E$3) | H38: =IF(OR(D38="Samedi",D38="Dimanche"),"",Données!$F$3) | I38: =IFERROR(IF(OR(D38="samedi",D38="dimanche")*(F38-E38)+(H38-G38)=0,"",F38-E38+(H38-G38)),"") | K38: {=IF(OR(C38=$U$19:$U$31),"FERIE","")}
C39: =IF(ISERROR(IF((C38+1)<=$C$6,(C38+1),"")),"",IF((C38+1)<=$C$6,(C38+1),"")) -> 44591 | D39: =IF(ISERROR(VLOOKUP(WEEKDAY($C39),$V$21:$W$27,2,0)),"",VLOOKUP(WEEKDAY($C39),$V$21:$W$27,2,0)) -> Dimanche | E39: =IF(OR(D39="Samedi",D39="Dimanche"),"",Données!$C$3) | F39: =IF(OR(D39="Samedi",D39="Dimanche"),"",Données!$D$3) | G39: =IF(OR(D39="Samedi",D39="Dimanche"),"",Données!$E$3) | H39: =IF(OR(D39="Samedi",D39="Dimanche"),"",Données!$F$3) | I39: =IFERROR(IF(OR(D39="samedi",D39="dimanche")*(F39-E39)+(H39-G39)=0,"",F39-E39+(H39-G39)),"") | J39: =IF(D39="Dimanche",SUM(J33:J37),"") -> 0.090277778 | K39: {=IF(OR(C39=$U$19:$U$31),"FERIE","")} | L39: =IF(D39="Dimanche",SUM(I33:I39),"") -> 1.3395833 | T39: {=IF(OR(K10=$U$19:$U$31),"ferie","")}
B40: 5 | C40: =IF(ISERROR(IF((C39+1)<=$C$6,(C39+1),"")),"",IF((C39+1)<=$C$6,(C39+1),"")) -> 44592 | D40: =IF(ISERROR(VLOOKUP(WEEKDAY($C40),$V$21:$W$27,2,0)),"",VLOOKUP(WEEKDAY($C40),$V$21:$W$27,2,0)) -> Lundi | E40: 0.34375 | F40: =IF(OR(D40="Samedi",D40="Dimanche"),"",Données!$D$3) -> 0.5125 | G40: =IF(OR(D40="Samedi",D40="Dimanche"),"",Données!$E$3) -> 0.53680556 | H40: =IF(OR(D40="Samedi",D40="Dimanche"),"",Données!$F$3) -> 16:41 | I40: =IFERROR(IF(OR(D40="samedi",D40="dimanche")*(F40-E40)+(H40-G40)=0,"",F40-E40+(H40-G40)),"") -> 0.32708333 | J40: =IF(I40-Données!$C$2>0,I40-Données!$C$2,0) -> 0.010416667 | K40: HPL | T40: {=IF(OR(K12=U19:U31),"ferie","")}
A41: =VLOOKUP(MONTH($C41),$V$8:$W$19,2,0) -> FEVRIER | C41: =IF(ISERROR(IF((C40+1)<=$C$6,(C40+1),"")),"",IF((C40+1)<=$C$6,(C40+1),"")) -> 44593 | D41: =IF(ISERROR(VLOOKUP(WEEKDAY($C41),$V$21:$W$27,2,0)),"",VLOOKUP(WEEKDAY($C41),$V$21:$W$27,2,0)) -> Mardi | E41: 0.34375 | F41: =IF(OR(D41="Samedi",D41="Dimanche"),"",Données!$D$3) -> 0.5125 | G41: =IF(OR(D41="Samedi",D41="Dimanche"),"",Données!$E$3) -> 0.53680556 | H41: 0.70902778 | I41: =IFERROR(IF(OR(D41="samedi",D41="dimanche")*(F41-E41)+(H41-G41)=0,"",F41-E41+(H41-G41)),"") -> 0.34097222 | J41: =IF(I41-Données!$C$2>0,I41-Données!$C$2,0) -> 0.024305556 | K41: HPL | M41: =SUMIF(K41:K68,"HCR",J41:J68) -> 0 | N41: =SUMIF(K41:K68,"HPL",J41:J68) -> 0.26041667 | O41: =N41*24 -> 6.25 | R41: =O41-(P41+Q41) -> 6.25
C42: =IF(ISERROR(IF((C41+1)<=$C$6,(C41+1),"")),"",IF((C41+1)<=$C$6,(C41+1),"")) -> 44594 | D42: =IF(ISERROR(VLOOKUP(WEEKDAY($C42),$V$21:$W$27,2,0)),"",VLOOKUP(WEEKDAY($C42),$V$21:$W$27,2,0)) -> Mercredi | E42: 0.34375 | F42: =IF(OR(D42="Samedi",D42="Dimanche"),"",Données!$D$3) -> 0.5125 | G42: =IF(OR(D42="Samedi",D42="Dimanche"),"",Données!$E$3) -> 0.53680556 | H42: 0.72291667 | I42: =IFERROR(IF(OR(D42="samedi",D42="dimanche")*(F42-E42)+(H42-G42)=0,"",F42-E42+(H42-G42)),"") -> 0.35486111 | J42: =IF(I42-Données!$C$2>0,I42-Données!$C$2,0) -> 0.038194444 | K42: HPL
C43: =IF(ISERROR(IF((C42+1)<=$C$6,(C42+1),"")),"",IF((C42+1)<=$C$6,(C42+1),"")) -> 44595 | D43: =IF(ISERROR(VLOOKUP(WEEKDAY($C43),$V$21:$W$27,2,0)),"",VLOOKUP(WEEKDAY($C43),$V$21:$W$27,2,0)) -> Jeudi | E43: =IF(OR(D43="Samedi",D43="Dimanche"),"",Données!$C$3) -> 0.35416667 | F43: =IF(OR(D43="Samedi",D43="Dimanche"),"",Données!$D$3) -> 0.5125 | G43: =IF(OR(D43="Samedi",D43="Dimanche"),"",Données!$E$3) -> 0.53680556 | H43: =IF(OR(D43="Samedi",D43="Dimanche"),"",Données!$F$3) -> 16:41 | I43: =IFERROR(IF(OR(D43="samedi",D43="dimanche")*(F43-E43)+(H43-G43)=0,"",F43-E43+(H43-G43)),"") -> 0.31666667 | J43: =IF(I43-Données!$C$2>0,I43-Données!$C$2,0) -> 5.5511151e-17 | K43: HPL
C44: =IF(ISERROR(IF((C43+1)<=$C$6,(C43+1),"")),"",IF((C43+1)<=$C$6,(C43+1),"")) -> 44596 | D44: =IF(ISERROR(VLOOKUP(WEEKDAY($C44),$V$21:$W$27,2,0)),"",VLOOKUP(WEEKDAY($C44),$V$21:$W$27,2,0)) -> Vendredi | K44: CP
C45: =IF(ISERROR(IF((C44+1)<=$C$6,(C44+1),"")),"",IF((C44+1)<=$C$6,(C44+1),"")) -> 44597 | D45: =IF(ISERROR(VLOOKUP(WEEKDAY($C45),$V$21:$W$27,2,0)),"",VLOOKUP(WEEKDAY($C45),$V$21:$W$27,2,0)) -> Samedi | E45: =IF(OR(D45="Samedi",D45="Dimanche"),"",Données!$C$3) | F45: =IF(OR(D45="Samedi",D45="Dimanche"),"",Données!$D$3) | G45: =IF(OR(D45="Samedi",D45="Dimanche"),"",Données!$E$3) | H45: =IF(OR(D45="Samedi",D45="Dimanche"),"",Données!$F$3) | I45: =IFERROR(IF(OR(D45="samedi",D45="dimanche")*(F45-E45)+(H45-G45)=0,"",F45-E45+(H45-G45)),"") | K45: {=IF(OR(C45=$U$19:$U$31),"FERIE","")}
C46: =IF(ISERROR(IF((C45+1)<=$C$6,(C45+1),"")),"",IF((C45+1)<=$C$6,(C45+1),"")) -> 44598 | D46: =IF(ISERROR(VLOOKUP(WEEKDAY($C46),$V$21:$W$27,2,0)),"",VLOOKUP(WEEKDAY($C46),$V$21:$W$27,2,0)) -> Dimanche | E46: =IF(OR(D46="Samedi",D46="Dimanche"),"",Données!$C$3) | F46: =IF(OR(D46="Samedi",D46="Dimanche"),"",Données!$D$3) | G46: =IF(OR(D46="Samedi",D46="Dimanche"),"",Données!$E$3) | H46: =IF(OR(D46="Samedi",D46="Dimanche"),"",Données!$F$3) | I46: =IFERROR(IF(OR(D46="samedi",D46="dimanche")*(F46-E46)+(H46-G46)=0,"",F46-E46+(H46-G46)),"") | J46: =IF(D46="Dimanche",SUM(J40:J44),"") -> 0.072916667 | K46: {=IF(OR(C46=$U$19:$U$31),"FERIE","")} | L46: =IF(D46="Dimanche",SUM(I40:I46),"") -> 1.3395833
B47: 6 | C47: =IF(ISERROR(IF((C46+1)<=$C$6,(C46+1),"")),"",IF((C46+1)<=$C$6,(C46+1),"")) -> 44599 | D47: =IF(ISERROR(VLOOKUP(WEEKDAY($C47),$V$21:$W$27,2,0)),"",VLOOKUP(WEEKDAY($C47),$V$21:$W$27,2,0)) -> Lundi | E47: =IF(OR(D47="Samedi",D47="Dimanche"),"",Données!$C$3) -> 0.35416667 | F47: =IF(OR(D47="Samedi",D47="Dimanche"),"",Données!$D$3) -> 0.5125 | G47: =IF(OR(D47="Samedi",D47="Dimanche"),"",Données!$E$3) -> 0.53680556 | H47: =IF(OR(D47="Samedi",D47="Dimanche"),"",Données!$F$3) -> 16:41 | I47: =IFERROR(IF(OR(D47="samedi",D47="dimanche")*(F47-E47)+(H47-G47)=0,"",F47-E47+(H47-G47)),"") -> 0.31666667 | J47: =IF(I47-Données!$C$2>0,I47-Données!$C$2,0) -> 5.5511151e-17 | K47: TLT
C48: =IF(ISERROR(IF((C47+1)<=$C$6,(C47+1),"")),"",IF((C47+1)<=$C$6,(C47+1),"")) -> 44600 | D48: =IF(ISERROR(VLOOKUP(WEEKDAY($C48),$V$21:$W$27,2,0)),"",VLOOKUP(WEEKDAY($C48),$V$21:$W$27,2,0)) -> Mardi | J48: =IF(I48-Données!$C$2>0,I48-Données!$C$2,0) -> 0 | K48: enfant malade
C49: =IF(ISERROR(IF((C48+1)<=$C$6,(C48+1),"")),"",IF((C48+1)<=$C$6,(C48+1),"")) -> 44601 | D49: =IF(ISERROR(VLOOKUP(WEEKDAY($C49),$V$21:$W$27,2,0)),"",VLOOKUP(WEEKDAY($C49),$V$21:$W$27,2,0)) -> Mercredi | J49: =IF(I49-Données!$C$2>0,I49-Données!$C$2,0) -> 0 | K49: enfant malade
C50: =IF(ISERROR(IF((C49+1)<=$C$6,(C49+1),"")),"",IF((C49+1)<=$C$6,(C49+1),"")) -> 44602 | D50: =IF(ISERROR(VLOOKUP(WEEKDAY($C50),$V$21:$W$27,2,0)),"",VLOOKUP(WEEKDAY($C50),$V$21:$W$27,2,0)) -> Jeudi | J50: =IF(I50-Données!$C$2>0,I50-Données!$C$2,0) -> 0 | K50: enfant malade
C51: =IF(ISERROR(IF((C50+1)<=$C$6,(C50+1),"")),"",IF((C50+1)<=$C$6,(C50+1),"")) -> 44603 | D51: =IF(ISERROR(VLOOKUP(WEEKDAY($C51),$V$21:$W$27,2,0)),"",VLOOKUP(WEEKDAY($C51),$V$21:$W$27,2,0)) -> Vendredi | J51: =IF(I51-Données!$C$2>0,I51-Données!$C$2,0) -> 0 | K51: enfant malade
C52: =IF(ISERROR(IF((C51+1)<=$C$6,(C51+1),"")),"",IF((C51+1)<=$C$6,(C51+1),"")) -> 44604 | D52: =IF(ISERROR(VLOOKUP(WEEKDAY($C52),$V$21:$W$27,2,0)),"",VLOOKUP(WEEKDAY($C52),$V$21:$W$27,2,0)) -> Samedi | E52: =IF(OR(D52="Samedi",D52="Dimanche"),"",Données!$C$3) | F52: =IF(OR(D52="Samedi",D52="Dimanche"),"",Données!$D$3) | G52: =IF(OR(D52="Samedi",D52="Dimanche"),"",Données!$E$3) | H52: =IF(OR(D52="Samedi",D52="Dimanche"),"",Données!$F$3) | I52: =IFERROR(IF(OR(D52="samedi",D52="dimanche")*(F52-E52)+(H52-G52)=0,"",F52-E52+(H52-G52)),"") | K52: {=IF(OR(C52=$U$19:$U$31),"FERIE","")}
C53: =IF(ISERROR(IF((C52+1)<=$C$6,(C52+1),"")),"",IF((C52+1)<=$C$6,(C52+1),"")) -> 44605 | D53: =IF(ISERROR(VLOOKUP(WEEKDAY($C53),$V$21:$W$27,2,0)),"",VLOOKUP(WEEKDAY($C53),$V$21:$W$27,2,0)) -> Dimanche | E53: =IF(OR(D53="Samedi",D53="Dimanche"),"",Données!$C$3) | F53: =IF(OR(D53="Samedi",D53="Dimanche"),"",Données!$D$3) | G53: =IF(OR(D53="Samedi",D53="Dimanche"),"",Données!$E$3) | H53: =IF(OR(D53="Samedi",D53="Dimanche"),"",Données!$F$3) | I53: =IFERROR(IF(OR(D53="samedi",D53="dimanche")*(F53-E53)+(H53-G53)=0,"",F53-E53+(H53-G53)),"") | J53: =IF(D53="Dimanche",SUM(J47:J51),"") -> 5.5511151e-17 | K53: {=IF(OR(C53=$U$19:$U$31),"FERIE","")} | L53: =IF(D53="Dimanche",SUM(I47:I53),"") -> 0.31666667
B54: 7 | C54: =IF(ISERROR(IF((C53+1)<=$C$6,(C53+1),"")),"",IF((C53+1)<=$C$6,(C53+1),"")) -> 44606 | D54: =IF(ISERROR(VLOOKUP(WEEKDAY($C54),$V$21:$W$27,2,0)),"",VLOOKUP(WEEKDAY($C54),$V$21:$W$27,2,0)) -> Lundi | E54: 0.33333333 | F54: =IF(OR(D54="Samedi",D54="Dimanche"),"",Données!$D$3) -> 0.5125 | G54: =IF(OR(D54="Samedi",D54="Dimanche"),"",Données!$E$3) -> 0.53680556 | H54: 0.72638889 | I54: =IFERROR(IF(OR(D54="samedi",D54="dimanche")*(F54-E54)+(H54-G54)=0,"",F54-E54+(H54-G54)),"") -> 0.36875 | J54: =IF(I54-Données!$C$2>0,I54-Données!$C$2,0) -> 0.052083333 | K54: HPL
C55: =IF(ISERROR(IF((C54+1)<=$C$6,(C54+1),"")),"",IF((C54+1)<=$C$6,(C54+1),"")) -> 44607 | D55: =IF(ISERROR(VLOOKUP(WEEKDAY($C55),$V$21:$W$27,2,0)),"",VLOOKUP(WEEKDAY($C55),$V$21:$W$27,2,0)) -> Mardi | E55: 0.33333333 | F55: =IF(OR(D55="Samedi",D55="Dimanche"),"",Données!$D$3) -> 0.5125 | G55: =IF(OR(D55="Samedi",D55="Dimanche"),"",Données!$E$3) -> 0.53680556 | H55: 0.69513889 | I55: =IFERROR(IF(OR(D55="samedi",D55="dimanche")*(F55-E55)+(H55-G55)=0,"",F55-E55+(H55-G55)),"") -> 0.3375 | J55: =IF(I55-Données!$C$2>0,I55-Données!$C$2,0) -> 0.020833333 | K55: HPL
C56: =IF(ISERROR(IF((C55+1)<=$C$6,(C55+1),"")),"",IF((C55+1)<=$C$6,(C55+1),"")) -> 44608 | D56: =IF(ISERROR(VLOOKUP(WEEKDAY($C56),$V$21:$W$27,2,0)),"",VLOOKUP(WEEKDAY($C56),$V$21:$W$27,2,0)) -> Mercredi | E56: 0.34375 | F56: =IF(OR(D56="Samedi",D56="Dimanche"),"",Données!$D$3) -> 0.5125 | G56: =IF(OR(D56="Samedi",D56="Dimanche"),"",Données!$E$3) -> 0.53680556 | H56: 0.70555556 | I56: =IFERROR(IF(OR(D56="samedi",D56="dimanche")*(F56-E56)+(H56-G56)=0,"",F56-E56+(H56-G56)),"") -> 0.3375 | J56: =IF(I56-Données!$C$2>0,I56-Données!$C$2,0) -> 0.020833333 | K56: HPL
C57: =IF(ISERROR(IF((C56+1)<=$C$6,(C56+1),"")),"",IF((C56+1)<=$C$6,(C56+1),"")) -> 44609 | D57: =IF(ISERROR(VLOOKUP(WEEKDAY($C57),$V$21:$W$27,2,0)),"",VLOOKUP(WEEKDAY($C57),$V$21:$W$27,2,0)) -> Jeudi | E57: 0.33333333 | F57: =IF(OR(D57="Samedi",D57="Dimanche"),"",Données!$D$3) -> 0.5125 | G57: =IF(OR(D57="Samedi",D57="Dimanche"),"",Données!$E$3) -> 0.53680556 | H57: =IF(OR(D57="Samedi",D57="Dimanche"),"",Données!$F$3) -> 16:41 | I57: =IFERROR(IF(OR(D57="samedi",D57="dimanche")*(F57-E57)+(H57-G57)=0,"",F57-E57+(H57-G57)),"") -> 0.3375 | J57: =IF(I57-Données!$C$2>0,I57-Données!$C$2,0) -> 0.020833333 | K57: HPL
C58: =IF(ISERROR(IF((C57+1)<=$C$6,(C57+1),"")),"",IF((C57+1)<=$C$6,(C57+1),"")) -> 44610 | D58: =IF(ISERROR(VLOOKUP(WEEKDAY($C58),$V$21:$W$27,2,0)),"",VLOOKUP(WEEKDAY($C58),$V$21:$W$27,2,0)) -> Vendredi | K58: CP
C59: =IF(ISERROR(IF((C58+1)<=$C$6,(C58+1),"")),"",IF((C58+1)<=$C$6,(C58+1),"")) -> 44611 | D59: =IF(ISERROR(VLOOKUP(WEEKDAY($C59),$V$21:$W$27,2,0)),"",VLOOKUP(WEEKDAY($C59),$V$21:$W$27,2,0)) -> Samedi | E59: =IF(OR(D59="Samedi",D59="Dimanche"),"",Données!$C$3) | F59: =IF(OR(D59="Samedi",D59="Dimanche"),"",Données!$D$3) | G59: =IF(OR(D59="Samedi",D59="Dimanche"),"",Données!$E$3) | H59: =IF(OR(D59="Samedi",D59="Dimanche"),"",Données!$F$3) | I59: =IFERROR(IF(OR(D59="samedi",D59="dimanche")*(F59-E59)+(H59-G59)=0,"",F59-E59+(H59-G59)),"") | K59: {=IF(OR(C59=$U$19:$U$31),"FERIE","")}
C60: =IF(ISERROR(IF((C59+1)<=$C$6,(C59+1),"")),"",IF((C59+1)<=$C$6,(C59+1),"")) -> 44612 | D60: =IF(ISERROR(VLOOKUP(WEEKDAY($C60),$V$21:$W$27,2,0)),"",VLOOKUP(WEEKDAY($C60),$V$21:$W$27,2,0)) -> Dimanche | E60: =IF(OR(D60="Samedi",D60="Dimanche"),"",Données!$C$3) | F60: =IF(OR(D60="Samedi",D60="Dimanche"),"",Données!$D$3) | G60: =IF(OR(D60="Samedi",D60="Dimanche"),"",Données!$E$3) | H60: =IF(OR(D60="Samedi",D60="Dimanche"),"",Données!$F$3) | I60: =IFERROR(IF(OR(D60="samedi",D60="dimanche")*(F60-E60)+(H60-G60)=0,"",F60-E60+(H60-G60)),"") | J60: =IF(D60="Dimanche",SUM(J54:J58),"") -> 0.11458333 | K60: {=IF(OR(C60=$U$19:$U$31),"FERIE","")} | L60: =IF(D60="Dimanche",SUM(I54:I60),"") -> 1.38125
B61: 8 | C61: =IF(ISERROR(IF((C60+1)<=$C$6,(C60+1),"")),"",IF((C60+1)<=$C$6,(C60+1),"")) -> 44613 | D61: =IF(ISERROR(VLOOKUP(WEEKDAY($C61),$V$21:$W$27,2,0)),"",VLOOKUP(WEEKDAY($C61),$V$21:$W$27,2,0)) -> Lundi | E61: 0.34375 | F61: =IF(OR(D61="Samedi",D61="Dimanche"),"",Données!$D$3) -> 0.5125 | G61: =IF(OR(D61="Samedi",D61="Dimanche"),"",Données!$E$3) -> 0.53680556 | H61: =IF(OR(D61="Samedi",D61="Dimanche"),"",Données!$F$3) -> 16:41 | I61: =IFERROR(IF(OR(D61="samedi",D61="dimanche")*(F61-E61)+(H61-G61)=0,"",F61-E61+(H61-G61)),"") -> 0.32708333 | J61: =IF(I61-Données!$C$2>0,I61-Données!$C$2,0) -> 0.010416667 | K61: HPL
C62: =IF(ISERROR(IF((C61+1)<=$C$6,(C61+1),"")),"",IF((C61+1)<=$C$6,(C61+1),"")) -> 44614 | D62: =IF(ISERROR(VLOOKUP(WEEKDAY($C62),$V$21:$W$27,2,0)),"",VLOOKUP(WEEKDAY($C62),$V$21:$W$27,2,0)) -> Mardi | E62: 0.34375 | F62: =IF(OR(D62="Samedi",D62="Dimanche"),"",Données!$D$3) -> 0.5125 | G62: =IF(OR(D62="Samedi",D62="Dimanche"),"",Données!$E$3) -> 0.53680556 | H62: =IF(OR(D62="Samedi",D62="Dimanche"),"",Données!$F$3) -> 16:41 | I62: =IFERROR(IF(OR(D62="samedi",D62="dimanche")*(F62-E62)+(H62-G62)=0,"",F62-E62+(H62-G62)),"") -> 0.32708333 | J62: =IF(I62-Données!$C$2>0,I62-Données!$C$2,0) -> 0.010416667 | K62: HPL
C63: =IF(ISERROR(IF((C62+1)<=$C$6,(C62+1),"")),"",IF((C62+1)<=$C$6,(C62+1),"")) -> 44615 | D63: =IF(ISERROR(VLOOKUP(WEEKDAY($C63),$V$21:$W$27,2,0)),"",VLOOKUP(WEEKDAY($C63),$V$21:$W$27,2,0)) -> Mercredi | K63: CP
C64: =IF(ISERROR(IF((C63+1)<=$C$6,(C63+1),"")),"",IF((C63+1)<=$C$6,(C63+1),"")) -> 44616 | D64: =IF(ISERROR(VLOOKUP(WEEKDAY($C64),$V$21:$W$27,2,0)),"",VLOOKUP(WEEKDAY($C64),$V$21:$W$27,2,0)) -> Jeudi | E64: 0.33333333 | F64: =IF(OR(D64="Samedi",D64="Dimanche"),"",Données!$D$3) -> 0.5125 | G64: =IF(OR(D64="Samedi",D64="Dimanche"),"",Données!$E$3) -> 0.53680556 | H64: =IF(OR(D64="Samedi",D64="Dimanche"),"",Données!$F$3) -> 16:41 | I64: =IFERROR(IF(OR(D64="samedi",D64="dimanche")*(F64-E64)+(H64-G64)=0,"",F64-E64+(H64-G64)),"") -> 0.3375 | J64: =IF(I64-Données!$C$2>0,I64-Données!$C$2,0) -> 0.020833333 | K64: HPL
C65: =IF(ISERROR(IF((C64+1)<=$C$6,(C64+1),"")),"",IF((C64+1)<=$C$6,(C64+1),"")) -> 44617 | D65: =IF(ISERROR(VLOOKUP(WEEKDAY($C65),$V$21:$W$27,2,0)),"",VLOOKUP(WEEKDAY($C65),$V$21:$W$27,2,0)) -> Vendredi | E65: 0.33333333 | F65: =IF(OR(D65="Samedi",D65="Dimanche"),"",Données!$D$3) -> 0.5125 | G65: =IF(OR(D65="Samedi",D65="Dimanche"),"",Données!$E$3) -> 0.53680556 | H65: =IF(OR(D65="Samedi",D65="Dimanche"),"",Données!$F$3) -> 16:41 | I65: =IFERROR(IF(OR(D65="samedi",D65="dimanche")*(F65-E65)+(H65-G65)=0,"",F65-E65+(H65-G65)),"") -> 0.3375 | J65: =IF(I65-Données!$C$2>0,I65-Données!$C$2,0) -> 0.020833333 | K65: HPL
C66: =IF(ISERROR(IF((C65+1)<=$C$6,(C65+1),"")),"",IF((C65+1)<=$C$6,(C65+1),"")) -> 44618 | D66: =IF(ISERROR(VLOOKUP(WEEKDAY($C66),$V$21:$W$27,2,0)),"",VLOOKUP(WEEKDAY($C66),$V$21:$W$27,2,0)) -> Samedi | E66: =IF(OR(D66="Samedi",D66="Dimanche"),"",Données!$C$3) | F66: =IF(OR(D66="Samedi",D66="Dimanche"),"",Données!$D$3) | G66: =IF(OR(D66="Samedi",D66="Dimanche"),"",Données!$E$3) | H66: =IF(OR(D66="Samedi",D66="Dimanche"),"",Données!$F$3) | I66: =IFERROR(IF(OR(D66="samedi",D66="dimanche")*(F66-E66)+(H66-G66)=0,"",F66-E66+(H66-G66)),"") | K66: {=IF(OR(C66=$U$19:$U$31),"FERIE","")}
C67: =IF(ISERROR(IF((C66+1)<=$C$6,(C66+1),"")),"",IF((C66+1)<=$C$6,(C66+1),"")) -> 44619 | D67: =IF(ISERROR(VLOOKUP(WEEKDAY($C67),$V$21:$W$27,2,0)),"",VLOOKUP(WEEKDAY($C67),$V$21:$W$27,2,0)) -> Dimanche | E67: =IF(OR(D67="Samedi",D67="Dimanche"),"",Données!$C$3) | F67: =IF(OR(D67="Samedi",D67="Dimanche"),"",Données!$D$3) | G67: =IF(OR(D67="Samedi",D67="Dimanche"),"",Données!$E$3) | H67: =IF(OR(D67="Samedi",D67="Dimanche"),"",Données!$F$3) | I67: =IFERROR(IF(OR(D67="samedi",D67="dimanche")*(F67-E67)+(H67-G67)=0,"",F67-E67+(H67-G67)),"") | J67: =IF(D67="Dimanche",SUM(J61:J65),"") -> 0.0625 | K67: {=IF(OR(C67=$U$19:$U$31),"FERIE","")} | L67: =IF(D67="Dimanche",SUM(I61:I67),"") -> 1.3291667
B68: 9 | C68: =IF(ISERROR(IF((C67+1)<=$C$6,(C67+1),"")),"",IF((C67+1)<=$C$6,(C67+1),"")) -> 44620 | D68: =IF(ISERROR(VLOOKUP(WEEKDAY($C68),$V$21:$W$27,2,0)),"",VLOOKUP(WEEKDAY($C68),$V$21:$W$27,2,0)) -> Lundi | E68: 0.33333333 | F68: =IF(OR(D68="Samedi",D68="Dimanche"),"",Données!$D$3) -> 0.5125 | G68: =IF(OR(D68="Samedi",D68="Dimanche"),"",Données!$E$3) -> 0.53680556 | H68: =IF(OR(D68="Samedi",D68="Dimanche"),"",Données!$F$3) -> 16:41 | I68: =IFERROR(IF(OR(D68="samedi",D68="dimanche")*(F68-E68)+(H68-G68)=0,"",F68-E68+(H68-G68)),"") -> 0.3375 | J68: =IF(I68-Données!$C$2>0,I68-Données!$C$2,0) -> 0.020833333 | K68: HPL
A69: =VLOOKUP(MONTH($C69),$V$8:$W$19,2,0) -> MARS | C69: =IF(ISERROR(IF((C68+1)<=$C$6,(C68+1),"")),"",IF((C68+1)<=$C$6,(C68+1),"")) -> 44621 | D69: =IF(ISERROR(VLOOKUP(WEEKDAY($C69),$V$21:$W$27,2,0)),"",VLOOKUP(WEEKDAY($C69),$V$21:$W$27,2,0)) -> Mardi | E69: 0.34375 | F69: =IF(OR(D69="Samedi",D69="Dimanche"),"",Données!$D$3) -> 0.5125 | G69: =IF(OR(D69="Samedi",D69="Dimanche"),"",Données!$E$3) -> 0.53680556 | H69: =IF(OR(D69="Samedi",D69="Dimanche"),"",Données!$F$3) -> 16:41 | I69: =IFERROR(IF(OR(D69="samedi",D69="dimanche")*(F69-E69)+(H69-G69)=0,"",F69-E69+(H69-G69)),"") -> 0.32708333 | J69: =IF(I69-Données!$C$2>0,I69-Données!$C$2,0) -> 0.010416667 | K69: HPL | M69: =SUMIF(K69:K99,"HCR",J69:J99) -> 0 | N69: =SUMIF(K69:K99,"HPL",J69:J99) -> 0.065972222 | O69: =N69*24 -> 1.5833333 | R69: =O69-(P69+Q69) -> 1.5833333
C70: =IF(ISERROR(IF((C69+1)<=$C$6,(C69+1),"")),"",IF((C69+1)<=$C$6,(C69+1),"")) -> 44622 | D70: =IF(ISERROR(VLOOKUP(WEEKDAY($C70),$V$21:$W$27,2,0)),"",VLOOKUP(WEEKDAY($C70),$V$21:$W$27,2,0)) -> Mercredi | E70: 0.33680556 | F70: =IF(OR(D70="Samedi",D70="Dimanche"),"",Données!$D$3) -> 0.5125 | G70: =IF(OR(D70="Samedi",D70="Dimanche"),"",Données!$E$3) -> 0.53680556 | H70: =IF(OR(D70="Samedi",D70="Dimanche"),"",Données!$F$3) -> 16:41 | I70: =IFERROR(IF(OR(D70="samedi",D70="dimanche")*(F70-E70)+(H70-G70)=0,"",F70-E70+(H70-G70)),"") -> 0.33402778 | J70: =IF(I70-Données!$C$2>0,I70-Données!$C$2,0) -> 0.017361111 | K70: HPL
C71: =IF(ISERROR(IF((C70+1)<=$C$6,(C70+1),"")),"",IF((C70+1)<=$C$6,(C70+1),"")) -> 44623 | D71: =IF(ISERROR(VLOOKUP(WEEKDAY($C71),$V$21:$W$27,2,0)),"",VLOOKUP(WEEKDAY($C71),$V$21:$W$27,2,0)) -> Jeudi | E71: 0.33680556 | F71: =IF(OR(D71="Samedi",D71="Dimanche"),"",Données!$D$3) -> 0.5125 | G71: =IF(OR(D71="Samedi",D71="Dimanche"),"",Données!$E$3) -> 0.53680556 | H71: =IF(OR(D71="Samedi",D71="Dimanche"),"",Données!$F$3) -> 16:41 | I71: =IFERROR(IF(OR(D71="samedi",D71="dimanche")*(F71-E71)+(H71-G71)=0,"",F71-E71+(H71-G71)),"") -> 0.33402778 | J71: =IF(I71-Données!$C$2>0,I71-Données!$C$2,0) -> 0.017361111 | K71: HPL
C72: =IF(ISERROR(IF((C71+1)<=$C$6,(C71+1),"")),"",IF((C71+1)<=$C$6,(C71+1),"")) -> 44624 | D72: =IF(ISERROR(VLOOKUP(WEEKDAY($C72),$V$21:$W$27,2,0)),"",VLOOKUP(WEEKDAY($C72),$V$21:$W$27,2,0)) -> Vendredi | K72: CP
C73: =IF(ISERROR(IF((C72+1)<=$C$6,(C72+1),"")),"",IF((C72+1)<=$C$6,(C72+1),"")) -> 44625 | D73: =IF(ISERROR(VLOOKUP(WEEKDAY($C73),$V$21:$W$27,2,0)),"",VLOOKUP(WEEKDAY($C73),$V$21:$W$27,2,0)) -> Samedi | E73: =IF(OR(D73="Samedi",D73="Dimanche"),"",Données!$C$3) | F73: =IF(OR(D73="Samedi",D73="Dimanche"),"",Données!$D$3) | G73: =IF(OR(D73="Samedi",D73="Dimanche"),"",Données!$E$3) | H73: =IF(OR(D73="Samedi",D73="Dimanche"),"",Données!$F$3) | I73: =IFERROR(IF(OR(D73="samedi",D73="dimanche")*(F73-E73)+(H73-G73)=0,"",F73-E73+(H73-G73)),"") | K73: {=IF(OR(C73=$U$19:$U$31),"FERIE","")}
C74: =IF(ISERROR(IF((C73+1)<=$C$6,(C73+1),"")),"",IF((C73+1)<=$C$6,(C73+1),"")) -> 44626 | D74: =IF(ISERROR(VLOOKUP(WEEKDAY($C74),$V$21:$W$27,2,0)),"",VLOOKUP(WEEKDAY($C74),$V$21:$W$27,2,0)) -> Dimanche | E74: =IF(OR(D74="Samedi",D74="Dimanche"),"",Données!$C$3) | F74: =IF(OR(D74="Samedi",D74="Dimanche"),"",Données!$D$3) | G74: =IF(OR(D74="Samedi",D74="Dimanche"),"",Données!$E$3) | H74: =IF(OR(D74="Samedi",D74="Dimanche"),"",Données!$F$3) | I74: =IFERROR(IF(OR(D74="samedi",D74="dimanche")*(F74-E74)+(H74-G74)=0,"",F74-E74+(H74-G74)),"") | J74: =IF(D74="Dimanche",SUM(J68:J72),"") -> 0.065972222 | K74: {=IF(OR(C74=$U$19:$U$31),"FERIE","")} | L74: =IF(D74="Dimanche",SUM(I68:I74),"") -> 1.3326389
B75: 10 | C75: =IF(ISERROR(IF((C74+1)<=$C$6,(C74+1),"")),"",IF((C74+1)<=$C$6,(C74+1),"")) -> 44627 | D75: =IF(ISERROR(VLOOKUP(WEEKDAY($C75),$V$21:$W$27,2,0)),"",VLOOKUP(WEEKDAY($C75),$V$21:$W$27,2,0)) -> Lundi | E75: 0.33333333 | F75: =IF(OR(D75="Samedi",D75="Dimanche"),"",Données!$D$3) -> 0.5125 | G75: =IF(OR(D75="Samedi",D75="Dimanche"),"",Données!$E$3) -> 0.53680556 | H75: =IF(OR(D75="Samedi",D75="Dimanche"),"",Données!$F$3) -> 16:41 | I75: =IFERROR(IF(OR(D75="samedi",D75="dimanche")*(F75-E75)+(H75-G75)=0,"",F75-E75+(H75-G75)),"") -> 0.3375 | J75: =IF(I75-Données!$C$2>0,I75-Données!$C$2,0) -> 0.020833333 | K75: HPL
C76: =IF(ISERROR(IF((C75+1)<=$C$6,(C75+1),"")),"",IF((C75+1)<=$C$6,(C75+1),"")) -> 44628 | D76: =IF(ISERROR(VLOOKUP(WEEKDAY($C76),$V$21:$W$27,2,0)),"",VLOOKUP(WEEKDAY($C76),$V$21:$W$27,2,0)) -> Mardi | E76: =IF(OR(D76="Samedi",D76="Dimanche"),"",Données!$C$3) -> 0.35416667 | F76: =IF(OR(D76="Samedi",D76="Dimanche"),"",Données!$D$3) -> 0.5125 | G76: =IF(OR(D76="Samedi",D76="Dimanche"),"",Données!$E$3) -> 0.53680556 | H76: =IF(OR(D76="Samedi",D76="Dimanche"),"",Données!$F$3) -> 16:41 | I76: =IFERROR(IF(OR(D76="samedi",D76="dimanche")*(F76-E76)+(H76-G76)=0,"",F76-E76+(H76-G76)),"") -> 0.31666667 | J76: =IF(I76-Données!$C$2>0,I76-Données!$C$2,0) -> 5.5511151e-17 | K76: HPL
C77: =IF(ISERROR(IF((C76+1)<=$C$6,(C76+1),"")),"",IF((C76+1)<=$C$6,(C76+1),"")) -> 44629 | D77: =IF(ISERROR(VLOOKUP(WEEKDAY($C77),$V$21:$W$27,2,0)),"",VLOOKUP(WEEKDAY($C77),$V$21:$W$27,2,0)) -> Mercredi | K77: CP
C78: =IF(ISERROR(IF((C77+1)<=$C$6,(C77+1),"")),"",IF((C77+1)<=$C$6,(C77+1),"")) -> 44630 | D78: =IF(ISERROR(VLOOKUP(WEEKDAY($C78),$V$21:$W$27,2,0)),"",VLOOKUP(WEEKDAY($C78),$V$21:$W$27,2,0)) -> Jeudi | E78: =IF(OR(D78="Samedi",D78="Dimanche"),"",Données!$C$3) -> 0.35416667 | F78: =IF(OR(D78="Samedi",D78="Dimanche"),"",Données!$D$3) -> 0.5125 | G78: =IF(OR(D78="Samedi",D78="Dimanche"),"",Données!$E$3) -> 0.53680556 | H78: =IF(OR(D78="Samedi",D78="Dimanche"),"",Données!$F$3) -> 16:41 | I78: =IFERROR(IF(OR(D78="samedi",D78="dimanche")*(F78-E78)+(H78-G78)=0,"",F78-E78+(H78-G78)),"") -> 0.31666667 | J78: =IF(I78-Données!$C$2>0,I78-Données!$C$2,0) -> 5.5511151e-17 | K78: HPL
C79: =IF(ISERROR(IF((C78+1)<=$C$6,(C78+1),"")),"",IF((C78+1)<=$C$6,(C78+1),"")) -> 44631 | D79: =IF(ISERROR(VLOOKUP(WEEKDAY($C79),$V$21:$W$27,2,0)),"",VLOOKUP(WEEKDAY($C79),$V$21:$W$27,2,0)) -> Vendredi | E79: =IF(OR(D79="Samedi",D79="Dimanche"),"",Données!$C$3) -> 0.35416667 | F79: =IF(OR(D79="Samedi",D79="Dimanche"),"",Données!$D$3) -> 0.5125 | G79: =IF(OR(D79="Samedi",D79="Dimanche"),"",Données!$E$3) -> 0.53680556 | H79: =IF(OR(D79="Samedi",D79="Dimanche"),"",Données!$F$3) -> 16:41 | I79: =IFERROR(IF(OR(D79="samedi",D79="dimanche")*(F79-E79)+(H79-G79)=0,"",F79-E79+(H79-G79)),"") -> 0.31666667 | J79: =IF(I79-Données!$C$2>0,I79-Données!$C$2,0) -> 5.5511151e-17 | K79: HPL
C80: =IF(ISERROR(IF((C79+1)<=$C$6,(C79+1),"")),"",IF((C79+1)<=$C$6,(C79+1),"")) -> 44632 | D80: =IF(ISERROR(VLOOKUP(WEEKDAY($C80),$V$21:$W$27,2,0)),"",VLOOKUP(WEEKDAY($C80),$V$21:$W$27,2,0)) -> Samedi | E80: =IF(OR(D80="Samedi",D80="Dimanche"),"",Données!$C$3) | F80: =IF(OR(D80="Samedi",D80="Dimanche"),"",Données!$D$3) | G80: =IF(OR(D80="Samedi",D80="Dimanche"),"",Données!$E$3) | H80: =IF(OR(D80="Samedi",D80="Dimanche"),"",Données!$F$3) | I80: =IFERROR(IF(OR(D80="samedi",D80="dimanche")*(F80-E80)+(H80-G80)=0,"",F80-E80+(H80-G80)),"") | K80: {=IF(OR(C80=$U$19:$U$31),"FERIE","")}
C81: =IF(ISERROR(IF((C80+1)<=$C$6,(C80+1),"")),"",IF((C80+1)<=$C$6,(C80+1),"")) -> 44633 | D81: =IF(ISERROR(VLOOKUP(WEEKDAY($C81),$V$21:$W$27,2,0)),"",VLOOKUP(WEEKDAY($C81),$V$21:$W$27,2,0)) -> Dimanche | E81: =IF(OR(D81="Samedi",D81="Dimanche"),"",Données!$C$3) | F81: =IF(OR(D81="Samedi",D81="Dimanche"),"",Données!$D$3) | G81: =IF(OR(D81="Samedi",D81="Dimanche"),"",Données!$E$3) | H81: =IF(OR(D81="Samedi",D81="Dimanche"),"",Données!$F$3) | I81: =IFERROR(IF(OR(D81="samedi",D81="dimanche")*(F81-E81)+(H81-G81)=0,"",F81-E81+(H81-G81)),"") | J81: =IF(D81="Dimanche",SUM(J75:J79),"") -> 0.020833333 | K81: {=IF(OR(C81=$U$19:$U$31),"FERIE","")} | L81: =IF(D81="Dimanche",SUM(I75:I81),"") -> 1.2875
B82: 11 | C82: =IF(ISERROR(IF((C81+1)<=$C$6,(C81+1),"")),"",IF((C81+1)<=$C$6,(C81+1),"")) -> 44634 | D82: =IF(ISERROR(VLOOKUP(WEEKDAY($C82),$V$21:$W$27,2,0)),"",VLOOKUP(WEEKDAY($C82),$V$21:$W$27,2,0)) -> Lundi | E82: =IF(OR(D82="Samedi",D82="Dimanche"),"",Données!$C$3) -> 0.35416667 | F82: =IF(OR(D82="Samedi",D82="Dimanche"),"",Données!$D$3) -> 0.5125 | G82: =IF(OR(D82="Samedi",D82="Dimanche"),"",Données!$E$3) -> 0.53680556 | H82: =IF(OR(D82="Samedi",D82="Dimanche"),"",Données!$F$3) -> 16:41 | I82: =IFERROR(IF(OR(D82="samedi",D82="dimanche")*(F82-E82)+(H82-G82)=0,"",F82-E82+(H82-G82)),"") -> 0.31666667 | J82: =IF(I82-Données!$C$2>0,I82-Données!$C$2,0) -> 5.5511151e-17 | K82: HPL
C83: =IF(ISERROR(IF((C82+1)<=$C$6,(C82+1),"")),"",IF((C82+1)<=$C$6,(C82+1),"")) -> 44635 | D83: =IF(ISERROR(VLOOKUP(WEEKDAY($C83),$V$21:$W$27,2,0)),"",VLOOKUP(WEEKDAY($C83),$V$21:$W$27,2,0)) -> Mardi | E83: =IF(OR(D83="Samedi",D83="Dimanche"),"",Données!$C$3) -> 0.35416667 | F83: =IF(OR(D83="Samedi",D83="Dimanche"),"",Données!$D$3) -> 0.5125 | G83: =IF(OR(D83="Samedi",D83="Dimanche"),"",Données!$E$3) -> 0.53680556 | H83: =IF(OR(D83="Samedi",D83="Dimanche"),"",Données!$F$3) -> 16:41 | I83: =IFERROR(IF(OR(D83="samedi",D83="dimanche")*(F83-E83)+(H83-G83)=0,"",F83-E83+(H83-G83)),"") -> 0.31666667 | J83: =IF(I83-Données!$C$2>0,I83-Données!$C$2,0) -> 5.5511151e-17 | K83: HPL
C84: =IF(ISERROR(IF((C83+1)<=$C$6,(C83+1),"")),"",IF((C83+1)<=$C$6,(C83+1),"")) -> 44636 | D84: =IF(ISERROR(VLOOKUP(WEEKDAY($C84),$V$21:$W$27,2,0)),"",VLOOKUP(WEEKDAY($C84),$V$21:$W$27,2,0)) -> Mercredi | K84: CP
C85: =IF(ISERROR(IF((C84+1)<=$C$6,(C84+1),"")),"",IF((C84+1)<=$C$6,(C84+1),"")) -> 44637 | D85: =IF(ISERROR(VLOOKUP(WEEKDAY($C85),$V$21:$W$27,2,0)),"",VLOOKUP(WEEKDAY($C85),$V$21:$W$27,2,0)) -> Jeudi | E85: =IF(OR(D85="Samedi",D85="Dimanche"),"",Données!$C$3) -> 0.35416667 | F85: =IF(OR(D85="Samedi",D85="Dimanche"),"",Données!$D$3) -> 0.5125 | G85: =IF(OR(D85="Samedi",D85="Dimanche"),"",Données!$E$3) -> 0.53680556 | H85: =IF(OR(D85="Samedi",D85="Dimanche"),"",Données!$F$3) -> 16:41 | I85: =IFERROR(IF(OR(D85="samedi",D85="dimanche")*(F85-E85)+(H85-G85)=0,"",F85-E85+(H85-G85)),"") -> 0.31666667 | J85: =IF(I85-Données!$C$2>0,I85-Données!$C$2,0) -> 5.5511151e-17 | K85: HPL
C86: =IF(ISERROR(IF((C85+1)<=$C$6,(C85+1),"")),"",IF((C85+1)<=$C$6,(C85+1),"")) -> 44638 | D86: =IF(ISERROR(VLOOKUP(WEEKDAY($C86),$V$21:$W$27,2,0)),"",VLOOKUP(WEEKDAY($C86),$V$21:$W$27,2,0)) -> Vendredi | E86: =IF(OR(D86="Samedi",D86="Dimanche"),"",Données!$C$3) -> 0.35416667 | F86: =IF(OR(D86="Samedi",D86="Dimanche"),"",Données!$D$3) -> 0.5125 | G86: =IF(OR(D86="Samedi",D86="Dimanche"),"",Données!$E$3) -> 0.53680556 | H86: =IF(OR(D86="Samedi",D86="Dimanche"),"",Données!$F$3) -> 16:41 | I86: =IFERROR(IF(OR(D86="samedi",D86="dimanche")*(F86-E86)+(H86-G86)=0,"",F86-E86+(H86-G86)),"") -> 0.31666667 | J86: =IF(I86-Données!$C$2>0,I86-Données!$C$2,0) -> 5.5511151e-17 | K86: HPL
C87: =IF(ISERROR(IF((C86+1)<=$C$6,(C86+1),"")),"",IF((C86+1)<=$C$6,(C86+1),"")) -> 44639 | D87: =IF(ISERROR(VLOOKUP(WEEKDAY($C87),$V$21:$W$27,2,0)),"",VLOOKUP(WEEKDAY($C87),$V$21:$W$27,2,0)) -> Samedi | E87: =IF(OR(D87="Samedi",D87="Dimanche"),"",Données!$C$3) | F87: =IF(OR(D87="Samedi",D87="Dimanche"),"",Données!$D$3) | G87: =IF(OR(D87="Samedi",D87="Dimanche"),"",Données!$E$3) | H87: =IF(OR(D87="Samedi",D87="Dimanche"),"",Données!$F$3) | I87: =IFERROR(IF(OR(D87="samedi",D87="dimanche")*(F87-E87)+(H87-G87)=0,"",F87-E87+(H87-G87)),"") | K87: {=IF(OR(C87=$U$19:$U$31),"FERIE","")}
C88: =IF(ISERROR(IF((C87+1)<=$C$6,(C87+1),"")),"",IF((C87+1)<=$C$6,(C87+1),"")) -> 44640 | D88: =IF(ISERROR(VLOOKUP(WEEKDAY($C88),$V$21:$W$27,2,0)),"",VLOOKUP(WEEKDAY($C88),$V$21:$W$27,2,0)) -> Dimanche | E88: =IF(OR(D88="Samedi",D88="Dimanche"),"",Données!$C$3) | F88: =IF(OR(D88="Samedi",D88="Dimanche"),"",Données!$D$3) | G88: =IF(OR(D88="Samedi",D88="Dimanche"),"",Données!$E$3) | H88: =IF(OR(D88="Samedi",D88="Dimanche"),"",Données!$F$3) | I88: =IFERROR(IF(OR(D88="samedi",D88="dimanche")*(F88-E88)+(H88-G88)=0,"",F88-E88+(H88-G88)),"") | J88: =IF(D88="Dimanche",SUM(J82:J86),"") -> 2.220446e-16 | K88: {=IF(OR(C88=$U$19:$U$31),"FERIE","")} | L88: =IF(D88="Dimanche",SUM(I82:I88),"") -> 1.2666667
B89: 12 | C89: =IF(ISERROR(IF((C88+1)<=$C$6,(C88+1),"")),"",IF((C88+1)<=$C$6,(C88+1),"")) -> 44641 | D89: =IF(ISERROR(VLOOKUP(WEEKDAY($C89),$V$21:$W$27,2,0)),"",VLOOKUP(WEEKDAY($C89),$V$21:$W$27,2,0)) -> Lundi | E89: =IF(OR(D89="Samedi",D89="Dimanche"),"",Données!$C$3) -> 0.35416667 | F89: =IF(OR(D89="Samedi",D89="Dimanche"),"",Données!$D$3) -> 0.5125 | G89: =IF(OR(D89="Samedi",D89="Dimanche"),"",Données!$E$3) -> 0.53680556 | H89: =IF(OR(D89="Samedi",D89="Dimanche"),"",Données!$F$3) -> 16:41 | I89: =IFERROR(IF(OR(D89="samedi",D89="dimanche")*(F89-E89)+(H89-G89)=0,"",F89-E89+(H89-G89)),"") -> 0.31666667 | J89: =IF(I89-Données!$C$2>0,I89-Données!$C$2,0) -> 5.5511151e-17 | K89: HPL
C90: =IF(ISERROR(IF((C89+1)<=$C$6,(C89+1),"")),"",IF((C89+1)<=$C$6,(C89+1),"")) -> 44642 | D90: =IF(ISERROR(VLOOKUP(WEEKDAY($C90),$V$21:$W$27,2,0)),"",VLOOKUP(WEEKDAY($C90),$V$21:$W$27,2,0)) -> Mardi | E90: =IF(OR(D90="Samedi",D90="Dimanche"),"",Données!$C$3) -> 0.35416667 | F90: =IF(OR(D90="Samedi",D90="Dimanche"),"",Données!$D$3) -> 0.5125 | G90: =IF(OR(D90="Samedi",D90="Dimanche"),"",Données!$E$3) -> 0.53680556 | H90: =IF(OR(D90="Samedi",D90="Dimanche"),"",Données!$F$3) -> 16:41 | I90: =IFERROR(IF(OR(D90="samedi",D90="dimanche")*(F90-E90)+(H90-G90)=0,"",F90-E90+(H90-G90)),"") -> 0.31666667 | J90: =IF(I90-Données!$C$2>0,I90-Données!$C$2,0) -> 5.5511151e-17 | K90: HPL
C91: =IF(ISERROR(IF((C90+1)<=$C$6,(C90+1),"")),"",IF((C90+1)<=$C$6,(C90+1),"")) -> 44643 | D91: =IF(ISERROR(VLOOKUP(WEEKDAY($C91),$V$21:$W$27,2,0)),"",VLOOKUP(WEEKDAY($C91),$V$21:$W$27,2,0)) -> Mercredi | E91: =IF(OR(D91="Samedi",D91="Dimanche"),"",Données!$C$3) -> 0.35416667 | F91: =IF(OR(D91="Samedi",D91="Dimanche"),"",Données!$D$3) -> 0.5125 | G91: =IF(OR(D91="Samedi",D91="Dimanche"),"",Données!$E$3) -> 0.53680556 | H91: =IF(OR(D91="Samedi",D91="Dimanche"),"",Données!$F$3) -> 16:41 | I91: =IFERROR(IF(OR(D91="samedi",D91="dimanche")*(F91-E91)+(H91-G91)=0,"",F91-E91+(H91-G91)),"") -> 0.31666667 | J91: =IF(I91-Données!$C$2>0,I91-Données!$C$2,0) -> 5.5511151e-17 | K91: HPL
C92: =IF(ISERROR(IF((C91+1)<=$C$6,(C91+1),"")),"",IF((C91+1)<=$C$6,(C91+1),"")) -> 44644 | D92: =IF(ISERROR(VLOOKUP(WEEKDAY($C92),$V$21:$W$27,2,0)),"",VLOOKUP(WEEKDAY($C92),$V$21:$W$27,2,0)) -> Jeudi | E92: =IF(OR(D92="Samedi",D92="Dimanche"),"",Données!$C$3) -> 0.35416667 | F92: =IF(OR(D92="Samedi",D92="Dimanche"),"",Données!$D$3) -> 0.5125 | G92: =IF(OR(D92="Samedi",D92="Dimanche"),"",Données!$E$3) -> 0.53680556 | H92: =IF(OR(D92="Samedi",D92="Dimanche"),"",Données!$F$3) -> 16:41 | I92: =IFERROR(IF(OR(D92="samedi",D92="dimanche")*(F92-E92)+(H92-G92)=0,"",F92-E92+(H92-G92)),"") -> 0.31666667 | J92: =IF(I92-Données!$C$2>0,I92-Données!$C$2,0) -> 5.5511151e-17 | K92: HPL
C93: =IF(ISERROR(IF((C92+1)<=$C$6,(C92+1),"")),"",IF((C92+1)<=$C$6,(C92+1),"")) -> 44645 | D93: =IF(ISERROR(VLOOKUP(WEEKDAY($C93),$V$21:$W$27,2,0)),"",VLOOKUP(WEEKDAY($C93),$V$21:$W$27,2,0)) -> Vendredi | E93: =IF(OR(D93="Samedi",D93="Dimanche"),"",Données!$C$3) -> 0.35416667 | F93: =IF(OR(D93="Samedi",D93="Dimanche"),"",Données!$D$3) -> 0.5125 | G93: =IF(OR(D93="Samedi",D93="Dimanche"),"",Données!$E$3) -> 0.53680556 | H93: =IF(OR(D93="Samedi",D93="Dimanche"),"",Données!$F$3) -> 16:41 | I93: =IFERROR(IF(OR(D93="samedi",D93="dimanche")*(F93-E93)+(H93-G93)=0,"",F93-E93+(H93-G93)),"") -> 0.31666667 | J93: =IF(I93-Données!$C$2>0,I93-Données!$C$2,0) -> 5.5511151e-17 | K93: HPL
C94: =IF(ISERROR(IF((C93+1)<=$C$6,(C93+1),"")),"",IF((C93+1)<=$C$6,(C93+1),"")) -> 44646 | D94: =IF(ISERROR(VLOOKUP(WEEKDAY($C94),$V$21:$W$27,2,0)),"",VLOOKUP(WEEKDAY($C94),$V$21:$W$27,2,0)) -> Samedi | E94: =IF(OR(D94="Samedi",D94="Dimanche"),"",Données!$C$3) | F94: =IF(OR(D94="Samedi",D94="Dimanche"),"",Données!$D$3) | G94: =IF(OR(D94="Samedi",D94="Dimanche"),"",Données!$E$3) | H94: =IF(OR(D94="Samedi",D94="Dimanche"),"",Données!$F$3) | I94: =IFERROR(IF(OR(D94="samedi",D94="dimanche")*(F94-E94)+(H94-G94)=0,"",F94-E94+(H94-G94)),"") | K94: {=IF(OR(C94=$U$19:$U$31),"FERIE","")}
C95: =IF(ISERROR(IF((C94+1)<=$C$6,(C94+1),"")),"",IF((C94+1)<=$C$6,(C94+1),"")) -> 44647 | D95: =IF(ISERROR(VLOOKUP(WEEKDAY($C95),$V$21:$W$27,2,0)),"",VLOOKUP(WEEKDAY($C95),$V$21:$W$27,2,0)) -> Dimanche | E95: =IF(OR(D95="Samedi",D95="Dimanche"),"",Données!$C$3) | F95: =IF(OR(D95="Samedi",D95="Dimanche"),"",Données!$D$3) | G95: =IF(OR(D95="Samedi",D95="Dimanche"),"",Données!$E$3) | H95: =IF(OR(D95="Samedi",D95="Dimanche"),"",Données!$F$3) | I95: =IFERROR(IF(OR(D95="samedi",D95="dimanche")*(F95-E95)+(H95-G95)=0,"",F95-E95+(H95-G95)),"") | J95: =IF(D95="Dimanche",SUM(J89:J93),"") -> 2.7755576e-16 | K95: {=IF(OR(C95=$U$19:$U$31),"FERIE","")} | L95: =IF(D95="Dimanche",SUM(I89:I95),"") -> 1.5833333
B96: 13 | C96: =IF(ISERROR(IF((C95+1)<=$C$6,(C95+1),"")),"",IF((C95+1)<=$C$6,(C95+1),"")) -> 44648 | D96: =IF(ISERROR(VLOOKUP(WEEKDAY($C96),$V$21:$W$27,2,0)),"",VLOOKUP(WEEKDAY($C96),$V$21:$W$27,2,0)) -> Lundi | E96: =IF(OR(D96="Samedi",D96="Dimanche"),"",Données!$C$3) -> 0.35416667 | F96: =IF(OR(D96="Samedi",D96="Dimanche"),"",Données!$D$3) -> 0.5125 | G96: =IF(OR(D96="Samedi",D96="Dimanche"),"",Données!$E$3) -> 0.53680556 | H96: =IF(OR(D96="Samedi",D96="Dimanche"),"",Données!$F$3) -> 16:41 | I96: =IFERROR(IF(OR(D96="samedi",D96="dimanche")*(F96-E96)+(H96-G96)=0,"",F96-E96+(H96-G96)),"") -> 0.31666667 | J96: =IF(I96-Données!$C$2>0,I96-Données!$C$2,0) -> 5.5511151e-17 | K96: HPL
C97: =IF(ISERROR(IF((C96+1)<=$C$6,(C96+1),"")),"",IF((C96+1)<=$C$6,(C96+1),"")) -> 44649 | D97: =IF(ISERROR(VLOOKUP(WEEKDAY($C97),$V$21:$W$27,2,0)),"",VLOOKUP(WEEKDAY($C97),$V$21:$W$27,2,0)) -> Mardi | E97: =IF(OR(D97="Samedi",D97="Dimanche"),"",Données!$C$3) -> 0.35416667 | F97: =IF(OR(D97="Samedi",D97="Dimanche"),"",Données!$D$3) -> 0.5125 | G97: =IF(OR(D97="Samedi",D97="Dimanche"),"",Données!$E$3) -> 0.53680556 | H97: =IF(OR(D97="Samedi",D97="Dimanche"),"",Données!$F$3) -> 16:41 | I97: =IFERROR(IF(OR(D97="samedi",D97="dimanche")*(F97-E97)+(H97-G97)=0,"",F97-E97+(H97-G97)),"") -> 0.31666667 | J97: =IF(I97-Données!$C$2>0,I97-Données!$C$2,0) -> 5.5511151e-17 | K97: HPL
C98: =IF(ISERROR(IF((C97+1)<=$C$6,(C97+1),"")),"",IF((C97+1)<=$C$6,(C97+1),"")) -> 44650 | D98: =IF(ISERROR(VLOOKUP(WEEKDAY($C98),$V$21:$W$27,2,0)),"",VLOOKUP(WEEKDAY($C98),$V$21:$W$27,2,0)) -> Mercredi | E98: =IF(OR(D98="Samedi",D98="Dimanche"),"",Données!$C$3) -> 0.35416667 | F98: =IF(OR(D98="Samedi",D98="Dimanche"),"",Données!$D$3) -> 0.5125 | G98: =IF(OR(D98="Samedi",D98="Dimanche"),"",Données!$E$3) -> 0.53680556 | H98: =IF(OR(D98="Samedi",D98="Dimanche"),"",Données!$F$3) -> 16:41 | I98: =IFERROR(IF(OR(D98="samedi",D98="dimanche")*(F98-E98)+(H98-G98)=0,"",F98-E98+(H98-G98)),"") -> 0.31666667 | J98: =IF(I98-Données!$C$2>0,I98-Données!$C$2,0) -> 5.5511151e-17 | K98: HPL
C99: =IF(ISERROR(IF((C98+1)<=$C$6,(C98+1),"")),"",IF((C98+1)<=$C$6,(C98+1),"")) -> 44651 | D99: =IF(ISERROR(VLOOKUP(WEEKDAY($C99),$V$21:$W$27,2,0)),"",VLOOKUP(WEEKDAY($C99),$V$21:$W$27,2,0)) -> Jeudi | E99: =IF(OR(D99="Samedi",D99="Dimanche"),"",Données!$C$3) -> 0.35416667 | F99: =IF(OR(D99="Samedi",D99="Dimanche"),"",Données!$D$3) -> 0.5125 | G99: =IF(OR(D99="Samedi",D99="Dimanche"),"",Données!$E$3) -> 0.53680556 | H99: =IF(OR(D99="Samedi",D99="Dimanche"),"",Données!$F$3) -> 16:41 | I99: =IFERROR(IF(OR(D99="samedi",D99="dimanche")*(F99-E99)+(H99-G99)=0,"",F99-E99+(H99-G99)),"") -> 0.31666667 | J99: =IF(I99-Données!$C$2>0,I99-Données!$C$2,0) -> 5.5511151e-17 | K99: HPL
A100: =VLOOKUP(MONTH($C100),$V$8:$W$19,2,0) -> AVRIL | C100: =IF(ISERROR(IF((C99+1)<=$C$6,(C99+1),"")),"",IF((C99+1)<=$C$6,(C99+1),"")) -> 44652 | D100: =IF(ISERROR(VLOOKUP(WEEKDAY($C100),$V$21:$W$27,2,0)),"",VLOOKUP(WEEKDAY($C100),$V$21:$W$27,2,0)) -> Vendredi | K100: CP | M100: =SUMIF(K100:K129,"HCR",J100:J129) -> 0 | N100: =SUMIF(K100:K129,"HPL",J100:J129) -> 2.220446e-16 | O100: =N100*24 -> 5.3290705e-15 | R100: =O100-(P100+Q100) -> 5.3290705e-15
C101: =IF(ISERROR(IF((C100+1)<=$C$6,(C100+1),"")),"",IF((C100+1)<=$C$6,(C100+1),"")) -> 44653 | D101: =IF(ISERROR(VLOOKUP(WEEKDAY($C101),$V$21:$W$27,2,0)),"",VLOOKUP(WEEKDAY($C101),$V$21:$W$27,2,0)) -> Samedi | E101: =IF(OR(D101="Samedi",D101="Dimanche"),"",Données!$C$3) | F101: =IF(OR(D101="Samedi",D101="Dimanche"),"",Données!$D$3) | G101: =IF(OR(D101="Samedi",D101="Dimanche"),"",Données!$E$3) | H101: =IF(OR(D101="Samedi",D101="Dimanche"),"",Données!$F$3) | I101: =IFERROR(IF(OR(D101="samedi",D101="dimanche")*(F101-E101)+(H101-G101)=0,"",F101-E101+(H101-G101)),"") | K101: {=IF(OR(C101=$U$19:$U$31),"FERIE","")}
C102: =IF(ISERROR(IF((C101+1)<=$C$6,(C101+1),"")),"",IF((C101+1)<=$C$6,(C101+1),"")) -> 44654 | D102: =IF(ISERROR(VLOOKUP(WEEKDAY($C102),$V$21:$W$27,2,0)),"",VLOOKUP(WEEKDAY($C102),$V$21:$W$27,2,0)) -> Dimanche | E102: =IF(OR(D102="Samedi",D102="Dimanche"),"",Données!$C$3) | F102: =IF(OR(D102="Samedi",D102="Dimanche"),"",Données!$D$3) | G102: =IF(OR(D102="Samedi",D102="Dimanche"),"",Données!$E$3) | H102: =IF(OR(D102="Samedi",D102="Dimanche"),"",Données!$F$3) | I102: =IFERROR(IF(OR(D102="samedi",D102="dimanche")*(F102-E102)+(H102-G102)=0,"",F102-E102+(H102-G102)),"") | J102: =IF(D102="Dimanche",SUM(J96:J100),"") -> 2.220446e-16 | K102: {=IF(OR(C102=$U$19:$U$31),"FERIE","")} | L102: =IF(D102="Dimanche",SUM(I96:I102),"") -> 1.2666667
...
