Workbook
Name FERIE: 'Consignes planning décembre'!$AQ$2:$AQ$14
Name TAB: 'Consignes planning décembre'!$C$2:$AG$13
Name TAB: 'Consignes planning novembre'!$C$2:$AG$13
Name TAB: 'Consignes planning octobre'!$C$2:$AG$13

Sheet Horaires
C1: Matin | F1: Après-midi
B2: Début | C2: Fin | D2: Nb H. | E2: Début | F2: Fin | G2: Nb H. | H2: TOTAL | I2: H. Journée | J2: ECART +/-
A3: 40360 | B3: 0.35416667 | C3: 0.5 | D3: =IF(C3="","",C3-B3) -> 0.14583333 | E3: 0.58333333 | F3: 0.72916667 | G3: =IF(F3="","",F3-E3) -> 0.14583333 | H3: =IF(G3="","",D3+G3) -> 0.29166667 | I3: 0.29166667 | J3: =IF(H3=I3,"",IF(H3<I3,"-","+")) | K3: =IF(H3=I3,"",IF(H3>I3,H3-I3,IF(H3=I3,"",I3-H3)))
A4: 40361 | B4: 0.35416667 | C4: 0.5 | D4: =IF(C4="","",C4-B4) -> 0.14583333 | E4: 0.58333333 | F4: 0.70833333 | G4: =IF(F4="","",F4-E4) -> 0.125 | H4: =IF(G4="","",D4+G4) -> 0.27083333 | I4: 0.29166667 | J4: =IF(H4=I4,"",IF(H4<I4,"-","+")) -> - | K4: =IF(H4=I4,"",IF(H4>I4,H4-I4,IF(H4=I4,"",I4-H4))) -> 0.020833333
A5: 40362 | D5: =IF(C5="","",C5-B5) | G5: =IF(F5="","",F5-E5) | H5: =IF(G5="","",D5+G5) | J5: =IF(H5=I5,"",IF(H5<I5,"-","+")) | K5: =IF(H5=I5,"",IF(H5>I5,H5-I5,IF(H5=I5,"",I5-H5)))
A6: 40363 | D6: =IF(C6="","",C6-B6) | G6: =IF(F6="","",F6-E6) | H6: =IF(G6="","",D6+G6) | J6: =IF(H6=I6,"",IF(H6<I6,"-","+")) | K6: =IF(H6=I6,"",IF(H6>I6,H6-I6,IF(H6=I6,"",I6-H6)))
A7: 40364 | B7: 0.35416667 | C7: 0.5 | D7: =IF(C7="","",C7-B7) -> 0.14583333 | E7: 0.58333333 | F7: 0.70833333 | G7: =IF(F7="","",F7-E7) -> 0.125 | H7: =IF(G7="","",D7+G7) -> 0.27083333 | I7: 0.29166667 | J7: =IF(H7=I7,"",IF(H7<I7,"-","+")) -> - | K7: =IF(H7=I7,"",IF(H7>I7,H7-I7,IF(H7=I7,"",I7-H7))) -> 0.020833333
A8: 40365 | B8: 0.35416667 | C8: 0.47916667 | D8: =IF(C8="","",C8-B8) -> 0.125 | E8: 0.58333333 | F8: 0.70833333 | G8: =IF(F8="","",F8-E8) -> 0.125 | H8: =IF(G8="","",D8+G8) -> 0.25 | I8: 0.29166667 | J8: =IF(H8=I8,"",IF(H8<I8,"-","+")) -> - | K8: =IF(H8=I8,"",IF(H8>I8,H8-I8,IF(H8=I8,"",I8-H8))) -> 0.041666667
A9: 40366 | B9: 0.35416667 | C9: 0.5 | D9: =IF(C9="","",C9-B9) -> 0.14583333 | E9: 0.58333333 | F9: 0.72916667 | G9: =IF(F9="","",F9-E9) -> 0.14583333 | H9: =IF(G9="","",D9+G9) -> 0.29166667 | I9: 0.29166667 | J9: =IF(H9=I9,"",IF(H9<I9,"-","+")) | K9: =IF(H9=I9,"",IF(H9>I9,H9-I9,IF(H9=I9,"",I9-H9)))
A10: 40367 | B10: 0.35416667 | C10: 0.5 | D10: =IF(C10="","",C10-B10) -> 0.14583333 | E10: 0.58333333 | F10: 0.70833333 | G10: =IF(F10="","",F10-E10) -> 0.125 | H10: =IF(G10="","",D10+G10) -> 0.27083333 | I10: 0.29166667 | J10: =IF(H10=I10,"",IF(H10<I10,"-","+")) -> - | K10: =IF(H10=I10,"",IF(H10>I10,H10-I10,IF(H10=I10,"",I10-H10))) -> 0.020833333
A11: 40368 | B11: 0.35416667 | C11: 0.5 | D11: =IF(C11="","",C11-B11) -> 0.14583333 | E11: 0.58333333 | F11: 0.74305556 | G11: =IF(F11="","",F11-E11) -> 0.15972222 | H11: =IF(G11="","",D11+G11) -> 0.30555556 | I11: 0.29166667 | J11: =IF(H11=I11,"",IF(H11<I11,"-","+")) -> + | K11: =IF(H11=I11,"",IF(H11>I11,H11-I11,IF(H11=I11,"",I11-H11))) -> 0.013888889
A12: 40369 | D12: =IF(C12="","",C12-B12) | G12: =IF(F12="","",F12-E12) | H12: =IF(G12="","",D12+G12) | J12: =IF(H12=I12,"",IF(H12<I12,"-","+")) | K12: =IF(H12=I12,"",IF(H12>I12,H12-I12,IF(H12=I12,"",I12-H12)))
A13: 40370 | D13: =IF(C13="","",C13-B13) | G13: =IF(F13="","",F13-E13) | H13: =IF(G13="","",D13+G13) | J13: =IF(H13=I13,"",IF(H13<I13,"-","+")) | K13: =IF(H13=I13,"",IF(H13>I13,H13-I13,IF(H13=I13,"",I13-H13)))
A14: 40371 | B14: 0.35416667 | C14: 0.5 | D14: =IF(C14="","",C14-B14) -> 0.14583333 | E14: 0.58333333 | F14: 0.72916667 | G14: =IF(F14="","",F14-E14) -> 0.14583333 | H14: =IF(G14="","",D14+G14) -> 0.29166667 | I14: 0.29166667 | J14: =IF(H14=I14,"",IF(H14<I14,"-","+")) | K14: =IF(H14=I14,"",IF(H14>I14,H14-I14,IF(H14=I14,"",I14-H14)))
A15: 40372 | B15: 0.35416667 | C15: 0.52083333 | D15: =IF(C15="","",C15-B15) -> 0.16666667 | E15: 0.58333333 | F15: 0.72916667 | G15: =IF(F15="","",F15-E15) -> 0.14583333 | H15: =IF(G15="","",D15+G15) -> 0.3125 | I15: 0.29166667 | J15: =IF(H15=I15,"",IF(H15<I15,"-","+")) -> + | K15: =IF(H15=I15,"",IF(H15>I15,H15-I15,IF(H15=I15,"",I15-H15))) -> 0.020833333
A16: 40373 | D16: =IF(C16="","",C16-B16) | G16: =IF(F16="","",F16-E16) | H16: =IF(G16="","",D16+G16) | J16: =IF(H16=I16,"",IF(H16<I16,"-","+")) | K16: =IF(H16=I16,"",IF(H16>I16,H16-I16,IF(H16=I16,"",I16-H16)))
A17: 40374 | B17: 0.35416667 | C17: 0.5 | D17: =IF(C17="","",C17-B17) -> 0.14583333 | E17: 0.58333333 | F17: 0.72916667 | G17: =IF(F17="","",F17-E17) -> 0.14583333 | H17: =IF(G17="","",D17+G17) -> 0.29166667 | I17: 0.29166667 | J17: =IF(H17=I17,"",IF(H17<I17,"-","+")) | K17: =IF(H17=I17,"",IF(H17>I17,H17-I17,IF(H17=I17,"",I17-H17)))
A18: 40375 | B18: 0.35416667 | C18: 0.5 | D18: =IF(C18="","",C18-B18) -> 0.14583333 | E18: 0.58333333 | F18: 0.72916667 | G18: =IF(F18="","",F18-E18) -> 0.14583333 | H18: =IF(G18="","",D18+G18) -> 0.29166667 | I18: 0.29166667 | J18: =IF(H18=I18,"",IF(H18<I18,"-","+")) | K18: =IF(H18=I18,"",IF(H18>I18,H18-I18,IF(H18=I18,"",I18-H18)))
A19: 40376 | D19: =IF(C19="","",C19-B19) | G19: =IF(F19="","",F19-E19) | H19: =IF(G19="","",D19+G19) | J19: =IF(H19=I19,"",IF(H19<I19,"-","+")) | K19: =IF(H19=I19,"",IF(H19>I19,H19-I19,IF(H19=I19,"",I19-H19)))
A20: 40377 | D20: =IF(C20="","",C20-B20) | G20: =IF(F20="","",F20-E20) | H20: =IF(G20="","",D20+G20) | J20: =IF(H20=I20,"",IF(H20<I20,"-","+")) | K20: =IF(H20=I20,"",IF(H20>I20,H20-I20,IF(H20=I20,"",I20-H20)))
A21: 40378 | B21: 0.35416667 | C21: 0.5 | D21: =IF(C21="","",C21-B21) -> 0.14583333 | E21: 0.58333333 | F21: 0.72916667 | G21: =IF(F21="","",F21-E21) -> 0.14583333 | H21: =IF(G21="","",D21+G21) -> 0.29166667 | I21: 0.29166667 | J21: =IF(H21=I21,"",IF(H21<I21,"-","+")) | K21: =IF(H21=I21,"",IF(H21>I21,H21-I21,IF(H21=I21,"",I21-H21)))
A22: 40379 | B22: 0.35416667 | C22: 0.5 | D22: =IF(C22="","",C22-B22) -> 0.14583333 | E22: 0.58333333 | F22: 0.72916667 | G22: =IF(F22="","",F22-E22) -> 0.14583333 | H22: =IF(G22="","",D22+G22) -> 0.29166667 | I22: 0.29166667 | J22: =IF(H22=I22,"",IF(H22<I22,"-","+")) | K22: =IF(H22=I22,"",IF(H22>I22,H22-I22,IF(H22=I22,"",I22-H22)))
A23: 40380 | B23: 0.35416667 | C23: 0.5 | D23: =IF(C23="","",C23-B23) -> 0.14583333 | E23: 0.58333333 | F23: 0.75694444 | G23: =IF(F23="","",F23-E23) -> 0.17361111 | H23: =IF(G23="","",D23+G23) -> 0.31944444 | I23: 0.29166667 | J23: =IF(H23=I23,"",IF(H23<I23,"-","+")) -> + | K23: =IF(H23=I23,"",IF(H23>I23,H23-I23,IF(H23=I23,"",I23-H23))) -> 0.027777778
A24: 40381 | B24: 0.35416667 | C24: 0.5 | D24: =IF(C24="","",C24-B24) -> 0.14583333 | E24: 0.58333333 | F24: 0.72916667 | G24: =IF(F24="","",F24-E24) -> 0.14583333 | H24: =IF(G24="","",D24+G24) -> 0.29166667 | I24: 0.29166667 | J24: =IF(H24=I24,"",IF(H24<I24,"-","+")) | K24: =IF(H24=I24,"",IF(H24>I24,H24-I24,IF(H24=I24,"",I24-H24)))
A25: 40382 | B25: 0.35416667 | C25: 0.5 | D25: =IF(C25="","",C25-B25) -> 0.14583333 | E25: 0.58333333 | F25: 0.72916667 | G25: =IF(F25="","",F25-E25) -> 0.14583333 | H25: =IF(G25="","",D25+G25) -> 0.29166667 | I25: 0.29166667 | J25: =IF(H25=I25,"",IF(H25<I25,"-","+")) | K25: =IF(H25=I25,"",IF(H25>I25,H25-I25,IF(H25=I25,"",I25-H25)))
A26: 40383 | B26: 0.35416667 | C26: 0.5 | D26: =IF(C26="","",C26-B26) -> 0.14583333 | E26: 0.58333333 | F26: 0.72916667 | G26: =IF(F26="","",F26-E26) -> 0.14583333 | H26: =IF(G26="","",D26+G26) -> 0.29166667 | I26: 0.29166667 | J26: =IF(H26=I26,"",IF(H26<I26,"-","+")) | K26: =IF(H26=I26,"",IF(H26>I26,H26-I26,IF(H26=I26,"",I26-H26)))
A27: 40384 | D27: =IF(C27="","",C27-B27) | G27: =IF(F27="","",F27-E27) | H27: =IF(G27="","",D27+G27) | J27: =IF(H27=I27,"",IF(H27<I27,"-","+")) | K27: =IF(H27=I27,"",IF(H27>I27,H27-I27,IF(H27=I27,"",I27-H27)))
A28: 40385 | B28: 0.35416667 | C28: 0.5 | D28: =IF(C28="","",C28-B28) -> 0.14583333 | E28: 0.58333333 | F28: 0.70833333 | G28: =IF(F28="","",F28-E28) -> 0.125 | H28: =IF(G28="","",D28+G28) -> 0.27083333 | I28: 0.29166667 | J28: =IF(H28=I28,"",IF(H28<I28,"-","+")) -> - | K28: =IF(H28=I28,"",IF(H28>I28,H28-I28,IF(H28=I28,"",I28-H28))) -> 0.020833333
A29: 40386 | B29: 0.35416667 | C29: 0.5 | D29: =IF(C29="","",C29-B29) -> 0.14583333 | E29: 0.58333333 | F29: 0.72916667 | G29: =IF(F29="","",F29-E29) -> 0.14583333 | H29: =IF(G29="","",D29+G29) -> 0.29166667 | I29: 0.29166667 | J29: =IF(H29=I29,"",IF(H29<I29,"-","+")) | K29: =IF(H29=I29,"",IF(H29>I29,H29-I29,IF(H29=I29,"",I29-H29)))
A30: 40387 | B30: 0.35416667 | C30: 0.5 | D30: =IF(C30="","",C30-B30) -> 0.14583333 | E30: 0.58333333 | F30: 0.72916667 | G30: =IF(F30="","",F30-E30) -> 0.14583333 | H30: =IF(G30="","",D30+G30) -> 0.29166667 | I30: 0.29166667 | J30: =IF(H30=I30,"",IF(H30<I30,"-","+")) | K30: =IF(H30=I30,"",IF(H30>I30,H30-I30,IF(H30=I30,"",I30-H30)))
A31: 40388 | B31: 0.35416667 | C31: 0.5 | D31: =IF(C31="","",C31-B31) -> 0.14583333 | E31: 0.58333333 | F31: 0.75 | G31: =IF(F31="","",F31-E31) -> 0.16666667 | H31: =IF(G31="","",D31+G31) -> 0.3125 | I31: 0.29166667 | J31: =IF(H31=I31,"",IF(H31<I31,"-","+")) -> + | K31: =IF(H31=I31,"",IF(H31>I31,H31-I31,IF(H31=I31,"",I31-H31))) -> 0.020833333
A32: 40389 | B32: 0.35416667 | C32: 0.5 | D32: =IF(C32="","",C32-B32) -> 0.14583333 | E32: 0.58333333 | F32: 0.74305556 | G32: =IF(F32="","",F32-E32) -> 0.15972222 | H32: =IF(G32="","",D32+G32) -> 0.30555556 | I32: 0.29166667 | J32: =IF(H32=I32,"",IF(H32<I32,"-","+")) -> + | K32: =IF(H32=I32,"",IF(H32>I32,H32-I32,IF(H32=I32,"",I32-H32))) -> 0.013888889
A33: 40390 | D33: =IF(C33="","",C33-B33) | G33: =IF(F33="","",F33-E33) | H33: =IF(G33="","",D33+G33) | J33: =IF(H33=I33,"",IF(H33<I33,"-","+")) | K33: =IF(H33=I33,"",IF(H33>I33,H33-I33,IF(H33=I33,"",I33-H33)))
G35: Total : | H35: =SUM(H3:H33) -> 6.3888889

Sheet Consignes planning octobre
C1: 44105 | D1: =C1+1 -> 44106 | E1: =D1+1 -> 44107 | F1: =E1+1 -> 44108 | G1: =F1+1 -> 44109 | H1: =G1+1 -> 44110 | I1: =H1+1 -> 44111 | J1: =I1+1 -> 44112 | K1: =J1+1 -> 44113 | ... AD1: =AC1+1 -> 44132 | AE1: =IFERROR(IF(MONTH(AD1+1)<>MONTH(AD1),"",(AD1+1)),"") -> 44133 | AF1: =IFERROR(IF(MONTH(AE1+1)<>MONTH(AE1),"",(AE1+1)),"") -> 44134 | AG1: =IFERROR(IF(MONTH(AF1+1)<>MONTH(AF1),"",(AF1+1)),"") -> 44135
A2: Mickaël | B2: Matin | C2: AM | D2: AM | G2: AM | H2: AM | I2: AM | J2: AM | K2: AM | N2: Pr | O2: Pr | P2: Pr | Q2: Pr | R2: Pr | U2: CP | V2: CP | W2: CP | X2: CP | Y2: CP | AB2: CP | AC2: CP | AD2: CP | AE2: CP | AF2: CP | AP2: Jour de l'an | AQ2: 43466
B3: Après-midi | C3: AM | D3: AM | G3: AM | H3: AM | I3: AM | J3: AM | K3: AM | N3: Pr | O3: Pr | P3: Pr | Q3: Pr | R3: Pr | U3: CP | V3: CP | W3: CP | X3: CP | Y3: CP | AB3: CP | AC3: CP | AD3: CP | AE3: CP | AF3: CP | AP3: Pâques | AQ3: 43576
A4: Stéphane | B4: Matin | C4: Pr | D4: Pr | G4: Pr | H4: Pr | I4: Pr | J4: Pr | K4: Pr | N4: F | O4: F | P4: F | Q4: F | R4: F | U4: F | V4: F | W4: F | X4: F | Y4: F | AB4: Pr | AC4: Pr | AD4: Pr | AE4: Pr | AF4: Pr | AJ4: Récapitulatif par demi journée | AP4: Pâques | AQ4: 43577
B5: Après-midi | C5: Pr | D5: Pr | G5: Pr | H5: Pr | I5: Pr | J5: Pr | K5: Pr | N5: F | O5: F | P5: F | Q5: F | R5: F | U5: F | V5: F | W5: F | X5: F | Y5: F | AB5: Pr | AC5: Pr | AD5: Pr | AE5: Pr | AF5: Pr | AJ5: Présence | AK5: AM | AL5: CP | AM5: F | AP5: Fête du travail | AQ5: 43586
A6: Sandra | B6: Matin | C6: Pr | D6: Pr | G6: Pr | H6: Pr | I6: Pr | J6: Pr | K6: Pr | N6: Pr | O6: Pr | P6: Pr | Q6: Pr | R6: Pr | U6: Pr | V6: Pr | W6: Pr | X6: Pr | Y6: Pr | AB6: AM | AC6: AM | AD6: AM | AE6: AM | AF6: AM | AI6: Mickaël | AJ6: =IF($A$2="Mickaël",COUNTIF($C$2:$AG$3,"Pr"),"") -> 10 | AK6: =IF($A$2="Mickaël",COUNTIF($C$2:$AG$3,"AM"),"") -> 14 | AL6: =IF($A$2="Mickaël",COUNTIF($C$2:$AG$3,"CP"),"") -> 20 | AM6: =IF($A$2="Mickaël",COUNTIF($C$2:$AG$3,"F"),"") -> 0 | AP6: Victoire 1945 | AQ6: 43593
B7: Après-midi | C7: Pr | D7: Pr | G7: Pr | H7: Pr | I7: Pr | J7: Pr | K7: Pr | N7: Pr | O7: Pr | P7: Pr | Q7: Pr | R7: Pr | U7: Pr | V7: Pr | W7: Pr | X7: Pr | Y7: Pr | AB7: AM | AC7: AM | AD7: AM | AE7: AM | AF7: AM | AI7: Stéphane | AJ7: =IF($A$4="Stéphane",COUNTIF($C$4:$AG$5,"Pr"),"") -> 24 | AK7: =IF($A$4="Stéphane",COUNTIF($C$4:$AG$5,"AM"),"") -> 0 | AL7: =IF($A$4="Stéphane",COUNTIF($C$4:$AG$5,"CP"),"") -> 0 | AM7: =IF($A$4="Stéphane",COUNTIF($C$4:$AG$5,"F"),"") -> 20 | AP7: Ascension | AQ7: 43615
A8: Ludovic | B8: Matin | C8: Pr | D8: Pr | G8: CP | H8: CP | I8: CP | J8: CP | K8: CP | N8: Pr | O8: Pr | P8: Pr | Q8: Pr | R8: Pr | U8: Pr | V8: Pr | W8: Pr | X8: Pr | Y8: Pr | AB8: Pr | AC8: Pr | AD8: Pr | AE8: Pr | AF8: Pr | AI8: Sandra | AJ8: =IF($A$6="Sandra",COUNTIF($C$6:$AG$7,"Pr"),"") -> 34 | AK8: =IF($A$6="Sandra",COUNTIF($C$6:$AG$7,"AM"),"") -> 10 | AL8: =IF($A$6="Sandra",COUNTIF($C$6:$AG$7,"CP"),"") -> 0 | AM8: =IF($A$6="Sandra",COUNTIF($C$6:$AG$7,"F"),"") -> 0 | AP8: Pentecôte | AQ8: 43625
B9: Après-midi | C9: Pr | D9: Pr | G9: CP | H9: CP | I9: CP | J9: CP | K9: CP | N9: Pr | O9: Pr | P9: Pr | Q9: Pr | R9: Pr | U9: Pr | V9: Pr | W9: Pr | X9: Pr | Y9: Pr | AB9: Pr | AC9: Pr | AD9: Pr | AE9: Pr | AF9: Pr | AI9: Ludovic | AJ9: =IF($A$8="Ludovic",COUNTIF($C$8:$AG$9,"Pr"),"") -> 34 | AK9: =IF($A$8="Ludovic",COUNTIF($C$8:$AG$9,"AM"),"") -> 0 | AL9: =IF($A$8="Ludovic",COUNTIF($C$8:$AG$9,"CP"),"") -> 10 | AM9: =IF($A$8="Ludovic",COUNTIF($C$8:$AG$9,"F"),"") -> 0 | AP9: Pentecôte | AQ9: 43626
A10: Stéphanie | B10: Matin | C10: Pr | D10: Pr | G10: Pr | H10: Pr | I10: Pr | J10: Pr | K10: Pr | N10: CP | O10: CP | P10: CP | Q10: CP | R10: CP | U10: Pr | V10: Pr | W10: Pr | X10: Pr | Y10: Pr | AB10: Pr | AC10: Pr | AD10: Pr | AE10: Pr | AF10: Pr | AI10: Stéphanie | AJ10: =IF($A$10="Stéphanie",COUNTIF($C$10:$AG$11,"Pr"),"") -> 34 | AK10: =IF($A$10="Stéphanie",COUNTIF($C$10:$AG$11,"AM"),"") -> 0 | AL10: =IF($A$10="Stéphanie",COUNTIF($C$10:$AG$11,"CP"),"") -> 10 | AM10: =IF($A$10="Stéphanie",COUNTIF($C$10:$AG$11,"F"),"") -> 0 | AP10: Fête nationale | AQ10: 43660
B11: Après-midi | C11: Pr | D11: Pr | G11: Pr | H11: Pr | I11: Pr | J11: Pr | K11: Pr | N11: CP | O11: CP | P11: CP | Q11: CP | R11: CP | U11: Pr | V11: Pr | W11: Pr | X11: Pr | Y11: Pr | AB11: Pr | AC11: Pr | AD11: Pr | AE11: Pr | AF11: Pr | AI11: Adelina | AJ11: =IF($A$12="Adelina",COUNTIF($C$12:$AG$13,"Pr"),"") -> 40 | AK11: =IF($A$12="Adelina",COUNTIF($C$12:$AG$13,"AM"),"") -> 0 | AL11: =IF($A$12="Adelina",COUNTIF($C$12:$AG$13,"CP"),"") -> 0 | AM11: =IF($A$12="Adelina",COUNTIF($C$12:$AG$13,"F"),"") -> 4 | AP11: Assomption | AQ11: 43692
A12: Adelina | B12: Matin | C12: F | D12: F | G12: Pr | H12: Pr | I12: Pr | J12: Pr | K12: Pr | N12: Pr | O12: Pr | P12: Pr | Q12: Pr | R12: Pr | U12: Pr | V12: Pr | W12: Pr | X12: Pr | Y12: Pr | AB12: Pr | AC12: Pr | AD12: Pr | AE12: Pr | AF12: Pr | AI12: Total | AJ12: =SUM(AJ6:AJ11) -> 176 | AK12: =SUM(AK6:AK11) -> 24 | AL12: =SUM(AL6:AL11) -> 40 | AM12: =SUM(AM6:AM11) -> 24 | AP12: Toussaint | AQ12: 43770
B13: Après-midi | C13: F | D13: F | G13: Pr | H13: Pr | I13: Pr | J13: Pr | K13: Pr | N13: Pr | O13: Pr | P13: Pr | Q13: Pr | R13: Pr | U13: Pr | V13: Pr | W13: Pr | X13: Pr | Y13: Pr | AB13: Pr | AC13: Pr | AD13: Pr | AE13: Pr | AF13: Pr | AP13: Armistice 1918 | AQ13: 43780
AP14: Noël | AQ14: 43824
AJ15: Présence en H
AI16: Mickaël | AJ16: =AJ6*3.5 -> 35
AI17: Stéphane | AJ17: =AJ7*3.5 -> 84
C18: Congés payés | E18: CP | AI18: Sandra | AJ18: =AJ8*3.5 -> 119
C19: Arrêts maladie | E19: AM | AI19: Ludovic | AJ19: =AJ9*3.5 -> 119
C20: Formation | E20: F | AI20: Stéphanie | AJ20: =AJ10*3.5 -> 119
C21: Présence | E21: Pr | AI21: Adelina | AJ21: =AJ11*3.5 -> 140

Sheet Consignes planning novembre
C1: 44136 | D1: =C1+1 -> 44137 | E1: =D1+1 -> 44138 | F1: =E1+1 -> 44139 | G1: =F1+1 -> 44140 | H1: =G1+1 -> 44141 | I1: =H1+1 -> 44142 | J1: =I1+1 -> 44143 | K1: =J1+1 -> 44144 | ... AD1: =AC1+1 -> 44163 | AE1: =IFERROR(IF(MONTH(AD1+1)<>MONTH(AD1),"",(AD1+1)),"") -> 44164 | AF1: =IFERROR(IF(MONTH(AE1+1)<>MONTH(AE1),"",(AE1+1)),"") -> 44165 | AG1: =IFERROR(IF(MONTH(AF1+1)<>MONTH(AF1),"",(AF1+1)),"")
A2: Mickaël | B2: Matin | D2: Pr | E2: Pr | F2: CP | G2: CP | H2: CP | K2: CP | L2: CP | M2: Pr | N2: Pr | O2: Pr | R2: Pr | S2: Pr | T2: Pr | U2: Pr | V2: Pr | Y2: Pr | Z2: Pr | AA2: Pr | AB2: Pr | AC2: Pr | AF2: Pr
B3: Après-midi | D3: Pr | E3: F | F3: CP | G3: CP | H3: CP | K3: CP | L3: CP | M3: Pr | N3: Pr | O3: Pr | R3: Pr | S3: Pr | T3: Pr | U3: Pr | V3: Pr | Y3: Pr | Z3: Pr | AA3: Pr | AB3: Pr | AC3: Pr | AF3: Pr
A4: Stéphane | B4: Matin | D4: AM | E4: AM | F4: AM | G4: AM | H4: AM | K4: Pr | L4: Pr | M4: Pr | N4: Pr | O4: Pr | R4: Pr | S4: Pr | T4: Pr | U4: Pr | V4: Pr | Y4: Pr | Z4: Pr | AA4: Pr | AB4: Pr | AC4: Pr | AF4: Pr | AJ4: Récapitulatif par demi journée | AO4: Jour de l'an | AP4: 43466
B5: Après-midi | D5: AM | E5: AM | F5: AM | G5: AM | H5: AM | K5: Pr | L5: Pr | M5: Pr | N5: Pr | O5: Pr | R5: Pr | S5: Pr | T5: Pr | U5: Pr | V5: Pr | Y5: Pr | Z5: Pr | AA5: Pr | AB5: Pr | AC5: Pr | AF5: Pr | AJ5: Présence | AK5: AM | AL5: CP | AM5: F | AO5: Pâques | AP5: 43576
A6: Sandra | B6: Matin | D6: Pr | E6: Pr | F6: Pr | G6: Pr | H6: Pr | K6: Pr | L6: Pr | M6: Pr | N6: Pr | O6: Pr | R6: Pr | S6: Pr | T6: Pr | U6: Pr | V6: Pr | Y6: Pr | Z6: Pr | AA6: Pr | AB6: Pr | AC6: Pr | AF6: Pr | AI6: Mickaël | AJ6: =IF($A$2="Mickaël",COUNTIF($C$2:$AG$3,"Pr"),"") -> 31 | AK6: =IF($A$2="Mickaël",COUNTIF($C$2:$AG$3,"AM"),"") -> 0 | AL6: =IF($A$2="Mickaël",COUNTIF($C$2:$AG$3,"CP"),"") -> 10 | AM6: =IF($A$2="Mickaël",COUNTIF($C$2:$AG$3,"F"),"") -> 1 | AO6: Pâques | AP6: 43577
B7: Après-midi | D7: Pr | E7: Pr | F7: Pr | G7: Pr | H7: Pr | K7: Pr | L7: Pr | M7: Pr | N7: Pr | O7: Pr | R7: Pr | S7: Pr | T7: Pr | U7: Pr | V7: Pr | Y7: Pr | Z7: Pr | AA7: Pr | AB7: Pr | AC7: Pr | AF7: Pr | AI7: Stéphane | AJ7: =IF($A$4="Stéphane",COUNTIF($C$4:$AG$5,"Pr"),"") -> 32 | AK7: =IF($A$4="Stéphane",COUNTIF($C$4:$AG$5,"AM"),"") -> 10 | AL7: =IF($A$4="Stéphane",COUNTIF($C$4:$AG$5,"CP"),"") -> 0 | AM7: =IF($A$4="Stéphane",COUNTIF($C$4:$AG$5,"F"),"") -> 0 | AO7: Fête du travail | AP7: 43586
A8: Ludovic | B8: Matin | D8: AM | E8: Pr | F8: Pr | G8: Pr | H8: Pr | K8: F | L8: F | M8: F | N8: F | O8: F | R8: F | S8: F | T8: F | U8: F | V8: F | Y8: Pr | Z8: Pr | AA8: Pr | AB8: Pr | AC8: Pr | AF8: CP | AI8: Sandra | AJ8: =IF($A$6="Sandra",COUNTIF($C$6:$AG$7,"Pr"),"") -> 42 | AK8: =IF($A$6="Sandra",COUNTIF($C$6:$AG$7,"AM"),"") -> 0 | AL8: =IF($A$6="Sandra",COUNTIF($C$6:$AG$7,"CP"),"") -> 0 | AM8: =IF($A$6="Sandra",COUNTIF($C$6:$AG$7,"F"),"") -> 0 | AO8: Victoire 1945 | AP8: 43593
B9: Après-midi | D9: AM | E9: Pr | F9: Pr | G9: Pr | H9: Pr | K9: F | L9: F | M9: F | N9: F | O9: F | R9: F | S9: F | T9: F | U9: F | V9: F | Y9: Pr | Z9: Pr | AA9: Pr | AB9: Pr | AC9: Pr | AF9: CP | AI9: Ludovic | AJ9: =IF($A$8="Ludovic",COUNTIF($C$8:$AG$9,"Pr"),"") -> 18 | AK9: =IF($A$8="Ludovic",COUNTIF($C$8:$AG$9,"AM"),"") -> 2 | AL9: =IF($A$8="Ludovic",COUNTIF($C$8:$AG$9,"CP"),"") -> 2 | AM9: =IF($A$8="Ludovic",COUNTIF($C$8:$AG$9,"F"),"") -> 20 | AO9: Ascension | AP9: 43615
A10: Stéphanie | B10: Matin | D10: Pr | E10: Pr | F10: Pr | G10: Pr | H10: Pr | K10: Pr | L10: Pr | M10: Pr | N10: Pr | O10: Pr | R10: CP | S10: CP | T10: CP | U10: CP | V10: CP | Y10: F | Z10: F | AA10: F | AB10: F | AC10: F | AF10: F | AI10: Stéphanie | AJ10: =IF($A$10="Stéphanie",COUNTIF($C$10:$AG$11,"Pr"),"") -> 20 | AK10: =IF($A$10="Stéphanie",COUNTIF($C$10:$AG$11,"AM"),"") -> 0 | AL10: =IF($A$10="Stéphanie",COUNTIF($C$10:$AG$11,"CP"),"") -> 10 | AM10: =IF($A$10="Stéphanie",COUNTIF($C$10:$AG$11,"F"),"") -> 12 | AO10: Pentecôte | AP10: 43625
B11: Après-midi | D11: Pr | E11: Pr | F11: Pr | G11: Pr | H11: Pr | K11: Pr | L11: Pr | M11: Pr | N11: Pr | O11: Pr | R11: CP | S11: CP | T11: CP | U11: CP | V11: CP | Y11: F | Z11: F | AA11: F | AB11: F | AC11: F | AF11: F | AI11: Adelina | AJ11: =IF($A$12="Adelina",COUNTIF($C$12:$AG$13,"Pr"),"") -> 18 | AK11: =IF($A$12="Adelina",COUNTIF($C$12:$AG$13,"AM"),"") -> 14 | AL11: =IF($A$12="Adelina",COUNTIF($C$12:$AG$13,"CP"),"") -> 10 | AM11: =IF($A$12="Adelina",COUNTIF($C$12:$AG$13,"F"),"") -> 0 | AO11: Pentecôte | AP11: 43626
A12: Adelina | B12: Matin | D12: Pr | E12: Pr | F12: Pr | G12: Pr | H12: Pr | K12: Pr | L12: Pr | M12: Pr | N12: AM | O12: AM | R12: AM | S12: AM | T12: AM | U12: AM | V12: AM | Y12: CP | Z12: CP | AA12: CP | AB12: CP | AC12: CP | AF12: Pr | AI12: Total | AJ12: =SUM(AJ6:AJ11) -> 161 | AK12: =SUM(AK6:AK11) -> 26 | AL12: =SUM(AL6:AL11) -> 32 | AM12: =SUM(AM6:AM11) -> 33 | AO12: Fête nationale | AP12: 43660
B13: Après-midi | D13: Pr | E13: Pr | F13: Pr | G13: Pr | H13: Pr | K13: Pr | L13: Pr | M13: Pr | N13: AM | O13: AM | R13: AM | S13: AM | T13: AM | U13: AM | V13: AM | Y13: CP | Z13: CP | AA13: CP | AB13: CP | AC13: CP | AF13: Pr | AO13: Assomption | AP13: 43692
AO14: Toussaint | AP14: 43770
AJ15: Présence en H | AO15: Armistice 1918 | AP15: 43780
AI16: Mickaël | AJ16: =AJ6*3.5 -> 108.5 | AO16: Noël | AP16: 43824
AI17: Stéphane | AJ17: =AJ7*3.5 -> 112
C18: Congés payés | E18: CP | AI18: Sandra | AJ18: =AJ8*3.5 -> 147
C19: Arrêts maladie | E19: AM | AI19: Ludovic | AJ19: =AJ9*3.5 -> 63
C20: Formation | E20: F | AI20: Stéphanie | AJ20: =AJ10*3.5 -> 70
C21: Présence | E21: Pr | AI21: Adelina | AJ21: =AJ11*3.5 -> 63

Sheet Consignes planning décembre
C1: 44166 | D1: =C1+1 -> 44167 | E1: =D1+1 -> 44168 | F1: =E1+1 -> 44169 | G1: =F1+1 -> 44170 | H1: =G1+1 -> 44171 | I1: =H1+1 -> 44172 | J1: =I1+1 -> 44173 | K1: =J1+1 -> 44174 | ... AD1: =AC1+1 -> 44193 | AE1: =IFERROR(IF(MONTH(AD1+1)<>MONTH(AD1),"",(AD1+1)),"") -> 44194 | AF1: =IFERROR(IF(MONTH(AE1+1)<>MONTH(AE1),"",(AE1+1)),"") -> 44195 | AG1: =IFERROR(IF(MONTH(AF1+1)<>MONTH(AF1),"",(AF1+1)),"") -> 44196
A2: Mickaël | B2: Matin | C2: CP | D2: CP | E2: CP | F2: CP | I2: Pr | J2: Pr | K2: Pr | L2: Pr | M2: Pr | P2: F | Q2: F | R2: F | S2: F | T2: F | W2: F | X2: F | Y2: F | Z2: F | AA2: F | AD2: Pr | AE2: Pr | AF2: Pr | AG2: Pr | AP2: Jour de l'an | AQ2: 43466
B3: Après-midi | C3: CP | D3: CP | E3: CP | F3: CP | I3: Pr | J3: Pr | K3: Pr | L3: Pr | M3: Pr | P3: F | Q3: F | R3: F | S3: F | T3: F | W3: F | X3: F | Y3: F | Z3: F | AA3: F | AD3: Pr | AE3: Pr | AF3: Pr | AG3: Pr | AP3: Pâques | AQ3: 43576
A4: Stéphane | B4: Matin | C4: CP | D4: CP | E4: CP | F4: CP | I4: Pr | J4: Pr | K4: Pr | L4: Pr | M4: Pr | P4: Pr | Q4: Pr | R4: Pr | S4: Pr | T4: Pr | W4: Pr | X4: Pr | Y4: Pr | Z4: Pr | AA4: Pr | AD4: Pr | AE4: Pr | AF4: Pr | AG4: Pr | AJ4: Récapitulatif par demi journée | AP4: Pâques | AQ4: 43577
B5: Après-midi | C5: CP | D5: CP | E5: CP | F5: CP | I5: Pr | J5: Pr | K5: Pr | L5: Pr | M5: Pr | P5: Pr | Q5: Pr | R5: Pr | S5: Pr | T5: Pr | W5: Pr | X5: Pr | Y5: Pr | Z5: Pr | AA5: Pr | AD5: Pr | AE5: Pr | AF5: Pr | AG5: Pr | AJ5: Présence | AK5: AM | AL5: CP | AM5: F | AP5: Fête du travail | AQ5: 43586
A6: Sandra | B6: Matin | C6: Pr | D6: Pr | E6: Pr | F6: Pr | I6: CP | J6: CP | K6: CP | L6: CP | M6: CP | P6: Pr | Q6: Pr | R6: Pr | S6: Pr | T6: Pr | W6: Pr | X6: Pr | Y6: Pr | Z6: Pr | AA6: Pr | AD6: Pr | AE6: Pr | AF6: Pr | AG6: Pr | AI6: Mickaël | AJ6: =IF($A$2="Mickaël",COUNTIF($C$2:$AG$3,"Pr"),"") -> 18 | AK6: =IF($A$2="Mickaël",COUNTIF($C$2:$AG$3,"AM"),"") -> 0 | AL6: =IF($A$2="Mickaël",COUNTIF($C$2:$AG$3,"CP"),"") -> 8 | AM6: =IF($A$2="Mickaël",COUNTIF($C$2:$AG$3,"F"),"") -> 20 | AP6: Victoire 1945 | AQ6: 43593
B7: Après-midi | C7: Pr | D7: Pr | E7: Pr | F7: Pr | I7: CP | J7: CP | K7: CP | L7: CP | M7: CP | P7: Pr | Q7: Pr | R7: Pr | S7: Pr | T7: Pr | W7: Pr | X7: Pr | Y7: Pr | Z7: Pr | AA7: Pr | AD7: Pr | AE7: Pr | AF7: Pr | AG7: Pr | AI7: Stéphane | AJ7: =IF($A$4="Stéphane",COUNTIF($C$4:$AG$5,"Pr"),"") -> 38 | AK7: =IF($A$4="Stéphane",COUNTIF($C$4:$AG$5,"AM"),"") -> 0 | AL7: =IF($A$4="Stéphane",COUNTIF($C$4:$AG$5,"CP"),"") -> 8 | AM7: =IF($A$4="Stéphane",COUNTIF($C$4:$AG$5,"F"),"") -> 0 | AP7: Ascension | AQ7: 43615
A8: Ludovic | B8: Matin | C8: Pr | D8: Pr | E8: Pr | F8: Pr | I8: CP | J8: CP | K8: CP | L8: CP | M8: CP | P8: AM | Q8: AM | R8: AM | S8: AM | T8: AM | W8: F | X8: F | Y8: F | Z8: F | AA8: F | AD8: Pr | AE8: Pr | AF8: Pr | AG8: Pr | AI8: Sandra | AJ8: =IF($A$6="Sandra",COUNTIF($C$6:$AG$7,"Pr"),"") -> 36 | AK8: =IF($A$6="Sandra",COUNTIF($C$6:$AG$7,"AM"),"") -> 0 | AL8: =IF($A$6="Sandra",COUNTIF($C$6:$AG$7,"CP"),"") -> 10 | AM8: =IF($A$6="Sandra",COUNTIF($C$6:$AG$7,"F"),"") -> 0 | AP8: Pentecôte | AQ8: 43625
B9: Après-midi | C9: Pr | D9: Pr | E9: Pr | F9: Pr | I9: CP | J9: CP | K9: CP | L9: CP | M9: CP | P9: AM | Q9: AM | R9: AM | S9: AM | T9: AM | W9: F | X9: F | Y9: F | Z9: F | AA9: F | AD9: Pr | AE9: Pr | AF9: Pr | AG9: Pr | AI9: Ludovic | AJ9: =IF($A$8="Ludovic",COUNTIF($C$8:$AG$9,"Pr"),"") -> 16 | AK9: =IF($A$8="Ludovic",COUNTIF($C$8:$AG$9,"AM"),"") -> 10 | AL9: =IF($A$8="Ludovic",COUNTIF($C$8:$AG$9,"CP"),"") -> 10 | AM9: =IF($A$8="Ludovic",COUNTIF($C$8:$AG$9,"F"),"") -> 10 | AP9: Pentecôte | AQ9: 43626
A10: Stéphanie | B10: Matin | C10: Pr | D10: Pr | E10: Pr | F10: Pr | I10: AM | J10: AM | K10: AM | L10: AM | M10: AM | P10: Pr | Q10: Pr | R10: Pr | S10: Pr | T10: Pr | W10: Pr | X10: Pr | Y10: Pr | Z10: Pr | AA10: Pr | AD10: CP | AE10: CP | AF10: CP | AG10: CP | AI10: Stéphanie | AJ10: =IF($A$10="Stéphanie",COUNTIF($C$10:$AG$11,"Pr"),"") -> 28 | AK10: =IF($A$10="Stéphanie",COUNTIF($C$10:$AG$11,"AM"),"") -> 10 | AL10: =IF($A$10="Stéphanie",COUNTIF($C$10:$AG$11,"CP"),"") -> 8 | AM10: =IF($A$10="Stéphanie",COUNTIF($C$10:$AG$11,"F"),"") -> 0 | AP10: Fête nationale | AQ10: 43660
B11: Après-midi | C11: Pr | D11: Pr | E11: Pr | F11: Pr | I11: AM | J11: AM | K11: AM | L11: AM | M11: AM | P11: Pr | Q11: Pr | R11: Pr | S11: Pr | T11: Pr | W11: Pr | X11: Pr | Y11: Pr | Z11: Pr | AA11: Pr | AD11: CP | AE11: CP | AF11: CP | AG11: CP | AI11: Adelina | AJ11: =IF($A$12="Adelina",COUNTIF($C$12:$AG$13,"Pr"),"") -> 38 | AK11: =IF($A$12="Adelina",COUNTIF($C$12:$AG$13,"AM"),"") -> 0 | AL11: =IF($A$12="Adelina",COUNTIF($C$12:$AG$13,"CP"),"") -> 8 | AM11: =IF($A$12="Adelina",COUNTIF($C$12:$AG$13,"F"),"") -> 0 | AP11: Assomption | AQ11: 43692
A12: Adelina | B12: Matin | C12: Pr | D12: Pr | E12: Pr | F12: Pr | I12: Pr | J12: Pr | K12: Pr | L12: Pr | M12: Pr | P12: Pr | Q12: Pr | R12: Pr | S12: Pr | T12: Pr | W12: Pr | X12: Pr | Y12: Pr | Z12: Pr | AA12: Pr | AD12: CP | AE12: CP | AF12: CP | AG12: CP | AI12: Total | AJ12: =SUM(AJ6:AJ11) -> 174 | AK12: =SUM(AK6:AK11) -> 20 | AL12: =SUM(AL6:AL11) -> 52 | AM12: =SUM(AM6:AM11) -> 30 | AP12: Toussaint | AQ12: 43770
B13: Après-midi | C13: Pr | D13: Pr | E13: Pr | F13: Pr | I13: Pr | J13: Pr | K13: Pr | L13: Pr | M13: Pr | P13: Pr | Q13: Pr | R13: Pr | S13: Pr | T13: Pr | W13: Pr | X13: Pr | Y13: Pr | Z13: Pr | AA13: Pr | AD13: CP | AE13: CP | AF13: CP | AG13: CP | AP13: Armistice 1918 | AQ13: 43780
AP14: Noël | AQ14: 43824
AJ15: Présence en H
AI16: Mickaël | AJ16: =AJ6*3.5 -> 63
AI17: Stéphane | AJ17: =AJ7*3.5 -> 133
C18: Congés payés | E18: CP | AI18: Sandra | AJ18: =AJ8*3.5 -> 126
C19: Arrêts maladie | E19: AM | AI19: Ludovic | AJ19: =AJ9*3.5 -> 56
C20: Formation | E20: F | AI20: Stéphanie | AJ20: =AJ10*3.5 -> 98
C21: Présence | E21: Pr | AI21: Adelina | AJ21: =AJ11*3.5 -> 133

Sheet Données
A1: Jour de l'an | B1: 43466
A2: Pâques | B2: 43576
A3: Pâques | B3: 43577
A4: Fête du travail | B4: 43586
A5: Victoire 1945 | B5: 43593
A6: Ascension | B6: 43615
A7: Pentecôte | B7: 43625
A8: Pentecôte | B8: 43626
A9: Fête nationale | B9: 43660
A10: Assomption | B10: 43692
A11: Toussaint | B11: 43770
A12: Armistice 1918 | B12: 43780
A13: Noël | B13: 43824

Sheet Consignes planning recap
B1: Mickaël | F1: Stéphane | J1: Sandra | N1: Ludovic | R1: Stéphanie | V1: Adelina
B2: H P | C2: AM | D2: CP | E2: F | F2: H P | G2: AM | H2: CP | I2: F | J2: H P | K2: AM | L2: CP | M2: F | N2: H P | O2: AM | P2: CP | Q2: F | R2: H P | S2: AM | T2: CP | U2: F | V2: H P | W2: AM | X2: CP | Y2: F
A3: Janvier
A4: Février
A5: Mars
A6: Avril
A7: Mai
A8: Juin
A9: Juillet
A10: Août
A11: Septembre
A12: Octobre | B12: ='Consignes planning octobre'!AJ6 -> 10 | C12: ='Consignes planning octobre'!AK6 -> 14 | D12: ='Consignes planning octobre'!AL6 -> 20 | E12: ='Consignes planning octobre'!AM6 -> 0 | F12: ='Consignes planning octobre'!AJ7 -> 24 | G12: ='Consignes planning octobre'!AK7 -> 0 | H12: ='Consignes planning octobre'!AL7 -> 0 | I12: ='Consignes planning octobre'!AM7 -> 20 | J12: ='Consignes planning octobre'!AJ8 -> 34 | K12: ='Consignes planning octobre'!AK8 -> 10 | L12: ='Consignes planning octobre'!AL8 -> 0 | M12: ='Consignes planning octobre'!AM8 -> 0 | N12: ='Consignes planning octobre'!AJ9 -> 34 | O12: ='Consignes planning octobre'!AK9 -> 0 | P12: ='Consignes planning octobre'!AL9 -> 10 | Q12: ='Consignes planning octobre'!AM9 -> 0 | R12: ='Consignes planning octobre'!AJ10 -> 34 | S12: ='Consignes planning octobre'!AK10 -> 0 | T12: ='Consignes planning octobre'!AL10 -> 10 | U12: ='Consignes planning octobre'!AM10 -> 0 | V12: ='Consignes planning octobre'!AJ11 -> 40 | W12: ='Consignes planning octobre'!AK11 -> 0 | X12: ='Consignes planning octobre'!AL11 -> 0 | Y12: ='Consignes planning octobre'!AM11 -> 4
A13: Novembre | B13: ='Consignes planning novembre'!AJ6 -> 31 | C13: ='Consignes planning novembre'!AK6 -> 0 | D13: ='Consignes planning novembre'!AL6 -> 10 | E13: ='Consignes planning novembre'!AM6 -> 1 | F13: ='Consignes planning novembre'!AJ7 -> 32 | G13: ='Consignes planning novembre'!AK7 -> 10 | H13: ='Consignes planning novembre'!AL7 -> 0 | I13: ='Consignes planning novembre'!AM7 -> 0 | J13: ='Consignes planning novembre'!AJ8 -> 42 | K13: ='Consignes planning novembre'!AK8 -> 0 | L13: ='Consignes planning novembre'!AL8 -> 0 | M13: ='Consignes planning novembre'!AM8 -> 0 | N13: ='Consignes planning novembre'!AJ9 -> 18 | O13: ='Consignes planning novembre'!AK9 -> 2 | P13: ='Consignes planning novembre'!AL9 -> 2 | Q13: ='Consignes planning novembre'!AM9 -> 20 | R13: ='Consignes planning novembre'!AJ10 -> 20 | S13: ='Consignes planning novembre'!AK10 -> 0 | T13: ='Consignes planning novembre'!AL10 -> 10 | U13: ='Consignes planning novembre'!AM10 -> 12 | V13: ='Consignes planning novembre'!AJ11 -> 18 | W13: ='Consignes planning novembre'!AK11 -> 14 | X13: ='Consignes planning novembre'!AL11 -> 10 | Y13: ='Consignes planning novembre'!AM11 -> 0
A14: Décembre | B14: ='Consignes planning décembre'!AJ6 -> 18 | C14: ='Consignes planning décembre'!AK6 -> 0 | D14: ='Consignes planning décembre'!AL6 -> 8 | E14: ='Consignes planning décembre'!AM6 -> 20 | F14: ='Consignes planning décembre'!AJ7 -> 38 | G14: ='Consignes planning décembre'!AK7 -> 0 | H14: ='Consignes planning décembre'!AL7 -> 8 | I14: ='Consignes planning décembre'!AM7 -> 0 | J14: ='Consignes planning décembre'!AJ8 -> 36 | K14: ='Consignes planning décembre'!AK8 -> 0 | L14: ='Consignes planning décembre'!AL8 -> 10 | M14: ='Consignes planning décembre'!AM8 -> 0 | N14: ='Consignes planning décembre'!AJ9 -> 16 | O14: ='Consignes planning décembre'!AK9 -> 10 | P14: ='Consignes planning décembre'!AL9 -> 10 | Q14: ='Consignes planning décembre'!AM9 -> 10 | R14: ='Consignes planning décembre'!AJ10 -> 28 | S14: ='Consignes planning décembre'!AK10 -> 10 | T14: ='Consignes planning décembre'!AL10 -> 8 | U14: ='Consignes planning décembre'!AM10 -> 0 | V14: ='Consignes planning décembre'!AJ11 -> 38 | W14: ='Consignes planning décembre'!AK11 -> 0 | X14: ='Consignes planning décembre'!AL11 -> 8 | Y14: ='Consignes planning décembre'!AM11 -> 0
A15: Ensemble année* | B15: =SUM(B3:B14) -> 59 | C15: =SUM(C3:C14) -> 14 | D15: =SUM(D3:D14) -> 38 | E15: =SUM(E3:E14) -> 21 | F15: =SUM(F3:F14) -> 94 | G15: =SUM(G3:G14) -> 10 | H15: =SUM(H3:H14) -> 8 | I15: =SUM(I3:I14) -> 20 | ... Y15: =SUM(Y3:Y14) -> 4
B16: *par demi-journée
B23: Congés payés | E23: CP
B24: Arrêts maladie | E24: AM
B25: Formation | E25: F
B26: Présence | E26: Pr

Sheet Consigne planning Consolidation
C1: Récapitulatif par demi journée
B2: Classeur Excel Isolement | C2: ='Consignes planning décembre'!$AJ$6 -> 18
B3: Classeur Excel Isolement | C3: ='Consignes planning novembre'!$AJ$6 -> 31
B4: Classeur Excel Isolement | C4: ='Consignes planning octobre'!$AJ$6 -> 10
A5: Mickaël | C5: =SUM(C2:C4) -> 59
B6: Classeur Excel Isolement | C6: ='Consignes planning décembre'!$AJ$7 -> 38
B7: Classeur Excel Isolement | C7: ='Consignes planning novembre'!$AJ$7 -> 32
B8: Classeur Excel Isolement | C8: ='Consignes planning octobre'!$AJ$7 -> 24
A9: Stéphane | C9: =SUM(C6:C8) -> 94
B10: Classeur Excel Isolement | C10: ='Consignes planning décembre'!$AJ$8 -> 36
B11: Classeur Excel Isolement | C11: ='Consignes planning novembre'!$AJ$8 -> 42
B12: Classeur Excel Isolement | C12: ='Consignes planning octobre'!$AJ$8 -> 34
A13: Sandra | C13: =SUM(C10:C12) -> 112
B14: Classeur Excel Isolement | C14: ='Consignes planning décembre'!$AJ$9 -> 16
B15: Classeur Excel Isolement | C15: ='Consignes planning novembre'!$AJ$9 -> 18
B16: Classeur Excel Isolement | C16: ='Consignes planning octobre'!$AJ$9 -> 34
A17: Ludovic | C17: =SUM(C14:C16) -> 68
B18: Classeur Excel Isolement | C18: ='Consignes planning décembre'!$AJ$10 -> 28
B19: Classeur Excel Isolement | C19: ='Consignes planning novembre'!$AJ$10 -> 20
B20: Classeur Excel Isolement | C20: ='Consignes planning octobre'!$AJ$10 -> 34
A21: Stéphanie | C21: =SUM(C18:C20) -> 82
B22: Classeur Excel Isolement | C22: ='Consignes planning décembre'!$AJ$11 -> 38
B23: Classeur Excel Isolement | C23: ='Consignes planning novembre'!$AJ$11 -> 18
B24: Classeur Excel Isolement | C24: ='Consignes planning octobre'!$AJ$11 -> 40
A25: Adelina | C25: =SUM(C22:C24) -> 96
B26: Classeur Excel Isolement | C26: ='Consignes planning décembre'!$AJ$12 -> 174
B27: Classeur Excel Isolement | C27: ='Consignes planning novembre'!$AJ$12 -> 161
B28: Classeur Excel Isolement | C28: ='Consignes planning octobre'!$AJ$12 -> 176
A29: Total | C29: =SUM(C26:C28) -> 511
