Workbook

Sheet liste agents
B1: NOM | C1: Prénom
A2: 1 | B2: NOM 1 | C2: Prénom 1
A3: 2 | B3: NOM 2 | C3: Prénom 2
A4: 3 | B4: NOM 3 | C4: Prénom 3
A5: 4 | B5: NOM 4 | C5: Prénom 4
A6: 5 | B6: NOM 5 | C6: Prénom 5
A7: 6 | B7: NOM 6 | C7: Prénom 6
A8: 7 | B8: NOM 7 | C8: Prénom 7
A9: 8 | B9: NOM 8 | C9: Prénom 8
A10: 9 | B10: NOM 9 | C10: Prénom 9
A11: 10 | B11: NOM 10 | C11: Prénom 10
A12: 11 | B12: NOM 11 | C12: Prénom 11
A13: 12 | B13: NOM 12 | C13: Prénom 12
... A31: 30 | B31: NOM 30 | C31: Prénom 30

Sheet _2021
F1: 1 | G1: 2 | H1: 3 | I1: 4 | J1: 5 | K1: 6 | L1: 7 | M1: 8 | N1: 9 | O1: 10 | P1: 11 | Q1: 12 | R1: 13 | S1: 14 | T1: 15 | U1: 16 | V1: 17 | W1: 18 | X1: 19 | Y1: 20 | Z1: 21 | AA1: 22 | AB1: 23 | AC1: 24 | AD1: 25 | AE1: 26
A2: 1 | B2: titulaire | F2: ='liste agents'!B2&" "&'liste agents'!C2 -> NOM 1 Prénom 1 | G2: ='liste agents'!B3&" "&'liste agents'!C3 -> NOM 2 Prénom 2 | H2: ='liste agents'!B4&" "&'liste agents'!C4 -> NOM 3 Prénom 3 | I2: ='liste agents'!B5&" "&'liste agents'!C5 -> NOM 4 Prénom 4 | J2: ='liste agents'!B6&" "&'liste agents'!C6 -> NOM 5 Prénom 5 | K2: ='liste agents'!B7&" "&'liste agents'!C7 -> NOM 6 Prénom 6 | L2: ='liste agents'!B8&" "&'liste agents'!C8 -> NOM 7 Prénom 7 | M2: ='liste agents'!B9&" "&'liste agents'!C9 -> NOM 8 Prénom 8 | N2: ='liste agents'!B10&" "&'liste agents'!C10 -> NOM 9 Prénom 9 | O2: ='liste agents'!B11&" "&'liste agents'!C11 -> NOM 10 Prénom 10 | P2: ='liste agents'!B12&" "&'liste agents'!C12 -> NOM 11 Prénom 11 | Q2: ='liste agents'!B13&" "&'liste agents'!C13 -> NOM 12 Prénom 12 | R2: ='liste agents'!B14&" "&'liste agents'!C14 -> NOM 13 Prénom 13 | S2: ='liste agents'!B15&" "&'liste agents'!C15 -> NOM 14 Prénom 14 | T2: ='liste agents'!B16&" "&'liste agents'!C16 -> NOM 15 Prénom 15 | U2: ='liste agents'!B17&" "&'liste agents'!C17 -> NOM 16 Prénom 16 | V2: ='liste agents'!B18&" "&'liste agents'!C18 -> NOM 17 Prénom 17 | W2: ='liste agents'!B19&" "&'liste agents'!C19 -> NOM 18 Prénom 18 | X2: ='liste agents'!B20&" "&'liste agents'!C20 -> NOM 19 Prénom 19 | Y2: ='liste agents'!B21&" "&'liste agents'!C21 -> NOM 20 Prénom 20 | Z2: ='liste agents'!B22&" "&'liste agents'!C22 -> NOM 21 Prénom 21 | AA2: ='liste agents'!B23&" "&'liste agents'!C23 -> NOM 22 Prénom 22 | AB2: ='liste agents'!B24&" "&'liste agents'!C24 -> NOM 23 Prénom 23 | AC2: ='liste agents'!B25&" "&'liste agents'!C25 -> NOM 24 Prénom 24 | AD2: ='liste agents'!B26&" "&'liste agents'!C26 -> NOM 25 Prénom 25 | AE2: ='liste agents'!B27&" "&'liste agents'!C27 -> NOM 26 Prénom 26 | AF2: ='liste agents'!B28&" "&'liste agents'!C28 -> NOM 27 Prénom 27 | AG2: ='liste agents'!B29&" "&'liste agents'!C29 -> NOM 28 Prénom 28 | AH2: ='liste agents'!B30&" "&'liste agents'!C30 -> NOM 29 Prénom 29 | AI2: ='liste agents'!B31&" "&'liste agents'!C31 -> NOM 30 Prénom 30
A3: 2 | B3: binôme | F3: nb de jour astreinte | G3: nb de jour astreinte | H3: nb de jour astreinte | I3: nb de jour astreinte | J3: nb de jour astreinte | K3: nb de jour astreinte | L3: nb de jour astreinte | M3: nb de jour astreinte | N3: nb de jour astreinte | O3: nb de jour astreinte | P3: nb de jour astreinte | Q3: nb de jour astreinte | R3: nb de jour astreinte | S3: nb de jour astreinte | T3: nb de jour astreinte | U3: nb de jour astreinte | V3: nb de jour astreinte | W3: nb de jour astreinte | X3: nb de jour astreinte | Y3: nb de jour astreinte | Z3: nb de jour astreinte | AA3: nb de jour astreinte | AB3: nb de jour astreinte | AC3: nb de jour astreinte | AD3: nb de jour astreinte | AE3: nb de jour astreinte | AF3: nb de jour astreinte | AG3: nb de jour astreinte | AH3: nb de jour astreinte | AI3: nb de jour astreinte
B4: DATE ASTREINTE | F4: =COUNTIF(F5:F109,"1") +COUNTIF(F5:F109,"2") -> 6 | G4: =COUNTIF(G5:G109,"1") +COUNTIF(G5:G109,"2") -> 5 | H4: =COUNTIF(H5:H109,"1") +COUNTIF(H5:H109,"2") -> 5 | I4: =COUNTIF(I5:I109,"1") +COUNTIF(I5:I109,"2") -> 6 | J4: =COUNTIF(J5:J109,"1") +COUNTIF(J5:J109,"2") -> 6 | K4: =COUNTIF(K5:K109,"1") +COUNTIF(K5:K109,"2") -> 7 | L4: =COUNTIF(L5:L109,"1") +COUNTIF(L5:L109,"2") -> 7 | M4: =COUNTIF(M5:M109,"1") +COUNTIF(M5:M109,"2") -> 7 | ... AI4: =COUNTIF(AI5:AI109,"1") +COUNTIF(AI5:AI109,"2") -> 3
A5: 1 | B5: du | C5: 44199 | D5: au | E5: 44203 | F5: 1 | K5: 2
A6: 2 | B6: du | C6: =E5 -> 44203 | D6: au | E6: =C5+7 -> 44206 | G6: 1 | L6: 2
A7: 3 | B7: du | C7: =E6 -> 44206 | D7: au | E7: =E5+7 -> 44210 | H7: 1 | M7: 2
A8: 4 | B8: du | C8: =E7 -> 44210 | D8: au | E8: =E6+7 -> 44213 | F8: 2 | I8: 1
A9: 5 | B9: du | C9: =E8 -> 44213 | D9: au | E9: =E7+7 -> 44217 | G9: 2 | J9: 1
A10: 6 | B10: du | C10: =E9 -> 44217 | D10: au | E10: =E8+7 -> 44220 | H10: 2 | K10: 1
A11: 7 | B11: du | C11: =E10 -> 44220 | D11: au | E11: =E9+7 -> 44224 | I11: 2 | L11: 1
A12: 8 | B12: du | C12: =E11 -> 44224 | D12: au | E12: =E10+7 -> 44227 | J12: 2 | M12: 1
A13: 9 | B13: du | C13: =E12 -> 44227 | D13: au | E13: =E11+7 -> 44231 | K13: 2 | N13: 1
A14: 10 | B14: du | C14: =E13 -> 44231 | D14: au | E14: =E12+7 -> 44234 | L14: 2 | O14: 1
A15: 11 | B15: du | C15: =E14 -> 44234 | D15: au | E15: =E13+7 -> 44238 | M15: 2 | P15: 1
A16: 12 | B16: du | C16: =E15 -> 44238 | D16: au | E16: =E14+7 -> 44241 | N16: 2 | Q16: 1
A17: 13 | B17: du | C17: =E16 -> 44241 | D17: au | E17: =E15+7 -> 44245 | O17: 2 | R17: 1
A18: 14 | B18: du | C18: =E17 -> 44245 | D18: au | E18: =E16+7 -> 44248 | P18: 2 | S18: 1
A19: 15 | B19: du | C19: =E18 -> 44248 | D19: au | E19: =E17+7 -> 44252 | Q19: 2 | T19: 1
A20: 16 | B20: du | C20: =E19 -> 44252 | D20: au | E20: =E18+7 -> 44255 | R20: 2 | U20: 1
A21: 17 | B21: du | C21: =E20 -> 44255 | D21: au | E21: =E19+7 -> 44259 | S21: 2 | V21: 1
A22: 18 | B22: du | C22: =E21 -> 44259 | D22: au | E22: =E20+7 -> 44262 | T22: 2 | W22: 1
A23: 19 | B23: du | C23: =E22 -> 44262 | D23: au | E23: =E21+7 -> 44266 | U23: 2 | X23: 1
A24: 20 | B24: du | C24: =E23 -> 44266 | D24: au | E24: =E22+7 -> 44269 | V24: 2 | Y24: 1
A25: 21 | B25: du | C25: =E24 -> 44269 | D25: au | E25: =E23+7 -> 44273 | W25: 2 | Z25: 1
A26: 22 | B26: du | C26: =E25 -> 44273 | D26: au | E26: =E24+7 -> 44276 | X26: 2 | AA26: 1
A27: 23 | B27: du | C27: =E26 -> 44276 | D27: au | E27: =E25+7 -> 44280 | Y27: 2 | AB27: 1
A28: 24 | B28: du | C28: =E27 -> 44280 | D28: au | E28: =E26+7 -> 44283 | Z28: 2 | AC28: 1
A29: 25 | B29: du | C29: =E28 -> 44283 | D29: au | E29: =E27+7 -> 44287 | AA29: 2 | AD29: 1
A30: 26 | B30: du | C30: =E29 -> 44287 | D30: au | E30: =E28+7 -> 44290 | AB30: 2 | AE30: 1
A31: 27 | B31: du | C31: =E30 -> 44290 | D31: au | E31: =E29+7 -> 44294 | F31: 1 | AF31: 2
A32: 28 | B32: du | C32: =E31 -> 44294 | D32: au | E32: =E30+7 -> 44297 | G32: 1 | AG32: 2
A33: 29 | B33: du | C33: =E32 -> 44297 | D33: au | E33: =E31+7 -> 44301 | H33: 1 | AH33: 2
A34: 30 | B34: du | C34: =E33 -> 44301 | D34: au | E34: =E32+7 -> 44304 | I34: 1 | AI34: 2
A35: 31 | B35: du | C35: =E34 -> 44304 | D35: au | E35: =E33+7 -> 44308 | J35: 1
A36: 32 | B36: du | C36: =E35 -> 44308 | D36: au | E36: =E34+7 -> 44311 | K36: 1
A37: 33 | B37: du | C37: =E36 -> 44311 | D37: au | E37: =E35+7 -> 44315 | L37: 1
A38: 34 | B38: du | C38: =E37 -> 44315 | D38: au | E38: =E36+7 -> 44318 | M38: 1
A39: 35 | B39: du | C39: =E38 -> 44318 | D39: au | E39: =E37+7 -> 44322 | N39: 1
A40: 36 | B40: du | C40: =E39 -> 44322 | D40: au | E40: =E38+7 -> 44325 | O40: 1
...

Sheet par_date
B1: ASTREINTE | F1: NOM astreinte 1 | G1: NOM astreinte 2
A2: =_2021!A5 -> 1 | B2: =_2021!B5 -> du | C2: =_2021!C5 -> 44199 | D2: =_2021!D5 -> au | E2: =_2021!E5 -> 44203 | F2: =INDEX( _2021!$F$2:$AI$2 , MATCH(1,_2021!$F5:$AI5)) -> NOM 1 Prénom 1 | G2: =IF(SUM(_2021!$F5:$AI5)=1,"",INDEX(_2021!$F$2:$AI$2,MATCH("2",_2021!$F5:$AI5,0))) -> NOM 6 Prénom 6
A3: =_2021!A6 -> 2 | B3: =_2021!B6 -> du | C3: =_2021!C6 -> 44203 | D3: =_2021!D6 -> au | E3: =_2021!E6 -> 44206 | F3: =INDEX( _2021!$F$2:$AI$2 , MATCH(1,_2021!$F6:$AI6)) -> NOM 2 Prénom 2 | G3: =IF(SUM(_2021!$F6:$AI6)=1,"",INDEX(_2021!$F$2:$AI$2,MATCH("2",_2021!$F6:$AI6,0))) -> NOM 7 Prénom 7
A4: =_2021!A7 -> 3 | B4: =_2021!B7 -> du | C4: =_2021!C7 -> 44206 | D4: =_2021!D7 -> au | E4: =_2021!E7 -> 44210 | F4: =INDEX( _2021!$F$2:$AI$2 , MATCH(1,_2021!$F7:$AI7)) -> NOM 3 Prénom 3 | G4: =IF(SUM(_2021!$F7:$AI7)=1,"",INDEX(_2021!$F$2:$AI$2,MATCH("2",_2021!$F7:$AI7,0))) -> NOM 8 Prénom 8
A5: =_2021!A8 -> 4 | B5: =_2021!B8 -> du | C5: =_2021!C8 -> 44210 | D5: =_2021!D8 -> au | E5: =_2021!E8 -> 44213 | F5: =INDEX( _2021!$F$2:$AI$2 , MATCH(1,_2021!$F8:$AI8)) -> #N/A | G5: =IF(SUM(_2021!$F8:$AI8)=1,"",INDEX(_2021!$F$2:$AI$2,MATCH("2",_2021!$F8:$AI8,0))) -> NOM 1 Prénom 1
A6: =_2021!A9 -> 5 | B6: =_2021!B9 -> du | C6: =_2021!C9 -> 44213 | D6: =_2021!D9 -> au | E6: =_2021!E9 -> 44217 | F6: =INDEX( _2021!$F$2:$AI$2 , MATCH(1,_2021!$F9:$AI9)) -> #N/A | G6: =IF(SUM(_2021!$F9:$AI9)=1,"",INDEX(_2021!$F$2:$AI$2,MATCH("2",_2021!$F9:$AI9,0))) -> NOM 2 Prénom 2
A7: =_2021!A10 -> 6 | B7: =_2021!B10 -> du | C7: =_2021!C10 -> 44217 | D7: =_2021!D10 -> au | E7: =_2021!E10 -> 44220 | F7: =INDEX( _2021!$F$2:$AI$2 , MATCH(1,_2021!$F10:$AI10)) -> #N/A | G7: =IF(SUM(_2021!$F10:$AI10)=1,"",INDEX(_2021!$F$2:$AI$2,MATCH("2",_2021!$F10:$AI10,0))) -> NOM 3 Prénom 3
A8: =_2021!A11 -> 7 | B8: =_2021!B11 -> du | C8: =_2021!C11 -> 44220 | D8: =_2021!D11 -> au | E8: =_2021!E11 -> 44224 | F8: =INDEX( _2021!$F$2:$AI$2 , MATCH(1,_2021!$F11:$AI11)) -> #N/A | G8: =IF(SUM(_2021!$F11:$AI11)=1,"",INDEX(_2021!$F$2:$AI$2,MATCH("2",_2021!$F11:$AI11,0))) -> NOM 4 Prénom 4
A9: =_2021!A12 -> 8 | B9: =_2021!B12 -> du | C9: =_2021!C12 -> 44224 | D9: =_2021!D12 -> au | E9: =_2021!E12 -> 44227 | F9: =INDEX( _2021!$F$2:$AI$2 , MATCH(1,_2021!$F12:$AI12)) -> #N/A | G9: =IF(SUM(_2021!$F12:$AI12)=1,"",INDEX(_2021!$F$2:$AI$2,MATCH("2",_2021!$F12:$AI12,0))) -> NOM 5 Prénom 5
A10: =_2021!A13 -> 9 | B10: =_2021!B13 -> du | C10: =_2021!C13 -> 44227 | D10: =_2021!D13 -> au | E10: =_2021!E13 -> 44231 | F10: =INDEX( _2021!$F$2:$AI$2 , MATCH(1,_2021!$F13:$AI13)) -> #N/A | G10: =IF(SUM(_2021!$F13:$AI13)=1,"",INDEX(_2021!$F$2:$AI$2,MATCH("2",_2021!$F13:$AI13,0))) -> NOM 6 Prénom 6
A11: =_2021!A14 -> 10 | B11: =_2021!B14 -> du | C11: =_2021!C14 -> 44231 | D11: =_2021!D14 -> au | E11: =_2021!E14 -> 44234 | F11: =INDEX( _2021!$F$2:$AI$2 , MATCH(1,_2021!$F14:$AI14)) -> #N/A | G11: =IF(SUM(_2021!$F14:$AI14)=1,"",INDEX(_2021!$F$2:$AI$2,MATCH("2",_2021!$F14:$AI14,0))) -> NOM 7 Prénom 7
A12: =_2021!A15 -> 11 | B12: =_2021!B15 -> du | C12: =_2021!C15 -> 44234 | D12: =_2021!D15 -> au | E12: =_2021!E15 -> 44238 | F12: =INDEX( _2021!$F$2:$AI$2 , MATCH(1,_2021!$F15:$AI15)) -> #N/A | G12: =IF(SUM(_2021!$F15:$AI15)=1,"",INDEX(_2021!$F$2:$AI$2,MATCH("2",_2021!$F15:$AI15,0))) -> NOM 8 Prénom 8
A13: =_2021!A16 -> 12 | B13: =_2021!B16 -> du | C13: =_2021!C16 -> 44238 | D13: =_2021!D16 -> au | E13: =_2021!E16 -> 44241 | F13: =INDEX( _2021!$F$2:$AI$2 , MATCH(1,_2021!$F16:$AI16)) -> #N/A | G13: =IF(SUM(_2021!$F16:$AI16)=1,"",INDEX(_2021!$F$2:$AI$2,MATCH("2",_2021!$F16:$AI16,0))) -> NOM 9 Prénom 9
... A106: =_2021!A109 -> 105 | B106: =_2021!B109 -> du | C106: =_2021!C109 -> 44563 | D106: =_2021!D109 -> au | E106: =_2021!E109 -> 44567 | F106: =INDEX( _2021!$F$2:$AI$2 , MATCH(1,_2021!$F109:$AI109)) -> #N/A | G106: =IF(SUM(_2021!$F109:$AI109)=1,"",INDEX(_2021!$F$2:$AI$2,MATCH("2",_2021!$F109:$AI109,0))) -> #N/A

Sheet par nom
A1: =_2021!F2 -> NOM 1 Prénom 1 | B1: =_2021!F4 -> 6 | C1: =IF(COLUMNS($A$1:A1)<$B$1+1,OFFSET($A$1,0,0),"") -> NOM 1 Prénom 1 | G1: =IF(COLUMNS($A2:A$2)<$B$2+1,OFFSET($A$2,0,0),"") -> NOM 2 Prénom 2 | K1: =IF(COLUMNS($A3:A$3)<$B$3+1,OFFSET($A$3,0,0),"") -> NOM 3 Prénom 3 | O1: =IF(COLUMNS($A4:A$4)<$B$4+1,OFFSET($A$4,0,0),"") -> NOM 4 Prénom 4 | S1: =IF(COLUMNS($A5:A$5)<$B$5+1,OFFSET($A$5,0,0),"") -> NOM 5 Prénom 5 | W1: =IF(COLUMNS($A6:A$6)<$B$6+1,OFFSET($A$6,0,0),"") -> NOM 6 Prénom 6 | AA1: =IF(COLUMNS($A7:A$7)<$B$7+1,OFFSET($A$7,0,0),"") -> NOM 7 Prénom 7 | AE1: =IF(COLUMNS($A8:A$8)<$B$8+1,OFFSET($A$8,0,0),"") -> NOM 8 Prénom 8 | AI1: =IF(COLUMNS($A9:A$9)<$B$9+1,OFFSET($A$9,0,0),"") -> NOM 9 Prénom 9 | AM1: =IF(COLUMNS($A10:A$10)<$B$10+1,OFFSET($A$10,0,0),"") -> NOM 10 Prénom 10 | AQ1: =IF(COLUMNS($A11:A$11)<$B$11+1,OFFSET($A$11,0,0),"") -> NOM 11 Prénom 11 | AU1: =IF(COLUMNS($A12:A$12)<$B$12+1,OFFSET($A$12,0,0),"") -> NOM 12 Prénom 12 | AY1: =IF(COLUMNS($A$13:A$13)<$B$13+1,OFFSET($A$13,0,0),"") -> NOM 13 Prénom 13 | BC1: =IF(COLUMNS($A$14:A$14)<$B$14+1,OFFSET($A$14,0,0),"") -> NOM 14 Prénom 14 | BG1: =IF(COLUMNS($A$15:A$15)<$B$15+1,OFFSET($A$15,0,0),"") -> NOM 15 Prénom 15 | BK1: =IF(COLUMNS($A$16:A$16)<$B$16+1,OFFSET($A$16,0,0),"") -> NOM 16 Prénom 16 | BO1: =IF(COLUMNS($A$17:A$17)<$B$17+1,OFFSET($A$17,0,0),"") -> NOM 17 Prénom 17 | BS1: =IF(COLUMNS($A$18:A$18)<$B$18+1,OFFSET($A$18,0,0),"") -> NOM 18 Prénom 18 | BW1: =IF(COLUMNS($A$19:A$19)<$B$19+1,OFFSET($A$19,0,0),"") -> NOM 19 Prénom 19 | CA1: =IF(COLUMNS($A$20:A$20)<$B$20+1,OFFSET($A$20,0,0),"") -> NOM 20 Prénom 20 | CE1: =IF(COLUMNS($A$21:A$21)<$B$21+1,OFFSET($A$21,0,0),"") -> NOM 21 Prénom 21 | CI1: =IF(COLUMNS($A$22:A$22)<$B$22+1,OFFSET($A$22,0,0),"") -> NOM 22 Prénom 22 | CM1: =IF(COLUMNS($A$23:A$23)<$B$23+1,OFFSET($A$23,0,0),"") -> NOM 23 Prénom 23 | CQ1: =IF(COLUMNS($A$24:A$24)<$B$24+1,OFFSET($A$24,0,0),"") -> NOM 24 Prénom 24 | CU1: =IF(COLUMNS($A$25:A$25)<$B$25+1,OFFSET($A$25,0,0),"") -> NOM 25 Prénom 25 | CY1: =IF(COLUMNS($A$26:A$26)<$B$26+1,OFFSET($A$26,0,0),"") -> NOM 26 Prénom 26 | DC1: =IF(COLUMNS($A$27:A$27)<$B$27+1,OFFSET($A$27,0,0),"") -> NOM 27 Prénom 27 | DG1: =IF(COLUMNS($A$28:A$28)<$B$28+1,OFFSET($A$28,0,0),"") -> NOM 28 Prénom 28 | DK1: =IF(COLUMNS($A$29:A$29)<$B$29+1,OFFSET($A$29,0,0),"") -> NOM 29 Prénom 29 | DO1: =IF(COLUMNS($A$30:A$30)<$B$30+1,OFFSET($A$30,0,0),"") -> NOM 30 Prénom 30
A2: =_2021!G2 -> NOM 2 Prénom 2 | B2: =_2021!G4 -> 5 | C2: =IF(_2021!F5<>"",_2021!C5,"") -> 44199 | D2: =_2021!D5 -> au | E2: =IF(_2021!F5<>"",_2021!E5,"") -> 44203 | G2: =IF(_2021!G5<>"",_2021!C5,"") | H2: =_2021!D5 -> au | I2: =IF(_2021!G5<>"",_2021!E5,"") | K2: =IF(_2021!H5<>"",_2021!C5,"") | L2: =_2021!D5 -> au | M2: =IF(_2021!H5<>"",_2021!E5,"") | O2: =IF(_2021!I5<>"",_2021!C5,"") | P2: =_2021!D5 -> au | Q2: =IF(_2021!I5<>"",_2021!E5,"") | S2: =IF(_2021!J5<>"",_2021!C5,"") | T2: =_2021!D5 -> au | U2: =IF(_2021!J5<>"",_2021!E5,"") | W2: =IF(_2021!K5<>"",_2021!C5,"") -> 44199 | X2: =_2021!D5 -> au | Y2: =IF(_2021!K5<>"",_2021!E5,"") -> 44203 | AA2: =IF(_2021!L5<>"",_2021!C5,"") | AB2: =_2021!D5 -> au | AC2: =IF(_2021!L5<>"",_2021!E5,"") | AE2: =IF(_2021!M5<>"",_2021!C5,"") | AF2: =_2021!D5 -> au | AG2: =IF(_2021!M5<>"",_2021!E5,"") | AI2: =IF(_2021!N5<>"",_2021!C5,"") | AJ2: =_2021!D5 -> au | AK2: =IF(_2021!N5<>"",_2021!E5,"") | AM2: =IF(_2021!O5<>"",_2021!C5,"") | AN2: =_2021!D5 -> au | AO2: =IF(_2021!O5<>"",_2021!E5,"") | AQ2: =IF(_2021!P5<>"",_2021!C5,"") | AR2: =_2021!D5 -> au | AS2: =IF(_2021!P5<>"",_2021!E5,"") | AU2: =IF(_2021!Q5<>"",_2021!C5,"") | AV2: =_2021!D5 -> au | AW2: =IF(_2021!Q5<>"",_2021!E5,"") | AY2: =IF(_2021!R5<>"",_2021!C5,"") | AZ2: =_2021!D5 -> au | BA2: =IF(_2021!R5<>"",_2021!E5,"") | BC2: =IF(_2021!S5<>"",_2021!C5,"") | BD2: =_2021!D5 -> au | BE2: =IF(_2021!S5<>"",_2021!E5,"") | BG2: =IF(_2021!T5<>"",_2021!C5,"") | BH2: =_2021!D5 -> au | BI2: =IF(_2021!T5<>"",_2021!E5,"") | BK2: =IF(_2021!U5<>"",_2021!C5,"") | BL2: =_2021!D5 -> au | BM2: =IF(_2021!U5<>"",_2021!E5,"") | BO2: =IF(_2021!V5<>"",_2021!C5,"") | BP2: =_2021!D5 -> au | BQ2: =IF(_2021!V5<>"",_2021!E5,"") | BS2: =IF(_2021!W5<>"",_2021!C5,"") | BT2: =_2021!D5 -> au | BU2: =IF(_2021!W5<>"",_2021!E5,"") | BW2: =IF(_2021!X5<>"",_2021!C5,"") | BX2: =_2021!D5 -> au | BY2: =IF(_2021!X5<>"",_2021!E5,"") | CA2: =IF(_2021!Y5<>"",_2021!C5,"") | CB2: =_2021!D5 -> au | CC2: =IF(_2021!Y5<>"",_2021!E5,"") | CE2: =IF(_2021!Z5<>"",_2021!C5,"") | CF2: =_2021!D5 -> au | CG2: =IF(_2021!Z5<>"",_2021!E5,"") | CI2: =IF(_2021!AA5<>"",_2021!C5,"") | CJ2: =_2021!D5 -> au | CK2: =IF(_2021!AA5<>"",_2021!E5,"") | CM2: =IF(_2021!AB5<>"",_2021!C5,"") | CN2: =_2021!D5 -> au | CO2: =IF(_2021!AB5<>"",_2021!E5,"") | CQ2: =IF(_2021!AC5<>"",_2021!C5,"") | CR2: =_2021!D5 -> au | CS2: =IF(_2021!AC5<>"",_2021!E5,"") | CU2: =IF(_2021!AD5<>"",_2021!C5,"") | CV2: =_2021!D5 -> au | CW2: =IF(_2021!AD5<>"",_2021!E5,"") | CY2: =IF(_2021!AE5<>"",_2021!C5,"") | CZ2: =_2021!D5 -> au | DA2: =IF(_2021!AE5<>"",_2021!E5,"") | DC2: =IF(_2021!AF5<>"",_2021!C5,"") | DD2: =_2021!D5 -> au | DE2: =IF(_2021!AF5<>"",_2021!E5,"") | DG2: =IF(_2021!AG5<>"",_2021!C5,"") | DH2: =_2021!D5 -> au | DI2: =IF(_2021!AG5<>"",_2021!E5,"") | DK2: =IF(_2021!AH5<>"",_2021!C5,"") | DL2: =_2021!D5 -> au | DM2: =IF(_2021!AH5<>"",_2021!E5,"") | DO2: =IF(_2021!AI5<>"",_2021!C5,"") | DP2: =_2021!D5 -> au | DQ2: =IF(_2021!AI5<>"",_2021!E5,"")
A3: =_2021!H2 -> NOM 3 Prénom 3 | B3: =_2021!H4 -> 5 | C3: =IF(_2021!F6<>"",_2021!C6,"") | D3: =_2021!D6 -> au | E3: =IF(_2021!F6<>"",_2021!E6,"") | G3: =IF(_2021!G6<>"",_2021!C6,"") -> 44203 | H3: =_2021!D6 -> au | I3: =IF(_2021!G6<>"",_2021!E6,"") -> 44206 | K3: =IF(_2021!H6<>"",_2021!C6,"") | L3: =_2021!D6 -> au | M3: =IF(_2021!H6<>"",_2021!E6,"") | O3: =IF(_2021!I6<>"",_2021!C6,"") | P3: =_2021!D6 -> au | Q3: =IF(_2021!I6<>"",_2021!E6,"") | S3: =IF(_2021!J6<>"",_2021!C6,"") | T3: =_2021!D6 -> au | U3: =IF(_2021!J6<>"",_2021!E6,"") | W3: =IF(_2021!K6<>"",_2021!C6,"") | X3: =_2021!D6 -> au | Y3: =IF(_2021!K6<>"",_2021!E6,"") | AA3: =IF(_2021!L6<>"",_2021!C6,"") -> 44203 | AB3: =_2021!D6 -> au | AC3: =IF(_2021!L6<>"",_2021!E6,"") -> 44206 | AE3: =IF(_2021!M6<>"",_2021!C6,"") | AF3: =_2021!D6 -> au | AG3: =IF(_2021!M6<>"",_2021!E6,"") | AI3: =IF(_2021!N6<>"",_2021!C6,"") | AJ3: =_2021!D6 -> au | AK3: =IF(_2021!N6<>"",_2021!E6,"") | AM3: =IF(_2021!O6<>"",_2021!C6,"") | AN3: =_2021!D6 -> au | AO3: =IF(_2021!O6<>"",_2021!E6,"") | AQ3: =IF(_2021!P6<>"",_2021!C6,"") | AR3: =_2021!D6 -> au | AS3: =IF(_2021!P6<>"",_2021!E6,"") | AU3: =IF(_2021!Q6<>"",_2021!C6,"") | AV3: =_2021!D6 -> au | AW3: =IF(_2021!Q6<>"",_2021!E6,"") | AY3: =IF(_2021!R6<>"",_2021!C6,"") | AZ3: =_2021!D6 -> au | BA3: =IF(_2021!R6<>"",_2021!E6,"") | BC3: =IF(_2021!S6<>"",_2021!C6,"") | BD3: =_2021!D6 -> au | BE3: =IF(_2021!S6<>"",_2021!E6,"") | BG3: =IF(_2021!T6<>"",_2021!C6,"") | BH3: =_2021!D6 -> au | BI3: =IF(_2021!T6<>"",_2021!E6,"") | BK3: =IF(_2021!U6<>"",_2021!C6,"") | BL3: =_2021!D6 -> au | BM3: =IF(_2021!U6<>"",_2021!E6,"") | BO3: =IF(_2021!V6<>"",_2021!C6,"") | BP3: =_2021!D6 -> au | BQ3: =IF(_2021!V6<>"",_2021!E6,"") | BS3: =IF(_2021!W6<>"",_2021!C6,"") | BT3: =_2021!D6 -> au | BU3: =IF(_2021!W6<>"",_2021!E6,"") | BW3: =IF(_2021!X6<>"",_2021!C6,"") | BX3: =_2021!D6 -> au | BY3: =IF(_2021!X6<>"",_2021!E6,"") | CA3: =IF(_2021!Y6<>"",_2021!C6,"") | CB3: =_2021!D6 -> au | CC3: =IF(_2021!Y6<>"",_2021!E6,"") | CE3: =IF(_2021!Z6<>"",_2021!C6,"") | CF3: =_2021!D6 -> au | CG3: =IF(_2021!Z6<>"",_2021!E6,"") | CI3: =IF(_2021!AA6<>"",_2021!C6,"") | CJ3: =_2021!D6 -> au | CK3: =IF(_2021!AA6<>"",_2021!E6,"") | CM3: =IF(_2021!AB6<>"",_2021!C6,"") | CN3: =_2021!D6 -> au | CO3: =IF(_2021!AB6<>"",_2021!E6,"") | CQ3: =IF(_2021!AC6<>"",_2021!C6,"") | CR3: =_2021!D6 -> au | CS3: =IF(_2021!AC6<>"",_2021!E6,"") | CU3: =IF(_2021!AD6<>"",_2021!C6,"") | CV3: =_2021!D6 -> au | CW3: =IF(_2021!AD6<>"",_2021!E6,"") | CY3: =IF(_2021!AE6<>"",_2021!C6,"") | CZ3: =_2021!D6 -> au | DA3: =IF(_2021!AE6<>"",_2021!E6,"") | DC3: =IF(_2021!AF6<>"",_2021!C6,"") | DD3: =_2021!D6 -> au | DE3: =IF(_2021!AF6<>"",_2021!E6,"") | DG3: =IF(_2021!AG6<>"",_2021!C6,"") | DH3: =_2021!D6 -> au | DI3: =IF(_2021!AG6<>"",_2021!E6,"") | DK3: =IF(_2021!AH6<>"",_2021!C6,"") | DL3: =_2021!D6 -> au | DM3: =IF(_2021!AH6<>"",_2021!E6,"") | DO3: =IF(_2021!AI6<>"",_2021!C6,"") | DP3: =_2021!D6 -> au | DQ3: =IF(_2021!AI6<>"",_2021!E6,"")
A4: =_2021!I2 -> NOM 4 Prénom 4 | B4: =_2021!I4 -> 6 | C4: =IF(_2021!F7<>"",_2021!C7,"") | D4: =_2021!D7 -> au | E4: =IF(_2021!F7<>"",_2021!E7,"") | G4: =IF(_2021!G7<>"",_2021!C7,"") | H4: =_2021!D7 -> au | I4: =IF(_2021!G7<>"",_2021!E7,"") | K4: =IF(_2021!H7<>"",_2021!C7,"") -> 44206 | L4: =_2021!D7 -> au | M4: =IF(_2021!H7<>"",_2021!E7,"") -> 44210 | O4: =IF(_2021!I7<>"",_2021!C7,"") | P4: =_2021!D7 -> au | Q4: =IF(_2021!I7<>"",_2021!E7,"") | S4: =IF(_2021!J7<>"",_2021!C7,"") | T4: =_2021!D7 -> au | U4: =IF(_2021!J7<>"",_2021!E7,"") | W4: =IF(_2021!K7<>"",_2021!C7,"") | X4: =_2021!D7 -> au | Y4: =IF(_2021!K7<>"",_2021!E7,"") | AA4: =IF(_2021!L7<>"",_2021!C7,"") | AB4: =_2021!D7 -> au | AC4: =IF(_2021!L7<>"",_2021!E7,"") | AE4: =IF(_2021!M7<>"",_2021!C7,"") -> 44206 | AF4: =_2021!D7 -> au | AG4: =IF(_2021!M7<>"",_2021!E7,"") -> 44210 | AI4: =IF(_2021!N7<>"",_2021!C7,"") | AJ4: =_2021!D7 -> au | AK4: =IF(_2021!N7<>"",_2021!E7,"") | AM4: =IF(_2021!O7<>"",_2021!C7,"") | AN4: =_2021!D7 -> au | AO4: =IF(_2021!O7<>"",_2021!E7,"") | AQ4: =IF(_2021!P7<>"",_2021!C7,"") | AR4: =_2021!D7 -> au | AS4: =IF(_2021!P7<>"",_2021!E7,"") | AU4: =IF(_2021!Q7<>"",_2021!C7,"") | AV4: =_2021!D7 -> au | AW4: =IF(_2021!Q7<>"",_2021!E7,"") | AY4: =IF(_2021!R7<>"",_2021!C7,"") | AZ4: =_2021!D7 -> au | BA4: =IF(_2021!R7<>"",_2021!E7,"") | BC4: =IF(_2021!S7<>"",_2021!C7,"") | BD4: =_2021!D7 -> au | BE4: =IF(_2021!S7<>"",_2021!E7,"") | BG4: =IF(_2021!T7<>"",_2021!C7,"") | BH4: =_2021!D7 -> au | BI4: =IF(_2021!T7<>"",_2021!E7,"") | BK4: =IF(_2021!U7<>"",_2021!C7,"") | BL4: =_2021!D7 -> au | BM4: =IF(_2021!U7<>"",_2021!E7,"") | BO4: =IF(_2021!V7<>"",_2021!C7,"") | BP4: =_2021!D7 -> au | BQ4: =IF(_2021!V7<>"",_2021!E7,"") | BS4: =IF(_2021!W7<>"",_2021!C7,"") | BT4: =_2021!D7 -> au | BU4: =IF(_2021!W7<>"",_2021!E7,"") | BW4: =IF(_2021!X7<>"",_2021!C7,"") | BX4: =_2021!D7 -> au | BY4: =IF(_2021!X7<>"",_2021!E7,"") | CA4: =IF(_2021!Y7<>"",_2021!C7,"") | CB4: =_2021!D7 -> au | CC4: =IF(_2021!Y7<>"",_2021!E7,"") | CE4: =IF(_2021!Z7<>"",_2021!C7,"") | CF4: =_2021!D7 -> au | CG4: =IF(_2021!Z7<>"",_2021!E7,"") | CI4: =IF(_2021!AA7<>"",_2021!C7,"") | CJ4: =_2021!D7 -> au | CK4: =IF(_2021!AA7<>"",_2021!E7,"") | CM4: =IF(_2021!AB7<>"",_2021!C7,"") | CN4: =_2021!D7 -> au | CO4: =IF(_2021!AB7<>"",_2021!E7,"") | CQ4: =IF(_2021!AC7<>"",_2021!C7,"") | CR4: =_2021!D7 -> au | CS4: =IF(_2021!AC7<>"",_2021!E7,"") | CU4: =IF(_2021!AD7<>"",_2021!C7,"") | CV4: =_2021!D7 -> au | CW4: =IF(_2021!AD7<>"",_2021!E7,"") | CY4: =IF(_2021!AE7<>"",_2021!C7,"") | CZ4: =_2021!D7 -> au | DA4: =IF(_2021!AE7<>"",_2021!E7,"") | DC4: =IF(_2021!AF7<>"",_2021!C7,"") | DD4: =_2021!D7 -> au | DE4: =IF(_2021!AF7<>"",_2021!E7,"") | DG4: =IF(_2021!AG7<>"",_2021!C7,"") | DH4: =_2021!D7 -> au | DI4: =IF(_2021!AG7<>"",_2021!E7,"") | DK4: =IF(_2021!AH7<>"",_2021!C7,"") | DL4: =_2021!D7 -> au | DM4: =IF(_2021!AH7<>"",_2021!E7,"") | DO4: =IF(_2021!AI7<>"",_2021!C7,"") | DP4: =_2021!D7 -> au | DQ4: =IF(_2021!AI7<>"",_2021!E7,"")
A5: =_2021!J2 -> NOM 5 Prénom 5 | B5: =_2021!J4 -> 6 | C5: =IF(_2021!F8<>"",_2021!C8,"") -> 44210 | D5: =_2021!D8 -> au | E5: =IF(_2021!F8<>"",_2021!E8,"") -> 44213 | G5: =IF(_2021!G8<>"",_2021!C8,"") | H5: =_2021!D8 -> au | I5: =IF(_2021!G8<>"",_2021!E8,"") | K5: =IF(_2021!H8<>"",_2021!C8,"") | L5: =_2021!D8 -> au | M5: =IF(_2021!H8<>"",_2021!E8,"") | O5: =IF(_2021!I8<>"",_2021!C8,"") -> 44210 | P5: =_2021!D8 -> au | Q5: =IF(_2021!I8<>"",_2021!E8,"") -> 44213 | S5: =IF(_2021!J8<>"",_2021!C8,"") | T5: =_2021!D8 -> au | U5: =IF(_2021!J8<>"",_2021!E8,"") | W5: =IF(_2021!K8<>"",_2021!C8,"") | X5: =_2021!D8 -> au | Y5: =IF(_2021!K8<>"",_2021!E8,"") | AA5: =IF(_2021!L8<>"",_2021!C8,"") | AB5: =_2021!D8 -> au | AC5: =IF(_2021!L8<>"",_2021!E8,"") | AE5: =IF(_2021!M8<>"",_2021!C8,"") | AF5: =_2021!D8 -> au | AG5: =IF(_2021!M8<>"",_2021!E8,"") | AI5: =IF(_2021!N8<>"",_2021!C8,"") | AJ5: =_2021!D8 -> au | AK5: =IF(_2021!N8<>"",_2021!E8,"") | AM5: =IF(_2021!O8<>"",_2021!C8,"") | AN5: =_2021!D8 -> au | AO5: =IF(_2021!O8<>"",_2021!E8,"") | AQ5: =IF(_2021!P8<>"",_2021!C8,"") | AR5: =_2021!D8 -> au | AS5: =IF(_2021!P8<>"",_2021!E8,"") | AU5: =IF(_2021!Q8<>"",_2021!C8,"") | AV5: =_2021!D8 -> au | AW5: =IF(_2021!Q8<>"",_2021!E8,"") | AY5: =IF(_2021!R8<>"",_2021!C8,"") | AZ5: =_2021!D8 -> au | BA5: =IF(_2021!R8<>"",_2021!E8,"") | BC5: =IF(_2021!S8<>"",_2021!C8,"") | BD5: =_2021!D8 -> au | BE5: =IF(_2021!S8<>"",_2021!E8,"") | BG5: =IF(_2021!T8<>"",_2021!C8,"") | BH5: =_2021!D8 -> au | BI5: =IF(_2021!T8<>"",_2021!E8,"") | BK5: =IF(_2021!U8<>"",_2021!C8,"") | BL5: =_2021!D8 -> au | BM5: =IF(_2021!U8<>"",_2021!E8,"") | BO5: =IF(_2021!V8<>"",_2021!C8,"") | BP5: =_2021!D8 -> au | BQ5: =IF(_2021!V8<>"",_2021!E8,"") | BS5: =IF(_2021!W8<>"",_2021!C8,"") | BT5: =_2021!D8 -> au | BU5: =IF(_2021!W8<>"",_2021!E8,"") | BW5: =IF(_2021!X8<>"",_2021!C8,"") | BX5: =_2021!D8 -> au | BY5: =IF(_2021!X8<>"",_2021!E8,"") | CA5: =IF(_2021!Y8<>"",_2021!C8,"") | CB5: =_2021!D8 -> au | CC5: =IF(_2021!Y8<>"",_2021!E8,"") | CE5: =IF(_2021!Z8<>"",_2021!C8,"") | CF5: =_2021!D8 -> au | CG5: =IF(_2021!Z8<>"",_2021!E8,"") | CI5: =IF(_2021!AA8<>"",_2021!C8,"") | CJ5: =_2021!D8 -> au | CK5: =IF(_2021!AA8<>"",_2021!E8,"") | CM5: =IF(_2021!AB8<>"",_2021!C8,"") | CN5: =_2021!D8 -> au | CO5: =IF(_2021!AB8<>"",_2021!E8,"") | CQ5: =IF(_2021!AC8<>"",_2021!C8,"") | CR5: =_2021!D8 -> au | CS5: =IF(_2021!AC8<>"",_2021!E8,"") | CU5: =IF(_2021!AD8<>"",_2021!C8,"") | CV5: =_2021!D8 -> au | CW5: =IF(_2021!AD8<>"",_2021!E8,"") | CY5: =IF(_2021!AE8<>"",_2021!C8,"") | CZ5: =_2021!D8 -> au | DA5: =IF(_2021!AE8<>"",_2021!E8,"") | DC5: =IF(_2021!AF8<>"",_2021!C8,"") | DD5: =_2021!D8 -> au | DE5: =IF(_2021!AF8<>"",_2021!E8,"") | DG5: =IF(_2021!AG8<>"",_2021!C8,"") | DH5: =_2021!D8 -> au | DI5: =IF(_2021!AG8<>"",_2021!E8,"") | DK5: =IF(_2021!AH8<>"",_2021!C8,"") | DL5: =_2021!D8 -> au | DM5: =IF(_2021!AH8<>"",_2021!E8,"") | DO5: =IF(_2021!AI8<>"",_2021!C8,"") | DP5: =_2021!D8 -> au | DQ5: =IF(_2021!AI8<>"",_2021!E8,"")
A6: =_2021!K2 -> NOM 6 Prénom 6 | B6: =_2021!K4 -> 7 | C6: =IF(_2021!F9<>"",_2021!C9,"") | D6: =_2021!D9 -> au | E6: =IF(_2021!F9<>"",_2021!E9,"") | G6: =IF(_2021!G9<>"",_2021!C9,"") -> 44213 | H6: =_2021!D9 -> au | I6: =IF(_2021!G9<>"",_2021!E9,"") -> 44217 | K6: =IF(_2021!H9<>"",_2021!C9,"") | L6: =_2021!D9 -> au | M6: =IF(_2021!H9<>"",_2021!E9,"") | O6: =IF(_2021!I9<>"",_2021!C9,"") | P6: =_2021!D9 -> au | Q6: =IF(_2021!I9<>"",_2021!E9,"") | S6: =IF(_2021!J9<>"",_2021!C9,"") -> 44213 | T6: =_2021!D9 -> au | U6: =IF(_2021!J9<>"",_2021!E9,"") -> 44217 | W6: =IF(_2021!K9<>"",_2021!C9,"") | X6: =_2021!D9 -> au | Y6: =IF(_2021!K9<>"",_2021!E9,"") | AA6: =IF(_2021!L9<>"",_2021!C9,"") | AB6: =_2021!D9 -> au | AC6: =IF(_2021!L9<>"",_2021!E9,"") | AE6: =IF(_2021!M9<>"",_2021!C9,"") | AF6: =_2021!D9 -> au | AG6: =IF(_2021!M9<>"",_2021!E9,"") | AI6: =IF(_2021!N9<>"",_2021!C9,"") | AJ6: =_2021!D9 -> au | AK6: =IF(_2021!N9<>"",_2021!E9,"") | AM6: =IF(_2021!O9<>"",_2021!C9,"") | AN6: =_2021!D9 -> au | AO6: =IF(_2021!O9<>"",_2021!E9,"") | AQ6: =IF(_2021!P9<>"",_2021!C9,"") | AR6: =_2021!D9 -> au | AS6: =IF(_2021!P9<>"",_2021!E9,"") | AU6: =IF(_2021!Q9<>"",_2021!C9,"") | AV6: =_2021!D9 -> au | AW6: =IF(_2021!Q9<>"",_2021!E9,"") | AY6: =IF(_2021!R9<>"",_2021!C9,"") | AZ6: =_2021!D9 -> au | BA6: =IF(_2021!R9<>"",_2021!E9,"") | BC6: =IF(_2021!S9<>"",_2021!C9,"") | BD6: =_2021!D9 -> au | BE6: =IF(_2021!S9<>"",_2021!E9,"") | BG6: =IF(_2021!T9<>"",_2021!C9,"") | BH6: =_2021!D9 -> au | BI6: =IF(_2021!T9<>"",_2021!E9,"") | BK6: =IF(_2021!U9<>"",_2021!C9,"") | BL6: =_2021!D9 -> au | BM6: =IF(_2021!U9<>"",_2021!E9,"") | BO6: =IF(_2021!V9<>"",_2021!C9,"") | BP6: =_2021!D9 -> au | BQ6: =IF(_2021!V9<>"",_2021!E9,"") | BS6: =IF(_2021!W9<>"",_2021!C9,"") | BT6: =_2021!D9 -> au | BU6: =IF(_2021!W9<>"",_2021!E9,"") | BW6: =IF(_2021!X9<>"",_2021!C9,"") | BX6: =_2021!D9 -> au | BY6: =IF(_2021!X9<>"",_2021!E9,"") | CA6: =IF(_2021!Y9<>"",_2021!C9,"") | CB6: =_2021!D9 -> au | CC6: =IF(_2021!Y9<>"",_2021!E9,"") | CE6: =IF(_2021!Z9<>"",_2021!C9,"") | CF6: =_2021!D9 -> au | CG6: =IF(_2021!Z9<>"",_2021!E9,"") | CI6: =IF(_2021!AA9<>"",_2021!C9,"") | CJ6: =_2021!D9 -> au | CK6: =IF(_2021!AA9<>"",_2021!E9,"") | CM6: =IF(_2021!AB9<>"",_2021!C9,"") | CN6: =_2021!D9 -> au | CO6: =IF(_2021!AB9<>"",_2021!E9,"") | CQ6: =IF(_2021!AC9<>"",_2021!C9,"") | CR6: =_2021!D9 -> au | CS6: =IF(_2021!AC9<>"",_2021!E9,"") | CU6: =IF(_2021!AD9<>"",_2021!C9,"") | CV6: =_2021!D9 -> au | CW6: =IF(_2021!AD9<>"",_2021!E9,"") | CY6: =IF(_2021!AE9<>"",_2021!C9,"") | CZ6: =_2021!D9 -> au | DA6: =IF(_2021!AE9<>"",_2021!E9,"") | DC6: =IF(_2021!AF9<>"",_2021!C9,"") | DD6: =_2021!D9 -> au | DE6: =IF(_2021!AF9<>"",_2021!E9,"") | DG6: =IF(_2021!AG9<>"",_2021!C9,"") | DH6: =_2021!D9 -> au | DI6: =IF(_2021!AG9<>"",_2021!E9,"") | DK6: =IF(_2021!AH9<>"",_2021!C9,"") | DL6: =_2021!D9 -> au | DM6: =IF(_2021!AH9<>"",_2021!E9,"") | DO6: =IF(_2021!AI9<>"",_2021!C9,"") | DP6: =_2021!D9 -> au | DQ6: =IF(_2021!AI9<>"",_2021!E9,"")
A7: =_2021!L2 -> NOM 7 Prénom 7 | B7: =_2021!L4 -> 7 | C7: =IF(_2021!F10<>"",_2021!C10,"") | D7: =_2021!D10 -> au | E7: =IF(_2021!F10<>"",_2021!E10,"") | G7: =IF(_2021!G10<>"",_2021!C10,"") | H7: =_2021!D10 -> au | I7: =IF(_2021!G10<>"",_2021!E10,"") | K7: =IF(_2021!H10<>"",_2021!C10,"") -> 44217 | L7: =_2021!D10 -> au | M7: =IF(_2021!H10<>"",_2021!E10,"") -> 44220 | O7: =IF(_2021!I10<>"",_2021!C10,"") | P7: =_2021!D10 -> au | Q7: =IF(_2021!I10<>"",_2021!E10,"") | S7: =IF(_2021!J10<>"",_2021!C10,"") | T7: =_2021!D10 -> au | U7: =IF(_2021!J10<>"",_2021!E10,"") | W7: =IF(_2021!K10<>"",_2021!C10,"") -> 44217 | X7: =_2021!D10 -> au | Y7: =IF(_2021!K10<>"",_2021!E10,"") -> 44220 | AA7: =IF(_2021!L10<>"",_2021!C10,"") | AB7: =_2021!D10 -> au | AC7: =IF(_2021!L10<>"",_2021!E10,"") | AE7: =IF(_2021!M10<>"",_2021!C10,"") | AF7: =_2021!D10 -> au | AG7: =IF(_2021!M10<>"",_2021!E10,"") | AI7: =IF(_2021!N10<>"",_2021!C10,"") | AJ7: =_2021!D10 -> au | AK7: =IF(_2021!N10<>"",_2021!E10,"") | AM7: =IF(_2021!O10<>"",_2021!C10,"") | AN7: =_2021!D10 -> au | AO7: =IF(_2021!O10<>"",_2021!E10,"") | AQ7: =IF(_2021!P10<>"",_2021!C10,"") | AR7: =_2021!D10 -> au | AS7: =IF(_2021!P10<>"",_2021!E10,"") | AU7: =IF(_2021!Q10<>"",_2021!C10,"") | AV7: =_2021!D10 -> au | AW7: =IF(_2021!Q10<>"",_2021!E10,"") | AY7: =IF(_2021!R10<>"",_2021!C10,"") | AZ7: =_2021!D10 -> au | BA7: =IF(_2021!R10<>"",_2021!E10,"") | BC7: =IF(_2021!S10<>"",_2021!C10,"") | BD7: =_2021!D10 -> au | BE7: =IF(_2021!S10<>"",_2021!E10,"") | BG7: =IF(_2021!T10<>"",_2021!C10,"") | BH7: =_2021!D10 -> au | BI7: =IF(_2021!T10<>"",_2021!E10,"") | BK7: =IF(_2021!U10<>"",_2021!C10,"") | BL7: =_2021!D10 -> au | BM7: =IF(_2021!U10<>"",_2021!E10,"") | BO7: =IF(_2021!V10<>"",_2021!C10,"") | BP7: =_2021!D10 -> au | BQ7: =IF(_2021!V10<>"",_2021!E10,"") | BS7: =IF(_2021!W10<>"",_2021!C10,"") | BT7: =_2021!D10 -> au | BU7: =IF(_2021!W10<>"",_2021!E10,"") | BW7: =IF(_2021!X10<>"",_2021!C10,"") | BX7: =_2021!D10 -> au | BY7: =IF(_2021!X10<>"",_2021!E10,"") | CA7: =IF(_2021!Y10<>"",_2021!C10,"") | CB7: =_2021!D10 -> au | CC7: =IF(_2021!Y10<>"",_2021!E10,"") | CE7: =IF(_2021!Z10<>"",_2021!C10,"") | CF7: =_2021!D10 -> au | CG7: =IF(_2021!Z10<>"",_2021!E10,"") | CI7: =IF(_2021!AA10<>"",_2021!C10,"") | CJ7: =_2021!D10 -> au | CK7: =IF(_2021!AA10<>"",_2021!E10,"") | CM7: =IF(_2021!AB10<>"",_2021!C10,"") | CN7: =_2021!D10 -> au | CO7: =IF(_2021!AB10<>"",_2021!E10,"") | CQ7: =IF(_2021!AC10<>"",_2021!C10,"") | CR7: =_2021!D10 -> au | CS7: =IF(_2021!AC10<>"",_2021!E10,"") | CU7: =IF(_2021!AD10<>"",_2021!C10,"") | CV7: =_2021!D10 -> au | CW7: =IF(_2021!AD10<>"",_2021!E10,"") | CY7: =IF(_2021!AE10<>"",_2021!C10,"") | CZ7: =_2021!D10 -> au | DA7: =IF(_2021!AE10<>"",_2021!E10,"") | DC7: =IF(_2021!AF10<>"",_2021!C10,"") | DD7: =_2021!D10 -> au | DE7: =IF(_2021!AF10<>"",_2021!E10,"") | DG7: =IF(_2021!AG10<>"",_2021!C10,"") | DH7: =_2021!D10 -> au | DI7: =IF(_2021!AG10<>"",_2021!E10,"") | DK7: =IF(_2021!AH10<>"",_2021!C10,"") | DL7: =_2021!D10 -> au | DM7: =IF(_2021!AH10<>"",_2021!E10,"") | DO7: =IF(_2021!AI10<>"",_2021!C10,"") | DP7: =_2021!D10 -> au | DQ7: =IF(_2021!AI10<>"",_2021!E10,"")
A8: =_2021!M2 -> NOM 8 Prénom 8 | B8: =_2021!M4 -> 7 | C8: =IF(_2021!F11<>"",_2021!C11,"") | D8: =_2021!D11 -> au | E8: =IF(_2021!F11<>"",_2021!E11,"") | G8: =IF(_2021!G11<>"",_2021!C11,"") | H8: =_2021!D11 -> au | I8: =IF(_2021!G11<>"",_2021!E11,"") | K8: =IF(_2021!H11<>"",_2021!C11,"") | L8: =_2021!D11 -> au | M8: =IF(_2021!H11<>"",_2021!E11,"") | O8: =IF(_2021!I11<>"",_2021!C11,"") -> 44220 | P8: =_2021!D11 -> au | Q8: =IF(_2021!I11<>"",_2021!E11,"") -> 44224 | S8: =IF(_2021!J11<>"",_2021!C11,"") | T8: =_2021!D11 -> au | U8: =IF(_2021!J11<>"",_2021!E11,"") | W8: =IF(_2021!K11<>"",_2021!C11,"") | X8: =_2021!D11 -> au | Y8: =IF(_2021!K11<>"",_2021!E11,"") | AA8: =IF(_2021!L11<>"",_2021!C11,"") -> 44220 | AB8: =_2021!D11 -> au | AC8: =IF(_2021!L11<>"",_2021!E11,"") -> 44224 | AE8: =IF(_2021!M11<>"",_2021!C11,"") | AF8: =_2021!D11 -> au | AG8: =IF(_2021!M11<>"",_2021!E11,"") | AI8: =IF(_2021!N11<>"",_2021!C11,"") | AJ8: =_2021!D11 -> au | AK8: =IF(_2021!N11<>"",_2021!E11,"") | AM8: =IF(_2021!O11<>"",_2021!C11,"") | AN8: =_2021!D11 -> au | AO8: =IF(_2021!O11<>"",_2021!E11,"") | AQ8: =IF(_2021!P11<>"",_2021!C11,"") | AR8: =_2021!D11 -> au | AS8: =IF(_2021!P11<>"",_2021!E11,"") | AU8: =IF(_2021!Q11<>"",_2021!C11,"") | AV8: =_2021!D11 -> au | AW8: =IF(_2021!Q11<>"",_2021!E11,"") | AY8: =IF(_2021!R11<>"",_2021!C11,"") | AZ8: =_2021!D11 -> au | BA8: =IF(_2021!R11<>"",_2021!E11,"") | BC8: =IF(_2021!S11<>"",_2021!C11,"") | BD8: =_2021!D11 -> au | BE8: =IF(_2021!S11<>"",_2021!E11,"") | BG8: =IF(_2021!T11<>"",_2021!C11,"") | BH8: =_2021!D11 -> au | BI8: =IF(_2021!T11<>"",_2021!E11,"") | BK8: =IF(_2021!U11<>"",_2021!C11,"") | BL8: =_2021!D11 -> au | BM8: =IF(_2021!U11<>"",_2021!E11,"") | BO8: =IF(_2021!V11<>"",_2021!C11,"") | BP8: =_2021!D11 -> au | BQ8: =IF(_2021!V11<>"",_2021!E11,"") | BS8: =IF(_2021!W11<>"",_2021!C11,"") | BT8: =_2021!D11 -> au | BU8: =IF(_2021!W11<>"",_2021!E11,"") | BW8: =IF(_2021!X11<>"",_2021!C11,"") | BX8: =_2021!D11 -> au | BY8: =IF(_2021!X11<>"",_2021!E11,"") | CA8: =IF(_2021!Y11<>"",_2021!C11,"") | CB8: =_2021!D11 -> au | CC8: =IF(_2021!Y11<>"",_2021!E11,"") | CE8: =IF(_2021!Z11<>"",_2021!C11,"") | CF8: =_2021!D11 -> au | CG8: =IF(_2021!Z11<>"",_2021!E11,"") | CI8: =IF(_2021!AA11<>"",_2021!C11,"") | CJ8: =_2021!D11 -> au | CK8: =IF(_2021!AA11<>"",_2021!E11,"") | CM8: =IF(_2021!AB11<>"",_2021!C11,"") | CN8: =_2021!D11 -> au | CO8: =IF(_2021!AB11<>"",_2021!E11,"") | CQ8: =IF(_2021!AC11<>"",_2021!C11,"") | CR8: =_2021!D11 -> au | CS8: =IF(_2021!AC11<>"",_2021!E11,"") | CU8: =IF(_2021!AD11<>"",_2021!C11,"") | CV8: =_2021!D11 -> au | CW8: =IF(_2021!AD11<>"",_2021!E11,"") | CY8: =IF(_2021!AE11<>"",_2021!C11,"") | CZ8: =_2021!D11 -> au | DA8: =IF(_2021!AE11<>"",_2021!E11,"") | DC8: =IF(_2021!AF11<>"",_2021!C11,"") | DD8: =_2021!D11 -> au | DE8: =IF(_2021!AF11<>"",_2021!E11,"") | DG8: =IF(_2021!AG11<>"",_2021!C11,"") | DH8: =_2021!D11 -> au | DI8: =IF(_2021!AG11<>"",_2021!E11,"") | DK8: =IF(_2021!AH11<>"",_2021!C11,"") | DL8: =_2021!D11 -> au | DM8: =IF(_2021!AH11<>"",_2021!E11,"") | DO8: =IF(_2021!AI11<>"",_2021!C11,"") | DP8: =_2021!D11 -> au | DQ8: =IF(_2021!AI11<>"",_2021!E11,"")
A9: =_2021!N2 -> NOM 9 Prénom 9 | B9: =_2021!N4 -> 6 | C9: =IF(_2021!F12<>"",_2021!C12,"") | D9: =_2021!D12 -> au | E9: =IF(_2021!F12<>"",_2021!E12,"") | G9: =IF(_2021!G12<>"",_2021!C12,"") | H9: =_2021!D12 -> au | I9: =IF(_2021!G12<>"",_2021!E12,"") | K9: =IF(_2021!H12<>"",_2021!C12,"") | L9: =_2021!D12 -> au | M9: =IF(_2021!H12<>"",_2021!E12,"") | O9: =IF(_2021!I12<>"",_2021!C12,"") | P9: =_2021!D12 -> au | Q9: =IF(_2021!I12<>"",_2021!E12,"") | S9: =IF(_2021!J12<>"",_2021!C12,"") -> 44224 | T9: =_2021!D12 -> au | U9: =IF(_2021!J12<>"",_2021!E12,"") -> 44227 | W9: =IF(_2021!K12<>"",_2021!C12,"") | X9: =_2021!D12 -> au | Y9: =IF(_2021!K12<>"",_2021!E12,"") | AA9: =IF(_2021!L12<>"",_2021!C12,"") | AB9: =_2021!D12 -> au | AC9: =IF(_2021!L12<>"",_2021!E12,"") | AE9: =IF(_2021!M12<>"",_2021!C12,"") -> 44224 | AF9: =_2021!D12 -> au | AG9: =IF(_2021!M12<>"",_2021!E12,"") -> 44227 | AI9: =IF(_2021!N12<>"",_2021!C12,"") | AJ9: =_2021!D12 -> au | AK9: =IF(_2021!N12<>"",_2021!E12,"") | AM9: =IF(_2021!O12<>"",_2021!C12,"") | AN9: =_2021!D12 -> au | AO9: =IF(_2021!O12<>"",_2021!E12,"") | AQ9: =IF(_2021!P12<>"",_2021!C12,"") | AR9: =_2021!D12 -> au | AS9: =IF(_2021!P12<>"",_2021!E12,"") | AU9: =IF(_2021!Q12<>"",_2021!C12,"") | AV9: =_2021!D12 -> au | AW9: =IF(_2021!Q12<>"",_2021!E12,"") | AY9: =IF(_2021!R12<>"",_2021!C12,"") | AZ9: =_2021!D12 -> au | BA9: =IF(_2021!R12<>"",_2021!E12,"") | BC9: =IF(_2021!S12<>"",_2021!C12,"") | BD9: =_2021!D12 -> au | BE9: =IF(_2021!S12<>"",_2021!E12,"") | BG9: =IF(_2021!T12<>"",_2021!C12,"") | BH9: =_2021!D12 -> au | BI9: =IF(_2021!T12<>"",_2021!E12,"") | BK9: =IF(_2021!U12<>"",_2021!C12,"") | BL9: =_2021!D12 -> au | BM9: =IF(_2021!U12<>"",_2021!E12,"") | BO9: =IF(_2021!V12<>"",_2021!C12,"") | BP9: =_2021!D12 -> au | BQ9: =IF(_2021!V12<>"",_2021!E12,"") | BS9: =IF(_2021!W12<>"",_2021!C12,"") | BT9: =_2021!D12 -> au | BU9: =IF(_2021!W12<>"",_2021!E12,"") | BW9: =IF(_2021!X12<>"",_2021!C12,"") | BX9: =_2021!D12 -> au | BY9: =IF(_2021!X12<>"",_2021!E12,"") | CA9: =IF(_2021!Y12<>"",_2021!C12,"") | CB9: =_2021!D12 -> au | CC9: =IF(_2021!Y12<>"",_2021!E12,"") | CE9: =IF(_2021!Z12<>"",_2021!C12,"") | CF9: =_2021!D12 -> au | CG9: =IF(_2021!Z12<>"",_2021!E12,"") | CI9: =IF(_2021!AA12<>"",_2021!C12,"") | CJ9: =_2021!D12 -> au | CK9: =IF(_2021!AA12<>"",_2021!E12,"") | CM9: =IF(_2021!AB12<>"",_2021!C12,"") | CN9: =_2021!D12 -> au | CO9: =IF(_2021!AB12<>"",_2021!E12,"") | CQ9: =IF(_2021!AC12<>"",_2021!C12,"") | CR9: =_2021!D12 -> au | CS9: =IF(_2021!AC12<>"",_2021!E12,"") | CU9: =IF(_2021!AD12<>"",_2021!C12,"") | CV9: =_2021!D12 -> au | CW9: =IF(_2021!AD12<>"",_2021!E12,"") | CY9: =IF(_2021!AE12<>"",_2021!C12,"") | CZ9: =_2021!D12 -> au | DA9: =IF(_2021!AE12<>"",_2021!E12,"") | DC9: =IF(_2021!AF12<>"",_2021!C12,"") | DD9: =_2021!D12 -> au | DE9: =IF(_2021!AF12<>"",_2021!E12,"") | DG9: =IF(_2021!AG12<>"",_2021!C12,"") | DH9: =_2021!D12 -> au | DI9: =IF(_2021!AG12<>"",_2021!E12,"") | DK9: =IF(_2021!AH12<>"",_2021!C12,"") | DL9: =_2021!D12 -> au | DM9: =IF(_2021!AH12<>"",_2021!E12,"") | DO9: =IF(_2021!AI12<>"",_2021!C12,"") | DP9: =_2021!D12 -> au | DQ9: =IF(_2021!AI12<>"",_2021!E12,"")
A10: =_2021!O2 -> NOM 10 Prénom 10 | B10: =_2021!O4 -> 6 | C10: =IF(_2021!F13<>"",_2021!C13,"") | D10: =_2021!D13 -> au | E10: =IF(_2021!F13<>"",_2021!E13,"") | G10: =IF(_2021!G13<>"",_2021!C13,"") | H10: =_2021!D13 -> au | I10: =IF(_2021!G13<>"",_2021!E13,"") | K10: =IF(_2021!H13<>"",_2021!C13,"") | L10: =_2021!D13 -> au | M10: =IF(_2021!H13<>"",_2021!E13,"") | O10: =IF(_2021!I13<>"",_2021!C13,"") | P10: =_2021!D13 -> au | Q10: =IF(_2021!I13<>"",_2021!E13,"") | S10: =IF(_2021!J13<>"",_2021!C13,"") | T10: =_2021!D13 -> au | U10: =IF(_2021!J13<>"",_2021!E13,"") | W10: =IF(_2021!K13<>"",_2021!C13,"") -> 44227 | X10: =_2021!D13 -> au | Y10: =IF(_2021!K13<>"",_2021!E13,"") -> 44231 | AA10: =IF(_2021!L13<>"",_2021!C13,"") | AB10: =_2021!D13 -> au | AC10: =IF(_2021!L13<>"",_2021!E13,"") | AE10: =IF(_2021!M13<>"",_2021!C13,"") | AF10: =_2021!D13 -> au | AG10: =IF(_2021!M13<>"",_2021!E13,"") | AI10: =IF(_2021!N13<>"",_2021!C13,"") -> 44227 | AJ10: =_2021!D13 -> au | AK10: =IF(_2021!N13<>"",_2021!E13,"") -> 44231 | AM10: =IF(_2021!O13<>"",_2021!C13,"") | AN10: =_2021!D13 -> au | AO10: =IF(_2021!O13<>"",_2021!E13,"") | AQ10: =IF(_2021!P13<>"",_2021!C13,"") | AR10: =_2021!D13 -> au | AS10: =IF(_2021!P13<>"",_2021!E13,"") | AU10: =IF(_2021!Q13<>"",_2021!C13,"") | AV10: =_2021!D13 -> au | AW10: =IF(_2021!Q13<>"",_2021!E13,"") | AY10: =IF(_2021!R13<>"",_2021!C13,"") | AZ10: =_2021!D13 -> au | BA10: =IF(_2021!R13<>"",_2021!E13,"") | BC10: =IF(_2021!S13<>"",_2021!C13,"") | BD10: =_2021!D13 -> au | BE10: =IF(_2021!S13<>"",_2021!E13,"") | BG10: =IF(_2021!T13<>"",_2021!C13,"") | BH10: =_2021!D13 -> au | BI10: =IF(_2021!T13<>"",_2021!E13,"") | BK10: =IF(_2021!U13<>"",_2021!C13,"") | BL10: =_2021!D13 -> au | BM10: =IF(_2021!U13<>"",_2021!E13,"") | BO10: =IF(_2021!V13<>"",_2021!C13,"") | BP10: =_2021!D13 -> au | BQ10: =IF(_2021!V13<>"",_2021!E13,"") | BS10: =IF(_2021!W13<>"",_2021!C13,"") | BT10: =_2021!D13 -> au | BU10: =IF(_2021!W13<>"",_2021!E13,"") | BW10: =IF(_2021!X13<>"",_2021!C13,"") | BX10: =_2021!D13 -> au | BY10: =IF(_2021!X13<>"",_2021!E13,"") | CA10: =IF(_2021!Y13<>"",_2021!C13,"") | CB10: =_2021!D13 -> au | CC10: =IF(_2021!Y13<>"",_2021!E13,"") | CE10: =IF(_2021!Z13<>"",_2021!C13,"") | CF10: =_2021!D13 -> au | CG10: =IF(_2021!Z13<>"",_2021!E13,"") | CI10: =IF(_2021!AA13<>"",_2021!C13,"") | CJ10: =_2021!D13 -> au | CK10: =IF(_2021!AA13<>"",_2021!E13,"") | CM10: =IF(_2021!AB13<>"",_2021!C13,"") | CN10: =_2021!D13 -> au | CO10: =IF(_2021!AB13<>"",_2021!E13,"") | CQ10: =IF(_2021!AC13<>"",_2021!C13,"") | CR10: =_2021!D13 -> au | CS10: =IF(_2021!AC13<>"",_2021!E13,"") | CU10: =IF(_2021!AD13<>"",_2021!C13,"") | CV10: =_2021!D13 -> au | CW10: =IF(_2021!AD13<>"",_2021!E13,"") | CY10: =IF(_2021!AE13<>"",_2021!C13,"") | CZ10: =_2021!D13 -> au | DA10: =IF(_2021!AE13<>"",_2021!E13,"") | DC10: =IF(_2021!AF13<>"",_2021!C13,"") | DD10: =_2021!D13 -> au | DE10: =IF(_2021!AF13<>"",_2021!E13,"") | DG10: =IF(_2021!AG13<>"",_2021!C13,"") | DH10: =_2021!D13 -> au | DI10: =IF(_2021!AG13<>"",_2021!E13,"") | DK10: =IF(_2021!AH13<>"",_2021!C13,"") | DL10: =_2021!D13 -> au | DM10: =IF(_2021!AH13<>"",_2021!E13,"") | DO10: =IF(_2021!AI13<>"",_2021!C13,"") | DP10: =_2021!D13 -> au | DQ10: =IF(_2021!AI13<>"",_2021!E13,"")
A11: =_2021!P2 -> NOM 11 Prénom 11 | B11: =_2021!P4 -> 6 | C11: =IF(_2021!F14<>"",_2021!C14,"") | D11: =_2021!D14 -> au | E11: =IF(_2021!F14<>"",_2021!E14,"") | G11: =IF(_2021!G14<>"",_2021!C14,"") | H11: =_2021!D14 -> au | I11: =IF(_2021!G14<>"",_2021!E14,"") | K11: =IF(_2021!H14<>"",_2021!C14,"") | L11: =_2021!D14 -> au | M11: =IF(_2021!H14<>"",_2021!E14,"") | O11: =IF(_2021!I14<>"",_2021!C14,"") | P11: =_2021!D14 -> au | Q11: =IF(_2021!I14<>"",_2021!E14,"") | S11: =IF(_2021!J14<>"",_2021!C14,"") | T11: =_2021!D14 -> au | U11: =IF(_2021!J14<>"",_2021!E14,"") | W11: =IF(_2021!K14<>"",_2021!C14,"") | X11: =_2021!D14 -> au | Y11: =IF(_2021!K14<>"",_2021!E14,"") | AA11: =IF(_2021!L14<>"",_2021!C14,"") -> 44231 | AB11: =_2021!D14 -> au | AC11: =IF(_2021!L14<>"",_2021!E14,"") -> 44234 | AE11: =IF(_2021!M14<>"",_2021!C14,"") | AF11: =_2021!D14 -> au | AG11: =IF(_2021!M14<>"",_2021!E14,"") | AI11: =IF(_2021!N14<>"",_2021!C14,"") | AJ11: =_2021!D14 -> au | AK11: =IF(_2021!N14<>"",_2021!E14,"") | AM11: =IF(_2021!O14<>"",_2021!C14,"") -> 44231 | AN11: =_2021!D14 -> au | AO11: =IF(_2021!O14<>"",_2021!E14,"") -> 44234 | AQ11: =IF(_2021!P14<>"",_2021!C14,"") | AR11: =_2021!D14 -> au | AS11: =IF(_2021!P14<>"",_2021!E14,"") | AU11: =IF(_2021!Q14<>"",_2021!C14,"") | AV11: =_2021!D14 -> au | AW11: =IF(_2021!Q14<>"",_2021!E14,"") | AY11: =IF(_2021!R14<>"",_2021!C14,"") | AZ11: =_2021!D14 -> au | BA11: =IF(_2021!R14<>"",_2021!E14,"") | BC11: =IF(_2021!S14<>"",_2021!C14,"") | BD11: =_2021!D14 -> au | BE11: =IF(_2021!S14<>"",_2021!E14,"") | BG11: =IF(_2021!T14<>"",_2021!C14,"") | BH11: =_2021!D14 -> au | BI11: =IF(_2021!T14<>"",_2021!E14,"") | BK11: =IF(_2021!U14<>"",_2021!C14,"") | BL11: =_2021!D14 -> au | BM11: =IF(_2021!U14<>"",_2021!E14,"") | BO11: =IF(_2021!V14<>"",_2021!C14,"") | BP11: =_2021!D14 -> au | BQ11: =IF(_2021!V14<>"",_2021!E14,"") | BS11: =IF(_2021!W14<>"",_2021!C14,"") | BT11: =_2021!D14 -> au | BU11: =IF(_2021!W14<>"",_2021!E14,"") | BW11: =IF(_2021!X14<>"",_2021!C14,"") | BX11: =_2021!D14 -> au | BY11: =IF(_2021!X14<>"",_2021!E14,"") | CA11: =IF(_2021!Y14<>"",_2021!C14,"") | CB11: =_2021!D14 -> au | CC11: =IF(_2021!Y14<>"",_2021!E14,"") | CE11: =IF(_2021!Z14<>"",_2021!C14,"") | CF11: =_2021!D14 -> au | CG11: =IF(_2021!Z14<>"",_2021!E14,"") | CI11: =IF(_2021!AA14<>"",_2021!C14,"") | CJ11: =_2021!D14 -> au | CK11: =IF(_2021!AA14<>"",_2021!E14,"") | CM11: =IF(_2021!AB14<>"",_2021!C14,"") | CN11: =_2021!D14 -> au | CO11: =IF(_2021!AB14<>"",_2021!E14,"") | CQ11: =IF(_2021!AC14<>"",_2021!C14,"") | CR11: =_2021!D14 -> au | CS11: =IF(_2021!AC14<>"",_2021!E14,"") | CU11: =IF(_2021!AD14<>"",_2021!C14,"") | CV11: =_2021!D14 -> au | CW11: =IF(_2021!AD14<>"",_2021!E14,"") | CY11: =IF(_2021!AE14<>"",_2021!C14,"") | CZ11: =_2021!D14 -> au | DA11: =IF(_2021!AE14<>"",_2021!E14,"") | DC11: =IF(_2021!AF14<>"",_2021!C14,"") | DD11: =_2021!D14 -> au | DE11: =IF(_2021!AF14<>"",_2021!E14,"") | DG11: =IF(_2021!AG14<>"",_2021!C14,"") | DH11: =_2021!D14 -> au | DI11: =IF(_2021!AG14<>"",_2021!E14,"") | DK11: =IF(_2021!AH14<>"",_2021!C14,"") | DL11: =_2021!D14 -> au | DM11: =IF(_2021!AH14<>"",_2021!E14,"") | DO11: =IF(_2021!AI14<>"",_2021!C14,"") | DP11: =_2021!D14 -> au | DQ11: =IF(_2021!AI14<>"",_2021!E14,"")
A12: =_2021!Q2 -> NOM 12 Prénom 12 | B12: =_2021!Q4 -> 6 | C12: =IF(_2021!F15<>"",_2021!C15,"") | D12: =_2021!D15 -> au | E12: =IF(_2021!F15<>"",_2021!E15,"") | G12: =IF(_2021!G15<>"",_2021!C15,"") | H12: =_2021!D15 -> au | I12: =IF(_2021!G15<>"",_2021!E15,"") | K12: =IF(_2021!H15<>"",_2021!C15,"") | L12: =_2021!D15 -> au | M12: =IF(_2021!H15<>"",_2021!E15,"") | O12: =IF(_2021!I15<>"",_2021!C15,"") | P12: =_2021!D15 -> au | Q12: =IF(_2021!I15<>"",_2021!E15,"") | S12: =IF(_2021!J15<>"",_2021!C15,"") | T12: =_2021!D15 -> au | U12: =IF(_2021!J15<>"",_2021!E15,"") | W12: =IF(_2021!K15<>"",_2021!C15,"") | X12: =_2021!D15 -> au | Y12: =IF(_2021!K15<>"",_2021!E15,"") | AA12: =IF(_2021!L15<>"",_2021!C15,"") | AB12: =_2021!D15 -> au | AC12: =IF(_2021!L15<>"",_2021!E15,"") | AE12: =IF(_2021!M15<>"",_2021!C15,"") -> 44234 | AF12: =_2021!D15 -> au | AG12: =IF(_2021!M15<>"",_2021!E15,"") -> 44238 | AI12: =IF(_2021!N15<>"",_2021!C15,"") | AJ12: =_2021!D15 -> au | AK12: =IF(_2021!N15<>"",_2021!E15,"") | AM12: =IF(_2021!O15<>"",_2021!C15,"") | AN12: =_2021!D15 -> au | AO12: =IF(_2021!O15<>"",_2021!E15,"") | AQ12: =IF(_2021!P15<>"",_2021!C15,"") -> 44234 | AR12: =_2021!D15 -> au | AS12: =IF(_2021!P15<>"",_2021!E15,"") -> 44238 | AU12: =IF(_2021!Q15<>"",_2021!C15,"") | AV12: =_2021!D15 -> au | AW12: =IF(_2021!Q15<>"",_2021!E15,"") | AY12: =IF(_2021!R15<>"",_2021!C15,"") | AZ12: =_2021!D15 -> au | BA12: =IF(_2021!R15<>"",_2021!E15,"") | BC12: =IF(_2021!S15<>"",_2021!C15,"") | BD12: =_2021!D15 -> au | BE12: =IF(_2021!S15<>"",_2021!E15,"") | BG12: =IF(_2021!T15<>"",_2021!C15,"") | BH12: =_2021!D15 -> au | BI12: =IF(_2021!T15<>"",_2021!E15,"") | BK12: =IF(_2021!U15<>"",_2021!C15,"") | BL12: =_2021!D15 -> au | BM12: =IF(_2021!U15<>"",_2021!E15,"") | BO12: =IF(_2021!V15<>"",_2021!C15,"") | BP12: =_2021!D15 -> au | BQ12: =IF(_2021!V15<>"",_2021!E15,"") | BS12: =IF(_2021!W15<>"",_2021!C15,"") | BT12: =_2021!D15 -> au | BU12: =IF(_2021!W15<>"",_2021!E15,"") | BW12: =IF(_2021!X15<>"",_2021!C15,"") | BX12: =_2021!D15 -> au | BY12: =IF(_2021!X15<>"",_2021!E15,"") | CA12: =IF(_2021!Y15<>"",_2021!C15,"") | CB12: =_2021!D15 -> au | CC12: =IF(_2021!Y15<>"",_2021!E15,"") | CE12: =IF(_2021!Z15<>"",_2021!C15,"") | CF12: =_2021!D15 -> au | CG12: =IF(_2021!Z15<>"",_2021!E15,"") | CI12: =IF(_2021!AA15<>"",_2021!C15,"") | CJ12: =_2021!D15 -> au | CK12: =IF(_2021!AA15<>"",_2021!E15,"") | CM12: =IF(_2021!AB15<>"",_2021!C15,"") | CN12: =_2021!D15 -> au | CO12: =IF(_2021!AB15<>"",_2021!E15,"") | CQ12: =IF(_2021!AC15<>"",_2021!C15,"") | CR12: =_2021!D15 -> au | CS12: =IF(_2021!AC15<>"",_2021!E15,"") | CU12: =IF(_2021!AD15<>"",_2021!C15,"") | CV12: =_2021!D15 -> au | CW12: =IF(_2021!AD15<>"",_2021!E15,"") | CY12: =IF(_2021!AE15<>"",_2021!C15,"") | CZ12: =_2021!D15 -> au | DA12: =IF(_2021!AE15<>"",_2021!E15,"") | DC12: =IF(_2021!AF15<>"",_2021!C15,"") | DD12: =_2021!D15 -> au | DE12: =IF(_2021!AF15<>"",_2021!E15,"") | DG12: =IF(_2021!AG15<>"",_2021!C15,"") | DH12: =_2021!D15 -> au | DI12: =IF(_2021!AG15<>"",_2021!E15,"") | DK12: =IF(_2021!AH15<>"",_2021!C15,"") | DL12: =_2021!D15 -> au | DM12: =IF(_2021!AH15<>"",_2021!E15,"") | DO12: =IF(_2021!AI15<>"",_2021!C15,"") | DP12: =_2021!D15 -> au | DQ12: =IF(_2021!AI15<>"",_2021!E15,"")
A13: =_2021!R2 -> NOM 13 Prénom 13 | B13: =_2021!R4 -> 6 | C13: =IF(_2021!F16<>"",_2021!C16,"") | D13: =_2021!D16 -> au | E13: =IF(_2021!F16<>"",_2021!E16,"") | G13: =IF(_2021!G16<>"",_2021!C16,"") | H13: =_2021!D16 -> au | I13: =IF(_2021!G16<>"",_2021!E16,"") | K13: =IF(_2021!H16<>"",_2021!C16,"") | L13: =_2021!D16 -> au | M13: =IF(_2021!H16<>"",_2021!E16,"") | O13: =IF(_2021!I16<>"",_2021!C16,"") | P13: =_2021!D16 -> au | Q13: =IF(_2021!I16<>"",_2021!E16,"") | S13: =IF(_2021!J16<>"",_2021!C16,"") | T13: =_2021!D16 -> au | U13: =IF(_2021!J16<>"",_2021!E16,"") | W13: =IF(_2021!K16<>"",_2021!C16,"") | X13: =_2021!D16 -> au | Y13: =IF(_2021!K16<>"",_2021!E16,"") | AA13: =IF(_2021!L16<>"",_2021!C16,"") | AB13: =_2021!D16 -> au | AC13: =IF(_2021!L16<>"",_2021!E16,"") | AE13: =IF(_2021!M16<>"",_2021!C16,"") | AF13: =_2021!D16 -> au | AG13: =IF(_2021!M16<>"",_2021!E16,"") | AI13: =IF(_2021!N16<>"",_2021!C16,"") -> 44238 | AJ13: =_2021!D16 -> au | AK13: =IF(_2021!N16<>"",_2021!E16,"") -> 44241 | AM13: =IF(_2021!O16<>"",_2021!C16,"") | AN13: =_2021!D16 -> au | AO13: =IF(_2021!O16<>"",_2021!E16,"") | AQ13: =IF(_2021!P16<>"",_2021!C16,"") | AR13: =_2021!D16 -> au | AS13: =IF(_2021!P16<>"",_2021!E16,"") | AU13: =IF(_2021!Q16<>"",_2021!C16,"") -> 44238 | AV13: =_2021!D16 -> au | AW13: =IF(_2021!Q16<>"",_2021!E16,"") -> 44241 | AY13: =IF(_2021!R16<>"",_2021!C16,"") | AZ13: =_2021!D16 -> au | BA13: =IF(_2021!R16<>"",_2021!E16,"") | BC13: =IF(_2021!S16<>"",_2021!C16,"") | BD13: =_2021!D16 -> au | BE13: =IF(_2021!S16<>"",_2021!E16,"") | BG13: =IF(_2021!T16<>"",_2021!C16,"") | BH13: =_2021!D16 -> au | BI13: =IF(_2021!T16<>"",_2021!E16,"") | BK13: =IF(_2021!U16<>"",_2021!C16,"") | BL13: =_2021!D16 -> au | BM13: =IF(_2021!U16<>"",_2021!E16,"") | BO13: =IF(_2021!V16<>"",_2021!C16,"") | BP13: =_2021!D16 -> au | BQ13: =IF(_2021!V16<>"",_2021!E16,"") | BS13: =IF(_2021!W16<>"",_2021!C16,"") | BT13: =_2021!D16 -> au | BU13: =IF(_2021!W16<>"",_2021!E16,"") | BW13: =IF(_2021!X16<>"",_2021!C16,"") | BX13: =_2021!D16 -> au | BY13: =IF(_2021!X16<>"",_2021!E16,"") | CA13: =IF(_2021!Y16<>"",_2021!C16,"") | CB13: =_2021!D16 -> au | CC13: =IF(_2021!Y16<>"",_2021!E16,"") | CE13: =IF(_2021!Z16<>"",_2021!C16,"") | CF13: =_2021!D16 -> au | CG13: =IF(_2021!Z16<>"",_2021!E16,"") | CI13: =IF(_2021!AA16<>"",_2021!C16,"") | CJ13: =_2021!D16 -> au | CK13: =IF(_2021!AA16<>"",_2021!E16,"") | CM13: =IF(_2021!AB16<>"",_2021!C16,"") | CN13: =_2021!D16 -> au | CO13: =IF(_2021!AB16<>"",_2021!E16,"") | CQ13: =IF(_2021!AC16<>"",_2021!C16,"") | CR13: =_2021!D16 -> au | CS13: =IF(_2021!AC16<>"",_2021!E16,"") | CU13: =IF(_2021!AD16<>"",_2021!C16,"") | CV13: =_2021!D16 -> au | CW13: =IF(_2021!AD16<>"",_2021!E16,"") | CY13: =IF(_2021!AE16<>"",_2021!C16,"") | CZ13: =_2021!D16 -> au | DA13: =IF(_2021!AE16<>"",_2021!E16,"") | DC13: =IF(_2021!AF16<>"",_2021!C16,"") | DD13: =_2021!D16 -> au | DE13: =IF(_2021!AF16<>"",_2021!E16,"") | DG13: =IF(_2021!AG16<>"",_2021!C16,"") | DH13: =_2021!D16 -> au | DI13: =IF(_2021!AG16<>"",_2021!E16,"") | DK13: =IF(_2021!AH16<>"",_2021!C16,"") | DL13: =_2021!D16 -> au | DM13: =IF(_2021!AH16<>"",_2021!E16,"") | DO13: =IF(_2021!AI16<>"",_2021!C16,"") | DP13: =_2021!D16 -> au | DQ13: =IF(_2021!AI16<>"",_2021!E16,"")
A14: =_2021!S2 -> NOM 14 Prénom 14 | B14: =_2021!S4 -> 6 | C14: =IF(_2021!F17<>"",_2021!C17,"") | D14: =_2021!D17 -> au | E14: =IF(_2021!F17<>"",_2021!E17,"") | G14: =IF(_2021!G17<>"",_2021!C17,"") | H14: =_2021!D17 -> au | I14: =IF(_2021!G17<>"",_2021!E17,"") | K14: =IF(_2021!H17<>"",_2021!C17,"") | L14: =_2021!D17 -> au | M14: =IF(_2021!H17<>"",_2021!E17,"") | O14: =IF(_2021!I17<>"",_2021!C17,"") | P14: =_2021!D17 -> au | Q14: =IF(_2021!I17<>"",_2021!E17,"") | S14: =IF(_2021!J17<>"",_2021!C17,"") | T14: =_2021!D17 -> au | U14: =IF(_2021!J17<>"",_2021!E17,"") | W14: =IF(_2021!K17<>"",_2021!C17,"") | X14: =_2021!D17 -> au | Y14: =IF(_2021!K17<>"",_2021!E17,"") | AA14: =IF(_2021!L17<>"",_2021!C17,"") | AB14: =_2021!D17 -> au | AC14: =IF(_2021!L17<>"",_2021!E17,"") | AE14: =IF(_2021!M17<>"",_2021!C17,"") | AF14: =_2021!D17 -> au | AG14: =IF(_2021!M17<>"",_2021!E17,"") | AI14: =IF(_2021!N17<>"",_2021!C17,"") | AJ14: =_2021!D17 -> au | AK14: =IF(_2021!N17<>"",_2021!E17,"") | AM14: =IF(_2021!O17<>"",_2021!C17,"") -> 44241 | AN14: =_2021!D17 -> au | AO14: =IF(_2021!O17<>"",_2021!E17,"") -> 44245 | AQ14: =IF(_2021!P17<>"",_2021!C17,"") | AR14: =_2021!D17 -> au | AS14: =IF(_2021!P17<>"",_2021!E17,"") | AU14: =IF(_2021!Q17<>"",_2021!C17,"") | AV14: =_2021!D17 -> au | AW14: =IF(_2021!Q17<>"",_2021!E17,"") | AY14: =IF(_2021!R17<>"",_2021!C17,"") -> 44241 | AZ14: =_2021!D17 -> au | BA14: =IF(_2021!R17<>"",_2021!E17,"") -> 44245 | BC14: =IF(_2021!S17<>"",_2021!C17,"") | BD14: =_2021!D17 -> au | BE14: =IF(_2021!S17<>"",_2021!E17,"") | BG14: =IF(_2021!T17<>"",_2021!C17,"") | BH14: =_2021!D17 -> au | BI14: =IF(_2021!T17<>"",_2021!E17,"") | BK14: =IF(_2021!U17<>"",_2021!C17,"") | BL14: =_2021!D17 -> au | BM14: =IF(_2021!U17<>"",_2021!E17,"") | BO14: =IF(_2021!V17<>"",_2021!C17,"") | BP14: =_2021!D17 -> au | BQ14: =IF(_2021!V17<>"",_2021!E17,"") | BS14: =IF(_2021!W17<>"",_2021!C17,"") | BT14: =_2021!D17 -> au | BU14: =IF(_2021!W17<>"",_2021!E17,"") | BW14: =IF(_2021!X17<>"",_2021!C17,"") | BX14: =_2021!D17 -> au | BY14: =IF(_2021!X17<>"",_2021!E17,"") | CA14: =IF(_2021!Y17<>"",_2021!C17,"") | CB14: =_2021!D17 -> au | CC14: =IF(_2021!Y17<>"",_2021!E17,"") | CE14: =IF(_2021!Z17<>"",_2021!C17,"") | CF14: =_2021!D17 -> au | CG14: =IF(_2021!Z17<>"",_2021!E17,"") | CI14: =IF(_2021!AA17<>"",_2021!C17,"") | CJ14: =_2021!D17 -> au | CK14: =IF(_2021!AA17<>"",_2021!E17,"") | CM14: =IF(_2021!AB17<>"",_2021!C17,"") | CN14: =_2021!D17 -> au | CO14: =IF(_2021!AB17<>"",_2021!E17,"") | CQ14: =IF(_2021!AC17<>"",_2021!C17,"") | CR14: =_2021!D17 -> au | CS14: =IF(_2021!AC17<>"",_2021!E17,"") | CU14: =IF(_2021!AD17<>"",_2021!C17,"") | CV14: =_2021!D17 -> au | CW14: =IF(_2021!AD17<>"",_2021!E17,"") | CY14: =IF(_2021!AE17<>"",_2021!C17,"") | CZ14: =_2021!D17 -> au | DA14: =IF(_2021!AE17<>"",_2021!E17,"") | DC14: =IF(_2021!AF17<>"",_2021!C17,"") | DD14: =_2021!D17 -> au | DE14: =IF(_2021!AF17<>"",_2021!E17,"") | DG14: =IF(_2021!AG17<>"",_2021!C17,"") | DH14: =_2021!D17 -> au | DI14: =IF(_2021!AG17<>"",_2021!E17,"") | DK14: =IF(_2021!AH17<>"",_2021!C17,"") | DL14: =_2021!D17 -> au | DM14: =IF(_2021!AH17<>"",_2021!E17,"") | DO14: =IF(_2021!AI17<>"",_2021!C17,"") | DP14: =_2021!D17 -> au | DQ14: =IF(_2021!AI17<>"",_2021!E17,"")
A15: =_2021!T2 -> NOM 15 Prénom 15 | B15: =_2021!T4 -> 6 | C15: =IF(_2021!F18<>"",_2021!C18,"") | D15: =_2021!D18 -> au | E15: =IF(_2021!F18<>"",_2021!E18,"") | G15: =IF(_2021!G18<>"",_2021!C18,"") | H15: =_2021!D18 -> au | I15: =IF(_2021!G18<>"",_2021!E18,"") | K15: =IF(_2021!H18<>"",_2021!C18,"") | L15: =_2021!D18 -> au | M15: =IF(_2021!H18<>"",_2021!E18,"") | O15: =IF(_2021!I18<>"",_2021!C18,"") | P15: =_2021!D18 -> au | Q15: =IF(_2021!I18<>"",_2021!E18,"") | S15: =IF(_2021!J18<>"",_2021!C18,"") | T15: =_2021!D18 -> au | U15: =IF(_2021!J18<>"",_2021!E18,"") | W15: =IF(_2021!K18<>"",_2021!C18,"") | X15: =_2021!D18 -> au | Y15: =IF(_2021!K18<>"",_2021!E18,"") | AA15: =IF(_2021!L18<>"",_2021!C18,"") | AB15: =_2021!D18 -> au | AC15: =IF(_2021!L18<>"",_2021!E18,"") | AE15: =IF(_2021!M18<>"",_2021!C18,"") | AF15: =_2021!D18 -> au | AG15: =IF(_2021!M18<>"",_2021!E18,"") | AI15: =IF(_2021!N18<>"",_2021!C18,"") | AJ15: =_2021!D18 -> au | AK15: =IF(_2021!N18<>"",_2021!E18,"") | AM15: =IF(_2021!O18<>"",_2021!C18,"") | AN15: =_2021!D18 -> au | AO15: =IF(_2021!O18<>"",_2021!E18,"") | AQ15: =IF(_2021!P18<>"",_2021!C18,"") -> 44245 | AR15: =_2021!D18 -> au | AS15: =IF(_2021!P18<>"",_2021!E18,"") -> 44248 | AU15: =IF(_2021!Q18<>"",_2021!C18,"") | AV15: =_2021!D18 -> au | AW15: =IF(_2021!Q18<>"",_2021!E18,"") | AY15: =IF(_2021!R18<>"",_2021!C18,"") | AZ15: =_2021!D18 -> au | BA15: =IF(_2021!R18<>"",_2021!E18,"") | BC15: =IF(_2021!S18<>"",_2021!C18,"") -> 44245 | BD15: =_2021!D18 -> au | BE15: =IF(_2021!S18<>"",_2021!E18,"") -> 44248 | BG15: =IF(_2021!T18<>"",_2021!C18,"") | BH15: =_2021!D18 -> au | BI15: =IF(_2021!T18<>"",_2021!E18,"") | BK15: =IF(_2021!U18<>"",_2021!C18,"") | BL15: =_2021!D18 -> au | BM15: =IF(_2021!U18<>"",_2021!E18,"") | BO15: =IF(_2021!V18<>"",_2021!C18,"") | BP15: =_2021!D18 -> au | BQ15: =IF(_2021!V18<>"",_2021!E18,"") | BS15: =IF(_2021!W18<>"",_2021!C18,"") | BT15: =_2021!D18 -> au | BU15: =IF(_2021!W18<>"",_2021!E18,"") | BW15: =IF(_2021!X18<>"",_2021!C18,"") | BX15: =_2021!D18 -> au | BY15: =IF(_2021!X18<>"",_2021!E18,"") | CA15: =IF(_2021!Y18<>"",_2021!C18,"") | CB15: =_2021!D18 -> au | CC15: =IF(_2021!Y18<>"",_2021!E18,"") | CE15: =IF(_2021!Z18<>"",_2021!C18,"") | CF15: =_2021!D18 -> au | CG15: =IF(_2021!Z18<>"",_2021!E18,"") | CI15: =IF(_2021!AA18<>"",_2021!C18,"") | CJ15: =_2021!D18 -> au | CK15: =IF(_2021!AA18<>"",_2021!E18,"") | CM15: =IF(_2021!AB18<>"",_2021!C18,"") | CN15: =_2021!D18 -> au | CO15: =IF(_2021!AB18<>"",_2021!E18,"") | CQ15: =IF(_2021!AC18<>"",_2021!C18,"") | CR15: =_2021!D18 -> au | CS15: =IF(_2021!AC18<>"",_2021!E18,"") | CU15: =IF(_2021!AD18<>"",_2021!C18,"") | CV15: =_2021!D18 -> au | CW15: =IF(_2021!AD18<>"",_2021!E18,"") | CY15: =IF(_2021!AE18<>"",_2021!C18,"") | CZ15: =_2021!D18 -> au | DA15: =IF(_2021!AE18<>"",_2021!E18,"") | DC15: =IF(_2021!AF18<>"",_2021!C18,"") | DD15: =_2021!D18 -> au | DE15: =IF(_2021!AF18<>"",_2021!E18,"") | DG15: =IF(_2021!AG18<>"",_2021!C18,"") | DH15: =_2021!D18 -> au | DI15: =IF(_2021!AG18<>"",_2021!E18,"") | DK15: =IF(_2021!AH18<>"",_2021!C18,"") | DL15: =_2021!D18 -> au | DM15: =IF(_2021!AH18<>"",_2021!E18,"") | DO15: =IF(_2021!AI18<>"",_2021!C18,"") | DP15: =_2021!D18 -> au | DQ15: =IF(_2021!AI18<>"",_2021!E18,"")
