Workbook

Sheet liste agents
B1: NOM | C1: Prénom
A2: 1 | B2: NOM 1 | C2: Prénom 1
A3: 2 | B3: NOM 2 | C3: Prénom 2
A4: 3 | B4: NOM 3 | C4: Prénom 3
A5: 4 | B5: NOM 4 | C5: Prénom 4
A6: 5 | B6: NOM 5 | C6: Prénom 5
A7: 6 | B7: NOM 6 | C7: Prénom 6
A8: 7 | B8: NOM 7 | C8: Prénom 7
A9: 8 | B9: NOM 8 | C9: Prénom 8
A10: 9 | B10: NOM 9 | C10: Prénom 9
A11: 10 | B11: NOM 10 | C11: Prénom 10
A12: 11 | B12: NOM 11 | C12: Prénom 11
A13: 12 | B13: NOM 12 | C13: Prénom 12
... A31: 30 | B31: NOM 30 | C31: Prénom 30

Sheet _2021
F1: 1 | G1: 2 | H1: 3 | I1: 4 | J1: 5 | K1: 6 | L1: 7 | M1: 8 | N1: 9 | O1: 10 | P1: 11 | Q1: 12 | R1: 13 | S1: 14 | T1: 15 | U1: 16 | V1: 17 | W1: 18 | X1: 19 | Y1: 20 | Z1: 21 | AA1: 22 | AB1: 23 | AC1: 24 | AD1: 25 | AE1: 26
A2: 1 | B2: titulaire | F2: ='liste agents'!B2&" "&'liste agents'!C2 -> NOM 1 Prénom 1 | G2: ='liste agents'!B3&" "&'liste agents'!C3 -> NOM 2 Prénom 2 | H2: ='liste agents'!B4&" "&'liste agents'!C4 -> NOM 3 Prénom 3 | I2: ='liste agents'!B5&" "&'liste agents'!C5 -> NOM 4 Prénom 4 | J2: ='liste agents'!B6&" "&'liste agents'!C6 -> NOM 5 Prénom 5 | K2: ='liste agents'!B7&" "&'liste agents'!C7 -> NOM 6 Prénom 6 | L2: ='liste agents'!B8&" "&'liste agents'!C8 -> NOM 7 Prénom 7 | M2: ='liste agents'!B9&" "&'liste agents'!C9 -> NOM 8 Prénom 8 | N2: ='liste agents'!B10&" "&'liste agents'!C10 -> NOM 9 Prénom 9 | O2: ='liste agents'!B11&" "&'liste agents'!C11 -> NOM 10 Prénom 10 | P2: ='liste agents'!B12&" "&'liste agents'!C12 -> NOM 11 Prénom 11 | Q2: ='liste agents'!B13&" "&'liste agents'!C13 -> NOM 12 Prénom 12 | R2: ='liste agents'!B14&" "&'liste agents'!C14 -> NOM 13 Prénom 13 | S2: ='liste agents'!B15&" "&'liste agents'!C15 -> NOM 14 Prénom 14 | T2: ='liste agents'!B16&" "&'liste agents'!C16 -> NOM 15 Prénom 15 | U2: ='liste agents'!B17&" "&'liste agents'!C17 -> NOM 16 Prénom 16 | V2: ='liste agents'!B18&" "&'liste agents'!C18 -> NOM 17 Prénom 17 | W2: ='liste agents'!B19&" "&'liste agents'!C19 -> NOM 18 Prénom 18 | X2: ='liste agents'!B20&" "&'liste agents'!C20 -> NOM 19 Prénom 19 | Y2: ='liste agents'!B21&" "&'liste agents'!C21 -> NOM 20 Prénom 20 | Z2: ='liste agents'!B22&" "&'liste agents'!C22 -> NOM 21 Prénom 21 | AA2: ='liste agents'!B23&" "&'liste agents'!C23 -> NOM 22 Prénom 22 | AB2: ='liste agents'!B24&" "&'liste agents'!C24 -> NOM 23 Prénom 23 | AC2: ='liste agents'!B25&" "&'liste agents'!C25 -> NOM 24 Prénom 24 | AD2: ='liste agents'!B26&" "&'liste agents'!C26 -> NOM 25 Prénom 25 | AE2: ='liste agents'!B27&" "&'liste agents'!C27 -> NOM 26 Prénom 26 | AF2: ='liste agents'!B28&" "&'liste agents'!C28 -> NOM 27 Prénom 27 | AG2: ='liste agents'!B29&" "&'liste agents'!C29 -> NOM 28 Prénom 28 | AH2: ='liste agents'!B30&" "&'liste agents'!C30 -> NOM 29 Prénom 29 | AI2: ='liste agents'!B31&" "&'liste agents'!C31 -> NOM 30 Prénom 30
A3: 2 | B3: binôme | F3: nb de jour astreinte | G3: nb de jour astreinte | H3: nb de jour astreinte | I3: nb de jour astreinte | J3: nb de jour astreinte | K3: nb de jour astreinte | L3: nb de jour astreinte | M3: nb de jour astreinte | N3: nb de jour astreinte | O3: nb de jour astreinte | P3: nb de jour astreinte | Q3: nb de jour astreinte | R3: nb de jour astreinte | S3: nb de jour astreinte | T3: nb de jour astreinte | U3: nb de jour astreinte | V3: nb de jour astreinte | W3: nb de jour astreinte | X3: nb de jour astreinte | Y3: nb de jour astreinte | Z3: nb de jour astreinte | AA3: nb de jour astreinte | AB3: nb de jour astreinte | AC3: nb de jour astreinte | AD3: nb de jour astreinte | AE3: nb de jour astreinte | AF3: nb de jour astreinte | AG3: nb de jour astreinte | AH3: nb de jour astreinte | AI3: nb de jour astreinte
B4: DATE ASTREINTE | F4: =COUNTIF(F5:F109,"1") +COUNTIF(F5:F109,"2") -> 6 | G4: =COUNTIF(G5:G109,"1") +COUNTIF(G5:G109,"2") -> 5 | H4: =COUNTIF(H5:H109,"1") +COUNTIF(H5:H109,"2") -> 5 | I4: =COUNTIF(I5:I109,"1") +COUNTIF(I5:I109,"2") -> 6 | J4: =COUNTIF(J5:J109,"1") +COUNTIF(J5:J109,"2") -> 6 | K4: =COUNTIF(K5:K109,"1") +COUNTIF(K5:K109,"2") -> 7 | L4: =COUNTIF(L5:L109,"1") +COUNTIF(L5:L109,"2") -> 7 | M4: =COUNTIF(M5:M109,"1") +COUNTIF(M5:M109,"2") -> 7 | ... AI4: =COUNTIF(AI5:AI109,"1") +COUNTIF(AI5:AI109,"2") -> 3
A5: 1 | B5: du | C5: 44199 | D5: au | E5: 44203 | F5: 1 | K5: 2
A6: 2 | B6: du | C6: =E5 -> 44203 | D6: au | E6: =C5+7 -> 44206 | G6: 1 | L6: 2
A7: 3 | B7: du | C7: =E6 -> 44206 | D7: au | E7: =E5+7 -> 44210 | H7: 1 | M7: 2
A8: 4 | B8: du | C8: =E7 -> 44210 | D8: au | E8: =E6+7 -> 44213 | F8: 2 | I8: 1
A9: 5 | B9: du | C9: =E8 -> 44213 | D9: au | E9: =E7+7 -> 44217 | G9: 2 | J9: 1
A10: 6 | B10: du | C10: =E9 -> 44217 | D10: au | E10: =E8+7 -> 44220 | H10: 2 | K10: 1
A11: 7 | B11: du | C11: =E10 -> 44220 | D11: au | E11: =E9+7 -> 44224 | I11: 2 | L11: 1
A12: 8 | B12: du | C12: =E11 -> 44224 | D12: au | E12: =E10+7 -> 44227 | J12: 2 | M12: 1
A13: 9 | B13: du | C13: =E12 -> 44227 | D13: au | E13: =E11+7 -> 44231 | K13: 2 | N13: 1
A14: 10 | B14: du | C14: =E13 -> 44231 | D14: au | E14: =E12+7 -> 44234 | L14: 2 | O14: 1
A15: 11 | B15: du | C15: =E14 -> 44234 | D15: au | E15: =E13+7 -> 44238 | M15: 2 | P15: 1
A16: 12 | B16: du | C16: =E15 -> 44238 | D16: au | E16: =E14+7 -> 44241 | N16: 2 | Q16: 1
A17: 13 | B17: du | C17: =E16 -> 44241 | D17: au | E17: =E15+7 -> 44245 | O17: 2 | R17: 1
A18: 14 | B18: du | C18: =E17 -> 44245 | D18: au | E18: =E16+7 -> 44248 | P18: 2 | S18: 1
A19: 15 | B19: du | C19: =E18 -> 44248 | D19: au | E19: =E17+7 -> 44252 | Q19: 2 | T19: 1
A20: 16 | B20: du | C20: =E19 -> 44252 | D20: au | E20: =E18+7 -> 44255 | R20: 2 | U20: 1
A21: 17 | B21: du | C21: =E20 -> 44255 | D21: au | E21: =E19+7 -> 44259 | S21: 2 | V21: 1
A22: 18 | B22: du | C22: =E21 -> 44259 | D22: au | E22: =E20+7 -> 44262 | T22: 2 | W22: 1
A23: 19 | B23: du | C23: =E22 -> 44262 | D23: au | E23: =E21+7 -> 44266 | U23: 2 | X23: 1
A24: 20 | B24: du | C24: =E23 -> 44266 | D24: au | E24: =E22+7 -> 44269 | V24: 2 | Y24: 1
A25: 21 | B25: du | C25: =E24 -> 44269 | D25: au | E25: =E23+7 -> 44273 | W25: 2 | Z25: 1
A26: 22 | B26: du | C26: =E25 -> 44273 | D26: au | E26: =E24+7 -> 44276 | X26: 2 | AA26: 1
A27: 23 | B27: du | C27: =E26 -> 44276 | D27: au | E27: =E25+7 -> 44280 | Y27: 2 | AB27: 1
A28: 24 | B28: du | C28: =E27 -> 44280 | D28: au | E28: =E26+7 -> 44283 | Z28: 2 | AC28: 1
A29: 25 | B29: du | C29: =E28 -> 44283 | D29: au | E29: =E27+7 -> 44287 | AA29: 2 | AD29: 1
A30: 26 | B30: du | C30: =E29 -> 44287 | D30: au | E30: =E28+7 -> 44290 | AB30: 2 | AE30: 1
A31: 27 | B31: du | C31: =E30 -> 44290 | D31: au | E31: =E29+7 -> 44294 | F31: 1 | AF31: 2
A32: 28 | B32: du | C32: =E31 -> 44294 | D32: au | E32: =E30+7 -> 44297 | G32: 1 | AG32: 2
A33: 29 | B33: du | C33: =E32 -> 44297 | D33: au | E33: =E31+7 -> 44301 | H33: 1 | AH33: 2
A34: 30 | B34: du | C34: =E33 -> 44301 | D34: au | E34: =E32+7 -> 44304 | I34: 1 | AI34: 2
A35: 31 | B35: du | C35: =E34 -> 44304 | D35: au | E35: =E33+7 -> 44308 | J35: 1
A36: 32 | B36: du | C36: =E35 -> 44308 | D36: au | E36: =E34+7 -> 44311 | K36: 1
A37: 33 | B37: du | C37: =E36 -> 44311 | D37: au | E37: =E35+7 -> 44315 | L37: 1
A38: 34 | B38: du | C38: =E37 -> 44315 | D38: au | E38: =E36+7 -> 44318 | M38: 1
A39: 35 | B39: du | C39: =E38 -> 44318 | D39: au | E39: =E37+7 -> 44322 | N39: 1
A40: 36 | B40: du | C40: =E39 -> 44322 | D40: au | E40: =E38+7 -> 44325 | O40: 1
A41: 37 | B41: du | C41: =E40 -> 44325 | D41: au | E41: =E39+7 -> 44329 | P41: 1
A42: 38 | B42: du | C42: =E41 -> 44329 | D42: au | E42: =E40+7 -> 44332 | Q42: 1
A43: 39 | B43: du | C43: =E42 -> 44332 | D43: au | E43: =E41+7 -> 44336 | R43: 1
A44: 40 | B44: du | C44: =E43 -> 44336 | D44: au | E44: =E42+7 -> 44339 | S44: 1
A45: 41 | B45: du | C45: =E44 -> 44339 | D45: au | E45: =E43+7 -> 44343 | T45: 1
A46: 42 | B46: du | C46: =E45 -> 44343 | D46: au | E46: =E44+7 -> 44346 | U46: 1
A47: 43 | B47: du | C47: =E46 -> 44346 | D47: au | E47: =E45+7 -> 44350 | V47: 1
A48: 44 | B48: du | C48: =E47 -> 44350 | D48: au | E48: =E46+7 -> 44353 | W48: 1
A49: 45 | B49: du | C49: =E48 -> 44353 | D49: au | E49: =E47+7 -> 44357 | X49: 1
A50: 46 | B50: du | C50: =E49 -> 44357 | D50: au | E50: =E48+7 -> 44360 | Y50: 1
A51: 47 | B51: du | C51: =E50 -> 44360 | D51: au | E51: =E49+7 -> 44364 | Z51: 1
A52: 48 | B52: du | C52: =E51 -> 44364 | D52: au | E52: =E50+7 -> 44367 | AA52: 1
A53: 49 | B53: du | C53: =E52 -> 44367 | D53: au | E53: =E51+7 -> 44371 | AB53: 1
A54: 50 | B54: du | C54: =E53 -> 44371 | D54: au | E54: =E52+7 -> 44374 | AC54: 1
A55: 51 | B55: du | C55: =E54 -> 44374 | D55: au | E55: =E53+7 -> 44378 | AD55: 1
A56: 52 | B56: du | C56: =E55 -> 44378 | D56: au | E56: =E54+7 -> 44381 | AE56: 1
A57: 53 | B57: du | C57: =E56 -> 44381 | D57: au | E57: =E55+7 -> 44385 | F57: 1 | AF57: 2
A58: 54 | B58: du | C58: =E57 -> 44385 | D58: au | E58: =E56+7 -> 44388 | G58: 1 | AG58: 2
A59: 55 | B59: du | C59: =E58 -> 44388 | D59: au | E59: =E57+7 -> 44392 | H59: 1 | AH59: 2
A60: 56 | B60: du | C60: =E59 -> 44392 | D60: au | E60: =E58+7 -> 44395 | I60: 1 | AI60: 2
A61: 57 | B61: du | C61: =E60 -> 44395 | D61: au | E61: =E59+7 -> 44399 | I61: 2 | J61: 1
A62: 58 | B62: du | C62: =E61 -> 44399 | D62: au | E62: =E60+7 -> 44402 | J62: 2 | K62: 1
A63: 59 | B63: du | C63: =E62 -> 44402 | D63: au | E63: =E61+7 -> 44406 | K63: 2 | L63: 1
A64: 60 | B64: du | C64: =E63 -> 44406 | D64: au | E64: =E62+7 -> 44409 | L64: 2 | M64: 1
A65: 61 | B65: du | C65: =E64 -> 44409 | D65: au | E65: =E63+7 -> 44413 | M65: 2 | N65: 1
A66: 62 | B66: du | C66: =E65 -> 44413 | D66: au | E66: =E64+7 -> 44416 | N66: 2 | O66: 1
A67: 63 | B67: du | C67: =E66 -> 44416 | D67: au | E67: =E65+7 -> 44420 | O67: 2 | P67: 1
A68: 64 | B68: du | C68: =E67 -> 44420 | D68: au | E68: =E66+7 -> 44423 | P68: 2 | Q68: 1
A69: 65 | B69: du | C69: =E68 -> 44423 | D69: au | E69: =E67+7 -> 44427 | Q69: 2 | R69: 1
A70: 66 | B70: du | C70: =E69 -> 44427 | D70: au | E70: =E68+7 -> 44430 | R70: 2 | S70: 1
A71: 67 | B71: du | C71: =E70 -> 44430 | D71: au | E71: =E69+7 -> 44434 | S71: 2 | T71: 1
A72: 68 | B72: du | C72: =E71 -> 44434 | D72: au | E72: =E70+7 -> 44437 | T72: 2 | U72: 1
A73: 69 | B73: du | C73: =E72 -> 44437 | D73: au | E73: =E71+7 -> 44441 | U73: 2 | V73: 1
A74: 70 | B74: du | C74: =E73 -> 44441 | D74: au | E74: =E72+7 -> 44444 | V74: 2 | W74: 1
A75: 71 | B75: du | C75: =E74 -> 44444 | D75: au | E75: =E73+7 -> 44448 | W75: 2 | X75: 1
A76: 72 | B76: du | C76: =E75 -> 44448 | D76: au | E76: =E74+7 -> 44451 | X76: 2 | Y76: 1
A77: 73 | B77: du | C77: =E76 -> 44451 | D77: au | E77: =E75+7 -> 44455 | Y77: 2 | Z77: 1
A78: 74 | B78: du | C78: =E77 -> 44455 | D78: au | E78: =E76+7 -> 44458 | Z78: 2 | AA78: 1
A79: 75 | B79: du | C79: =E78 -> 44458 | D79: au | E79: =E77+7 -> 44462 | AA79: 2 | AB79: 1
A80: 76 | B80: du | C80: =E79 -> 44462 | D80: au | E80: =E78+7 -> 44465 | AB80: 2 | AC80: 1
A81: 77 | B81: du | C81: =E80 -> 44465 | D81: au | E81: =E79+7 -> 44469 | AC81: 2 | AD81: 1
A82: 78 | B82: du | C82: =E81 -> 44469 | D82: au | E82: =E80+7 -> 44472 | F82: 2 | AE82: 1
A83: 79 | B83: du | C83: =E82 -> 44472 | D83: au | E83: =E81+7 -> 44476 | F83: 1 | AF83: 2
A84: 80 | B84: du | C84: =E83 -> 44476 | D84: au | E84: =E82+7 -> 44479 | G84: 1 | AG84: 2
A85: 81 | B85: du | C85: =E84 -> 44479 | D85: au | E85: =E83+7 -> 44483 | H85: 1 | AH85: 2
A86: 82 | B86: du | C86: =E85 -> 44483 | D86: au | E86: =E84+7 -> 44486 | I86: 1 | AI86: 2
A87: 83 | B87: du | C87: =E86 -> 44486 | D87: au | E87: =E85+7 -> 44490 | J87: 1
A88: 84 | B88: du | C88: =E87 -> 44490 | D88: au | E88: =E86+7 -> 44493 | K88: 1
A89: 85 | B89: du | C89: =E88 -> 44493 | D89: au | E89: =E87+7 -> 44497 | L89: 1
A90: 86 | B90: du | C90: =E89 -> 44497 | D90: au | E90: =E88+7 -> 44500 | M90: 1
A91: 87 | B91: du | C91: =E90 -> 44500 | D91: au | E91: =E89+7 -> 44504 | N91: 1
A92: 88 | B92: du | C92: =E91 -> 44504 | D92: au | E92: =E90+7 -> 44507 | O92: 1
A93: 89 | B93: du | C93: =E92 -> 44507 | D93: au | E93: =E91+7 -> 44511 | P93: 1
A94: 90 | B94: du | C94: =E93 -> 44511 | D94: au | E94: =E92+7 -> 44514 | Q94: 1
A95: 91 | B95: du | C95: =E94 -> 44514 | D95: au | E95: =E93+7 -> 44518 | R95: 1
A96: 92 | B96: du | C96: =E95 -> 44518 | D96: au | E96: =E94+7 -> 44521 | S96: 1
A97: 93 | B97: du | C97: =E96 -> 44521 | D97: au | E97: =E95+7 -> 44525 | T97: 1
A98: 94 | B98: du | C98: =E97 -> 44525 | D98: au | E98: =E96+7 -> 44528 | U98: 1
A99: 95 | B99: du | C99: =E98 -> 44528 | D99: au | E99: =E97+7 -> 44532 | V99: 1
A100: 96 | B100: du | C100: =E99 -> 44532 | D100: au | E100: =E98+7 -> 44535 | W100: 1
...

Sheet par_date
B1: ASTREINTE | F1: NOM astreinte 1 | G1: NOM astreinte 2
A2: =_2021!A5 -> 1 | B2: =_2021!B5 -> du | C2: =_2021!C5 -> 44199 | D2: =_2021!D5 -> au | E2: =_2021!E5 -> 44203 | F2: =INDEX( _2021!$F$2:$AI$2 , MATCH(1,_2021!$F5:$AI5)) -> NOM 1 Prénom 1 | G2: =IF(SUM(_2021!$F5:$AI5)=1,"",INDEX(_2021!$F$2:$AI$2,MATCH("2",_2021!$F5:$AI5,0))) -> NOM 6 Prénom 6
A3: =_2021!A6 -> 2 | B3: =_2021!B6 -> du | C3: =_2021!C6 -> 44203 | D3: =_2021!D6 -> au | E3: =_2021!E6 -> 44206 | F3: =INDEX( _2021!$F$2:$AI$2 , MATCH(1,_2021!$F6:$AI6)) -> NOM 2 Prénom 2 | G3: =IF(SUM(_2021!$F6:$AI6)=1,"",INDEX(_2021!$F$2:$AI$2,MATCH("2",_2021!$F6:$AI6,0))) -> NOM 7 Prénom 7
A4: =_2021!A7 -> 3 | B4: =_2021!B7 -> du | C4: =_2021!C7 -> 44206 | D4: =_2021!D7 -> au | E4: =_2021!E7 -> 44210 | F4: =INDEX( _2021!$F$2:$AI$2 , MATCH(1,_2021!$F7:$AI7)) -> NOM 3 Prénom 3 | G4: =IF(SUM(_2021!$F7:$AI7)=1,"",INDEX(_2021!$F$2:$AI$2,MATCH("2",_2021!$F7:$AI7,0))) -> NOM 8 Prénom 8
A5: =_2021!A8 -> 4 | B5: =_2021!B8 -> du | C5: =_2021!C8 -> 44210 | D5: =_2021!D8 -> au | E5: =_2021!E8 -> 44213 | F5: =INDEX( _2021!$F$2:$AI$2 , MATCH(1,_2021!$F8:$AI8)) -> #N/A | G5: =IF(SUM(_2021!$F8:$AI8)=1,"",INDEX(_2021!$F$2:$AI$2,MATCH("2",_2021!$F8:$AI8,0))) -> NOM 1 Prénom 1
A6: =_2021!A9 -> 5 | B6: =_2021!B9 -> du | C6: =_2021!C9 -> 44213 | D6: =_2021!D9 -> au | E6: =_2021!E9 -> 44217 | F6: =INDEX( _2021!$F$2:$AI$2 , MATCH(1,_2021!$F9:$AI9)) -> #N/A | G6: =IF(SUM(_2021!$F9:$AI9)=1,"",INDEX(_2021!$F$2:$AI$2,MATCH("2",_2021!$F9:$AI9,0))) -> NOM 2 Prénom 2
A7: =_2021!A10 -> 6 | B7: =_2021!B10 -> du | C7: =_2021!C10 -> 44217 | D7: =_2021!D10 -> au | E7: =_2021!E10 -> 44220 | F7: =INDEX( _2021!$F$2:$AI$2 , MATCH(1,_2021!$F10:$AI10)) -> #N/A | G7: =IF(SUM(_2021!$F10:$AI10)=1,"",INDEX(_2021!$F$2:$AI$2,MATCH("2",_2021!$F10:$AI10,0))) -> NOM 3 Prénom 3
A8: =_2021!A11 -> 7 | B8: =_2021!B11 -> du | C8: =_2021!C11 -> 44220 | D8: =_2021!D11 -> au | E8: =_2021!E11 -> 44224 | F8: =INDEX( _2021!$F$2:$AI$2 , MATCH(1,_2021!$F11:$AI11)) -> #N/A | G8: =IF(SUM(_2021!$F11:$AI11)=1,"",INDEX(_2021!$F$2:$AI$2,MATCH("2",_2021!$F11:$AI11,0))) -> NOM 4 Prénom 4
A9: =_2021!A12 -> 8 | B9: =_2021!B12 -> du | C9: =_2021!C12 -> 44224 | D9: =_2021!D12 -> au | E9: =_2021!E12 -> 44227 | F9: =INDEX( _2021!$F$2:$AI$2 , MATCH(1,_2021!$F12:$AI12)) -> #N/A | G9: =IF(SUM(_2021!$F12:$AI12)=1,"",INDEX(_2021!$F$2:$AI$2,MATCH("2",_2021!$F12:$AI12,0))) -> NOM 5 Prénom 5
A10: =_2021!A13 -> 9 | B10: =_2021!B13 -> du | C10: =_2021!C13 -> 44227 | D10: =_2021!D13 -> au | E10: =_2021!E13 -> 44231 | F10: =INDEX( _2021!$F$2:$AI$2 , MATCH(1,_2021!$F13:$AI13)) -> #N/A | G10: =IF(SUM(_2021!$F13:$AI13)=1,"",INDEX(_2021!$F$2:$AI$2,MATCH("2",_2021!$F13:$AI13,0))) -> NOM 6 Prénom 6
A11: =_2021!A14 -> 10 | B11: =_2021!B14 -> du | C11: =_2021!C14 -> 44231 | D11: =_2021!D14 -> au | E11: =_2021!E14 -> 44234 | F11: =INDEX( _2021!$F$2:$AI$2 , MATCH(1,_2021!$F14:$AI14)) -> #N/A | G11: =IF(SUM(_2021!$F14:$AI14)=1,"",INDEX(_2021!$F$2:$AI$2,MATCH("2",_2021!$F14:$AI14,0))) -> NOM 7 Prénom 7
A12: =_2021!A15 -> 11 | B12: =_2021!B15 -> du | C12: =_2021!C15 -> 44234 | D12: =_2021!D15 -> au | E12: =_2021!E15 -> 44238 | F12: =INDEX( _2021!$F$2:$AI$2 , MATCH(1,_2021!$F15:$AI15)) -> #N/A | G12: =IF(SUM(_2021!$F15:$AI15)=1,"",INDEX(_2021!$F$2:$AI$2,MATCH("2",_2021!$F15:$AI15,0))) -> NOM 8 Prénom 8
A13: =_2021!A16 -> 12 | B13: =_2021!B16 -> du | C13: =_2021!C16 -> 44238 | D13: =_2021!D16 -> au | E13: =_2021!E16 -> 44241 | F13: =INDEX( _2021!$F$2:$AI$2 , MATCH(1,_2021!$F16:$AI16)) -> #N/A | G13: =IF(SUM(_2021!$F16:$AI16)=1,"",INDEX(_2021!$F$2:$AI$2,MATCH("2",_2021!$F16:$AI16,0))) -> NOM 9 Prénom 9
... A106: =_2021!A109 -> 105 | B106: =_2021!B109 -> du | C106: =_2021!C109 -> 44563 | D106: =_2021!D109 -> au | E106: =_2021!E109 -> 44567 | F106: =INDEX( _2021!$F$2:$AI$2 , MATCH(1,_2021!$F109:$AI109)) -> #N/A | G106: =IF(SUM(_2021!$F109:$AI109)=1,"",INDEX(_2021!$F$2:$AI$2,MATCH("2",_2021!$F109:$AI109,0))) -> #N/A

Sheet par nom
A1: =_2021!F2 -> NOM 1 Prénom 1 | B1: =_2021!F4 -> 6 | C1: =IF(COLUMNS($A$1:A1)<$B$1+1,OFFSET($A$1,0,0),"") -> NOM 1 Prénom 1 | G1: =IF(COLUMNS($A2:A$2)<$B$2+1,OFFSET($A$2,0,0),"") -> NOM 2 Prénom 2 | K1: =IF(COLUMNS($A3:A$3)<$B$3+1,OFFSET($A$3,0,0),"") -> NOM 3 Prénom 3 | O1: =IF(COLUMNS($A4:A$4)<$B$4+1,OFFSET($A$4,0,0),"") -> NOM 4 Prénom 4 | S1: =IF(COLUMNS($A5:A$5)<$B$5+1,OFFSET($A$5,0,0),"") -> NOM 5 Prénom 5 | W1: =IF(COLUMNS($A6:A$6)<$B$6+1,OFFSET($A$6,0,0),"") -> NOM 6 Prénom 6 | AA1: =IF(COLUMNS($A7:A$7)<$B$7+1,OFFSET($A$7,0,0),"") -> NOM 7 Prénom 7 | AE1: =IF(COLUMNS($A8:A$8)<$B$8+1,OFFSET($A$8,0,0),"") -> NOM 8 Prénom 8 | AI1: =IF(COLUMNS($A9:A$9)<$B$9+1,OFFSET($A$9,0,0),"") -> NOM 9 Prénom 9 | AM1: =IF(COLUMNS($A10:A$10)<$B$10+1,OFFSET($A$10,0,0),"") -> NOM 10 Prénom 10 | AQ1: =IF(COLUMNS($A11:A$11)<$B$11+1,OFFSET($A$11,0,0),"") -> NOM 11 Prénom 11 | AU1: =IF(COLUMNS($A12:A$12)<$B$12+1,OFFSET($A$12,0,0),"") -> NOM 12 Prénom 12 | AY1: =IF(COLUMNS($A$13:A$13)<$B$13+1,OFFSET($A$13,0,0),"") -> NOM 13 Prénom 13 | BC1: =IF(COLUMNS($A$14:A$14)<$B$14+1,OFFSET($A$14,0,0),"") -> NOM 14 Prénom 14 | BG1: =IF(COLUMNS($A$15:A$15)<$B$15+1,OFFSET($A$15,0,0),"") -> NOM 15 Prénom 15 | BK1: =IF(COLUMNS($A$16:A$16)<$B$16+1,OFFSET($A$16,0,0),"") -> NOM 16 Prénom 16 | BO1: =IF(COLUMNS($A$17:A$17)<$B$17+1,OFFSET($A$17,0,0),"") -> NOM 17 Prénom 17 | BS1: =IF(COLUMNS($A$18:A$18)<$B$18+1,OFFSET($A$18,0,0),"") -> NOM 18 Prénom 18 | BW1: =IF(COLUMNS($A$19:A$19)<$B$19+1,OFFSET($A$19,0,0),"") -> NOM 19 Prénom 19 | CA1: =IF(COLUMNS($A$20:A$20)<$B$20+1,OFFSET($A$20,0,0),"") -> NOM 20 Prénom 20 | CE1: =IF(COLUMNS($A$21:A$21)<$B$21+1,OFFSET($A$21,0,0),"") -> NOM 21 Prénom 21 | CI1: =IF(COLUMNS($A$22:A$22)<$B$22+1,OFFSET($A$22,0,0),"") -> NOM 22 Prénom 22 | CM1: =IF(COLUMNS($A$23:A$23)<$B$23+1,OFFSET($A$23,0,0),"") -> NOM 23 Prénom 23 | CQ1: =IF(COLUMNS($A$24:A$24)<$B$24+1,OFFSET($A$24,0,0),"") -> NOM 24 Prénom 24 | CU1: =IF(COLUMNS($A$25:A$25)<$B$25+1,OFFSET($A$25,0,0),"") -> NOM 25 Prénom 25 | CY1: =IF(COLUMNS($A$26:A$26)<$B$26+1,OFFSET($A$26,0,0),"") -> NOM 26 Prénom 26 | DC1: =IF(COLUMNS($A$27:A$27)<$B$27+1,OFFSET($A$27,0,0),"") -> NOM 27 Prénom 27 | DG1: =IF(COLUMNS($A$28:A$28)<$B$28+1,OFFSET($A$28,0,0),"") -> NOM 28 Prénom 28 | DK1: =IF(COLUMNS($A$29:A$29)<$B$29+1,OFFSET($A$29,0,0),"") -> NOM 29 Prénom 29 | DO1: =IF(COLUMNS($A$30:A$30)<$B$30+1,OFFSET($A$30,0,0),"") -> NOM 30 Prénom 30
A2: =_2021!G2 -> NOM 2 Prénom 2 | B2: =_2021!G4 -> 5 | C2: =IF(_2021!F5<>"",_2021!C5,"") -> 44199 | D2: =_2021!D5 -> au | E2: =IF(_2021!F5<>"",_2021!E5,"") -> 44203 | G2: =IF(_2021!G5<>"",_2021!C5,"") | H2: =_2021!D5 -> au | I2: =IF(_2021!G5<>"",_2021!E5,"") | K2: =IF(_2021!H5<>"",_2021!C5,"") | L2: =_2021!D5 -> au | M2: =IF(_2021!H5<>"",_2021!E5,"") | O2: =IF(_2021!I5<>"",_2021!C5,"") | P2: =_2021!D5 -> au | Q2: =IF(_2021!I5<>"",_2021!E5,"") | S2: =IF(_2021!J5<>"",_2021!C5,"") | T2: =_2021!D5 -> au | U2: =IF(_2021!J5<>"",_2021!E5,"") | W2: =IF(_2021!K5<>"",_2021!C5,"") -> 44199 | X2: =_2021!D5 -> au | Y2: =IF(_2021!K5<>"",_2021!E5,"") -> 44203 | AA2: =IF(_2021!L5<>"",_2021!C5,"") | AB2: =_2021!D5 -> au | AC2: =IF(_2021!L5<>"",_2021!E5,"") | AE2: =IF(_2021!M5<>"",_2021!C5,"") | AF2: =_2021!D5 -> au | AG2: =IF(_2021!M5<>"",_2021!E5,"") | AI2: =IF(_2021!N5<>"",_2021!C5,"") | AJ2: =_2021!D5 -> au | AK2: =IF(_2021!N5<>"",_2021!E5,"") | AM2: =IF(_2021!O5<>"",_2021!C5,"") | AN2: =_2021!D5 -> au | AO2: =IF(_2021!O5<>"",_2021!E5,"") | AQ2: =IF(_2021!P5<>"",_2021!C5,"") | AR2: =_2021!D5 -> au | AS2: =IF(_2021!P5<>"",_2021!E5,"") | AU2: =IF(_2021!Q5<>"",_2021!C5,"") | AV2: =_2021!D5 -> au | AW2: =IF(_2021!Q5<>"",_2021!E5,"") | AY2: =IF(_2021!R5<>"",_2021!C5,"") | AZ2: =_2021!D5 -> au | BA2: =IF(_2021!R5<>"",_2021!E5,"") | BC2: =IF(_2021!S5<>"",_2021!C5,"") | BD2: =_2021!D5 -> au | BE2: =IF(_2021!S5<>"",_2021!E5,"") | BG2: =IF(_2021!T5<>"",_2021!C5,"") | BH2: =_2021!D5 -> au | BI2: =IF(_2021!T5<>"",_2021!E5,"") | BK2: =IF(_2021!U5<>"",_2021!C5,"") | BL2: =_2021!D5 -> au | BM2: =IF(_2021!U5<>"",_2021!E5,"") | BO2: =IF(_2021!V5<>"",_2021!C5,"") | BP2: =_2021!D5 -> au | BQ2: =IF(_2021!V5<>"",_2021!E5,"") | BS2: =IF(_2021!W5<>"",_2021!C5,"") | BT2: =_2021!D5 -> au | BU2: =IF(_2021!W5<>"",_2021!E5,"") | BW2: =IF(_2021!X5<>"",_2021!C5,"") | BX2: =_2021!D5 -> au | BY2: =IF(_2021!X5<>"",_2021!E5,"") | CA2: =IF(_2021!Y5<>"",_2021!C5,"") | CB2: =_2021!D5 -> au | CC2: =IF(_2021!Y5<>"",_2021!E5,"") | CE2: =IF(_2021!Z5<>"",_2021!C5,"") | CF2: =_2021!D5 -> au | CG2: =IF(_2021!Z5<>"",_2021!E5,"") | CI2: =IF(_2021!AA5<>"",_2021!C5,"") | CJ2: =_2021!D5 -> au | CK2: =IF(_2021!AA5<>"",_2021!E5,"") | CM2: =IF(_2021!AB5<>"",_2021!C5,"") | CN2: =_2021!D5 -> au | CO2: =IF(_2021!AB5<>"",_2021!E5,"") | CQ2: =IF(_2021!AC5<>"",_2021!C5,"") | CR2: =_2021!D5 -> au | CS2: =IF(_2021!AC5<>"",_2021!E5,"") | CU2: =IF(_2021!AD5<>"",_2021!C5,"") | CV2: =_2021!D5 -> au | CW2: =IF(_2021!AD5<>"",_2021!E5,"") | CY2: =IF(_2021!AE5<>"",_2021!C5,"") | CZ2: =_2021!D5 -> au | DA2: =IF(_2021!AE5<>"",_2021!E5,"") | DC2: =IF(_2021!AF5<>"",_2021!C5,"") | DD2: =_2021!D5 -> au | DE2: =IF(_2021!AF5<>"",_2021!E5,"") | DG2: =IF(_2021!AG5<>"",_2021!C5,"") | DH2: =_2021!D5 -> au | DI2: =IF(_2021!AG5<>"",_2021!E5,"") | DK2: =IF(_2021!AH5<>"",_2021!C5,"") | DL2: =_2021!D5 -> au | DM2: =IF(_2021!AH5<>"",_2021!E5,"") | DO2: =IF(_2021!AI5<>"",_2021!C5,"") | DP2: =_2021!D5 -> au | DQ2: =IF(_2021!AI5<>"",_2021!E5,"")
A3: =_2021!H2 -> NOM 3 Prénom 3 | B3: =_2021!H4 -> 5 | C3: =IF(_2021!F6<>"",_2021!C6,"") | D3: =_2021!D6 -> au | E3: =IF(_2021!F6<>"",_2021!E6,"") | G3: =IF(_2021!G6<>"",_2021!C6,"") -> 44203 | H3: =_2021!D6 -> au | I3: =IF(_2021!G6<>"",_2021!E6,"") -> 44206 | K3: =IF(_2021!H6<>"",_2021!C6,"") | L3: =_2021!D6 -> au | M3: =IF(_2021!H6<>"",_2021!E6,"") | O3: =IF(_2021!I6<>"",_2021!C6,"") | P3: =_2021!D6 -> au | Q3: =IF(_2021!I6<>"",_2021!E6,"") | S3: =IF(_2021!J6<>"",_2021!C6,"") | T3: =_2021!D6 -> au | U3: =IF(_2021!J6<>"",_2021!E6,"") | W3: =IF(_2021!K6<>"",_2021!C6,"") | X3: =_2021!D6 -> au | Y3: =IF(_2021!K6<>"",_2021!E6,"") | AA3: =IF(_2021!L6<>"",_2021!C6,"") -> 44203 | AB3: =_2021!D6 -> au | AC3: =IF(_2021!L6<>"",_2021!E6,"") -> 44206 | AE3: =IF(_2021!M6<>"",_2021!C6,"") | AF3: =_2021!D6 -> au | AG3: =IF(_2021!M6<>"",_2021!E6,"") | AI3: =IF(_2021!N6<>"",_2021!C6,"") | AJ3: =_2021!D6 -> au | AK3: =IF(_2021!N6<>"",_2021!E6,"") | AM3: =IF(_2021!O6<>"",_2021!C6,"") | AN3: =_2021!D6 -> au | AO3: =IF(_2021!O6<>"",_2021!E6,"") | AQ3: =IF(_2021!P6<>"",_2021!C6,"") | AR3: =_2021!D6 -> au | AS3: =IF(_2021!P6<>"",_2021!E6,"") | AU3: =IF(_2021!Q6<>"",_2021!C6,"") | AV3: =_2021!D6 -> au | AW3: =IF(_2021!Q6<>"",_2021!E6,"") | AY3: =IF(_2021!R6<>"",_2021!C6,"") | AZ3: =_2021!D6 -> au | BA3: =IF(_2021!R6<>"",_2021!E6,"") | BC3: =IF(_2021!S6<>"",_2021!C6,"") | BD3: =_2021!D6 -> au | BE3: =IF(_2021!S6<>"",_2021!E6,"") | BG3: =IF(_2021!T6<>"",_2021!C6,"") | BH3: =_2021!D6 -> au | BI3: =IF(_2021!T6<>"",_2021!E6,"") | BK3: =IF(_2021!U6<>"",_2021!C6,"") | BL3: =_2021!D6 -> au | BM3: =IF(_2021!U6<>"",_2021!E6,"") | BO3: =IF(_2021!V6<>"",_2021!C6,"") | BP3: =_2021!D6 -> au | BQ3: =IF(_2021!V6<>"",_2021!E6,"") | BS3: =IF(_2021!W6<>"",_2021!C6,"") | BT3: =_2021!D6 -> au | BU3: =IF(_2021!W6<>"",_2021!E6,"") | BW3: =IF(_2021!X6<>"",_2021!C6,"") | BX3: =_2021!D6 -> au | BY3: =IF(_2021!X6<>"",_2021!E6,"") | CA3: =IF(_2021!Y6<>"",_2021!C6,"") | CB3: =_2021!D6 -> au | CC3: =IF(_2021!Y6<>"",_2021!E6,"") | CE3: =IF(_2021!Z6<>"",_2021!C6,"") | CF3: =_2021!D6 -> au | CG3: =IF(_2021!Z6<>"",_2021!E6,"") | CI3: =IF(_2021!AA6<>"",_2021!C6,"") | CJ3: =_2021!D6 -> au | CK3: =IF(_2021!AA6<>"",_2021!E6,"") | CM3: =IF(_2021!AB6<>"",_2021!C6,"") | CN3: =_2021!D6 -> au | CO3: =IF(_2021!AB6<>"",_2021!E6,"") | CQ3: =IF(_2021!AC6<>"",_2021!C6,"") | CR3: =_2021!D6 -> au | CS3: =IF(_2021!AC6<>"",_2021!E6,"") | CU3: =IF(_2021!AD6<>"",_2021!C6,"") | CV3: =_2021!D6 -> au | CW3: =IF(_2021!AD6<>"",_2021!E6,"") | CY3: =IF(_2021!AE6<>"",_2021!C6,"") | CZ3: =_2021!D6 -> au | DA3: =IF(_2021!AE6<>"",_2021!E6,"") | DC3: =IF(_2021!AF6<>"",_2021!C6,"") | DD3: =_2021!D6 -> au | DE3: =IF(_2021!AF6<>"",_2021!E6,"") | DG3: =IF(_2021!AG6<>"",_2021!C6,"") | DH3: =_2021!D6 -> au | DI3: =IF(_2021!AG6<>"",_2021!E6,"") | DK3: =IF(_2021!AH6<>"",_2021!C6,"") | DL3: =_2021!D6 -> au | DM3: =IF(_2021!AH6<>"",_2021!E6,"") | DO3: =IF(_2021!AI6<>"",_2021!C6,"") | DP3: =_2021!D6 -> au | DQ3: =IF(_2021!AI6<>"",_2021!E6,"")
A4: =_2021!I2 -> NOM 4 Prénom 4 | B4: =_2021!I4 -> 6 | C4: =IF(_2021!F7<>"",_2021!C7,"") | D4: =_2021!D7 -> au | E4: =IF(_2021!F7<>"",_2021!E7,"") | G4: =IF(_2021!G7<>"",_2021!C7,"") | H4: =_2021!D7 -> au | I4: =IF(_2021!G7<>"",_2021!E7,"") | K4: =IF(_2021!H7<>"",_2021!C7,"") -> 44206 | L4: =_2021!D7 -> au | M4: =IF(_2021!H7<>"",_2021!E7,"") -> 44210 | O4: =IF(_2021!I7<>"",_2021!C7,"") | P4: =_2021!D7 -> au | Q4: =IF(_2021!I7<>"",_2021!E7,"") | S4: =IF(_2021!J7<>"",_2021!C7,"") | T4: =_2021!D7 -> au | U4: =IF(_2021!J7<>"",_2021!E7,"") | W4: =IF(_2021!K7<>"",_2021!C7,"") | X4: =_2021!D7 -> au | Y4: =IF(_2021!K7<>"",_2021!E7,"") | AA4: =IF(_2021!L7<>"",_2021!C7,"") | AB4: =_2021!D7 -> au | AC4: =IF(_2021!L7<>"",_2021!E7,"") | AE4: =IF(_2021!M7<>"",_2021!C7,"") -> 44206 | AF4: =_2021!D7 -> au | AG4: =IF(_2021!M7<>"",_2021!E7,"") -> 44210 | AI4: =IF(_2021!N7<>"",_2021!C7,"") | AJ4: =_2021!D7 -> au | AK4: =IF(_2021!N7<>"",_2021!E7,"") | AM4: =IF(_2021!O7<>"",_2021!C7,"") | AN4: =_2021!D7 -> au | AO4: =IF(_2021!O7<>"",_2021!E7,"") | AQ4: =IF(_2021!P7<>"",_2021!C7,"") | AR4: =_2021!D7 -> au | AS4: =IF(_2021!P7<>"",_2021!E7,"") | AU4: =IF(_2021!Q7<>"",_2021!C7,"") | AV4: =_2021!D7 -> au | AW4: =IF(_2021!Q7<>"",_2021!E7,"") | AY4: =IF(_2021!R7<>"",_2021!C7,"") | AZ4: =_2021!D7 -> au | BA4: =IF(_2021!R7<>"",_2021!E7,"") | BC4: =IF(_2021!S7<>"",_2021!C7,"") | BD4: =_2021!D7 -> au | BE4: =IF(_2021!S7<>"",_2021!E7,"") | BG4: =IF(_2021!T7<>"",_2021!C7,"") | BH4: =_2021!D7 -> au | BI4: =IF(_2021!T7<>"",_2021!E7,"") | BK4: =IF(_2021!U7<>"",_2021!C7,"") | BL4: =_2021!D7 -> au | BM4: =IF(_2021!U7<>"",_2021!E7,"") | BO4: =IF(_2021!V7<>"",_2021!C7,"") | BP4: =_2021!D7 -> au | BQ4: =IF(_2021!V7<>"",_2021!E7,"") | BS4: =IF(_2021!W7<>"",_2021!C7,"") | BT4: =_2021!D7 -> au | BU4: =IF(_2021!W7<>"",_2021!E7,"") | BW4: =IF(_2021!X7<>"",_2021!C7,"") | BX4: =_2021!D7 -> au | BY4: =IF(_2021!X7<>"",_2021!E7,"") | CA4: =IF(_2021!Y7<>"",_2021!C7,"") | CB4: =_2021!D7 -> au | CC4: =IF(_2021!Y7<>"",_2021!E7,"") | CE4: =IF(_2021!Z7<>"",_2021!C7,"") | CF4: =_2021!D7 -> au | CG4: =IF(_2021!Z7<>"",_2021!E7,"") | CI4: =IF(_2021!AA7<>"",_2021!C7,"") | CJ4: =_2021!D7 -> au | CK4: =IF(_2021!AA7<>"",_2021!E7,"") | CM4: =IF(_2021!AB7<>"",_2021!C7,"") | CN4: =_2021!D7 -> au | CO4: =IF(_2021!AB7<>"",_2021!E7,"") | CQ4: =IF(_2021!AC7<>"",_2021!C7,"") | CR4: =_2021!D7 -> au | CS4: =IF(_2021!AC7<>"",_2021!E7,"") | CU4: =IF(_2021!AD7<>"",_2021!C7,"") | CV4: =_2021!D7 -> au | CW4: =IF(_2021!AD7<>"",_2021!E7,"") | CY4: =IF(_2021!AE7<>"",_2021!C7,"") | CZ4: =_2021!D7 -> au | DA4: =IF(_2021!AE7<>"",_2021!E7,"") | DC4: =IF(_2021!AF7<>"",_2021!C7,"") | DD4: =_2021!D7 -> au | DE4: =IF(_2021!AF7<>"",_2021!E7,"") | DG4: =IF(_2021!AG7<>"",_2021!C7,"") | DH4: =_2021!D7 -> au | DI4: =IF(_2021!AG7<>"",_2021!E7,"") | DK4: =IF(_2021!AH7<>"",_2021!C7,"") | DL4: =_2021!D7 -> au | DM4: =IF(_2021!AH7<>"",_2021!E7,"") | DO4: =IF(_2021!AI7<>"",_2021!C7,"") | DP4: =_2021!D7 -> au | DQ4: =IF(_2021!AI7<>"",_2021!E7,"")
A5: =_2021!J2 -> NOM 5 Prénom 5 | B5: =_2021!J4 -> 6 | C5: =IF(_2021!F8<>"",_2021!C8,"") -> 44210 | D5: =_2021!D8 -> au | E5: =IF(_2021!F8<>"",_2021!E8,"") -> 44213 | G5: =IF(_2021!G8<>"",_2021!C8,"") | H5: =_2021!D8 -> au | I5: =IF(_2021!G8<>"",_2021!E8,"") | K5: =IF(_2021!H8<>"",_2021!C8,"") | L5: =_2021!D8 -> au | M5: =IF(_2021!H8<>"",_2021!E8,"") | O5: =IF(_2021!I8<>"",_2021!C8,"") -> 44210 | P5: =_2021!D8 -> au | Q5: =IF(_2021!I8<>"",_2021!E8,"") -> 44213 | S5: =IF(_2021!J8<>"",_2021!C8,"") | T5: =_2021!D8 -> au | U5: =IF(_2021!J8<>"",_2021!E8,"") | W5: =IF(_2021!K8<>"",_2021!C8,"") | X5: =_2021!D8 -> au | Y5: =IF(_2021!K8<>"",_2021!E8,"") | AA5: =IF(_2021!L8<>"",_2021!C8,"") | AB5: =_2021!D8 -> au | AC5: =IF(_2021!L8<>"",_2021!E8,"") | AE5: =IF(_2021!M8<>"",_2021!C8,"") | AF5: =_2021!D8 -> au | AG5: =IF(_2021!M8<>"",_2021!E8,"") | AI5: =IF(_2021!N8<>"",_2021!C8,"") | AJ5: =_2021!D8 -> au | AK5: =IF(_2021!N8<>"",_2021!E8,"") | AM5: =IF(_2021!O8<>"",_2021!C8,"") | AN5: =_2021!D8 -> au | AO5: =IF(_2021!O8<>"",_2021!E8,"") | AQ5: =IF(_2021!P8<>"",_2021!C8,"") | AR5: =_2021!D8 -> au | AS5: =IF(_2021!P8<>"",_2021!E8,"") | AU5: =IF(_2021!Q8<>"",_2021!C8,"") | AV5: =_2021!D8 -> au | AW5: =IF(_2021!Q8<>"",_2021!E8,"") | AY5: =IF(_2021!R8<>"",_2021!C8,"") | AZ5: =_2021!D8 -> au | BA5: =IF(_2021!R8<>"",_2021!E8,"") | BC5: =IF(_2021!S8<>"",_2021!C8,"") | BD5: =_2021!D8 -> au | BE5: =IF(_2021!S8<>"",_2021!E8,"") | BG5: =IF(_2021!T8<>"",_2021!C8,"") | BH5: =_2021!D8 -> au | BI5: =IF(_2021!T8<>"",_2021!E8,"") | BK5: =IF(_2021!U8<>"",_2021!C8,"") | BL5: =_2021!D8 -> au | BM5: =IF(_2021!U8<>"",_2021!E8,"") | BO5: =IF(_2021!V8<>"",_2021!C8,"") | BP5: =_2021!D8 -> au | BQ5: =IF(_2021!V8<>"",_2021!E8,"") | BS5: =IF(_2021!W8<>"",_2021!C8,"") | BT5: =_2021!D8 -> au | BU5: =IF(_2021!W8<>"",_2021!E8,"") | BW5: =IF(_2021!X8<>"",_2021!C8,"") | BX5: =_2021!D8 -> au | BY5: =IF(_2021!X8<>"",_2021!E8,"") | CA5: =IF(_2021!Y8<>"",_2021!C8,"") | CB5: =_2021!D8 -> au | CC5: =IF(_2021!Y8<>"",_2021!E8,"") | CE5: =IF(_2021!Z8<>"",_2021!C8,"") | CF5: =_2021!D8 -> au | CG5: =IF(_2021!Z8<>"",_2021!E8,"") | CI5: =IF(_2021!AA8<>"",_2021!C8,"") | CJ5: =_2021!D8 -> au | CK5: =IF(_2021!AA8<>"",_2021!E8,"") | CM5: =IF(_2021!AB8<>"",_2021!C8,"") | CN5: =_2021!D8 -> au | CO5: =IF(_2021!AB8<>"",_2021!E8,"") | CQ5: =IF(_2021!AC8<>"",_2021!C8,"") | CR5: =_2021!D8 -> au | CS5: =IF(_2021!AC8<>"",_2021!E8,"") | CU5: =IF(_2021!AD8<>"",_2021!C8,"") | CV5: =_2021!D8 -> au | CW5: =IF(_2021!AD8<>"",_2021!E8,"") | CY5: =IF(_2021!AE8<>"",_2021!C8,"") | CZ5: =_2021!D8 -> au | DA5: =IF(_2021!AE8<>"",_2021!E8,"") | DC5: =IF(_2021!AF8<>"",_2021!C8,"") | DD5: =_2021!D8 -> au | DE5: =IF(_2021!AF8<>"",_2021!E8,"") | DG5: =IF(_2021!AG8<>"",_2021!C8,"") | DH5: =_2021!D8 -> au | DI5: =IF(_2021!AG8<>"",_2021!E8,"") | DK5: =IF(_2021!AH8<>"",_2021!C8,"") | DL5: =_2021!D8 -> au | DM5: =IF(_2021!AH8<>"",_2021!E8,"") | DO5: =IF(_2021!AI8<>"",_2021!C8,"") | DP5: =_2021!D8 -> au | DQ5: =IF(_2021!AI8<>"",_2021!E8,"")
A6: =_2021!K2 -> NOM 6 Prénom 6 | B6: =_2021!K4 -> 7 | C6: =IF(_2021!F9<>"",_2021!C9,"") | D6: =_2021!D9 -> au | E6: =IF(_2021!F9<>"",_2021!E9,"") | G6: =IF(_2021!G9<>"",_2021!C9,"") -> 44213 | H6: =_2021!D9 -> au | I6: =IF(_2021!G9<>"",_2021!E9,"") -> 44217 | K6: =IF(_2021!H9<>"",_2021!C9,"") | L6: =_2021!D9 -> au | M6: =IF(_2021!H9<>"",_2021!E9,"") | O6: =IF(_2021!I9<>"",_2021!C9,"") | P6: =_2021!D9 -> au | Q6: =IF(_2021!I9<>"",_2021!E9,"") | S6: =IF(_2021!J9<>"",_2021!C9,"") -> 44213 | T6: =_2021!D9 -> au | U6: =IF(_2021!J9<>"",_2021!E9,"") -> 44217 | W6: =IF(_2021!K9<>"",_2021!C9,"") | X6: =_2021!D9 -> au | Y6: =IF(_2021!K9<>"",_2021!E9,"") | AA6: =IF(_2021!L9<>"",_2021!C9,"") | AB6: =_2021!D9 -> au | AC6: =IF(_2021!L9<>"",_2021!E9,"") | AE6: =IF(_2021!M9<>"",_2021!C9,"") | AF6: =_2021!D9 -> au | AG6: =IF(_2021!M9<>"",_2021!E9,"") | AI6: =IF(_2021!N9<>"",_2021!C9,"") | AJ6: =_2021!D9 -> au | AK6: =IF(_2021!N9<>"",_2021!E9,"") | AM6: =IF(_2021!O9<>"",_2021!C9,"") | AN6: =_2021!D9 -> au | AO6: =IF(_2021!O9<>"",_2021!E9,"") | AQ6: =IF(_2021!P9<>"",_2021!C9,"") | AR6: =_2021!D9 -> au | AS6: =IF(_2021!P9<>"",_2021!E9,"") | AU6: =IF(_2021!Q9<>"",_2021!C9,"") | AV6: =_2021!D9 -> au | AW6: =IF(_2021!Q9<>"",_2021!E9,"") | AY6: =IF(_2021!R9<>"",_2021!C9,"") | AZ6: =_2021!D9 -> au | BA6: =IF(_2021!R9<>"",_2021!E9,"") | BC6: =IF(_2021!S9<>"",_2021!C9,"") | BD6: =_2021!D9 -> au | BE6: =IF(_2021!S9<>"",_2021!E9,"") | BG6: =IF(_2021!T9<>"",_2021!C9,"") | BH6: =_2021!D9 -> au | BI6: =IF(_2021!T9<>"",_2021!E9,"") | BK6: =IF(_2021!U9<>"",_2021!C9,"") | BL6: =_2021!D9 -> au | BM6: =IF(_2021!U9<>"",_2021!E9,"") | BO6: =IF(_2021!V9<>"",_2021!C9,"") | BP6: =_2021!D9 -> au | BQ6: =IF(_2021!V9<>"",_2021!E9,"") | BS6: =IF(_2021!W9<>"",_2021!C9,"") | BT6: =_2021!D9 -> au | BU6: =IF(_2021!W9<>"",_2021!E9,"") | BW6: =IF(_2021!X9<>"",_2021!C9,"") | BX6: =_2021!D9 -> au | BY6: =IF(_2021!X9<>"",_2021!E9,"") | CA6: =IF(_2021!Y9<>"",_2021!C9,"") | CB6: =_2021!D9 -> au | CC6: =IF(_2021!Y9<>"",_2021!E9,"") | CE6: =IF(_2021!Z9<>"",_2021!C9,"") | CF6: =_2021!D9 -> au | CG6: =IF(_2021!Z9<>"",_2021!E9,"") | CI6: =IF(_2021!AA9<>"",_2021!C9,"") | CJ6: =_2021!D9 -> au | CK6: =IF(_2021!AA9<>"",_2021!E9,"") | CM6: =IF(_2021!AB9<>"",_2021!C9,"") | CN6: =_2021!D9 -> au | CO6: =IF(_2021!AB9<>"",_2021!E9,"") | CQ6: =IF(_2021!AC9<>"",_2021!C9,"") | CR6: =_2021!D9 -> au | CS6: =IF(_2021!AC9<>"",_2021!E9,"") | CU6: =IF(_2021!AD9<>"",_2021!C9,"") | CV6: =_2021!D9 -> au | CW6: =IF(_2021!AD9<>"",_2021!E9,"") | CY6: =IF(_2021!AE9<>"",_2021!C9,"") | CZ6: =_2021!D9 -> au | DA6: =IF(_2021!AE9<>"",_2021!E9,"") | DC6: =IF(_2021!AF9<>"",_2021!C9,"") | DD6: =_2021!D9 -> au | DE6: =IF(_2021!AF9<>"",_2021!E9,"") | DG6: =IF(_2021!AG9<>"",_2021!C9,"") | DH6: =_2021!D9 -> au | DI6: =IF(_2021!AG9<>"",_2021!E9,"") | DK6: =IF(_2021!AH9<>"",_2021!C9,"") | DL6: =_2021!D9 -> au | DM6: =IF(_2021!AH9<>"",_2021!E9,"") | DO6: =IF(_2021!AI9<>"",_2021!C9,"") | DP6: =_2021!D9 -> au | DQ6: =IF(_2021!AI9<>"",_2021!E9,"")
A7: =_2021!L2 -> NOM 7 Prénom 7 | B7: =_2021!L4 -> 7 | C7: =IF(_2021!F10<>"",_2021!C10,"") | D7: =_2021!D10 -> au | E7: =IF(_2021!F10<>"",_2021!E10,"") | G7: =IF(_2021!G10<>"",_2021!C10,"") | H7: =_2021!D10 -> au | I7: =IF(_2021!G10<>"",_2021!E10,"") | K7: =IF(_2021!H10<>"",_2021!C10,"") -> 44217 | L7: =_2021!D10 -> au | M7: =IF(_2021!H10<>"",_2021!E10,"") -> 44220 | O7: =IF(_2021!I10<>"",_2021!C10,"") | P7: =_2021!D10 -> au | Q7: =IF(_2021!I10<>"",_2021!E10,"") | S7: =IF(_2021!J10<>"",_2021!C10,"") | T7: =_2021!D10 -> au | U7: =IF(_2021!J10<>"",_2021!E10,"") | W7: =IF(_2021!K10<>"",_2021!C10,"") -> 44217 | X7: =_2021!D10 -> au | Y7: =IF(_2021!K10<>"",_2021!E10,"") -> 44220 | AA7: =IF(_2021!L10<>"",_2021!C10,"") | AB7: =_2021!D10 -> au | AC7: =IF(_2021!L10<>"",_2021!E10,"") | AE7: =IF(_2021!M10<>"",_2021!C10,"") | AF7: =_2021!D10 -> au | AG7: =IF(_2021!M10<>"",_2021!E10,"") | AI7: =IF(_2021!N10<>"",_2021!C10,"") | AJ7: =_2021!D10 -> au | AK7: =IF(_2021!N10<>"",_2021!E10,"") | AM7: =IF(_2021!O10<>"",_2021!C10,"") | AN7: =_2021!D10 -> au | AO7: =IF(_2021!O10<>"",_2021!E10,"") | AQ7: =IF(_2021!P10<>"",_2021!C10,"") | AR7: =_2021!D10 -> au | AS7: =IF(_2021!P10<>"",_2021!E10,"") | AU7: =IF(_2021!Q10<>"",_2021!C10,"") | AV7: =_2021!D10 -> au | AW7: =IF(_2021!Q10<>"",_2021!E10,"") | AY7: =IF(_2021!R10<>"",_2021!C10,"") | AZ7: =_2021!D10 -> au | BA7: =IF(_2021!R10<>"",_2021!E10,"") | BC7: =IF(_2021!S10<>"",_2021!C10,"") | BD7: =_2021!D10 -> au | BE7: =IF(_2021!S10<>"",_2021!E10,"") | BG7: =IF(_2021!T10<>"",_2021!C10,"") | BH7: =_2021!D10 -> au | BI7: =IF(_2021!T10<>"",_2021!E10,"") | BK7: =IF(_2021!U10<>"",_2021!C10,"") | BL7: =_2021!D10 -> au | BM7: =IF(_2021!U10<>"",_2021!E10,"") | BO7: =IF(_2021!V10<>"",_2021!C10,"") | BP7: =_2021!D10 -> au | BQ7: =IF(_2021!V10<>"",_2021!E10,"") | BS7: =IF(_2021!W10<>"",_2021!C10,"") | BT7: =_2021!D10 -> au | BU7: =IF(_2021!W10<>"",_2021!E10,"") | BW7: =IF(_2021!X10<>"",_2021!C10,"") | BX7: =_2021!D10 -> au | BY7: =IF(_2021!X10<>"",_2021!E10,"") | CA7: =IF(_2021!Y10<>"",_2021!C10,"") | CB7: =_2021!D10 -> au | CC7: =IF(_2021!Y10<>"",_2021!E10,"") | CE7: =IF(_2021!Z10<>"",_2021!C10,"") | CF7: =_2021!D10 -> au | CG7: =IF(_2021!Z10<>"",_2021!E10,"") | CI7: =IF(_2021!AA10<>"",_2021!C10,"") | CJ7: =_2021!D10 -> au | CK7: =IF(_2021!AA10<>"",_2021!E10,"") | CM7: =IF(_2021!AB10<>"",_2021!C10,"") | CN7: =_2021!D10 -> au | CO7: =IF(_2021!AB10<>"",_2021!E10,"") | CQ7: =IF(_2021!AC10<>"",_2021!C10,"") | CR7: =_2021!D10 -> au | CS7: =IF(_2021!AC10<>"",_2021!E10,"") | CU7: =IF(_2021!AD10<>"",_2021!C10,"") | CV7: =_2021!D10 -> au | CW7: =IF(_2021!AD10<>"",_2021!E10,"") | CY7: =IF(_2021!AE10<>"",_2021!C10,"") | CZ7: =_2021!D10 -> au | DA7: =IF(_2021!AE10<>"",_2021!E10,"") | DC7: =IF(_2021!AF10<>"",_2021!C10,"") | DD7: =_2021!D10 -> au | DE7: =IF(_2021!AF10<>"",_2021!E10,"") | DG7: =IF(_2021!AG10<>"",_2021!C10,"") | DH7: =_2021!D10 -> au | DI7: =IF(_2021!AG10<>"",_2021!E10,"") | DK7: =IF(_2021!AH10<>"",_2021!C10,"") | DL7: =_2021!D10 -> au | DM7: =IF(_2021!AH10<>"",_2021!E10,"") | DO7: =IF(_2021!AI10<>"",_2021!C10,"") | DP7: =_2021!D10 -> au | DQ7: =IF(_2021!AI10<>"",_2021!E10,"")
A8: =_2021!M2 -> NOM 8 Prénom 8 | B8: =_2021!M4 -> 7 | C8: =IF(_2021!F11<>"",_2021!C11,"") | D8: =_2021!D11 -> au | E8: =IF(_2021!F11<>"",_2021!E11,"") | G8: =IF(_2021!G11<>"",_2021!C11,"") | H8: =_2021!D11 -> au | I8: =IF(_2021!G11<>"",_2021!E11,"") | K8: =IF(_2021!H11<>"",_2021!C11,"") | L8: =_2021!D11 -> au | M8: =IF(_2021!H11<>"",_2021!E11,"") | O8: =IF(_2021!I11<>"",_2021!C11,"") -> 44220 | P8: =_2021!D11 -> au | Q8: =IF(_2021!I11<>"",_2021!E11,"") -> 44224 | S8: =IF(_2021!J11<>"",_2021!C11,"") | T8: =_2021!D11 -> au | U8: =IF(_2021!J11<>"",_2021!E11,"") | W8: =IF(_2021!K11<>"",_2021!C11,"") | X8: =_2021!D11 -> au | Y8: =IF(_2021!K11<>"",_2021!E11,"") | AA8: =IF(_2021!L11<>"",_2021!C11,"") -> 44220 | AB8: =_2021!D11 -> au | AC8: =IF(_2021!L11<>"",_2021!E11,"") -> 44224 | AE8: =IF(_2021!M11<>"",_2021!C11,"") | AF8: =_2021!D11 -> au | AG8: =IF(_2021!M11<>"",_2021!E11,"") | AI8: =IF(_2021!N11<>"",_2021!C11,"") | AJ8: =_2021!D11 -> au | AK8: =IF(_2021!N11<>"",_2021!E11,"") | AM8: =IF(_2021!O11<>"",_2021!C11,"") | AN8: =_2021!D11 -> au | AO8: =IF(_2021!O11<>"",_2021!E11,"") | AQ8: =IF(_2021!P11<>"",_2021!C11,"") | AR8: =_2021!D11 -> au | AS8: =IF(_2021!P11<>"",_2021!E11,"") | AU8: =IF(_2021!Q11<>"",_2021!C11,"") | AV8: =_2021!D11 -> au | AW8: =IF(_2021!Q11<>"",_2021!E11,"") | AY8: =IF(_2021!R11<>"",_2021!C11,"") | AZ8: =_2021!D11 -> au | BA8: =IF(_2021!R11<>"",_2021!E11,"") | BC8: =IF(_2021!S11<>"",_2021!C11,"") | BD8: =_2021!D11 -> au | BE8: =IF(_2021!S11<>"",_2021!E11,"") | BG8: =IF(_2021!T11<>"",_2021!C11,"") | BH8: =_2021!D11 -> au | BI8: =IF(_2021!T11<>"",_2021!E11,"") | BK8: =IF(_2021!U11<>"",_2021!C11,"") | BL8: =_2021!D11 -> au | BM8: =IF(_2021!U11<>"",_2021!E11,"") | BO8: =IF(_2021!V11<>"",_2021!C11,"") | BP8: =_2021!D11 -> au | BQ8: =IF(_2021!V11<>"",_2021!E11,"") | BS8: =IF(_2021!W11<>"",_2021!C11,"") | BT8: =_2021!D11 -> au | BU8: =IF(_2021!W11<>"",_2021!E11,"") | BW8: =IF(_2021!X11<>"",_2021!C11,"") | BX8: =_2021!D11 -> au | BY8: =IF(_2021!X11<>"",_2021!E11,"") | CA8: =IF(_2021!Y11<>"",_2021!C11,"") | CB8: =_2021!D11 -> au | CC8: =IF(_2021!Y11<>"",_2021!E11,"") | CE8: =IF(_2021!Z11<>"",_2021!C11,"") | CF8: =_2021!D11 -> au | CG8: =IF(_2021!Z11<>"",_2021!E11,"") | CI8: =IF(_2021!AA11<>"",_2021!C11,"") | CJ8: =_2021!D11 -> au | CK8: =IF(_2021!AA11<>"",_2021!E11,"") | CM8: =IF(_2021!AB11<>"",_2021!C11,"") | CN8: =_2021!D11 -> au | CO8: =IF(_2021!AB11<>"",_2021!E11,"") | CQ8: =IF(_2021!AC11<>"",_2021!C11,"") | CR8: =_2021!D11 -> au | CS8: =IF(_2021!AC11<>"",_2021!E11,"") | CU8: =IF(_2021!AD11<>"",_2021!C11,"") | CV8: =_2021!D11 -> au | CW8: =IF(_2021!AD11<>"",_2021!E11,"") | CY8: =IF(_2021!AE11<>"",_2021!C11,"") | CZ8: =_2021!D11 -> au | DA8: =IF(_2021!AE11<>"",_2021!E11,"") | DC8: =IF(_2021!AF11<>"",_2021!C11,"") | DD8: =_2021!D11 -> au | DE8: =IF(_2021!AF11<>"",_2021!E11,"") | DG8: =IF(_2021!AG11<>"",_2021!C11,"") | DH8: =_2021!D11 -> au | DI8: =IF(_2021!AG11<>"",_2021!E11,"") | DK8: =IF(_2021!AH11<>"",_2021!C11,"") | DL8: =_2021!D11 -> au | DM8: =IF(_2021!AH11<>"",_2021!E11,"") | DO8: =IF(_2021!AI11<>"",_2021!C11,"") | DP8: =_2021!D11 -> au | DQ8: =IF(_2021!AI11<>"",_2021!E11,"")
A9: =_2021!N2 -> NOM 9 Prénom 9 | B9: =_2021!N4 -> 6 | C9: =IF(_2021!F12<>"",_2021!C12,"") | D9: =_2021!D12 -> au | E9: =IF(_2021!F12<>"",_2021!E12,"") | G9: =IF(_2021!G12<>"",_2021!C12,"") | H9: =_2021!D12 -> au | I9: =IF(_2021!G12<>"",_2021!E12,"") | K9: =IF(_2021!H12<>"",_2021!C12,"") | L9: =_2021!D12 -> au | M9: =IF(_2021!H12<>"",_2021!E12,"") | O9: =IF(_2021!I12<>"",_2021!C12,"") | P9: =_2021!D12 -> au | Q9: =IF(_2021!I12<>"",_2021!E12,"") | S9: =IF(_2021!J12<>"",_2021!C12,"") -> 44224 | T9: =_2021!D12 -> au | U9: =IF(_2021!J12<>"",_2021!E12,"") -> 44227 | W9: =IF(_2021!K12<>"",_2021!C12,"") | X9: =_2021!D12 -> au | Y9: =IF(_2021!K12<>"",_2021!E12,"") | AA9: =IF(_2021!L12<>"",_2021!C12,"") | AB9: =_2021!D12 -> au | AC9: =IF(_2021!L12<>"",_2021!E12,"") | AE9: =IF(_2021!M12<>"",_2021!C12,"") -> 44224 | AF9: =_2021!D12 -> au | AG9: =IF(_2021!M12<>"",_2021!E12,"") -> 44227 | AI9: =IF(_2021!N12<>"",_2021!C12,"") | AJ9: =_2021!D12 -> au | AK9: =IF(_2021!N12<>"",_2021!E12,"") | AM9: =IF(_2021!O12<>"",_2021!C12,"") | AN9: =_2021!D12 -> au | AO9: =IF(_2021!O12<>"",_2021!E12,"") | AQ9: =IF(_2021!P12<>"",_2021!C12,"") | AR9: =_2021!D12 -> au | AS9: =IF(_2021!P12<>"",_2021!E12,"") | AU9: =IF(_2021!Q12<>"",_2021!C12,"") | AV9: =_2021!D12 -> au | AW9: =IF(_2021!Q12<>"",_2021!E12,"") | AY9: =IF(_2021!R12<>"",_2021!C12,"") | AZ9: =_2021!D12 -> au | BA9: =IF(_2021!R12<>"",_2021!E12,"") | BC9: =IF(_2021!S12<>"",_2021!C12,"") | BD9: =_2021!D12 -> au | BE9: =IF(_2021!S12<>"",_2021!E12,"") | BG9: =IF(_2021!T12<>"",_2021!C12,"") | BH9: =_2021!D12 -> au | BI9: =IF(_2021!T12<>"",_2021!E12,"") | BK9: =IF(_2021!U12<>"",_2021!C12,"") | BL9: =_2021!D12 -> au | BM9: =IF(_2021!U12<>"",_2021!E12,"") | BO9: =IF(_2021!V12<>"",_2021!C12,"") | BP9: =_2021!D12 -> au | BQ9: =IF(_2021!V12<>"",_2021!E12,"") | BS9: =IF(_2021!W12<>"",_2021!C12,"") | BT9: =_2021!D12 -> au | BU9: =IF(_2021!W12<>"",_2021!E12,"") | BW9: =IF(_2021!X12<>"",_2021!C12,"") | BX9: =_2021!D12 -> au | BY9: =IF(_2021!X12<>"",_2021!E12,"") | CA9: =IF(_2021!Y12<>"",_2021!C12,"") | CB9: =_2021!D12 -> au | CC9: =IF(_2021!Y12<>"",_2021!E12,"") | CE9: =IF(_2021!Z12<>"",_2021!C12,"") | CF9: =_2021!D12 -> au | CG9: =IF(_2021!Z12<>"",_2021!E12,"") | CI9: =IF(_2021!AA12<>"",_2021!C12,"") | CJ9: =_2021!D12 -> au | CK9: =IF(_2021!AA12<>"",_2021!E12,"") | CM9: =IF(_2021!AB12<>"",_2021!C12,"") | CN9: =_2021!D12 -> au | CO9: =IF(_2021!AB12<>"",_2021!E12,"") | CQ9: =IF(_2021!AC12<>"",_2021!C12,"") | CR9: =_2021!D12 -> au | CS9: =IF(_2021!AC12<>"",_2021!E12,"") | CU9: =IF(_2021!AD12<>"",_2021!C12,"") | CV9: =_2021!D12 -> au | CW9: =IF(_2021!AD12<>"",_2021!E12,"") | CY9: =IF(_2021!AE12<>"",_2021!C12,"") | CZ9: =_2021!D12 -> au | DA9: =IF(_2021!AE12<>"",_2021!E12,"") | DC9: =IF(_2021!AF12<>"",_2021!C12,"") | DD9: =_2021!D12 -> au | DE9: =IF(_2021!AF12<>"",_2021!E12,"") | DG9: =IF(_2021!AG12<>"",_2021!C12,"") | DH9: =_2021!D12 -> au | DI9: =IF(_2021!AG12<>"",_2021!E12,"") | DK9: =IF(_2021!AH12<>"",_2021!C12,"") | DL9: =_2021!D12 -> au | DM9: =IF(_2021!AH12<>"",_2021!E12,"") | DO9: =IF(_2021!AI12<>"",_2021!C12,"") | DP9: =_2021!D12 -> au | DQ9: =IF(_2021!AI12<>"",_2021!E12,"")
A10: =_2021!O2 -> NOM 10 Prénom 10 | B10: =_2021!O4 -> 6 | C10: =IF(_2021!F13<>"",_2021!C13,"") | D10: =_2021!D13 -> au | E10: =IF(_2021!F13<>"",_2021!E13,"") | G10: =IF(_2021!G13<>"",_2021!C13,"") | H10: =_2021!D13 -> au | I10: =IF(_2021!G13<>"",_2021!E13,"") | K10: =IF(_2021!H13<>"",_2021!C13,"") | L10: =_2021!D13 -> au | M10: =IF(_2021!H13<>"",_2021!E13,"") | O10: =IF(_2021!I13<>"",_2021!C13,"") | P10: =_2021!D13 -> au | Q10: =IF(_2021!I13<>"",_2021!E13,"") | S10: =IF(_2021!J13<>"",_2021!C13,"") | T10: =_2021!D13 -> au | U10: =IF(_2021!J13<>"",_2021!E13,"") | W10: =IF(_2021!K13<>"",_2021!C13,"") -> 44227 | X10: =_2021!D13 -> au | Y10: =IF(_2021!K13<>"",_2021!E13,"") -> 44231 | AA10: =IF(_2021!L13<>"",_2021!C13,"") | AB10: =_2021!D13 -> au | AC10: =IF(_2021!L13<>"",_2021!E13,"") | AE10: =IF(_2021!M13<>"",_2021!C13,"") | AF10: =_2021!D13 -> au | AG10: =IF(_2021!M13<>"",_2021!E13,"") | AI10: =IF(_2021!N13<>"",_2021!C13,"") -> 44227 | AJ10: =_2021!D13 -> au | AK10: =IF(_2021!N13<>"",_2021!E13,"") -> 44231 | AM10: =IF(_2021!O13<>"",_2021!C13,"") | AN10: =_2021!D13 -> au | AO10: =IF(_2021!O13<>"",_2021!E13,"") | AQ10: =IF(_2021!P13<>"",_2021!C13,"") | AR10: =_2021!D13 -> au | AS10: =IF(_2021!P13<>"",_2021!E13,"") | AU10: =IF(_2021!Q13<>"",_2021!C13,"") | AV10: =_2021!D13 -> au | AW10: =IF(_2021!Q13<>"",_2021!E13,"") | AY10: =IF(_2021!R13<>"",_2021!C13,"") | AZ10: =_2021!D13 -> au | BA10: =IF(_2021!R13<>"",_2021!E13,"") | BC10: =IF(_2021!S13<>"",_2021!C13,"") | BD10: =_2021!D13 -> au | BE10: =IF(_2021!S13<>"",_2021!E13,"") | BG10: =IF(_2021!T13<>"",_2021!C13,"") | BH10: =_2021!D13 -> au | BI10: =IF(_2021!T13<>"",_2021!E13,"") | BK10: =IF(_2021!U13<>"",_2021!C13,"") | BL10: =_2021!D13 -> au | BM10: =IF(_2021!U13<>"",_2021!E13,"") | BO10: =IF(_2021!V13<>"",_2021!C13,"") | BP10: =_2021!D13 -> au | BQ10: =IF(_2021!V13<>"",_2021!E13,"") | BS10: =IF(_2021!W13<>"",_2021!C13,"") | BT10: =_2021!D13 -> au | BU10: =IF(_2021!W13<>"",_2021!E13,"") | BW10: =IF(_2021!X13<>"",_2021!C13,"") | BX10: =_2021!D13 -> au | BY10: =IF(_2021!X13<>"",_2021!E13,"") | CA10: =IF(_2021!Y13<>"",_2021!C13,"") | CB10: =_2021!D13 -> au | CC10: =IF(_2021!Y13<>"",_2021!E13,"") | CE10: =IF(_2021!Z13<>"",_2021!C13,"") | CF10: =_2021!D13 -> au | CG10: =IF(_2021!Z13<>"",_2021!E13,"") | CI10: =IF(_2021!AA13<>"",_2021!C13,"") | CJ10: =_2021!D13 -> au | CK10: =IF(_2021!AA13<>"",_2021!E13,"") | CM10: =IF(_2021!AB13<>"",_2021!C13,"") | CN10: =_2021!D13 -> au | CO10: =IF(_2021!AB13<>"",_2021!E13,"") | CQ10: =IF(_2021!AC13<>"",_2021!C13,"") | CR10: =_2021!D13 -> au | CS10: =IF(_2021!AC13<>"",_2021!E13,"") | CU10: =IF(_2021!AD13<>"",_2021!C13,"") | CV10: =_2021!D13 -> au | CW10: =IF(_2021!AD13<>"",_2021!E13,"") | CY10: =IF(_2021!AE13<>"",_2021!C13,"") | CZ10: =_2021!D13 -> au | DA10: =IF(_2021!AE13<>"",_2021!E13,"") | DC10: =IF(_2021!AF13<>"",_2021!C13,"") | DD10: =_2021!D13 -> au | DE10: =IF(_2021!AF13<>"",_2021!E13,"") | DG10: =IF(_2021!AG13<>"",_2021!C13,"") | DH10: =_2021!D13 -> au | DI10: =IF(_2021!AG13<>"",_2021!E13,"") | DK10: =IF(_2021!AH13<>"",_2021!C13,"") | DL10: =_2021!D13 -> au | DM10: =IF(_2021!AH13<>"",_2021!E13,"") | DO10: =IF(_2021!AI13<>"",_2021!C13,"") | DP10: =_2021!D13 -> au | DQ10: =IF(_2021!AI13<>"",_2021!E13,"")
A11: =_2021!P2 -> NOM 11 Prénom 11 | B11: =_2021!P4 -> 6 | C11: =IF(_2021!F14<>"",_2021!C14,"") | D11: =_2021!D14 -> au | E11: =IF(_2021!F14<>"",_2021!E14,"") | G11: =IF(_2021!G14<>"",_2021!C14,"") | H11: =_2021!D14 -> au | I11: =IF(_2021!G14<>"",_2021!E14,"") | K11: =IF(_2021!H14<>"",_2021!C14,"") | L11: =_2021!D14 -> au | M11: =IF(_2021!H14<>"",_2021!E14,"") | O11: =IF(_2021!I14<>"",_2021!C14,"") | P11: =_2021!D14 -> au | Q11: =IF(_2021!I14<>"",_2021!E14,"") | S11: =IF(_2021!J14<>"",_2021!C14,"") | T11: =_2021!D14 -> au | U11: =IF(_2021!J14<>"",_2021!E14,"") | W11: =IF(_2021!K14<>"",_2021!C14,"") | X11: =_2021!D14 -> au | Y11: =IF(_2021!K14<>"",_2021!E14,"") | AA11: =IF(_2021!L14<>"",_2021!C14,"") -> 44231 | AB11: =_2021!D14 -> au | AC11: =IF(_2021!L14<>"",_2021!E14,"") -> 44234 | AE11: =IF(_2021!M14<>"",_2021!C14,"") | AF11: =_2021!D14 -> au | AG11: =IF(_2021!M14<>"",_2021!E14,"") | AI11: =IF(_2021!N14<>"",_2021!C14,"") | AJ11: =_2021!D14 -> au | AK11: =IF(_2021!N14<>"",_2021!E14,"") | AM11: =IF(_2021!O14<>"",_2021!C14,"") -> 44231 | AN11: =_2021!D14 -> au | AO11: =IF(_2021!O14<>"",_2021!E14,"") -> 44234 | AQ11: =IF(_2021!P14<>"",_2021!C14,"") | AR11: =_2021!D14 -> au | AS11: =IF(_2021!P14<>"",_2021!E14,"") | AU11: =IF(_2021!Q14<>"",_2021!C14,"") | AV11: =_2021!D14 -> au | AW11: =IF(_2021!Q14<>"",_2021!E14,"") | AY11: =IF(_2021!R14<>"",_2021!C14,"") | AZ11: =_2021!D14 -> au | BA11: =IF(_2021!R14<>"",_2021!E14,"") | BC11: =IF(_2021!S14<>"",_2021!C14,"") | BD11: =_2021!D14 -> au | BE11: =IF(_2021!S14<>"",_2021!E14,"") | BG11: =IF(_2021!T14<>"",_2021!C14,"") | BH11: =_2021!D14 -> au | BI11: =IF(_2021!T14<>"",_2021!E14,"") | BK11: =IF(_2021!U14<>"",_2021!C14,"") | BL11: =_2021!D14 -> au | BM11: =IF(_2021!U14<>"",_2021!E14,"") | BO11: =IF(_2021!V14<>"",_2021!C14,"") | BP11: =_2021!D14 -> au | BQ11: =IF(_2021!V14<>"",_2021!E14,"") | BS11: =IF(_2021!W14<>"",_2021!C14,"") | BT11: =_2021!D14 -> au | BU11: =IF(_2021!W14<>"",_2021!E14,"") | BW11: =IF(_2021!X14<>"",_2021!C14,"") | BX11: =_2021!D14 -> au | BY11: =IF(_2021!X14<>"",_2021!E14,"") | CA11: =IF(_2021!Y14<>"",_2021!C14,"") | CB11: =_2021!D14 -> au | CC11: =IF(_2021!Y14<>"",_2021!E14,"") | CE11: =IF(_2021!Z14<>"",_2021!C14,"") | CF11: =_2021!D14 -> au | CG11: =IF(_2021!Z14<>"",_2021!E14,"") | CI11: =IF(_2021!AA14<>"",_2021!C14,"") | CJ11: =_2021!D14 -> au | CK11: =IF(_2021!AA14<>"",_2021!E14,"") | CM11: =IF(_2021!AB14<>"",_2021!C14,"") | CN11: =_2021!D14 -> au | CO11: =IF(_2021!AB14<>"",_2021!E14,"") | CQ11: =IF(_2021!AC14<>"",_2021!C14,"") | CR11: =_2021!D14 -> au | CS11: =IF(_2021!AC14<>"",_2021!E14,"") | CU11: =IF(_2021!AD14<>"",_2021!C14,"") | CV11: =_2021!D14 -> au | CW11: =IF(_2021!AD14<>"",_2021!E14,"") | CY11: =IF(_2021!AE14<>"",_2021!C14,"") | CZ11: =_2021!D14 -> au | DA11: =IF(_2021!AE14<>"",_2021!E14,"") | DC11: =IF(_2021!AF14<>"",_2021!C14,"") | DD11: =_2021!D14 -> au | DE11: =IF(_2021!AF14<>"",_2021!E14,"") | DG11: =IF(_2021!AG14<>"",_2021!C14,"") | DH11: =_2021!D14 -> au | DI11: =IF(_2021!AG14<>"",_2021!E14,"") | DK11: =IF(_2021!AH14<>"",_2021!C14,"") | DL11: =_2021!D14 -> au | DM11: =IF(_2021!AH14<>"",_2021!E14,"") | DO11: =IF(_2021!AI14<>"",_2021!C14,"") | DP11: =_2021!D14 -> au | DQ11: =IF(_2021!AI14<>"",_2021!E14,"")
A12: =_2021!Q2 -> NOM 12 Prénom 12 | B12: =_2021!Q4 -> 6 | C12: =IF(_2021!F15<>"",_2021!C15,"") | D12: =_2021!D15 -> au | E12: =IF(_2021!F15<>"",_2021!E15,"") | G12: =IF(_2021!G15<>"",_2021!C15,"") | H12: =_2021!D15 -> au | I12: =IF(_2021!G15<>"",_2021!E15,"") | K12: =IF(_2021!H15<>"",_2021!C15,"") | L12: =_2021!D15 -> au | M12: =IF(_2021!H15<>"",_2021!E15,"") | O12: =IF(_2021!I15<>"",_2021!C15,"") | P12: =_2021!D15 -> au | Q12: =IF(_2021!I15<>"",_2021!E15,"") | S12: =IF(_2021!J15<>"",_2021!C15,"") | T12: =_2021!D15 -> au | U12: =IF(_2021!J15<>"",_2021!E15,"") | W12: =IF(_2021!K15<>"",_2021!C15,"") | X12: =_2021!D15 -> au | Y12: =IF(_2021!K15<>"",_2021!E15,"") | AA12: =IF(_2021!L15<>"",_2021!C15,"") | AB12: =_2021!D15 -> au | AC12: =IF(_2021!L15<>"",_2021!E15,"") | AE12: =IF(_2021!M15<>"",_2021!C15,"") -> 44234 | AF12: =_2021!D15 -> au | AG12: =IF(_2021!M15<>"",_2021!E15,"") -> 44238 | AI12: =IF(_2021!N15<>"",_2021!C15,"") | AJ12: =_2021!D15 -> au | AK12: =IF(_2021!N15<>"",_2021!E15,"") | AM12: =IF(_2021!O15<>"",_2021!C15,"") | AN12: =_2021!D15 -> au | AO12: =IF(_2021!O15<>"",_2021!E15,"") | AQ12: =IF(_2021!P15<>"",_2021!C15,"") -> 44234 | AR12: =_2021!D15 -> au | AS12: =IF(_2021!P15<>"",_2021!E15,"") -> 44238 | AU12: =IF(_2021!Q15<>"",_2021!C15,"") | AV12: =_2021!D15 -> au | AW12: =IF(_2021!Q15<>"",_2021!E15,"") | AY12: =IF(_2021!R15<>"",_2021!C15,"") | AZ12: =_2021!D15 -> au | BA12: =IF(_2021!R15<>"",_2021!E15,"") | BC12: =IF(_2021!S15<>"",_2021!C15,"") | BD12: =_2021!D15 -> au | BE12: =IF(_2021!S15<>"",_2021!E15,"") | BG12: =IF(_2021!T15<>"",_2021!C15,"") | BH12: =_2021!D15 -> au | BI12: =IF(_2021!T15<>"",_2021!E15,"") | BK12: =IF(_2021!U15<>"",_2021!C15,"") | BL12: =_2021!D15 -> au | BM12: =IF(_2021!U15<>"",_2021!E15,"") | BO12: =IF(_2021!V15<>"",_2021!C15,"") | BP12: =_2021!D15 -> au | BQ12: =IF(_2021!V15<>"",_2021!E15,"") | BS12: =IF(_2021!W15<>"",_2021!C15,"") | BT12: =_2021!D15 -> au | BU12: =IF(_2021!W15<>"",_2021!E15,"") | BW12: =IF(_2021!X15<>"",_2021!C15,"") | BX12: =_2021!D15 -> au | BY12: =IF(_2021!X15<>"",_2021!E15,"") | CA12: =IF(_2021!Y15<>"",_2021!C15,"") | CB12: =_2021!D15 -> au | CC12: =IF(_2021!Y15<>"",_2021!E15,"") | CE12: =IF(_2021!Z15<>"",_2021!C15,"") | CF12: =_2021!D15 -> au | CG12: =IF(_2021!Z15<>"",_2021!E15,"") | CI12: =IF(_2021!AA15<>"",_2021!C15,"") | CJ12: =_2021!D15 -> au | CK12: =IF(_2021!AA15<>"",_2021!E15,"") | CM12: =IF(_2021!AB15<>"",_2021!C15,"") | CN12: =_2021!D15 -> au | CO12: =IF(_2021!AB15<>"",_2021!E15,"") | CQ12: =IF(_2021!AC15<>"",_2021!C15,"") | CR12: =_2021!D15 -> au | CS12: =IF(_2021!AC15<>"",_2021!E15,"") | CU12: =IF(_2021!AD15<>"",_2021!C15,"") | CV12: =_2021!D15 -> au | CW12: =IF(_2021!AD15<>"",_2021!E15,"") | CY12: =IF(_2021!AE15<>"",_2021!C15,"") | CZ12: =_2021!D15 -> au | DA12: =IF(_2021!AE15<>"",_2021!E15,"") | DC12: =IF(_2021!AF15<>"",_2021!C15,"") | DD12: =_2021!D15 -> au | DE12: =IF(_2021!AF15<>"",_2021!E15,"") | DG12: =IF(_2021!AG15<>"",_2021!C15,"") | DH12: =_2021!D15 -> au | DI12: =IF(_2021!AG15<>"",_2021!E15,"") | DK12: =IF(_2021!AH15<>"",_2021!C15,"") | DL12: =_2021!D15 -> au | DM12: =IF(_2021!AH15<>"",_2021!E15,"") | DO12: =IF(_2021!AI15<>"",_2021!C15,"") | DP12: =_2021!D15 -> au | DQ12: =IF(_2021!AI15<>"",_2021!E15,"")
A13: =_2021!R2 -> NOM 13 Prénom 13 | B13: =_2021!R4 -> 6 | C13: =IF(_2021!F16<>"",_2021!C16,"") | D13: =_2021!D16 -> au | E13: =IF(_2021!F16<>"",_2021!E16,"") | G13: =IF(_2021!G16<>"",_2021!C16,"") | H13: =_2021!D16 -> au | I13: =IF(_2021!G16<>"",_2021!E16,"") | K13: =IF(_2021!H16<>"",_2021!C16,"") | L13: =_2021!D16 -> au | M13: =IF(_2021!H16<>"",_2021!E16,"") | O13: =IF(_2021!I16<>"",_2021!C16,"") | P13: =_2021!D16 -> au | Q13: =IF(_2021!I16<>"",_2021!E16,"") | S13: =IF(_2021!J16<>"",_2021!C16,"") | T13: =_2021!D16 -> au | U13: =IF(_2021!J16<>"",_2021!E16,"") | W13: =IF(_2021!K16<>"",_2021!C16,"") | X13: =_2021!D16 -> au | Y13: =IF(_2021!K16<>"",_2021!E16,"") | AA13: =IF(_2021!L16<>"",_2021!C16,"") | AB13: =_2021!D16 -> au | AC13: =IF(_2021!L16<>"",_2021!E16,"") | AE13: =IF(_2021!M16<>"",_2021!C16,"") | AF13: =_2021!D16 -> au | AG13: =IF(_2021!M16<>"",_2021!E16,"") | AI13: =IF(_2021!N16<>"",_2021!C16,"") -> 44238 | AJ13: =_2021!D16 -> au | AK13: =IF(_2021!N16<>"",_2021!E16,"") -> 44241 | AM13: =IF(_2021!O16<>"",_2021!C16,"") | AN13: =_2021!D16 -> au | AO13: =IF(_2021!O16<>"",_2021!E16,"") | AQ13: =IF(_2021!P16<>"",_2021!C16,"") | AR13: =_2021!D16 -> au | AS13: =IF(_2021!P16<>"",_2021!E16,"") | AU13: =IF(_2021!Q16<>"",_2021!C16,"") -> 44238 | AV13: =_2021!D16 -> au | AW13: =IF(_2021!Q16<>"",_2021!E16,"") -> 44241 | AY13: =IF(_2021!R16<>"",_2021!C16,"") | AZ13: =_2021!D16 -> au | BA13: =IF(_2021!R16<>"",_2021!E16,"") | BC13: =IF(_2021!S16<>"",_2021!C16,"") | BD13: =_2021!D16 -> au | BE13: =IF(_2021!S16<>"",_2021!E16,"") | BG13: =IF(_2021!T16<>"",_2021!C16,"") | BH13: =_2021!D16 -> au | BI13: =IF(_2021!T16<>"",_2021!E16,"") | BK13: =IF(_2021!U16<>"",_2021!C16,"") | BL13: =_2021!D16 -> au | BM13: =IF(_2021!U16<>"",_2021!E16,"") | BO13: =IF(_2021!V16<>"",_2021!C16,"") | BP13: =_2021!D16 -> au | BQ13: =IF(_2021!V16<>"",_2021!E16,"") | BS13: =IF(_2021!W16<>"",_2021!C16,"") | BT13: =_2021!D16 -> au | BU13: =IF(_2021!W16<>"",_2021!E16,"") | BW13: =IF(_2021!X16<>"",_2021!C16,"") | BX13: =_2021!D16 -> au | BY13: =IF(_2021!X16<>"",_2021!E16,"") | CA13: =IF(_2021!Y16<>"",_2021!C16,"") | CB13: =_2021!D16 -> au | CC13: =IF(_2021!Y16<>"",_2021!E16,"") | CE13: =IF(_2021!Z16<>"",_2021!C16,"") | CF13: =_2021!D16 -> au | CG13: =IF(_2021!Z16<>"",_2021!E16,"") | CI13: =IF(_2021!AA16<>"",_2021!C16,"") | CJ13: =_2021!D16 -> au | CK13: =IF(_2021!AA16<>"",_2021!E16,"") | CM13: =IF(_2021!AB16<>"",_2021!C16,"") | CN13: =_2021!D16 -> au | CO13: =IF(_2021!AB16<>"",_2021!E16,"") | CQ13: =IF(_2021!AC16<>"",_2021!C16,"") | CR13: =_2021!D16 -> au | CS13: =IF(_2021!AC16<>"",_2021!E16,"") | CU13: =IF(_2021!AD16<>"",_2021!C16,"") | CV13: =_2021!D16 -> au | CW13: =IF(_2021!AD16<>"",_2021!E16,"") | CY13: =IF(_2021!AE16<>"",_2021!C16,"") | CZ13: =_2021!D16 -> au | DA13: =IF(_2021!AE16<>"",_2021!E16,"") | DC13: =IF(_2021!AF16<>"",_2021!C16,"") | DD13: =_2021!D16 -> au | DE13: =IF(_2021!AF16<>"",_2021!E16,"") | DG13: =IF(_2021!AG16<>"",_2021!C16,"") | DH13: =_2021!D16 -> au | DI13: =IF(_2021!AG16<>"",_2021!E16,"") | DK13: =IF(_2021!AH16<>"",_2021!C16,"") | DL13: =_2021!D16 -> au | DM13: =IF(_2021!AH16<>"",_2021!E16,"") | DO13: =IF(_2021!AI16<>"",_2021!C16,"") | DP13: =_2021!D16 -> au | DQ13: =IF(_2021!AI16<>"",_2021!E16,"")
A14: =_2021!S2 -> NOM 14 Prénom 14 | B14: =_2021!S4 -> 6 | C14: =IF(_2021!F17<>"",_2021!C17,"") | D14: =_2021!D17 -> au | E14: =IF(_2021!F17<>"",_2021!E17,"") | G14: =IF(_2021!G17<>"",_2021!C17,"") | H14: =_2021!D17 -> au | I14: =IF(_2021!G17<>"",_2021!E17,"") | K14: =IF(_2021!H17<>"",_2021!C17,"") | L14: =_2021!D17 -> au | M14: =IF(_2021!H17<>"",_2021!E17,"") | O14: =IF(_2021!I17<>"",_2021!C17,"") | P14: =_2021!D17 -> au | Q14: =IF(_2021!I17<>"",_2021!E17,"") | S14: =IF(_2021!J17<>"",_2021!C17,"") | T14: =_2021!D17 -> au | U14: =IF(_2021!J17<>"",_2021!E17,"") | W14: =IF(_2021!K17<>"",_2021!C17,"") | X14: =_2021!D17 -> au | Y14: =IF(_2021!K17<>"",_2021!E17,"") | AA14: =IF(_2021!L17<>"",_2021!C17,"") | AB14: =_2021!D17 -> au | AC14: =IF(_2021!L17<>"",_2021!E17,"") | AE14: =IF(_2021!M17<>"",_2021!C17,"") | AF14: =_2021!D17 -> au | AG14: =IF(_2021!M17<>"",_2021!E17,"") | AI14: =IF(_2021!N17<>"",_2021!C17,"") | AJ14: =_2021!D17 -> au | AK14: =IF(_2021!N17<>"",_2021!E17,"") | AM14: =IF(_2021!O17<>"",_2021!C17,"") -> 44241 | AN14: =_2021!D17 -> au | AO14: =IF(_2021!O17<>"",_2021!E17,"") -> 44245 | AQ14: =IF(_2021!P17<>"",_2021!C17,"") | AR14: =_2021!D17 -> au | AS14: =IF(_2021!P17<>"",_2021!E17,"") | AU14: =IF(_2021!Q17<>"",_2021!C17,"") | AV14: =_2021!D17 -> au | AW14: =IF(_2021!Q17<>"",_2021!E17,"") | AY14: =IF(_2021!R17<>"",_2021!C17,"") -> 44241 | AZ14: =_2021!D17 -> au | BA14: =IF(_2021!R17<>"",_2021!E17,"") -> 44245 | BC14: =IF(_2021!S17<>"",_2021!C17,"") | BD14: =_2021!D17 -> au | BE14: =IF(_2021!S17<>"",_2021!E17,"") | BG14: =IF(_2021!T17<>"",_2021!C17,"") | BH14: =_2021!D17 -> au | BI14: =IF(_2021!T17<>"",_2021!E17,"") | BK14: =IF(_2021!U17<>"",_2021!C17,"") | BL14: =_2021!D17 -> au | BM14: =IF(_2021!U17<>"",_2021!E17,"") | BO14: =IF(_2021!V17<>"",_2021!C17,"") | BP14: =_2021!D17 -> au | BQ14: =IF(_2021!V17<>"",_2021!E17,"") | BS14: =IF(_2021!W17<>"",_2021!C17,"") | BT14: =_2021!D17 -> au | BU14: =IF(_2021!W17<>"",_2021!E17,"") | BW14: =IF(_2021!X17<>"",_2021!C17,"") | BX14: =_2021!D17 -> au | BY14: =IF(_2021!X17<>"",_2021!E17,"") | CA14: =IF(_2021!Y17<>"",_2021!C17,"") | CB14: =_2021!D17 -> au | CC14: =IF(_2021!Y17<>"",_2021!E17,"") | CE14: =IF(_2021!Z17<>"",_2021!C17,"") | CF14: =_2021!D17 -> au | CG14: =IF(_2021!Z17<>"",_2021!E17,"") | CI14: =IF(_2021!AA17<>"",_2021!C17,"") | CJ14: =_2021!D17 -> au | CK14: =IF(_2021!AA17<>"",_2021!E17,"") | CM14: =IF(_2021!AB17<>"",_2021!C17,"") | CN14: =_2021!D17 -> au | CO14: =IF(_2021!AB17<>"",_2021!E17,"") | CQ14: =IF(_2021!AC17<>"",_2021!C17,"") | CR14: =_2021!D17 -> au | CS14: =IF(_2021!AC17<>"",_2021!E17,"") | CU14: =IF(_2021!AD17<>"",_2021!C17,"") | CV14: =_2021!D17 -> au | CW14: =IF(_2021!AD17<>"",_2021!E17,"") | CY14: =IF(_2021!AE17<>"",_2021!C17,"") | CZ14: =_2021!D17 -> au | DA14: =IF(_2021!AE17<>"",_2021!E17,"") | DC14: =IF(_2021!AF17<>"",_2021!C17,"") | DD14: =_2021!D17 -> au | DE14: =IF(_2021!AF17<>"",_2021!E17,"") | DG14: =IF(_2021!AG17<>"",_2021!C17,"") | DH14: =_2021!D17 -> au | DI14: =IF(_2021!AG17<>"",_2021!E17,"") | DK14: =IF(_2021!AH17<>"",_2021!C17,"") | DL14: =_2021!D17 -> au | DM14: =IF(_2021!AH17<>"",_2021!E17,"") | DO14: =IF(_2021!AI17<>"",_2021!C17,"") | DP14: =_2021!D17 -> au | DQ14: =IF(_2021!AI17<>"",_2021!E17,"")
A15: =_2021!T2 -> NOM 15 Prénom 15 | B15: =_2021!T4 -> 6 | C15: =IF(_2021!F18<>"",_2021!C18,"") | D15: =_2021!D18 -> au | E15: =IF(_2021!F18<>"",_2021!E18,"") | G15: =IF(_2021!G18<>"",_2021!C18,"") | H15: =_2021!D18 -> au | I15: =IF(_2021!G18<>"",_2021!E18,"") | K15: =IF(_2021!H18<>"",_2021!C18,"") | L15: =_2021!D18 -> au | M15: =IF(_2021!H18<>"",_2021!E18,"") | O15: =IF(_2021!I18<>"",_2021!C18,"") | P15: =_2021!D18 -> au | Q15: =IF(_2021!I18<>"",_2021!E18,"") | S15: =IF(_2021!J18<>"",_2021!C18,"") | T15: =_2021!D18 -> au | U15: =IF(_2021!J18<>"",_2021!E18,"") | W15: =IF(_2021!K18<>"",_2021!C18,"") | X15: =_2021!D18 -> au | Y15: =IF(_2021!K18<>"",_2021!E18,"") | AA15: =IF(_2021!L18<>"",_2021!C18,"") | AB15: =_2021!D18 -> au | AC15: =IF(_2021!L18<>"",_2021!E18,"") | AE15: =IF(_2021!M18<>"",_2021!C18,"") | AF15: =_2021!D18 -> au | AG15: =IF(_2021!M18<>"",_2021!E18,"") | AI15: =IF(_2021!N18<>"",_2021!C18,"") | AJ15: =_2021!D18 -> au | AK15: =IF(_2021!N18<>"",_2021!E18,"") | AM15: =IF(_2021!O18<>"",_2021!C18,"") | AN15: =_2021!D18 -> au | AO15: =IF(_2021!O18<>"",_2021!E18,"") | AQ15: =IF(_2021!P18<>"",_2021!C18,"") -> 44245 | AR15: =_2021!D18 -> au | AS15: =IF(_2021!P18<>"",_2021!E18,"") -> 44248 | AU15: =IF(_2021!Q18<>"",_2021!C18,"") | AV15: =_2021!D18 -> au | AW15: =IF(_2021!Q18<>"",_2021!E18,"") | AY15: =IF(_2021!R18<>"",_2021!C18,"") | AZ15: =_2021!D18 -> au | BA15: =IF(_2021!R18<>"",_2021!E18,"") | BC15: =IF(_2021!S18<>"",_2021!C18,"") -> 44245 | BD15: =_2021!D18 -> au | BE15: =IF(_2021!S18<>"",_2021!E18,"") -> 44248 | BG15: =IF(_2021!T18<>"",_2021!C18,"") | BH15: =_2021!D18 -> au | BI15: =IF(_2021!T18<>"",_2021!E18,"") | BK15: =IF(_2021!U18<>"",_2021!C18,"") | BL15: =_2021!D18 -> au | BM15: =IF(_2021!U18<>"",_2021!E18,"") | BO15: =IF(_2021!V18<>"",_2021!C18,"") | BP15: =_2021!D18 -> au | BQ15: =IF(_2021!V18<>"",_2021!E18,"") | BS15: =IF(_2021!W18<>"",_2021!C18,"") | BT15: =_2021!D18 -> au | BU15: =IF(_2021!W18<>"",_2021!E18,"") | BW15: =IF(_2021!X18<>"",_2021!C18,"") | BX15: =_2021!D18 -> au | BY15: =IF(_2021!X18<>"",_2021!E18,"") | CA15: =IF(_2021!Y18<>"",_2021!C18,"") | CB15: =_2021!D18 -> au | CC15: =IF(_2021!Y18<>"",_2021!E18,"") | CE15: =IF(_2021!Z18<>"",_2021!C18,"") | CF15: =_2021!D18 -> au | CG15: =IF(_2021!Z18<>"",_2021!E18,"") | CI15: =IF(_2021!AA18<>"",_2021!C18,"") | CJ15: =_2021!D18 -> au | CK15: =IF(_2021!AA18<>"",_2021!E18,"") | CM15: =IF(_2021!AB18<>"",_2021!C18,"") | CN15: =_2021!D18 -> au | CO15: =IF(_2021!AB18<>"",_2021!E18,"") | CQ15: =IF(_2021!AC18<>"",_2021!C18,"") | CR15: =_2021!D18 -> au | CS15: =IF(_2021!AC18<>"",_2021!E18,"") | CU15: =IF(_2021!AD18<>"",_2021!C18,"") | CV15: =_2021!D18 -> au | CW15: =IF(_2021!AD18<>"",_2021!E18,"") | CY15: =IF(_2021!AE18<>"",_2021!C18,"") | CZ15: =_2021!D18 -> au | DA15: =IF(_2021!AE18<>"",_2021!E18,"") | DC15: =IF(_2021!AF18<>"",_2021!C18,"") | DD15: =_2021!D18 -> au | DE15: =IF(_2021!AF18<>"",_2021!E18,"") | DG15: =IF(_2021!AG18<>"",_2021!C18,"") | DH15: =_2021!D18 -> au | DI15: =IF(_2021!AG18<>"",_2021!E18,"") | DK15: =IF(_2021!AH18<>"",_2021!C18,"") | DL15: =_2021!D18 -> au | DM15: =IF(_2021!AH18<>"",_2021!E18,"") | DO15: =IF(_2021!AI18<>"",_2021!C18,"") | DP15: =_2021!D18 -> au | DQ15: =IF(_2021!AI18<>"",_2021!E18,"")
A16: =_2021!U2 -> NOM 16 Prénom 16 | B16: =_2021!U4 -> 6 | C16: =IF(_2021!F19<>"",_2021!C19,"") | D16: =_2021!D19 -> au | E16: =IF(_2021!F19<>"",_2021!E19,"") | G16: =IF(_2021!G19<>"",_2021!C19,"") | H16: =_2021!D19 -> au | I16: =IF(_2021!G19<>"",_2021!E19,"") | K16: =IF(_2021!H19<>"",_2021!C19,"") | L16: =_2021!D19 -> au | M16: =IF(_2021!H19<>"",_2021!E19,"") | O16: =IF(_2021!I19<>"",_2021!C19,"") | P16: =_2021!D19 -> au | Q16: =IF(_2021!I19<>"",_2021!E19,"") | S16: =IF(_2021!J19<>"",_2021!C19,"") | T16: =_2021!D19 -> au | U16: =IF(_2021!J19<>"",_2021!E19,"") | W16: =IF(_2021!K19<>"",_2021!C19,"") | X16: =_2021!D19 -> au | Y16: =IF(_2021!K19<>"",_2021!E19,"") | AA16: =IF(_2021!L19<>"",_2021!C19,"") | AB16: =_2021!D19 -> au | AC16: =IF(_2021!L19<>"",_2021!E19,"") | AE16: =IF(_2021!M19<>"",_2021!C19,"") | AF16: =_2021!D19 -> au | AG16: =IF(_2021!M19<>"",_2021!E19,"") | AI16: =IF(_2021!N19<>"",_2021!C19,"") | AJ16: =_2021!D19 -> au | AK16: =IF(_2021!N19<>"",_2021!E19,"") | AM16: =IF(_2021!O19<>"",_2021!C19,"") | AN16: =_2021!D19 -> au | AO16: =IF(_2021!O19<>"",_2021!E19,"") | AQ16: =IF(_2021!P19<>"",_2021!C19,"") | AR16: =_2021!D19 -> au | AS16: =IF(_2021!P19<>"",_2021!E19,"") | AU16: =IF(_2021!Q19<>"",_2021!C19,"") -> 44248 | AV16: =_2021!D19 -> au | AW16: =IF(_2021!Q19<>"",_2021!E19,"") -> 44252 | AY16: =IF(_2021!R19<>"",_2021!C19,"") | AZ16: =_2021!D19 -> au | BA16: =IF(_2021!R19<>"",_2021!E19,"") | BC16: =IF(_2021!S19<>"",_2021!C19,"") | BD16: =_2021!D19 -> au | BE16: =IF(_2021!S19<>"",_2021!E19,"") | BG16: =IF(_2021!T19<>"",_2021!C19,"") -> 44248 | BH16: =_2021!D19 -> au | BI16: =IF(_2021!T19<>"",_2021!E19,"") -> 44252 | BK16: =IF(_2021!U19<>"",_2021!C19,"") | BL16: =_2021!D19 -> au | BM16: =IF(_2021!U19<>"",_2021!E19,"") | BO16: =IF(_2021!V19<>"",_2021!C19,"") | BP16: =_2021!D19 -> au | BQ16: =IF(_2021!V19<>"",_2021!E19,"") | BS16: =IF(_2021!W19<>"",_2021!C19,"") | BT16: =_2021!D19 -> au | BU16: =IF(_2021!W19<>"",_2021!E19,"") | BW16: =IF(_2021!X19<>"",_2021!C19,"") | BX16: =_2021!D19 -> au | BY16: =IF(_2021!X19<>"",_2021!E19,"") | CA16: =IF(_2021!Y19<>"",_2021!C19,"") | CB16: =_2021!D19 -> au | CC16: =IF(_2021!Y19<>"",_2021!E19,"") | CE16: =IF(_2021!Z19<>"",_2021!C19,"") | CF16: =_2021!D19 -> au | CG16: =IF(_2021!Z19<>"",_2021!E19,"") | CI16: =IF(_2021!AA19<>"",_2021!C19,"") | CJ16: =_2021!D19 -> au | CK16: =IF(_2021!AA19<>"",_2021!E19,"") | CM16: =IF(_2021!AB19<>"",_2021!C19,"") | CN16: =_2021!D19 -> au | CO16: =IF(_2021!AB19<>"",_2021!E19,"") | CQ16: =IF(_2021!AC19<>"",_2021!C19,"") | CR16: =_2021!D19 -> au | CS16: =IF(_2021!AC19<>"",_2021!E19,"") | CU16: =IF(_2021!AD19<>"",_2021!C19,"") | CV16: =_2021!D19 -> au | CW16: =IF(_2021!AD19<>"",_2021!E19,"") | CY16: =IF(_2021!AE19<>"",_2021!C19,"") | CZ16: =_2021!D19 -> au | DA16: =IF(_2021!AE19<>"",_2021!E19,"") | DC16: =IF(_2021!AF19<>"",_2021!C19,"") | DD16: =_2021!D19 -> au | DE16: =IF(_2021!AF19<>"",_2021!E19,"") | DG16: =IF(_2021!AG19<>"",_2021!C19,"") | DH16: =_2021!D19 -> au | DI16: =IF(_2021!AG19<>"",_2021!E19,"") | DK16: =IF(_2021!AH19<>"",_2021!C19,"") | DL16: =_2021!D19 -> au | DM16: =IF(_2021!AH19<>"",_2021!E19,"") | DO16: =IF(_2021!AI19<>"",_2021!C19,"") | DP16: =_2021!D19 -> au | DQ16: =IF(_2021!AI19<>"",_2021!E19,"")
A17: =_2021!V2 -> NOM 17 Prénom 17 | B17: =_2021!V4 -> 6 | C17: =IF(_2021!F20<>"",_2021!C20,"") | D17: =_2021!D20 -> au | E17: =IF(_2021!F20<>"",_2021!E20,"") | G17: =IF(_2021!G20<>"",_2021!C20,"") | H17: =_2021!D20 -> au | I17: =IF(_2021!G20<>"",_2021!E20,"") | K17: =IF(_2021!H20<>"",_2021!C20,"") | L17: =_2021!D20 -> au | M17: =IF(_2021!H20<>"",_2021!E20,"") | O17: =IF(_2021!I20<>"",_2021!C20,"") | P17: =_2021!D20 -> au | Q17: =IF(_2021!I20<>"",_2021!E20,"") | S17: =IF(_2021!J20<>"",_2021!C20,"") | T17: =_2021!D20 -> au | U17: =IF(_2021!J20<>"",_2021!E20,"") | W17: =IF(_2021!K20<>"",_2021!C20,"") | X17: =_2021!D20 -> au | Y17: =IF(_2021!K20<>"",_2021!E20,"") | AA17: =IF(_2021!L20<>"",_2021!C20,"") | AB17: =_2021!D20 -> au | AC17: =IF(_2021!L20<>"",_2021!E20,"") | AE17: =IF(_2021!M20<>"",_2021!C20,"") | AF17: =_2021!D20 -> au | AG17: =IF(_2021!M20<>"",_2021!E20,"") | AI17: =IF(_2021!N20<>"",_2021!C20,"") | AJ17: =_2021!D20 -> au | AK17: =IF(_2021!N20<>"",_2021!E20,"") | AM17: =IF(_2021!O20<>"",_2021!C20,"") | AN17: =_2021!D20 -> au | AO17: =IF(_2021!O20<>"",_2021!E20,"") | AQ17: =IF(_2021!P20<>"",_2021!C20,"") | AR17: =_2021!D20 -> au | AS17: =IF(_2021!P20<>"",_2021!E20,"") | AU17: =IF(_2021!Q20<>"",_2021!C20,"") | AV17: =_2021!D20 -> au | AW17: =IF(_2021!Q20<>"",_2021!E20,"") | AY17: =IF(_2021!R20<>"",_2021!C20,"") -> 44252 | AZ17: =_2021!D20 -> au | BA17: =IF(_2021!R20<>"",_2021!E20,"") -> 44255 | BC17: =IF(_2021!S20<>"",_2021!C20,"") | BD17: =_2021!D20 -> au | BE17: =IF(_2021!S20<>"",_2021!E20,"") | BG17: =IF(_2021!T20<>"",_2021!C20,"") | BH17: =_2021!D20 -> au | BI17: =IF(_2021!T20<>"",_2021!E20,"") | BK17: =IF(_2021!U20<>"",_2021!C20,"") -> 44252 | BL17: =_2021!D20 -> au | BM17: =IF(_2021!U20<>"",_2021!E20,"") -> 44255 | BO17: =IF(_2021!V20<>"",_2021!C20,"") | BP17: =_2021!D20 -> au | BQ17: =IF(_2021!V20<>"",_2021!E20,"") | BS17: =IF(_2021!W20<>"",_2021!C20,"") | BT17: =_2021!D20 -> au | BU17: =IF(_2021!W20<>"",_2021!E20,"") | BW17: =IF(_2021!X20<>"",_2021!C20,"") | BX17: =_2021!D20 -> au | BY17: =IF(_2021!X20<>"",_2021!E20,"") | CA17: =IF(_2021!Y20<>"",_2021!C20,"") | CB17: =_2021!D20 -> au | CC17: =IF(_2021!Y20<>"",_2021!E20,"") | CE17: =IF(_2021!Z20<>"",_2021!C20,"") | CF17: =_2021!D20 -> au | CG17: =IF(_2021!Z20<>"",_2021!E20,"") | CI17: =IF(_2021!AA20<>"",_2021!C20,"") | CJ17: =_2021!D20 -> au | CK17: =IF(_2021!AA20<>"",_2021!E20,"") | CM17: =IF(_2021!AB20<>"",_2021!C20,"") | CN17: =_2021!D20 -> au | CO17: =IF(_2021!AB20<>"",_2021!E20,"") | CQ17: =IF(_2021!AC20<>"",_2021!C20,"") | CR17: =_2021!D20 -> au | CS17: =IF(_2021!AC20<>"",_2021!E20,"") | CU17: =IF(_2021!AD20<>"",_2021!C20,"") | CV17: =_2021!D20 -> au | CW17: =IF(_2021!AD20<>"",_2021!E20,"") | CY17: =IF(_2021!AE20<>"",_2021!C20,"") | CZ17: =_2021!D20 -> au | DA17: =IF(_2021!AE20<>"",_2021!E20,"") | DC17: =IF(_2021!AF20<>"",_2021!C20,"") | DD17: =_2021!D20 -> au | DE17: =IF(_2021!AF20<>"",_2021!E20,"") | DG17: =IF(_2021!AG20<>"",_2021!C20,"") | DH17: =_2021!D20 -> au | DI17: =IF(_2021!AG20<>"",_2021!E20,"") | DK17: =IF(_2021!AH20<>"",_2021!C20,"") | DL17: =_2021!D20 -> au | DM17: =IF(_2021!AH20<>"",_2021!E20,"") | DO17: =IF(_2021!AI20<>"",_2021!C20,"") | DP17: =_2021!D20 -> au | DQ17: =IF(_2021!AI20<>"",_2021!E20,"")
A18: =_2021!W2 -> NOM 18 Prénom 18 | B18: =_2021!W4 -> 6 | C18: =IF(_2021!F21<>"",_2021!C21,"") | D18: =_2021!D21 -> au | E18: =IF(_2021!F21<>"",_2021!E21,"") | G18: =IF(_2021!G21<>"",_2021!C21,"") | H18: =_2021!D21 -> au | I18: =IF(_2021!G21<>"",_2021!E21,"") | K18: =IF(_2021!H21<>"",_2021!C21,"") | L18: =_2021!D21 -> au | M18: =IF(_2021!H21<>"",_2021!E21,"") | O18: =IF(_2021!I21<>"",_2021!C21,"") | P18: =_2021!D21 -> au | Q18: =IF(_2021!I21<>"",_2021!E21,"") | S18: =IF(_2021!J21<>"",_2021!C21,"") | T18: =_2021!D21 -> au | U18: =IF(_2021!J21<>"",_2021!E21,"") | W18: =IF(_2021!K21<>"",_2021!C21,"") | X18: =_2021!D21 -> au | Y18: =IF(_2021!K21<>"",_2021!E21,"") | AA18: =IF(_2021!L21<>"",_2021!C21,"") | AB18: =_2021!D21 -> au | AC18: =IF(_2021!L21<>"",_2021!E21,"") | AE18: =IF(_2021!M21<>"",_2021!C21,"") | AF18: =_2021!D21 -> au | AG18: =IF(_2021!M21<>"",_2021!E21,"") | AI18: =IF(_2021!N21<>"",_2021!C21,"") | AJ18: =_2021!D21 -> au | AK18: =IF(_2021!N21<>"",_2021!E21,"") | AM18: =IF(_2021!O21<>"",_2021!C21,"") | AN18: =_2021!D21 -> au | AO18: =IF(_2021!O21<>"",_2021!E21,"") | AQ18: =IF(_2021!P21<>"",_2021!C21,"") | AR18: =_2021!D21 -> au | AS18: =IF(_2021!P21<>"",_2021!E21,"") | AU18: =IF(_2021!Q21<>"",_2021!C21,"") | AV18: =_2021!D21 -> au | AW18: =IF(_2021!Q21<>"",_2021!E21,"") | AY18: =IF(_2021!R21<>"",_2021!C21,"") | AZ18: =_2021!D21 -> au | BA18: =IF(_2021!R21<>"",_2021!E21,"") | BC18: =IF(_2021!S21<>"",_2021!C21,"") -> 44255 | BD18: =_2021!D21 -> au | BE18: =IF(_2021!S21<>"",_2021!E21,"") -> 44259 | BG18: =IF(_2021!T21<>"",_2021!C21,"") | BH18: =_2021!D21 -> au | BI18: =IF(_2021!T21<>"",_2021!E21,"") | BK18: =IF(_2021!U21<>"",_2021!C21,"") | BL18: =_2021!D21 -> au | BM18: =IF(_2021!U21<>"",_2021!E21,"") | BO18: =IF(_2021!V21<>"",_2021!C21,"") -> 44255 | BP18: =_2021!D21 -> au | BQ18: =IF(_2021!V21<>"",_2021!E21,"") -> 44259 | BS18: =IF(_2021!W21<>"",_2021!C21,"") | BT18: =_2021!D21 -> au | BU18: =IF(_2021!W21<>"",_2021!E21,"") | BW18: =IF(_2021!X21<>"",_2021!C21,"") | BX18: =_2021!D21 -> au | BY18: =IF(_2021!X21<>"",_2021!E21,"") | CA18: =IF(_2021!Y21<>"",_2021!C21,"") | CB18: =_2021!D21 -> au | CC18: =IF(_2021!Y21<>"",_2021!E21,"") | CE18: =IF(_2021!Z21<>"",_2021!C21,"") | CF18: =_2021!D21 -> au | CG18: =IF(_2021!Z21<>"",_2021!E21,"") | CI18: =IF(_2021!AA21<>"",_2021!C21,"") | CJ18: =_2021!D21 -> au | CK18: =IF(_2021!AA21<>"",_2021!E21,"") | CM18: =IF(_2021!AB21<>"",_2021!C21,"") | CN18: =_2021!D21 -> au | CO18: =IF(_2021!AB21<>"",_2021!E21,"") | CQ18: =IF(_2021!AC21<>"",_2021!C21,"") | CR18: =_2021!D21 -> au | CS18: =IF(_2021!AC21<>"",_2021!E21,"") | CU18: =IF(_2021!AD21<>"",_2021!C21,"") | CV18: =_2021!D21 -> au | CW18: =IF(_2021!AD21<>"",_2021!E21,"") | CY18: =IF(_2021!AE21<>"",_2021!C21,"") | CZ18: =_2021!D21 -> au | DA18: =IF(_2021!AE21<>"",_2021!E21,"") | DC18: =IF(_2021!AF21<>"",_2021!C21,"") | DD18: =_2021!D21 -> au | DE18: =IF(_2021!AF21<>"",_2021!E21,"") | DG18: =IF(_2021!AG21<>"",_2021!C21,"") | DH18: =_2021!D21 -> au | DI18: =IF(_2021!AG21<>"",_2021!E21,"") | DK18: =IF(_2021!AH21<>"",_2021!C21,"") | DL18: =_2021!D21 -> au | DM18: =IF(_2021!AH21<>"",_2021!E21,"") | DO18: =IF(_2021!AI21<>"",_2021!C21,"") | DP18: =_2021!D21 -> au | DQ18: =IF(_2021!AI21<>"",_2021!E21,"")
A19: =_2021!X2 -> NOM 19 Prénom 19 | B19: =_2021!X4 -> 6 | C19: =IF(_2021!F22<>"",_2021!C22,"") | D19: =_2021!D22 -> au | E19: =IF(_2021!F22<>"",_2021!E22,"") | G19: =IF(_2021!G22<>"",_2021!C22,"") | H19: =_2021!D22 -> au | I19: =IF(_2021!G22<>"",_2021!E22,"") | K19: =IF(_2021!H22<>"",_2021!C22,"") | L19: =_2021!D22 -> au | M19: =IF(_2021!H22<>"",_2021!E22,"") | O19: =IF(_2021!I22<>"",_2021!C22,"") | P19: =_2021!D22 -> au | Q19: =IF(_2021!I22<>"",_2021!E22,"") | S19: =IF(_2021!J22<>"",_2021!C22,"") | T19: =_2021!D22 -> au | U19: =IF(_2021!J22<>"",_2021!E22,"") | W19: =IF(_2021!K22<>"",_2021!C22,"") | X19: =_2021!D22 -> au | Y19: =IF(_2021!K22<>"",_2021!E22,"") | AA19: =IF(_2021!L22<>"",_2021!C22,"") | AB19: =_2021!D22 -> au | AC19: =IF(_2021!L22<>"",_2021!E22,"") | AE19: =IF(_2021!M22<>"",_2021!C22,"") | AF19: =_2021!D22 -> au | AG19: =IF(_2021!M22<>"",_2021!E22,"") | AI19: =IF(_2021!N22<>"",_2021!C22,"") | AJ19: =_2021!D22 -> au | AK19: =IF(_2021!N22<>"",_2021!E22,"") | AM19: =IF(_2021!O22<>"",_2021!C22,"") | AN19: =_2021!D22 -> au | AO19: =IF(_2021!O22<>"",_2021!E22,"") | AQ19: =IF(_2021!P22<>"",_2021!C22,"") | AR19: =_2021!D22 -> au | AS19: =IF(_2021!P22<>"",_2021!E22,"") | AU19: =IF(_2021!Q22<>"",_2021!C22,"") | AV19: =_2021!D22 -> au | AW19: =IF(_2021!Q22<>"",_2021!E22,"") | AY19: =IF(_2021!R22<>"",_2021!C22,"") | AZ19: =_2021!D22 -> au | BA19: =IF(_2021!R22<>"",_2021!E22,"") | BC19: =IF(_2021!S22<>"",_2021!C22,"") | BD19: =_2021!D22 -> au | BE19: =IF(_2021!S22<>"",_2021!E22,"") | BG19: =IF(_2021!T22<>"",_2021!C22,"") -> 44259 | BH19: =_2021!D22 -> au | BI19: =IF(_2021!T22<>"",_2021!E22,"") -> 44262 | BK19: =IF(_2021!U22<>"",_2021!C22,"") | BL19: =_2021!D22 -> au | BM19: =IF(_2021!U22<>"",_2021!E22,"") | BO19: =IF(_2021!V22<>"",_2021!C22,"") | BP19: =_2021!D22 -> au | BQ19: =IF(_2021!V22<>"",_2021!E22,"") | BS19: =IF(_2021!W22<>"",_2021!C22,"") -> 44259 | BT19: =_2021!D22 -> au | BU19: =IF(_2021!W22<>"",_2021!E22,"") -> 44262 | BW19: =IF(_2021!X22<>"",_2021!C22,"") | BX19: =_2021!D22 -> au | BY19: =IF(_2021!X22<>"",_2021!E22,"") | CA19: =IF(_2021!Y22<>"",_2021!C22,"") | CB19: =_2021!D22 -> au | CC19: =IF(_2021!Y22<>"",_2021!E22,"") | CE19: =IF(_2021!Z22<>"",_2021!C22,"") | CF19: =_2021!D22 -> au | CG19: =IF(_2021!Z22<>"",_2021!E22,"") | CI19: =IF(_2021!AA22<>"",_2021!C22,"") | CJ19: =_2021!D22 -> au | CK19: =IF(_2021!AA22<>"",_2021!E22,"") | CM19: =IF(_2021!AB22<>"",_2021!C22,"") | CN19: =_2021!D22 -> au | CO19: =IF(_2021!AB22<>"",_2021!E22,"") | CQ19: =IF(_2021!AC22<>"",_2021!C22,"") | CR19: =_2021!D22 -> au | CS19: =IF(_2021!AC22<>"",_2021!E22,"") | CU19: =IF(_2021!AD22<>"",_2021!C22,"") | CV19: =_2021!D22 -> au | CW19: =IF(_2021!AD22<>"",_2021!E22,"") | CY19: =IF(_2021!AE22<>"",_2021!C22,"") | CZ19: =_2021!D22 -> au | DA19: =IF(_2021!AE22<>"",_2021!E22,"") | DC19: =IF(_2021!AF22<>"",_2021!C22,"") | DD19: =_2021!D22 -> au | DE19: =IF(_2021!AF22<>"",_2021!E22,"") | DG19: =IF(_2021!AG22<>"",_2021!C22,"") | DH19: =_2021!D22 -> au | DI19: =IF(_2021!AG22<>"",_2021!E22,"") | DK19: =IF(_2021!AH22<>"",_2021!C22,"") | DL19: =_2021!D22 -> au | DM19: =IF(_2021!AH22<>"",_2021!E22,"") | DO19: =IF(_2021!AI22<>"",_2021!C22,"") | DP19: =_2021!D22 -> au | DQ19: =IF(_2021!AI22<>"",_2021!E22,"")
A20: =_2021!Y2 -> NOM 20 Prénom 20 | B20: =_2021!Y4 -> 6 | C20: =IF(_2021!F23<>"",_2021!C23,"") | D20: =_2021!D23 -> au | E20: =IF(_2021!F23<>"",_2021!E23,"") | G20: =IF(_2021!G23<>"",_2021!C23,"") | H20: =_2021!D23 -> au | I20: =IF(_2021!G23<>"",_2021!E23,"") | K20: =IF(_2021!H23<>"",_2021!C23,"") | L20: =_2021!D23 -> au | M20: =IF(_2021!H23<>"",_2021!E23,"") | O20: =IF(_2021!I23<>"",_2021!C23,"") | P20: =_2021!D23 -> au | Q20: =IF(_2021!I23<>"",_2021!E23,"") | S20: =IF(_2021!J23<>"",_2021!C23,"") | T20: =_2021!D23 -> au | U20: =IF(_2021!J23<>"",_2021!E23,"") | W20: =IF(_2021!K23<>"",_2021!C23,"") | X20: =_2021!D23 -> au | Y20: =IF(_2021!K23<>"",_2021!E23,"") | AA20: =IF(_2021!L23<>"",_2021!C23,"") | AB20: =_2021!D23 -> au | AC20: =IF(_2021!L23<>"",_2021!E23,"") | AE20: =IF(_2021!M23<>"",_2021!C23,"") | AF20: =_2021!D23 -> au | AG20: =IF(_2021!M23<>"",_2021!E23,"") | AI20: =IF(_2021!N23<>"",_2021!C23,"") | AJ20: =_2021!D23 -> au | AK20: =IF(_2021!N23<>"",_2021!E23,"") | AM20: =IF(_2021!O23<>"",_2021!C23,"") | AN20: =_2021!D23 -> au | AO20: =IF(_2021!O23<>"",_2021!E23,"") | AQ20: =IF(_2021!P23<>"",_2021!C23,"") | AR20: =_2021!D23 -> au | AS20: =IF(_2021!P23<>"",_2021!E23,"") | AU20: =IF(_2021!Q23<>"",_2021!C23,"") | AV20: =_2021!D23 -> au | AW20: =IF(_2021!Q23<>"",_2021!E23,"") | AY20: =IF(_2021!R23<>"",_2021!C23,"") | AZ20: =_2021!D23 -> au | BA20: =IF(_2021!R23<>"",_2021!E23,"") | BC20: =IF(_2021!S23<>"",_2021!C23,"") | BD20: =_2021!D23 -> au | BE20: =IF(_2021!S23<>"",_2021!E23,"") | BG20: =IF(_2021!T23<>"",_2021!C23,"") | BH20: =_2021!D23 -> au | BI20: =IF(_2021!T23<>"",_2021!E23,"") | BK20: =IF(_2021!U23<>"",_2021!C23,"") -> 44262 | BL20: =_2021!D23 -> au | BM20: =IF(_2021!U23<>"",_2021!E23,"") -> 44266 | BO20: =IF(_2021!V23<>"",_2021!C23,"") | BP20: =_2021!D23 -> au | BQ20: =IF(_2021!V23<>"",_2021!E23,"") | BS20: =IF(_2021!W23<>"",_2021!C23,"") | BT20: =_2021!D23 -> au | BU20: =IF(_2021!W23<>"",_2021!E23,"") | BW20: =IF(_2021!X23<>"",_2021!C23,"") -> 44262 | BX20: =_2021!D23 -> au | BY20: =IF(_2021!X23<>"",_2021!E23,"") -> 44266 | CA20: =IF(_2021!Y23<>"",_2021!C23,"") | CB20: =_2021!D23 -> au | CC20: =IF(_2021!Y23<>"",_2021!E23,"") | CE20: =IF(_2021!Z23<>"",_2021!C23,"") | CF20: =_2021!D23 -> au | CG20: =IF(_2021!Z23<>"",_2021!E23,"") | CI20: =IF(_2021!AA23<>"",_2021!C23,"") | CJ20: =_2021!D23 -> au | CK20: =IF(_2021!AA23<>"",_2021!E23,"") | CM20: =IF(_2021!AB23<>"",_2021!C23,"") | CN20: =_2021!D23 -> au | CO20: =IF(_2021!AB23<>"",_2021!E23,"") | CQ20: =IF(_2021!AC23<>"",_2021!C23,"") | CR20: =_2021!D23 -> au | CS20: =IF(_2021!AC23<>"",_2021!E23,"") | CU20: =IF(_2021!AD23<>"",_2021!C23,"") | CV20: =_2021!D23 -> au | CW20: =IF(_2021!AD23<>"",_2021!E23,"") | CY20: =IF(_2021!AE23<>"",_2021!C23,"") | CZ20: =_2021!D23 -> au | DA20: =IF(_2021!AE23<>"",_2021!E23,"") | DC20: =IF(_2021!AF23<>"",_2021!C23,"") | DD20: =_2021!D23 -> au | DE20: =IF(_2021!AF23<>"",_2021!E23,"") | DG20: =IF(_2021!AG23<>"",_2021!C23,"") | DH20: =_2021!D23 -> au | DI20: =IF(_2021!AG23<>"",_2021!E23,"") | DK20: =IF(_2021!AH23<>"",_2021!C23,"") | DL20: =_2021!D23 -> au | DM20: =IF(_2021!AH23<>"",_2021!E23,"") | DO20: =IF(_2021!AI23<>"",_2021!C23,"") | DP20: =_2021!D23 -> au | DQ20: =IF(_2021!AI23<>"",_2021!E23,"")
A21: =_2021!Z2 -> NOM 21 Prénom 21 | B21: =_2021!Z4 -> 6 | C21: =IF(_2021!F24<>"",_2021!C24,"") | D21: =_2021!D24 -> au | E21: =IF(_2021!F24<>"",_2021!E24,"") | G21: =IF(_2021!G24<>"",_2021!C24,"") | H21: =_2021!D24 -> au | I21: =IF(_2021!G24<>"",_2021!E24,"") | K21: =IF(_2021!H24<>"",_2021!C24,"") | L21: =_2021!D24 -> au | M21: =IF(_2021!H24<>"",_2021!E24,"") | O21: =IF(_2021!I24<>"",_2021!C24,"") | P21: =_2021!D24 -> au | Q21: =IF(_2021!I24<>"",_2021!E24,"") | S21: =IF(_2021!J24<>"",_2021!C24,"") | T21: =_2021!D24 -> au | U21: =IF(_2021!J24<>"",_2021!E24,"") | W21: =IF(_2021!K24<>"",_2021!C24,"") | X21: =_2021!D24 -> au | Y21: =IF(_2021!K24<>"",_2021!E24,"") | AA21: =IF(_2021!L24<>"",_2021!C24,"") | AB21: =_2021!D24 -> au | AC21: =IF(_2021!L24<>"",_2021!E24,"") | AE21: =IF(_2021!M24<>"",_2021!C24,"") | AF21: =_2021!D24 -> au | AG21: =IF(_2021!M24<>"",_2021!E24,"") | AI21: =IF(_2021!N24<>"",_2021!C24,"") | AJ21: =_2021!D24 -> au | AK21: =IF(_2021!N24<>"",_2021!E24,"") | AM21: =IF(_2021!O24<>"",_2021!C24,"") | AN21: =_2021!D24 -> au | AO21: =IF(_2021!O24<>"",_2021!E24,"") | AQ21: =IF(_2021!P24<>"",_2021!C24,"") | AR21: =_2021!D24 -> au | AS21: =IF(_2021!P24<>"",_2021!E24,"") | AU21: =IF(_2021!Q24<>"",_2021!C24,"") | AV21: =_2021!D24 -> au | AW21: =IF(_2021!Q24<>"",_2021!E24,"") | AY21: =IF(_2021!R24<>"",_2021!C24,"") | AZ21: =_2021!D24 -> au | BA21: =IF(_2021!R24<>"",_2021!E24,"") | BC21: =IF(_2021!S24<>"",_2021!C24,"") | BD21: =_2021!D24 -> au | BE21: =IF(_2021!S24<>"",_2021!E24,"") | BG21: =IF(_2021!T24<>"",_2021!C24,"") | BH21: =_2021!D24 -> au | BI21: =IF(_2021!T24<>"",_2021!E24,"") | BK21: =IF(_2021!U24<>"",_2021!C24,"") | BL21: =_2021!D24 -> au | BM21: =IF(_2021!U24<>"",_2021!E24,"") | BO21: =IF(_2021!V24<>"",_2021!C24,"") -> 44266 | BP21: =_2021!D24 -> au | BQ21: =IF(_2021!V24<>"",_2021!E24,"") -> 44269 | BS21: =IF(_2021!W24<>"",_2021!C24,"") | BT21: =_2021!D24 -> au | BU21: =IF(_2021!W24<>"",_2021!E24,"") | BW21: =IF(_2021!X24<>"",_2021!C24,"") | BX21: =_2021!D24 -> au | BY21: =IF(_2021!X24<>"",_2021!E24,"") | CA21: =IF(_2021!Y24<>"",_2021!C24,"") -> 44266 | CB21: =_2021!D24 -> au | CC21: =IF(_2021!Y24<>"",_2021!E24,"") -> 44269 | CE21: =IF(_2021!Z24<>"",_2021!C24,"") | CF21: =_2021!D24 -> au | CG21: =IF(_2021!Z24<>"",_2021!E24,"") | CI21: =IF(_2021!AA24<>"",_2021!C24,"") | CJ21: =_2021!D24 -> au | CK21: =IF(_2021!AA24<>"",_2021!E24,"") | CM21: =IF(_2021!AB24<>"",_2021!C24,"") | CN21: =_2021!D24 -> au | CO21: =IF(_2021!AB24<>"",_2021!E24,"") | CQ21: =IF(_2021!AC24<>"",_2021!C24,"") | CR21: =_2021!D24 -> au | CS21: =IF(_2021!AC24<>"",_2021!E24,"") | CU21: =IF(_2021!AD24<>"",_2021!C24,"") | CV21: =_2021!D24 -> au | CW21: =IF(_2021!AD24<>"",_2021!E24,"") | CY21: =IF(_2021!AE24<>"",_2021!C24,"") | CZ21: =_2021!D24 -> au | DA21: =IF(_2021!AE24<>"",_2021!E24,"") | DC21: =IF(_2021!AF24<>"",_2021!C24,"") | DD21: =_2021!D24 -> au | DE21: =IF(_2021!AF24<>"",_2021!E24,"") | DG21: =IF(_2021!AG24<>"",_2021!C24,"") | DH21: =_2021!D24 -> au | DI21: =IF(_2021!AG24<>"",_2021!E24,"") | DK21: =IF(_2021!AH24<>"",_2021!C24,"") | DL21: =_2021!D24 -> au | DM21: =IF(_2021!AH24<>"",_2021!E24,"") | DO21: =IF(_2021!AI24<>"",_2021!C24,"") | DP21: =_2021!D24 -> au | DQ21: =IF(_2021!AI24<>"",_2021!E24,"")
A22: =_2021!AA2 -> NOM 22 Prénom 22 | B22: =_2021!AA4 -> 6 | C22: =IF(_2021!F25<>"",_2021!C25,"") | D22: =_2021!D25 -> au | E22: =IF(_2021!F25<>"",_2021!E25,"") | G22: =IF(_2021!G25<>"",_2021!C25,"") | H22: =_2021!D25 -> au | I22: =IF(_2021!G25<>"",_2021!E25,"") | K22: =IF(_2021!H25<>"",_2021!C25,"") | L22: =_2021!D25 -> au | M22: =IF(_2021!H25<>"",_2021!E25,"") | O22: =IF(_2021!I25<>"",_2021!C25,"") | P22: =_2021!D25 -> au | Q22: =IF(_2021!I25<>"",_2021!E25,"") | S22: =IF(_2021!J25<>"",_2021!C25,"") | T22: =_2021!D25 -> au | U22: =IF(_2021!J25<>"",_2021!E25,"") | W22: =IF(_2021!K25<>"",_2021!C25,"") | X22: =_2021!D25 -> au | Y22: =IF(_2021!K25<>"",_2021!E25,"") | AA22: =IF(_2021!L25<>"",_2021!C25,"") | AB22: =_2021!D25 -> au | AC22: =IF(_2021!L25<>"",_2021!E25,"") | AE22: =IF(_2021!M25<>"",_2021!C25,"") | AF22: =_2021!D25 -> au | AG22: =IF(_2021!M25<>"",_2021!E25,"") | AI22: =IF(_2021!N25<>"",_2021!C25,"") | AJ22: =_2021!D25 -> au | AK22: =IF(_2021!N25<>"",_2021!E25,"") | AM22: =IF(_2021!O25<>"",_2021!C25,"") | AN22: =_2021!D25 -> au | AO22: =IF(_2021!O25<>"",_2021!E25,"") | AQ22: =IF(_2021!P25<>"",_2021!C25,"") | AR22: =_2021!D25 -> au | AS22: =IF(_2021!P25<>"",_2021!E25,"") | AU22: =IF(_2021!Q25<>"",_2021!C25,"") | AV22: =_2021!D25 -> au | AW22: =IF(_2021!Q25<>"",_2021!E25,"") | AY22: =IF(_2021!R25<>"",_2021!C25,"") | AZ22: =_2021!D25 -> au | BA22: =IF(_2021!R25<>"",_2021!E25,"") | BC22: =IF(_2021!S25<>"",_2021!C25,"") | BD22: =_2021!D25 -> au | BE22: =IF(_2021!S25<>"",_2021!E25,"") | BG22: =IF(_2021!T25<>"",_2021!C25,"") | BH22: =_2021!D25 -> au | BI22: =IF(_2021!T25<>"",_2021!E25,"") | BK22: =IF(_2021!U25<>"",_2021!C25,"") | BL22: =_2021!D25 -> au | BM22: =IF(_2021!U25<>"",_2021!E25,"") | BO22: =IF(_2021!V25<>"",_2021!C25,"") | BP22: =_2021!D25 -> au | BQ22: =IF(_2021!V25<>"",_2021!E25,"") | BS22: =IF(_2021!W25<>"",_2021!C25,"") -> 44269 | BT22: =_2021!D25 -> au | BU22: =IF(_2021!W25<>"",_2021!E25,"") -> 44273 | BW22: =IF(_2021!X25<>"",_2021!C25,"") | BX22: =_2021!D25 -> au | BY22: =IF(_2021!X25<>"",_2021!E25,"") | CA22: =IF(_2021!Y25<>"",_2021!C25,"") | CB22: =_2021!D25 -> au | CC22: =IF(_2021!Y25<>"",_2021!E25,"") | CE22: =IF(_2021!Z25<>"",_2021!C25,"") -> 44269 | CF22: =_2021!D25 -> au | CG22: =IF(_2021!Z25<>"",_2021!E25,"") -> 44273 | CI22: =IF(_2021!AA25<>"",_2021!C25,"") | CJ22: =_2021!D25 -> au | CK22: =IF(_2021!AA25<>"",_2021!E25,"") | CM22: =IF(_2021!AB25<>"",_2021!C25,"") | CN22: =_2021!D25 -> au | CO22: =IF(_2021!AB25<>"",_2021!E25,"") | CQ22: =IF(_2021!AC25<>"",_2021!C25,"") | CR22: =_2021!D25 -> au | CS22: =IF(_2021!AC25<>"",_2021!E25,"") | CU22: =IF(_2021!AD25<>"",_2021!C25,"") | CV22: =_2021!D25 -> au | CW22: =IF(_2021!AD25<>"",_2021!E25,"") | CY22: =IF(_2021!AE25<>"",_2021!C25,"") | CZ22: =_2021!D25 -> au | DA22: =IF(_2021!AE25<>"",_2021!E25,"") | DC22: =IF(_2021!AF25<>"",_2021!C25,"") | DD22: =_2021!D25 -> au | DE22: =IF(_2021!AF25<>"",_2021!E25,"") | DG22: =IF(_2021!AG25<>"",_2021!C25,"") | DH22: =_2021!D25 -> au | DI22: =IF(_2021!AG25<>"",_2021!E25,"") | DK22: =IF(_2021!AH25<>"",_2021!C25,"") | DL22: =_2021!D25 -> au | DM22: =IF(_2021!AH25<>"",_2021!E25,"") | DO22: =IF(_2021!AI25<>"",_2021!C25,"") | DP22: =_2021!D25 -> au | DQ22: =IF(_2021!AI25<>"",_2021!E25,"")
A23: =_2021!AB2 -> NOM 23 Prénom 23 | B23: =_2021!AB4 -> 6 | C23: =IF(_2021!F26<>"",_2021!C26,"") | D23: =_2021!D26 -> au | E23: =IF(_2021!F26<>"",_2021!E26,"") | G23: =IF(_2021!G26<>"",_2021!C26,"") | H23: =_2021!D26 -> au | I23: =IF(_2021!G26<>"",_2021!E26,"") | K23: =IF(_2021!H26<>"",_2021!C26,"") | L23: =_2021!D26 -> au | M23: =IF(_2021!H26<>"",_2021!E26,"") | O23: =IF(_2021!I26<>"",_2021!C26,"") | P23: =_2021!D26 -> au | Q23: =IF(_2021!I26<>"",_2021!E26,"") | S23: =IF(_2021!J26<>"",_2021!C26,"") | T23: =_2021!D26 -> au | U23: =IF(_2021!J26<>"",_2021!E26,"") | W23: =IF(_2021!K26<>"",_2021!C26,"") | X23: =_2021!D26 -> au | Y23: =IF(_2021!K26<>"",_2021!E26,"") | AA23: =IF(_2021!L26<>"",_2021!C26,"") | AB23: =_2021!D26 -> au | AC23: =IF(_2021!L26<>"",_2021!E26,"") | AE23: =IF(_2021!M26<>"",_2021!C26,"") | AF23: =_2021!D26 -> au | AG23: =IF(_2021!M26<>"",_2021!E26,"") | AI23: =IF(_2021!N26<>"",_2021!C26,"") | AJ23: =_2021!D26 -> au | AK23: =IF(_2021!N26<>"",_2021!E26,"") | AM23: =IF(_2021!O26<>"",_2021!C26,"") | AN23: =_2021!D26 -> au | AO23: =IF(_2021!O26<>"",_2021!E26,"") | AQ23: =IF(_2021!P26<>"",_2021!C26,"") | AR23: =_2021!D26 -> au | AS23: =IF(_2021!P26<>"",_2021!E26,"") | AU23: =IF(_2021!Q26<>"",_2021!C26,"") | AV23: =_2021!D26 -> au | AW23: =IF(_2021!Q26<>"",_2021!E26,"") | AY23: =IF(_2021!R26<>"",_2021!C26,"") | AZ23: =_2021!D26 -> au | BA23: =IF(_2021!R26<>"",_2021!E26,"") | BC23: =IF(_2021!S26<>"",_2021!C26,"") | BD23: =_2021!D26 -> au | BE23: =IF(_2021!S26<>"",_2021!E26,"") | BG23: =IF(_2021!T26<>"",_2021!C26,"") | BH23: =_2021!D26 -> au | BI23: =IF(_2021!T26<>"",_2021!E26,"") | BK23: =IF(_2021!U26<>"",_2021!C26,"") | BL23: =_2021!D26 -> au | BM23: =IF(_2021!U26<>"",_2021!E26,"") | BO23: =IF(_2021!V26<>"",_2021!C26,"") | BP23: =_2021!D26 -> au | BQ23: =IF(_2021!V26<>"",_2021!E26,"") | BS23: =IF(_2021!W26<>"",_2021!C26,"") | BT23: =_2021!D26 -> au | BU23: =IF(_2021!W26<>"",_2021!E26,"") | BW23: =IF(_2021!X26<>"",_2021!C26,"") -> 44273 | BX23: =_2021!D26 -> au | BY23: =IF(_2021!X26<>"",_2021!E26,"") -> 44276 | CA23: =IF(_2021!Y26<>"",_2021!C26,"") | CB23: =_2021!D26 -> au | CC23: =IF(_2021!Y26<>"",_2021!E26,"") | CE23: =IF(_2021!Z26<>"",_2021!C26,"") | CF23: =_2021!D26 -> au | CG23: =IF(_2021!Z26<>"",_2021!E26,"") | CI23: =IF(_2021!AA26<>"",_2021!C26,"") -> 44273 | CJ23: =_2021!D26 -> au | CK23: =IF(_2021!AA26<>"",_2021!E26,"") -> 44276 | CM23: =IF(_2021!AB26<>"",_2021!C26,"") | CN23: =_2021!D26 -> au | CO23: =IF(_2021!AB26<>"",_2021!E26,"") | CQ23: =IF(_2021!AC26<>"",_2021!C26,"") | CR23: =_2021!D26 -> au | CS23: =IF(_2021!AC26<>"",_2021!E26,"") | CU23: =IF(_2021!AD26<>"",_2021!C26,"") | CV23: =_2021!D26 -> au | CW23: =IF(_2021!AD26<>"",_2021!E26,"") | CY23: =IF(_2021!AE26<>"",_2021!C26,"") | CZ23: =_2021!D26 -> au | DA23: =IF(_2021!AE26<>"",_2021!E26,"") | DC23: =IF(_2021!AF26<>"",_2021!C26,"") | DD23: =_2021!D26 -> au | DE23: =IF(_2021!AF26<>"",_2021!E26,"") | DG23: =IF(_2021!AG26<>"",_2021!C26,"") | DH23: =_2021!D26 -> au | DI23: =IF(_2021!AG26<>"",_2021!E26,"") | DK23: =IF(_2021!AH26<>"",_2021!C26,"") | DL23: =_2021!D26 -> au | DM23: =IF(_2021!AH26<>"",_2021!E26,"") | DO23: =IF(_2021!AI26<>"",_2021!C26,"") | DP23: =_2021!D26 -> au | DQ23: =IF(_2021!AI26<>"",_2021!E26,"")
A24: =_2021!AC2 -> NOM 24 Prénom 24 | B24: =_2021!AC4 -> 5 | C24: =IF(_2021!F27<>"",_2021!C27,"") | D24: =_2021!D27 -> au | E24: =IF(_2021!F27<>"",_2021!E27,"") | G24: =IF(_2021!G27<>"",_2021!C27,"") | H24: =_2021!D27 -> au | I24: =IF(_2021!G27<>"",_2021!E27,"") | K24: =IF(_2021!H27<>"",_2021!C27,"") | L24: =_2021!D27 -> au | M24: =IF(_2021!H27<>"",_2021!E27,"") | O24: =IF(_2021!I27<>"",_2021!C27,"") | P24: =_2021!D27 -> au | Q24: =IF(_2021!I27<>"",_2021!E27,"") | S24: =IF(_2021!J27<>"",_2021!C27,"") | T24: =_2021!D27 -> au | U24: =IF(_2021!J27<>"",_2021!E27,"") | W24: =IF(_2021!K27<>"",_2021!C27,"") | X24: =_2021!D27 -> au | Y24: =IF(_2021!K27<>"",_2021!E27,"") | AA24: =IF(_2021!L27<>"",_2021!C27,"") | AB24: =_2021!D27 -> au | AC24: =IF(_2021!L27<>"",_2021!E27,"") | AE24: =IF(_2021!M27<>"",_2021!C27,"") | AF24: =_2021!D27 -> au | AG24: =IF(_2021!M27<>"",_2021!E27,"") | AI24: =IF(_2021!N27<>"",_2021!C27,"") | AJ24: =_2021!D27 -> au | AK24: =IF(_2021!N27<>"",_2021!E27,"") | AM24: =IF(_2021!O27<>"",_2021!C27,"") | AN24: =_2021!D27 -> au | AO24: =IF(_2021!O27<>"",_2021!E27,"") | AQ24: =IF(_2021!P27<>"",_2021!C27,"") | AR24: =_2021!D27 -> au | AS24: =IF(_2021!P27<>"",_2021!E27,"") | AU24: =IF(_2021!Q27<>"",_2021!C27,"") | AV24: =_2021!D27 -> au | AW24: =IF(_2021!Q27<>"",_2021!E27,"") | AY24: =IF(_2021!R27<>"",_2021!C27,"") | AZ24: =_2021!D27 -> au | BA24: =IF(_2021!R27<>"",_2021!E27,"") | BC24: =IF(_2021!S27<>"",_2021!C27,"") | BD24: =_2021!D27 -> au | BE24: =IF(_2021!S27<>"",_2021!E27,"") | BG24: =IF(_2021!T27<>"",_2021!C27,"") | BH24: =_2021!D27 -> au | BI24: =IF(_2021!T27<>"",_2021!E27,"") | BK24: =IF(_2021!U27<>"",_2021!C27,"") | BL24: =_2021!D27 -> au | BM24: =IF(_2021!U27<>"",_2021!E27,"") | BO24: =IF(_2021!V27<>"",_2021!C27,"") | BP24: =_2021!D27 -> au | BQ24: =IF(_2021!V27<>"",_2021!E27,"") | BS24: =IF(_2021!W27<>"",_2021!C27,"") | BT24: =_2021!D27 -> au | BU24: =IF(_2021!W27<>"",_2021!E27,"") | BW24: =IF(_2021!X27<>"",_2021!C27,"") | BX24: =_2021!D27 -> au | BY24: =IF(_2021!X27<>"",_2021!E27,"") | CA24: =IF(_2021!Y27<>"",_2021!C27,"") -> 44276 | CB24: =_2021!D27 -> au | CC24: =IF(_2021!Y27<>"",_2021!E27,"") -> 44280 | CE24: =IF(_2021!Z27<>"",_2021!C27,"") | CF24: =_2021!D27 -> au | CG24: =IF(_2021!Z27<>"",_2021!E27,"") | CI24: =IF(_2021!AA27<>"",_2021!C27,"") | CJ24: =_2021!D27 -> au | CK24: =IF(_2021!AA27<>"",_2021!E27,"") | CM24: =IF(_2021!AB27<>"",_2021!C27,"") -> 44276 | CN24: =_2021!D27 -> au | CO24: =IF(_2021!AB27<>"",_2021!E27,"") -> 44280 | CQ24: =IF(_2021!AC27<>"",_2021!C27,"") | CR24: =_2021!D27 -> au | CS24: =IF(_2021!AC27<>"",_2021!E27,"") | CU24: =IF(_2021!AD27<>"",_2021!C27,"") | CV24: =_2021!D27 -> au | CW24: =IF(_2021!AD27<>"",_2021!E27,"") | CY24: =IF(_2021!AE27<>"",_2021!C27,"") | CZ24: =_2021!D27 -> au | DA24: =IF(_2021!AE27<>"",_2021!E27,"") | DC24: =IF(_2021!AF27<>"",_2021!C27,"") | DD24: =_2021!D27 -> au | DE24: =IF(_2021!AF27<>"",_2021!E27,"") | DG24: =IF(_2021!AG27<>"",_2021!C27,"") | DH24: =_2021!D27 -> au | DI24: =IF(_2021!AG27<>"",_2021!E27,"") | DK24: =IF(_2021!AH27<>"",_2021!C27,"") | DL24: =_2021!D27 -> au | DM24: =IF(_2021!AH27<>"",_2021!E27,"") | DO24: =IF(_2021!AI27<>"",_2021!C27,"") | DP24: =_2021!D27 -> au | DQ24: =IF(_2021!AI27<>"",_2021!E27,"")
A25: =_2021!AD2 -> NOM 25 Prénom 25 | B25: =_2021!AD4 -> 4 | C25: =IF(_2021!F28<>"",_2021!C28,"") | D25: =_2021!D28 -> au | E25: =IF(_2021!F28<>"",_2021!E28,"") | G25: =IF(_2021!G28<>"",_2021!C28,"") | H25: =_2021!D28 -> au | I25: =IF(_2021!G28<>"",_2021!E28,"") | K25: =IF(_2021!H28<>"",_2021!C28,"") | L25: =_2021!D28 -> au | M25: =IF(_2021!H28<>"",_2021!E28,"") | O25: =IF(_2021!I28<>"",_2021!C28,"") | P25: =_2021!D28 -> au | Q25: =IF(_2021!I28<>"",_2021!E28,"") | S25: =IF(_2021!J28<>"",_2021!C28,"") | T25: =_2021!D28 -> au | U25: =IF(_2021!J28<>"",_2021!E28,"") | W25: =IF(_2021!K28<>"",_2021!C28,"") | X25: =_2021!D28 -> au | Y25: =IF(_2021!K28<>"",_2021!E28,"") | AA25: =IF(_2021!L28<>"",_2021!C28,"") | AB25: =_2021!D28 -> au | AC25: =IF(_2021!L28<>"",_2021!E28,"") | AE25: =IF(_2021!M28<>"",_2021!C28,"") | AF25: =_2021!D28 -> au | AG25: =IF(_2021!M28<>"",_2021!E28,"") | AI25: =IF(_2021!N28<>"",_2021!C28,"") | AJ25: =_2021!D28 -> au | AK25: =IF(_2021!N28<>"",_2021!E28,"") | AM25: =IF(_2021!O28<>"",_2021!C28,"") | AN25: =_2021!D28 -> au | AO25: =IF(_2021!O28<>"",_2021!E28,"") | AQ25: =IF(_2021!P28<>"",_2021!C28,"") | AR25: =_2021!D28 -> au | AS25: =IF(_2021!P28<>"",_2021!E28,"") | AU25: =IF(_2021!Q28<>"",_2021!C28,"") | AV25: =_2021!D28 -> au | AW25: =IF(_2021!Q28<>"",_2021!E28,"") | AY25: =IF(_2021!R28<>"",_2021!C28,"") | AZ25: =_2021!D28 -> au | BA25: =IF(_2021!R28<>"",_2021!E28,"") | BC25: =IF(_2021!S28<>"",_2021!C28,"") | BD25: =_2021!D28 -> au | BE25: =IF(_2021!S28<>"",_2021!E28,"") | BG25: =IF(_2021!T28<>"",_2021!C28,"") | BH25: =_2021!D28 -> au | BI25: =IF(_2021!T28<>"",_2021!E28,"") | BK25: =IF(_2021!U28<>"",_2021!C28,"") | BL25: =_2021!D28 -> au | BM25: =IF(_2021!U28<>"",_2021!E28,"") | BO25: =IF(_2021!V28<>"",_2021!C28,"") | BP25: =_2021!D28 -> au | BQ25: =IF(_2021!V28<>"",_2021!E28,"") | BS25: =IF(_2021!W28<>"",_2021!C28,"") | BT25: =_2021!D28 -> au | BU25: =IF(_2021!W28<>"",_2021!E28,"") | BW25: =IF(_2021!X28<>"",_2021!C28,"") | BX25: =_2021!D28 -> au | BY25: =IF(_2021!X28<>"",_2021!E28,"") | CA25: =IF(_2021!Y28<>"",_2021!C28,"") | CB25: =_2021!D28 -> au | CC25: =IF(_2021!Y28<>"",_2021!E28,"") | CE25: =IF(_2021!Z28<>"",_2021!C28,"") -> 44280 | CF25: =_2021!D28 -> au | CG25: =IF(_2021!Z28<>"",_2021!E28,"") -> 44283 | CI25: =IF(_2021!AA28<>"",_2021!C28,"") | CJ25: =_2021!D28 -> au | CK25: =IF(_2021!AA28<>"",_2021!E28,"") | CM25: =IF(_2021!AB28<>"",_2021!C28,"") | CN25: =_2021!D28 -> au | CO25: =IF(_2021!AB28<>"",_2021!E28,"") | CQ25: =IF(_2021!AC28<>"",_2021!C28,"") -> 44280 | CR25: =_2021!D28 -> au | CS25: =IF(_2021!AC28<>"",_2021!E28,"") -> 44283 | CU25: =IF(_2021!AD28<>"",_2021!C28,"") | CV25: =_2021!D28 -> au | CW25: =IF(_2021!AD28<>"",_2021!E28,"") | CY25: =IF(_2021!AE28<>"",_2021!C28,"") | CZ25: =_2021!D28 -> au | DA25: =IF(_2021!AE28<>"",_2021!E28,"") | DC25: =IF(_2021!AF28<>"",_2021!C28,"") | DD25: =_2021!D28 -> au | DE25: =IF(_2021!AF28<>"",_2021!E28,"") | DG25: =IF(_2021!AG28<>"",_2021!C28,"") | DH25: =_2021!D28 -> au | DI25: =IF(_2021!AG28<>"",_2021!E28,"") | DK25: =IF(_2021!AH28<>"",_2021!C28,"") | DL25: =_2021!D28 -> au | DM25: =IF(_2021!AH28<>"",_2021!E28,"") | DO25: =IF(_2021!AI28<>"",_2021!C28,"") | DP25: =_2021!D28 -> au | DQ25: =IF(_2021!AI28<>"",_2021!E28,"")
A26: =_2021!AE2 -> NOM 26 Prénom 26 | B26: =_2021!AE4 -> 4 | C26: =IF(_2021!F29<>"",_2021!C29,"") | D26: =_2021!D29 -> au | E26: =IF(_2021!F29<>"",_2021!E29,"") | G26: =IF(_2021!G29<>"",_2021!C29,"") | H26: =_2021!D29 -> au | I26: =IF(_2021!G29<>"",_2021!E29,"") | K26: =IF(_2021!H29<>"",_2021!C29,"") | L26: =_2021!D29 -> au | M26: =IF(_2021!H29<>"",_2021!E29,"") | O26: =IF(_2021!I29<>"",_2021!C29,"") | P26: =_2021!D29 -> au | Q26: =IF(_2021!I29<>"",_2021!E29,"") | S26: =IF(_2021!J29<>"",_2021!C29,"") | T26: =_2021!D29 -> au | U26: =IF(_2021!J29<>"",_2021!E29,"") | W26: =IF(_2021!K29<>"",_2021!C29,"") | X26: =_2021!D29 -> au | Y26: =IF(_2021!K29<>"",_2021!E29,"") | AA26: =IF(_2021!L29<>"",_2021!C29,"") | AB26: =_2021!D29 -> au | AC26: =IF(_2021!L29<>"",_2021!E29,"") | AE26: =IF(_2021!M29<>"",_2021!C29,"") | AF26: =_2021!D29 -> au | AG26: =IF(_2021!M29<>"",_2021!E29,"") | AI26: =IF(_2021!N29<>"",_2021!C29,"") | AJ26: =_2021!D29 -> au | AK26: =IF(_2021!N29<>"",_2021!E29,"") | AM26: =IF(_2021!O29<>"",_2021!C29,"") | AN26: =_2021!D29 -> au | AO26: =IF(_2021!O29<>"",_2021!E29,"") | AQ26: =IF(_2021!P29<>"",_2021!C29,"") | AR26: =_2021!D29 -> au | AS26: =IF(_2021!P29<>"",_2021!E29,"") | AU26: =IF(_2021!Q29<>"",_2021!C29,"") | AV26: =_2021!D29 -> au | AW26: =IF(_2021!Q29<>"",_2021!E29,"") | AY26: =IF(_2021!R29<>"",_2021!C29,"") | AZ26: =_2021!D29 -> au | BA26: =IF(_2021!R29<>"",_2021!E29,"") | BC26: =IF(_2021!S29<>"",_2021!C29,"") | BD26: =_2021!D29 -> au | BE26: =IF(_2021!S29<>"",_2021!E29,"") | BG26: =IF(_2021!T29<>"",_2021!C29,"") | BH26: =_2021!D29 -> au | BI26: =IF(_2021!T29<>"",_2021!E29,"") | BK26: =IF(_2021!U29<>"",_2021!C29,"") | BL26: =_2021!D29 -> au | BM26: =IF(_2021!U29<>"",_2021!E29,"") | BO26: =IF(_2021!V29<>"",_2021!C29,"") | BP26: =_2021!D29 -> au | BQ26: =IF(_2021!V29<>"",_2021!E29,"") | BS26: =IF(_2021!W29<>"",_2021!C29,"") | BT26: =_2021!D29 -> au | BU26: =IF(_2021!W29<>"",_2021!E29,"") | BW26: =IF(_2021!X29<>"",_2021!C29,"") | BX26: =_2021!D29 -> au | BY26: =IF(_2021!X29<>"",_2021!E29,"") | CA26: =IF(_2021!Y29<>"",_2021!C29,"") | CB26: =_2021!D29 -> au | CC26: =IF(_2021!Y29<>"",_2021!E29,"") | CE26: =IF(_2021!Z29<>"",_2021!C29,"") | CF26: =_2021!D29 -> au | CG26: =IF(_2021!Z29<>"",_2021!E29,"") | CI26: =IF(_2021!AA29<>"",_2021!C29,"") -> 44283 | CJ26: =_2021!D29 -> au | CK26: =IF(_2021!AA29<>"",_2021!E29,"") -> 44287 | CM26: =IF(_2021!AB29<>"",_2021!C29,"") | CN26: =_2021!D29 -> au | CO26: =IF(_2021!AB29<>"",_2021!E29,"") | CQ26: =IF(_2021!AC29<>"",_2021!C29,"") | CR26: =_2021!D29 -> au | CS26: =IF(_2021!AC29<>"",_2021!E29,"") | CU26: =IF(_2021!AD29<>"",_2021!C29,"") -> 44283 | CV26: =_2021!D29 -> au | CW26: =IF(_2021!AD29<>"",_2021!E29,"") -> 44287 | CY26: =IF(_2021!AE29<>"",_2021!C29,"") | CZ26: =_2021!D29 -> au | DA26: =IF(_2021!AE29<>"",_2021!E29,"") | DC26: =IF(_2021!AF29<>"",_2021!C29,"") | DD26: =_2021!D29 -> au | DE26: =IF(_2021!AF29<>"",_2021!E29,"") | DG26: =IF(_2021!AG29<>"",_2021!C29,"") | DH26: =_2021!D29 -> au | DI26: =IF(_2021!AG29<>"",_2021!E29,"") | DK26: =IF(_2021!AH29<>"",_2021!C29,"") | DL26: =_2021!D29 -> au | DM26: =IF(_2021!AH29<>"",_2021!E29,"") | DO26: =IF(_2021!AI29<>"",_2021!C29,"") | DP26: =_2021!D29 -> au | DQ26: =IF(_2021!AI29<>"",_2021!E29,"")
A27: =_2021!AF2 -> NOM 27 Prénom 27 | B27: =_2021!AF4 -> 3 | C27: =IF(_2021!F30<>"",_2021!C30,"") | D27: =_2021!D30 -> au | E27: =IF(_2021!F30<>"",_2021!E30,"") | G27: =IF(_2021!G30<>"",_2021!C30,"") | H27: =_2021!D30 -> au | I27: =IF(_2021!G30<>"",_2021!E30,"") | K27: =IF(_2021!H30<>"",_2021!C30,"") | L27: =_2021!D30 -> au | M27: =IF(_2021!H30<>"",_2021!E30,"") | O27: =IF(_2021!I30<>"",_2021!C30,"") | P27: =_2021!D30 -> au | Q27: =IF(_2021!I30<>"",_2021!E30,"") | S27: =IF(_2021!J30<>"",_2021!C30,"") | T27: =_2021!D30 -> au | U27: =IF(_2021!J30<>"",_2021!E30,"") | W27: =IF(_2021!K30<>"",_2021!C30,"") | X27: =_2021!D30 -> au | Y27: =IF(_2021!K30<>"",_2021!E30,"") | AA27: =IF(_2021!L30<>"",_2021!C30,"") | AB27: =_2021!D30 -> au | AC27: =IF(_2021!L30<>"",_2021!E30,"") | AE27: =IF(_2021!M30<>"",_2021!C30,"") | AF27: =_2021!D30 -> au | AG27: =IF(_2021!M30<>"",_2021!E30,"") | AI27: =IF(_2021!N30<>"",_2021!C30,"") | AJ27: =_2021!D30 -> au | AK27: =IF(_2021!N30<>"",_2021!E30,"") | AM27: =IF(_2021!O30<>"",_2021!C30,"") | AN27: =_2021!D30 -> au | AO27: =IF(_2021!O30<>"",_2021!E30,"") | AQ27: =IF(_2021!P30<>"",_2021!C30,"") | AR27: =_2021!D30 -> au | AS27: =IF(_2021!P30<>"",_2021!E30,"") | AU27: =IF(_2021!Q30<>"",_2021!C30,"") | AV27: =_2021!D30 -> au | AW27: =IF(_2021!Q30<>"",_2021!E30,"") | AY27: =IF(_2021!R30<>"",_2021!C30,"") | AZ27: =_2021!D30 -> au | BA27: =IF(_2021!R30<>"",_2021!E30,"") | BC27: =IF(_2021!S30<>"",_2021!C30,"") | BD27: =_2021!D30 -> au | BE27: =IF(_2021!S30<>"",_2021!E30,"") | BG27: =IF(_2021!T30<>"",_2021!C30,"") | BH27: =_2021!D30 -> au | BI27: =IF(_2021!T30<>"",_2021!E30,"") | BK27: =IF(_2021!U30<>"",_2021!C30,"") | BL27: =_2021!D30 -> au | BM27: =IF(_2021!U30<>"",_2021!E30,"") | BO27: =IF(_2021!V30<>"",_2021!C30,"") | BP27: =_2021!D30 -> au | BQ27: =IF(_2021!V30<>"",_2021!E30,"") | BS27: =IF(_2021!W30<>"",_2021!C30,"") | BT27: =_2021!D30 -> au | BU27: =IF(_2021!W30<>"",_2021!E30,"") | BW27: =IF(_2021!X30<>"",_2021!C30,"") | BX27: =_2021!D30 -> au | BY27: =IF(_2021!X30<>"",_2021!E30,"") | CA27: =IF(_2021!Y30<>"",_2021!C30,"") | CB27: =_2021!D30 -> au | CC27: =IF(_2021!Y30<>"",_2021!E30,"") | CE27: =IF(_2021!Z30<>"",_2021!C30,"") | CF27: =_2021!D30 -> au | CG27: =IF(_2021!Z30<>"",_2021!E30,"") | CI27: =IF(_2021!AA30<>"",_2021!C30,"") | CJ27: =_2021!D30 -> au | CK27: =IF(_2021!AA30<>"",_2021!E30,"") | CM27: =IF(_2021!AB30<>"",_2021!C30,"") -> 44287 | CN27: =_2021!D30 -> au | CO27: =IF(_2021!AB30<>"",_2021!E30,"") -> 44290 | CQ27: =IF(_2021!AC30<>"",_2021!C30,"") | CR27: =_2021!D30 -> au | CS27: =IF(_2021!AC30<>"",_2021!E30,"") | CU27: =IF(_2021!AD30<>"",_2021!C30,"") | CV27: =_2021!D30 -> au | CW27: =IF(_2021!AD30<>"",_2021!E30,"") | CY27: =IF(_2021!AE30<>"",_2021!C30,"") -> 44287 | CZ27: =_2021!D30 -> au | DA27: =IF(_2021!AE30<>"",_2021!E30,"") -> 44290 | DC27: =IF(_2021!AF30<>"",_2021!C30,"") | DD27: =_2021!D30 -> au | DE27: =IF(_2021!AF30<>"",_2021!E30,"") | DG27: =IF(_2021!AG30<>"",_2021!C30,"") | DH27: =_2021!D30 -> au | DI27: =IF(_2021!AG30<>"",_2021!E30,"") | DK27: =IF(_2021!AH30<>"",_2021!C30,"") | DL27: =_2021!D30 -> au | DM27: =IF(_2021!AH30<>"",_2021!E30,"") | DO27: =IF(_2021!AI30<>"",_2021!C30,"") | DP27: =_2021!D30 -> au | DQ27: =IF(_2021!AI30<>"",_2021!E30,"")
A28: =_2021!AG2 -> NOM 28 Prénom 28 | B28: =_2021!AG4 -> 3 | C28: =IF(_2021!F31<>"",_2021!C31,"") -> 44290 | D28: =_2021!D31 -> au | E28: =IF(_2021!F31<>"",_2021!E31,"") -> 44294 | G28: =IF(_2021!G31<>"",_2021!C31,"") | H28: =_2021!D31 -> au | I28: =IF(_2021!G31<>"",_2021!E31,"") | K28: =IF(_2021!H31<>"",_2021!C31,"") | L28: =_2021!D31 -> au | M28: =IF(_2021!H31<>"",_2021!E31,"") | O28: =IF(_2021!I31<>"",_2021!C31,"") | P28: =_2021!D31 -> au | Q28: =IF(_2021!I31<>"",_2021!E31,"") | S28: =IF(_2021!J31<>"",_2021!C31,"") | T28: =_2021!D31 -> au | U28: =IF(_2021!J31<>"",_2021!E31,"") | W28: =IF(_2021!K31<>"",_2021!C31,"") | X28: =_2021!D31 -> au | Y28: =IF(_2021!K31<>"",_2021!E31,"") | AA28: =IF(_2021!L31<>"",_2021!C31,"") | AB28: =_2021!D31 -> au | AC28: =IF(_2021!L31<>"",_2021!E31,"") | AE28: =IF(_2021!M31<>"",_2021!C31,"") | AF28: =_2021!D31 -> au | AG28: =IF(_2021!M31<>"",_2021!E31,"") | AI28: =IF(_2021!N31<>"",_2021!C31,"") | AJ28: =_2021!D31 -> au | AK28: =IF(_2021!N31<>"",_2021!E31,"") | AM28: =IF(_2021!O31<>"",_2021!C31,"") | AN28: =_2021!D31 -> au | AO28: =IF(_2021!O31<>"",_2021!E31,"") | AQ28: =IF(_2021!P31<>"",_2021!C31,"") | AR28: =_2021!D31 -> au | AS28: =IF(_2021!P31<>"",_2021!E31,"") | AU28: =IF(_2021!Q31<>"",_2021!C31,"") | AV28: =_2021!D31 -> au | AW28: =IF(_2021!Q31<>"",_2021!E31,"") | AY28: =IF(_2021!R31<>"",_2021!C31,"") | AZ28: =_2021!D31 -> au | BA28: =IF(_2021!R31<>"",_2021!E31,"") | BC28: =IF(_2021!S31<>"",_2021!C31,"") | BD28: =_2021!D31 -> au | BE28: =IF(_2021!S31<>"",_2021!E31,"") | BG28: =IF(_2021!T31<>"",_2021!C31,"") | BH28: =_2021!D31 -> au | BI28: =IF(_2021!T31<>"",_2021!E31,"") | BK28: =IF(_2021!U31<>"",_2021!C31,"") | BL28: =_2021!D31 -> au | BM28: =IF(_2021!U31<>"",_2021!E31,"") | BO28: =IF(_2021!V31<>"",_2021!C31,"") | BP28: =_2021!D31 -> au | BQ28: =IF(_2021!V31<>"",_2021!E31,"") | BS28: =IF(_2021!W31<>"",_2021!C31,"") | BT28: =_2021!D31 -> au | BU28: =IF(_2021!W31<>"",_2021!E31,"") | BW28: =IF(_2021!X31<>"",_2021!C31,"") | BX28: =_2021!D31 -> au | BY28: =IF(_2021!X31<>"",_2021!E31,"") | CA28: =IF(_2021!Y31<>"",_2021!C31,"") | CB28: =_2021!D31 -> au | CC28: =IF(_2021!Y31<>"",_2021!E31,"") | CE28: =IF(_2021!Z31<>"",_2021!C31,"") | CF28: =_2021!D31 -> au | CG28: =IF(_2021!Z31<>"",_2021!E31,"") | CI28: =IF(_2021!AA31<>"",_2021!C31,"") | CJ28: =_2021!D31 -> au | CK28: =IF(_2021!AA31<>"",_2021!E31,"") | CM28: =IF(_2021!AB31<>"",_2021!C31,"") | CN28: =_2021!D31 -> au | CO28: =IF(_2021!AB31<>"",_2021!E31,"") | CQ28: =IF(_2021!AC31<>"",_2021!C31,"") | CR28: =_2021!D31 -> au | CS28: =IF(_2021!AC31<>"",_2021!E31,"") | CU28: =IF(_2021!AD31<>"",_2021!C31,"") | CV28: =_2021!D31 -> au | CW28: =IF(_2021!AD31<>"",_2021!E31,"") | CY28: =IF(_2021!AE31<>"",_2021!C31,"") | CZ28: =_2021!D31 -> au | DA28: =IF(_2021!AE31<>"",_2021!E31,"") | DC28: =IF(_2021!AF31<>"",_2021!C31,"") -> 44290 | DD28: =_2021!D31 -> au | DE28: =IF(_2021!AF31<>"",_2021!E31,"") -> 44294 | DG28: =IF(_2021!AG31<>"",_2021!C31,"") | DH28: =_2021!D31 -> au | DI28: =IF(_2021!AG31<>"",_2021!E31,"") | DK28: =IF(_2021!AH31<>"",_2021!C31,"") | DL28: =_2021!D31 -> au | DM28: =IF(_2021!AH31<>"",_2021!E31,"") | DO28: =IF(_2021!AI31<>"",_2021!C31,"") | DP28: =_2021!D31 -> au | DQ28: =IF(_2021!AI31<>"",_2021!E31,"")
A29: =_2021!AH2 -> NOM 29 Prénom 29 | B29: =_2021!AH4 -> 3 | C29: =IF(_2021!F32<>"",_2021!C32,"") | D29: =_2021!D32 -> au | E29: =IF(_2021!F32<>"",_2021!E32,"") | G29: =IF(_2021!G32<>"",_2021!C32,"") -> 44294 | H29: =_2021!D32 -> au | I29: =IF(_2021!G32<>"",_2021!E32,"") -> 44297 | K29: =IF(_2021!H32<>"",_2021!C32,"") | L29: =_2021!D32 -> au | M29: =IF(_2021!H32<>"",_2021!E32,"") | O29: =IF(_2021!I32<>"",_2021!C32,"") | P29: =_2021!D32 -> au | Q29: =IF(_2021!I32<>"",_2021!E32,"") | S29: =IF(_2021!J32<>"",_2021!C32,"") | T29: =_2021!D32 -> au | U29: =IF(_2021!J32<>"",_2021!E32,"") | W29: =IF(_2021!K32<>"",_2021!C32,"") | X29: =_2021!D32 -> au | Y29: =IF(_2021!K32<>"",_2021!E32,"") | AA29: =IF(_2021!L32<>"",_2021!C32,"") | AB29: =_2021!D32 -> au | AC29: =IF(_2021!L32<>"",_2021!E32,"") | AE29: =IF(_2021!M32<>"",_2021!C32,"") | AF29: =_2021!D32 -> au | AG29: =IF(_2021!M32<>"",_2021!E32,"") | AI29: =IF(_2021!N32<>"",_2021!C32,"") | AJ29: =_2021!D32 -> au | AK29: =IF(_2021!N32<>"",_2021!E32,"") | AM29: =IF(_2021!O32<>"",_2021!C32,"") | AN29: =_2021!D32 -> au | AO29: =IF(_2021!O32<>"",_2021!E32,"") | AQ29: =IF(_2021!P32<>"",_2021!C32,"") | AR29: =_2021!D32 -> au | AS29: =IF(_2021!P32<>"",_2021!E32,"") | AU29: =IF(_2021!Q32<>"",_2021!C32,"") | AV29: =_2021!D32 -> au | AW29: =IF(_2021!Q32<>"",_2021!E32,"") | AY29: =IF(_2021!R32<>"",_2021!C32,"") | AZ29: =_2021!D32 -> au | BA29: =IF(_2021!R32<>"",_2021!E32,"") | BC29: =IF(_2021!S32<>"",_2021!C32,"") | BD29: =_2021!D32 -> au | BE29: =IF(_2021!S32<>"",_2021!E32,"") | BG29: =IF(_2021!T32<>"",_2021!C32,"") | BH29: =_2021!D32 -> au | BI29: =IF(_2021!T32<>"",_2021!E32,"") | BK29: =IF(_2021!U32<>"",_2021!C32,"") | BL29: =_2021!D32 -> au | BM29: =IF(_2021!U32<>"",_2021!E32,"") | BO29: =IF(_2021!V32<>"",_2021!C32,"") | BP29: =_2021!D32 -> au | BQ29: =IF(_2021!V32<>"",_2021!E32,"") | BS29: =IF(_2021!W32<>"",_2021!C32,"") | BT29: =_2021!D32 -> au | BU29: =IF(_2021!W32<>"",_2021!E32,"") | BW29: =IF(_2021!X32<>"",_2021!C32,"") | BX29: =_2021!D32 -> au | BY29: =IF(_2021!X32<>"",_2021!E32,"") | CA29: =IF(_2021!Y32<>"",_2021!C32,"") | CB29: =_2021!D32 -> au | CC29: =IF(_2021!Y32<>"",_2021!E32,"") | CE29: =IF(_2021!Z32<>"",_2021!C32,"") | CF29: =_2021!D32 -> au | CG29: =IF(_2021!Z32<>"",_2021!E32,"") | CI29: =IF(_2021!AA32<>"",_2021!C32,"") | CJ29: =_2021!D32 -> au | CK29: =IF(_2021!AA32<>"",_2021!E32,"") | CM29: =IF(_2021!AB32<>"",_2021!C32,"") | CN29: =_2021!D32 -> au | CO29: =IF(_2021!AB32<>"",_2021!E32,"") | CQ29: =IF(_2021!AC32<>"",_2021!C32,"") | CR29: =_2021!D32 -> au | CS29: =IF(_2021!AC32<>"",_2021!E32,"") | CU29: =IF(_2021!AD32<>"",_2021!C32,"") | CV29: =_2021!D32 -> au | CW29: =IF(_2021!AD32<>"",_2021!E32,"") | CY29: =IF(_2021!AE32<>"",_2021!C32,"") | CZ29: =_2021!D32 -> au | DA29: =IF(_2021!AE32<>"",_2021!E32,"") | DC29: =IF(_2021!AF32<>"",_2021!C32,"") | DD29: =_2021!D32 -> au | DE29: =IF(_2021!AF32<>"",_2021!E32,"") | DG29: =IF(_2021!AG32<>"",_2021!C32,"") -> 44294 | DH29: =_2021!D32 -> au | DI29: =IF(_2021!AG32<>"",_2021!E32,"") -> 44297 | DK29: =IF(_2021!AH32<>"",_2021!C32,"") | DL29: =_2021!D32 -> au | DM29: =IF(_2021!AH32<>"",_2021!E32,"") | DO29: =IF(_2021!AI32<>"",_2021!C32,"") | DP29: =_2021!D32 -> au | DQ29: =IF(_2021!AI32<>"",_2021!E32,"")
A30: =_2021!AI2 -> NOM 30 Prénom 30 | B30: =_2021!AI4 -> 3 | C30: =IF(_2021!F33<>"",_2021!C33,"") | D30: =_2021!D33 -> au | E30: =IF(_2021!F33<>"",_2021!E33,"") | G30: =IF(_2021!G33<>"",_2021!C33,"") | H30: =_2021!D33 -> au | I30: =IF(_2021!G33<>"",_2021!E33,"") | K30: =IF(_2021!H33<>"",_2021!C33,"") -> 44297 | L30: =_2021!D33 -> au | M30: =IF(_2021!H33<>"",_2021!E33,"") -> 44301 | O30: =IF(_2021!I33<>"",_2021!C33,"") | P30: =_2021!D33 -> au | Q30: =IF(_2021!I33<>"",_2021!E33,"") | S30: =IF(_2021!J33<>"",_2021!C33,"") | T30: =_2021!D33 -> au | U30: =IF(_2021!J33<>"",_2021!E33,"") | W30: =IF(_2021!K33<>"",_2021!C33,"") | X30: =_2021!D33 -> au | Y30: =IF(_2021!K33<>"",_2021!E33,"") | AA30: =IF(_2021!L33<>"",_2021!C33,"") | AB30: =_2021!D33 -> au | AC30: =IF(_2021!L33<>"",_2021!E33,"") | AE30: =IF(_2021!M33<>"",_2021!C33,"") | AF30: =_2021!D33 -> au | AG30: =IF(_2021!M33<>"",_2021!E33,"") | AI30: =IF(_2021!N33<>"",_2021!C33,"") | AJ30: =_2021!D33 -> au | AK30: =IF(_2021!N33<>"",_2021!E33,"") | AM30: =IF(_2021!O33<>"",_2021!C33,"") | AN30: =_2021!D33 -> au | AO30: =IF(_2021!O33<>"",_2021!E33,"") | AQ30: =IF(_2021!P33<>"",_2021!C33,"") | AR30: =_2021!D33 -> au | AS30: =IF(_2021!P33<>"",_2021!E33,"") | AU30: =IF(_2021!Q33<>"",_2021!C33,"") | AV30: =_2021!D33 -> au | AW30: =IF(_2021!Q33<>"",_2021!E33,"") | AY30: =IF(_2021!R33<>"",_2021!C33,"") | AZ30: =_2021!D33 -> au | BA30: =IF(_2021!R33<>"",_2021!E33,"") | BC30: =IF(_2021!S33<>"",_2021!C33,"") | BD30: =_2021!D33 -> au | BE30: =IF(_2021!S33<>"",_2021!E33,"") | BG30: =IF(_2021!T33<>"",_2021!C33,"") | BH30: =_2021!D33 -> au | BI30: =IF(_2021!T33<>"",_2021!E33,"") | BK30: =IF(_2021!U33<>"",_2021!C33,"") | BL30: =_2021!D33 -> au | BM30: =IF(_2021!U33<>"",_2021!E33,"") | BO30: =IF(_2021!V33<>"",_2021!C33,"") | BP30: =_2021!D33 -> au | BQ30: =IF(_2021!V33<>"",_2021!E33,"") | BS30: =IF(_2021!W33<>"",_2021!C33,"") | BT30: =_2021!D33 -> au | BU30: =IF(_2021!W33<>"",_2021!E33,"") | BW30: =IF(_2021!X33<>"",_2021!C33,"") | BX30: =_2021!D33 -> au | BY30: =IF(_2021!X33<>"",_2021!E33,"") | CA30: =IF(_2021!Y33<>"",_2021!C33,"") | CB30: =_2021!D33 -> au | CC30: =IF(_2021!Y33<>"",_2021!E33,"") | CE30: =IF(_2021!Z33<>"",_2021!C33,"") | CF30: =_2021!D33 -> au | CG30: =IF(_2021!Z33<>"",_2021!E33,"") | CI30: =IF(_2021!AA33<>"",_2021!C33,"") | CJ30: =_2021!D33 -> au | CK30: =IF(_2021!AA33<>"",_2021!E33,"") | CM30: =IF(_2021!AB33<>"",_2021!C33,"") | CN30: =_2021!D33 -> au | CO30: =IF(_2021!AB33<>"",_2021!E33,"") | CQ30: =IF(_2021!AC33<>"",_2021!C33,"") | CR30: =_2021!D33 -> au | CS30: =IF(_2021!AC33<>"",_2021!E33,"") | CU30: =IF(_2021!AD33<>"",_2021!C33,"") | CV30: =_2021!D33 -> au | CW30: =IF(_2021!AD33<>"",_2021!E33,"") | CY30: =IF(_2021!AE33<>"",_2021!C33,"") | CZ30: =_2021!D33 -> au | DA30: =IF(_2021!AE33<>"",_2021!E33,"") | DC30: =IF(_2021!AF33<>"",_2021!C33,"") | DD30: =_2021!D33 -> au | DE30: =IF(_2021!AF33<>"",_2021!E33,"") | DG30: =IF(_2021!AG33<>"",_2021!C33,"") | DH30: =_2021!D33 -> au | DI30: =IF(_2021!AG33<>"",_2021!E33,"") | DK30: =IF(_2021!AH33<>"",_2021!C33,"") -> 44297 | DL30: =_2021!D33 -> au | DM30: =IF(_2021!AH33<>"",_2021!E33,"") -> 44301 | DO30: =IF(_2021!AI33<>"",_2021!C33,"") | DP30: =_2021!D33 -> au | DQ30: =IF(_2021!AI33<>"",_2021!E33,"")
C31: =IF(_2021!F34<>"",_2021!C34,"") | D31: =_2021!D34 -> au | E31: =IF(_2021!F34<>"",_2021!E34,"") | G31: =IF(_2021!G34<>"",_2021!C34,"") | H31: =_2021!D34 -> au | I31: =IF(_2021!G34<>"",_2021!E34,"") | K31: =IF(_2021!H34<>"",_2021!C34,"") | L31: =_2021!D34 -> au | M31: =IF(_2021!H34<>"",_2021!E34,"") | O31: =IF(_2021!I34<>"",_2021!C34,"") -> 44301 | P31: =_2021!D34 -> au | Q31: =IF(_2021!I34<>"",_2021!E34,"") -> 44304 | S31: =IF(_2021!J34<>"",_2021!C34,"") | T31: =_2021!D34 -> au | U31: =IF(_2021!J34<>"",_2021!E34,"") | W31: =IF(_2021!K34<>"",_2021!C34,"") | X31: =_2021!D34 -> au | Y31: =IF(_2021!K34<>"",_2021!E34,"") | AA31: =IF(_2021!L34<>"",_2021!C34,"") | AB31: =_2021!D34 -> au | AC31: =IF(_2021!L34<>"",_2021!E34,"") | AE31: =IF(_2021!M34<>"",_2021!C34,"") | AF31: =_2021!D34 -> au | AG31: =IF(_2021!M34<>"",_2021!E34,"") | AI31: =IF(_2021!N34<>"",_2021!C34,"") | AJ31: =_2021!D34 -> au | AK31: =IF(_2021!N34<>"",_2021!E34,"") | AM31: =IF(_2021!O34<>"",_2021!C34,"") | AN31: =_2021!D34 -> au | AO31: =IF(_2021!O34<>"",_2021!E34,"") | AQ31: =IF(_2021!P34<>"",_2021!C34,"") | AR31: =_2021!D34 -> au | AS31: =IF(_2021!P34<>"",_2021!E34,"") | AU31: =IF(_2021!Q34<>"",_2021!C34,"") | AV31: =_2021!D34 -> au | AW31: =IF(_2021!Q34<>"",_2021!E34,"") | AY31: =IF(_2021!R34<>"",_2021!C34,"") | AZ31: =_2021!D34 -> au | BA31: =IF(_2021!R34<>"",_2021!E34,"") | BC31: =IF(_2021!S34<>"",_2021!C34,"") | BD31: =_2021!D34 -> au | BE31: =IF(_2021!S34<>"",_2021!E34,"") | BG31: =IF(_2021!T34<>"",_2021!C34,"") | BH31: =_2021!D34 -> au | BI31: =IF(_2021!T34<>"",_2021!E34,"") | BK31: =IF(_2021!U34<>"",_2021!C34,"") | BL31: =_2021!D34 -> au | BM31: =IF(_2021!U34<>"",_2021!E34,"") | BO31: =IF(_2021!V34<>"",_2021!C34,"") | BP31: =_2021!D34 -> au | BQ31: =IF(_2021!V34<>"",_2021!E34,"") | BS31: =IF(_2021!W34<>"",_2021!C34,"") | BT31: =_2021!D34 -> au | BU31: =IF(_2021!W34<>"",_2021!E34,"") | BW31: =IF(_2021!X34<>"",_2021!C34,"") | BX31: =_2021!D34 -> au | BY31: =IF(_2021!X34<>"",_2021!E34,"") | CA31: =IF(_2021!Y34<>"",_2021!C34,"") | CB31: =_2021!D34 -> au | CC31: =IF(_2021!Y34<>"",_2021!E34,"") | CE31: =IF(_2021!Z34<>"",_2021!C34,"") | CF31: =_2021!D34 -> au | CG31: =IF(_2021!Z34<>"",_2021!E34,"") | CI31: =IF(_2021!AA34<>"",_2021!C34,"") | CJ31: =_2021!D34 -> au | CK31: =IF(_2021!AA34<>"",_2021!E34,"") | CM31: =IF(_2021!AB34<>"",_2021!C34,"") | CN31: =_2021!D34 -> au | CO31: =IF(_2021!AB34<>"",_2021!E34,"") | CQ31: =IF(_2021!AC34<>"",_2021!C34,"") | CR31: =_2021!D34 -> au | CS31: =IF(_2021!AC34<>"",_2021!E34,"") | CU31: =IF(_2021!AD34<>"",_2021!C34,"") | CV31: =_2021!D34 -> au | CW31: =IF(_2021!AD34<>"",_2021!E34,"") | CY31: =IF(_2021!AE34<>"",_2021!C34,"") | CZ31: =_2021!D34 -> au | DA31: =IF(_2021!AE34<>"",_2021!E34,"") | DC31: =IF(_2021!AF34<>"",_2021!C34,"") | DD31: =_2021!D34 -> au | DE31: =IF(_2021!AF34<>"",_2021!E34,"") | DG31: =IF(_2021!AG34<>"",_2021!C34,"") | DH31: =_2021!D34 -> au | DI31: =IF(_2021!AG34<>"",_2021!E34,"") | DK31: =IF(_2021!AH34<>"",_2021!C34,"") | DL31: =_2021!D34 -> au | DM31: =IF(_2021!AH34<>"",_2021!E34,"") | DO31: =IF(_2021!AI34<>"",_2021!C34,"") -> 44301 | DP31: =_2021!D34 -> au | DQ31: =IF(_2021!AI34<>"",_2021!E34,"") -> 44304
C32: =IF(_2021!F35<>"",_2021!C35,"") | D32: =_2021!D35 -> au | E32: =IF(_2021!F35<>"",_2021!E35,"") | G32: =IF(_2021!G35<>"",_2021!C35,"") | H32: =_2021!D35 -> au | I32: =IF(_2021!G35<>"",_2021!E35,"") | K32: =IF(_2021!H35<>"",_2021!C35,"") | L32: =_2021!D35 -> au | M32: =IF(_2021!H35<>"",_2021!E35,"") | O32: =IF(_2021!I35<>"",_2021!C35,"") | P32: =_2021!D35 -> au | Q32: =IF(_2021!I35<>"",_2021!E35,"") | S32: =IF(_2021!J35<>"",_2021!C35,"") -> 44304 | T32: =_2021!D35 -> au | U32: =IF(_2021!J35<>"",_2021!E35,"") -> 44308 | W32: =IF(_2021!K35<>"",_2021!C35,"") | X32: =_2021!D35 -> au | Y32: =IF(_2021!K35<>"",_2021!E35,"") | AA32: =IF(_2021!L35<>"",_2021!C35,"") | AB32: =_2021!D35 -> au | AC32: =IF(_2021!L35<>"",_2021!E35,"") | AE32: =IF(_2021!M35<>"",_2021!C35,"") | AF32: =_2021!D35 -> au | AG32: =IF(_2021!M35<>"",_2021!E35,"") | AI32: =IF(_2021!N35<>"",_2021!C35,"") | AJ32: =_2021!D35 -> au | AK32: =IF(_2021!N35<>"",_2021!E35,"") | AM32: =IF(_2021!O35<>"",_2021!C35,"") | AN32: =_2021!D35 -> au | AO32: =IF(_2021!O35<>"",_2021!E35,"") | AQ32: =IF(_2021!P35<>"",_2021!C35,"") | AR32: =_2021!D35 -> au | AS32: =IF(_2021!P35<>"",_2021!E35,"") | AU32: =IF(_2021!Q35<>"",_2021!C35,"") | AV32: =_2021!D35 -> au | AW32: =IF(_2021!Q35<>"",_2021!E35,"") | AY32: =IF(_2021!R35<>"",_2021!C35,"") | AZ32: =_2021!D35 -> au | BA32: =IF(_2021!R35<>"",_2021!E35,"") | BC32: =IF(_2021!S35<>"",_2021!C35,"") | BD32: =_2021!D35 -> au | BE32: =IF(_2021!S35<>"",_2021!E35,"") | BG32: =IF(_2021!T35<>"",_2021!C35,"") | BH32: =_2021!D35 -> au | BI32: =IF(_2021!T35<>"",_2021!E35,"") | BK32: =IF(_2021!U35<>"",_2021!C35,"") | BL32: =_2021!D35 -> au | BM32: =IF(_2021!U35<>"",_2021!E35,"") | BO32: =IF(_2021!V35<>"",_2021!C35,"") | BP32: =_2021!D35 -> au | BQ32: =IF(_2021!V35<>"",_2021!E35,"") | BS32: =IF(_2021!W35<>"",_2021!C35,"") | BT32: =_2021!D35 -> au | BU32: =IF(_2021!W35<>"",_2021!E35,"") | BW32: =IF(_2021!X35<>"",_2021!C35,"") | BX32: =_2021!D35 -> au | BY32: =IF(_2021!X35<>"",_2021!E35,"") | CA32: =IF(_2021!Y35<>"",_2021!C35,"") | CB32: =_2021!D35 -> au | CC32: =IF(_2021!Y35<>"",_2021!E35,"") | CE32: =IF(_2021!Z35<>"",_2021!C35,"") | CF32: =_2021!D35 -> au | CG32: =IF(_2021!Z35<>"",_2021!E35,"") | CI32: =IF(_2021!AA35<>"",_2021!C35,"") | CJ32: =_2021!D35 -> au | CK32: =IF(_2021!AA35<>"",_2021!E35,"") | CM32: =IF(_2021!AB35<>"",_2021!C35,"") | CN32: =_2021!D35 -> au | CO32: =IF(_2021!AB35<>"",_2021!E35,"") | CQ32: =IF(_2021!AC35<>"",_2021!C35,"") | CR32: =_2021!D35 -> au | CS32: =IF(_2021!AC35<>"",_2021!E35,"") | CU32: =IF(_2021!AD35<>"",_2021!C35,"") | CV32: =_2021!D35 -> au | CW32: =IF(_2021!AD35<>"",_2021!E35,"") | CY32: =IF(_2021!AE35<>"",_2021!C35,"") | CZ32: =_2021!D35 -> au | DA32: =IF(_2021!AE35<>"",_2021!E35,"") | DC32: =IF(_2021!AF35<>"",_2021!C35,"") | DD32: =_2021!D35 -> au | DE32: =IF(_2021!AF35<>"",_2021!E35,"") | DG32: =IF(_2021!AG35<>"",_2021!C35,"") | DH32: =_2021!D35 -> au | DI32: =IF(_2021!AG35<>"",_2021!E35,"") | DK32: =IF(_2021!AH35<>"",_2021!C35,"") | DL32: =_2021!D35 -> au | DM32: =IF(_2021!AH35<>"",_2021!E35,"") | DO32: =IF(_2021!AI35<>"",_2021!C35,"") | DP32: =_2021!D35 -> au | DQ32: =IF(_2021!AI35<>"",_2021!E35,"")
C33: =IF(_2021!F36<>"",_2021!C36,"") | D33: =_2021!D36 -> au | E33: =IF(_2021!F36<>"",_2021!E36,"") | G33: =IF(_2021!G36<>"",_2021!C36,"") | H33: =_2021!D36 -> au | I33: =IF(_2021!G36<>"",_2021!E36,"") | K33: =IF(_2021!H36<>"",_2021!C36,"") | L33: =_2021!D36 -> au | M33: =IF(_2021!H36<>"",_2021!E36,"") | O33: =IF(_2021!I36<>"",_2021!C36,"") | P33: =_2021!D36 -> au | Q33: =IF(_2021!I36<>"",_2021!E36,"") | S33: =IF(_2021!J36<>"",_2021!C36,"") | T33: =_2021!D36 -> au | U33: =IF(_2021!J36<>"",_2021!E36,"") | W33: =IF(_2021!K36<>"",_2021!C36,"") -> 44308 | X33: =_2021!D36 -> au | Y33: =IF(_2021!K36<>"",_2021!E36,"") -> 44311 | AA33: =IF(_2021!L36<>"",_2021!C36,"") | AB33: =_2021!D36 -> au | AC33: =IF(_2021!L36<>"",_2021!E36,"") | AE33: =IF(_2021!M36<>"",_2021!C36,"") | AF33: =_2021!D36 -> au | AG33: =IF(_2021!M36<>"",_2021!E36,"") | AI33: =IF(_2021!N36<>"",_2021!C36,"") | AJ33: =_2021!D36 -> au | AK33: =IF(_2021!N36<>"",_2021!E36,"") | AM33: =IF(_2021!O36<>"",_2021!C36,"") | AN33: =_2021!D36 -> au | AO33: =IF(_2021!O36<>"",_2021!E36,"") | AQ33: =IF(_2021!P36<>"",_2021!C36,"") | AR33: =_2021!D36 -> au | AS33: =IF(_2021!P36<>"",_2021!E36,"") | AU33: =IF(_2021!Q36<>"",_2021!C36,"") | AV33: =_2021!D36 -> au | AW33: =IF(_2021!Q36<>"",_2021!E36,"") | AY33: =IF(_2021!R36<>"",_2021!C36,"") | AZ33: =_2021!D36 -> au | BA33: =IF(_2021!R36<>"",_2021!E36,"") | BC33: =IF(_2021!S36<>"",_2021!C36,"") | BD33: =_2021!D36 -> au | BE33: =IF(_2021!S36<>"",_2021!E36,"") | BG33: =IF(_2021!T36<>"",_2021!C36,"") | BH33: =_2021!D36 -> au | BI33: =IF(_2021!T36<>"",_2021!E36,"") | BK33: =IF(_2021!U36<>"",_2021!C36,"") | BL33: =_2021!D36 -> au | BM33: =IF(_2021!U36<>"",_2021!E36,"") | BO33: =IF(_2021!V36<>"",_2021!C36,"") | BP33: =_2021!D36 -> au | BQ33: =IF(_2021!V36<>"",_2021!E36,"") | BS33: =IF(_2021!W36<>"",_2021!C36,"") | BT33: =_2021!D36 -> au | BU33: =IF(_2021!W36<>"",_2021!E36,"") | BW33: =IF(_2021!X36<>"",_2021!C36,"") | BX33: =_2021!D36 -> au | BY33: =IF(_2021!X36<>"",_2021!E36,"") | CA33: =IF(_2021!Y36<>"",_2021!C36,"") | CB33: =_2021!D36 -> au | CC33: =IF(_2021!Y36<>"",_2021!E36,"") | CE33: =IF(_2021!Z36<>"",_2021!C36,"") | CF33: =_2021!D36 -> au | CG33: =IF(_2021!Z36<>"",_2021!E36,"") | CI33: =IF(_2021!AA36<>"",_2021!C36,"") | CJ33: =_2021!D36 -> au | CK33: =IF(_2021!AA36<>"",_2021!E36,"") | CM33: =IF(_2021!AB36<>"",_2021!C36,"") | CN33: =_2021!D36 -> au | CO33: =IF(_2021!AB36<>"",_2021!E36,"") | CQ33: =IF(_2021!AC36<>"",_2021!C36,"") | CR33: =_2021!D36 -> au | CS33: =IF(_2021!AC36<>"",_2021!E36,"") | CU33: =IF(_2021!AD36<>"",_2021!C36,"") | CV33: =_2021!D36 -> au | CW33: =IF(_2021!AD36<>"",_2021!E36,"") | CY33: =IF(_2021!AE36<>"",_2021!C36,"") | CZ33: =_2021!D36 -> au | DA33: =IF(_2021!AE36<>"",_2021!E36,"") | DC33: =IF(_2021!AF36<>"",_2021!C36,"") | DD33: =_2021!D36 -> au | DE33: =IF(_2021!AF36<>"",_2021!E36,"") | DG33: =IF(_2021!AG36<>"",_2021!C36,"") | DH33: =_2021!D36 -> au | DI33: =IF(_2021!AG36<>"",_2021!E36,"") | DK33: =IF(_2021!AH36<>"",_2021!C36,"") | DL33: =_2021!D36 -> au | DM33: =IF(_2021!AH36<>"",_2021!E36,"") | DO33: =IF(_2021!AI36<>"",_2021!C36,"") | DP33: =_2021!D36 -> au | DQ33: =IF(_2021!AI36<>"",_2021!E36,"")
C34: =IF(_2021!F37<>"",_2021!C37,"") | D34: =_2021!D37 -> au | E34: =IF(_2021!F37<>"",_2021!E37,"") | G34: =IF(_2021!G37<>"",_2021!C37,"") | H34: =_2021!D37 -> au | I34: =IF(_2021!G37<>"",_2021!E37,"") | K34: =IF(_2021!H37<>"",_2021!C37,"") | L34: =_2021!D37 -> au | M34: =IF(_2021!H37<>"",_2021!E37,"") | O34: =IF(_2021!I37<>"",_2021!C37,"") | P34: =_2021!D37 -> au | Q34: =IF(_2021!I37<>"",_2021!E37,"") | S34: =IF(_2021!J37<>"",_2021!C37,"") | T34: =_2021!D37 -> au | U34: =IF(_2021!J37<>"",_2021!E37,"") | W34: =IF(_2021!K37<>"",_2021!C37,"") | X34: =_2021!D37 -> au | Y34: =IF(_2021!K37<>"",_2021!E37,"") | AA34: =IF(_2021!L37<>"",_2021!C37,"") -> 44311 | AB34: =_2021!D37 -> au | AC34: =IF(_2021!L37<>"",_2021!E37,"") -> 44315 | AE34: =IF(_2021!M37<>"",_2021!C37,"") | AF34: =_2021!D37 -> au | AG34: =IF(_2021!M37<>"",_2021!E37,"") | AI34: =IF(_2021!N37<>"",_2021!C37,"") | AJ34: =_2021!D37 -> au | AK34: =IF(_2021!N37<>"",_2021!E37,"") | AM34: =IF(_2021!O37<>"",_2021!C37,"") | AN34: =_2021!D37 -> au | AO34: =IF(_2021!O37<>"",_2021!E37,"") | AQ34: =IF(_2021!P37<>"",_2021!C37,"") | AR34: =_2021!D37 -> au | AS34: =IF(_2021!P37<>"",_2021!E37,"") | AU34: =IF(_2021!Q37<>"",_2021!C37,"") | AV34: =_2021!D37 -> au | AW34: =IF(_2021!Q37<>"",_2021!E37,"") | AY34: =IF(_2021!R37<>"",_2021!C37,"") | AZ34: =_2021!D37 -> au | BA34: =IF(_2021!R37<>"",_2021!E37,"") | BC34: =IF(_2021!S37<>"",_2021!C37,"") | BD34: =_2021!D37 -> au | BE34: =IF(_2021!S37<>"",_2021!E37,"") | BG34: =IF(_2021!T37<>"",_2021!C37,"") | BH34: =_2021!D37 -> au | BI34: =IF(_2021!T37<>"",_2021!E37,"") | BK34: =IF(_2021!U37<>"",_2021!C37,"") | BL34: =_2021!D37 -> au | BM34: =IF(_2021!U37<>"",_2021!E37,"") | BO34: =IF(_2021!V37<>"",_2021!C37,"") | BP34: =_2021!D37 -> au | BQ34: =IF(_2021!V37<>"",_2021!E37,"") | BS34: =IF(_2021!W37<>"",_2021!C37,"") | BT34: =_2021!D37 -> au | BU34: =IF(_2021!W37<>"",_2021!E37,"") | BW34: =IF(_2021!X37<>"",_2021!C37,"") | BX34: =_2021!D37 -> au | BY34: =IF(_2021!X37<>"",_2021!E37,"") | CA34: =IF(_2021!Y37<>"",_2021!C37,"") | CB34: =_2021!D37 -> au | CC34: =IF(_2021!Y37<>"",_2021!E37,"") | CE34: =IF(_2021!Z37<>"",_2021!C37,"") | CF34: =_2021!D37 -> au | CG34: =IF(_2021!Z37<>"",_2021!E37,"") | CI34: =IF(_2021!AA37<>"",_2021!C37,"") | CJ34: =_2021!D37 -> au | CK34: =IF(_2021!AA37<>"",_2021!E37,"") | CM34: =IF(_2021!AB37<>"",_2021!C37,"") | CN34: =_2021!D37 -> au | CO34: =IF(_2021!AB37<>"",_2021!E37,"") | CQ34: =IF(_2021!AC37<>"",_2021!C37,"") | CR34: =_2021!D37 -> au | CS34: =IF(_2021!AC37<>"",_2021!E37,"") | CU34: =IF(_2021!AD37<>"",_2021!C37,"") | CV34: =_2021!D37 -> au | CW34: =IF(_2021!AD37<>"",_2021!E37,"") | CY34: =IF(_2021!AE37<>"",_2021!C37,"") | CZ34: =_2021!D37 -> au | DA34: =IF(_2021!AE37<>"",_2021!E37,"") | DC34: =IF(_2021!AF37<>"",_2021!C37,"") | DD34: =_2021!D37 -> au | DE34: =IF(_2021!AF37<>"",_2021!E37,"") | DG34: =IF(_2021!AG37<>"",_2021!C37,"") | DH34: =_2021!D37 -> au | DI34: =IF(_2021!AG37<>"",_2021!E37,"") | DK34: =IF(_2021!AH37<>"",_2021!C37,"") | DL34: =_2021!D37 -> au | DM34: =IF(_2021!AH37<>"",_2021!E37,"") | DO34: =IF(_2021!AI37<>"",_2021!C37,"") | DP34: =_2021!D37 -> au | DQ34: =IF(_2021!AI37<>"",_2021!E37,"")
C35: =IF(_2021!F38<>"",_2021!C38,"") | D35: =_2021!D38 -> au | E35: =IF(_2021!F38<>"",_2021!E38,"") | G35: =IF(_2021!G38<>"",_2021!C38,"") | H35: =_2021!D38 -> au | I35: =IF(_2021!G38<>"",_2021!E38,"") | K35: =IF(_2021!H38<>"",_2021!C38,"") | L35: =_2021!D38 -> au | M35: =IF(_2021!H38<>"",_2021!E38,"") | O35: =IF(_2021!I38<>"",_2021!C38,"") | P35: =_2021!D38 -> au | Q35: =IF(_2021!I38<>"",_2021!E38,"") | S35: =IF(_2021!J38<>"",_2021!C38,"") | T35: =_2021!D38 -> au | U35: =IF(_2021!J38<>"",_2021!E38,"") | W35: =IF(_2021!K38<>"",_2021!C38,"") | X35: =_2021!D38 -> au | Y35: =IF(_2021!K38<>"",_2021!E38,"") | AA35: =IF(_2021!L38<>"",_2021!C38,"") | AB35: =_2021!D38 -> au | AC35: =IF(_2021!L38<>"",_2021!E38,"") | AE35: =IF(_2021!M38<>"",_2021!C38,"") -> 44315 | AF35: =_2021!D38 -> au | AG35: =IF(_2021!M38<>"",_2021!E38,"") -> 44318 | AI35: =IF(_2021!N38<>"",_2021!C38,"") | AJ35: =_2021!D38 -> au | AK35: =IF(_2021!N38<>"",_2021!E38,"") | AM35: =IF(_2021!O38<>"",_2021!C38,"") | AN35: =_2021!D38 -> au | AO35: =IF(_2021!O38<>"",_2021!E38,"") | AQ35: =IF(_2021!P38<>"",_2021!C38,"") | AR35: =_2021!D38 -> au | AS35: =IF(_2021!P38<>"",_2021!E38,"") | AU35: =IF(_2021!Q38<>"",_2021!C38,"") | AV35: =_2021!D38 -> au | AW35: =IF(_2021!Q38<>"",_2021!E38,"") | AY35: =IF(_2021!R38<>"",_2021!C38,"") | AZ35: =_2021!D38 -> au | BA35: =IF(_2021!R38<>"",_2021!E38,"") | BC35: =IF(_2021!S38<>"",_2021!C38,"") | BD35: =_2021!D38 -> au | BE35: =IF(_2021!S38<>"",_2021!E38,"") | BG35: =IF(_2021!T38<>"",_2021!C38,"") | BH35: =_2021!D38 -> au | BI35: =IF(_2021!T38<>"",_2021!E38,"") | BK35: =IF(_2021!U38<>"",_2021!C38,"") | BL35: =_2021!D38 -> au | BM35: =IF(_2021!U38<>"",_2021!E38,"") | BO35: =IF(_2021!V38<>"",_2021!C38,"") | BP35: =_2021!D38 -> au | BQ35: =IF(_2021!V38<>"",_2021!E38,"") | BS35: =IF(_2021!W38<>"",_2021!C38,"") | BT35: =_2021!D38 -> au | BU35: =IF(_2021!W38<>"",_2021!E38,"") | BW35: =IF(_2021!X38<>"",_2021!C38,"") | BX35: =_2021!D38 -> au | BY35: =IF(_2021!X38<>"",_2021!E38,"") | CA35: =IF(_2021!Y38<>"",_2021!C38,"") | CB35: =_2021!D38 -> au | CC35: =IF(_2021!Y38<>"",_2021!E38,"") | CE35: =IF(_2021!Z38<>"",_2021!C38,"") | CF35: =_2021!D38 -> au | CG35: =IF(_2021!Z38<>"",_2021!E38,"") | CI35: =IF(_2021!AA38<>"",_2021!C38,"") | CJ35: =_2021!D38 -> au | CK35: =IF(_2021!AA38<>"",_2021!E38,"") | CM35: =IF(_2021!AB38<>"",_2021!C38,"") | CN35: =_2021!D38 -> au | CO35: =IF(_2021!AB38<>"",_2021!E38,"") | CQ35: =IF(_2021!AC38<>"",_2021!C38,"") | CR35: =_2021!D38 -> au | CS35: =IF(_2021!AC38<>"",_2021!E38,"") | CU35: =IF(_2021!AD38<>"",_2021!C38,"") | CV35: =_2021!D38 -> au | CW35: =IF(_2021!AD38<>"",_2021!E38,"") | CY35: =IF(_2021!AE38<>"",_2021!C38,"") | CZ35: =_2021!D38 -> au | DA35: =IF(_2021!AE38<>"",_2021!E38,"") | DC35: =IF(_2021!AF38<>"",_2021!C38,"") | DD35: =_2021!D38 -> au | DE35: =IF(_2021!AF38<>"",_2021!E38,"") | DG35: =IF(_2021!AG38<>"",_2021!C38,"") | DH35: =_2021!D38 -> au | DI35: =IF(_2021!AG38<>"",_2021!E38,"") | DK35: =IF(_2021!AH38<>"",_2021!C38,"") | DL35: =_2021!D38 -> au | DM35: =IF(_2021!AH38<>"",_2021!E38,"") | DO35: =IF(_2021!AI38<>"",_2021!C38,"") | DP35: =_2021!D38 -> au | DQ35: =IF(_2021!AI38<>"",_2021!E38,"")
C36: =IF(_2021!F39<>"",_2021!C39,"") | D36: =_2021!D39 -> au | E36: =IF(_2021!F39<>"",_2021!E39,"") | G36: =IF(_2021!G39<>"",_2021!C39,"") | H36: =_2021!D39 -> au | I36: =IF(_2021!G39<>"",_2021!E39,"") | K36: =IF(_2021!H39<>"",_2021!C39,"") | L36: =_2021!D39 -> au | M36: =IF(_2021!H39<>"",_2021!E39,"") | O36: =IF(_2021!I39<>"",_2021!C39,"") | P36: =_2021!D39 -> au | Q36: =IF(_2021!I39<>"",_2021!E39,"") | S36: =IF(_2021!J39<>"",_2021!C39,"") | T36: =_2021!D39 -> au | U36: =IF(_2021!J39<>"",_2021!E39,"") | W36: =IF(_2021!K39<>"",_2021!C39,"") | X36: =_2021!D39 -> au | Y36: =IF(_2021!K39<>"",_2021!E39,"") | AA36: =IF(_2021!L39<>"",_2021!C39,"") | AB36: =_2021!D39 -> au | AC36: =IF(_2021!L39<>"",_2021!E39,"") | AE36: =IF(_2021!M39<>"",_2021!C39,"") | AF36: =_2021!D39 -> au | AG36: =IF(_2021!M39<>"",_2021!E39,"") | AI36: =IF(_2021!N39<>"",_2021!C39,"") -> 44318 | AJ36: =_2021!D39 -> au | AK36: =IF(_2021!N39<>"",_2021!E39,"") -> 44322 | AM36: =IF(_2021!O39<>"",_2021!C39,"") | AN36: =_2021!D39 -> au | AO36: =IF(_2021!O39<>"",_2021!E39,"") | AQ36: =IF(_2021!P39<>"",_2021!C39,"") | AR36: =_2021!D39 -> au | AS36: =IF(_2021!P39<>"",_2021!E39,"") | AU36: =IF(_2021!Q39<>"",_2021!C39,"") | AV36: =_2021!D39 -> au | AW36: =IF(_2021!Q39<>"",_2021!E39,"") | AY36: =IF(_2021!R39<>"",_2021!C39,"") | AZ36: =_2021!D39 -> au | BA36: =IF(_2021!R39<>"",_2021!E39,"") | BC36: =IF(_2021!S39<>"",_2021!C39,"") | BD36: =_2021!D39 -> au | BE36: =IF(_2021!S39<>"",_2021!E39,"") | BG36: =IF(_2021!T39<>"",_2021!C39,"") | BH36: =_2021!D39 -> au | BI36: =IF(_2021!T39<>"",_2021!E39,"") | BK36: =IF(_2021!U39<>"",_2021!C39,"") | BL36: =_2021!D39 -> au | BM36: =IF(_2021!U39<>"",_2021!E39,"") | BO36: =IF(_2021!V39<>"",_2021!C39,"") | BP36: =_2021!D39 -> au | BQ36: =IF(_2021!V39<>"",_2021!E39,"") | BS36: =IF(_2021!W39<>"",_2021!C39,"") | BT36: =_2021!D39 -> au | BU36: =IF(_2021!W39<>"",_2021!E39,"") | BW36: =IF(_2021!X39<>"",_2021!C39,"") | BX36: =_2021!D39 -> au | BY36: =IF(_2021!X39<>"",_2021!E39,"") | CA36: =IF(_2021!Y39<>"",_2021!C39,"") | CB36: =_2021!D39 -> au | CC36: =IF(_2021!Y39<>"",_2021!E39,"") | CE36: =IF(_2021!Z39<>"",_2021!C39,"") | CF36: =_2021!D39 -> au | CG36: =IF(_2021!Z39<>"",_2021!E39,"") | CI36: =IF(_2021!AA39<>"",_2021!C39,"") | CJ36: =_2021!D39 -> au | CK36: =IF(_2021!AA39<>"",_2021!E39,"") | CM36: =IF(_2021!AB39<>"",_2021!C39,"") | CN36: =_2021!D39 -> au | CO36: =IF(_2021!AB39<>"",_2021!E39,"") | CQ36: =IF(_2021!AC39<>"",_2021!C39,"") | CR36: =_2021!D39 -> au | CS36: =IF(_2021!AC39<>"",_2021!E39,"") | CU36: =IF(_2021!AD39<>"",_2021!C39,"") | CV36: =_2021!D39 -> au | CW36: =IF(_2021!AD39<>"",_2021!E39,"") | CY36: =IF(_2021!AE39<>"",_2021!C39,"") | CZ36: =_2021!D39 -> au | DA36: =IF(_2021!AE39<>"",_2021!E39,"") | DC36: =IF(_2021!AF39<>"",_2021!C39,"") | DD36: =_2021!D39 -> au | DE36: =IF(_2021!AF39<>"",_2021!E39,"") | DG36: =IF(_2021!AG39<>"",_2021!C39,"") | DH36: =_2021!D39 -> au | DI36: =IF(_2021!AG39<>"",_2021!E39,"") | DK36: =IF(_2021!AH39<>"",_2021!C39,"") | DL36: =_2021!D39 -> au | DM36: =IF(_2021!AH39<>"",_2021!E39,"") | DO36: =IF(_2021!AI39<>"",_2021!C39,"") | DP36: =_2021!D39 -> au | DQ36: =IF(_2021!AI39<>"",_2021!E39,"")
C37: =IF(_2021!F40<>"",_2021!C40,"") | D37: =_2021!D40 -> au | E37: =IF(_2021!F40<>"",_2021!E40,"") | G37: =IF(_2021!G40<>"",_2021!C40,"") | H37: =_2021!D40 -> au | I37: =IF(_2021!G40<>"",_2021!E40,"") | K37: =IF(_2021!H40<>"",_2021!C40,"") | L37: =_2021!D40 -> au | M37: =IF(_2021!H40<>"",_2021!E40,"") | O37: =IF(_2021!I40<>"",_2021!C40,"") | P37: =_2021!D40 -> au | Q37: =IF(_2021!I40<>"",_2021!E40,"") | S37: =IF(_2021!J40<>"",_2021!C40,"") | T37: =_2021!D40 -> au | U37: =IF(_2021!J40<>"",_2021!E40,"") | W37: =IF(_2021!K40<>"",_2021!C40,"") | X37: =_2021!D40 -> au | Y37: =IF(_2021!K40<>"",_2021!E40,"") | AA37: =IF(_2021!L40<>"",_2021!C40,"") | AB37: =_2021!D40 -> au | AC37: =IF(_2021!L40<>"",_2021!E40,"") | AE37: =IF(_2021!M40<>"",_2021!C40,"") | AF37: =_2021!D40 -> au | AG37: =IF(_2021!M40<>"",_2021!E40,"") | AI37: =IF(_2021!N40<>"",_2021!C40,"") | AJ37: =_2021!D40 -> au | AK37: =IF(_2021!N40<>"",_2021!E40,"") | AM37: =IF(_2021!O40<>"",_2021!C40,"") -> 44322 | AN37: =_2021!D40 -> au | AO37: =IF(_2021!O40<>"",_2021!E40,"") -> 44325 | AQ37: =IF(_2021!P40<>"",_2021!C40,"") | AR37: =_2021!D40 -> au | AS37: =IF(_2021!P40<>"",_2021!E40,"") | AU37: =IF(_2021!Q40<>"",_2021!C40,"") | AV37: =_2021!D40 -> au | AW37: =IF(_2021!Q40<>"",_2021!E40,"") | AY37: =IF(_2021!R40<>"",_2021!C40,"") | AZ37: =_2021!D40 -> au | BA37: =IF(_2021!R40<>"",_2021!E40,"") | BC37: =IF(_2021!S40<>"",_2021!C40,"") | BD37: =_2021!D40 -> au | BE37: =IF(_2021!S40<>"",_2021!E40,"") | BG37: =IF(_2021!T40<>"",_2021!C40,"") | BH37: =_2021!D40 -> au | BI37: =IF(_2021!T40<>"",_2021!E40,"") | BK37: =IF(_2021!U40<>"",_2021!C40,"") | BL37: =_2021!D40 -> au | BM37: =IF(_2021!U40<>"",_2021!E40,"") | BO37: =IF(_2021!V40<>"",_2021!C40,"") | BP37: =_2021!D40 -> au | BQ37: =IF(_2021!V40<>"",_2021!E40,"") | BS37: =IF(_2021!W40<>"",_2021!C40,"") | BT37: =_2021!D40 -> au | BU37: =IF(_2021!W40<>"",_2021!E40,"") | BW37: =IF(_2021!X40<>"",_2021!C40,"") | BX37: =_2021!D40 -> au | BY37: =IF(_2021!X40<>"",_2021!E40,"") | CA37: =IF(_2021!Y40<>"",_2021!C40,"") | CB37: =_2021!D40 -> au | CC37: =IF(_2021!Y40<>"",_2021!E40,"") | CE37: =IF(_2021!Z40<>"",_2021!C40,"") | CF37: =_2021!D40 -> au | CG37: =IF(_2021!Z40<>"",_2021!E40,"") | CI37: =IF(_2021!AA40<>"",_2021!C40,"") | CJ37: =_2021!D40 -> au | CK37: =IF(_2021!AA40<>"",_2021!E40,"") | CM37: =IF(_2021!AB40<>"",_2021!C40,"") | CN37: =_2021!D40 -> au | CO37: =IF(_2021!AB40<>"",_2021!E40,"") | CQ37: =IF(_2021!AC40<>"",_2021!C40,"") | CR37: =_2021!D40 -> au | CS37: =IF(_2021!AC40<>"",_2021!E40,"") | CU37: =IF(_2021!AD40<>"",_2021!C40,"") | CV37: =_2021!D40 -> au | CW37: =IF(_2021!AD40<>"",_2021!E40,"") | CY37: =IF(_2021!AE40<>"",_2021!C40,"") | CZ37: =_2021!D40 -> au | DA37: =IF(_2021!AE40<>"",_2021!E40,"") | DC37: =IF(_2021!AF40<>"",_2021!C40,"") | DD37: =_2021!D40 -> au | DE37: =IF(_2021!AF40<>"",_2021!E40,"") | DG37: =IF(_2021!AG40<>"",_2021!C40,"") | DH37: =_2021!D40 -> au | DI37: =IF(_2021!AG40<>"",_2021!E40,"") | DK37: =IF(_2021!AH40<>"",_2021!C40,"") | DL37: =_2021!D40 -> au | DM37: =IF(_2021!AH40<>"",_2021!E40,"") | DO37: =IF(_2021!AI40<>"",_2021!C40,"") | DP37: =_2021!D40 -> au | DQ37: =IF(_2021!AI40<>"",_2021!E40,"")
C38: =IF(_2021!F41<>"",_2021!C41,"") | D38: =_2021!D41 -> au | E38: =IF(_2021!F41<>"",_2021!E41,"") | G38: =IF(_2021!G41<>"",_2021!C41,"") | H38: =_2021!D41 -> au | I38: =IF(_2021!G41<>"",_2021!E41,"") | K38: =IF(_2021!H41<>"",_2021!C41,"") | L38: =_2021!D41 -> au | M38: =IF(_2021!H41<>"",_2021!E41,"") | O38: =IF(_2021!I41<>"",_2021!C41,"") | P38: =_2021!D41 -> au | Q38: =IF(_2021!I41<>"",_2021!E41,"") | S38: =IF(_2021!J41<>"",_2021!C41,"") | T38: =_2021!D41 -> au | U38: =IF(_2021!J41<>"",_2021!E41,"") | W38: =IF(_2021!K41<>"",_2021!C41,"") | X38: =_2021!D41 -> au | Y38: =IF(_2021!K41<>"",_2021!E41,"") | AA38: =IF(_2021!L41<>"",_2021!C41,"") | AB38: =_2021!D41 -> au | AC38: =IF(_2021!L41<>"",_2021!E41,"") | AE38: =IF(_2021!M41<>"",_2021!C41,"") | AF38: =_2021!D41 -> au | AG38: =IF(_2021!M41<>"",_2021!E41,"") | AI38: =IF(_2021!N41<>"",_2021!C41,"") | AJ38: =_2021!D41 -> au | AK38: =IF(_2021!N41<>"",_2021!E41,"") | AM38: =IF(_2021!O41<>"",_2021!C41,"") | AN38: =_2021!D41 -> au | AO38: =IF(_2021!O41<>"",_2021!E41,"") | AQ38: =IF(_2021!P41<>"",_2021!C41,"") -> 44325 | AR38: =_2021!D41 -> au | AS38: =IF(_2021!P41<>"",_2021!E41,"") -> 44329 | AU38: =IF(_2021!Q41<>"",_2021!C41,"") | AV38: =_2021!D41 -> au | AW38: =IF(_2021!Q41<>"",_2021!E41,"") | AY38: =IF(_2021!R41<>"",_2021!C41,"") | AZ38: =_2021!D41 -> au | BA38: =IF(_2021!R41<>"",_2021!E41,"") | BC38: =IF(_2021!S41<>"",_2021!C41,"") | BD38: =_2021!D41 -> au | BE38: =IF(_2021!S41<>"",_2021!E41,"") | BG38: =IF(_2021!T41<>"",_2021!C41,"") | BH38: =_2021!D41 -> au | BI38: =IF(_2021!T41<>"",_2021!E41,"") | BK38: =IF(_2021!U41<>"",_2021!C41,"") | BL38: =_2021!D41 -> au | BM38: =IF(_2021!U41<>"",_2021!E41,"") | BO38: =IF(_2021!V41<>"",_2021!C41,"") | BP38: =_2021!D41 -> au | BQ38: =IF(_2021!V41<>"",_2021!E41,"") | BS38: =IF(_2021!W41<>"",_2021!C41,"") | BT38: =_2021!D41 -> au | BU38: =IF(_2021!W41<>"",_2021!E41,"") | BW38: =IF(_2021!X41<>"",_2021!C41,"") | BX38: =_2021!D41 -> au | BY38: =IF(_2021!X41<>"",_2021!E41,"") | CA38: =IF(_2021!Y41<>"",_2021!C41,"") | CB38: =_2021!D41 -> au | CC38: =IF(_2021!Y41<>"",_2021!E41,"") | CE38: =IF(_2021!Z41<>"",_2021!C41,"") | CF38: =_2021!D41 -> au | CG38: =IF(_2021!Z41<>"",_2021!E41,"") | CI38: =IF(_2021!AA41<>"",_2021!C41,"") | CJ38: =_2021!D41 -> au | CK38: =IF(_2021!AA41<>"",_2021!E41,"") | CM38: =IF(_2021!AB41<>"",_2021!C41,"") | CN38: =_2021!D41 -> au | CO38: =IF(_2021!AB41<>"",_2021!E41,"") | CQ38: =IF(_2021!AC41<>"",_2021!C41,"") | CR38: =_2021!D41 -> au | CS38: =IF(_2021!AC41<>"",_2021!E41,"") | CU38: =IF(_2021!AD41<>"",_2021!C41,"") | CV38: =_2021!D41 -> au | CW38: =IF(_2021!AD41<>"",_2021!E41,"") | CY38: =IF(_2021!AE41<>"",_2021!C41,"") | CZ38: =_2021!D41 -> au | DA38: =IF(_2021!AE41<>"",_2021!E41,"") | DC38: =IF(_2021!AF41<>"",_2021!C41,"") | DD38: =_2021!D41 -> au | DE38: =IF(_2021!AF41<>"",_2021!E41,"") | DG38: =IF(_2021!AG41<>"",_2021!C41,"") | DH38: =_2021!D41 -> au | DI38: =IF(_2021!AG41<>"",_2021!E41,"") | DK38: =IF(_2021!AH41<>"",_2021!C41,"") | DL38: =_2021!D41 -> au | DM38: =IF(_2021!AH41<>"",_2021!E41,"") | DO38: =IF(_2021!AI41<>"",_2021!C41,"") | DP38: =_2021!D41 -> au | DQ38: =IF(_2021!AI41<>"",_2021!E41,"")
C39: =IF(_2021!F42<>"",_2021!C42,"") | D39: =_2021!D42 -> au | E39: =IF(_2021!F42<>"",_2021!E42,"") | G39: =IF(_2021!G42<>"",_2021!C42,"") | H39: =_2021!D42 -> au | I39: =IF(_2021!G42<>"",_2021!E42,"") | K39: =IF(_2021!H42<>"",_2021!C42,"") | L39: =_2021!D42 -> au | M39: =IF(_2021!H42<>"",_2021!E42,"") | O39: =IF(_2021!I42<>"",_2021!C42,"") | P39: =_2021!D42 -> au | Q39: =IF(_2021!I42<>"",_2021!E42,"") | S39: =IF(_2021!J42<>"",_2021!C42,"") | T39: =_2021!D42 -> au | U39: =IF(_2021!J42<>"",_2021!E42,"") | W39: =IF(_2021!K42<>"",_2021!C42,"") | X39: =_2021!D42 -> au | Y39: =IF(_2021!K42<>"",_2021!E42,"") | AA39: =IF(_2021!L42<>"",_2021!C42,"") | AB39: =_2021!D42 -> au | AC39: =IF(_2021!L42<>"",_2021!E42,"") | AE39: =IF(_2021!M42<>"",_2021!C42,"") | AF39: =_2021!D42 -> au | AG39: =IF(_2021!M42<>"",_2021!E42,"") | AI39: =IF(_2021!N42<>"",_2021!C42,"") | AJ39: =_2021!D42 -> au | AK39: =IF(_2021!N42<>"",_2021!E42,"") | AM39: =IF(_2021!O42<>"",_2021!C42,"") | AN39: =_2021!D42 -> au | AO39: =IF(_2021!O42<>"",_2021!E42,"") | AQ39: =IF(_2021!P42<>"",_2021!C42,"") | AR39: =_2021!D42 -> au | AS39: =IF(_2021!P42<>"",_2021!E42,"") | AU39: =IF(_2021!Q42<>"",_2021!C42,"") -> 44329 | AV39: =_2021!D42 -> au | AW39: =IF(_2021!Q42<>"",_2021!E42,"") -> 44332 | AY39: =IF(_2021!R42<>"",_2021!C42,"") | AZ39: =_2021!D42 -> au | BA39: =IF(_2021!R42<>"",_2021!E42,"") | BC39: =IF(_2021!S42<>"",_2021!C42,"") | BD39: =_2021!D42 -> au | BE39: =IF(_2021!S42<>"",_2021!E42,"") | BG39: =IF(_2021!T42<>"",_2021!C42,"") | BH39: =_2021!D42 -> au | BI39: =IF(_2021!T42<>"",_2021!E42,"") | BK39: =IF(_2021!U42<>"",_2021!C42,"") | BL39: =_2021!D42 -> au | BM39: =IF(_2021!U42<>"",_2021!E42,"") | BO39: =IF(_2021!V42<>"",_2021!C42,"") | BP39: =_2021!D42 -> au | BQ39: =IF(_2021!V42<>"",_2021!E42,"") | BS39: =IF(_2021!W42<>"",_2021!C42,"") | BT39: =_2021!D42 -> au | BU39: =IF(_2021!W42<>"",_2021!E42,"") | BW39: =IF(_2021!X42<>"",_2021!C42,"") | BX39: =_2021!D42 -> au | BY39: =IF(_2021!X42<>"",_2021!E42,"") | CA39: =IF(_2021!Y42<>"",_2021!C42,"") | CB39: =_2021!D42 -> au | CC39: =IF(_2021!Y42<>"",_2021!E42,"") | CE39: =IF(_2021!Z42<>"",_2021!C42,"") | CF39: =_2021!D42 -> au | CG39: =IF(_2021!Z42<>"",_2021!E42,"") | CI39: =IF(_2021!AA42<>"",_2021!C42,"") | CJ39: =_2021!D42 -> au | CK39: =IF(_2021!AA42<>"",_2021!E42,"") | CM39: =IF(_2021!AB42<>"",_2021!C42,"") | CN39: =_2021!D42 -> au | CO39: =IF(_2021!AB42<>"",_2021!E42,"") | CQ39: =IF(_2021!AC42<>"",_2021!C42,"") | CR39: =_2021!D42 -> au | CS39: =IF(_2021!AC42<>"",_2021!E42,"") | CU39: =IF(_2021!AD42<>"",_2021!C42,"") | CV39: =_2021!D42 -> au | CW39: =IF(_2021!AD42<>"",_2021!E42,"") | CY39: =IF(_2021!AE42<>"",_2021!C42,"") | CZ39: =_2021!D42 -> au | DA39: =IF(_2021!AE42<>"",_2021!E42,"") | DC39: =IF(_2021!AF42<>"",_2021!C42,"") | DD39: =_2021!D42 -> au | DE39: =IF(_2021!AF42<>"",_2021!E42,"") | DG39: =IF(_2021!AG42<>"",_2021!C42,"") | DH39: =_2021!D42 -> au | DI39: =IF(_2021!AG42<>"",_2021!E42,"") | DK39: =IF(_2021!AH42<>"",_2021!C42,"") | DL39: =_2021!D42 -> au | DM39: =IF(_2021!AH42<>"",_2021!E42,"") | DO39: =IF(_2021!AI42<>"",_2021!C42,"") | DP39: =_2021!D42 -> au | DQ39: =IF(_2021!AI42<>"",_2021!E42,"")
C40: =IF(_2021!F43<>"",_2021!C43,"") | D40: =_2021!D43 -> au | E40: =IF(_2021!F43<>"",_2021!E43,"") | G40: =IF(_2021!G43<>"",_2021!C43,"") | H40: =_2021!D43 -> au | I40: =IF(_2021!G43<>"",_2021!E43,"") | K40: =IF(_2021!H43<>"",_2021!C43,"") | L40: =_2021!D43 -> au | M40: =IF(_2021!H43<>"",_2021!E43,"") | O40: =IF(_2021!I43<>"",_2021!C43,"") | P40: =_2021!D43 -> au | Q40: =IF(_2021!I43<>"",_2021!E43,"") | S40: =IF(_2021!J43<>"",_2021!C43,"") | T40: =_2021!D43 -> au | U40: =IF(_2021!J43<>"",_2021!E43,"") | W40: =IF(_2021!K43<>"",_2021!C43,"") | X40: =_2021!D43 -> au | Y40: =IF(_2021!K43<>"",_2021!E43,"") | AA40: =IF(_2021!L43<>"",_2021!C43,"") | AB40: =_2021!D43 -> au | AC40: =IF(_2021!L43<>"",_2021!E43,"") | AE40: =IF(_2021!M43<>"",_2021!C43,"") | AF40: =_2021!D43 -> au | AG40: =IF(_2021!M43<>"",_2021!E43,"") | AI40: =IF(_2021!N43<>"",_2021!C43,"") | AJ40: =_2021!D43 -> au | AK40: =IF(_2021!N43<>"",_2021!E43,"") | AM40: =IF(_2021!O43<>"",_2021!C43,"") | AN40: =_2021!D43 -> au | AO40: =IF(_2021!O43<>"",_2021!E43,"") | AQ40: =IF(_2021!P43<>"",_2021!C43,"") | AR40: =_2021!D43 -> au | AS40: =IF(_2021!P43<>"",_2021!E43,"") | AU40: =IF(_2021!Q43<>"",_2021!C43,"") | AV40: =_2021!D43 -> au | AW40: =IF(_2021!Q43<>"",_2021!E43,"") | AY40: =IF(_2021!R43<>"",_2021!C43,"") -> 44332 | AZ40: =_2021!D43 -> au | BA40: =IF(_2021!R43<>"",_2021!E43,"") -> 44336 | BC40: =IF(_2021!S43<>"",_2021!C43,"") | BD40: =_2021!D43 -> au | BE40: =IF(_2021!S43<>"",_2021!E43,"") | BG40: =IF(_2021!T43<>"",_2021!C43,"") | BH40: =_2021!D43 -> au | BI40: =IF(_2021!T43<>"",_2021!E43,"") | BK40: =IF(_2021!U43<>"",_2021!C43,"") | BL40: =_2021!D43 -> au | BM40: =IF(_2021!U43<>"",_2021!E43,"") | BO40: =IF(_2021!V43<>"",_2021!C43,"") | BP40: =_2021!D43 -> au | BQ40: =IF(_2021!V43<>"",_2021!E43,"") | BS40: =IF(_2021!W43<>"",_2021!C43,"") | BT40: =_2021!D43 -> au | BU40: =IF(_2021!W43<>"",_2021!E43,"") | BW40: =IF(_2021!X43<>"",_2021!C43,"") | BX40: =_2021!D43 -> au | BY40: =IF(_2021!X43<>"",_2021!E43,"") | CA40: =IF(_2021!Y43<>"",_2021!C43,"") | CB40: =_2021!D43 -> au | CC40: =IF(_2021!Y43<>"",_2021!E43,"") | CE40: =IF(_2021!Z43<>"",_2021!C43,"") | CF40: =_2021!D43 -> au | CG40: =IF(_2021!Z43<>"",_2021!E43,"") | CI40: =IF(_2021!AA43<>"",_2021!C43,"") | CJ40: =_2021!D43 -> au | CK40: =IF(_2021!AA43<>"",_2021!E43,"") | CM40: =IF(_2021!AB43<>"",_2021!C43,"") | CN40: =_2021!D43 -> au | CO40: =IF(_2021!AB43<>"",_2021!E43,"") | CQ40: =IF(_2021!AC43<>"",_2021!C43,"") | CR40: =_2021!D43 -> au | CS40: =IF(_2021!AC43<>"",_2021!E43,"") | CU40: =IF(_2021!AD43<>"",_2021!C43,"") | CV40: =_2021!D43 -> au | CW40: =IF(_2021!AD43<>"",_2021!E43,"") | CY40: =IF(_2021!AE43<>"",_2021!C43,"") | CZ40: =_2021!D43 -> au | DA40: =IF(_2021!AE43<>"",_2021!E43,"") | DC40: =IF(_2021!AF43<>"",_2021!C43,"") | DD40: =_2021!D43 -> au | DE40: =IF(_2021!AF43<>"",_2021!E43,"") | DG40: =IF(_2021!AG43<>"",_2021!C43,"") | DH40: =_2021!D43 -> au | DI40: =IF(_2021!AG43<>"",_2021!E43,"") | DK40: =IF(_2021!AH43<>"",_2021!C43,"") | DL40: =_2021!D43 -> au | DM40: =IF(_2021!AH43<>"",_2021!E43,"") | DO40: =IF(_2021!AI43<>"",_2021!C43,"") | DP40: =_2021!D43 -> au | DQ40: =IF(_2021!AI43<>"",_2021!E43,"")
C41: =IF(_2021!F44<>"",_2021!C44,"") | D41: =_2021!D44 -> au | E41: =IF(_2021!F44<>"",_2021!E44,"") | G41: =IF(_2021!G44<>"",_2021!C44,"") | H41: =_2021!D44 -> au | I41: =IF(_2021!G44<>"",_2021!E44,"") | K41: =IF(_2021!H44<>"",_2021!C44,"") | L41: =_2021!D44 -> au | M41: =IF(_2021!H44<>"",_2021!E44,"") | O41: =IF(_2021!I44<>"",_2021!C44,"") | P41: =_2021!D44 -> au | Q41: =IF(_2021!I44<>"",_2021!E44,"") | S41: =IF(_2021!J44<>"",_2021!C44,"") | T41: =_2021!D44 -> au | U41: =IF(_2021!J44<>"",_2021!E44,"") | W41: =IF(_2021!K44<>"",_2021!C44,"") | X41: =_2021!D44 -> au | Y41: =IF(_2021!K44<>"",_2021!E44,"") | AA41: =IF(_2021!L44<>"",_2021!C44,"") | AB41: =_2021!D44 -> au | AC41: =IF(_2021!L44<>"",_2021!E44,"") | AE41: =IF(_2021!M44<>"",_2021!C44,"") | AF41: =_2021!D44 -> au | AG41: =IF(_2021!M44<>"",_2021!E44,"") | AI41: =IF(_2021!N44<>"",_2021!C44,"") | AJ41: =_2021!D44 -> au | AK41: =IF(_2021!N44<>"",_2021!E44,"") | AM41: =IF(_2021!O44<>"",_2021!C44,"") | AN41: =_2021!D44 -> au | AO41: =IF(_2021!O44<>"",_2021!E44,"") | AQ41: =IF(_2021!P44<>"",_2021!C44,"") | AR41: =_2021!D44 -> au | AS41: =IF(_2021!P44<>"",_2021!E44,"") | AU41: =IF(_2021!Q44<>"",_2021!C44,"") | AV41: =_2021!D44 -> au | AW41: =IF(_2021!Q44<>"",_2021!E44,"") | AY41: =IF(_2021!R44<>"",_2021!C44,"") | AZ41: =_2021!D44 -> au | BA41: =IF(_2021!R44<>"",_2021!E44,"") | BC41: =IF(_2021!S44<>"",_2021!C44,"") -> 44336 | BD41: =_2021!D44 -> au | BE41: =IF(_2021!S44<>"",_2021!E44,"") -> 44339 | BG41: =IF(_2021!T44<>"",_2021!C44,"") | BH41: =_2021!D44 -> au | BI41: =IF(_2021!T44<>"",_2021!E44,"") | BK41: =IF(_2021!U44<>"",_2021!C44,"") | BL41: =_2021!D44 -> au | BM41: =IF(_2021!U44<>"",_2021!E44,"") | BO41: =IF(_2021!V44<>"",_2021!C44,"") | BP41: =_2021!D44 -> au | BQ41: =IF(_2021!V44<>"",_2021!E44,"") | BS41: =IF(_2021!W44<>"",_2021!C44,"") | BT41: =_2021!D44 -> au | BU41: =IF(_2021!W44<>"",_2021!E44,"") | BW41: =IF(_2021!X44<>"",_2021!C44,"") | BX41: =_2021!D44 -> au | BY41: =IF(_2021!X44<>"",_2021!E44,"") | CA41: =IF(_2021!Y44<>"",_2021!C44,"") | CB41: =_2021!D44 -> au | CC41: =IF(_2021!Y44<>"",_2021!E44,"") | CE41: =IF(_2021!Z44<>"",_2021!C44,"") | CF41: =_2021!D44 -> au | CG41: =IF(_2021!Z44<>"",_2021!E44,"") | CI41: =IF(_2021!AA44<>"",_2021!C44,"") | CJ41: =_2021!D44 -> au | CK41: =IF(_2021!AA44<>"",_2021!E44,"") | CM41: =IF(_2021!AB44<>"",_2021!C44,"") | CN41: =_2021!D44 -> au | CO41: =IF(_2021!AB44<>"",_2021!E44,"") | CQ41: =IF(_2021!AC44<>"",_2021!C44,"") | CR41: =_2021!D44 -> au | CS41: =IF(_2021!AC44<>"",_2021!E44,"") | CU41: =IF(_2021!AD44<>"",_2021!C44,"") | CV41: =_2021!D44 -> au | CW41: =IF(_2021!AD44<>"",_2021!E44,"") | CY41: =IF(_2021!AE44<>"",_2021!C44,"") | CZ41: =_2021!D44 -> au | DA41: =IF(_2021!AE44<>"",_2021!E44,"") | DC41: =IF(_2021!AF44<>"",_2021!C44,"") | DD41: =_2021!D44 -> au | DE41: =IF(_2021!AF44<>"",_2021!E44,"") | DG41: =IF(_2021!AG44<>"",_2021!C44,"") | DH41: =_2021!D44 -> au | DI41: =IF(_2021!AG44<>"",_2021!E44,"") | DK41: =IF(_2021!AH44<>"",_2021!C44,"") | DL41: =_2021!D44 -> au | DM41: =IF(_2021!AH44<>"",_2021!E44,"") | DO41: =IF(_2021!AI44<>"",_2021!C44,"") | DP41: =_2021!D44 -> au | DQ41: =IF(_2021!AI44<>"",_2021!E44,"")
C42: =IF(_2021!F45<>"",_2021!C45,"") | D42: =_2021!D45 -> au | E42: =IF(_2021!F45<>"",_2021!E45,"") | G42: =IF(_2021!G45<>"",_2021!C45,"") | H42: =_2021!D45 -> au | I42: =IF(_2021!G45<>"",_2021!E45,"") | K42: =IF(_2021!H45<>"",_2021!C45,"") | L42: =_2021!D45 -> au | M42: =IF(_2021!H45<>"",_2021!E45,"") | O42: =IF(_2021!I45<>"",_2021!C45,"") | P42: =_2021!D45 -> au | Q42: =IF(_2021!I45<>"",_2021!E45,"") | S42: =IF(_2021!J45<>"",_2021!C45,"") | T42: =_2021!D45 -> au | U42: =IF(_2021!J45<>"",_2021!E45,"") | W42: =IF(_2021!K45<>"",_2021!C45,"") | X42: =_2021!D45 -> au | Y42: =IF(_2021!K45<>"",_2021!E45,"") | AA42: =IF(_2021!L45<>"",_2021!C45,"") | AB42: =_2021!D45 -> au | AC42: =IF(_2021!L45<>"",_2021!E45,"") | AE42: =IF(_2021!M45<>"",_2021!C45,"") | AF42: =_2021!D45 -> au | AG42: =IF(_2021!M45<>"",_2021!E45,"") | AI42: =IF(_2021!N45<>"",_2021!C45,"") | AJ42: =_2021!D45 -> au | AK42: =IF(_2021!N45<>"",_2021!E45,"") | AM42: =IF(_2021!O45<>"",_2021!C45,"") | AN42: =_2021!D45 -> au | AO42: =IF(_2021!O45<>"",_2021!E45,"") | AQ42: =IF(_2021!P45<>"",_2021!C45,"") | AR42: =_2021!D45 -> au | AS42: =IF(_2021!P45<>"",_2021!E45,"") | AU42: =IF(_2021!Q45<>"",_2021!C45,"") | AV42: =_2021!D45 -> au | AW42: =IF(_2021!Q45<>"",_2021!E45,"") | AY42: =IF(_2021!R45<>"",_2021!C45,"") | AZ42: =_2021!D45 -> au | BA42: =IF(_2021!R45<>"",_2021!E45,"") | BC42: =IF(_2021!S45<>"",_2021!C45,"") | BD42: =_2021!D45 -> au | BE42: =IF(_2021!S45<>"",_2021!E45,"") | BG42: =IF(_2021!T45<>"",_2021!C45,"") -> 44339 | BH42: =_2021!D45 -> au | BI42: =IF(_2021!T45<>"",_2021!E45,"") -> 44343 | BK42: =IF(_2021!U45<>"",_2021!C45,"") | BL42: =_2021!D45 -> au | BM42: =IF(_2021!U45<>"",_2021!E45,"") | BO42: =IF(_2021!V45<>"",_2021!C45,"") | BP42: =_2021!D45 -> au | BQ42: =IF(_2021!V45<>"",_2021!E45,"") | BS42: =IF(_2021!W45<>"",_2021!C45,"") | BT42: =_2021!D45 -> au | BU42: =IF(_2021!W45<>"",_2021!E45,"") | BW42: =IF(_2021!X45<>"",_2021!C45,"") | BX42: =_2021!D45 -> au | BY42: =IF(_2021!X45<>"",_2021!E45,"") | CA42: =IF(_2021!Y45<>"",_2021!C45,"") | CB42: =_2021!D45 -> au | CC42: =IF(_2021!Y45<>"",_2021!E45,"") | CE42: =IF(_2021!Z45<>"",_2021!C45,"") | CF42: =_2021!D45 -> au | CG42: =IF(_2021!Z45<>"",_2021!E45,"") | CI42: =IF(_2021!AA45<>"",_2021!C45,"") | CJ42: =_2021!D45 -> au | CK42: =IF(_2021!AA45<>"",_2021!E45,"") | CM42: =IF(_2021!AB45<>"",_2021!C45,"") | CN42: =_2021!D45 -> au | CO42: =IF(_2021!AB45<>"",_2021!E45,"") | CQ42: =IF(_2021!AC45<>"",_2021!C45,"") | CR42: =_2021!D45 -> au | CS42: =IF(_2021!AC45<>"",_2021!E45,"") | CU42: =IF(_2021!AD45<>"",_2021!C45,"") | CV42: =_2021!D45 -> au | CW42: =IF(_2021!AD45<>"",_2021!E45,"") | CY42: =IF(_2021!AE45<>"",_2021!C45,"") | CZ42: =_2021!D45 -> au | DA42: =IF(_2021!AE45<>"",_2021!E45,"") | DC42: =IF(_2021!AF45<>"",_2021!C45,"") | DD42: =_2021!D45 -> au | DE42: =IF(_2021!AF45<>"",_2021!E45,"") | DG42: =IF(_2021!AG45<>"",_2021!C45,"") | DH42: =_2021!D45 -> au | DI42: =IF(_2021!AG45<>"",_2021!E45,"") | DK42: =IF(_2021!AH45<>"",_2021!C45,"") | DL42: =_2021!D45 -> au | DM42: =IF(_2021!AH45<>"",_2021!E45,"") | DO42: =IF(_2021!AI45<>"",_2021!C45,"") | DP42: =_2021!D45 -> au | DQ42: =IF(_2021!AI45<>"",_2021!E45,"")
... C106: =IF(_2021!F109<>"",_2021!C109,"") | D106: =_2021!D109 -> au | E106: =IF(_2021!F109<>"",_2021!E109,"") | G106: =IF(_2021!G109<>"",_2021!C109,"") | H106: =_2021!D109 -> au | I106: =IF(_2021!G109<>"",_2021!E109,"") | K106: =IF(_2021!H109<>"",_2021!C109,"") | L106: =_2021!D109 -> au | M106: =IF(_2021!H109<>"",_2021!E109,"") | O106: =IF(_2021!I109<>"",_2021!C109,"") | P106: =_2021!D109 -> au | Q106: =IF(_2021!I109<>"",_2021!E109,"") | S106: =IF(_2021!J109<>"",_2021!C109,"") | T106: =_2021!D109 -> au | U106: =IF(_2021!J109<>"",_2021!E109,"") | W106: =IF(_2021!K109<>"",_2021!C109,"") | X106: =_2021!D109 -> au | Y106: =IF(_2021!K109<>"",_2021!E109,"") | AA106: =IF(_2021!L109<>"",_2021!C109,"") | AB106: =_2021!D109 -> au | AC106: =IF(_2021!L109<>"",_2021!E109,"") | AE106: =IF(_2021!M109<>"",_2021!C109,"") | AF106: =_2021!D109 -> au | AG106: =IF(_2021!M109<>"",_2021!E109,"") | AI106: =IF(_2021!N109<>"",_2021!C109,"") | AJ106: =_2021!D109 -> au | AK106: =IF(_2021!N109<>"",_2021!E109,"") | AM106: =IF(_2021!O109<>"",_2021!C109,"") | AN106: =_2021!D109 -> au | AO106: =IF(_2021!O109<>"",_2021!E109,"") | AQ106: =IF(_2021!P109<>"",_2021!C109,"") | AR106: =_2021!D109 -> au | AS106: =IF(_2021!P109<>"",_2021!E109,"") | AU106: =IF(_2021!Q109<>"",_2021!C109,"") | AV106: =_2021!D109 -> au | AW106: =IF(_2021!Q109<>"",_2021!E109,"") | AY106: =IF(_2021!R109<>"",_2021!C109,"") | AZ106: =_2021!D109 -> au | BA106: =IF(_2021!R109<>"",_2021!E109,"") | BC106: =IF(_2021!S109<>"",_2021!C109,"") | BD106: =_2021!D109 -> au | BE106: =IF(_2021!S109<>"",_2021!E109,"") | BG106: =IF(_2021!T109<>"",_2021!C109,"") | BH106: =_2021!D109 -> au | BI106: =IF(_2021!T109<>"",_2021!E109,"") | BK106: =IF(_2021!U109<>"",_2021!C109,"") | BL106: =_2021!D109 -> au | BM106: =IF(_2021!U109<>"",_2021!E109,"") | BO106: =IF(_2021!V109<>"",_2021!C109,"") | BP106: =_2021!D109 -> au | BQ106: =IF(_2021!V109<>"",_2021!E109,"") | BS106: =IF(_2021!W109<>"",_2021!C109,"") | BT106: =_2021!D109 -> au | BU106: =IF(_2021!W109<>"",_2021!E109,"") | BW106: =IF(_2021!X109<>"",_2021!C109,"") | BX106: =_2021!D109 -> au | BY106: =IF(_2021!X109<>"",_2021!E109,"") | CA106: =IF(_2021!Y109<>"",_2021!C109,"") | CB106: =_2021!D109 -> au | CC106: =IF(_2021!Y109<>"",_2021!E109,"") | CE106: =IF(_2021!Z109<>"",_2021!C109,"") | CF106: =_2021!D109 -> au | CG106: =IF(_2021!Z109<>"",_2021!E109,"") | CI106: =IF(_2021!AA109<>"",_2021!C109,"") | CJ106: =_2021!D109 -> au | CK106: =IF(_2021!AA109<>"",_2021!E109,"") | CM106: =IF(_2021!AB109<>"",_2021!C109,"") | CN106: =_2021!D109 -> au | CO106: =IF(_2021!AB109<>"",_2021!E109,"") | CQ106: =IF(_2021!AC109<>"",_2021!C109,"") | CR106: =_2021!D109 -> au | CS106: =IF(_2021!AC109<>"",_2021!E109,"") | CU106: =IF(_2021!AD109<>"",_2021!C109,"") | CV106: =_2021!D109 -> au | CW106: =IF(_2021!AD109<>"",_2021!E109,"") | CY106: =IF(_2021!AE109<>"",_2021!C109,"") | CZ106: =_2021!D109 -> au | DA106: =IF(_2021!AE109<>"",_2021!E109,"") | DC106: =IF(_2021!AF109<>"",_2021!C109,"") | DD106: =_2021!D109 -> au | DE106: =IF(_2021!AF109<>"",_2021!E109,"") | DG106: =IF(_2021!AG109<>"",_2021!C109,"") | DH106: =_2021!D109 -> au | DI106: =IF(_2021!AG109<>"",_2021!E109,"") | DK106: =IF(_2021!AH109<>"",_2021!C109,"") | DL106: =_2021!D109 -> au | DM106: =IF(_2021!AH109<>"",_2021!E109,"") | DO106: =IF(_2021!AI109<>"",_2021!C109,"") | DP106: =_2021!D109 -> au | DQ106: =IF(_2021!AI109<>"",_2021!E109,"")
