Workbook

Sheet liste agents
B1: NOM | C1: Prénom
A2: 1 | B2: NOM 1 | C2: Prénom 1
A3: 2 | B3: NOM 2 | C3: Prénom 2
A4: 3 | B4: NOM 3 | C4: Prénom 3
A5: 4 | B5: NOM 4 | C5: Prénom 4
A6: 5 | B6: NOM 5 | C6: Prénom 5
A7: 6 | B7: NOM 6 | C7: Prénom 6
A8: 7 | B8: NOM 7 | C8: Prénom 7
A9: 8 | B9: NOM 8 | C9: Prénom 8
A10: 9 | B10: NOM 9 | C10: Prénom 9
A11: 10 | B11: NOM 10 | C11: Prénom 10
A12: 11 | B12: NOM 11 | C12: Prénom 11
A13: 12 | B13: NOM 12 | C13: Prénom 12
... A27: 26 | B27: NOM 26 | C27: Prénom 26

Sheet 2021
F1: 1 | G1: 2 | H1: 3 | I1: 4 | J1: 5 | K1: 6 | L1: 7 | M1: 8 | N1: 9 | O1: 10 | P1: 11 | Q1: 12 | R1: 13 | S1: 14 | T1: 15 | U1: 16 | V1: 17 | W1: 18 | X1: 19 | Y1: 20 | Z1: 21 | AA1: 22 | AB1: 23 | AC1: 24 | AD1: 25 | AE1: 26
F2: ='liste agents'!B2&" "&'liste agents'!C2 -> NOM 1 Prénom 1 | G2: ='liste agents'!B3&" "&'liste agents'!C3 -> NOM 2 Prénom 2 | H2: ='liste agents'!B4&" "&'liste agents'!C4 -> NOM 3 Prénom 3 | I2: ='liste agents'!B5&" "&'liste agents'!C5 -> NOM 4 Prénom 4 | J2: ='liste agents'!B6&" "&'liste agents'!C6 -> NOM 5 Prénom 5 | K2: ='liste agents'!B7&" "&'liste agents'!C7 -> NOM 6 Prénom 6 | L2: ='liste agents'!B8&" "&'liste agents'!C8 -> NOM 7 Prénom 7 | M2: ='liste agents'!B9&" "&'liste agents'!C9 -> NOM 8 Prénom 8 | N2: ='liste agents'!B10&" "&'liste agents'!C10 -> NOM 9 Prénom 9 | O2: ='liste agents'!B11&" "&'liste agents'!C11 -> NOM 10 Prénom 10 | P2: ='liste agents'!B12&" "&'liste agents'!C12 -> NOM 11 Prénom 11 | Q2: ='liste agents'!B13&" "&'liste agents'!C13 -> NOM 12 Prénom 12 | R2: ='liste agents'!B14&" "&'liste agents'!C14 -> NOM 13 Prénom 13 | S2: ='liste agents'!B15&" "&'liste agents'!C15 -> NOM 14 Prénom 14 | T2: ='liste agents'!B16&" "&'liste agents'!C16 -> NOM 15 Prénom 15 | U2: ='liste agents'!B17&" "&'liste agents'!C17 -> NOM 16 Prénom 16 | V2: ='liste agents'!B18&" "&'liste agents'!C18 -> NOM 17 Prénom 17 | W2: ='liste agents'!B19&" "&'liste agents'!C19 -> NOM 18 Prénom 18 | X2: ='liste agents'!B20&" "&'liste agents'!C20 -> NOM 19 Prénom 19 | Y2: ='liste agents'!B21&" "&'liste agents'!C21 -> NOM 20 Prénom 20 | Z2: ='liste agents'!B22&" "&'liste agents'!C22 -> NOM 21 Prénom 21 | AA2: ='liste agents'!B23&" "&'liste agents'!C23 -> NOM 22 Prénom 22 | AB2: ='liste agents'!B24&" "&'liste agents'!C24 -> NOM 23 Prénom 23 | AC2: ='liste agents'!B25&" "&'liste agents'!C25 -> NOM 24 Prénom 24 | AD2: ='liste agents'!B26&" "&'liste agents'!C26 -> NOM 25 Prénom 25 | AE2: ='liste agents'!B27&" "&'liste agents'!C27 -> NOM 26 Prénom 26
F3: nb de jour astreinte | G3: nb de jour astreinte | H3: nb de jour astreinte | I3: nb de jour astreinte | J3: nb de jour astreinte | K3: nb de jour astreinte | L3: nb de jour astreinte | M3: nb de jour astreinte | N3: nb de jour astreinte | O3: nb de jour astreinte | P3: nb de jour astreinte | Q3: nb de jour astreinte | R3: nb de jour astreinte | S3: nb de jour astreinte | T3: nb de jour astreinte | U3: nb de jour astreinte | V3: nb de jour astreinte | W3: nb de jour astreinte | X3: nb de jour astreinte | Y3: nb de jour astreinte | Z3: nb de jour astreinte | AA3: nb de jour astreinte | AB3: nb de jour astreinte | AC3: nb de jour astreinte | AD3: nb de jour astreinte | AE3: nb de jour astreinte
F4: =COUNTIF(F5:F109,"1") +COUNTIF(F5:F109,"2") -> 4 | G4: =COUNTIF(G5:G109,"1") +COUNTIF(G5:G109,"2") -> 4 | H4: =COUNTIF(H5:H109,"1") +COUNTIF(H5:H109,"2") -> 4 | I4: =COUNTIF(I5:I109,"1") +COUNTIF(I5:I109,"2") -> 4 | J4: =COUNTIF(J5:J109,"1") +COUNTIF(J5:J109,"2") -> 4 | K4: =COUNTIF(K5:K109,"1") +COUNTIF(K5:K109,"2") -> 5 | L4: =COUNTIF(L5:L109,"1") +COUNTIF(L5:L109,"2") -> 4 | M4: =COUNTIF(M5:M109,"1") +COUNTIF(M5:M109,"2") -> 5 | ... AE4: =COUNTIF(AE5:AE109,"1") +COUNTIF(AE5:AE109,"2") -> 4 | AF4: =SUM(F4:AE4) -> 106
A5: 1 | B5: du | C5: 44199 | D5: au | E5: 44203 | F5: 1 | K5: 2
A6: 2 | B6: du | C6: =E5 -> 44203 | D6: au | E6: =C5+7 -> 44206 | G6: 1
A7: 3 | B7: du | C7: =E6 -> 44206 | D7: au | E7: =E5+7 -> 44210 | H7: 1 | M7: 2
A8: 4 | B8: du | C8: =E7 -> 44210 | D8: au | E8: =E6+7 -> 44213 | I8: 1
A9: 5 | B9: du | C9: =E8 -> 44213 | D9: au | E9: =E7+7 -> 44217 | J9: 1
A10: 6 | B10: du | C10: =E9 -> 44217 | D10: au | E10: =E8+7 -> 44220 | K10: 1
A11: 7 | B11: du | C11: =E10 -> 44220 | D11: au | E11: =E9+7 -> 44224 | L11: 1
A12: 8 | B12: du | C12: =E11 -> 44224 | D12: au | E12: =E10+7 -> 44227 | M12: 1
A13: 9 | B13: du | C13: =E12 -> 44227 | D13: au | E13: =E11+7 -> 44231 | N13: 1
A14: 10 | B14: du | C14: =E13 -> 44231 | D14: au | E14: =E12+7 -> 44234 | O14: 1
A15: 11 | B15: du | C15: =E14 -> 44234 | D15: au | E15: =E13+7 -> 44238 | P15: 1
A16: 12 | B16: du | C16: =E15 -> 44238 | D16: au | E16: =E14+7 -> 44241 | Q16: 1
A17: 13 | B17: du | C17: =E16 -> 44241 | D17: au | E17: =E15+7 -> 44245 | R17: 1
A18: 14 | B18: du | C18: =E17 -> 44245 | D18: au | E18: =E16+7 -> 44248 | S18: 1
A19: 15 | B19: du | C19: =E18 -> 44248 | D19: au | E19: =E17+7 -> 44252 | T19: 1
A20: 16 | B20: du | C20: =E19 -> 44252 | D20: au | E20: =E18+7 -> 44255 | U20: 1
A21: 17 | B21: du | C21: =E20 -> 44255 | D21: au | E21: =E19+7 -> 44259 | V21: 1
A22: 18 | B22: du | C22: =E21 -> 44259 | D22: au | E22: =E20+7 -> 44262 | W22: 1
A23: 19 | B23: du | C23: =E22 -> 44262 | D23: au | E23: =E21+7 -> 44266 | X23: 1
A24: 20 | B24: du | C24: =E23 -> 44266 | D24: au | E24: =E22+7 -> 44269 | Y24: 1
A25: 21 | B25: du | C25: =E24 -> 44269 | D25: au | E25: =E23+7 -> 44273 | Z25: 1
A26: 22 | B26: du | C26: =E25 -> 44273 | D26: au | E26: =E24+7 -> 44276 | AA26: 1
A27: 23 | B27: du | C27: =E26 -> 44276 | D27: au | E27: =E25+7 -> 44280 | AB27: 1
A28: 24 | B28: du | C28: =E27 -> 44280 | D28: au | E28: =E26+7 -> 44283 | AC28: 1
A29: 25 | B29: du | C29: =E28 -> 44283 | D29: au | E29: =E27+7 -> 44287 | AD29: 1
A30: 26 | B30: du | C30: =E29 -> 44287 | D30: au | E30: =E28+7 -> 44290 | AE30: 1
A31: 27 | B31: du | C31: =E30 -> 44290 | D31: au | E31: =E29+7 -> 44294 | F31: 1
A32: 28 | B32: du | C32: =E31 -> 44294 | D32: au | E32: =E30+7 -> 44297 | G32: 1
A33: 29 | B33: du | C33: =E32 -> 44297 | D33: au | E33: =E31+7 -> 44301 | H33: 1
A34: 30 | B34: du | C34: =E33 -> 44301 | D34: au | E34: =E32+7 -> 44304 | I34: 1
A35: 31 | B35: du | C35: =E34 -> 44304 | D35: au | E35: =E33+7 -> 44308 | J35: 1
A36: 32 | B36: du | C36: =E35 -> 44308 | D36: au | E36: =E34+7 -> 44311 | K36: 1
A37: 33 | B37: du | C37: =E36 -> 44311 | D37: au | E37: =E35+7 -> 44315 | L37: 1
A38: 34 | B38: du | C38: =E37 -> 44315 | D38: au | E38: =E36+7 -> 44318 | M38: 1
A39: 35 | B39: du | C39: =E38 -> 44318 | D39: au | E39: =E37+7 -> 44322 | N39: 1
A40: 36 | B40: du | C40: =E39 -> 44322 | D40: au | E40: =E38+7 -> 44325 | O40: 1
A41: 37 | B41: du | C41: =E40 -> 44325 | D41: au | E41: =E39+7 -> 44329 | P41: 1
A42: 38 | B42: du | C42: =E41 -> 44329 | D42: au | E42: =E40+7 -> 44332 | Q42: 1
A43: 39 | B43: du | C43: =E42 -> 44332 | D43: au | E43: =E41+7 -> 44336 | R43: 1
A44: 40 | B44: du | C44: =E43 -> 44336 | D44: au | E44: =E42+7 -> 44339 | S44: 1
A45: 41 | B45: du | C45: =E44 -> 44339 | D45: au | E45: =E43+7 -> 44343 | T45: 1
A46: 42 | B46: du | C46: =E45 -> 44343 | D46: au | E46: =E44+7 -> 44346 | U46: 1
A47: 43 | B47: du | C47: =E46 -> 44346 | D47: au | E47: =E45+7 -> 44350 | V47: 1
A48: 44 | B48: du | C48: =E47 -> 44350 | D48: au | E48: =E46+7 -> 44353 | W48: 1
A49: 45 | B49: du | C49: =E48 -> 44353 | D49: au | E49: =E47+7 -> 44357 | X49: 1
A50: 46 | B50: du | C50: =E49 -> 44357 | D50: au | E50: =E48+7 -> 44360 | Y50: 1
A51: 47 | B51: du | C51: =E50 -> 44360 | D51: au | E51: =E49+7 -> 44364 | Z51: 1
A52: 48 | B52: du | C52: =E51 -> 44364 | D52: au | E52: =E50+7 -> 44367 | AA52: 1
A53: 49 | B53: du | C53: =E52 -> 44367 | D53: au | E53: =E51+7 -> 44371 | AB53: 1
A54: 50 | B54: du | C54: =E53 -> 44371 | D54: au | E54: =E52+7 -> 44374 | AC54: 1
A55: 51 | B55: du | C55: =E54 -> 44374 | D55: au | E55: =E53+7 -> 44378 | AD55: 1
A56: 52 | B56: du | C56: =E55 -> 44378 | D56: au | E56: =E54+7 -> 44381 | AE56: 1
A57: 53 | B57: du | C57: =E56 -> 44381 | D57: au | E57: =E55+7 -> 44385 | F57: 1
A58: 54 | B58: du | C58: =E57 -> 44385 | D58: au | E58: =E56+7 -> 44388 | G58: 1
A59: 55 | B59: du | C59: =E58 -> 44388 | D59: au | E59: =E57+7 -> 44392 | H59: 1
A60: 56 | B60: du | C60: =E59 -> 44392 | D60: au | E60: =E58+7 -> 44395 | I60: 1
A61: 57 | B61: du | C61: =E60 -> 44395 | D61: au | E61: =E59+7 -> 44399 | J61: 1
A62: 58 | B62: du | C62: =E61 -> 44399 | D62: au | E62: =E60+7 -> 44402 | K62: 1
A63: 59 | B63: du | C63: =E62 -> 44402 | D63: au | E63: =E61+7 -> 44406 | L63: 1
A64: 60 | B64: du | C64: =E63 -> 44406 | D64: au | E64: =E62+7 -> 44409 | M64: 1
A65: 61 | B65: du | C65: =E64 -> 44409 | D65: au | E65: =E63+7 -> 44413 | N65: 1
A66: 62 | B66: du | C66: =E65 -> 44413 | D66: au | E66: =E64+7 -> 44416 | O66: 1
A67: 63 | B67: du | C67: =E66 -> 44416 | D67: au | E67: =E65+7 -> 44420 | P67: 1
A68: 64 | B68: du | C68: =E67 -> 44420 | D68: au | E68: =E66+7 -> 44423 | Q68: 1
A69: 65 | B69: du | C69: =E68 -> 44423 | D69: au | E69: =E67+7 -> 44427 | R69: 1
A70: 66 | B70: du | C70: =E69 -> 44427 | D70: au | E70: =E68+7 -> 44430 | S70: 1
A71: 67 | B71: du | C71: =E70 -> 44430 | D71: au | E71: =E69+7 -> 44434 | T71: 1
A72: 68 | B72: du | C72: =E71 -> 44434 | D72: au | E72: =E70+7 -> 44437 | U72: 1
A73: 69 | B73: du | C73: =E72 -> 44437 | D73: au | E73: =E71+7 -> 44441 | V73: 1
A74: 70 | B74: du | C74: =E73 -> 44441 | D74: au | E74: =E72+7 -> 44444 | W74: 1
A75: 71 | B75: du | C75: =E74 -> 44444 | D75: au | E75: =E73+7 -> 44448 | X75: 1
A76: 72 | B76: du | C76: =E75 -> 44448 | D76: au | E76: =E74+7 -> 44451 | Y76: 1
A77: 73 | B77: du | C77: =E76 -> 44451 | D77: au | E77: =E75+7 -> 44455 | Z77: 1
A78: 74 | B78: du | C78: =E77 -> 44455 | D78: au | E78: =E76+7 -> 44458 | AA78: 1
A79: 75 | B79: du | C79: =E78 -> 44458 | D79: au | E79: =E77+7 -> 44462 | AB79: 1
A80: 76 | B80: du | C80: =E79 -> 44462 | D80: au | E80: =E78+7 -> 44465 | AC80: 1
A81: 77 | B81: du | C81: =E80 -> 44465 | D81: au | E81: =E79+7 -> 44469 | AD81: 1
A82: 78 | B82: du | C82: =E81 -> 44469 | D82: au | E82: =E80+7 -> 44472 | AE82: 1
A83: 79 | B83: du | C83: =E82 -> 44472 | D83: au | E83: =E81+7 -> 44476 | F83: 1
A84: 80 | B84: du | C84: =E83 -> 44476 | D84: au | E84: =E82+7 -> 44479 | G84: 1
A85: 81 | B85: du | C85: =E84 -> 44479 | D85: au | E85: =E83+7 -> 44483 | H85: 1
A86: 82 | B86: du | C86: =E85 -> 44483 | D86: au | E86: =E84+7 -> 44486 | I86: 1
A87: 83 | B87: du | C87: =E86 -> 44486 | D87: au | E87: =E85+7 -> 44490 | J87: 1
A88: 84 | B88: du | C88: =E87 -> 44490 | D88: au | E88: =E86+7 -> 44493 | K88: 1
A89: 85 | B89: du | C89: =E88 -> 44493 | D89: au | E89: =E87+7 -> 44497 | L89: 1
A90: 86 | B90: du | C90: =E89 -> 44497 | D90: au | E90: =E88+7 -> 44500 | M90: 1
A91: 87 | B91: du | C91: =E90 -> 44500 | D91: au | E91: =E89+7 -> 44504 | N91: 1
A92: 88 | B92: du | C92: =E91 -> 44504 | D92: au | E92: =E90+7 -> 44507 | O92: 1
A93: 89 | B93: du | C93: =E92 -> 44507 | D93: au | E93: =E91+7 -> 44511 | P93: 1
A94: 90 | B94: du | C94: =E93 -> 44511 | D94: au | E94: =E92+7 -> 44514 | Q94: 1
A95: 91 | B95: du | C95: =E94 -> 44514 | D95: au | E95: =E93+7 -> 44518 | R95: 1
A96: 92 | B96: du | C96: =E95 -> 44518 | D96: au | E96: =E94+7 -> 44521 | S96: 1
A97: 93 | B97: du | C97: =E96 -> 44521 | D97: au | E97: =E95+7 -> 44525 | T97: 1
A98: 94 | B98: du | C98: =E97 -> 44525 | D98: au | E98: =E96+7 -> 44528 | U98: 1
A99: 95 | B99: du | C99: =E98 -> 44528 | D99: au | E99: =E97+7 -> 44532 | V99: 1
A100: 96 | B100: du | C100: =E99 -> 44532 | D100: au | E100: =E98+7 -> 44535 | W100: 1
...

Sheet par_date
B1: ASTREINTE | F1: NOM astreinte 1 | G1: NOM astreinte 2
A2: ='2021'!A5 -> 1 | B2: ='2021'!B5 -> du | C2: ='2021'!C5 -> 44199 | D2: ='2021'!D5 -> au | E2: ='2021'!E5 -> 44203 | F2: =INDEX( '2021'!$F$2:$AE$2 , MATCH("1",'2021'!$F5:$AE5,0)) -> NOM 1 Prénom 1 | G2: =IF(SUM('2021'!$F5:$AE5)=1,"",INDEX('2021'!$F$2:$AE$2,MATCH("2",'2021'!$F5:$AE5,0))) -> NOM 6 Prénom 6
A3: ='2021'!A6 -> 2 | B3: ='2021'!B6 -> du | C3: ='2021'!C6 -> 44203 | D3: ='2021'!D6 -> au | E3: ='2021'!E6 -> 44206 | F3: =INDEX( '2021'!$F$2:$AE$2 , MATCH(1,'2021'!$F6:$AE6)) -> NOM 2 Prénom 2 | G3: =IF(SUM('2021'!$F6:$AE6)=1,"",INDEX('2021'!$F$2:$AE$2,MATCH("2",'2021'!$F6:$AE6,0)))
A4: ='2021'!A7 -> 3 | B4: ='2021'!B7 -> du | C4: ='2021'!C7 -> 44206 | D4: ='2021'!D7 -> au | E4: ='2021'!E7 -> 44210 | F4: =INDEX( '2021'!$F$2:$AE$2 , MATCH(1,'2021'!$F7:$AE7)) -> NOM 3 Prénom 3 | G4: =IF(SUM('2021'!$F7:$AE7)=1,"",INDEX('2021'!$F$2:$AE$2,MATCH("2",'2021'!$F7:$AE7,0))) -> NOM 8 Prénom 8
A5: ='2021'!A8 -> 4 | B5: ='2021'!B8 -> du | C5: ='2021'!C8 -> 44210 | D5: ='2021'!D8 -> au | E5: ='2021'!E8 -> 44213 | F5: =INDEX( '2021'!$F$2:$AE$2 , MATCH(1,'2021'!$F8:$AE8)) -> NOM 4 Prénom 4 | G5: =IF(SUM('2021'!$F8:$AE8)=1,"",INDEX('2021'!$F$2:$AE$2,MATCH("2",'2021'!$F8:$AE8,0)))
A6: ='2021'!A9 -> 5 | B6: ='2021'!B9 -> du | C6: ='2021'!C9 -> 44213 | D6: ='2021'!D9 -> au | E6: ='2021'!E9 -> 44217 | F6: =INDEX( '2021'!$F$2:$AE$2 , MATCH(1,'2021'!$F9:$AE9)) -> NOM 5 Prénom 5 | G6: =IF(SUM('2021'!$F9:$AE9)=1,"",INDEX('2021'!$F$2:$AE$2,MATCH("2",'2021'!$F9:$AE9,0)))
A7: ='2021'!A10 -> 6 | B7: ='2021'!B10 -> du | C7: ='2021'!C10 -> 44217 | D7: ='2021'!D10 -> au | E7: ='2021'!E10 -> 44220 | F7: =INDEX( '2021'!$F$2:$AE$2 , MATCH(1,'2021'!$F10:$AE10)) -> NOM 6 Prénom 6 | G7: =IF(SUM('2021'!$F10:$AE10)=1,"",INDEX('2021'!$F$2:$AE$2,MATCH("2",'2021'!$F10:$AE10,0)))
A8: ='2021'!A11 -> 7 | B8: ='2021'!B11 -> du | C8: ='2021'!C11 -> 44220 | D8: ='2021'!D11 -> au | E8: ='2021'!E11 -> 44224 | F8: =INDEX( '2021'!$F$2:$AE$2 , MATCH(1,'2021'!$F11:$AE11)) -> NOM 7 Prénom 7 | G8: =IF(SUM('2021'!$F11:$AE11)=1,"",INDEX('2021'!$F$2:$AE$2,MATCH("2",'2021'!$F11:$AE11,0)))
A9: ='2021'!A12 -> 8 | B9: ='2021'!B12 -> du | C9: ='2021'!C12 -> 44224 | D9: ='2021'!D12 -> au | E9: ='2021'!E12 -> 44227 | F9: =INDEX( '2021'!$F$2:$AE$2 , MATCH(1,'2021'!$F12:$AE12)) -> NOM 8 Prénom 8 | G9: =IF(SUM('2021'!$F12:$AE12)=1,"",INDEX('2021'!$F$2:$AE$2,MATCH("2",'2021'!$F12:$AE12,0)))
A10: ='2021'!A13 -> 9 | B10: ='2021'!B13 -> du | C10: ='2021'!C13 -> 44227 | D10: ='2021'!D13 -> au | E10: ='2021'!E13 -> 44231 | F10: =INDEX( '2021'!$F$2:$AE$2 , MATCH(1,'2021'!$F13:$AE13)) -> NOM 9 Prénom 9 | G10: =IF(SUM('2021'!$F13:$AE13)=1,"",INDEX('2021'!$F$2:$AE$2,MATCH("2",'2021'!$F13:$AE13,0)))
A11: ='2021'!A14 -> 10 | B11: ='2021'!B14 -> du | C11: ='2021'!C14 -> 44231 | D11: ='2021'!D14 -> au | E11: ='2021'!E14 -> 44234 | F11: =INDEX( '2021'!$F$2:$AE$2 , MATCH(1,'2021'!$F14:$AE14)) -> NOM 10 Prénom 10 | G11: =IF(SUM('2021'!$F14:$AE14)=1,"",INDEX('2021'!$F$2:$AE$2,MATCH("2",'2021'!$F14:$AE14,0)))
A12: ='2021'!A15 -> 11 | B12: ='2021'!B15 -> du | C12: ='2021'!C15 -> 44234 | D12: ='2021'!D15 -> au | E12: ='2021'!E15 -> 44238 | F12: =INDEX( '2021'!$F$2:$AE$2 , MATCH(1,'2021'!$F15:$AE15)) -> NOM 11 Prénom 11 | G12: =IF(SUM('2021'!$F15:$AE15)=1,"",INDEX('2021'!$F$2:$AE$2,MATCH("2",'2021'!$F15:$AE15,0)))
A13: ='2021'!A16 -> 12 | B13: ='2021'!B16 -> du | C13: ='2021'!C16 -> 44238 | D13: ='2021'!D16 -> au | E13: ='2021'!E16 -> 44241 | F13: =INDEX( '2021'!$F$2:$AE$2 , MATCH(1,'2021'!$F16:$AE16)) -> NOM 12 Prénom 12 | G13: =IF(SUM('2021'!$F16:$AE16)=1,"",INDEX('2021'!$F$2:$AE$2,MATCH("2",'2021'!$F16:$AE16,0)))
A14: ='2021'!A17 -> 13 | B14: ='2021'!B17 -> du | C14: ='2021'!C17 -> 44241 | D14: ='2021'!D17 -> au | E14: ='2021'!E17 -> 44245 | F14: =INDEX( '2021'!$F$2:$AE$2 , MATCH(1,'2021'!$F17:$AE17)) -> NOM 13 Prénom 13 | G14: =IF(SUM('2021'!$F17:$AE17)=1,"",INDEX('2021'!$F$2:$AE$2,MATCH("2",'2021'!$F17:$AE17,0)))
... A106: ='2021'!A109 -> 105 | B106: ='2021'!B109 -> du | C106: ='2021'!C109 -> 44563 | D106: ='2021'!D109 -> au | E106: ='2021'!E109 -> 44567 | F106: =INDEX( '2021'!$F$2:$AE$2 , MATCH(1,'2021'!$F109:$AE109)) -> #N/A | G106: =IF(SUM('2021'!$F109:$AE109)=1,"",INDEX('2021'!$F$2:$AE$2,MATCH("2",'2021'!$F109:$AE109,0))) -> #N/A

Sheet par nom
A1: (A1) | D1: NOM astreinte | E1: ASTREINTE
A2: ='2021'!F2 -> NOM 1 Prénom 1 | B2: ='2021'!F4 -> 4 | C2: =REPT(A2&" ",B2) -> NOM 1 Prénom 1 NOM 1 Prénom 1 NOM 1 Prénom 1 NOM 1 Prénom 1 | D2: =IF(ROWS($A$2:A2)<$B$2+1,OFFSET($A$2,0,0),"") -> NOM 1 Prénom 1 | E2: du | F2: =INDEX('2021'!$C5:$C109,MATCH(1,'2021'!$F5:$F109,0)) -> 44199 | G2: au | H2: =INDEX('2021'!E$5:E$109,MATCH(1,'2021'!F5:F109,0)) -> 44203
A3: ='2021'!G2 -> NOM 2 Prénom 2 | B3: ='2021'!G4 -> 4 | C3: =REPT(A3&" ",B3) -> NOM 2 Prénom 2 NOM 2 Prénom 2 NOM 2 Prénom 2 NOM 2 Prénom 2 | D3: =IF(ROWS($A$2:A3)<$B$2+1,OFFSET($A$2,0,0),"") -> NOM 1 Prénom 1 | E3: du | F3: =INDEX('2021'!$C6:$C110,MATCH(1,'2021'!$F6:$F110,0)) -> 44290 | G3: au
A4: ='2021'!H2 -> NOM 3 Prénom 3 | B4: ='2021'!H4 -> 4 | C4: =REPT(A4&" ",B4) -> NOM 3 Prénom 3 NOM 3 Prénom 3 NOM 3 Prénom 3 NOM 3 Prénom 3 | D4: =IF(ROWS($A$2:A4)<$B$2+1,OFFSET($A$2,0,0),"") -> NOM 1 Prénom 1 | E4: du | G4: au
A5: ='2021'!I2 -> NOM 4 Prénom 4 | B5: ='2021'!I4 -> 4 | C5: =REPT(A5&" ",B5) -> NOM 4 Prénom 4 NOM 4 Prénom 4 NOM 4 Prénom 4 NOM 4 Prénom 4 | D5: =IF(ROWS($A$2:A5)<$B$2+1,OFFSET($A$2,0,0),"") -> NOM 1 Prénom 1 | E5: du | G5: au
A6: ='2021'!J2 -> NOM 5 Prénom 5 | B6: ='2021'!J4 -> 4 | C6: =REPT(A6&" ",B6) -> NOM 5 Prénom 5 NOM 5 Prénom 5 NOM 5 Prénom 5 NOM 5 Prénom 5 | D6: =IF(ROWS($A$2:A6)<$B$2+1,OFFSET($A$2,0,0),"") | E6: du | G6: au
A7: ='2021'!K2 -> NOM 6 Prénom 6 | B7: ='2021'!K4 -> 5 | C7: =REPT(A7&" ",B7) -> NOM 6 Prénom 6 NOM 6 Prénom 6 NOM 6 Prénom 6 NOM 6 Prénom 6 NOM 6 Prénom 6 | D7: =IF(ROWS($A$2:A7)<$B$2+1,OFFSET($A$2,0,0),"") | E7: du | G7: au
A8: ='2021'!L2 -> NOM 7 Prénom 7 | B8: ='2021'!L4 -> 4 | C8: =REPT(A8&" ",B8) -> NOM 7 Prénom 7 NOM 7 Prénom 7 NOM 7 Prénom 7 NOM 7 Prénom 7 | D8: =IF(ROWS($A$3:A3)<$B$3+1,OFFSET($A$3,0,0),"") -> NOM 2 Prénom 2 | E8: du | G8: au
A9: ='2021'!M2 -> NOM 8 Prénom 8 | B9: ='2021'!M4 -> 5 | C9: =REPT(A9&" ",B9) -> NOM 8 Prénom 8 NOM 8 Prénom 8 NOM 8 Prénom 8 NOM 8 Prénom 8 NOM 8 Prénom 8 | D9: =IF(ROWS($A$3:A4)<$B$3+1,OFFSET($A$3,0,0),"") -> NOM 2 Prénom 2 | E9: du | G9: au
A10: ='2021'!N2 -> NOM 9 Prénom 9 | B10: ='2021'!N4 -> 4 | C10: =REPT(A10&" ",B10) -> NOM 9 Prénom 9 NOM 9 Prénom 9 NOM 9 Prénom 9 NOM 9 Prénom 9 | D10: =IF(ROWS($A$3:A5)<$B$3+1,OFFSET($A$3,0,0),"") -> NOM 2 Prénom 2 | E10: du | G10: au
A11: ='2021'!O2 -> NOM 10 Prénom 10 | B11: ='2021'!O4 -> 4 | C11: =REPT(A11&" ",B11) -> NOM 10 Prénom 10 NOM 10 Prénom 10 NOM 10 Prénom 10 NOM 10 Prénom 10 | D11: =IF(ROWS($A$3:A6)<$B$3+1,OFFSET($A$3,0,0),"") -> NOM 2 Prénom 2 | E11: du | G11: au
A12: ='2021'!P2 -> NOM 11 Prénom 11 | B12: ='2021'!P4 -> 4 | C12: =REPT(A12&" ",B12) -> NOM 11 Prénom 11 NOM 11 Prénom 11 NOM 11 Prénom 11 NOM 11 Prénom 11 | D12: =IF(ROWS($A$3:A7)<$B$3+1,OFFSET($A$3,0,0),"") | E12: du | G12: au
A13: ='2021'!Q2 -> NOM 12 Prénom 12 | B13: ='2021'!Q4 -> 4 | C13: =REPT(A13&" ",B13) -> NOM 12 Prénom 12 NOM 12 Prénom 12 NOM 12 Prénom 12 NOM 12 Prénom 12 | D13: =IF(ROWS($A$3:A8)<$B$3+1,OFFSET($A$3,0,0),"") | E13: du | G13: au
A14: ='2021'!R2 -> NOM 13 Prénom 13 | B14: ='2021'!R4 -> 4 | C14: =REPT(A14&" ",B14) -> NOM 13 Prénom 13 NOM 13 Prénom 13 NOM 13 Prénom 13 NOM 13 Prénom 13 | D14: =IF(ROWS($A$4:A4)<$B$4+1,OFFSET($A$4,0,0),"") -> NOM 3 Prénom 3 | E14: du | G14: au
A15: ='2021'!S2 -> NOM 14 Prénom 14 | B15: ='2021'!S4 -> 4 | C15: =REPT(A15&" ",B15) -> NOM 14 Prénom 14 NOM 14 Prénom 14 NOM 14 Prénom 14 NOM 14 Prénom 14 | D15: =IF(ROWS($A$4:A5)<$B$4+1,OFFSET($A$4,0,0),"") -> NOM 3 Prénom 3 | E15: du | G15: au
A16: ='2021'!T2 -> NOM 15 Prénom 15 | B16: ='2021'!T4 -> 4 | C16: =REPT(A16&" ",B16) -> NOM 15 Prénom 15 NOM 15 Prénom 15 NOM 15 Prénom 15 NOM 15 Prénom 15 | D16: =IF(ROWS($A$4:A6)<$B$4+1,OFFSET($A$4,0,0),"") -> NOM 3 Prénom 3 | E16: du | G16: au
A17: ='2021'!U2 -> NOM 16 Prénom 16 | B17: ='2021'!U4 -> 4 | C17: =REPT(A17&" ",B17) -> NOM 16 Prénom 16 NOM 16 Prénom 16 NOM 16 Prénom 16 NOM 16 Prénom 16 | D17: =IF(ROWS($A$4:A7)<$B$4+1,OFFSET($A$4,0,0),"") -> NOM 3 Prénom 3 | E17: du | G17: au
A18: ='2021'!V2 -> NOM 17 Prénom 17 | B18: ='2021'!V4 -> 4 | C18: =REPT(A18&" ",B18) -> NOM 17 Prénom 17 NOM 17 Prénom 17 NOM 17 Prénom 17 NOM 17 Prénom 17 | D18: =IF(ROWS($A$4:A8)<$B$4+1,OFFSET($A$4,0,0),"") | E18: du | G18: au
A19: ='2021'!W2 -> NOM 18 Prénom 18 | B19: ='2021'!W4 -> 4 | C19: =REPT(A19&" ",B19) -> NOM 18 Prénom 18 NOM 18 Prénom 18 NOM 18 Prénom 18 NOM 18 Prénom 18 | D19: =IF(ROWS($A$4:A9)<$B$4+1,OFFSET($A$4,0,0),"") | E19: du | G19: au
A20: ='2021'!X2 -> NOM 19 Prénom 19 | B20: ='2021'!X4 -> 4 | C20: =REPT(A20&" ",B20) -> NOM 19 Prénom 19 NOM 19 Prénom 19 NOM 19 Prénom 19 NOM 19 Prénom 19 | D20: =IF(ROWS($A$5:A5)<$B$5+1,OFFSET($A$5,0,0),"") -> NOM 4 Prénom 4 | E20: du | G20: au
A21: ='2021'!Y2 -> NOM 20 Prénom 20 | B21: ='2021'!Y4 -> 4 | C21: =REPT(A21&" ",B21) -> NOM 20 Prénom 20 NOM 20 Prénom 20 NOM 20 Prénom 20 NOM 20 Prénom 20 | D21: =IF(ROWS($A$5:A6)<$B$5+1,OFFSET($A$5,0,0),"") -> NOM 4 Prénom 4 | E21: du | G21: au
A22: ='2021'!Z2 -> NOM 21 Prénom 21 | B22: ='2021'!Z4 -> 4 | C22: =REPT(A22&" ",B22) -> NOM 21 Prénom 21 NOM 21 Prénom 21 NOM 21 Prénom 21 NOM 21 Prénom 21 | D22: =IF(ROWS($A$5:A7)<$B$5+1,OFFSET($A$5,0,0),"") -> NOM 4 Prénom 4 | E22: du | G22: au
A23: ='2021'!AA2 -> NOM 22 Prénom 22 | B23: ='2021'!AA4 -> 4 | C23: =REPT(A23&" ",B23) -> NOM 22 Prénom 22 NOM 22 Prénom 22 NOM 22 Prénom 22 NOM 22 Prénom 22 | D23: =IF(ROWS($A$5:A8)<$B$5+1,OFFSET($A$5,0,0),"") -> NOM 4 Prénom 4 | E23: du | G23: au
A24: ='2021'!AB2 -> NOM 23 Prénom 23 | B24: ='2021'!AB4 -> 4 | C24: =REPT(A24&" ",B24) -> NOM 23 Prénom 23 NOM 23 Prénom 23 NOM 23 Prénom 23 NOM 23 Prénom 23 | D24: =IF(ROWS($A$5:A9)<$B$5+1,OFFSET($A$5,0,0),"") | E24: du | G24: au
A25: ='2021'!AC2 -> NOM 24 Prénom 24 | B25: ='2021'!AC4 -> 4 | C25: =REPT(A25&" ",B25) -> NOM 24 Prénom 24 NOM 24 Prénom 24 NOM 24 Prénom 24 NOM 24 Prénom 24 | D25: =IF(ROWS($A$5:A10)<$B$5+1,OFFSET($A$5,0,0),"") | E25: du | G25: au
A26: ='2021'!AD2 -> NOM 25 Prénom 25 | B26: ='2021'!AD4 -> 4 | C26: =REPT(A26&" ",B26) -> NOM 25 Prénom 25 NOM 25 Prénom 25 NOM 25 Prénom 25 NOM 25 Prénom 25 | D26: =IF(ROWS($A$6:A6)<$B$6+1,OFFSET($A$6,0,0),"") -> NOM 5 Prénom 5 | E26: du | G26: au
A27: ='2021'!AE2 -> NOM 26 Prénom 26 | B27: ='2021'!AE4 -> 4 | C27: =REPT(A27&" ",B27) -> NOM 26 Prénom 26 NOM 26 Prénom 26 NOM 26 Prénom 26 NOM 26 Prénom 26 | D27: =IF(ROWS($A$6:A7)<$B$6+1,OFFSET($A$6,0,0),"") -> NOM 5 Prénom 5 | E27: du | G27: au
D28: =IF(ROWS($A$6:A8)<$B$6+1,OFFSET($A$6,0,0),"") -> NOM 5 Prénom 5 | E28: du | G28: au
D29: =IF(ROWS($A$6:A9)<$B$6+1,OFFSET($A$6,0,0),"") -> NOM 5 Prénom 5 | E29: du | G29: au
D30: =IF(ROWS($A$6:A10)<$B$6+1,OFFSET($A$6,0,0),"") | E30: du | G30: au
D31: =IF(ROWS($A$6:A11)<$B$6+1,OFFSET($A$6,0,0),"") | E31: du | G31: au
D32: =IF(ROWS($A$7:A7)<$B$7+1,OFFSET($A$7,0,0),"") -> NOM 6 Prénom 6 | E32: du | G32: au
D33: =IF(ROWS($A$7:A8)<$B$7+1,OFFSET($A$7,0,0),"") -> NOM 6 Prénom 6 | E33: du | G33: au
D34: =IF(ROWS($A$7:A9)<$B$7+1,OFFSET($A$7,0,0),"") -> NOM 6 Prénom 6 | E34: du | G34: au
D35: =IF(ROWS($A$7:A10)<$B$7+1,OFFSET($A$7,0,0),"") -> NOM 6 Prénom 6 | E35: du | G35: au
D36: =IF(ROWS($A$7:A11)<$B$7+1,OFFSET($A$7,0,0),"") -> NOM 6 Prénom 6 | E36: du | G36: au
D37: =IF(ROWS($A$7:A12)<$B$7+1,OFFSET($A$7,0,0),"") | E37: du | G37: au
D38: =IF(ROWS($A$8:A8)<$B$8+1,OFFSET($A$8,0,0),"") -> NOM 7 Prénom 7 | E38: du | G38: au
D39: =IF(ROWS($A$8:A9)<$B$8+1,OFFSET($A$8,0,0),"") -> NOM 7 Prénom 7 | E39: du | G39: au
D40: =IF(ROWS($A$8:A10)<$B$8+1,OFFSET($A$8,0,0),"") -> NOM 7 Prénom 7 | E40: du | G40: au
D41: =IF(ROWS($A$8:A11)<$B$8+1,OFFSET($A$8,0,0),"") -> NOM 7 Prénom 7 | E41: du | G41: au
D42: =IF(ROWS($A$8:A12)<$B$8+1,OFFSET($A$8,0,0),"") | E42: du | G42: au
D43: =IF(ROWS($A$8:A13)<$B$8+1,OFFSET($A$8,0,0),"") | E43: du | G43: au
D44: =IF(ROWS($A$9:A9)<$B$9+1,OFFSET($A$9,0,0),"") -> NOM 8 Prénom 8 | E44: du | G44: au
D45: =IF(ROWS($A$9:A10)<$B$9+1,OFFSET($A$9,0,0),"") -> NOM 8 Prénom 8 | E45: du | G45: au
D46: =IF(ROWS($A$9:A11)<$B$9+1,OFFSET($A$9,0,0),"") -> NOM 8 Prénom 8 | E46: du | G46: au
D47: =IF(ROWS($A$9:A12)<$B$9+1,OFFSET($A$9,0,0),"") -> NOM 8 Prénom 8 | E47: du | G47: au
D48: =IF(ROWS($A$9:A13)<$B$9+1,OFFSET($A$9,0,0),"") -> NOM 8 Prénom 8 | E48: du | G48: au
D49: =IF(ROWS($A$9:A14)<$B$9+1,OFFSET($A$9,0,0),"") | E49: du | G49: au
D50: =IF(ROWS($A$10:A10)<$B$10+1,OFFSET($A$10,0,0),"") -> NOM 9 Prénom 9 | E50: du | G50: au
D51: =IF(ROWS($A$10:A11)<$B$10+1,OFFSET($A$10,0,0),"") -> NOM 9 Prénom 9 | E51: du | G51: au
D52: =IF(ROWS($A$10:A12)<$B$10+1,OFFSET($A$10,0,0),"") -> NOM 9 Prénom 9 | E52: du | G52: au
D53: =IF(ROWS($A$10:A13)<$B$10+1,OFFSET($A$10,0,0),"") -> NOM 9 Prénom 9 | E53: du | G53: au
D54: =IF(ROWS($A$10:A14)<$B$10+1,OFFSET($A$10,0,0),"") | E54: du | G54: au
D55: =IF(ROWS($A$10:A15)<$B$10+1,OFFSET($A$10,0,0),"") | E55: du | G55: au
D56: =IF(ROWS($A$11:A11)<$B$11+1,OFFSET($A$11,0,0),"") -> NOM 10 Prénom 10 | E56: du | G56: au
D57: =IF(ROWS($A$11:A12)<$B$11+1,OFFSET($A$11,0,0),"") -> NOM 10 Prénom 10 | E57: du | G57: au
D58: =IF(ROWS($A$11:A13)<$B$11+1,OFFSET($A$11,0,0),"") -> NOM 10 Prénom 10 | E58: du | G58: au
D59: =IF(ROWS($A$11:A14)<$B$11+1,OFFSET($A$11,0,0),"") -> NOM 10 Prénom 10 | E59: du | G59: au
D60: =IF(ROWS($A$11:A15)<$B$11+1,OFFSET($A$11,0,0),"") | E60: du | G60: au
D61: =IF(ROWS($A$11:A16)<$B$11+1,OFFSET($A$11,0,0),"") | E61: du | G61: au
D62: =IF(ROWS($A$12:A12)<$B$12+1,OFFSET($A$12,0,0),"") -> NOM 11 Prénom 11 | E62: du | G62: au
D63: =IF(ROWS($A$12:A13)<$B$12+1,OFFSET($A$12,0,0),"") -> NOM 11 Prénom 11 | E63: du | G63: au
D64: =IF(ROWS($A$12:A14)<$B$12+1,OFFSET($A$12,0,0),"") -> NOM 11 Prénom 11 | E64: du | G64: au
D65: =IF(ROWS($A$12:A15)<$B$12+1,OFFSET($A$12,0,0),"") -> NOM 11 Prénom 11 | E65: du | G65: au
D66: =IF(ROWS($A$12:A16)<$B$12+1,OFFSET($A$12,0,0),"") | E66: du | G66: au
D67: =IF(ROWS($A$12:A17)<$B$12+1,OFFSET($A$12,0,0),"") | E67: du | G67: au
D68: =IF(ROWS($A$13:A13)<$B$13+1,OFFSET($A$13,0,0),"") -> NOM 12 Prénom 12 | E68: du | G68: au
D69: =IF(ROWS($A$13:A14)<$B$13+1,OFFSET($A$13,0,0),"") -> NOM 12 Prénom 12 | E69: du | G69: au
D70: =IF(ROWS($A$13:A15)<$B$13+1,OFFSET($A$13,0,0),"") -> NOM 12 Prénom 12 | E70: du | G70: au
D71: =IF(ROWS($A$13:A16)<$B$13+1,OFFSET($A$13,0,0),"") -> NOM 12 Prénom 12 | E71: du | G71: au
D72: =IF(ROWS($A$13:A17)<$B$13+1,OFFSET($A$13,0,0),"") | E72: du | G72: au
D73: =IF(ROWS($A$13:A18)<$B$13+1,OFFSET($A$13,0,0),"") | E73: du | G73: au
D74: =IF(ROWS($A$14:A14)<$B$14+1,OFFSET($A$14,0,0),"") -> NOM 13 Prénom 13 | E74: du | G74: au
D75: =IF(ROWS($A$14:A15)<$B$14+1,OFFSET($A$14,0,0),"") -> NOM 13 Prénom 13 | E75: du | G75: au
D76: =IF(ROWS($A$14:A16)<$B$14+1,OFFSET($A$14,0,0),"") -> NOM 13 Prénom 13 | E76: du | G76: au
D77: =IF(ROWS($A$14:A17)<$B$14+1,OFFSET($A$14,0,0),"") -> NOM 13 Prénom 13 | E77: du | G77: au
D78: =IF(ROWS($A$14:A18)<$B$14+1,OFFSET($A$14,0,0),"") | E78: du | G78: au
D79: =IF(ROWS($A$14:A19)<$B$14+1,OFFSET($A$14,0,0),"") | E79: du | G79: au
D80: =IF(ROWS($A$15:A15)<$B$15+1,OFFSET($A$15,0,0),"") -> NOM 14 Prénom 14 | E80: du | G80: au
D81: =IF(ROWS($A$15:A16)<$B$15+1,OFFSET($A$15,0,0),"") -> NOM 14 Prénom 14 | E81: du | G81: au
D82: =IF(ROWS($A$15:A17)<$B$15+1,OFFSET($A$15,0,0),"") -> NOM 14 Prénom 14 | E82: du | G82: au
D83: =IF(ROWS($A$15:A18)<$B$15+1,OFFSET($A$15,0,0),"") -> NOM 14 Prénom 14 | E83: du | G83: au
D84: =IF(ROWS($A$15:A19)<$B$15+1,OFFSET($A$15,0,0),"") | E84: du | G84: au
D85: =IF(ROWS($A$15:A20)<$B$15+1,OFFSET($A$15,0,0),"") | E85: du | G85: au
D86: =IF(ROWS($A$16:A16)<$B$16+1,OFFSET($A$16,0,0),"") -> NOM 15 Prénom 15 | E86: du | G86: au
D87: =IF(ROWS($A$16:A17)<$B$16+1,OFFSET($A$16,0,0),"") -> NOM 15 Prénom 15 | E87: du | G87: au
D88: =IF(ROWS($A$16:A18)<$B$16+1,OFFSET($A$16,0,0),"") -> NOM 15 Prénom 15 | E88: du | G88: au
D89: =IF(ROWS($A$16:A19)<$B$16+1,OFFSET($A$16,0,0),"") -> NOM 15 Prénom 15 | E89: du | G89: au
D90: =IF(ROWS($A$16:A20)<$B$16+1,OFFSET($A$16,0,0),"") | E90: du | G90: au
D91: =IF(ROWS($A$16:A21)<$B$16+1,OFFSET($A$16,0,0),"") | E91: du | G91: au
D92: =IF(ROWS($A$17:A17)<$B$17+1,OFFSET($A$17,0,0),"") -> NOM 16 Prénom 16 | E92: du | G92: au
D93: =IF(ROWS($A$17:A18)<$B$17+1,OFFSET($A$17,0,0),"") -> NOM 16 Prénom 16 | E93: du | G93: au
D94: =IF(ROWS($A$17:A19)<$B$17+1,OFFSET($A$17,0,0),"") -> NOM 16 Prénom 16 | E94: du | G94: au
D95: =IF(ROWS($A$17:A20)<$B$17+1,OFFSET($A$17,0,0),"") -> NOM 16 Prénom 16 | E95: du | G95: au
D96: =IF(ROWS($A$17:A21)<$B$17+1,OFFSET($A$17,0,0),"") | E96: du | G96: au
D97: =IF(ROWS($A$17:A22)<$B$17+1,OFFSET($A$17,0,0),"") | E97: du | G97: au
D98: =IF(ROWS($A$18:A18)<$B$18+1,OFFSET($A$18,0,0),"") -> NOM 17 Prénom 17 | E98: du | G98: au
D99: =IF(ROWS($A$18:A19)<$B$18+1,OFFSET($A$18,0,0),"") -> NOM 17 Prénom 17 | E99: du | G99: au
D100: =IF(ROWS($A$18:A20)<$B$18+1,OFFSET($A$18,0,0),"") -> NOM 17 Prénom 17 | E100: du | G100: au
...
