Workbook

Sheet liste agents
A1: 1 | B1: NOM 1
A2: 2 | B2: NOM 2
A3: 3 | B3: NOM 3
A4: 4 | B4: NOM 4
A5: 5 | B5: NOM 5
A6: 6 | B6: NOM 6
A7: 7 | B7: NOM 7
A8: 8 | B8: NOM 8
A9: 9 | B9: NOM 9
A10: 10 | B10: NOM 10
A11: 11 | B11: NOM 11
A12: 12 | B12: NOM 12
... A26: 26 | B26: NOM 26

Sheet astreinte_2021
F1: 1 | G1: 2 | H1: 3 | I1: 4 | J1: 5 | K1: 6 | L1: 7 | M1: 8 | N1: 9 | O1: 10 | P1: 11 | Q1: 12 | R1: 13 | S1: 14 | T1: 15 | U1: 16 | V1: 17 | W1: 18 | X1: 19 | Y1: 20 | Z1: 21 | AA1: 22 | AB1: 23 | AC1: 24 | AD1: 25 | AE1: 26
F2: ='liste agents'!$B1 -> NOM 1 | G2: ='liste agents'!B2 -> NOM 2 | H2: ='liste agents'!B3 -> NOM 3 | I2: ='liste agents'!B4 -> NOM 4 | J2: ='liste agents'!B5 -> NOM 5 | K2: ='liste agents'!B6 -> NOM 6 | L2: ='liste agents'!B7 -> NOM 7 | M2: ='liste agents'!B8 -> NOM 8 | N2: ='liste agents'!B9 -> NOM 9 | O2: ='liste agents'!B10 -> NOM 10 | P2: ='liste agents'!B11 -> NOM 11 | Q2: ='liste agents'!B12 -> NOM 12 | R2: ='liste agents'!B13 -> NOM 13 | S2: ='liste agents'!B14 -> NOM 14 | T2: ='liste agents'!B15 -> NOM 15 | U2: ='liste agents'!B16 -> NOM 16 | V2: ='liste agents'!B17 -> NOM 17 | W2: ='liste agents'!B18 -> NOM 18 | X2: ='liste agents'!B19 -> NOM 19 | Y2: ='liste agents'!B20 -> NOM 20 | Z2: ='liste agents'!B21 -> NOM 21 | AA2: ='liste agents'!B22 -> NOM 22 | AB2: ='liste agents'!B23 -> NOM 23 | AC2: ='liste agents'!B24 -> NOM 24 | AD2: ='liste agents'!B25 -> NOM 25 | AE2: ='liste agents'!B26 -> NOM 26
F3: nb de jour astreinte | G3: nb de jour astreinte | H3: nb de jour astreinte | I3: nb de jour astreinte | J3: nb de jour astreinte | K3: nb de jour astreinte | L3: nb de jour astreinte | M3: nb de jour astreinte | N3: nb de jour astreinte | O3: nb de jour astreinte | P3: nb de jour astreinte | Q3: nb de jour astreinte | R3: nb de jour astreinte | S3: nb de jour astreinte | T3: nb de jour astreinte | U3: nb de jour astreinte | V3: nb de jour astreinte | W3: nb de jour astreinte | X3: nb de jour astreinte | Y3: nb de jour astreinte | Z3: nb de jour astreinte | AA3: nb de jour astreinte | AB3: nb de jour astreinte | AC3: nb de jour astreinte | AD3: nb de jour astreinte | AE3: nb de jour astreinte
F4: =SUM(F5:F109) -> 4 | G4: =SUM(G5:G109) -> 4 | H4: =SUM(H5:H109) -> 4 | I4: =SUM(I5:I109) -> 4 | J4: =SUM(J5:J109) -> 4 | K4: =SUM(K5:K109) -> 4 | L4: =SUM(L5:L109) -> 4 | M4: =SUM(M5:M109) -> 4 | ... AE4: =SUM(AE5:AE109) -> 4 | AF4: =SUM(F4:AE4) -> 104
A5: 1 | B5: du | C5: 44199 | D5: au | E5: 44203 | F5: 1
A6: 2 | B6: du | C6: =E5 -> 44203 | D6: au | E6: =C5+7 -> 44206 | G6: 1
A7: 3 | B7: du | C7: =E6 -> 44206 | D7: au | E7: =E5+7 -> 44210 | H7: 1
A8: 4 | B8: du | C8: =E7 -> 44210 | D8: au | E8: =E6+7 -> 44213 | I8: 1
A9: 5 | B9: du | C9: =E8 -> 44213 | D9: au | E9: =E7+7 -> 44217 | J9: 1
A10: 6 | B10: du | C10: =E9 -> 44217 | D10: au | E10: =E8+7 -> 44220 | K10: 1
A11: 7 | B11: du | C11: =E10 -> 44220 | D11: au | E11: =E9+7 -> 44224 | L11: 1
A12: 8 | B12: du | C12: =E11 -> 44224 | D12: au | E12: =E10+7 -> 44227 | M12: 1
A13: 9 | B13: du | C13: =E12 -> 44227 | D13: au | E13: =E11+7 -> 44231 | N13: 1
A14: 10 | B14: du | C14: =E13 -> 44231 | D14: au | E14: =E12+7 -> 44234 | O14: 1
A15: 11 | B15: du | C15: =E14 -> 44234 | D15: au | E15: =E13+7 -> 44238 | P15: 1
A16: 12 | B16: du | C16: =E15 -> 44238 | D16: au | E16: =E14+7 -> 44241 | Q16: 1
A17: 13 | B17: du | C17: =E16 -> 44241 | D17: au | E17: =E15+7 -> 44245 | R17: 1
A18: 14 | B18: du | C18: =E17 -> 44245 | D18: au | E18: =E16+7 -> 44248 | S18: 1
A19: 15 | B19: du | C19: =E18 -> 44248 | D19: au | E19: =E17+7 -> 44252 | T19: 1
A20: 16 | B20: du | C20: =E19 -> 44252 | D20: au | E20: =E18+7 -> 44255 | U20: 1
A21: 17 | B21: du | C21: =E20 -> 44255 | D21: au | E21: =E19+7 -> 44259 | V21: 1
A22: 18 | B22: du | C22: =E21 -> 44259 | D22: au | E22: =E20+7 -> 44262 | W22: 1
A23: 19 | B23: du | C23: =E22 -> 44262 | D23: au | E23: =E21+7 -> 44266 | X23: 1
A24: 20 | B24: du | C24: =E23 -> 44266 | D24: au | E24: =E22+7 -> 44269 | Y24: 1
A25: 21 | B25: du | C25: =E24 -> 44269 | D25: au | E25: =E23+7 -> 44273 | Z25: 1
A26: 22 | B26: du | C26: =E25 -> 44273 | D26: au | E26: =E24+7 -> 44276 | AA26: 1
A27: 23 | B27: du | C27: =E26 -> 44276 | D27: au | E27: =E25+7 -> 44280 | AB27: 1
A28: 24 | B28: du | C28: =E27 -> 44280 | D28: au | E28: =E26+7 -> 44283 | AC28: 1
A29: 25 | B29: du | C29: =E28 -> 44283 | D29: au | E29: =E27+7 -> 44287 | AD29: 1
A30: 26 | B30: du | C30: =E29 -> 44287 | D30: au | E30: =E28+7 -> 44290 | AE30: 1
A31: 27 | B31: du | C31: =E30 -> 44290 | D31: au | E31: =E29+7 -> 44294 | F31: 1
A32: 28 | B32: du | C32: =E31 -> 44294 | D32: au | E32: =E30+7 -> 44297 | G32: 1
A33: 29 | B33: du | C33: =E32 -> 44297 | D33: au | E33: =E31+7 -> 44301 | H33: 1
A34: 30 | B34: du | C34: =E33 -> 44301 | D34: au | E34: =E32+7 -> 44304 | I34: 1
A35: 31 | B35: du | C35: =E34 -> 44304 | D35: au | E35: =E33+7 -> 44308 | J35: 1
A36: 32 | B36: du | C36: =E35 -> 44308 | D36: au | E36: =E34+7 -> 44311 | K36: 1
A37: 33 | B37: du | C37: =E36 -> 44311 | D37: au | E37: =E35+7 -> 44315 | L37: 1
A38: 34 | B38: du | C38: =E37 -> 44315 | D38: au | E38: =E36+7 -> 44318 | M38: 1
A39: 35 | B39: du | C39: =E38 -> 44318 | D39: au | E39: =E37+7 -> 44322 | N39: 1
A40: 36 | B40: du | C40: =E39 -> 44322 | D40: au | E40: =E38+7 -> 44325 | O40: 1
...

Sheet par_date
B1: ASTREINTE | F1: NOM
A2: =astreinte_2021!A5 -> 1 | B2: =astreinte_2021!B5 -> du | C2: =astreinte_2021!C5 -> 44199 | D2: =astreinte_2021!D5 -> au | E2: =astreinte_2021!E5 -> 44203 | F2: =INDEX( astreinte_2021!$F$2:$AE$2 , MATCH(1,astreinte_2021!$F5:$AE5,0)) -> NOM 1
A3: =astreinte_2021!A6 -> 2 | B3: =astreinte_2021!B6 -> du | C3: =astreinte_2021!C6 -> 44203 | D3: =astreinte_2021!D6 -> au | E3: =astreinte_2021!E6 -> 44206 | F3: =INDEX( astreinte_2021!$F$2:$AE$2 , MATCH(1,astreinte_2021!$F6:$AE6,0)) -> NOM 2
A4: =astreinte_2021!A7 -> 3 | B4: =astreinte_2021!B7 -> du | C4: =astreinte_2021!C7 -> 44206 | D4: =astreinte_2021!D7 -> au | E4: =astreinte_2021!E7 -> 44210 | F4: =INDEX( astreinte_2021!$F$2:$AE$2 , MATCH(1,astreinte_2021!$F7:$AE7)) -> NOM 3
A5: =astreinte_2021!A8 -> 4 | B5: =astreinte_2021!B8 -> du | C5: =astreinte_2021!C8 -> 44210 | D5: =astreinte_2021!D8 -> au | E5: =astreinte_2021!E8 -> 44213 | F5: =INDEX( astreinte_2021!$F$2:$AE$2 , MATCH(1,astreinte_2021!$F8:$AE8)) -> NOM 4
A6: =astreinte_2021!A9 -> 5 | B6: =astreinte_2021!B9 -> du | C6: =astreinte_2021!C9 -> 44213 | D6: =astreinte_2021!D9 -> au | E6: =astreinte_2021!E9 -> 44217 | F6: =INDEX( astreinte_2021!$F$2:$AE$2 , MATCH(1,astreinte_2021!$F9:$AE9)) -> NOM 5
A7: =astreinte_2021!A10 -> 6 | B7: =astreinte_2021!B10 -> du | C7: =astreinte_2021!C10 -> 44217 | D7: =astreinte_2021!D10 -> au | E7: =astreinte_2021!E10 -> 44220 | F7: =INDEX( astreinte_2021!$F$2:$AE$2 , MATCH(1,astreinte_2021!$F10:$AE10)) -> NOM 6
A8: =astreinte_2021!A11 -> 7 | B8: =astreinte_2021!B11 -> du | C8: =astreinte_2021!C11 -> 44220 | D8: =astreinte_2021!D11 -> au | E8: =astreinte_2021!E11 -> 44224 | F8: =INDEX( astreinte_2021!$F$2:$AE$2 , MATCH(1,astreinte_2021!$F11:$AE11)) -> NOM 7
A9: =astreinte_2021!A12 -> 8 | B9: =astreinte_2021!B12 -> du | C9: =astreinte_2021!C12 -> 44224 | D9: =astreinte_2021!D12 -> au | E9: =astreinte_2021!E12 -> 44227 | F9: =INDEX( astreinte_2021!$F$2:$AE$2 , MATCH(1,astreinte_2021!$F12:$AE12)) -> NOM 8
A10: =astreinte_2021!A13 -> 9 | B10: =astreinte_2021!B13 -> du | C10: =astreinte_2021!C13 -> 44227 | D10: =astreinte_2021!D13 -> au | E10: =astreinte_2021!E13 -> 44231 | F10: =INDEX( astreinte_2021!$F$2:$AE$2 , MATCH(1,astreinte_2021!$F13:$AE13)) -> NOM 9
A11: =astreinte_2021!A14 -> 10 | B11: =astreinte_2021!B14 -> du | C11: =astreinte_2021!C14 -> 44231 | D11: =astreinte_2021!D14 -> au | E11: =astreinte_2021!E14 -> 44234 | F11: =INDEX( astreinte_2021!$F$2:$AE$2 , MATCH(1,astreinte_2021!$F14:$AE14)) -> NOM 10
A12: =astreinte_2021!A15 -> 11 | B12: =astreinte_2021!B15 -> du | C12: =astreinte_2021!C15 -> 44234 | D12: =astreinte_2021!D15 -> au | E12: =astreinte_2021!E15 -> 44238 | F12: =INDEX( astreinte_2021!$F$2:$AE$2 , MATCH(1,astreinte_2021!$F15:$AE15)) -> NOM 11
A13: =astreinte_2021!A16 -> 12 | B13: =astreinte_2021!B16 -> du | C13: =astreinte_2021!C16 -> 44238 | D13: =astreinte_2021!D16 -> au | E13: =astreinte_2021!E16 -> 44241 | F13: =INDEX( astreinte_2021!$F$2:$AE$2 , MATCH(1,astreinte_2021!$F16:$AE16)) -> NOM 12
A14: =astreinte_2021!A17 -> 13 | B14: =astreinte_2021!B17 -> du | C14: =astreinte_2021!C17 -> 44241 | D14: =astreinte_2021!D17 -> au | E14: =astreinte_2021!E17 -> 44245 | F14: =INDEX( astreinte_2021!$F$2:$AE$2 , MATCH(1,astreinte_2021!$F17:$AE17)) -> NOM 13
A15: =astreinte_2021!A18 -> 14 | B15: =astreinte_2021!B18 -> du | C15: =astreinte_2021!C18 -> 44245 | D15: =astreinte_2021!D18 -> au | E15: =astreinte_2021!E18 -> 44248 | F15: =INDEX( astreinte_2021!$F$2:$AE$2 , MATCH(1,astreinte_2021!$F18:$AE18)) -> NOM 14
... A106: =astreinte_2021!A109 -> 105 | B106: =astreinte_2021!B109 -> du | C106: =astreinte_2021!C109 -> 44563 | D106: =astreinte_2021!D109 -> au | E106: =astreinte_2021!E109 -> 44567 | F106: =INDEX( astreinte_2021!$F$2:$AE$2 , MATCH(1,astreinte_2021!$F109:$AE109)) -> #N/A

Sheet par nom
A1: =IF(astreinte_2021!$F$5:$F$109>0,astreinte_2021!F2) -> #VALUE!
