Workbook

Sheet liste agents
A1: 1 | B1: NOM 1
A2: 2 | B2: NOM 2
A3: 3 | B3: NOM 3
A4: 4 | B4: NOM 4
A5: 5 | B5: NOM 5
A6: 6 | B6: NOM 6
A7: 7 | B7: NOM 7
A8: 8 | B8: NOM 8
A9: 9 | B9: NOM 9
A10: 10 | B10: NOM 10
A11: 11 | B11: NOM 11
A12: 12 | B12: NOM 12
... A26: 26 | B26: NOM 26

Sheet astreinte_2021
F1: 1 | G1: 2 | H1: 3 | I1: 4 | J1: 5 | K1: 6 | L1: 7 | M1: 8 | N1: 9 | O1: 10 | P1: 11 | Q1: 12 | R1: 13 | S1: 14 | T1: 15 | U1: 16 | V1: 17 | W1: 18 | X1: 19 | Y1: 20 | Z1: 21 | AA1: 22 | AB1: 23 | AC1: 24 | AD1: 25 | AE1: 26
F2: ='liste agents'!$B1 -> NOM 1 | G2: ='liste agents'!B2 -> NOM 2 | H2: ='liste agents'!B3 -> NOM 3 | I2: ='liste agents'!B4 -> NOM 4 | J2: ='liste agents'!B5 -> NOM 5 | K2: ='liste agents'!B6 -> NOM 6 | L2: ='liste agents'!B7 -> NOM 7 | M2: ='liste agents'!B8 -> NOM 8 | N2: ='liste agents'!B9 -> NOM 9 | O2: ='liste agents'!B10 -> NOM 10 | P2: ='liste agents'!B11 -> NOM 11 | Q2: ='liste agents'!B12 -> NOM 12 | R2: ='liste agents'!B13 -> NOM 13 | S2: ='liste agents'!B14 -> NOM 14 | T2: ='liste agents'!B15 -> NOM 15 | U2: ='liste agents'!B16 -> NOM 16 | V2: ='liste agents'!B17 -> NOM 17 | W2: ='liste agents'!B18 -> NOM 18 | X2: ='liste agents'!B19 -> NOM 19 | Y2: ='liste agents'!B20 -> NOM 20 | Z2: ='liste agents'!B21 -> NOM 21 | AA2: ='liste agents'!B22 -> NOM 22 | AB2: ='liste agents'!B23 -> NOM 23 | AC2: ='liste agents'!B24 -> NOM 24 | AD2: ='liste agents'!B25 -> NOM 25 | AE2: ='liste agents'!B26 -> NOM 26
F3: nb de jour astreinte | G3: nb de jour astreinte | H3: nb de jour astreinte | I3: nb de jour astreinte | J3: nb de jour astreinte | K3: nb de jour astreinte | L3: nb de jour astreinte | M3: nb de jour astreinte | N3: nb de jour astreinte | O3: nb de jour astreinte | P3: nb de jour astreinte | Q3: nb de jour astreinte | R3: nb de jour astreinte | S3: nb de jour astreinte | T3: nb de jour astreinte | U3: nb de jour astreinte | V3: nb de jour astreinte | W3: nb de jour astreinte | X3: nb de jour astreinte | Y3: nb de jour astreinte | Z3: nb de jour astreinte | AA3: nb de jour astreinte | AB3: nb de jour astreinte | AC3: nb de jour astreinte | AD3: nb de jour astreinte | AE3: nb de jour astreinte
F4: =SUM(F5:F109) -> 4 | G4: =SUM(G5:G109) -> 4 | H4: =SUM(H5:H109) -> 4 | I4: =SUM(I5:I109) -> 4 | J4: =SUM(J5:J109) -> 4 | K4: =SUM(K5:K109) -> 4 | L4: =SUM(L5:L109) -> 4 | M4: =SUM(M5:M109) -> 4 | ... AE4: =SUM(AE5:AE109) -> 4 | AF4: =SUM(F4:AE4) -> 104
A5: 1 | B5: du | C5: 44199 | D5: au | E5: 44203 | F5: 1
A6: 2 | B6: du | C6: =E5 -> 44203 | D6: au | E6: =C5+7 -> 44206 | G6: 1
A7: 3 | B7: du | C7: =E6 -> 44206 | D7: au | E7: =E5+7 -> 44210 | H7: 1
A8: 4 | B8: du | C8: =E7 -> 44210 | D8: au | E8: =E6+7 -> 44213 | I8: 1
A9: 5 | B9: du | C9: =E8 -> 44213 | D9: au | E9: =E7+7 -> 44217 | J9: 1
A10: 6 | B10: du | C10: =E9 -> 44217 | D10: au | E10: =E8+7 -> 44220 | K10: 1
A11: 7 | B11: du | C11: =E10 -> 44220 | D11: au | E11: =E9+7 -> 44224 | L11: 1
A12: 8 | B12: du | C12: =E11 -> 44224 | D12: au | E12: =E10+7 -> 44227 | M12: 1
A13: 9 | B13: du | C13: =E12 -> 44227 | D13: au | E13: =E11+7 -> 44231 | N13: 1
A14: 10 | B14: du | C14: =E13 -> 44231 | D14: au | E14: =E12+7 -> 44234 | O14: 1
A15: 11 | B15: du | C15: =E14 -> 44234 | D15: au | E15: =E13+7 -> 44238 | P15: 1
A16: 12 | B16: du | C16: =E15 -> 44238 | D16: au | E16: =E14+7 -> 44241 | Q16: 1
A17: 13 | B17: du | C17: =E16 -> 44241 | D17: au | E17: =E15+7 -> 44245 | R17: 1
A18: 14 | B18: du | C18: =E17 -> 44245 | D18: au | E18: =E16+7 -> 44248 | S18: 1
A19: 15 | B19: du | C19: =E18 -> 44248 | D19: au | E19: =E17+7 -> 44252 | T19: 1
A20: 16 | B20: du | C20: =E19 -> 44252 | D20: au | E20: =E18+7 -> 44255 | U20: 1
A21: 17 | B21: du | C21: =E20 -> 44255 | D21: au | E21: =E19+7 -> 44259 | V21: 1
A22: 18 | B22: du | C22: =E21 -> 44259 | D22: au | E22: =E20+7 -> 44262 | W22: 1
A23: 19 | B23: du | C23: =E22 -> 44262 | D23: au | E23: =E21+7 -> 44266 | X23: 1
A24: 20 | B24: du | C24: =E23 -> 44266 | D24: au | E24: =E22+7 -> 44269 | Y24: 1
A25: 21 | B25: du | C25: =E24 -> 44269 | D25: au | E25: =E23+7 -> 44273 | Z25: 1
A26: 22 | B26: du | C26: =E25 -> 44273 | D26: au | E26: =E24+7 -> 44276 | AA26: 1
A27: 23 | B27: du | C27: =E26 -> 44276 | D27: au | E27: =E25+7 -> 44280 | AB27: 1
A28: 24 | B28: du | C28: =E27 -> 44280 | D28: au | E28: =E26+7 -> 44283 | AC28: 1
A29: 25 | B29: du | C29: =E28 -> 44283 | D29: au | E29: =E27+7 -> 44287 | AD29: 1
A30: 26 | B30: du | C30: =E29 -> 44287 | D30: au | E30: =E28+7 -> 44290 | AE30: 1
A31: 27 | B31: du | C31: =E30 -> 44290 | D31: au | E31: =E29+7 -> 44294 | F31: 1
A32: 28 | B32: du | C32: =E31 -> 44294 | D32: au | E32: =E30+7 -> 44297 | G32: 1
A33: 29 | B33: du | C33: =E32 -> 44297 | D33: au | E33: =E31+7 -> 44301 | H33: 1
A34: 30 | B34: du | C34: =E33 -> 44301 | D34: au | E34: =E32+7 -> 44304 | I34: 1
A35: 31 | B35: du | C35: =E34 -> 44304 | D35: au | E35: =E33+7 -> 44308 | J35: 1
A36: 32 | B36: du | C36: =E35 -> 44308 | D36: au | E36: =E34+7 -> 44311 | K36: 1
A37: 33 | B37: du | C37: =E36 -> 44311 | D37: au | E37: =E35+7 -> 44315 | L37: 1
A38: 34 | B38: du | C38: =E37 -> 44315 | D38: au | E38: =E36+7 -> 44318 | M38: 1
A39: 35 | B39: du | C39: =E38 -> 44318 | D39: au | E39: =E37+7 -> 44322 | N39: 1
A40: 36 | B40: du | C40: =E39 -> 44322 | D40: au | E40: =E38+7 -> 44325 | O40: 1
A41: 37 | B41: du | C41: =E40 -> 44325 | D41: au | E41: =E39+7 -> 44329 | P41: 1
A42: 38 | B42: du | C42: =E41 -> 44329 | D42: au | E42: =E40+7 -> 44332 | Q42: 1
A43: 39 | B43: du | C43: =E42 -> 44332 | D43: au | E43: =E41+7 -> 44336 | R43: 1
A44: 40 | B44: du | C44: =E43 -> 44336 | D44: au | E44: =E42+7 -> 44339 | S44: 1
A45: 41 | B45: du | C45: =E44 -> 44339 | D45: au | E45: =E43+7 -> 44343 | T45: 1
A46: 42 | B46: du | C46: =E45 -> 44343 | D46: au | E46: =E44+7 -> 44346 | U46: 1
A47: 43 | B47: du | C47: =E46 -> 44346 | D47: au | E47: =E45+7 -> 44350 | V47: 1
A48: 44 | B48: du | C48: =E47 -> 44350 | D48: au | E48: =E46+7 -> 44353 | W48: 1
A49: 45 | B49: du | C49: =E48 -> 44353 | D49: au | E49: =E47+7 -> 44357 | X49: 1
A50: 46 | B50: du | C50: =E49 -> 44357 | D50: au | E50: =E48+7 -> 44360 | Y50: 1
A51: 47 | B51: du | C51: =E50 -> 44360 | D51: au | E51: =E49+7 -> 44364 | Z51: 1
A52: 48 | B52: du | C52: =E51 -> 44364 | D52: au | E52: =E50+7 -> 44367 | AA52: 1
A53: 49 | B53: du | C53: =E52 -> 44367 | D53: au | E53: =E51+7 -> 44371 | AB53: 1
A54: 50 | B54: du | C54: =E53 -> 44371 | D54: au | E54: =E52+7 -> 44374 | AC54: 1
A55: 51 | B55: du | C55: =E54 -> 44374 | D55: au | E55: =E53+7 -> 44378 | AD55: 1
A56: 52 | B56: du | C56: =E55 -> 44378 | D56: au | E56: =E54+7 -> 44381 | AE56: 1
A57: 53 | B57: du | C57: =E56 -> 44381 | D57: au | E57: =E55+7 -> 44385 | F57: 1
A58: 54 | B58: du | C58: =E57 -> 44385 | D58: au | E58: =E56+7 -> 44388 | G58: 1
A59: 55 | B59: du | C59: =E58 -> 44388 | D59: au | E59: =E57+7 -> 44392 | H59: 1
A60: 56 | B60: du | C60: =E59 -> 44392 | D60: au | E60: =E58+7 -> 44395 | I60: 1
A61: 57 | B61: du | C61: =E60 -> 44395 | D61: au | E61: =E59+7 -> 44399 | J61: 1
A62: 58 | B62: du | C62: =E61 -> 44399 | D62: au | E62: =E60+7 -> 44402 | K62: 1
A63: 59 | B63: du | C63: =E62 -> 44402 | D63: au | E63: =E61+7 -> 44406 | L63: 1
A64: 60 | B64: du | C64: =E63 -> 44406 | D64: au | E64: =E62+7 -> 44409 | M64: 1
A65: 61 | B65: du | C65: =E64 -> 44409 | D65: au | E65: =E63+7 -> 44413 | N65: 1
A66: 62 | B66: du | C66: =E65 -> 44413 | D66: au | E66: =E64+7 -> 44416 | O66: 1
A67: 63 | B67: du | C67: =E66 -> 44416 | D67: au | E67: =E65+7 -> 44420 | P67: 1
A68: 64 | B68: du | C68: =E67 -> 44420 | D68: au | E68: =E66+7 -> 44423 | Q68: 1
A69: 65 | B69: du | C69: =E68 -> 44423 | D69: au | E69: =E67+7 -> 44427 | R69: 1
A70: 66 | B70: du | C70: =E69 -> 44427 | D70: au | E70: =E68+7 -> 44430 | S70: 1
A71: 67 | B71: du | C71: =E70 -> 44430 | D71: au | E71: =E69+7 -> 44434 | T71: 1
A72: 68 | B72: du | C72: =E71 -> 44434 | D72: au | E72: =E70+7 -> 44437 | U72: 1
A73: 69 | B73: du | C73: =E72 -> 44437 | D73: au | E73: =E71+7 -> 44441 | V73: 1
A74: 70 | B74: du | C74: =E73 -> 44441 | D74: au | E74: =E72+7 -> 44444 | W74: 1
A75: 71 | B75: du | C75: =E74 -> 44444 | D75: au | E75: =E73+7 -> 44448 | X75: 1
A76: 72 | B76: du | C76: =E75 -> 44448 | D76: au | E76: =E74+7 -> 44451 | Y76: 1
A77: 73 | B77: du | C77: =E76 -> 44451 | D77: au | E77: =E75+7 -> 44455 | Z77: 1
A78: 74 | B78: du | C78: =E77 -> 44455 | D78: au | E78: =E76+7 -> 44458 | AA78: 1
A79: 75 | B79: du | C79: =E78 -> 44458 | D79: au | E79: =E77+7 -> 44462 | AB79: 1
A80: 76 | B80: du | C80: =E79 -> 44462 | D80: au | E80: =E78+7 -> 44465 | AC80: 1
A81: 77 | B81: du | C81: =E80 -> 44465 | D81: au | E81: =E79+7 -> 44469 | AD81: 1
A82: 78 | B82: du | C82: =E81 -> 44469 | D82: au | E82: =E80+7 -> 44472 | AE82: 1
A83: 79 | B83: du | C83: =E82 -> 44472 | D83: au | E83: =E81+7 -> 44476 | F83: 1
A84: 80 | B84: du | C84: =E83 -> 44476 | D84: au | E84: =E82+7 -> 44479 | G84: 1
A85: 81 | B85: du | C85: =E84 -> 44479 | D85: au | E85: =E83+7 -> 44483 | H85: 1
A86: 82 | B86: du | C86: =E85 -> 44483 | D86: au | E86: =E84+7 -> 44486 | I86: 1
A87: 83 | B87: du | C87: =E86 -> 44486 | D87: au | E87: =E85+7 -> 44490 | J87: 1
A88: 84 | B88: du | C88: =E87 -> 44490 | D88: au | E88: =E86+7 -> 44493 | K88: 1
A89: 85 | B89: du | C89: =E88 -> 44493 | D89: au | E89: =E87+7 -> 44497 | L89: 1
A90: 86 | B90: du | C90: =E89 -> 44497 | D90: au | E90: =E88+7 -> 44500 | M90: 1
A91: 87 | B91: du | C91: =E90 -> 44500 | D91: au | E91: =E89+7 -> 44504 | N91: 1
A92: 88 | B92: du | C92: =E91 -> 44504 | D92: au | E92: =E90+7 -> 44507 | O92: 1
A93: 89 | B93: du | C93: =E92 -> 44507 | D93: au | E93: =E91+7 -> 44511 | P93: 1
A94: 90 | B94: du | C94: =E93 -> 44511 | D94: au | E94: =E92+7 -> 44514 | Q94: 1
A95: 91 | B95: du | C95: =E94 -> 44514 | D95: au | E95: =E93+7 -> 44518 | R95: 1
A96: 92 | B96: du | C96: =E95 -> 44518 | D96: au | E96: =E94+7 -> 44521 | S96: 1
A97: 93 | B97: du | C97: =E96 -> 44521 | D97: au | E97: =E95+7 -> 44525 | T97: 1
A98: 94 | B98: du | C98: =E97 -> 44525 | D98: au | E98: =E96+7 -> 44528 | U98: 1
A99: 95 | B99: du | C99: =E98 -> 44528 | D99: au | E99: =E97+7 -> 44532 | V99: 1
A100: 96 | B100: du | C100: =E99 -> 44532 | D100: au | E100: =E98+7 -> 44535 | W100: 1
...

Sheet par_date
B1: ASTREINTE | F1: NOM
A2: =astreinte_2021!A5 -> 1 | B2: =astreinte_2021!B5 -> du | C2: =astreinte_2021!C5 -> 44199 | D2: =astreinte_2021!D5 -> au | E2: =astreinte_2021!E5 -> 44203 | F2: =INDEX( astreinte_2021!$F$2:$AE$2 , MATCH(1,astreinte_2021!$F5:$AE5,0)) -> NOM 1
A3: =astreinte_2021!A6 -> 2 | B3: =astreinte_2021!B6 -> du | C3: =astreinte_2021!C6 -> 44203 | D3: =astreinte_2021!D6 -> au | E3: =astreinte_2021!E6 -> 44206 | F3: =INDEX( astreinte_2021!$F$2:$AE$2 , MATCH(1,astreinte_2021!$F6:$AE6,0)) -> NOM 2
A4: =astreinte_2021!A7 -> 3 | B4: =astreinte_2021!B7 -> du | C4: =astreinte_2021!C7 -> 44206 | D4: =astreinte_2021!D7 -> au | E4: =astreinte_2021!E7 -> 44210 | F4: =INDEX( astreinte_2021!$F$2:$AE$2 , MATCH(1,astreinte_2021!$F7:$AE7)) -> NOM 3
A5: =astreinte_2021!A8 -> 4 | B5: =astreinte_2021!B8 -> du | C5: =astreinte_2021!C8 -> 44210 | D5: =astreinte_2021!D8 -> au | E5: =astreinte_2021!E8 -> 44213 | F5: =INDEX( astreinte_2021!$F$2:$AE$2 , MATCH(1,astreinte_2021!$F8:$AE8)) -> NOM 4
A6: =astreinte_2021!A9 -> 5 | B6: =astreinte_2021!B9 -> du | C6: =astreinte_2021!C9 -> 44213 | D6: =astreinte_2021!D9 -> au | E6: =astreinte_2021!E9 -> 44217 | F6: =INDEX( astreinte_2021!$F$2:$AE$2 , MATCH(1,astreinte_2021!$F9:$AE9)) -> NOM 5
A7: =astreinte_2021!A10 -> 6 | B7: =astreinte_2021!B10 -> du | C7: =astreinte_2021!C10 -> 44217 | D7: =astreinte_2021!D10 -> au | E7: =astreinte_2021!E10 -> 44220 | F7: =INDEX( astreinte_2021!$F$2:$AE$2 , MATCH(1,astreinte_2021!$F10:$AE10)) -> NOM 6
A8: =astreinte_2021!A11 -> 7 | B8: =astreinte_2021!B11 -> du | C8: =astreinte_2021!C11 -> 44220 | D8: =astreinte_2021!D11 -> au | E8: =astreinte_2021!E11 -> 44224 | F8: =INDEX( astreinte_2021!$F$2:$AE$2 , MATCH(1,astreinte_2021!$F11:$AE11)) -> NOM 7
A9: =astreinte_2021!A12 -> 8 | B9: =astreinte_2021!B12 -> du | C9: =astreinte_2021!C12 -> 44224 | D9: =astreinte_2021!D12 -> au | E9: =astreinte_2021!E12 -> 44227 | F9: =INDEX( astreinte_2021!$F$2:$AE$2 , MATCH(1,astreinte_2021!$F12:$AE12)) -> NOM 8
A10: =astreinte_2021!A13 -> 9 | B10: =astreinte_2021!B13 -> du | C10: =astreinte_2021!C13 -> 44227 | D10: =astreinte_2021!D13 -> au | E10: =astreinte_2021!E13 -> 44231 | F10: =INDEX( astreinte_2021!$F$2:$AE$2 , MATCH(1,astreinte_2021!$F13:$AE13)) -> NOM 9
A11: =astreinte_2021!A14 -> 10 | B11: =astreinte_2021!B14 -> du | C11: =astreinte_2021!C14 -> 44231 | D11: =astreinte_2021!D14 -> au | E11: =astreinte_2021!E14 -> 44234 | F11: =INDEX( astreinte_2021!$F$2:$AE$2 , MATCH(1,astreinte_2021!$F14:$AE14)) -> NOM 10
A12: =astreinte_2021!A15 -> 11 | B12: =astreinte_2021!B15 -> du | C12: =astreinte_2021!C15 -> 44234 | D12: =astreinte_2021!D15 -> au | E12: =astreinte_2021!E15 -> 44238 | F12: =INDEX( astreinte_2021!$F$2:$AE$2 , MATCH(1,astreinte_2021!$F15:$AE15)) -> NOM 11
A13: =astreinte_2021!A16 -> 12 | B13: =astreinte_2021!B16 -> du | C13: =astreinte_2021!C16 -> 44238 | D13: =astreinte_2021!D16 -> au | E13: =astreinte_2021!E16 -> 44241 | F13: =INDEX( astreinte_2021!$F$2:$AE$2 , MATCH(1,astreinte_2021!$F16:$AE16)) -> NOM 12
A14: =astreinte_2021!A17 -> 13 | B14: =astreinte_2021!B17 -> du | C14: =astreinte_2021!C17 -> 44241 | D14: =astreinte_2021!D17 -> au | E14: =astreinte_2021!E17 -> 44245 | F14: =INDEX( astreinte_2021!$F$2:$AE$2 , MATCH(1,astreinte_2021!$F17:$AE17)) -> NOM 13
A15: =astreinte_2021!A18 -> 14 | B15: =astreinte_2021!B18 -> du | C15: =astreinte_2021!C18 -> 44245 | D15: =astreinte_2021!D18 -> au | E15: =astreinte_2021!E18 -> 44248 | F15: =INDEX( astreinte_2021!$F$2:$AE$2 , MATCH(1,astreinte_2021!$F18:$AE18)) -> NOM 14
... A106: =astreinte_2021!A109 -> 105 | B106: =astreinte_2021!B109 -> du | C106: =astreinte_2021!C109 -> 44563 | D106: =astreinte_2021!D109 -> au | E106: =astreinte_2021!E109 -> 44567 | F106: =INDEX( astreinte_2021!$F$2:$AE$2 , MATCH(1,astreinte_2021!$F109:$AE109)) -> #N/A

Sheet par nom
A1: =IF(astreinte_2021!$F$5:$F$109>0,astreinte_2021!F2) -> #VALUE!
