Workbook

Sheet 1
A1: Annex I
A3: N° | M3: Probability | N3: Gravity | O3: Residual
A4: D
A5: D 1 | M5: 1 | N5: 6 | O5: =M5*N5 -> 6
A6: D 2 | M6: 1 | N6: 6 | O6: =M6*N6 -> 6
A7: D 3 | M7: 1 | N7: 6 | O7: =M7*N7 -> 6
A8: D 4 | M8: 1 | N8: 6 | O8: =M8*N8 -> 6
A9: D 5 | M9: 1 | N9: 6 | O9: =N9*M9 -> 6
A10: D 6 | M10: 1 | N10: 6 | O10: =M10*N10 -> 6
A11: D 7 | M11: 1 | N11: 3 | O11: =M11*N11 -> 3
A12: D 8 | M12: 1 | N12: 6 | O12: =M12*N12 -> 6
A13: D 9 | M13: 1 | N13: 6 | O13: =M13*N13 -> 6
A14: D 10 | M14: 1 | N14: 6 | O14: =M14*N14 -> 6
A15: D 11 | M15: 1 | N15: 6 | O15: =M15*N15 -> 6
A16: D 12 | M16: 1 | N16: 6 | O16: =M16*N16 -> 6
A17: D 13 | M17: 1 | N17: 6 | O17: =M17*N17 -> 6
A18: D 14 | M18: 1 | N18: 3 | O18: =M18*N18 -> 3
A19: D 15 | M19: 1 | N19: 6 | O19: =M19*N19 -> 6
A20: D 16 | M20: 1 | N20: 6 | O20: =M20*N20 -> 6
A21: D 17 | M21: 1 | N21: 6 | O21: =M21*N21 -> 6
... A24: D 20 | M24: 1 | N24: 6 | O24: =M24*N24 -> 6

Sheet 4
B1: Synthèse de combinaison
B3: Nb tot = | D3: =D4+D5+D6 -> 153 | E3: 1
B4: 0 < Nb < 6 = | D4: =COUNTIF(RCombinés!E8:X50,">=1")-D5-D6 -> 153 | E4: =D4/D3 -> 1
B5: 6 < Nb <12 = | D5: =COUNTIF(RCombinés!E8:X50,">6")-D6 -> 0 | E5: =D5/D3 -> 0
B6: 12 < Nb = | D6: =COUNTIF(RCombinés!E8:X50,">12") -> 0 | E6: =D6/D3 -> 0

Sheet RCombinés
A1: Niveau de risque des risques recombinés
C3: N°Risk | D3: D | E3: D 1 | F3: D 4 | G3: D 5 | H3: D 6 | I3: D 7 | J3: D 8 | K3: D 9 | L3: D 10 | M3: D 11 | N3: D 12 | O3: D 13 | P3: D 14 | Q3: D 15 | R3: D 16 | S3: D 17 | T3: D 18 | U3: D 19 | V3: D 20
C4: F | D4: 0 | E4: 1 | F4: 1 | G4: 1 | H4: 1 | I4: 1 | J4: 1 | K4: 1 | L4: 1 | M4: 1 | N4: 1 | O4: 1 | P4: 1 | Q4: 1 | R4: 1 | S4: 1 | T4: 1 | U4: 1 | V4: 1
A5: N°Risk | B5: F | C5: G | D5: 0 | E5: 6 | F5: 6 | G5: 6 | H5: 6 | I5: 3 | J5: 6 | K5: 6 | L5: 6 | M5: 6 | N5: 6 | O5: 6 | P5: 3 | Q5: 6 | R5: 6 | S5: 6 | T5: 6 | U5: 6 | V5: 6
A6: ='1'!A4 -> D | B6: ='1'!M4 -> 0 | C6: ='1'!N4 -> 0
A7: ='1'!A5 -> D 1 | B7: ='1'!M5 -> 1 | C7: ='1'!N5 -> 6
A8: ='1'!A8 -> D 4 | B8: ='1'!M8 -> 1 | C8: ='1'!N8 -> 6 | E8: =MIN($B8,E$4)*MAX($C8,E$5) -> 6
A9: ='1'!A9 -> D 5 | B9: ='1'!M9 -> 1 | C9: ='1'!N9 -> 6 | E9: =MIN($B9,E$4)*MAX($C9,E$5) -> 6 | F9: =MIN($B9,F$4)*MAX($C9,F$5) -> 6
A10: ='1'!A10 -> D 6 | B10: ='1'!M10 -> 1 | C10: ='1'!N10 -> 6 | E10: =MIN($B10,E$4)*MAX($C10,E$5) -> 6 | F10: =MIN($B10,F$4)*MAX($C10,F$5) -> 6 | G10: =MIN($B10,G$4)*MAX($C10,G$5) -> 6
A11: ='1'!A11 -> D 7 | B11: ='1'!M11 -> 1 | C11: ='1'!N11 -> 3 | E11: =MIN($B11,E$4)*MAX($C11,E$5) -> 6 | F11: =MIN($B11,F$4)*MAX($C11,F$5) -> 6 | G11: =MIN($B11,G$4)*MAX($C11,G$5) -> 6 | H11: =MIN($B11,H$4)*MAX($C11,H$5) -> 6
A12: ='1'!A12 -> D 8 | B12: ='1'!M12 -> 1 | C12: ='1'!N12 -> 6 | E12: =MIN($B12,E$4)*MAX($C12,E$5) -> 6 | F12: =MIN($B12,F$4)*MAX($C12,F$5) -> 6 | G12: =MIN($B12,G$4)*MAX($C12,G$5) -> 6 | H12: =MIN($B12,H$4)*MAX($C12,H$5) -> 6 | I12: =MIN($B12,I$4)*MAX($C12,I$5) -> 6
A13: ='1'!A13 -> D 9 | B13: ='1'!M13 -> 1 | C13: ='1'!N13 -> 6 | E13: =MIN($B13,E$4)*MAX($C13,E$5) -> 6 | F13: =MIN($B13,F$4)*MAX($C13,F$5) -> 6 | G13: =MIN($B13,G$4)*MAX($C13,G$5) -> 6 | H13: =MIN($B13,H$4)*MAX($C13,H$5) -> 6 | I13: =MIN($B13,I$4)*MAX($C13,I$5) -> 6 | J13: =MIN($B13,J$4)*MAX($C13,J$5) -> 6
A14: ='1'!A14 -> D 10 | B14: ='1'!M14 -> 1 | C14: ='1'!N14 -> 6 | E14: =MIN($B14,E$4)*MAX($C14,E$5) -> 6 | F14: =MIN($B14,F$4)*MAX($C14,F$5) -> 6 | G14: =MIN($B14,G$4)*MAX($C14,G$5) -> 6 | H14: =MIN($B14,H$4)*MAX($C14,H$5) -> 6 | I14: =MIN($B14,I$4)*MAX($C14,I$5) -> 6 | J14: =MIN($B14,J$4)*MAX($C14,J$5) -> 6 | K14: =MIN($B14,K$4)*MAX($C14,K$5) -> 6
A15: ='1'!A15 -> D 11 | B15: ='1'!M15 -> 1 | C15: ='1'!N15 -> 6 | E15: =MIN($B15,E$4)*MAX($C15,E$5) -> 6 | F15: =MIN($B15,F$4)*MAX($C15,F$5) -> 6 | G15: =MIN($B15,G$4)*MAX($C15,G$5) -> 6 | H15: =MIN($B15,H$4)*MAX($C15,H$5) -> 6 | I15: =MIN($B15,I$4)*MAX($C15,I$5) -> 6 | J15: =MIN($B15,J$4)*MAX($C15,J$5) -> 6 | K15: =MIN($B15,K$4)*MAX($C15,K$5) -> 6 | L15: =MIN($B15,L$4)*MAX($C15,L$5) -> 6
A16: ='1'!A16 -> D 12 | B16: ='1'!M16 -> 1 | C16: ='1'!N16 -> 6 | E16: =MIN($B16,E$4)*MAX($C16,E$5) -> 6 | F16: =MIN($B16,F$4)*MAX($C16,F$5) -> 6 | G16: =MIN($B16,G$4)*MAX($C16,G$5) -> 6 | H16: =MIN($B16,H$4)*MAX($C16,H$5) -> 6 | I16: =MIN($B16,I$4)*MAX($C16,I$5) -> 6 | J16: =MIN($B16,J$4)*MAX($C16,J$5) -> 6 | K16: =MIN($B16,K$4)*MAX($C16,K$5) -> 6 | L16: =MIN($B16,L$4)*MAX($C16,L$5) -> 6 | M16: =MIN($B16,M$4)*MAX($C16,M$5) -> 6
A17: ='1'!A17 -> D 13 | B17: ='1'!M17 -> 1 | C17: ='1'!N17 -> 6 | E17: =MIN($B17,E$4)*MAX($C17,E$5) -> 6 | F17: =MIN($B17,F$4)*MAX($C17,F$5) -> 6 | G17: =MIN($B17,G$4)*MAX($C17,G$5) -> 6 | H17: =MIN($B17,H$4)*MAX($C17,H$5) -> 6 | I17: =MIN($B17,I$4)*MAX($C17,I$5) -> 6 | J17: =MIN($B17,J$4)*MAX($C17,J$5) -> 6 | K17: =MIN($B17,K$4)*MAX($C17,K$5) -> 6 | L17: =MIN($B17,L$4)*MAX($C17,L$5) -> 6 | ... N17: =MIN($B17,N$4)*MAX($C17,N$5) -> 6
A18: ='1'!A18 -> D 14 | B18: ='1'!M18 -> 1 | C18: ='1'!N18 -> 3 | E18: =MIN($B18,E$4)*MAX($C18,E$5) -> 6 | F18: =MIN($B18,F$4)*MAX($C18,F$5) -> 6 | G18: =MIN($B18,G$4)*MAX($C18,G$5) -> 6 | H18: =MIN($B18,H$4)*MAX($C18,H$5) -> 6 | I18: =MIN($B18,I$4)*MAX($C18,I$5) -> 3 | J18: =MIN($B18,J$4)*MAX($C18,J$5) -> 6 | K18: =MIN($B18,K$4)*MAX($C18,K$5) -> 6 | L18: =MIN($B18,L$4)*MAX($C18,L$5) -> 6 | ... O18: =MIN($B18,O$4)*MAX($C18,O$5) -> 6
A19: ='1'!A19 -> D 15 | B19: ='1'!M19 -> 1 | C19: ='1'!N19 -> 6 | E19: =MIN($B19,E$4)*MAX($C19,E$5) -> 6 | F19: =MIN($B19,F$4)*MAX($C19,F$5) -> 6 | G19: =MIN($B19,G$4)*MAX($C19,G$5) -> 6 | H19: =MIN($B19,H$4)*MAX($C19,H$5) -> 6 | I19: =MIN($B19,I$4)*MAX($C19,I$5) -> 6 | J19: =MIN($B19,J$4)*MAX($C19,J$5) -> 6 | K19: =MIN($B19,K$4)*MAX($C19,K$5) -> 6 | L19: =MIN($B19,L$4)*MAX($C19,L$5) -> 6 | ... P19: =MIN($B19,P$4)*MAX($C19,P$5) -> 6
A20: ='1'!A20 -> D 16 | B20: ='1'!M20 -> 1 | C20: ='1'!N20 -> 6 | E20: =MIN($B20,E$4)*MAX($C20,E$5) -> 6 | F20: =MIN($B20,F$4)*MAX($C20,F$5) -> 6 | G20: =MIN($B20,G$4)*MAX($C20,G$5) -> 6 | H20: =MIN($B20,H$4)*MAX($C20,H$5) -> 6 | I20: =MIN($B20,I$4)*MAX($C20,I$5) -> 6 | J20: =MIN($B20,J$4)*MAX($C20,J$5) -> 6 | K20: =MIN($B20,K$4)*MAX($C20,K$5) -> 6 | L20: =MIN($B20,L$4)*MAX($C20,L$5) -> 6 | ... Q20: =MIN($B20,Q$4)*MAX($C20,Q$5) -> 6
A21: ='1'!A21 -> D 17 | B21: ='1'!M21 -> 1 | C21: ='1'!N21 -> 6 | E21: =MIN($B21,E$4)*MAX($C21,E$5) -> 6 | F21: =MIN($B21,F$4)*MAX($C21,F$5) -> 6 | G21: =MIN($B21,G$4)*MAX($C21,G$5) -> 6 | H21: =MIN($B21,H$4)*MAX($C21,H$5) -> 6 | I21: =MIN($B21,I$4)*MAX($C21,I$5) -> 6 | J21: =MIN($B21,J$4)*MAX($C21,J$5) -> 6 | K21: =MIN($B21,K$4)*MAX($C21,K$5) -> 6 | L21: =MIN($B21,L$4)*MAX($C21,L$5) -> 6 | ... R21: =MIN($B21,R$4)*MAX($C21,R$5) -> 6
A22: ='1'!A22 -> D 18 | B22: ='1'!M22 -> 1 | C22: ='1'!N22 -> 6 | E22: =MIN($B22,E$4)*MAX($C22,E$5) -> 6 | F22: =MIN($B22,F$4)*MAX($C22,F$5) -> 6 | G22: =MIN($B22,G$4)*MAX($C22,G$5) -> 6 | H22: =MIN($B22,H$4)*MAX($C22,H$5) -> 6 | I22: =MIN($B22,I$4)*MAX($C22,I$5) -> 6 | J22: =MIN($B22,J$4)*MAX($C22,J$5) -> 6 | K22: =MIN($B22,K$4)*MAX($C22,K$5) -> 6 | L22: =MIN($B22,L$4)*MAX($C22,L$5) -> 6 | ... S22: =MIN($B22,S$4)*MAX($C22,S$5) -> 6
A23: ='1'!A23 -> D 19 | B23: ='1'!M23 -> 1 | C23: ='1'!N23 -> 6 | E23: =MIN($B23,E$4)*MAX($C23,E$5) -> 6 | F23: =MIN($B23,F$4)*MAX($C23,F$5) -> 6 | G23: =MIN($B23,G$4)*MAX($C23,G$5) -> 6 | H23: =MIN($B23,H$4)*MAX($C23,H$5) -> 6 | I23: =MIN($B23,I$4)*MAX($C23,I$5) -> 6 | J23: =MIN($B23,J$4)*MAX($C23,J$5) -> 6 | K23: =MIN($B23,K$4)*MAX($C23,K$5) -> 6 | L23: =MIN($B23,L$4)*MAX($C23,L$5) -> 6 | ... T23: =MIN($B23,T$4)*MAX($C23,T$5) -> 6
A24: ='1'!A24 -> D 20 | B24: ='1'!M24 -> 1 | C24: ='1'!N24 -> 6 | E24: =MIN($B24,E$4)*MAX($C24,E$5) -> 6 | F24: =MIN($B24,F$4)*MAX($C24,F$5) -> 6 | G24: =MIN($B24,G$4)*MAX($C24,G$5) -> 6 | H24: =MIN($B24,H$4)*MAX($C24,H$5) -> 6 | I24: =MIN($B24,I$4)*MAX($C24,I$5) -> 6 | J24: =MIN($B24,J$4)*MAX($C24,J$5) -> 6 | K24: =MIN($B24,K$4)*MAX($C24,K$5) -> 6 | L24: =MIN($B24,L$4)*MAX($C24,L$5) -> 6 | ... U24: =MIN($B24,U$4)*MAX($C24,U$5) -> 6
