Workbook

Sheet 1
A1: Annex I
A3: N° | M3: Probability | N3: Gravity | O3: Residual
A4: D
A5: D 1 | M5: 1 | N5: 6 | O5: =M5*N5 -> 6
A6: D 2 | M6: 1 | N6: 6 | O6: =M6*N6 -> 6
A7: D 3 | M7: 1 | N7: 6 | O7: =M7*N7 -> 6
A8: D 4 | M8: 1 | N8: 6 | O8: =M8*N8 -> 6
A9: D 5 | M9: 1 | N9: 6 | O9: =N9*M9 -> 6
A10: D 6 | M10: 1 | N10: 6 | O10: =M10*N10 -> 6
A11: D 7 | M11: 1 | N11: 3 | O11: =M11*N11 -> 3
A12: D 8 | M12: 1 | N12: 6 | O12: =M12*N12 -> 6
A13: D 9 | M13: 1 | N13: 6 | O13: =M13*N13 -> 6
A14: D 10 | M14: 1 | N14: 6 | O14: =M14*N14 -> 6
A15: D 11 | M15: 1 | N15: 6 | O15: =M15*N15 -> 6
A16: D 12 | M16: 1 | N16: 6 | O16: =M16*N16 -> 6
A17: D 13 | M17: 1 | N17: 6 | O17: =M17*N17 -> 6
A18: D 14 | M18: 1 | N18: 3 | O18: =M18*N18 -> 3
A19: D 15 | M19: 1 | N19: 6 | O19: =M19*N19 -> 6
A20: D 16 | M20: 1 | N20: 6 | O20: =M20*N20 -> 6
A21: D 17 | M21: 1 | N21: 6 | O21: =M21*N21 -> 6
... A24: D 20 | M24: 1 | N24: 6 | O24: =M24*N24 -> 6

Sheet 2
A1: N° | M1: Residual Probability | N1: Residual Gravity | O1: Residual Risk Level
A2: P (1)
A3: P 1 | M3: 2 | N3: 1 | O3: =N3*M3 -> 2
A4: P 2 | M4: 2 | N4: 1 | O4: =N4*M4 -> 2
A5: P 3 | M5: 2 | N5: 1 | O5: =N5*M5 -> 2
A6: P 4 | M6: 1 | N6: 3 | O6: =N6*M6 -> 3
A7: P 5 | M7: 1 | N7: 3 | O7: =N7*M7 -> 3
A8: P 6 | M8: 2 | N8: 1 | O8: =N8*M8 -> 2
A9: P 7 | M9: 1 | N9: 6 | O9: =N9*M9 -> 6
A10: P 8 | M10: 3 | N10: 1 | O10: =N10*M10 -> 3
A11: P 9 | M11: 2 | N11: 3 | O11: =N11*M11 -> 6
A12: P 10 | M12: 1 | N12: 3 | O12: =N12*M12 -> 3
A13: P 11 | M13: 1 | N13: 3 | O13: =N13*M13 -> 3
A14: P 12 | M14: 1 | N14: 3 | O14: =N14*M14 -> 3
... A22: P 20 | M22: 2 | N22: 3 | O22: =N22*M22 -> 6
A23: P 21 | M23: 2 | N23: 6 | O23: =M23*N23 -> 12
A24: P 22 | M24: 2 | N24: 6 | O24: =M24*N24 -> 12
A25: P 23 | M25: 1 | N25: 6 | O25: =M25*N25 -> 6
A26: P 24 | M26: 2 | N26: 6 | O26: =M26*N26 -> 12
A27: P 25 | M27: 1 | N27: 1 | O27: =N27*M27 -> 1
A28: P 26 | M28: 1 | N28: 3 | O28: =N28*M28 -> 3
A29: P 27 | M29: 2 | N29: 3 | O29: =N29*M29 -> 6
A30: P 28 | M30: 1 | N30: 3 | O30: =N30*M30 -> 3
A31: P 29 | M31: 2 | N31: 3 | O31: =N31*M31 -> 6
A32: P 30 | M32: 1 | N32: 6 | O32: =N32*M32 -> 6
A33: P 31 | M33: 1 | N33: 6 | O33: =N33*M33 -> 6
A34: P 32 | M34: 2 | N34: 3 | O34: =N34*M34 -> 6
A35: P 33 | M35: 2 | N35: 3 | O35: =N35*M35 -> 6
A36: P 34 | M36: 1 | N36: 3 | O36: =M36*N36 -> 3
A37: P 35 | M37: 1 | N37: 6 | O37: =M37*N37 -> 6
A38: P 36 | M38: 2 | N38: 3 | O38: =M38*N38 -> 6
A39: P 37 | M39: 1 | N39: 6 | O39: =M39*N39 -> 6
A40: P 38 | M40: 1 | N40: 3 | O40: =M40*N40 -> 3
A41: P 39 | M41: 2 | N41: 1 | O41: =M41*N41 -> 2
A42: P 40 | M42: 1 | N42: 1 | O42: =M42*N42 -> 1
A43: P 41 | M43: 1 | N43: 6 | O43: =M43*N43 -> 6
A44: P 42 | M44: 1 | N44: 6 | O44: =M44*N44 -> 6
A45: P 43 | M45: 1 | N45: 6 | O45: =M45*N45 -> 6
A46: P 44 | M46: 1 | N46: 6 | O46: =M46*N46 -> 6
A47: P 45 | M47: 1 | N47: 1 | O47: =M47*N47 -> 1
...

Sheet 3
A1: N° | B1: Stage of the Process | C1: Causes potentielles / initiating causes | D1: Effets potentiels / Harms | E1: Phénomènes dangereux / Hazardous Situation | F1: Probability | G1: Gravity | H1: Risk Level | I1: Acceptable Risk (Yes/No) | J1: Measures /Actions to Control the Risk | K1: References. supportive documents verifying the action | L1: Other Hazards generated | M1: Residual Probability | N1: Residual Gravity | O1: Residual Risk Level | P1: Ratio Benefit / Risk | Q1: Acceptable Residual Risk
A2: PC1Z | B2: Primary packaging risks analysis - BIOCORP
A3: P-Z 1 | B3: Condi BIOCORP | C3: *Manque de formation/sensibilisation du personnel *Problème organisationnel *Manque de communication *Environnement de stockage non adapté *Matériel défaillant (soudure, découpage) *Mauvais choix des paramètres de production *Manque de documentation *Mauvaise qualité de la matière première *Mauvais choix de la matière *Mauvais étiquetage | D3: Lot non conforme : *Non-respect des exigences applicables (clients) *Rappel de lot *Réclamation client | E3: Défaut de conditionnement (primaire et secondaire) | F3: 2 | G3: 2 | H3: =F3*G3 -> 4 | I3: =IF(H3>12,"No","Yes") -> Yes | J3: *Des formations ou des actions de sensibilisation du personnel sont régulièrement réalisées *Les machines de production sont qualifiées par le responsable qualité en accord avec le responsable production *Des autocontrôles et des contrôles journaliers sont réalisés par le personnel *Les produits sont manipulés et stockés dans de bonnes conditions *Le laboratoire de contrôle qualité réalise des tests d'étanchéité, résistance de la soudure, et contrôle de masse sur les produits *La fiche Atelier Produit, QC 98, permet de répertorier les composants, décrire le conditionnement et les étiquettes devant être apposées | K3: *Mode opératoire 6-4/MO-006 Entrée/Sortie matériel et produit en zone à atmosphère contrôlée (ISO 7) *Mode opératoire 7-4/MO-003 Réception des matières premières et fourniture *Mode opératoire 7-5/MO-030 Qualification automates et autres procédés de fabrication *Mode opératoire 7-5/MO-015 Manutention, stockage, conditionnement et livraison *La fiche Atelier Produit, QC 98 | L3: No | M3: 1 | N3: =G3 -> 2 | O3: =M3*N3 -> 2 | P3: B > R | Q3: Yes
A4: P-Z 2 | B4: Condi BIOCORP | C4: *Manque de formation/sensibilisation du personnel *Les règles d'hygiène ne sont pas respectées *La tenue est mal portée *Nettoyage du poste de travail mal réalisé *L'environnement des salles blanches n'est pas maîtrisé *Le vide de ligne mal réalisé *Les flux ne sont pas respectés *Défaut d'étiquetage des machines de production, des poubelles, des bacs et des cartons *Confusions *Absence de documentation | D4: Lot non conforme : *Non-respect des exigences réglementaires ou normatives applicables *Atteinte à la santé-sécurité du patient ou de l'utilisateur final *Tri du lot *Dérogation *Rappel de lot | E4: Contamination matière première / produit | F4: 4 | G4: 6 | H4: =F4*G4 -> 24 | I4: =IF(H4>12,"No","Yes") -> No | J4: *Le vide de ligne doit être effectué selon la check-list QC 166 *Le poste de travail est maintenu rangé et propre par l'équipe de production *Des formations ou des actions de sensibilisation du personnel sont régulièrement réalisées *Avant le départ de production, le contrôle qualité vérifie la propreté et l'organisation du poste de travail *Les équipements et les matières sont correctement identifiés *Le nettoyage des salles blanches est réalisé par une société extérieure à une fréquence définit dans le mode opératoire 6-4/MO-013 Nettoyage et suivi microbiologique des ZAC | K4: *Mode opératoire 6-4/MO-001 Entrée/Sortie en zone de production *Mode opératoire 6-4/MO-002 Travail en zone à atmosphère contrôlée ISO7 *Mode opératoire 6-4/MO-006 Entrée/Sortie matériel et produit en zone à atmosphère contrôlée (ISO 7) *Mode opératoire 6-4/MO-005 Entrée/Sortie du personnel en zone à atmosphère contrôlée (ISO 7) *Mode opératoire 6-4/MO-013 Nettoyage et suivi microbiologique des ZAC *La check-list QC 166 | L4: No | M4: 2 | N4: =G4 -> 6 | O4: =M4*N4 -> 12 | P4: B > R | Q4: Yes
A5: P-Z 3 | B5: Condi BIOCORP | C5: *Manque de formation ou de sensibilisation du personnel *Absence de déclaration de non-conformité *Manque de communication *Absence de traçabilité *Mauvaise délimitation des zones (acceptée, quarantaine, refusée) *Mauvaise identification des pièces, de cartons, ou de la palette correspondant au lot NC *Mauvaise identification des n° de cartons à trier *Quantité de pièces jetée suite au tri non connue *Non-respect des procédures, mode opératoire *Manque de documentation. | D5: Lot non conforme:- Non respect des exigences applicables,- atteinte à la santé-sécurité du patient ou de l'utilisateur final,- non-respect des délais de livraison- Dérogation,- Réclamation client,- Rappel de lot. | E5: Mauvaise maîtrise d'un lot Non-Conforme | F5: 2 | G5: 6 | H5: =F5*G5 -> 12 | I5: =IF(H5>12,"No","Yes") -> Yes | J5: *Des formations ou des actions de sensibilisation du personnel sont régulièrement réalisées *Lors d'une détection de non-conformité le service qualité est informé et ouvre une fiche de non-conformité *L'identification du produit non conforme est tracée grâce à la fiche d'identification du produit NC *Les produits NC sont isolés et identifiés à l'aide de plaquette jaune ou Rouge *Dans le magasin une zone de stockage est dédiée aux produits NC *Lors de tri, le nombre de pièces NC est enregistrée et tracée grâce à la fiche fiche de décompte des produits non conformes *Le responsable qualité est chargé de mettre à jour la GPAO pour assurer le suivi *Si des CAPA sont mises en place, le responsable qualité est chargé d'enregistrer, de suivre et de mesurer l'efficacité des actions | K5: *Procédure 8-3/PG-001 Maîtrise du produit non conforme *Fiche de non-conformité QC 14 *Fiche d'identification du produit NC QC 37 *Fiche de décompte des produits non conformes QC 77 | L5: No | M5: 1 | N5: =G5 -> 6 | O5: =M5*N5 -> 6 | P5: B > R | Q5: Yes
A6: P-Z 4 | B6: Condi BIOCORP | C6: *Manque de formation du personnel *Matière utilisée non conforme ou non libérée *Dégradation de la matière due aux conditions de stockage (température/humidité) *Les zones de stockage sont mal délimitées *Confusion de zone de stockage au magasin *Mauvais étiquetage de la matière *Matière périmée *Absence de documentation spécifiant le type de matière à utiliser | D6: Lot non conforme :- Non respect des exigences du client,- Atteinte à la santé-sécurité du patient ou de l'utilisateur final- Rappel du lot | E6: Utilisation de la mauvaise matière première | F6: 2 | G6: 6 | H6: =F6*G6 -> 12 | I6: =IF(H6>12,"No","Yes") -> Yes | J6: *Fiche de lancement pour identifier les composants nécessaires à la réalisation de la production *Présence d'une fiche d'identification sur la trémie de la machine (Désination de la matière, n° lot interne, n° lot fournisseur) *Vérification du n° lot matière lors du départ de production *Les espaces sont correctement identifiés et délimités à l'aide de pancartes ou de marquage au sol *Le magasinier est responsable de l'intégrité des matières lors du stockage *Le magasinier approvisionne la production et gère les flux de matières *Les matières sont séparées en plusieurs zones délimitées dans le magasin et une note est apposée (acceptées, refusées, quarantaine) *Les techniciens du laboratoire de contrôle réalisent les contrôles et libèrent les matières premières conformes *Les techniciens de production vérifient la conformité des références et du n° lot des matières avant d'alimenter la machine *Le technicien du contrôle qualité valide les actions du technicien de production avant le lancement d'une nouvelle production | K6: *Mode opératoire 7-5/MO-002 Lancement en production *Fiche de lancement QC 30 *Check-list de départ de production QC 90 | L6: No | M6: 1 | N6: =G6 -> 6 | O6: =M6*N6 -> 6 | P6: B > R | Q6: Yes
A7: P-Z 5 | B7: Condi BIOCORP | C7: *Manque de formation du personnel *Non-respect des règles d'hygiène et d'habillage *Utilisation d'une matière première non validée *Utilisation d'une matière première non conforme *Utilisation d'un article de conditionnement non adapté *Machine non qualifiée *Balances mal tarées pour la quantification des tubes *Matériel défaillant *Environnement non maîtrisé (T° et propreté) *Absence de documentation adaptée. | D7: Lot non conforme: *Non-respect du cahier des charges client *Atteinte à la santé-sécurité du patient ou de l'utilisateur final *Dérogation *Tri du lot *Rappel de lot | E7: Conditions de production non respectées | F7: 2 | G7: 6 | H7: =F7*G7 -> 12 | I7: =IF(H7>12,"No","Yes") -> Yes | J7: *La fiche de lancement de fabrication reprend les informations relatives aux matières et aux articles de conditionnements utilisés pour la fabrication *Lors du démarrage d'une production, le contrôle qualité, en accord avec l'équipe de production, s'assure que les paramètres de la machine sont correctement réglés et validés *Lors du démarrage d'une production, le contrôle qualité, en accord avec l'équipe de production, s'assure de la bonne calibration des balances pour la quantification des pièces *Le contrôle qualité est chargé du contrôle et de la libération des matières premières conformes | K7: *Mode opératoire 7-5/MO-002 Lancement en production *Mode opératoire 6-4/MO-002 Travail en zone à atmosphère contrôlée ISO7 *Mode opératoire 6-4/MO-005 Entrée/Sortie du personnel en zone à atmosphère contrôlée (ISO 7) *Mode opératoire 6-4/MO-006 Entrée/Sortie matériel et produit en zone à atmosphère contrôlée (ISO 7) *Check-list de départ de production QC 90 | L7: No | M7: 1 | N7: =G7 -> 6 | O7: =M7*N7 -> 6 | P7: B > R | Q7: Yes
A8: P-Z 6 | B8: Condi BIOCORP | C8: *Manque de formation du personnel *Locaux non adaptés (manque de place) *Machine non qualifiée *Suivi des actions de maintenance non réalisé *Mauvaise identification *Non-respect des procédures et modes opératoires *Manque de documentation. | D8: Lot non conforme: *Non-respect des exigences applicables *Réglages des machines non adaptés au produit fabriqué *Dérogation *Réclamation client | E8: Mauvaise maîtrise et réglage des machines | F8: 4 | G8: 3 | H8: =F8*G8 -> 12 | I8: =IF(H8>12,"No","Yes") -> Yes | J8: *La qualification de la Kalix permet de s'assurer de son bon fonctionnement *Des formations ou des actions de sensibilisation du personnel sont régulièrement réalisées *La machine de production est qualifiée par le responsable qualité en accord avec le responsable de production *La fiche d'intervention permet de tracer et d'enregistrer les actions réalisées (montage, nettoyage, maintenance) | K8: *Mode opératoire 7-5/MO-055 Remplissage sur Kalix *Procédure 7-5/PG-005 Procédure générale de validation *La fiche d'intervention QC 49 | L8: No | M8: 2 | N8: =G8 -> 3 | O8: =M8*N8 -> 6 | P8: B > R | Q8: Yes
A9: P-Z 7 | B9: Condi BIOCORP | C9: *Manque de formation ou de sensibilisation du personnel *Manque de communication *Mauvaise/absence calibration des balances *Compétences non mises à jour *Locaux non adaptés *Environnement de production et de stockage non maîtrisés *Balance non adaptée ou non suivie *Méthodes de contrôle non validées et non documentées *Mauvaise gestion de la traçabilité *Erreur de label | D9: Lot non conforme: *Non-respect des exigences applicables *Atteinte à la santé-sécurité du patient ou de l'utilisateur final *Rappel de lot *Réclamation client | E9: Défaillance des équipements de contrôle | F9: 2 | G9: 6 | H9: =F9*G9 -> 12 | I9: =IF(H9>12,"No","Yes") -> Yes | J9: *Des formations ou des actions de sensibilisation du personnel sont régulièrement réalisées *Les balances sont qualifiées par le responsable qualité en accord avec le responsable production *Les balances sont calibrées par une société extérieure selon une périodicité définie dans la base de données ACCESS "Gestion des ECME" de l'appareil concerné | L9: No | M9: 1 | N9: =G9 -> 6 | O9: =M9*N9 -> 6 | P9: B > R | Q9: Yes
A10: P-Z 8 | B10: Condi BIOCORP | C10: *Manque de formation ou de sensibilisation du personnel *Manque de communication *Problème organisationnel *Compétences non mises à jour *Équipement de contrôle non qualifié *Équipement de contrôle non adapté ou non suivi *Méthodes de contrôle non validées et non documentées *Mauvaise gestion de la traçabilité *Absence de méthode de vérification de la balance | D10: Lot non conforme: *Non-respect des exigences applicables *Atteinte à la santé-sécurité du patient ou de l'utilisateur final *Rappel de lot *Réclamation client | E10: Mauvaise maîtrise des équipements de contrôle | F10: 4 | G10: 6 | H10: =F10*G10 -> 24 | I10: =IF(H10>12,"No","Yes") -> No | J10: *Des formations ou des actions de sensibilisation du personnel sont régulièrement réalisées *Les balances sont qualifiées par le responsable qualité en accord avec le responsable production *Les balances sont calibrées par une société extérieure selon une périodicité définie dans la base de données ACCESS "Gestion des ECME" de l'appareil concerné | L10: No | M10: 2 | N10: =G10 -> 6 | O10: =M10*N10 -> 12 | P10: B > R | Q10: Yes
A11: P-Z 9 | B11: Condi BIOCORP | C11: *Manque de formation ou de sensibilisation du personnel *Non-respect des règles applicables au travail en ZAC, (hygiène, tenue) *Personnel malade en contact avec les produits *Nettoyage mal réalisé *Défaillance des systèmes de filtration d'air ou de maintien de pressions *Non-respect des flux de matières ou de produits *Non-respect de la délimitation des différentes zones (zone bleue et zone blanche) *Introduction de matières non décontaminées *Introduction d'équipements ou des matériels mal nettoyés *Non-respect des procédures, modes opératoires *Manque de documentation. | D11: Lot non conforme: *Non-respect des exigences applicables *Atteinte à la santé-sécurité du patient ou de l'utilisateur final *Dérogation *Tri du lot Rappel de lot | E11: Mauvaise maîtrise de l'environnement des Zones à atmosphère contrôlée | F11: 2 | G11: 6 | H11: =F11*G11 -> 12 | I11: =IF(H11>12,"No","Yes") -> Yes | J11: *Des formations ou des actions de sensibilisation du personnel sont régulièrement réalisées *Seules les personnes ayant suivi une formation ont l'autorisation de travailler en ZAC *Dans certains cas, une personne malade susceptible de travailler en ZAC doit porter un masque pour limiter les risques de contaminations *Les salles blanches sont contrôlées mensuellement par le contrôle qualité (microbio+particule) *La pression à l'intérieur des salles est mesurée et vérifiée *Les salles blanches sont qualifiées annuellement par un prestataire externe *Le nettoyage des salles est réalisé par un prestataire selon les fréquences décrites dans le mode opératoire *La salle blanche est divisée en différentes parties (SAS personne, SAS produit) afin de préserver les flux *Les SAS sont séparés en deux zones (bleue et blanche) afin de garantir un environnement propre *Le magasinier est chargé de décontaminer les produits avant de les introduire dans le SAS | K11: *Mode opératoire 6-4/MO-013 Nettoyage et suivi microbiologique des zones à atmosphère contrôlée | L11: No | M11: 1 | N11: =G11 -> 6 | O11: =M11*N11 -> 6 | P11: B > R | Q11: Yes
A12: P-Z 10 | B12: Condi BIOCORP | C12: *Manque de formation/sensibilisation du personnel *Problème organisationnel (manque de temps ou de personnel) *Absence de réalisation des autocontrôles et des contrôles journaliers *Manque de communication *Fréquence de réalisation des autocontrôles non respectée *Absence de défauthéque *Défaut non détectable à l'oeil nu *Les paramètres de la machine se sont déréglés | D12: Lot non conforme : *Non-respect des exigences réglementaires ou normatives applicables *Atteinte à la santé du patient ou de l'utilisateur final *Tri du lot *Dérogation *Rappel de lot | E12: Défaut d’un produit non détecté lors de la fabrication | F12: 4 | G12: 6 | H12: =F12*G12 -> 24 | I12: =IF(H12>12,"No","Yes") -> No | J12: *Des formations ou des actions de sensibilisation du personnel sont régulièrement réalisées *Une défauthéque est régulièrement mise à jour et est diffusée au personnel de production *Le personnel de production est formé à la détection de produits non conformes *Le personnel de production doit réaliser des autocontrôles à interval régulier et enregistré les résultats sur la QC 33 *Des échantillons sont prélevés au cours de la production et sont contrôlés par le contrôle qualité | K12: *QC 33 Fiche journalière d'auto-contrôle *Une défauthéque QC 156 | L12: No | M12: 1 | N12: =G12 -> 6 | O12: =M12*N12 -> 6 | P12: B > R | Q12: Yes
A13: P-Z 11 | B13: Condi BIOCORP | C13: *Manque de sensibilisation du personnel, *Erreur de saisie *Confusions *Absence de visa *Défaut d'étiquetage *Mauvais n° de lot inscrit sur les étiquettes *Mauvais n° de lot et date de péremption marqués sur les tubes *Inversion d'étiquette *Dossier de lot incomplet *Fiche de fabrication incomplète *Défaillance de la GPAO | D13: Confusions : *Apparition de produits non conforme *Contamination des produits *Erreur de livraison *Rappel de lot | E13: Mauvaise gestion de la traçabilité | F13: 4 | G13: 6 | H13: =F13*G13 -> 24 | I13: =IF(H13>12,"No","Yes") -> No | J13: *Des formations ou des actions de sensibilisation du personnel sont régulièrement réalisées *Les étiquettes sont contrôlées par le contrôle qualité avant d'être imprimées et utilisées en production *En fin de production, une réconciliation des étiquettes est réalisée *Les fiches journalières de production sont remplies par l'équipe de production et assurent le suivi de la production | K13: *Procédure 7-5/PG-001 Identification et traçabilité *Mode opératoire 7-5/MO-002 Constitution d'un dossier de lot *Mode opératoire 7-5/MO-014 Édition des étiquettes de production *Mode opératoire 7-5/MO-031 Création des étiquettes d'identification des produits *QC 75 Fiche de gestion des étiquettes *QC 29 Fiche journalière de fabrication | L13: No | M13: 1 | N13: =G13 -> 6 | O13: =M13*N13 -> 6 | P13: B > R | Q13: Yes
A14: P-Z 12 | B14: Condi BIOCORP | C14: *Les contrôles ne sont pas réalisés *Les méthodes de contrôle ne sont pas maîtrisées par les techniciens *Le prélèvement des pièces de contrôle ne respecte pas le plan d'échantillonnage *Les méthodes de contrôle ne sont pas adaptées ou sont erronées *Le matériel mis à disposition n'est pas adapté pour le contrôle du produit *Manque de formation du personnel *Utilisation d'un logiciel ou d'un fichier Excel non validé. | D14: *Non-respect des exigences réglementaires et normatives applicables *Atteinte à la santé-sécurité du patient ou de l'utilisateur final *Réclamation client *Rappel de lot | E14: Non-détection d'un produit NC | F14: 2 | G14: 6 | H14: =F14*G14 -> 12 | I14: =IF(H14>12,"No","Yes") -> Yes | J14: *Des formations ou des actions de sensibilisation du personnel sont régulièrement réalisées *Les contrôles sont réalisés journalièrement par le service qualité et sont enregistrés sur une fiche QC 34. *Les techniciens du laboratoire sont formés pour réaliser les contrôles des produits suivant la gamme de contrôle QC 31 *Le plan d'échantillonnage est déterminé suivant la norme ISO 2859 Règles d'échantillonnage pour les contrôles par attributs *Les méthodes de contrôle sont mises à jour régulièrement et adaptées aux produits *Un mode opératoire spécifie le besoin de valider les feuilles Excel | K14: *Procédure 8-3/PG-001 maîtrise du produit non conforme *Procédure 8-2/PG-002 Libération de lots *Fiche d'enregistrement QC 34 *Fiche gamme de contrôle QC 31 *Mode opératoire 8-2/MO-002 Échantillonnage *Le mode opératoire 7-5/MO-033 Création d'une feuille de calcul Excel | L14: No | M14: 1 | N14: =G14 -> 6 | O14: =M14*N14 -> 6 | P14: B > R | Q14: Yes
A15: P-Z 13 | B15: Condi BIOCORP | C15: *Non-respect de la fréquence d'étalonnage des équipements *Non-respect des conditions d'étalonnage des équipements *Absence de vérification des équipements de contrôle *Absence d'analyse et d'enregistrements des données *Étalons non adaptés *Les équipements ne sont pas correctement identifiés *Manque de formation ou de sensibilisation du personnel *Mauvaise gestion/archivage des certificats d'étalonnage *Absence de MàJ de la base de données ACCESS "Gestion des ECME" *Absence de traçabilité lors de l'intervention d'un fournisseur ou prestataire responsable de l'étalonnage | D15: *Non-respect des exigences réglementaires et normatives applicables *Panne d'équipements *Contrôles impossibles à réaliser *Résultats de contrôles erronés | E15: Absence de maîtrise des équipements du laboratoire | F15: 2 | G15: 2 | H15: =F15*G15 -> 4 | I15: =IF(H15>12,"No","Yes") -> Yes | J15: *Des formations ou des actions de sensibilisation du personnel sont régulièrement réalisées *Le responsable qualité est chargé des équipements du laboratoire *Les techniciens doivent s'assurer que les équipements sont bien étalonnés *Les équipements sont identifiés à l'aide d'une étiquette de validité d'étalonnage *Les équipements sont identifiés à l'aide d'un N° interne *Les certificats d'étalonnage sont archivés *Présence d'une fiche de vérification pour assurer la traçabilité des résultats de vérification des appareils *Le responsable qualité est chargé de réunir et de conserver l'ensemble des informations transmises par le fournisseur *Un planning d'étalonnage des équipements est mis en place et il est revu régulièrement | K15: *Procédure 7-6/MO-001 Identification et maîtrise des équipements de contrôle *Mode opératoire 7-6/MO-002 Étalonnage de l'étuve et de l'incubateur *Fiche de vérification QC 87 | L15: No | M15: 1 | N15: =G15 -> 2 | O15: =M15*N15 -> 2 | P15: B > R | Q15: Yes
A16: P-Z 14 | B16: Condi BIOCORP | C16: *Manque de sensibilisation du personnel aux règles d'hygiène *Le compteur particulaire n'est pas adapté *Les zones de prélèvement d'air ne sont pas clairement identifiées *Les résultats du comptage particulaire ne sont pas analysés et ne sont pas enregistrés *La fréquence de réalisation des contrôles n'est pas respectée *Les résultats sont NC, mais aucune action n'est mise en place | D16: *Contamination matières premières *Dégradation de la qualité des produits et de l'environnement des ZAC | E16: Absence de maîtrise de la qualité de l'air des ZAC | F16: 2 | G16: 2 | H16: =F16*G16 -> 4 | I16: =IF(H16>12,"No","Yes") -> Yes | J16: *Des formations ou des actions de sensibilisation du personnel sont régulièrement réalisées *Les techniciens du laboratoire sont chargés de réaliser et d'enregistrer les contrôles particulaires *Les contrôles particulaires sont réalisés mensuellement *Les résultats sont analysés suivant la norme ISO 14 644 *Les prélèvements d'air sont effectués suivant un nombre de points et des positions définies *Le compteur particulaire est qualifié *Si les seuils indiqués par la norme ISO 14 644 sont dépassés, des actions sont mises en place *La fiche assure la traçabilité et l'enregistrement des résultats | K16: *Mode opératoire 6-4/MO-012 Contrôle particulaire des ZAC *Fiche enregistrement et suivi de contrôle particulaire QC 41 | L16: No | M16: 1 | N16: =G16 -> 2 | O16: =M16*N16 -> 2 | P16: B > R | Q16: Yes
A17: P-Z 15 | B17: Condi BIOCORP | C17: *Manque de formation du personnel *Les géloses utilisées sont dégradées et ne peuvent pas être utilisées *Confusion entre les différentes géloses (lev/moisissures et germes totaux) *Absence de témoin pour valider les résultats *Mauvaise identification des géloses *Zones à prélever ne sont pas correctement identifiées *Les conditions d'incubations ne sont pas respectées *Les résultats obtenus ne sont pas analysés et ne sont pas enregistrés Les résultats sont NC et aucune action n'a été mise en place | D17: *Dégradation de la qualité des produits et de l'environnement des ZAC | E17: Absence de maîtrise de la biocontamination des ZAC | F17: 2 | G17: 2 | H17: =F17*G17 -> 4 | I17: =IF(H17>12,"No","Yes") -> Yes | J17: *Des formations ou des actions de sensibilisation du personnel sont régulièrement réalisées *Les prélèvements sont réalisés mensuellement suivant la fiche QC 147 *Les techniciens du laboratoire sont chargés de réaliser et d'enregistrer les contrôles microbiologiques *Les géloses disposent d'un certificat de conformité par lot *Les géloses sont stockées au réfrigérateur pour limiter leur dégradation *Les résultats sont enregistrés sur la fiche QC 146 *En cas de résultat non conforme, le responsable qualité est chargé de mettre en place des actions correctives | K17: *Mode opératoire 6-4/MO-013 Nettoyage et suivi microbiologique des zones à atmosphère contrôlée *Zones de prélèvement de mesure de biocontamination en ZAC QC 147 *Enregistrement de la contamination microbiologique QC 146 | L17: No | M17: 1 | N17: =G17 -> 2 | O17: =M17*N17 -> 2 | P17: B > R | Q17: Yes
A18: P-Z 16 | B18: Condi BIOCORP | C18: *Non-respect de la norme ISO 2 859 *Le plan d'échantillonnage appliqué n'est pas adapté au lot fabriqué *Les prélèvements n'ont pas été réalisés correctement *Manque de formation du personnel *Manque de communication entre le contrôle et la production | D18: *Erreur de jugement sur la conformité d'un lot *Libération d'un lot NC *Atteinte à la santé et à la sécurité du patient ou de l'utilisateur final | E18: Les échantillons contrôlés ne sont pas représentatifs du lot | F18: 2 | G18: 2 | H18: =F18*G18 -> 4 | I18: =IF(H18>12,"No","Yes") -> Yes | J18: *Des formations ou des actions de sensibilisation du personnel sont régulièrement réalisées *La taille du lot est définie avant la fabrication *Les techniciens du laboratoire, en accord avec le responsable qualité, définissent le plan d'échantillonnage *Le plan d'échantillonnage suit la norme ISO 2 859 *Le plan d'échantillonnage est communiqué au personnel de production pour le prélèvement des pièces | L18: No | M18: 1 | N18: =G18 -> 2 | O18: =M18*N18 -> 2 | P18: B > R | Q18: Yes
A19: P-Z 17 | B19: Condi BIOCORP | C19: *Manque de formation du personnel *Manque de communication *Résultats de contrôle erronés *Confusion entre deux dossiers de lot *Erreurs de saisies *Mauvaise gestion de la traçabilité *Manque de formation du personnel *Dossier de lot incomplet | D19: *Non-respect des exigences réglementaires et normatives applicables *Atteinte à la santé-sécurité du patient ou de l'utilisateur final *Réclamation client *Rappel de lot | E19: Validation d'un dossier de lot non conforme | F19: 2 | G19: 6 | H19: =F19*G19 -> 12 | I19: =IF(H19>12,"No","Yes") -> Yes | J19: *Le service qualité est chargé d'éditer les documents du dossier de lot *Le service qualité est chargé de la récolte des documents constituant le dossier de lot *Les techniciens de laboratoire s'assurent que l'ensemble des documents cités sur la QC 68 sont présent dans le dossier de lot et atteste cette vérification avec un visa *Les techniciens du laboratoire sont chargés de vérifier que les documents constituant le dossier de lot sont correctement remplis *L'ensemble des documents du dossier de lot possède le n° OF, le n° lot du produit fabriqué et la désignation du produit pour limiter les confusions *Les techniciens du laboratoire sont formés pour réaliser le contrôle des produits *Une double vérification du dossier est réalisée : les techniciens du laboratoire vérifient le dossier et par la suite le responsable qualité le valide | K19: *Mode opératoire : 4-2/MO-002 Constitution d'un dossier de lot *QC 68 dossier de fab | L19: No | M19: 1 | N19: =G19 -> 6 | O19: =M19*N19 -> 6 | P19: B > R | Q19: Yes
A20: P-Z 18 | B20: Condi BIOCORP | C20: *Manque de formation/sensibilisation du personnel *Manque de communication *Problème organisationnel *Absence de méthode d'identification *Absence de concordance entre n°lot fournisseur et n° lot interne *Mauvaise gestion des étiquettes *Dossier de lot incomplet *Imprimante étiquette tombe en panne *Les matières, articles, machines, etc non identifiés *Échantillons prélevés ne sont pas identifiés *Pertes informatiques *Erreurs de saisies | D20: *Mauvaise identification d'un lot ou d'un produit *Confusions *Libération de produit, matières ou lot NC | E20: Mauvaise gestion de la traçabilité | F20: 4 | G20: 6 | H20: =F20*G20 -> 24 | I20: =IF(H20>12,"No","Yes") -> No | J20: *Le service qualité vérifie les étiquettes avant qu'elles soient utilisées en production *Les échantillons prélevés sont identifiés à l'aide d'une étiquette QC 66 *Les produits sont identifiés à l'aide d'un n° de lot unique *Les étiquettes sont gérées par le service qualité | K20: *Procédure 7-5/PG-001 Identification et traçabilité *Étiquette de prélèvement QC 66 | L20: No | M20: 2 | N20: =G20 -> 6 | O20: =M20*N20 -> 12 | P20: B > R | Q20: Yes
A21: P-Z 19 | B21: Condi BIOCORP | C21: *Manque de formation du personnel *Manque de communication *Problème organisationnel *Manque d'information *Le protocole de qualification n'est pas adapté à la machine *L'enregistrement des tests de qualification n'est pas réalisé | D21: Mauvaise gestion de la qualification de la machine de production : *Impact sur la qualité du produit final *Le produit ne répond pas au cahier des charges *Lot non conforme *Non-respect des exigences réglementaires ou normatives applicables | E21: Défaillance dans le système de qualification de la machine | F21: 2 | G21: 2 | H21: =F21*G21 -> 4 | I21: =IF(H21>12,"No","Yes") -> Yes | J21: *Le protocole de qualification est rédigé par le responsable qualité en accord avec le responsable de production *Le protocole de qualification tient compte des spécifications (produits + machine) *Le rapport de qualification est rédigé par le responsable qualité en accord avec le responsable de production *Le protocole et le rapport sont archivés selon les règles décrites dans la procédure | K21: *Procédure générale 7-5/PG-005 Procédure générale de validation *Mode opératoire 7-5/MO-030 Qualification des automates de production et autres procédés de production *QC 111 Plan directeur de validation | L21: No | M21: 1 | N21: =G21 -> 2 | O21: =M21*N21 -> 2 | P21: B > R | Q21: Yes
A22: P-Z 20 | B22: Condi BIOCORP | C22: *Absence d'analyse des relevés de température *Enregistrements des contrôles de surveillance non réalisés *Manque de formation du personnel *Locaux non adaptés | D22: *Non-respect des exigences réglementaires et normatives applicables *Température et humidité non stables *Résultat de tests erronés- Dégradation des produits. | E22: Absence de maîtrise de l'environnement du laboratoire | F22: 2 | G22: 1 | H22: =F22*G22 -> 2 | I22: =IF(H22>12,"No","Yes") -> Yes | J22: *Des formations ou des actions de sensibilisation du personnel sont régulièrement réalisées *Une société extérieure est chargée du nettoyage du laboratoire *La température du laboratoire est relevée et enregistrée en continu *Pour les tests nécessitant une maîtrise de la température, des enceintes climatiques sont utilisées | L22: No | M22: 1 | N22: =G22 -> 1 | O22: =M22*N22 -> 1 | P22: B > R | Q22: Yes
A23: P-Z 21 | B23: Condi BIOCORP | C23: *Manque de formation du personnel *Manque de place aux archives *Délai d'archivage non spécifié *Dégradation ou perte des échantillons. | D23: *Non-respect des exigences réglementaires et normatives applicables *Non-maîtrise de la traçabilité *Non-maîtrise de la conservation des enregistrements *Absence d'échantillothèque | E23: Non-respect des délais d'archivage des produits | F23: 2 | G23: 2 | H23: =F23*G23 -> 4 | I23: =IF(H23>12,"No","Yes") -> Yes | J23: *Les techniciens du laboratoire sont chargés de la conservation des échantillons *Un lieu de stockage est dédié à la conservation des échantillons *Le service qualité est chargé de respecter la durée d'archivage des échantillons *Une revue annuelle est effectuée pour le tri | K23: *Mode opératoire : 8-2/MO-002 Échantillonnage | L23: No | M23: 1 | N23: =G23 -> 2 | O23: =M23*N23 -> 2 | P23: B > R | Q23: Yes
A24: P I | B24: Ionisation risks analysis - IONISOS
A25: P-I 1 | B25: Gamma Radiation | C25: Inadequate (method not adapted) decontamination of plant extracts premix | D25: *Contaminated product | E25: *Infection | F25: 1 | G25: 6 | H25: =F25*G25 -> 6 | I25: =IF(H25>12,"No","Yes") -> Yes | J25: *Gamma ionisation is a validated, established and accepted method of decontamination in the food industry used on various plant or non-plant materials with no adverse impact on their intrinsic quality *Gamma Ionisation process and dose have been validated: 5-15 kgrays dose ensure efficient decontamination. *Stability reports on FP show that the end MDs containing the plant extracts/premixes remain free of contamination throughout their shelf life *Microbiological analysis on FP allows to detect any contamination, and prevent such batch from being release | K25: *Ionisation process validation study Report *P2-8 contrôle des marchandises-vrac-PSO & PF-En-voi en ionisation et pour analyse | L25: No | M25: 1 | N25: =G25 -> 6 | O25: =N25*M25 -> 6 | P25: B > R | Q25: Yes
A26: P-I 2 | B26: Gamma Radiation | C26: Alteration of the device composition | D26: *Degradation of ingredients | E26: *Minor side effect *Aggravated condition *Inefficacious treatment | F26: 2 | G26: 3 | H26: =F26*G26 -> 6 | I26: =IF(H26>12,"No","Yes") -> Yes | J26: *Ionisation dose has been validated: 5-15 kgrays dose ensures efficient decontamination while not presenting any deleterious impact on plant extracts quality / specifications / cytotoxic potential / filmogenic functions *HPL chromatography verifies that ionised and non-ionised plant extracts have identical, perfectly overlapping profiles, with no new peak nor any alteration, confirming that Gamma Ionisation has no undesirable impact on the plant extract characteristics. | K26: *R-Impact of Ionisation *Report RE-Ionisation-Premix-01 | L26: No | M26: 1 | N26: =G26 -> 3 | O26: =N26*M26 -> 3 | P26: B > R | Q26: Yes
A27: P-I 3 | B27: Gamma Radiation | C27: Alteration of plant extracts: excipient filmogenic functions altered | D27: *Excipient filmogenic function increased *End product more or less filmogen than intended: Increased viscosity or reduce performance | E27: *Ineffective product *Difficulty in the product delivery | F27: 2 | G27: 3 | H27: =F27*G27 -> 6 | I27: =IF(H27>12,"No","Yes") -> Yes | J27: *Ionisation dose has been validated: 5-15 kgrays dose ensures efficient decontamination while not presenting any deleterious impact on plant extracts quality / specifications / cytotoxic potential / filmogenic functions *HPL chromatography verifies that ionised and non-ionised plant extracts have identical, perfectly overlapping profiles, with no new peak nor any alteration, confirming that Gamma Ionisation has no undesirable impact on the plant extract characteristics | K27: *R-Impact of Ionisation *Report RE-Ionisation-Premix-01. | L27: No | M27: 1 | N27: =G27 -> 3 | O27: =N27*M27 -> 3 | P27: B > R | Q27: Yes
A28: P-I 4 | B28: Ionisos | C28: Approbation de traitement : libération informatique de la Fiche de traitement | D28: *Libération papier sur dossier, mais non réalisation de la libération informatique | E28: *Absence de certificat de traitement | F28: 1 | G28: 1 | H28: =F28*G28 -> 1 | I28: =IF(H28>12,"No","Yes") -> Yes | J28: *Le risque est jugé acceptable par le sous-traitant, aucune mesure n'a été mise en place | K28: / | M28: =F28 -> 1 | N28: =G28 -> 1 | O28: =H28 -> 1 | P28: B > R | Q28: Yes
A29: P-I 5 | B29: Ionisos | C29: Saisie activité sur les Bon de traitement | D29: *Activité sur Bon de traitement maintenant pas ou mal renseignée | E29: *Absence de traçabilité de la maintenance | F29: 1 | G29: 3 | H29: =F29*G29 -> 3 | I29: =IF(H29>12,"No","Yes") -> Yes | J29: *Le risque est jugé acceptable par le sous-traitant, aucune mesure n'a été mise en place | K29: / | M29: =F29 -> 1 | N29: =G29 -> 3 | O29: =H29 -> 3 | P29: B > R | Q29: Yes
A30: P-I 6 | B30: Ionisos | C30: Saisie activité sur Bon de traitement | D30: *Activité sur Bon de traitement liée à l'étalonnage pas ou mal renseignée | E30: *Absence de traçabilité étalonnage dans la GMAO | F30: 1 | G30: 3 | H30: =F30*G30 -> 3 | I30: =IF(H30>12,"No","Yes") -> Yes | J30: *Le risque est jugé acceptable par le sous-traitant, aucune mesure n'a été mise en place | K30: / | M30: =F30 -> 1 | N30: =G30 -> 3 | O30: =H30 -> 3 | P30: B > R | Q30: Yes
A31: P-I 7 | B31: Ionisos | C31: Validation de la fin de revue de contrat sur la GPAO | D31: *Validation de la revue de contrat sans vérification | E31: *Autorisation de traiter alors que les conditions de traitement n'ont pas été revues | F31: 1 | G31: 3 | H31: =F31*G31 -> 3 | I31: =IF(H31>12,"No","Yes") -> Yes | J31: *Le risque est jugé acceptable par le sous-traitant, aucune mesure n'a été mise en place | K31: / | M31: =F31 -> 1 | N31: =G31 -> 3 | O31: =H31 -> 3 | P31: B > R | Q31: Yes
A32: P-I 8 | B32: Ionisos | C32: Création de la commande prévisionnelle dans la GPAO | D32: *Erreur lors de la saisie | E32: *Certificat de traitement erroné (numéro de lot manquant…) | F32: 4 | G32: 3 | H32: =F32*G32 -> 12 | I32: =IF(H32>12,"No","Yes") -> Yes | J32: *Le risque est jugé acceptable par le sous-traitant, aucune mesure n'a été mise en place | K32: / | M32: =F32 -> 4 | N32: =G32 -> 3 | O32: =H32 -> 12 | P32: B > R | Q32: Yes
A33: P-I 9 | B33: Ionisos | C33: Information client (mail, fax,…) | D33: *Non-conformité non déclarée au client | E33: *Client non informé | F33: 1 | G33: 6 | H33: =F33*G33 -> 6 | I33: =IF(H33>12,"No","Yes") -> Yes | J33: *Le risque est jugé acceptable par le sous-traitant, aucune mesure n'a été mise en place | K33: / | M33: =F33 -> 1 | N33: =G33 -> 6 | O33: =H33 -> 6 | P33: B > R | Q33: Yes
A34: P-I 10 | B34: Ionisos | C34: Création de la Fiche de traitement | D34: *Informations reprises sur la Fiche de traitement erronée par rapport à la commande | E34: *Conditions de traitement erronées | F34: 1 | G34: 6 | H34: =F34*G34 -> 6 | I34: =IF(H34>12,"No","Yes") -> Yes | J34: *Le risque est jugé acceptable par le sous-traitant, aucune mesure n'a été mise en place | K34: / | M34: =F34 -> 1 | N34: =G34 -> 6 | O34: =H34 -> 6 | P34: B > R | Q34: Yes
A35: P-I 11 | B35: Ionisos | C35: Programmation des fréquences d'étalonnage dans la GMAO | D35: *Fréquence d'étalonnage non respectée | E35: *Date d'étalonnage non respectée | F35: 1 | G35: 3 | H35: =F35*G35 -> 3 | I35: =IF(H35>12,"No","Yes") -> Yes | J35: *Le risque est jugé acceptable par le sous-traitant, aucune mesure n'a été mise en place | K35: / | M35: =F35 -> 1 | N35: =G35 -> 3 | O35: =H35 -> 3 | P35: B > R | Q35: Yes
A36: P-I 12 | B36: Ionisos | C36: Repalettisassions des produits pour expédition | D36: *Manutention des produits | E36: *Dégradation des produits | F36: 4 | G36: 3 | H36: =F36*G36 -> 12 | I36: =IF(H36>12,"No","Yes") -> Yes | J36: *Le risque est jugé acceptable par le sous-traitant, aucune mesure n'a été mise en place | K36: / | M36: =F36 -> 4 | N36: =G36 -> 3 | O36: =H36 -> 12 | P36: B > R | Q36: Yes
A37: P-I 13 | B37: Ionisos | C37: Manipulation des palettes | D37: *Mauvaise utilisation du matériel, erreur de manipulation | E37: *Dégradation des produits | F37: 4 | G37: 3 | H37: =F37*G37 -> 12 | I37: =IF(H37>12,"No","Yes") -> Yes | J37: *Le risque est jugé acceptable par le sous-traitant, aucune mesure n'a été mise en place | K37: / | M37: =F37 -> 4 | N37: =G37 -> 3 | O37: =H37 -> 12 | P37: B > R | Q37: Yes
A38: P-I 14 | B38: Ionisos | C38: Lecture des dosimètres | D38: *Absence de document ou mauvais remplissage du document concernant les doses aberrantes à relire | E38: *Demande de relecture d'une dose aberrante non tracée et risque de relecture d'un mauvais dosimètre | F38: 2 | G38: 3 | H38: =F38*G38 -> 6 | I38: =IF(H38>12,"No","Yes") -> Yes | J38: *Le risque est jugé acceptable par le sous-traitant, aucune mesure n'a été mise en place | K38: / | M38: =F38 -> 2 | N38: =G38 -> 3 | O38: =H38 -> 6 | P38: B > R | Q38: Yes
A39: P-I 15 | B39: Ionisos | C39: Saisie sur les supports d'enregistrement | D39: *Document renseigné, mais opération de maintenant pas ou mal réalisé | E39: *Dérive de l'équipement | F39: 1 | G39: 3 | H39: =F39*G39 -> 3 | I39: =IF(H39>12,"No","Yes") -> Yes | J39: *Le risque est jugé acceptable par le sous-traitant, aucune mesure n'a été mise en place | K39: / | M39: =F39 -> 1 | N39: =G39 -> 3 | O39: =H39 -> 3 | P39: B > R | Q39: Yes
... A78: P-I 54 | B78: Ionisos | C78: Rédaction du CR de QP | D78: *Erreur dans l'interprétation des résultats | E78: *Traitement selon des critères NC | F78: 1 | G78: 3 | H78: =F78*G78 -> 3 | I78: =IF(H78>12,"No","Yes") -> Yes | J78: *Le risque est jugé acceptable par le sous-traitant, aucune mesure n'a été mise en place | K78: / | M78: =F78 -> 1 | N78: =G78 -> 3 | O78: =H78 -> 3 | P78: B > R | Q78: Yes
...

Sheet 4
B1: Synthèse de combinaison
B3: Nb tot = | D3: =D4+D5+D6 -> 17205 | E3: 1
B4: 0 < Nb < 6 = | D4: =COUNTIF(RCombinés!E8:GS229,">=1")-D5-D6 -> 16391 | E4: =D4/D3 -> 0.95268817
B5: 6 < Nb <12 = | D5: =COUNTIF(RCombinés!E8:GS229,">6")-D6 -> 814 | E5: =D5/D3 -> 0.047311828
B6: 12 < Nb = | D6: =COUNTIF(RCombinés!E8:GS229,">12") -> 0 | E6: =D6/D3 -> 0

Sheet RCombinés
A1: Niveau de risque des risques recombinés
C3: N°Risk | D3: D | E3: D 1 | F3: D 4 | G3: D 5 | H3: D 6 | I3: D 7 | J3: D 8 | K3: D 9 | L3: D 10 | M3: D 11 | N3: D 12 | O3: D 13 | P3: D 14 | Q3: D 15 | R3: D 16 | S3: D 17 | T3: D 18 | U3: D 19 | V3: D 20 | W3: P (1) | X3: P 1 | Y3: P 2 | Z3: P 3 | AA3: P 4 | AB3: P 5 | AC3: P 6 | AD3: P 7 | AE3: P 8 | AF3: P 9 | AG3: P 10 | AH3: P 11 | AI3: P 12 | AJ3: P 13 | AK3: P 14 | AL3: P 15 | AM3: P 16 | AN3: P 17 | AO3: P 18 | AP3: P 19 | AQ3: P 20 | AR3: P 21 | AS3: P 22 | AT3: P 23 | AU3: P 24 | AV3: P 25 | AW3: P 26 | AX3: P 27 | AY3: P 28 | AZ3: P 29 | BA3: P 30 | BB3: P 31 | BC3: P 32 | BD3: P 33 | BE3: P 34 | BF3: P 35 | BG3: P 36 | BH3: P 37 | BI3: P 38 | BJ3: P 39 | BK3: P 40 | BL3: P 41 | BM3: P 42 | BN3: P 43 | BO3: P 44 | BP3: P 45 | BQ3: P 46 | BR3: P 47 | BS3: P 48 | BT3: P 49 | BU3: P 50 | BV3: P 51 | BW3: P 52 | BX3: P 53 | BY3: P 54 | BZ3: P 55 | CA3: P C1 | CB3: P 56 | CC3: P 57 | CD3: P 58 | CE3: P 59 | CF3: P 60 | CG3: P 61 | CH3: P 62 | CI3: P 63 | CJ3: P 64 | CK3: P 65 | CL3: P 66 | CM3: P 67 | CN3: P 68 | CO3: P 69 | CP3: P 70 | CQ3: P 71 | CR3: P 72 | CS3: P 73 | CT3: P 74 | CU3: P 75 | CV3: P C2 | CW3: P 76 | CX3: P 77 | CY3: P 78 | CZ3: P 79 | DA3: P 80 | DB3: P (2) | DC3: P 81 | DD3: P 82 | DE3: P 83 | DF3: P 84 | DG3: P 85 | DH3: P 86 | DI3: P G | DJ3: P 87 | DK3: P 88 | DL3: P 89 | DM3: PC1Z | DN3: P-Z 1 | DO3: P-Z 2 | DP3: P-Z 3 | DQ3: P-Z 4 | DR3: P-Z 5 | DS3: P-Z 6 | DT3: P-Z 7 | DU3: P-Z 8 | DV3: P-Z 9 | DW3: P-Z 10 | DX3: P-Z 11 | DY3: P-Z 12 | DZ3: P-Z 13 | EA3: P-Z 14 | EB3: P-Z 15 | EC3: P-Z 16 | ED3: P-Z 17 | EE3: P-Z 18 | EF3: P-Z 19 | EG3: P-Z 20 | EH3: P-Z 21 | EI3: P I | EJ3: P-I 1 | EK3: P-I 2 | EL3: P-I 3 | EM3: P-I 4 | EN3: P-I 5 | EO3: P-I 6 | EP3: P-I 7 | EQ3: P-I 8 | ER3: P-I 9 | ES3: P-I 10 | ET3: P-I 11 | EU3: P-I 12 | EV3: P-I 13 | EW3: P-I 14 | EX3: P-I 15 | EY3: P-I 16 | EZ3: P-I 17 | FA3: P-I 18 | FB3: P-I 19 | FC3: P-I 20 | FD3: P-I 21 | FE3: P-I 22 | FF3: P-I 23 | FG3: P-I 24 | FH3: P-I 25 | FI3: P-I 26 | FJ3: P-I 27 | FK3: P-I 28 | FL3: P-I 29 | FM3: P-I 30 | FN3: P-I 31 | FO3: P-I 32 | FP3: P-I 33 | FQ3: P-I 34 | FR3: P-I 35 | FS3: P-I 36 | FT3: P-I 37 | FU3: P-I 38 | FV3: P-I 39 | FW3: P-I 40 | FX3: P-I 41 | FY3: P-I 42 | FZ3: P-I 43 | GA3: P-I 44 | GB3: P-I 45 | GC3: P-I 46 | GD3: P-I 47 | GE3: P-I 48 | GF3: P-I 49 | GG3: P-I 50 | GH3: P-I 51 | GI3: P-I 52 | GJ3: P-I 53 | GK3: P-I 54 | GL3: PC2A | GM3: P-A 1 | GN3: P-A 2 | GO3: P-A 3 | GP3: P-A 4
C4: F | D4: 0 | E4: 1 | F4: 1 | G4: 1 | H4: 1 | I4: 1 | J4: 1 | K4: 1 | L4: 1 | M4: 1 | N4: 1 | O4: 1 | P4: 1 | Q4: 1 | R4: 1 | S4: 1 | T4: 1 | U4: 1 | V4: 1 | W4: 0 | X4: 2 | Y4: 2 | Z4: 2 | AA4: 1 | AB4: 1 | AC4: 2 | AD4: 1 | AE4: 3 | AF4: 2 | AG4: 1 | AH4: 1 | AI4: 1 | AJ4: 1 | AK4: 2 | AL4: 1 | AM4: 1 | AN4: 2 | AO4: 1 | AP4: 1 | AQ4: 2 | AR4: 2 | AS4: 2 | AT4: 1 | AU4: 2 | AV4: 1 | AW4: 1 | AX4: 2 | AY4: 1 | AZ4: 2 | BA4: 1 | BB4: 1 | BC4: 2 | BD4: 2 | BE4: 1 | BF4: 1 | BG4: 2 | BH4: 1 | BI4: 1 | BJ4: 2 | BK4: 1 | BL4: 1 | BM4: 1 | BN4: 1 | BO4: 1 | BP4: 1 | BQ4: 2 | BR4: 2 | BS4: 1 | BT4: 1 | BU4: 1 | BV4: 1 | BW4: 2 | BX4: 2 | BY4: 2 | BZ4: 1 | CA4: 0 | CB4: 1 | CC4: 1 | CD4: 1 | CE4: 1 | CF4: 1 | CG4: 1 | CH4: 2 | CI4: 1 | CJ4: 1 | CK4: 1 | CL4: 1 | CM4: 1 | CN4: 1 | CO4: 1 | CP4: 1 | CQ4: 1 | CR4: 1 | CS4: 2 | CT4: 2 | CU4: 1 | CV4: 0 | CW4: 1 | CX4: 1 | CY4: 2 | CZ4: 1 | DA4: 3 | DB4: 0 | DC4: 1 | DD4: 1 | DE4: 2 | DF4: 2 | DG4: 2 | DH4: 1 | DI4: 0 | DJ4: 1 | DK4: 1 | DL4: 2 | DM4: 0 | DN4: 1 | DO4: 2 | DP4: 1 | DQ4: 1 | DR4: 1 | DS4: 2 | DT4: 1 | DU4: 2 | DV4: 1 | DW4: 1 | DX4: 1 | DY4: 1 | DZ4: 1 | EA4: 1 | EB4: 1 | EC4: 1 | ED4: 1 | EE4: 2 | EF4: 1 | EG4: 1 | EH4: 1 | EI4: 0 | EJ4: 1 | EK4: 1 | EL4: 1 | EM4: 1 | EN4: 1 | EO4: 1 | EP4: 1 | EQ4: 4 | ER4: 1 | ES4: 1 | ET4: 1 | EU4: 4 | EV4: 4 | EW4: 2 | EX4: 1 | EY4: 2 | EZ4: 2 | FA4: 1 | FB4: 2 | FC4: 1 | FD4: 1 | FE4: 1 | FF4: 1 | FG4: 1 | FH4: 2 | FI4: 1 | FJ4: 1 | FK4: 1 | FL4: 1 | FM4: 1 | FN4: 1 | FO4: 1 | FP4: 1 | FQ4: 2 | FR4: 2 | FS4: 1 | FT4: 1 | FU4: 1 | FV4: 1 | FW4: 2 | FX4: 1 | FY4: 2 | FZ4: 1 | GA4: 2 | GB4: 1 | GC4: 1 | GD4: 1 | GE4: 1 | GF4: 1 | GG4: 1 | GH4: 1 | GI4: 1 | GJ4: 1 | GK4: 1 | GL4: 0 | GM4: 1 | GN4: 1 | GO4: 1 | GP4: 1
A5: N°Risk | B5: F | C5: G | D5: 0 | E5: 6 | F5: 6 | G5: 6 | H5: 6 | I5: 3 | J5: 6 | K5: 6 | L5: 6 | M5: 6 | N5: 6 | O5: 6 | P5: 3 | Q5: 6 | R5: 6 | S5: 6 | T5: 6 | U5: 6 | V5: 6 | W5: 0 | X5: 1 | Y5: 1 | Z5: 1 | AA5: 3 | AB5: 3 | AC5: 1 | AD5: 6 | AE5: 1 | AF5: 3 | AG5: 3 | AH5: 3 | AI5: 3 | AJ5: 6 | AK5: 3 | AL5: 3 | AM5: 6 | AN5: 1 | AO5: 1 | AP5: 1 | AQ5: 3 | AR5: 6 | AS5: 6 | AT5: 6 | AU5: 6 | AV5: 1 | AW5: 3 | AX5: 3 | AY5: 3 | AZ5: 3 | BA5: 6 | BB5: 6 | BC5: 3 | BD5: 3 | BE5: 3 | BF5: 6 | BG5: 3 | BH5: 6 | BI5: 3 | BJ5: 1 | BK5: 1 | BL5: 6 | BM5: 6 | BN5: 6 | BO5: 6 | BP5: 1 | BQ5: 1 | BR5: 1 | BS5: 1 | BT5: 6 | BU5: 6 | BV5: 6 | BW5: 3 | BX5: 3 | BY5: 3 | BZ5: 6 | CA5: 0 | CB5: 3 | CC5: 3 | CD5: 6 | CE5: 3 | CF5: 6 | CG5: 3 | CH5: 3 | CI5: 3 | CJ5: 3 | CK5: 6 | CL5: 6 | CM5: 6 | CN5: 6 | CO5: 6 | CP5: 3 | CQ5: 6 | CR5: 1 | CS5: 1 | CT5: 1 | CU5: 6 | CV5: 0 | CW5: 3 | CX5: 3 | CY5: 3 | CZ5: 1 | DA5: 3 | DB5: 0 | DC5: 6 | DD5: 6 | DE5: 1 | DF5: 1 | DG5: 1 | DH5: 6 | DI5: 0 | DJ5: 6 | DK5: 6 | DL5: 6 | DM5: 0 | DN5: 2 | DO5: 6 | DP5: 6 | DQ5: 6 | DR5: 6 | DS5: 3 | DT5: 6 | DU5: 6 | DV5: 6 | DW5: 6 | DX5: 6 | DY5: 6 | DZ5: 2 | EA5: 2 | EB5: 2 | EC5: 2 | ED5: 6 | EE5: 6 | EF5: 2 | EG5: 1 | EH5: 2 | EI5: 0 | EJ5: 6 | EK5: 3 | EL5: 3 | EM5: 1 | EN5: 3 | EO5: 3 | EP5: 3 | EQ5: 3 | ER5: 6 | ES5: 6 | ET5: 3 | EU5: 3 | EV5: 3 | EW5: 3 | EX5: 3 | EY5: 6 | EZ5: 3 | FA5: 3 | FB5: 6 | FC5: 3 | FD5: 6 | FE5: 6 | FF5: 3 | FG5: 3 | FH5: 3 | FI5: 6 | FJ5: 3 | FK5: 1 | FL5: 1 | FM5: 3 | FN5: 3 | FO5: 3 | FP5: 6 | FQ5: 3 | FR5: 1 | FS5: 6 | FT5: 12 | FU5: 3 | FV5: 6 | FW5: 3 | FX5: 3 | FY5: 6 | FZ5: 6 | GA5: 3 | GB5: 6 | GC5: 1 | GD5: 3 | GE5: 3 | GF5: 12 | GG5: 3 | GH5: 6 | GI5: 6 | GJ5: 3 | GK5: 3 | GL5: 0 | GM5: 1 | GN5: 1 | GO5: 1 | GP5: 1
A6: ='1'!A4 -> D | B6: ='1'!M4 -> 0 | C6: ='1'!N4 -> 0
A7: ='1'!A5 -> D 1 | B7: ='1'!M5 -> 1 | C7: ='1'!N5 -> 6
A8: ='1'!A8 -> D 4 | B8: ='1'!M8 -> 1 | C8: ='1'!N8 -> 6 | E8: =MIN($B8,E$4)*MAX($C8,E$5) -> 6
A9: ='1'!A9 -> D 5 | B9: ='1'!M9 -> 1 | C9: ='1'!N9 -> 6 | E9: =MIN($B9,E$4)*MAX($C9,E$5) -> 6 | F9: =MIN($B9,F$4)*MAX($C9,F$5) -> 6
A10: ='1'!A10 -> D 6 | B10: ='1'!M10 -> 1 | C10: ='1'!N10 -> 6 | E10: =MIN($B10,E$4)*MAX($C10,E$5) -> 6 | F10: =MIN($B10,F$4)*MAX($C10,F$5) -> 6 | G10: =MIN($B10,G$4)*MAX($C10,G$5) -> 6
A11: ='1'!A11 -> D 7 | B11: ='1'!M11 -> 1 | C11: ='1'!N11 -> 3 | E11: =MIN($B11,E$4)*MAX($C11,E$5) -> 6 | F11: =MIN($B11,F$4)*MAX($C11,F$5) -> 6 | G11: =MIN($B11,G$4)*MAX($C11,G$5) -> 6 | H11: =MIN($B11,H$4)*MAX($C11,H$5) -> 6
A12: ='1'!A12 -> D 8 | B12: ='1'!M12 -> 1 | C12: ='1'!N12 -> 6 | E12: =MIN($B12,E$4)*MAX($C12,E$5) -> 6 | F12: =MIN($B12,F$4)*MAX($C12,F$5) -> 6 | G12: =MIN($B12,G$4)*MAX($C12,G$5) -> 6 | H12: =MIN($B12,H$4)*MAX($C12,H$5) -> 6 | I12: =MIN($B12,I$4)*MAX($C12,I$5) -> 6
A13: ='1'!A13 -> D 9 | B13: ='1'!M13 -> 1 | C13: ='1'!N13 -> 6 | E13: =MIN($B13,E$4)*MAX($C13,E$5) -> 6 | F13: =MIN($B13,F$4)*MAX($C13,F$5) -> 6 | G13: =MIN($B13,G$4)*MAX($C13,G$5) -> 6 | H13: =MIN($B13,H$4)*MAX($C13,H$5) -> 6 | I13: =MIN($B13,I$4)*MAX($C13,I$5) -> 6 | J13: =MIN($B13,J$4)*MAX($C13,J$5) -> 6
A14: ='1'!A14 -> D 10 | B14: ='1'!M14 -> 1 | C14: ='1'!N14 -> 6 | E14: =MIN($B14,E$4)*MAX($C14,E$5) -> 6 | F14: =MIN($B14,F$4)*MAX($C14,F$5) -> 6 | G14: =MIN($B14,G$4)*MAX($C14,G$5) -> 6 | H14: =MIN($B14,H$4)*MAX($C14,H$5) -> 6 | I14: =MIN($B14,I$4)*MAX($C14,I$5) -> 6 | J14: =MIN($B14,J$4)*MAX($C14,J$5) -> 6 | K14: =MIN($B14,K$4)*MAX($C14,K$5) -> 6
A15: ='1'!A15 -> D 11 | B15: ='1'!M15 -> 1 | C15: ='1'!N15 -> 6 | E15: =MIN($B15,E$4)*MAX($C15,E$5) -> 6 | F15: =MIN($B15,F$4)*MAX($C15,F$5) -> 6 | G15: =MIN($B15,G$4)*MAX($C15,G$5) -> 6 | H15: =MIN($B15,H$4)*MAX($C15,H$5) -> 6 | I15: =MIN($B15,I$4)*MAX($C15,I$5) -> 6 | J15: =MIN($B15,J$4)*MAX($C15,J$5) -> 6 | K15: =MIN($B15,K$4)*MAX($C15,K$5) -> 6 | L15: =MIN($B15,L$4)*MAX($C15,L$5) -> 6
A16: ='1'!A16 -> D 12 | B16: ='1'!M16 -> 1 | C16: ='1'!N16 -> 6 | E16: =MIN($B16,E$4)*MAX($C16,E$5) -> 6 | F16: =MIN($B16,F$4)*MAX($C16,F$5) -> 6 | G16: =MIN($B16,G$4)*MAX($C16,G$5) -> 6 | H16: =MIN($B16,H$4)*MAX($C16,H$5) -> 6 | I16: =MIN($B16,I$4)*MAX($C16,I$5) -> 6 | J16: =MIN($B16,J$4)*MAX($C16,J$5) -> 6 | K16: =MIN($B16,K$4)*MAX($C16,K$5) -> 6 | L16: =MIN($B16,L$4)*MAX($C16,L$5) -> 6 | M16: =MIN($B16,M$4)*MAX($C16,M$5) -> 6
A17: ='1'!A17 -> D 13 | B17: ='1'!M17 -> 1 | C17: ='1'!N17 -> 6 | E17: =MIN($B17,E$4)*MAX($C17,E$5) -> 6 | F17: =MIN($B17,F$4)*MAX($C17,F$5) -> 6 | G17: =MIN($B17,G$4)*MAX($C17,G$5) -> 6 | H17: =MIN($B17,H$4)*MAX($C17,H$5) -> 6 | I17: =MIN($B17,I$4)*MAX($C17,I$5) -> 6 | J17: =MIN($B17,J$4)*MAX($C17,J$5) -> 6 | K17: =MIN($B17,K$4)*MAX($C17,K$5) -> 6 | L17: =MIN($B17,L$4)*MAX($C17,L$5) -> 6 | ... N17: =MIN($B17,N$4)*MAX($C17,N$5) -> 6
A18: ='1'!A18 -> D 14 | B18: ='1'!M18 -> 1 | C18: ='1'!N18 -> 3 | E18: =MIN($B18,E$4)*MAX($C18,E$5) -> 6 | F18: =MIN($B18,F$4)*MAX($C18,F$5) -> 6 | G18: =MIN($B18,G$4)*MAX($C18,G$5) -> 6 | H18: =MIN($B18,H$4)*MAX($C18,H$5) -> 6 | I18: =MIN($B18,I$4)*MAX($C18,I$5) -> 3 | J18: =MIN($B18,J$4)*MAX($C18,J$5) -> 6 | K18: =MIN($B18,K$4)*MAX($C18,K$5) -> 6 | L18: =MIN($B18,L$4)*MAX($C18,L$5) -> 6 | ... O18: =MIN($B18,O$4)*MAX($C18,O$5) -> 6
A19: ='1'!A19 -> D 15 | B19: ='1'!M19 -> 1 | C19: ='1'!N19 -> 6 | E19: =MIN($B19,E$4)*MAX($C19,E$5) -> 6 | F19: =MIN($B19,F$4)*MAX($C19,F$5) -> 6 | G19: =MIN($B19,G$4)*MAX($C19,G$5) -> 6 | H19: =MIN($B19,H$4)*MAX($C19,H$5) -> 6 | I19: =MIN($B19,I$4)*MAX($C19,I$5) -> 6 | J19: =MIN($B19,J$4)*MAX($C19,J$5) -> 6 | K19: =MIN($B19,K$4)*MAX($C19,K$5) -> 6 | L19: =MIN($B19,L$4)*MAX($C19,L$5) -> 6 | ... P19: =MIN($B19,P$4)*MAX($C19,P$5) -> 6
A20: ='1'!A20 -> D 16 | B20: ='1'!M20 -> 1 | C20: ='1'!N20 -> 6 | E20: =MIN($B20,E$4)*MAX($C20,E$5) -> 6 | F20: =MIN($B20,F$4)*MAX($C20,F$5) -> 6 | G20: =MIN($B20,G$4)*MAX($C20,G$5) -> 6 | H20: =MIN($B20,H$4)*MAX($C20,H$5) -> 6 | I20: =MIN($B20,I$4)*MAX($C20,I$5) -> 6 | J20: =MIN($B20,J$4)*MAX($C20,J$5) -> 6 | K20: =MIN($B20,K$4)*MAX($C20,K$5) -> 6 | L20: =MIN($B20,L$4)*MAX($C20,L$5) -> 6 | ... Q20: =MIN($B20,Q$4)*MAX($C20,Q$5) -> 6
A21: ='1'!A21 -> D 17 | B21: ='1'!M21 -> 1 | C21: ='1'!N21 -> 6 | E21: =MIN($B21,E$4)*MAX($C21,E$5) -> 6 | F21: =MIN($B21,F$4)*MAX($C21,F$5) -> 6 | G21: =MIN($B21,G$4)*MAX($C21,G$5) -> 6 | H21: =MIN($B21,H$4)*MAX($C21,H$5) -> 6 | I21: =MIN($B21,I$4)*MAX($C21,I$5) -> 6 | J21: =MIN($B21,J$4)*MAX($C21,J$5) -> 6 | K21: =MIN($B21,K$4)*MAX($C21,K$5) -> 6 | L21: =MIN($B21,L$4)*MAX($C21,L$5) -> 6 | ... R21: =MIN($B21,R$4)*MAX($C21,R$5) -> 6
A22: ='1'!A22 -> D 18 | B22: ='1'!M22 -> 1 | C22: ='1'!N22 -> 6 | E22: =MIN($B22,E$4)*MAX($C22,E$5) -> 6 | F22: =MIN($B22,F$4)*MAX($C22,F$5) -> 6 | G22: =MIN($B22,G$4)*MAX($C22,G$5) -> 6 | H22: =MIN($B22,H$4)*MAX($C22,H$5) -> 6 | I22: =MIN($B22,I$4)*MAX($C22,I$5) -> 6 | J22: =MIN($B22,J$4)*MAX($C22,J$5) -> 6 | K22: =MIN($B22,K$4)*MAX($C22,K$5) -> 6 | L22: =MIN($B22,L$4)*MAX($C22,L$5) -> 6 | ... S22: =MIN($B22,S$4)*MAX($C22,S$5) -> 6
A23: ='1'!A23 -> D 19 | B23: ='1'!M23 -> 1 | C23: ='1'!N23 -> 6 | E23: =MIN($B23,E$4)*MAX($C23,E$5) -> 6 | F23: =MIN($B23,F$4)*MAX($C23,F$5) -> 6 | G23: =MIN($B23,G$4)*MAX($C23,G$5) -> 6 | H23: =MIN($B23,H$4)*MAX($C23,H$5) -> 6 | I23: =MIN($B23,I$4)*MAX($C23,I$5) -> 6 | J23: =MIN($B23,J$4)*MAX($C23,J$5) -> 6 | K23: =MIN($B23,K$4)*MAX($C23,K$5) -> 6 | L23: =MIN($B23,L$4)*MAX($C23,L$5) -> 6 | ... T23: =MIN($B23,T$4)*MAX($C23,T$5) -> 6
A24: ='1'!A24 -> D 20 | B24: ='1'!M24 -> 1 | C24: ='1'!N24 -> 6 | E24: =MIN($B24,E$4)*MAX($C24,E$5) -> 6 | F24: =MIN($B24,F$4)*MAX($C24,F$5) -> 6 | G24: =MIN($B24,G$4)*MAX($C24,G$5) -> 6 | H24: =MIN($B24,H$4)*MAX($C24,H$5) -> 6 | I24: =MIN($B24,I$4)*MAX($C24,I$5) -> 6 | J24: =MIN($B24,J$4)*MAX($C24,J$5) -> 6 | K24: =MIN($B24,K$4)*MAX($C24,K$5) -> 6 | L24: =MIN($B24,L$4)*MAX($C24,L$5) -> 6 | ... U24: =MIN($B24,U$4)*MAX($C24,U$5) -> 6
A25: ='2'!A2 -> P (1) | B25: ='2'!M2 -> 0 | C25: ='2'!N2 -> 0 | E25: =MIN($B25,E$4)*MAX($C25,E$5) -> 0 | F25: =MIN($B25,F$4)*MAX($C25,F$5) -> 0 | G25: =MIN($B25,G$4)*MAX($C25,G$5) -> 0 | H25: =MIN($B25,H$4)*MAX($C25,H$5) -> 0 | I25: =MIN($B25,I$4)*MAX($C25,I$5) -> 0 | J25: =MIN($B25,J$4)*MAX($C25,J$5) -> 0 | K25: =MIN($B25,K$4)*MAX($C25,K$5) -> 0 | L25: =MIN($B25,L$4)*MAX($C25,L$5) -> 0 | ... V25: =MIN($B25,V$4)*MAX($C25,V$5) -> 0
A26: ='2'!A3 -> P 1 | B26: ='2'!M3 -> 2 | C26: ='2'!N3 -> 1 | E26: =MIN($B26,E$4)*MAX($C26,E$5) -> 6 | F26: =MIN($B26,F$4)*MAX($C26,F$5) -> 6 | G26: =MIN($B26,G$4)*MAX($C26,G$5) -> 6 | H26: =MIN($B26,H$4)*MAX($C26,H$5) -> 6 | I26: =MIN($B26,I$4)*MAX($C26,I$5) -> 3 | J26: =MIN($B26,J$4)*MAX($C26,J$5) -> 6 | K26: =MIN($B26,K$4)*MAX($C26,K$5) -> 6 | L26: =MIN($B26,L$4)*MAX($C26,L$5) -> 6 | ... W26: =MIN($B26,W$4)*MAX($C26,W$5) -> 0
A27: ='2'!A4 -> P 2 | B27: ='2'!M4 -> 2 | C27: ='2'!N4 -> 1 | E27: =MIN($B27,E$4)*MAX($C27,E$5) -> 6 | F27: =MIN($B27,F$4)*MAX($C27,F$5) -> 6 | G27: =MIN($B27,G$4)*MAX($C27,G$5) -> 6 | H27: =MIN($B27,H$4)*MAX($C27,H$5) -> 6 | I27: =MIN($B27,I$4)*MAX($C27,I$5) -> 3 | J27: =MIN($B27,J$4)*MAX($C27,J$5) -> 6 | K27: =MIN($B27,K$4)*MAX($C27,K$5) -> 6 | L27: =MIN($B27,L$4)*MAX($C27,L$5) -> 6 | ... X27: =MIN($B27,X$4)*MAX($C27,X$5) -> 2
A28: ='2'!A5 -> P 3 | B28: ='2'!M5 -> 2 | C28: ='2'!N5 -> 1 | E28: =MIN($B28,E$4)*MAX($C28,E$5) -> 6 | F28: =MIN($B28,F$4)*MAX($C28,F$5) -> 6 | G28: =MIN($B28,G$4)*MAX($C28,G$5) -> 6 | H28: =MIN($B28,H$4)*MAX($C28,H$5) -> 6 | I28: =MIN($B28,I$4)*MAX($C28,I$5) -> 3 | J28: =MIN($B28,J$4)*MAX($C28,J$5) -> 6 | K28: =MIN($B28,K$4)*MAX($C28,K$5) -> 6 | L28: =MIN($B28,L$4)*MAX($C28,L$5) -> 6 | ... Y28: =MIN($B28,Y$4)*MAX($C28,Y$5) -> 2
A29: ='2'!A6 -> P 4 | B29: ='2'!M6 -> 1 | C29: ='2'!N6 -> 3 | E29: =MIN($B29,E$4)*MAX($C29,E$5) -> 6 | F29: =MIN($B29,F$4)*MAX($C29,F$5) -> 6 | G29: =MIN($B29,G$4)*MAX($C29,G$5) -> 6 | H29: =MIN($B29,H$4)*MAX($C29,H$5) -> 6 | I29: =MIN($B29,I$4)*MAX($C29,I$5) -> 3 | J29: =MIN($B29,J$4)*MAX($C29,J$5) -> 6 | K29: =MIN($B29,K$4)*MAX($C29,K$5) -> 6 | L29: =MIN($B29,L$4)*MAX($C29,L$5) -> 6 | ... Z29: =MIN($B29,Z$4)*MAX($C29,Z$5) -> 3
A30: ='2'!A7 -> P 5 | B30: ='2'!M7 -> 1 | C30: ='2'!N7 -> 3 | E30: =MIN($B30,E$4)*MAX($C30,E$5) -> 6 | F30: =MIN($B30,F$4)*MAX($C30,F$5) -> 6 | G30: =MIN($B30,G$4)*MAX($C30,G$5) -> 6 | H30: =MIN($B30,H$4)*MAX($C30,H$5) -> 6 | I30: =MIN($B30,I$4)*MAX($C30,I$5) -> 3 | J30: =MIN($B30,J$4)*MAX($C30,J$5) -> 6 | K30: =MIN($B30,K$4)*MAX($C30,K$5) -> 6 | L30: =MIN($B30,L$4)*MAX($C30,L$5) -> 6 | ... AA30: =MIN($B30,AA$4)*MAX($C30,AA$5) -> 3
A31: ='2'!A8 -> P 6 | B31: ='2'!M8 -> 2 | C31: ='2'!N8 -> 1 | E31: =MIN($B31,E$4)*MAX($C31,E$5) -> 6 | F31: =MIN($B31,F$4)*MAX($C31,F$5) -> 6 | G31: =MIN($B31,G$4)*MAX($C31,G$5) -> 6 | H31: =MIN($B31,H$4)*MAX($C31,H$5) -> 6 | I31: =MIN($B31,I$4)*MAX($C31,I$5) -> 3 | J31: =MIN($B31,J$4)*MAX($C31,J$5) -> 6 | K31: =MIN($B31,K$4)*MAX($C31,K$5) -> 6 | L31: =MIN($B31,L$4)*MAX($C31,L$5) -> 6 | ... AB31: =MIN($B31,AB$4)*MAX($C31,AB$5) -> 3
A32: ='2'!A9 -> P 7 | B32: ='2'!M9 -> 1 | C32: ='2'!N9 -> 6 | E32: =MIN($B32,E$4)*MAX($C32,E$5) -> 6 | F32: =MIN($B32,F$4)*MAX($C32,F$5) -> 6 | G32: =MIN($B32,G$4)*MAX($C32,G$5) -> 6 | H32: =MIN($B32,H$4)*MAX($C32,H$5) -> 6 | I32: =MIN($B32,I$4)*MAX($C32,I$5) -> 6 | J32: =MIN($B32,J$4)*MAX($C32,J$5) -> 6 | K32: =MIN($B32,K$4)*MAX($C32,K$5) -> 6 | L32: =MIN($B32,L$4)*MAX($C32,L$5) -> 6 | ... AC32: =MIN($B32,AC$4)*MAX($C32,AC$5) -> 6
A33: ='2'!A10 -> P 8 | B33: ='2'!M10 -> 3 | C33: ='2'!N10 -> 1 | E33: =MIN($B33,E$4)*MAX($C33,E$5) -> 6 | F33: =MIN($B33,F$4)*MAX($C33,F$5) -> 6 | G33: =MIN($B33,G$4)*MAX($C33,G$5) -> 6 | H33: =MIN($B33,H$4)*MAX($C33,H$5) -> 6 | I33: =MIN($B33,I$4)*MAX($C33,I$5) -> 3 | J33: =MIN($B33,J$4)*MAX($C33,J$5) -> 6 | K33: =MIN($B33,K$4)*MAX($C33,K$5) -> 6 | L33: =MIN($B33,L$4)*MAX($C33,L$5) -> 6 | ... AD33: =MIN($B33,AD$4)*MAX($C33,AD$5) -> 6
