Workbook
Name D: 'Poussière '!$A$4:$A$46
Name G: Gaz!$A$4:$A$46
Name Risque: Feuil2!$A$5:$A$10
Name Type: Gaz!$A$3:$A$3
Name ZoneDust: Feuil2!$C$16:$C$18
Name ZoneGaz: Feuil2!$B$15:$B$19

Sheet Principale
A1: Localisation en zone | J1: Inventaire du matériel | R1: Conformité du matériel / Zone Atex
A2: Repère Zone | B2: Local | C2: Zone | D2: Matière du combustible ( Gaz / Dust ) | E2: Classement de la zone | F2: Combustible | G2: Catégorie Appareils maximum | H2: Classe de température | I2: Groupe | J2: Référence capteur | K2: Désignation du matériel | L2: Nb | M2: Marquage principal ATEX | Q2: Marquage matériel | R2: Marquage attendu | S2: Conformité | T2: Observation | V2: Plan d'action à la mise en conformité
M3: N° de certification | N3: Groupe | O3: Catégorie | P3: Ip
A4: Extérieur | B4: Boite allumage torchère | C4: Torchère | D4: G | E4: 1 | F4: Acétate d’éthyle | G4: =VLOOKUP(E4,Feuil2!$B$5:$C$10,2,0) -> 2 | H4: =VLOOKUP(F4,Gaz!$A$4:$D$46,3,0) -> T2 | I4: =VLOOKUP(F4,Gaz!$A$4:$E$46,5,0) -> IIA | J4: - | K4: Capteur de position 1 | L4: 1 | M4: 24379 | N4: IIB | O4: 2 | P4: IP 6X | Q4: =" CE "&M4&" Ex "&N4&O4&D4 -> CE 24379 Ex IIB 2G | R4: =IFERROR(" CE "& Principale!M4&" Ex " &Principale!I4&G4&Principale!D4," CE "& Principale!M4&" Ex " &G4&Principale!D4) -> CE 24379 Ex IIA 2G | S4: =IF(AND(N4=I4,O4=G4),"Marquage conforme",IF(N4=I4,"Groupe conforme ","Groupe non conforme ")&IF(O4=G4,"et catégorie conforme", "et catégorie non conforme")) -> Groupe non conforme et catégorie conforme
A5: Extérieur | D5: G | E5: 1 | F5: Ethylène | G5: =VLOOKUP(E5,Feuil2!$B$5:$C$10,2,0) -> 2 | H5: =VLOOKUP(F5,Gaz!$A$4:$D$46,3,0) -> T3 | I5: =VLOOKUP(F5,Gaz!$A$4:$E$46,5,0) -> IIB | J5: - | K5: Capteur de pression 2 | L5: 1 | M5: 24380 | N5: IIB | O5: 2 | P5: IP 6X | Q5: =" CE "&M5&" Ex "&N5&O5&D5 -> CE 24380 Ex IIB 2G | R5: =IFERROR(" CE "& Principale!M5&" Ex " &Principale!I5&G5&Principale!D5," CE "& Principale!M5&" Ex " &G5&Principale!D5) -> CE 24380 Ex IIB 2G | S5: =IF(AND(N5=I5,O5=G5),"Marquage conforme",IF(N5=I5,"Groupe conforme ","Groupe non conforme ")&IF(O5=G5,"et catégorie conforme", "et catégorie non conforme")) -> Marquage conforme
A6: Extérieur | D6: G | E6: 1 | F6: Ethylène | G6: =VLOOKUP(E6,Feuil2!$B$5:$C$10,2,0) -> 2 | H6: =VLOOKUP(F6,Gaz!$A$4:$D$46,3,0) -> T3 | I6: =VLOOKUP(F6,Gaz!$A$4:$E$46,5,0) -> IIB | J6: - | K6: Capteur position Electrovanne allumage | L6: 1 | M6: 35951 | N6: IIB | O6: 2 | P6: IP 6X | Q6: =" CE "&M6&" Ex "&N6&O6&D6 -> CE 35951 Ex IIB 2G | R6: =IFERROR(" CE "& Principale!M6&" Ex " &Principale!I6&G6&Principale!D6," CE "& Principale!M6&" Ex " &G6&Principale!D6) -> CE 35951 Ex IIB 2G | S6: =IF(AND(N6=I6,O6=G6),"Marquage conforme",IF(N6=I6,"Groupe conforme ","Groupe non conforme ")&IF(O6=G6,"et catégorie conforme", "et catégorie non conforme")) -> Marquage conforme
A7: Extérieur | D7: G | E7: 1 | F7: Ethylène | G7: =VLOOKUP(E7,Feuil2!$B$5:$C$10,2,0) -> 2 | H7: =VLOOKUP(F7,Gaz!$A$4:$D$46,3,0) -> T3 | I7: =VLOOKUP(F7,Gaz!$A$4:$E$46,5,0) -> IIB | J7: - | K7: Electrovanne allumage | L7: 1 | M7: 37936 | N7: IIB | O7: 2 | P7: IP 6X | Q7: =" CE "&M7&" Ex "&N7&O7&D7 -> CE 37936 Ex IIB 2G | R7: =IFERROR(" CE "& Principale!M7&" Ex " &Principale!I7&G7&Principale!D7," CE "& Principale!M7&" Ex " &G7&Principale!D7) -> CE 37936 Ex IIB 2G | S7: =IF(AND(N7=I7,O7=G7),"Marquage conforme",IF(N7=I7,"Groupe conforme ","Groupe non conforme ")&IF(O7=G7,"et catégorie conforme", "et catégorie non conforme")) -> Marquage conforme
A8: Extérieur | D8: G | E8: 1 | F8: Ethylène | G8: =VLOOKUP(E8,Feuil2!$B$5:$C$10,2,0) -> 2 | H8: =VLOOKUP(F8,Gaz!$A$4:$D$46,3,0) -> T3 | I8: =VLOOKUP(F8,Gaz!$A$4:$E$46,5,0) -> IIB | J8: - | K8: Allumeur | L8: 1 | M8: 37480 | N8: IIB | O8: 2 | P8: IP 6X | Q8: =" CE "&M8&" Ex "&N8&O8&D8 -> CE 37480 Ex IIB 2G | R8: =IFERROR(" CE "& Principale!M8&" Ex " &Principale!I8&G8&Principale!D8," CE "& Principale!M8&" Ex " &G8&Principale!D8) -> CE 37480 Ex IIB 2G | S8: =IF(AND(N8=I8,O8=G8),"Marquage conforme",IF(N8=I8,"Groupe conforme ","Groupe non conforme ")&IF(O8=G8,"et catégorie conforme", "et catégorie non conforme")) -> Marquage conforme
A9: Extérieur | B9: Coffret pompe puissard | C9: Capteur de niveau GASBUFFER | D9: G | E9: 1 | F9: Ethylène | G9: =VLOOKUP(E9,Feuil2!$B$5:$C$10,2,0) -> 2 | H9: =VLOOKUP(F9,Gaz!$A$4:$D$46,3,0) -> T3 | I9: =VLOOKUP(F9,Gaz!$A$4:$E$46,5,0) -> IIB | J9: - | K9: Détecteur de niveau FTW325 Endress Hauser | L9: 1 | M9: 27057 | N9: IIB | O9: 2 | P9: IP 6X | Q9: =" CE "&M9&" Ex "&N9&O9&D9 -> CE 27057 Ex IIB 2G | R9: =IFERROR(" CE "& Principale!M9&" Ex " &Principale!I9&G9&Principale!D9," CE "& Principale!M9&" Ex " &G9&Principale!D9) -> CE 27057 Ex IIB 2G | S9: =IF(AND(N9=I9,O9=G9),"Marquage conforme",IF(N9=I9,"Groupe conforme ","Groupe non conforme ")&IF(O9=G9,"et catégorie conforme", "et catégorie non conforme")) -> Marquage conforme
A10: Extérieur | D10: G | E10: 1 | F10: Ethylène | G10: =VLOOKUP(E10,Feuil2!$B$5:$C$10,2,0) -> 2 | H10: =VLOOKUP(F10,Gaz!$A$4:$D$46,3,0) -> T3 | I10: =VLOOKUP(F10,Gaz!$A$4:$E$46,5,0) -> IIB | J10: - | K10: Capteur de niveau GASBUFFER | L10: 1 | M10: 32756 | N10: IIB | O10: 2 | P10: IP 6X | Q10: =" CE "&M10&" Ex "&N10&O10&D10 -> CE 32756 Ex IIB 2G | R10: =IFERROR(" CE "& Principale!M10&" Ex " &Principale!I10&G10&Principale!D10," CE "& Principale!M10&" Ex " &G10&Principale!D10) -> CE 32756 Ex IIB 2G | S10: =IF(AND(N10=I10,O10=G10),"Marquage conforme",IF(N10=I10,"Groupe conforme ","Groupe non conforme ")&IF(O10=G10,"et catégorie conforme", "et catégorie non conforme")) -> Marquage conforme
A11: Extérieur | C11: Capteur de niveau 1 PUISARD | D11: G | E11: 1 | F11: Ethylène | G11: =VLOOKUP(E11,Feuil2!$B$5:$C$10,2,0) -> 2 | H11: =VLOOKUP(F11,Gaz!$A$4:$D$46,3,0) -> T3 | I11: =VLOOKUP(F11,Gaz!$A$4:$E$46,5,0) -> IIB | J11: - | K11: Détecteur de niveau FTW325 Endress Hauser | L11: 1 | M11: 34459 | N11: IIB | O11: 2 | P11: IP 6X | Q11: =" CE "&M11&" Ex "&N11&O11&D11 -> CE 34459 Ex IIB 2G | R11: =IFERROR(" CE "& Principale!M11&" Ex " &Principale!I11&G11&Principale!D11," CE "& Principale!M11&" Ex " &G11&Principale!D11) -> CE 34459 Ex IIB 2G | S11: =IF(AND(N11=I11,O11=G11),"Marquage conforme",IF(N11=I11,"Groupe conforme ","Groupe non conforme ")&IF(O11=G11,"et catégorie conforme", "et catégorie non conforme")) -> Marquage conforme
A12: Extérieur | D12: G | E12: 1 | F12: Ethylène | G12: =VLOOKUP(E12,Feuil2!$B$5:$C$10,2,0) -> 2 | H12: =VLOOKUP(F12,Gaz!$A$4:$D$46,3,0) -> T3 | I12: =VLOOKUP(F12,Gaz!$A$4:$E$46,5,0) -> IIB | J12: - | K12: Capteur de niveau PUISARD | L12: 1 | M12: 34580 | N12: IIB | O12: 2 | P12: IP 6X | Q12: =" CE "&M12&" Ex "&N12&O12&D12 -> CE 34580 Ex IIB 2G | R12: =IFERROR(" CE "& Principale!M12&" Ex " &Principale!I12&G12&Principale!D12," CE "& Principale!M12&" Ex " &G12&Principale!D12) -> CE 34580 Ex IIB 2G | S12: =IF(AND(N12=I12,O12=G12),"Marquage conforme",IF(N12=I12,"Groupe conforme ","Groupe non conforme ")&IF(O12=G12,"et catégorie conforme", "et catégorie non conforme")) -> Marquage conforme
A13: Extérieur | C13: Capteur de niveau 3 PUISARD | D13: G | E13: 1 | F13: Ethylène | G13: =VLOOKUP(E13,Feuil2!$B$5:$C$10,2,0) -> 2 | H13: =VLOOKUP(F13,Gaz!$A$4:$D$46,3,0) -> T3 | I13: =VLOOKUP(F13,Gaz!$A$4:$E$46,5,0) -> IIB | J13: - | K13: Détecteur de niveau FTW325 Endress Hauser | L13: 1 | M13: 38697 | N13: IIB | O13: 2 | P13: IP 6X | Q13: =" CE "&M13&" Ex "&N13&O13&D13 -> CE 38697 Ex IIB 2G | R13: =IFERROR(" CE "& Principale!M13&" Ex " &Principale!I13&G13&Principale!D13," CE "& Principale!M13&" Ex " &G13&Principale!D13) -> CE 38697 Ex IIB 2G | S13: =IF(AND(N13=I13,O13=G13),"Marquage conforme",IF(N13=I13,"Groupe conforme ","Groupe non conforme ")&IF(O13=G13,"et catégorie conforme", "et catégorie non conforme")) -> Marquage conforme
A14: Extérieur | D14: G | E14: 1 | F14: Ethylène | G14: =VLOOKUP(E14,Feuil2!$B$5:$C$10,2,0) -> 2 | H14: =VLOOKUP(F14,Gaz!$A$4:$D$46,3,0) -> T3 | I14: =VLOOKUP(F14,Gaz!$A$4:$E$46,5,0) -> IIB | J14: - | K14: Capteur de niveau PUISARD | L14: 1 | M14: 38537 | N14: IIB | O14: 2 | P14: IP 6X | Q14: =" CE "&M14&" Ex "&N14&O14&D14 -> CE 38537 Ex IIB 2G | R14: =IFERROR(" CE "& Principale!M14&" Ex " &Principale!I14&G14&Principale!D14," CE "& Principale!M14&" Ex " &G14&Principale!D14) -> CE 38537 Ex IIB 2G | S14: =IF(AND(N14=I14,O14=G14),"Marquage conforme",IF(N14=I14,"Groupe conforme ","Groupe non conforme ")&IF(O14=G14,"et catégorie conforme", "et catégorie non conforme")) -> Marquage conforme
A15: Extérieur | B15: Coffret Thiopack | C15: Capteur de niveau THIOPACK | D15: G | E15: 1 | F15: Ethylène | G15: =VLOOKUP(E15,Feuil2!$B$5:$C$10,2,0) -> 2 | H15: =VLOOKUP(F15,Gaz!$A$4:$D$46,3,0) -> T3 | I15: =VLOOKUP(F15,Gaz!$A$4:$E$46,5,0) -> IIB | J15: - | K15: Détecteur de niveau RMA42-BHC Endress Hauser | L15: 1 | M15: 43655 | N15: IIB | O15: 2 | P15: IP 6X | Q15: =" CE "&M15&" Ex "&N15&O15&D15 -> CE 43655 Ex IIB 2G | R15: =IFERROR(" CE "& Principale!M15&" Ex " &Principale!I15&G15&Principale!D15," CE "& Principale!M15&" Ex " &G15&Principale!D15) -> CE 43655 Ex IIB 2G | S15: =IF(AND(N15=I15,O15=G15),"Marquage conforme",IF(N15=I15,"Groupe conforme ","Groupe non conforme ")&IF(O15=G15,"et catégorie conforme", "et catégorie non conforme")) -> Marquage conforme
A16: Extérieur | D16: G | E16: 1 | F16: Ethylène | G16: =VLOOKUP(E16,Feuil2!$B$5:$C$10,2,0) -> 2 | H16: =VLOOKUP(F16,Gaz!$A$4:$D$46,3,0) -> T3 | I16: =VLOOKUP(F16,Gaz!$A$4:$E$46,5,0) -> IIB | J16: - | K16: Capteur de niveau | L16: 1 | M16: 43585 | N16: IIB | O16: 2 | P16: IP 6X | Q16: =" CE "&M16&" Ex "&N16&O16&D16 -> CE 43585 Ex IIB 2G | R16: =IFERROR(" CE "& Principale!M16&" Ex " &Principale!I16&G16&Principale!D16," CE "& Principale!M16&" Ex " &G16&Principale!D16) -> CE 43585 Ex IIB 2G | S16: =IF(AND(N16=I16,O16=G16),"Marquage conforme",IF(N16=I16,"Groupe conforme ","Groupe non conforme ")&IF(O16=G16,"et catégorie conforme", "et catégorie non conforme")) -> Marquage conforme

Sheet Marquage
G1: Marquage secondaire attendu | N1: Marquage final
H2: Mode de protection | I2: Zone | J2: Groupement | K2: Classe de température | L2: Gaz / Dust | M2: Zone
G3: Ex | H3: {=_xlfn.IFS(Principale!E4=0,"i"&" ou m",Principale!E4=1, " d/e/i/p/m/o/q/",Principale!E4=2,"d/e/i/p/m/o/q/n/",Principale!E4=20,"i/m/t",Principale!E4=21,"i/m/t",Principale!E4=22,"i/m/t")} -> d/e/i/p/m/o/q/ | I3: =IF(Principale!E4=0,"a",IF(Principale!E4=20,"a",IF(Principale!E4=1,"b",IF(Principale!E4=21,"b",IF(Principale!E4=2,"c",IF(Principale!E4=22,"c")))))) -> b | J3: =VLOOKUP(Principale!F4,Gaz!A4:E46,5,0) -> IIA | K3: =VLOOKUP(Principale!F4,Gaz!A4:E46,3,0) -> T2 | L3: =Principale!D4 -> G | M3: =I3 -> b | N3: =G3&H3& " " &I3&" " &J3&K3&" "&L3&M3 -> Ex d/e/i/p/m/o/q/ b IIA T2 Gb

Sheet Feuil2
A4: Risque | B4: Zone Gaz | C4: Catégorie d'appareil
A5: Permapent | B5: 0 | C5: 1
B6: 20 | C6: 1
A7: Occasionnel | B7: 1 | C7: 2
B8: 21 | C8: 2
A9: potentiel | B9: 2 | C9: 3
B10: 22 | C10: 3
B14: Mode de protection | C14: Symbole | D14: Zone 0 /20 | E14: Zone 1 /21 | F14: Zone 2 /22
A15: Surpression de l'atmosphère explosive | B15: Surpression interne | C15: p | D15: a | E15: b | F15: c
B16: Immersion dans l'huile | C16: o | D16: a | E16: b | F16: c
B17: Encapsulage | C17: m | D17: a | E17: b | F17: c
A18: Suppression de la source d'inflammation | B18: Sécurité augmenté | C18: e | D18: a | E18: b | F18: c
B19: Sécurité intrinsèque | C19: i | D19: a | E19: b | F19: c
A20: Non-propagation de l'inflammation | B20: Enveloppe antidéflagrante | C20: d | D20: a | E20: b | F20: c
B21: Remplissage par matière pulvérulente | C21: q | D21: a | E21: b | F21: c

Sheet Gaz
A2: Gaz
A3: G | B3: Température d'inflamation | C3: Classe de température | D3: Groupe | H3: Classe de température | I3: Température de surface admissible
A4: Acétate d'amyle | B4: 380 | C4: T2 | D4: II | E4: IIA | H4: T1 | I4: 450
A5: Acétate d’éthyle | B5: 427 | C5: T2 | D5: II | E5: IIA | H5: T2 | I5: 300
A6: Acétone | B6: 465 | C6: T1 | D6: II | E6: IIA | H6: T3 | I6: 200
A7: Acétylène | B7: 305 | C7: T2 | D7: II | E7: IIC | H7: T4 | I7: 135
A8: Acide acétique | B8: 464 | C8: T1 | D8: II | E8: IIA | H8: T5 | I8: 100
A9: Acide oléïque | B9: 360 | C9: T2 | D9: II | E9: IIB | H9: T6 | I9: 85
A10: Acide sulfhydrique | B10: 270 | C10: T3 | D10: II | E10: IIB
A11: Alcool de propylène | B11: 405 | C11: T2 | D11: II | E11: IIB
A12: Alcool éthylique | B12: 425 | C12: T2 | D12: II | E12: IIA - IIB
A13: Aldéhyde-acétique | B13: 140 | C13: T4 | D13: II | E13: IIA
A14: Ammoniac | B14: 630 | C14: T1 | D14: II | E14: IIA
A15: Anhydride acétique | B15: 316 | C15: T2 | D15: II | E15: IIA
A16: Benzène (pur) | B16: 498 | C16: T1 | D16: II | E16: IIA
A17: Butane n | B17: 365 | C17: T2 | D17: II | E17: IIA
A18: Butanol n | B18: 343 | C18: T2 | D18: II | E18: IIA
A19: Chlorure d’éthyle | B19: 510 | C19: T1 | D19: II | E19: IIA
A20: Chlorure de méthylène | B20: 625 | C20: T1 | D20: II | E20: IIA
A21: Cyclohexanone | B21: 420 | C21: T2 | D21: II | E21: IIA
A22: Dichlor-éthylène | B22: 460 | C22: T1 | D22: II | E22: IIA
A23: Essences pour moteurs début | B23: 220 à 300 | C23: T3 | D23: II | E23: IIA
A24: d’ébullition < 135°C | B24: 220 à 300 | C24: T3 | D24: II | E24: IIA
A25: Essences spéciales début d’ébullition > 135°C | B25: 472 | C25: T2-T1 | D25: II | E25: IIA
A26: Ethane | B26: 180 | C26: T4 | D26: II | E26: IIA
A27: Ether éthylique | B27: 425 | C27: T2 | D27: II | E27: IIB
A28: Ethylène | B28: 235 | C28: T3 | D28: II | E28: IIB
A29: Ethylène glycol | B29: 220 à 300 | C29: T3 | D29: II | E29: IIB
A30: Fuel EL DIN 51 603 partie 1/12.81 | B30: 220 à 300 | C30: T3 | D30: II | E30: IIA
A31: Fuel L DIN 51 603 partie 2/10.76 | B31: 220 à 300 | C31: T3 | D31: II | E31: IIA
A32: Gaz de ville | B32: 560 | C32: T1 | D32: II | E32: IIA
A33: Gazole DIN 51601/04.78 | B33: 220 à 300 | C33: T3 | D33: II | E33: IIB
A34: Hexane n | B34: 225 | C34: T3 | D34: II | E34: IIA
A35: Hydrogène | B35: 560 | C35: T1 | D35: II | E35: IIA
A36: Kérosène (ou fuel-oil n° 1) | B36: 220 à 300 | C36: T3 | D36: II | E36: IIC
A37: Méthane | B37: 537 | C37: T1 | D37: II | E37: IIA
A38: Méthanol | B38: 385 | C38: T2 | D38: II | E38: IIA
A39: Naphtalène | B39: 520 | C39: T1 | D39: II | E39: IIA
A40: Oxyde d’éthylène | B40: 440 | C40: T2 | D40: II | E40: IIB
A41: Oxyde de carbone | B41: 605 | C41: T1 | D41: II | E41: IIB
...

Sheet Poussière 
A2: Dust
A3: D | B3: Température d'inflamation | C3: Classe de température | D3: Groupe
A4: Poussière | B4: 12 | C4: T2 | D4: III | E4: IIIA
A5: Farine | B5: 4 | C5: T2 | D5: III | E5: IIIB
A6: Amidon | B6: 66 | C6: T1 | D6: III | E6: IIIC
A7: Céréales | B7: 976 | C7: T3 | D7: III | E7: IIIB
A8: Charbon | B8: 679 | C8: T4 | D8: III | E8: IIIC
A9: Aluminium | B9: 67 | C9: T6 | D9: III | E9: IIIA
A10: plastique | B10: 233 | C10: T1 | D10: III | E10: IIIB
A11: paille | B11: 234 | C11: T2 | D11: III | E11: IIIB
