Workbook

Sheet ANALYSE

Sheet ADMINISTRATION
A3: =TODAY() -> 44065 | D3: Après la génération d'une nouvelle journée ne pas oublier de renseigner
D4: les informations de retours de la veille dans le tableau RETOURS ci-dessous.
C14: Les volumes de production sont impactés par la production réélle de la veille et les retours de la veille
C15: Il est très important de renseigner les bons volumes de retour pour chaque produit
C18: VOLUMES DE PRODUCTION | I18: RETOURS PRODUITS
C19: produits | F19: volume prod | G19: volume supp. | I19: retours | J19: déclenchement | K19: % vol. prod
C20: RUSTIQUE | F20: 260 | H20: =IF(I20<J20,0,I20) -> 15 | I20: 15 | J20: =SUM(F20*K20) -> 13 | K20: 0.05
C21: CÔTOISE | F21: 210 | H21: =IF(I21<J21,0,I21) -> 0 | I21: 3 | J21: =SUM(F21*K21) -> 10.5 | K21: 0.05
C22: PARISIENNE | F22: 160 | H22: =IF(I22<J22,0,I22) -> 0 | I22: 4 | J22: =SUM(F22*K22) -> 8 | K22: 0.05
C23: RUSTIQUE GRAINES | F23: 140 | H23: =IF(I23<J23,0,I23) -> 9 | I23: 9 | J23: =SUM(F23*K23) -> 7 | K23: 0.05
C24: PAIN DE CHASSE | F24: 50 | H24: =IF(I24<J24,0,I24) -> 0 | J24: =SUM(F24*K24) -> 2.5 | K24: 0.05
C25: PAIN AU NIÉBÉ | F25: 35 | H25: =IF(I25<J25,0,I25) -> 3 | I25: 3 | J25: =SUM(F25*K25) -> 1.4 | K25: 0.04
C26: PAIN AU LEVAIN | F26: 30 | H26: =IF(I26<J26,0,I26) -> 0 | I26: 1 | J26: =SUM(F26*K26) -> 1.8 | K26: 0.06
C27: PAIN COMPLET | F27: 25 | H27: =IF(I27<J27,0,I27) -> 0 | J27: =SUM(F27*K27) -> 1.25 | K27: 0.05
C28: PAIN DE MIE BRIOCHÉ | F28: 20 | H28: =IF(I28<J28,0,I28) -> 0 | J28: =SUM(F28*K28) -> 2 | K28: 0.1
C29: PAIN DE MIE | F29: 20 | H29: =IF(I29<J29,0,I29) -> 2 | I29: 2 | J29: =SUM(F29*K29) -> 2 | K29: 0.1
C30: PAIN DE MIE CÔTOISE | F30: 15 | H30: =IF(I30<J30,0,I30) -> 0 | J30: =SUM(F30*K30) -> 1.2 | K30: 0.08
C31: HAMBURGER | F31: 30 | H31: =IF(I31<J31,0,I31) -> 0 | J31: =SUM(F31*K31) -> 1.8 | K31: 0.06
C32: PAIN AU LAIT | F32: 20 | H32: =IF(I32<J32,0,I32) -> 0 | I32: 1 | J32: =SUM(F32*K32) -> 2 | K32: 0.1
C33: BOULE CÔTOISE | F33: 25 | H33: =IF(I33<J33,0,I33) -> 0 | I33: 1 | J33: =SUM(F33*K33) -> 2 | K33: 0.08
C34: BOULE GRAINES | F34: 25 | H34: =IF(I34<J34,0,I34) -> 0 | J34: =SUM(F34*K34) -> 2 | K34: 0.08
C35: BOULE NATURE | F35: 40 | H35: =IF(I35<J35,0,I35) -> 3 | I35: 3 | J35: =SUM(F35*K35) -> 2 | K35: 0.05
C36: PANINI | F36: 20 | H36: =IF(I36<J36,0,I36) -> 2 | I36: 2 | J36: =SUM(F36*K36) -> 2 | K36: 0.1
C37: PAN BAGNAT | F37: 10 | H37: =IF(I37<J37,0,I37) -> 0 | J37: =SUM(F37*K37) -> 2 | K37: 0.2
D43: PRODUCTION HORAIRE
D44: Entrez des valeurs de répartition globale de la production pour chaque horaire
D45: 6h00 | F45: 9h00 | H45: 11h00
D46: 0.38 | F46: 0.38 | H46: 0.24
D48: ROUGE : veuillez vérifier les valeurs indiquées, la somme doit être égale à 100%
D49: VERT : les valeurs sont valides
D52: PRODUCTION HORAIRE PARTICULIÈRE
D53: Entrez des valeurs de répartition de production pour chaque produit et chaque horaire
D54: produit | F54: 6h00 | G54: 9h00 | H54: 11h00
D55: HAMBURGER | G55: 1
D56: PANINI | G56: 0.5 | H56: 0.5
D57: PAN BAGNAT | F57: 1
D63: En cas de nouveaux produits concernés par une production horaire particulière
D64: contactez Nicolas pour la mise à jour du fichier.
D70: RÉPARTITION LIVRAISON
D71: Entrez des valeurs globales de répartition des livraisons pour chaque point de vente
...

Sheet PRODUCTION
B1: =TODAY() -> 44065 | F1: A PRODUIRE | I1: RÉÉL
F2: 6h00 | G2: 9h00 | H2: 11h00 | I2: 6h00 | J2: 9h00 | K2: 11h00
B3: RUSTIQUE | D3: =SUM(ADMINISTRATION!F20+ADMINISTRATION!G20-ADMINISTRATION!H20) -> 245 | F3: =ROUND(D3*ADMINISTRATION!$D$46,) -> 93 | G3: =ROUND(D3*ADMINISTRATION!$F$46,) -> 93 | H3: =SUM(D3-F3-G3) -> 59 | I3: 97 | J3: 95 | K3: 62 | L3: =SUM(I3:K3) -> 254
B4: CÔTOISE | D4: =SUM(ADMINISTRATION!F21+ADMINISTRATION!G21-ADMINISTRATION!H21) -> 210 | F4: =ROUND(D4*ADMINISTRATION!$D$46,) -> 80 | G4: =ROUND(D4*ADMINISTRATION!$F$46,) -> 80 | H4: =SUM(D4-F4-G4) -> 50 | I4: 77 | J4: 79 | K4: 49 | L4: =SUM(I4:K4) -> 205
B5: PARISIENNE | D5: =SUM(ADMINISTRATION!F22+ADMINISTRATION!G22-ADMINISTRATION!H22) -> 160 | F5: =ROUND(D5*ADMINISTRATION!$D$46,) -> 61 | G5: =ROUND(D5*ADMINISTRATION!$F$46,) -> 61 | H5: =SUM(D5-F5-G5) -> 38 | I5: 60 | J5: 58 | K5: 40 | L5: =SUM(I5:K5) -> 158
B6: RUST. GRAINES | D6: =SUM(ADMINISTRATION!F23+ADMINISTRATION!G23-ADMINISTRATION!H23) -> 131 | F6: =ROUND(D6*ADMINISTRATION!$D$46,) -> 50 | G6: =ROUND(D6*ADMINISTRATION!$F$46,) -> 50 | H6: =SUM(D6-F6-G6) -> 31 | I6: 51 | J6: 55 | K6: 33 | L6: =SUM(I6:K6) -> 139
B7: CHASSE | D7: =SUM(ADMINISTRATION!F24+ADMINISTRATION!G24-ADMINISTRATION!H24) -> 50 | F7: =ROUND(D7*ADMINISTRATION!$D$46,) -> 19 | G7: =ROUND(D7*ADMINISTRATION!$F$46,) -> 19 | H7: =SUM(D7-F7-G7) -> 12 | I7: 19 | J7: 20 | K7: 12 | L7: =SUM(I7:K7) -> 51
B8: NIÉBÉ | D8: =SUM(ADMINISTRATION!F25+ADMINISTRATION!G25-ADMINISTRATION!H25) -> 32 | F8: =ROUND(D8*ADMINISTRATION!$D$46,) -> 12 | G8: =ROUND(D8*ADMINISTRATION!$F$46,) -> 12 | H8: =SUM(D8-F8-G8) -> 8 | I8: 13 | J8: 12 | K8: 8 | L8: =SUM(I8:K8) -> 33
B9: LEVAIN | D9: =SUM(ADMINISTRATION!F26+ADMINISTRATION!G26-ADMINISTRATION!H26) -> 30 | F9: =ROUND(D9*ADMINISTRATION!$D$46,) -> 11 | G9: =ROUND(D9*ADMINISTRATION!$F$46,) -> 11 | H9: =SUM(D9-F9-G9) -> 8 | I9: 11 | J9: 11 | K9: 6 | L9: =SUM(I9:K9) -> 28
B10: COMPLET | D10: =SUM(ADMINISTRATION!F27+ADMINISTRATION!G27-ADMINISTRATION!H27) -> 25 | F10: =ROUND(D10*ADMINISTRATION!$D$46,) -> 10 | G10: =ROUND(D10*ADMINISTRATION!$F$46,) -> 10 | H10: =SUM(D10-F10-G10) -> 5 | I10: 9 | J10: 10 | K10: 5 | L10: =SUM(I10:K10) -> 24
B11: MIE BRIOCHÉ | D11: =SUM(ADMINISTRATION!F28+ADMINISTRATION!G28-ADMINISTRATION!H28) -> 20 | F11: =ROUND(D11*ADMINISTRATION!$D$46,) -> 8 | G11: =ROUND(D11*ADMINISTRATION!$F$46,) -> 8 | H11: =SUM(D11-F11-G11) -> 4 | I11: 7 | J11: 7 | K11: 5 | L11: =SUM(I11:K11) -> 19
B12: PAIN DE MIE | D12: =SUM(ADMINISTRATION!F29+ADMINISTRATION!G29-ADMINISTRATION!H29) -> 18 | F12: =ROUND(D12*ADMINISTRATION!$D$46,) -> 7 | G12: =ROUND(D12*ADMINISTRATION!$F$46,) -> 7 | H12: =SUM(D12-F12-G12) -> 4 | I12: 6 | J12: 6 | K12: 5 | L12: =SUM(I12:K12) -> 17
B13: MIE CÔTOISE | D13: =SUM(ADMINISTRATION!F30+ADMINISTRATION!G30-ADMINISTRATION!H30) -> 15 | F13: =ROUND(D13*ADMINISTRATION!$D$46,) -> 6 | G13: =ROUND(D13*ADMINISTRATION!$F$46,) -> 6 | H13: =SUM(D13-F13-G13) -> 3 | I13: 6 | J13: 6 | K13: 3 | L13: =SUM(I13:K13) -> 15
B14: HAMBURGER | D14: =SUM(ADMINISTRATION!F31+ADMINISTRATION!G31-ADMINISTRATION!H31) -> 30 | F14: =ROUND(D14*ADMINISTRATION!F55,) -> 0 | G14: =ROUND(D14*ADMINISTRATION!G55,) -> 30 | H14: =SUM(D14-F14-G14) -> 0 | I14: 0 | J14: 32 | K14: 0 | L14: =SUM(I14:K14) -> 32
B15: PAIN AU LAIT | D15: =SUM(ADMINISTRATION!F32+ADMINISTRATION!G32-ADMINISTRATION!H32) -> 20 | F15: =ROUND(D15*ADMINISTRATION!$D$46,) -> 8 | G15: =ROUND(D15*ADMINISTRATION!$F$46,) -> 8 | H15: =SUM(D15-F15-G15) -> 4 | I15: 8 | J15: 8 | K15: 5 | L15: =SUM(I15:K15) -> 21
B16: BOULE CÔTOISE | D16: =SUM(ADMINISTRATION!F33+ADMINISTRATION!G33-ADMINISTRATION!H33) -> 25 | F16: =ROUND(D16*ADMINISTRATION!$D$46,) -> 10 | G16: =ROUND(D16*ADMINISTRATION!$F$46,) -> 10 | H16: =SUM(D16-F16-G16) -> 5 | I16: 10 | J16: 9 | K16: 5 | L16: =SUM(I16:K16) -> 24
B17: BOULE GRAINES | D17: =SUM(ADMINISTRATION!F34+ADMINISTRATION!G34-ADMINISTRATION!H34) -> 25 | F17: =ROUND(D17*ADMINISTRATION!$D$46,) -> 10 | G17: =ROUND(D17*ADMINISTRATION!$F$46,) -> 10 | H17: =SUM(D17-F17-G17) -> 5 | I17: 11 | J17: 10 | K17: 5 | L17: =SUM(I17:K17) -> 26
B18: BOULE NATURE | D18: =SUM(ADMINISTRATION!F35+ADMINISTRATION!G35-ADMINISTRATION!H35) -> 37 | F18: =ROUND(D18*ADMINISTRATION!$D$46,) -> 14 | G18: =ROUND(D18*ADMINISTRATION!$F$46,) -> 14 | H18: =SUM(D18-F18-G18) -> 9 | I18: 14 | J18: 12 | K18: 10 | L18: =SUM(I18:K18) -> 36
B19: PANINI | D19: =SUM(ADMINISTRATION!F36+ADMINISTRATION!G36-ADMINISTRATION!H36) -> 18 | F19: =ROUND(D19*ADMINISTRATION!F56,) -> 0 | G19: =ROUND(D19*ADMINISTRATION!G56,) -> 9 | H19: =SUM(D19-F19-G19) -> 9 | I19: 0 | J19: 9 | K19: 9 | L19: =SUM(I19:K19) -> 18
B20: PAN BAGNAT | D20: =SUM(ADMINISTRATION!F37+ADMINISTRATION!G37-ADMINISTRATION!H37) -> 10 | F20: =ROUND(D20*ADMINISTRATION!F57,) -> 10 | G20: =ROUND(D20*ADMINISTRATION!G57,) -> 0 | H20: =SUM(D20-F20-G20) -> 0 | I20: 10 | K20: 0 | L20: =SUM(I20:K20) -> 10

Sheet LIVRAISON
B1: =TODAY() -> 44065 | F1: 6h00 | J1: 9h00 | N1: 11h00 | R1: ROYAM | U1: ROYAL SALY
F2: NGAP | G2: SALY | H2: SOM | J2: NGAP | K2: SALY | L2: SOM | N2: NGAP | O2: SALY | P2: SOM | R2: 6h | S2: 11h | T2: 16h | U2: 6h | V2: 11h | W2: 16h
B3: RUSTIQUE | D3: =SUM(PRODUCTION!L3) -> 254 | F3: =SUM(PRODUCTION!I3-G3-H3-R3-U3) -> 54 | G3: =ROUND(PRODUCTION!I3*ADMINISTRATION!$F$73,) -> 23 | H3: =ROUND(PRODUCTION!I3*ADMINISTRATION!$H$73,) -> 20 | J3: =SUM(PRODUCTION!J3-K3-L3) -> 52 | K3: =ROUND(PRODUCTION!J3*ADMINISTRATION!$F$73,) -> 23 | L3: =ROUND(PRODUCTION!J3*ADMINISTRATION!$H$73,) -> 20 | N3: =SUM(PRODUCTION!K3-O3-P3-S3-T3-V3-W3) -> 34 | O3: =ROUND(PRODUCTION!K3*ADMINISTRATION!$F$73,) -> 15 | P3: =ROUND(PRODUCTION!K3*ADMINISTRATION!$H$73,) -> 13
B4: CÔTOISE | D4: =SUM(PRODUCTION!L4) -> 205 | F4: =SUM(PRODUCTION!I4-G4-H4-R4-U4) -> 43 | G4: =ROUND(PRODUCTION!I4*ADMINISTRATION!$F$73,) -> 18 | H4: =ROUND(PRODUCTION!I4*ADMINISTRATION!$H$73,) -> 16 | J4: =SUM(PRODUCTION!J4-K4-L4) -> 43 | K4: =ROUND(PRODUCTION!J4*ADMINISTRATION!$F$73,) -> 19 | L4: =ROUND(PRODUCTION!J4*ADMINISTRATION!$H$73,) -> 17 | N4: =SUM(PRODUCTION!K4-O4-P4-S4-T4-V4-W4) -> 27 | O4: =ROUND(PRODUCTION!K4*ADMINISTRATION!$F$73,) -> 12 | P4: =ROUND(PRODUCTION!K4*ADMINISTRATION!$H$73,) -> 10
B5: PARISIENNE | D5: =SUM(PRODUCTION!L5) -> 158 | F5: =SUM(PRODUCTION!I5-G5-H5-R5-U5) -> 33 | G5: =ROUND(PRODUCTION!I5*ADMINISTRATION!$F$73,) -> 14 | H5: =ROUND(PRODUCTION!I5*ADMINISTRATION!$H$73,) -> 13 | J5: =SUM(PRODUCTION!J5-K5-L5) -> 32 | K5: =ROUND(PRODUCTION!J5*ADMINISTRATION!$F$73,) -> 14 | L5: =ROUND(PRODUCTION!J5*ADMINISTRATION!$H$73,) -> 12 | N5: =SUM(PRODUCTION!K5-O5-P5-S5-T5-V5-W5) -> 22 | O5: =ROUND(PRODUCTION!K5*ADMINISTRATION!$F$73,) -> 10 | P5: =ROUND(PRODUCTION!K5*ADMINISTRATION!$H$73,) -> 8
B6: RUSTIQUE GRAINES | D6: =SUM(PRODUCTION!L6) -> 139 | F6: =SUM(PRODUCTION!I6-G6-H6-R6-U6) -> 28 | G6: =ROUND(PRODUCTION!I6*ADMINISTRATION!$F$73,) -> 12 | H6: =ROUND(PRODUCTION!I6*ADMINISTRATION!$H$73,) -> 11 | J6: =SUM(PRODUCTION!J6-K6-L6) -> 30 | K6: =ROUND(PRODUCTION!J6*ADMINISTRATION!$F$73,) -> 13 | L6: =ROUND(PRODUCTION!J6*ADMINISTRATION!$H$73,) -> 12 | N6: =SUM(PRODUCTION!K6-O6-P6-S6-T6-V6-W6) -> 18 | O6: =ROUND(PRODUCTION!K6*ADMINISTRATION!$F$73,) -> 8 | P6: =ROUND(PRODUCTION!K6*ADMINISTRATION!$H$73,) -> 7
B7: CHASSE | D7: =SUM(PRODUCTION!L7) -> 51 | F7: =SUM(PRODUCTION!I7-G7-H7-R7-U7) -> 10 | G7: =ROUND(PRODUCTION!I7*ADMINISTRATION!$F$73,) -> 5 | H7: =ROUND(PRODUCTION!I7*ADMINISTRATION!$H$73,) -> 4 | J7: =SUM(PRODUCTION!J7-K7-L7) -> 11 | K7: =ROUND(PRODUCTION!J7*ADMINISTRATION!$F$73,) -> 5 | L7: =ROUND(PRODUCTION!J7*ADMINISTRATION!$H$73,) -> 4 | N7: =SUM(PRODUCTION!K7-O7-P7-S7-T7-V7-W7) -> 6 | O7: =ROUND(PRODUCTION!K7*ADMINISTRATION!$F$73,) -> 3 | P7: =ROUND(PRODUCTION!K7*ADMINISTRATION!$H$73,) -> 3
B8: NIÉBÉ | D8: =SUM(PRODUCTION!L8) -> 33 | F8: =SUM(PRODUCTION!I8-G8-H8-R8-U8) -> 7 | G8: =ROUND(PRODUCTION!I8*ADMINISTRATION!$F$73,) -> 3 | H8: =ROUND(PRODUCTION!I8*ADMINISTRATION!$H$73,) -> 3 | J8: =SUM(PRODUCTION!J8-K8-L8) -> 6 | K8: =ROUND(PRODUCTION!J8*ADMINISTRATION!$F$73,) -> 3 | L8: =ROUND(PRODUCTION!J8*ADMINISTRATION!$H$73,) -> 3 | N8: =SUM(PRODUCTION!K8-O8-P8-S8-T8-V8-W8) -> 4 | O8: =ROUND(PRODUCTION!K8*ADMINISTRATION!$F$73,) -> 2 | P8: =ROUND(PRODUCTION!K8*ADMINISTRATION!$H$73,) -> 2
B9: LEVAIN | D9: =SUM(PRODUCTION!L9) -> 28 | F9: =SUM(PRODUCTION!I9-G9-H9-R9-U9) -> 6 | G9: =ROUND(PRODUCTION!I9*ADMINISTRATION!$F$73,) -> 3 | H9: =ROUND(PRODUCTION!I9*ADMINISTRATION!$H$73,) -> 2 | J9: =SUM(PRODUCTION!J9-K9-L9) -> 6 | K9: =ROUND(PRODUCTION!J9*ADMINISTRATION!$F$73,) -> 3 | L9: =ROUND(PRODUCTION!J9*ADMINISTRATION!$H$73,) -> 2 | N9: =SUM(PRODUCTION!K9-O9-P9-S9-T9-V9-W9) -> 4 | O9: =ROUND(PRODUCTION!K9*ADMINISTRATION!$F$73,) -> 1 | P9: =ROUND(PRODUCTION!K9*ADMINISTRATION!$H$73,) -> 1
B10: COMPLET | D10: =SUM(PRODUCTION!L10) -> 24 | F10: =SUM(PRODUCTION!I10-G10-H10-R10-U10) -> 5 | G10: =ROUND(PRODUCTION!I10*ADMINISTRATION!$F$73,) -> 2 | H10: =ROUND(PRODUCTION!I10*ADMINISTRATION!$H$73,) -> 2 | J10: =SUM(PRODUCTION!J10-K10-L10) -> 6 | K10: =ROUND(PRODUCTION!J10*ADMINISTRATION!$F$73,) -> 2 | L10: =ROUND(PRODUCTION!J10*ADMINISTRATION!$H$73,) -> 2 | N10: =SUM(PRODUCTION!K10-O10-P10-S10-T10-V10-W10) -> 3 | O10: =ROUND(PRODUCTION!K10*ADMINISTRATION!$F$73,) -> 1 | P10: =ROUND(PRODUCTION!K10*ADMINISTRATION!$H$73,) -> 1
B11: MIE BRIOCHÉ | D11: =SUM(PRODUCTION!L11) -> 19 | F11: =SUM(PRODUCTION!I11-G11-H11-R11-U11) -> 4 | G11: =ROUND(PRODUCTION!I11*ADMINISTRATION!$F$73,) -> 2 | H11: =ROUND(PRODUCTION!I11*ADMINISTRATION!$H$73,) -> 1 | J11: =SUM(PRODUCTION!J11-K11-L11) -> 4 | K11: =ROUND(PRODUCTION!J11*ADMINISTRATION!$F$73,) -> 2 | L11: =ROUND(PRODUCTION!J11*ADMINISTRATION!$H$73,) -> 1 | N11: =SUM(PRODUCTION!K11-O11-P11-S11-T11-V11-W11) -> 3 | O11: =ROUND(PRODUCTION!K11*ADMINISTRATION!$F$73,) -> 1 | P11: =ROUND(PRODUCTION!K11*ADMINISTRATION!$H$73,) -> 1
B12: PAIN DE MIE | D12: =SUM(PRODUCTION!L12) -> 17 | F12: =SUM(PRODUCTION!I12-G12-H12-R12-U12) -> 4 | G12: =ROUND(PRODUCTION!I12*ADMINISTRATION!$F$73,) -> 1 | H12: =ROUND(PRODUCTION!I12*ADMINISTRATION!$H$73,) -> 1 | J12: =SUM(PRODUCTION!J12-K12-L12) -> 4 | K12: =ROUND(PRODUCTION!J12*ADMINISTRATION!$F$73,) -> 1 | L12: =ROUND(PRODUCTION!J12*ADMINISTRATION!$H$73,) -> 1 | N12: =SUM(PRODUCTION!K12-O12-P12-S12-T12-V12-W12) -> 3 | O12: =ROUND(PRODUCTION!K12*ADMINISTRATION!$F$73,) -> 1 | P12: =ROUND(PRODUCTION!K12*ADMINISTRATION!$H$73,) -> 1
B13: MIE CÔTOISE | D13: =SUM(PRODUCTION!L13) -> 15 | F13: =SUM(PRODUCTION!I13-G13-H13-R13-U13) -> 4 | G13: =ROUND(PRODUCTION!I13*ADMINISTRATION!$F$73,) -> 1 | H13: =ROUND(PRODUCTION!I13*ADMINISTRATION!$H$73,) -> 1 | J13: =SUM(PRODUCTION!J13-K13-L13) -> 4 | K13: =ROUND(PRODUCTION!J13*ADMINISTRATION!$F$73,) -> 1 | L13: =ROUND(PRODUCTION!J13*ADMINISTRATION!$H$73,) -> 1 | N13: =SUM(PRODUCTION!K13-O13-P13-S13-T13-V13-W13) -> 1 | O13: =ROUND(PRODUCTION!K13*ADMINISTRATION!$F$73,) -> 1 | P13: =ROUND(PRODUCTION!K13*ADMINISTRATION!$H$73,) -> 1
B14: HAMBURGER | D14: =SUM(PRODUCTION!L14) -> 32 | F14: =SUM(PRODUCTION!I14-G14-H14-R14-U14) -> 0 | G14: =ROUND(PRODUCTION!F14*ADMINISTRATION!$G82,) -> 0 | H14: =ROUND(PRODUCTION!F14*ADMINISTRATION!$H82,) -> 0 | J14: =SUM(PRODUCTION!J14-K14-L14) -> 16 | K14: =ROUND(PRODUCTION!J14*ADMINISTRATION!$G82,) -> 11 | L14: =ROUND(PRODUCTION!J14*ADMINISTRATION!$H82,) -> 5 | N14: =SUM(PRODUCTION!K14-O14-P14-S14-T14-V14-W14) -> 0 | O14: =ROUND(PRODUCTION!N14*ADMINISTRATION!$G82,) -> 0 | P14: =ROUND(PRODUCTION!N14*ADMINISTRATION!$H82,) -> 0
B15: PAIN AU LAIT | D15: =SUM(PRODUCTION!L15) -> 21 | F15: =SUM(PRODUCTION!I15-G15-H15-R15-U15) -> 4 | G15: =ROUND(PRODUCTION!I15*ADMINISTRATION!$F$73,) -> 2 | H15: =ROUND(PRODUCTION!I15*ADMINISTRATION!$H$73,) -> 2 | J15: =SUM(PRODUCTION!J15-K15-L15) -> 4 | K15: =ROUND(PRODUCTION!J15*ADMINISTRATION!$F$73,) -> 2 | L15: =ROUND(PRODUCTION!J15*ADMINISTRATION!$H$73,) -> 2 | N15: =SUM(PRODUCTION!K15-O15-P15-S15-T15-V15-W15) -> 3 | O15: =ROUND(PRODUCTION!K15*ADMINISTRATION!$F$73,) -> 1 | P15: =ROUND(PRODUCTION!K15*ADMINISTRATION!$H$73,) -> 1
B16: BOULE CÔTOISE | D16: =SUM(PRODUCTION!L16) -> 24 | F16: =SUM(PRODUCTION!I16-G16-H16-R16-U16) -> 6 | G16: =ROUND(PRODUCTION!I16*ADMINISTRATION!$F$73,) -> 2 | H16: =ROUND(PRODUCTION!I16*ADMINISTRATION!$H$73,) -> 2 | J16: =SUM(PRODUCTION!J16-K16-L16) -> 5 | K16: =ROUND(PRODUCTION!J16*ADMINISTRATION!$F$73,) -> 2 | L16: =ROUND(PRODUCTION!J16*ADMINISTRATION!$H$73,) -> 2 | N16: =SUM(PRODUCTION!K16-O16-P16-S16-T16-V16-W16) -> 3 | O16: =ROUND(PRODUCTION!K16*ADMINISTRATION!$F$73,) -> 1 | P16: =ROUND(PRODUCTION!K16*ADMINISTRATION!$H$73,) -> 1
B17: BOULE GRAINES | D17: =SUM(PRODUCTION!L17) -> 26 | F17: =SUM(PRODUCTION!I17-G17-H17-R17-U17) -> 6 | G17: =ROUND(PRODUCTION!I17*ADMINISTRATION!$F$73,) -> 3 | H17: =ROUND(PRODUCTION!I17*ADMINISTRATION!$H$73,) -> 2 | J17: =SUM(PRODUCTION!J17-K17-L17) -> 6 | K17: =ROUND(PRODUCTION!J17*ADMINISTRATION!$F$73,) -> 2 | L17: =ROUND(PRODUCTION!J17*ADMINISTRATION!$H$73,) -> 2 | N17: =SUM(PRODUCTION!K17-O17-P17-S17-T17-V17-W17) -> 3 | O17: =ROUND(PRODUCTION!K17*ADMINISTRATION!$F$73,) -> 1 | P17: =ROUND(PRODUCTION!K17*ADMINISTRATION!$H$73,) -> 1
B18: BOULE NATURE | D18: =SUM(PRODUCTION!L18) -> 36 | F18: =SUM(PRODUCTION!I18-G18-H18-R18-U18) -> 8 | G18: =ROUND(PRODUCTION!I18*ADMINISTRATION!$F$73,) -> 3 | H18: =ROUND(PRODUCTION!I18*ADMINISTRATION!$H$73,) -> 3 | J18: =SUM(PRODUCTION!J18-K18-L18) -> 6 | K18: =ROUND(PRODUCTION!J18*ADMINISTRATION!$F$73,) -> 3 | L18: =ROUND(PRODUCTION!J18*ADMINISTRATION!$H$73,) -> 3 | N18: =SUM(PRODUCTION!K18-O18-P18-S18-T18-V18-W18) -> 6 | O18: =ROUND(PRODUCTION!K18*ADMINISTRATION!$F$73,) -> 2 | P18: =ROUND(PRODUCTION!K18*ADMINISTRATION!$H$73,) -> 2
B19: PANINI | D19: =SUM(PRODUCTION!L19) -> 18 | F19: =SUM(PRODUCTION!I19-G19-H19-R19-U19) -> 0 | G19: =ROUND(PRODUCTION!I19*ADMINISTRATION!$G83,) -> 0 | H19: =ROUND(PRODUCTION!I19*ADMINISTRATION!$H83,) -> 0 | J19: =SUM(PRODUCTION!J19-K19-L19) -> 5 | K19: =ROUND(PRODUCTION!J19*ADMINISTRATION!$G83,) -> 4 | L19: =ROUND(PRODUCTION!K19*ADMINISTRATION!$H83,) -> 0 | N19: =SUM(PRODUCTION!K19-O19-P19-S19-T19-V19-W19) -> 5 | O19: =ROUND(PRODUCTION!J19*ADMINISTRATION!$G83,) -> 4 | P19: =ROUND(PRODUCTION!K19*ADMINISTRATION!$H83,) -> 0
B20: PAN BAGNAT | D20: =SUM(PRODUCTION!L20) -> 10 | F20: =SUM(PRODUCTION!I20-G20-H20-R20-U20) -> 0 | G20: =ROUND(PRODUCTION!I20*ADMINISTRATION!$G84,) -> 10 | H20: =ROUND(PRODUCTION!I20*ADMINISTRATION!$H84,) -> 0 | J20: =SUM(PRODUCTION!J20-K20-L20) -> 0 | K20: =ROUND(PRODUCTION!J20*ADMINISTRATION!$G84,) -> 0 | L20: =ROUND(PRODUCTION!K20*ADMINISTRATION!$H84,) -> 0 | N20: =SUM(PRODUCTION!K20-O20-P20-S20-T20-V20-W20) -> 0 | O20: =ROUND(PRODUCTION!J20*ADMINISTRATION!$G84,) -> 0 | P20: =ROUND(PRODUCTION!K20*ADMINISTRATION!$H84,) -> 0
