Workbook

Sheet SF1 CDtc
A1: Classe | C1: Cycle: | G1: Endurance | Q1: AS: 2019/2020 | AB1: Abs=35
A2: N° | B2: TCSF-1 | C2: Contrôle-Assiduité-Evaluation | Q2: Evaluation | U2: Note Finale | AB2: Ab=10
C3: Séance | E3: S1 | F3: S2 | G3: S3 | H3: S4 | I3: S5 | J3: S6 | K3: S7 | L3: S8 | M3: S9 | N3: S 10 | O3: S 11 | P3: S 12 | Q3: Conn. Comp. (5) | R3: Conn. Conc. (3) | S3: Conn. Proc (12) | AB3: Art=7
C4: D= | D4: =COUNTIFS(D7:D51,"=D") -> 0 | E4: 43731 | F4: 43733 | G4: =E4+7 -> 43738 | H4: =F4+7 -> 43740 | I4: =G4+7 -> 43745 | J4: =H4+7 -> 43747 | K4: =I4+7 -> 43752 | L4: =J4+7 -> 43754 | M4: =K4+7 -> 43759 | N4: =L4+7 -> 43761 | ... P4: =N4+7 -> 43768 | S4: Comp. Motr. | T4: Hab. Motrc. | U4: /20 | AJ4: 3 et < | AK4: Entre 4 et 6 | AL4: 7 et >
B5: Nom | C5: G= | D5: =COUNTIFS(D7:D51,"=G") -> 14 | V5: Assiduité | Z5: N° | AA5: Nom | AB5: Test 1 | AC5: Test 2 | AD5: Test 3 | AE5: Meilleur TG | AF5: Meilleur TF | AG5: Nt Hab Mot | AH5: Palier au test | AJ5: =SUM(AJ7:AJ46) -> 19 | AK5: =SUM(AK7:AK46) -> 10 | AL5: =SUM(AL7:AL46) -> 4
B6: Prénom | C6: F= | D6: =COUNTIFS(D7:D51,"=F") -> 16 | Q6: /5 | R6: /3 | S6: /6 | T6: /6 | V6: A | W6: R | X6: T | Y6: M
A7: 1 | D7: G | Q7: =IF(D7<>"D",IF(X7<=2,5-(V7*0.5),5-(((V7*0.5)+((X7-2)*0.5)))),"D") -> 5 | S7: 5 | T7: =AG7 -> 5.39 | U7: =IF(D7<>"D",SUM(Q7:T7),"Disp.") -> 15.39 | V7: =COUNTIFS(E7:P7,"=A") -> 0 | W7: =COUNTIFS(E7:P7,"=R") -> 0 | X7: =COUNTIFS(E7:P7,"=T") -> 0 | Y7: =COUNTIFS(E7:P7,"=M") -> 0 | Z7: 1 | AA7: =B7 -> 0 | AB7: 4.31 | AC7: 3.45 | AE7: =IF(D7="D",100,(MIN(AB7:AD7))) -> 3.45 | AF7: =IF(D7="F",MIN(AB7:AD7),"X") -> X | AG7: =ROUND(IF(D7="G",((TC!$G$1/AE7)*6),IF(D7="F",((TC!$G$2/AE7)*6),"0")),2) -> 5.39 | AH7: 4 | AJ7: =IF(AH7<=3,1,0) -> 0 | AK7: =IF(AND(AH7>=4,AH7<=6),1,0) -> 1 | AL7: =IF(AH7>=7,1,0) -> 0
A8: 2 | D8: G | Q8: =IF(D8<>"D",IF(X8<=2,5-(V8*0.5),5-(((V8*0.5)+((X8-2)*0.5)))),"D") -> 5 | S8: 5 | T8: =AG8 -> 5.45 | U8: =IF(D8<>"D",SUM(Q8:T8),"Disp.") -> 15.45 | V8: =COUNTIFS(E8:P8,"=A") -> 0 | W8: =COUNTIFS(E8:P8,"=R") -> 0 | X8: =COUNTIFS(E8:P8,"=T") -> 0 | Y8: =COUNTIFS(E8:P8,"=M") -> 0 | Z8: 2 | AA8: =B8 -> 0 | AB8: 3.53 | AC8: 3.41 | AE8: =IF(D8="D",100,(MIN(AB8:AD8))) -> 3.41 | AF8: =IF(D8="F",MIN(AB8:AD8),"X") -> X | AG8: =ROUND(IF(D8="G",((TC!$G$1/AE8)*6),IF(D8="F",((TC!$G$2/AE8)*6),"0")),2) -> 5.45 | AH8: 5 | AJ8: =IF(AH8<=3,1,0) -> 0 | AK8: =IF(AND(AH8>=4,AH8<=6),1,0) -> 1 | AL8: =IF(AH8>=7,1,0) -> 0
A9: 3 | D9: G | Q9: =IF(D9<>"D",IF(X9<=2,5-(V9*0.5),5-(((V9*0.5)+((X9-2)*0.5)))),"D") -> 5 | S9: 5 | T9: =AG9 -> 5.2 | U9: =IF(D9<>"D",SUM(Q9:T9),"Disp.") -> 15.2 | V9: =COUNTIFS(E9:P9,"=A") -> 0 | W9: =COUNTIFS(E9:P9,"=R") -> 0 | X9: =COUNTIFS(E9:P9,"=T") -> 0 | Y9: =COUNTIFS(E9:P9,"=M") -> 0 | Z9: 3 | AA9: =B9 -> 0 | AB9: 35 | AC9: 3.58 | AE9: =IF(D9="D",100,(MIN(AB9:AD9))) -> 3.58 | AF9: =IF(D9="F",MIN(AB9:AD9),"X") -> X | AG9: =ROUND(IF(D9="G",((TC!$G$1/AE9)*6),IF(D9="F",((TC!$G$2/AE9)*6),"0")),2) -> 5.2 | AH9: 4 | AJ9: =IF(AH9<=3,1,0) -> 0 | AK9: =IF(AND(AH9>=4,AH9<=6),1,0) -> 1 | AL9: =IF(AH9>=7,1,0) -> 0
A10: 4 | D10: G | Q10: =IF(D10<>"D",IF(X10<=2,5-(V10*0.5),5-(((V10*0.5)+((X10-2)*0.5)))),"D") -> 5 | R10: 2 | S10: 5 | T10: =AG10 -> 5.78 | U10: =IF(D10<>"D",SUM(Q10:T10),"Disp.") -> 17.78 | V10: =COUNTIFS(E10:P10,"=A") -> 0 | W10: =COUNTIFS(E10:P10,"=R") -> 0 | X10: =COUNTIFS(E10:P10,"=T") -> 0 | Y10: =COUNTIFS(E10:P10,"=M") -> 0 | Z10: 4 | AA10: =B10 -> 0 | AB10: 3.23 | AC10: 3.22 | AE10: =IF(D10="D",100,(MIN(AB10:AD10))) -> 3.22 | AF10: =IF(D10="F",MIN(AB10:AD10),"X") -> X | AG10: =ROUND(IF(D10="G",((TC!$G$1/AE10)*6),IF(D10="F",((TC!$G$2/AE10)*6),"0")),2) -> 5.78 | AH10: 7 | AJ10: =IF(AH10<=3,1,0) -> 0 | AK10: =IF(AND(AH10>=4,AH10<=6),1,0) -> 0 | AL10: =IF(AH10>=7,1,0) -> 1
A11: 5 | D11: G | Q11: =IF(D11<>"D",IF(X11<=2,5-(V11*0.5),5-(((V11*0.5)+((X11-2)*0.5)))),"D") -> 5 | S11: 5 | T11: =AG11 -> 5.25 | U11: =IF(D11<>"D",SUM(Q11:T11),"Disp.") -> 15.25 | V11: =COUNTIFS(E11:P11,"=A") -> 0 | W11: =COUNTIFS(E11:P11,"=R") -> 0 | X11: =COUNTIFS(E11:P11,"=T") -> 0 | Y11: =COUNTIFS(E11:P11,"=M") -> 0 | Z11: 5 | AA11: =B11 -> 0 | AB11: 4.07 | AC11: 3.54 | AE11: =IF(D11="D",100,(MIN(AB11:AD11))) -> 3.54 | AF11: =IF(D11="F",MIN(AB11:AD11),"X") -> X | AG11: =ROUND(IF(D11="G",((TC!$G$1/AE11)*6),IF(D11="F",((TC!$G$2/AE11)*6),"0")),2) -> 5.25 | AH11: 4 | AJ11: =IF(AH11<=3,1,0) -> 0 | AK11: =IF(AND(AH11>=4,AH11<=6),1,0) -> 1 | AL11: =IF(AH11>=7,1,0) -> 0
A12: 6 | D12: G | Q12: =IF(D12<>"D",IF(X12<=2,5-(V12*0.5),5-(((V12*0.5)+((X12-2)*0.5)))),"D") -> 5 | R12: 3 | S12: 5 | T12: =AG12 -> 5.69 | U12: =IF(D12<>"D",SUM(Q12:T12),"Disp.") -> 18.69 | V12: =COUNTIFS(E12:P12,"=A") -> 0 | W12: =COUNTIFS(E12:P12,"=R") -> 0 | X12: =COUNTIFS(E12:P12,"=T") -> 0 | Y12: =COUNTIFS(E12:P12,"=M") -> 0 | Z12: 6 | AA12: =B12 -> 0 | AB12: 3.43 | AC12: 3.27 | AE12: =IF(D12="D",100,(MIN(AB12:AD12))) -> 3.27 | AF12: =IF(D12="F",MIN(AB12:AD12),"X") -> X | AG12: =ROUND(IF(D12="G",((TC!$G$1/AE12)*6),IF(D12="F",((TC!$G$2/AE12)*6),"0")),2) -> 5.69 | AH12: 7 | AJ12: =IF(AH12<=3,1,0) -> 0 | AK12: =IF(AND(AH12>=4,AH12<=6),1,0) -> 0 | AL12: =IF(AH12>=7,1,0) -> 1
A13: 7 | D13: G | Q13: =IF(D13<>"D",IF(X13<=2,5-(V13*0.5),5-(((V13*0.5)+((X13-2)*0.5)))),"D") -> 5 | R13: 3 | S13: 5 | T13: =AG13 -> 5.69 | U13: =IF(D13<>"D",SUM(Q13:T13),"Disp.") -> 18.69 | V13: =COUNTIFS(E13:P13,"=A") -> 0 | W13: =COUNTIFS(E13:P13,"=R") -> 0 | X13: =COUNTIFS(E13:P13,"=T") -> 0 | Y13: =COUNTIFS(E13:P13,"=M") -> 0 | Z13: 7 | AA13: =B13 -> 0 | AB13: 3.38 | AC13: 3.27 | AE13: =IF(D13="D",100,(MIN(AB13:AD13))) -> 3.27 | AF13: =IF(D13="F",MIN(AB13:AD13),"X") -> X | AG13: =ROUND(IF(D13="G",((TC!$G$1/AE13)*6),IF(D13="F",((TC!$G$2/AE13)*6),"0")),2) -> 5.69 | AH13: 4 | AJ13: =IF(AH13<=3,1,0) -> 0 | AK13: =IF(AND(AH13>=4,AH13<=6),1,0) -> 1 | AL13: =IF(AH13>=7,1,0) -> 0
A14: 8 | D14: F | Q14: =IF(D14<>"D",IF(X14<=2,5-(V14*0.5),5-(((V14*0.5)+((X14-2)*0.5)))),"D") -> 5 | S14: 5 | T14: =AG14 -> 3.75 | U14: =IF(D14<>"D",SUM(Q14:T14),"Disp.") -> 13.75 | V14: =COUNTIFS(E14:P14,"=A") -> 0 | W14: =COUNTIFS(E14:P14,"=R") -> 0 | X14: =COUNTIFS(E14:P14,"=T") -> 0 | Y14: =COUNTIFS(E14:P14,"=M") -> 0 | Z14: 8 | AA14: =B14 -> 0 | AB14: 3.34 | AE14: =IF(D14="D",100,(MIN(AB14:AD14))) -> 3.34 | AF14: =IF(D14="F",MIN(AB14:AD14),"X") -> 3.34 | AG14: =ROUND(IF(D14="G",((TC!$G$1/AE14)*6),IF(D14="F",((TC!$G$2/AE14)*6),"0")),2) -> 3.75 | AH14: 3 | AJ14: =IF(AH14<=3,1,0) -> 1 | AK14: =IF(AND(AH14>=4,AH14<=6),1,0) -> 0 | AL14: =IF(AH14>=7,1,0) -> 0
A15: 9 | D15: G | Q15: =IF(D15<>"D",IF(X15<=2,5-(V15*0.5),5-(((V15*0.5)+((X15-2)*0.5)))),"D") -> 5 | R15: 2 | S15: 5 | T15: =AG15 -> 5.2 | U15: =IF(D15<>"D",SUM(Q15:T15),"Disp.") -> 17.2 | V15: =COUNTIFS(E15:P15,"=A") -> 0 | W15: =COUNTIFS(E15:P15,"=R") -> 0 | X15: =COUNTIFS(E15:P15,"=T") -> 0 | Y15: =COUNTIFS(E15:P15,"=M") -> 0 | Z15: 9 | AA15: =B15 -> 0 | AB15: 4.04 | AC15: 3.58 | AE15: =IF(D15="D",100,(MIN(AB15:AD15))) -> 3.58 | AF15: =IF(D15="F",MIN(AB15:AD15),"X") -> X | AG15: =ROUND(IF(D15="G",((TC!$G$1/AE15)*6),IF(D15="F",((TC!$G$2/AE15)*6),"0")),2) -> 5.2 | AH15: 4 | AJ15: =IF(AH15<=3,1,0) -> 0 | AK15: =IF(AND(AH15>=4,AH15<=6),1,0) -> 1 | AL15: =IF(AH15>=7,1,0) -> 0
A16: 10 | D16: F | Q16: =IF(D16<>"D",IF(X16<=2,5-(V16*0.5),5-(((V16*0.5)+((X16-2)*0.5)))),"D") -> 5 | R16: 3 | S16: 5 | T16: =AG16 -> 5.04 | U16: =IF(D16<>"D",SUM(Q16:T16),"Disp.") -> 18.04 | V16: =COUNTIFS(E16:P16,"=A") -> 0 | W16: =COUNTIFS(E16:P16,"=R") -> 0 | X16: =COUNTIFS(E16:P16,"=T") -> 0 | Y16: =COUNTIFS(E16:P16,"=M") -> 0 | Z16: 10 | AA16: =B16 -> 0 | AB16: 2.49 | AE16: =IF(D16="D",100,(MIN(AB16:AD16))) -> 2.49 | AF16: =IF(D16="F",MIN(AB16:AD16),"X") -> 2.49 | AG16: =ROUND(IF(D16="G",((TC!$G$1/AE16)*6),IF(D16="F",((TC!$G$2/AE16)*6),"0")),2) -> 5.04 | AH16: 3 | AJ16: =IF(AH16<=3,1,0) -> 1 | AK16: =IF(AND(AH16>=4,AH16<=6),1,0) -> 0 | AL16: =IF(AH16>=7,1,0) -> 0
A17: 11 | D17: F | Q17: =IF(D17<>"D",IF(X17<=2,5-(V17*0.5),5-(((V17*0.5)+((X17-2)*0.5)))),"D") -> 5 | S17: 5 | T17: =AG17 -> 3.83 | U17: =IF(D17<>"D",SUM(Q17:T17),"Disp.") -> 13.83 | V17: =COUNTIFS(E17:P17,"=A") -> 0 | W17: =COUNTIFS(E17:P17,"=R") -> 0 | X17: =COUNTIFS(E17:P17,"=T") -> 0 | Y17: =COUNTIFS(E17:P17,"=M") -> 0 | Z17: 11 | AA17: =B17 -> 0 | AB17: 3.27 | AE17: =IF(D17="D",100,(MIN(AB17:AD17))) -> 3.27 | AF17: =IF(D17="F",MIN(AB17:AD17),"X") -> 3.27 | AG17: =ROUND(IF(D17="G",((TC!$G$1/AE17)*6),IF(D17="F",((TC!$G$2/AE17)*6),"0")),2) -> 3.83 | AH17: 3 | AJ17: =IF(AH17<=3,1,0) -> 1 | AK17: =IF(AND(AH17>=4,AH17<=6),1,0) -> 0 | AL17: =IF(AH17>=7,1,0) -> 0
A18: 12 | D18: F | Q18: =IF(D18<>"D",IF(X18<=2,5-(V18*0.5),5-(((V18*0.5)+((X18-2)*0.5)))),"D") -> 5 | S18: 5 | T18: =AG18 -> 3.75 | U18: =IF(D18<>"D",SUM(Q18:T18),"Disp.") -> 13.75 | V18: =COUNTIFS(E18:P18,"=A") -> 0 | W18: =COUNTIFS(E18:P18,"=R") -> 0 | X18: =COUNTIFS(E18:P18,"=T") -> 0 | Y18: =COUNTIFS(E18:P18,"=M") -> 0 | Z18: 12 | AA18: =B18 -> 0 | AB18: 3.34 | AE18: =IF(D18="D",100,(MIN(AB18:AD18))) -> 3.34 | AF18: =IF(D18="F",MIN(AB18:AD18),"X") -> 3.34 | AG18: =ROUND(IF(D18="G",((TC!$G$1/AE18)*6),IF(D18="F",((TC!$G$2/AE18)*6),"0")),2) -> 3.75 | AH18: 3 | AJ18: =IF(AH18<=3,1,0) -> 1 | AK18: =IF(AND(AH18>=4,AH18<=6),1,0) -> 0 | AL18: =IF(AH18>=7,1,0) -> 0
A19: 13 | D19: F | Q19: =IF(D19<>"D",IF(X19<=2,5-(V19*0.5),5-(((V19*0.5)+((X19-2)*0.5)))),"D") -> 5 | R19: 3 | S19: 5 | T19: =AG19 -> 4.88 | U19: =IF(D19<>"D",SUM(Q19:T19),"Disp.") -> 17.88 | V19: =COUNTIFS(E19:P19,"=A") -> 0 | W19: =COUNTIFS(E19:P19,"=R") -> 0 | X19: =COUNTIFS(E19:P19,"=T") -> 0 | Y19: =COUNTIFS(E19:P19,"=M") -> 0 | Z19: 13 | AA19: =B19 -> 0 | AB19: 2.57 | AE19: =IF(D19="D",100,(MIN(AB19:AD19))) -> 2.57 | AF19: =IF(D19="F",MIN(AB19:AD19),"X") -> 2.57 | AG19: =ROUND(IF(D19="G",((TC!$G$1/AE19)*6),IF(D19="F",((TC!$G$2/AE19)*6),"0")),2) -> 4.88 | AH19: 3 | AJ19: =IF(AH19<=3,1,0) -> 1 | AK19: =IF(AND(AH19>=4,AH19<=6),1,0) -> 0 | AL19: =IF(AH19>=7,1,0) -> 0
A20: 14 | D20: G | Q20: =IF(D20<>"D",IF(X20<=2,5-(V20*0.5),5-(((V20*0.5)+((X20-2)*0.5)))),"D") -> 5 | R20: 3 | S20: 5 | T20: =AG20 -> 5.6 | U20: =IF(D20<>"D",SUM(Q20:T20),"Disp.") -> 18.6 | V20: =COUNTIFS(E20:P20,"=A") -> 0 | W20: =COUNTIFS(E20:P20,"=R") -> 0 | X20: =COUNTIFS(E20:P20,"=T") -> 0 | Y20: =COUNTIFS(E20:P20,"=M") -> 0 | Z20: 14 | AA20: =B20 -> 0 | AB20: 3.33 | AC20: 3.32 | AE20: =IF(D20="D",100,(MIN(AB20:AD20))) -> 3.32 | AF20: =IF(D20="F",MIN(AB20:AD20),"X") -> X | AG20: =ROUND(IF(D20="G",((TC!$G$1/AE20)*6),IF(D20="F",((TC!$G$2/AE20)*6),"0")),2) -> 5.6 | AH20: 6 | AJ20: =IF(AH20<=3,1,0) -> 0 | AK20: =IF(AND(AH20>=4,AH20<=6),1,0) -> 1 | AL20: =IF(AH20>=7,1,0) -> 0
A21: 15 | D21: F | Q21: =IF(D21<>"D",IF(X21<=2,5-(V21*0.5),5-(((V21*0.5)+((X21-2)*0.5)))),"D") -> 5 | R21: 3 | S21: 5 | T21: =AG21 -> 5.2 | U21: =IF(D21<>"D",SUM(Q21:T21),"Disp.") -> 18.2 | V21: =COUNTIFS(E21:P21,"=A") -> 0 | W21: =COUNTIFS(E21:P21,"=R") -> 0 | X21: =COUNTIFS(E21:P21,"=T") -> 0 | Y21: =COUNTIFS(E21:P21,"=M") -> 0 | Z21: 15 | AA21: =B21 -> 0 | AB21: 2.41 | AE21: =IF(D21="D",100,(MIN(AB21:AD21))) -> 2.41 | AF21: =IF(D21="F",MIN(AB21:AD21),"X") -> 2.41 | AG21: =ROUND(IF(D21="G",((TC!$G$1/AE21)*6),IF(D21="F",((TC!$G$2/AE21)*6),"0")),2) -> 5.2 | AH21: 3 | AJ21: =IF(AH21<=3,1,0) -> 1 | AK21: =IF(AND(AH21>=4,AH21<=6),1,0) -> 0 | AL21: =IF(AH21>=7,1,0) -> 0
A22: 16 | D22: G | Q22: =IF(D22<>"D",IF(X22<=2,5-(V22*0.5),5-(((V22*0.5)+((X22-2)*0.5)))),"D") -> 5 | R22: 3 | S22: 5 | T22: =AG22 -> 4.63 | U22: =IF(D22<>"D",SUM(Q22:T22),"Disp.") -> 17.63 | V22: =COUNTIFS(E22:P22,"=A") -> 0 | W22: =COUNTIFS(E22:P22,"=R") -> 0 | X22: =COUNTIFS(E22:P22,"=T") -> 0 | Y22: =COUNTIFS(E22:P22,"=M") -> 0 | Z22: 16 | AA22: =B22 -> 0 | AB22: 4.02 | AC22: 4.07 | AE22: =IF(D22="D",100,(MIN(AB22:AD22))) -> 4.02 | AF22: =IF(D22="F",MIN(AB22:AD22),"X") -> X | AG22: =ROUND(IF(D22="G",((TC!$G$1/AE22)*6),IF(D22="F",((TC!$G$2/AE22)*6),"0")),2) -> 4.63 | AH22: 4 | AJ22: =IF(AH22<=3,1,0) -> 0 | AK22: =IF(AND(AH22>=4,AH22<=6),1,0) -> 1 | AL22: =IF(AH22>=7,1,0) -> 0
A23: 17 | D23: F | Q23: =IF(D23<>"D",IF(X23<=2,5-(V23*0.5),5-(((V23*0.5)+((X23-2)*0.5)))),"D") -> 5 | R23: 3 | S23: 5 | T23: =AG23 -> 4.07 | U23: =IF(D23<>"D",SUM(Q23:T23),"Disp.") -> 17.07 | V23: =COUNTIFS(E23:P23,"=A") -> 0 | W23: =COUNTIFS(E23:P23,"=R") -> 0 | X23: =COUNTIFS(E23:P23,"=T") -> 0 | Y23: =COUNTIFS(E23:P23,"=M") -> 0 | Z23: 17 | AA23: =B23 -> 0 | AB23: 3.08 | AE23: =IF(D23="D",100,(MIN(AB23:AD23))) -> 3.08 | AF23: =IF(D23="F",MIN(AB23:AD23),"X") -> 3.08 | AG23: =ROUND(IF(D23="G",((TC!$G$1/AE23)*6),IF(D23="F",((TC!$G$2/AE23)*6),"0")),2) -> 4.07 | AH23: 2 | AJ23: =IF(AH23<=3,1,0) -> 1 | AK23: =IF(AND(AH23>=4,AH23<=6),1,0) -> 0 | AL23: =IF(AH23>=7,1,0) -> 0
A24: 18 | D24: F | Q24: =IF(D24<>"D",IF(X24<=2,5-(V24*0.5),5-(((V24*0.5)+((X24-2)*0.5)))),"D") -> 5 | R24: 3 | S24: 5 | T24: =AG24 -> 3.78 | U24: =IF(D24<>"D",SUM(Q24:T24),"Disp.") -> 16.78 | V24: =COUNTIFS(E24:P24,"=A") -> 0 | W24: =COUNTIFS(E24:P24,"=R") -> 0 | X24: =COUNTIFS(E24:P24,"=T") -> 0 | Y24: =COUNTIFS(E24:P24,"=M") -> 0 | Z24: 18 | AA24: =B24 -> 0 | AB24: 3.32 | AE24: =IF(D24="D",100,(MIN(AB24:AD24))) -> 3.32 | AF24: =IF(D24="F",MIN(AB24:AD24),"X") -> 3.32 | AG24: =ROUND(IF(D24="G",((TC!$G$1/AE24)*6),IF(D24="F",((TC!$G$2/AE24)*6),"0")),2) -> 3.78 | AH24: 2 | AJ24: =IF(AH24<=3,1,0) -> 1 | AK24: =IF(AND(AH24>=4,AH24<=6),1,0) -> 0 | AL24: =IF(AH24>=7,1,0) -> 0
A25: 19 | D25: F | Q25: =IF(D25<>"D",IF(X25<=2,5-(V25*0.5),5-(((V25*0.5)+((X25-2)*0.5)))),"D") -> 5 | R25: 2 | S25: 5 | T25: =AG25 -> 5.12 | U25: =IF(D25<>"D",SUM(Q25:T25),"Disp.") -> 17.12 | V25: =COUNTIFS(E25:P25,"=A") -> 0 | W25: =COUNTIFS(E25:P25,"=R") -> 0 | X25: =COUNTIFS(E25:P25,"=T") -> 0 | Y25: =COUNTIFS(E25:P25,"=M") -> 0 | Z25: 19 | AA25: =B25 -> 0 | AB25: 10 | AC25: 2.45 | AE25: =IF(D25="D",100,(MIN(AB25:AD25))) -> 2.45 | AF25: =IF(D25="F",MIN(AB25:AD25),"X") -> 2.45 | AG25: =ROUND(IF(D25="G",((TC!$G$1/AE25)*6),IF(D25="F",((TC!$G$2/AE25)*6),"0")),2) -> 5.12 | AH25: 3 | AJ25: =IF(AH25<=3,1,0) -> 1 | AK25: =IF(AND(AH25>=4,AH25<=6),1,0) -> 0 | AL25: =IF(AH25>=7,1,0) -> 0
A26: 20 | D26: G | Q26: =IF(D26<>"D",IF(X26<=2,5-(V26*0.5),5-(((V26*0.5)+((X26-2)*0.5)))),"D") -> 5 | R26: 3 | S26: 5 | T26: =AG26 -> 4.39 | U26: =IF(D26<>"D",SUM(Q26:T26),"Disp.") -> 17.39 | V26: =COUNTIFS(E26:P26,"=A") -> 0 | W26: =COUNTIFS(E26:P26,"=R") -> 0 | X26: =COUNTIFS(E26:P26,"=T") -> 0 | Y26: =COUNTIFS(E26:P26,"=M") -> 0 | Z26: 20 | AA26: =B26 -> 0 | AB26: 4.36 | AC26: 4.24 | AE26: =IF(D26="D",100,(MIN(AB26:AD26))) -> 4.24 | AF26: =IF(D26="F",MIN(AB26:AD26),"X") -> X | AG26: =ROUND(IF(D26="G",((TC!$G$1/AE26)*6),IF(D26="F",((TC!$G$2/AE26)*6),"0")),2) -> 4.39 | AH26: 4 | AJ26: =IF(AH26<=3,1,0) -> 0 | AK26: =IF(AND(AH26>=4,AH26<=6),1,0) -> 1 | AL26: =IF(AH26>=7,1,0) -> 0
A27: 21 | D27: F | Q27: =IF(D27<>"D",IF(X27<=2,5-(V27*0.5),5-(((V27*0.5)+((X27-2)*0.5)))),"D") -> 5 | R27: 3 | S27: 5 | T27: =AG27 -> 3.92 | U27: =IF(D27<>"D",SUM(Q27:T27),"Disp.") -> 16.92 | V27: =COUNTIFS(E27:P27,"=A") -> 0 | W27: =COUNTIFS(E27:P27,"=R") -> 0 | X27: =COUNTIFS(E27:P27,"=T") -> 0 | Y27: =COUNTIFS(E27:P27,"=M") -> 0 | Z27: 21 | AA27: =B27 -> 0 | AB27: 3.2 | AE27: =IF(D27="D",100,(MIN(AB27:AD27))) -> 3.2 | AF27: =IF(D27="F",MIN(AB27:AD27),"X") -> 3.2 | AG27: =ROUND(IF(D27="G",((TC!$G$1/AE27)*6),IF(D27="F",((TC!$G$2/AE27)*6),"0")),2) -> 3.92 | AH27: 3 | AJ27: =IF(AH27<=3,1,0) -> 1 | AK27: =IF(AND(AH27>=4,AH27<=6),1,0) -> 0 | AL27: =IF(AH27>=7,1,0) -> 0
A28: 22 | D28: F | Q28: =IF(D28<>"D",IF(X28<=2,5-(V28*0.5),5-(((V28*0.5)+((X28-2)*0.5)))),"D") -> 5 | R28: 3 | S28: 5 | T28: =AG28 -> 5.25 | U28: =IF(D28<>"D",SUM(Q28:T28),"Disp.") -> 18.25 | V28: =COUNTIFS(E28:P28,"=A") -> 0 | W28: =COUNTIFS(E28:P28,"=R") -> 0 | X28: =COUNTIFS(E28:P28,"=T") -> 0 | Y28: =COUNTIFS(E28:P28,"=M") -> 0 | Z28: 22 | AA28: =B28 -> 0 | AB28: 2.39 | AE28: =IF(D28="D",100,(MIN(AB28:AD28))) -> 2.39 | AF28: =IF(D28="F",MIN(AB28:AD28),"X") -> 2.39 | AG28: =ROUND(IF(D28="G",((TC!$G$1/AE28)*6),IF(D28="F",((TC!$G$2/AE28)*6),"0")),2) -> 5.25 | AH28: 3 | AJ28: =IF(AH28<=3,1,0) -> 1 | AK28: =IF(AND(AH28>=4,AH28<=6),1,0) -> 0 | AL28: =IF(AH28>=7,1,0) -> 0
A29: 23 | D29: G | Q29: =IF(D29<>"D",IF(X29<=2,5-(V29*0.5),5-(((V29*0.5)+((X29-2)*0.5)))),"D") -> 5 | R29: 2 | S29: 5 | T29: =AG29 -> 5.69 | U29: =IF(D29<>"D",SUM(Q29:T29),"Disp.") -> 17.69 | V29: =COUNTIFS(E29:P29,"=A") -> 0 | W29: =COUNTIFS(E29:P29,"=R") -> 0 | X29: =COUNTIFS(E29:P29,"=T") -> 0 | Y29: =COUNTIFS(E29:P29,"=M") -> 0 | Z29: 23 | AA29: =B29 -> 0 | AB29: 3.3 | AC29: 3.27 | AE29: =IF(D29="D",100,(MIN(AB29:AD29))) -> 3.27 | AF29: =IF(D29="F",MIN(AB29:AD29),"X") -> X | AG29: =ROUND(IF(D29="G",((TC!$G$1/AE29)*6),IF(D29="F",((TC!$G$2/AE29)*6),"0")),2) -> 5.69 | AH29: 7 | AJ29: =IF(AH29<=3,1,0) -> 0 | AK29: =IF(AND(AH29>=4,AH29<=6),1,0) -> 0 | AL29: =IF(AH29>=7,1,0) -> 1
A30: 24 | D30: G | Q30: =IF(D30<>"D",IF(X30<=2,5-(V30*0.5),5-(((V30*0.5)+((X30-2)*0.5)))),"D") -> 5 | R30: 2 | S30: 5 | T30: =AG30 -> 4.3 | U30: =IF(D30<>"D",SUM(Q30:T30),"Disp.") -> 16.3 | V30: =COUNTIFS(E30:P30,"=A") -> 0 | W30: =COUNTIFS(E30:P30,"=R") -> 0 | X30: =COUNTIFS(E30:P30,"=T") -> 0 | Y30: =COUNTIFS(E30:P30,"=M") -> 0 | Z30: 24 | AA30: =B30 -> 0 | AB30: 5.34 | AC30: 4.33 | AE30: =IF(D30="D",100,(MIN(AB30:AD30))) -> 4.33 | AF30: =IF(D30="F",MIN(AB30:AD30),"X") -> X | AG30: =ROUND(IF(D30="G",((TC!$G$1/AE30)*6),IF(D30="F",((TC!$G$2/AE30)*6),"0")),2) -> 4.3 | AH30: 4 | AJ30: =IF(AH30<=3,1,0) -> 0 | AK30: =IF(AND(AH30>=4,AH30<=6),1,0) -> 1 | AL30: =IF(AH30>=7,1,0) -> 0
A31: 25 | D31: F | Q31: =IF(D31<>"D",IF(X31<=2,5-(V31*0.5),5-(((V31*0.5)+((X31-2)*0.5)))),"D") -> 5 | R31: 3 | S31: 5 | T31: =AG31 -> 5.48 | U31: =IF(D31<>"D",SUM(Q31:T31),"Disp.") -> 18.48 | V31: =COUNTIFS(E31:P31,"=A") -> 0 | W31: =COUNTIFS(E31:P31,"=R") -> 0 | X31: =COUNTIFS(E31:P31,"=T") -> 0 | Y31: =COUNTIFS(E31:P31,"=M") -> 0 | Z31: 25 | AA31: =B31 -> 0 | AB31: 2.29 | AE31: =IF(D31="D",100,(MIN(AB31:AD31))) -> 2.29 | AF31: =IF(D31="F",MIN(AB31:AD31),"X") -> 2.29 | AG31: =ROUND(IF(D31="G",((TC!$G$1/AE31)*6),IF(D31="F",((TC!$G$2/AE31)*6),"0")),2) -> 5.48 | AH31: 3 | AJ31: =IF(AH31<=3,1,0) -> 1 | AK31: =IF(AND(AH31>=4,AH31<=6),1,0) -> 0 | AL31: =IF(AH31>=7,1,0) -> 0
A32: 26 | D32: F | Q32: =IF(D32<>"D",IF(X32<=2,5-(V32*0.5),5-(((V32*0.5)+((X32-2)*0.5)))),"D") -> 5 | R32: 3 | S32: 5 | T32: =AG32 -> 4.9 | U32: =IF(D32<>"D",SUM(Q32:T32),"Disp.") -> 17.9 | V32: =COUNTIFS(E32:P32,"=A") -> 0 | W32: =COUNTIFS(E32:P32,"=R") -> 0 | X32: =COUNTIFS(E32:P32,"=T") -> 0 | Y32: =COUNTIFS(E32:P32,"=M") -> 0 | Z32: 26 | AA32: =B32 -> 0 | AB32: 2.56 | AE32: =IF(D32="D",100,(MIN(AB32:AD32))) -> 2.56 | AF32: =IF(D32="F",MIN(AB32:AD32),"X") -> 2.56 | AG32: =ROUND(IF(D32="G",((TC!$G$1/AE32)*6),IF(D32="F",((TC!$G$2/AE32)*6),"0")),2) -> 4.9 | AH32: 3 | AJ32: =IF(AH32<=3,1,0) -> 1 | AK32: =IF(AND(AH32>=4,AH32<=6),1,0) -> 0 | AL32: =IF(AH32>=7,1,0) -> 0
A33: 27 | D33: F | Q33: =IF(D33<>"D",IF(X33<=2,5-(V33*0.5),5-(((V33*0.5)+((X33-2)*0.5)))),"D") -> 5 | S33: 5 | T33: =AG33 -> 5.23 | U33: =IF(D33<>"D",SUM(Q33:T33),"Disp.") -> 15.23 | V33: =COUNTIFS(E33:P33,"=A") -> 0 | W33: =COUNTIFS(E33:P33,"=R") -> 0 | X33: =COUNTIFS(E33:P33,"=T") -> 0 | Y33: =COUNTIFS(E33:P33,"=M") -> 0 | Z33: 27 | AA33: =B33 -> 0 | AB33: 2.4 | AE33: =IF(D33="D",100,(MIN(AB33:AD33))) -> 2.4 | AF33: =IF(D33="F",MIN(AB33:AD33),"X") -> 2.4 | AG33: =ROUND(IF(D33="G",((TC!$G$1/AE33)*6),IF(D33="F",((TC!$G$2/AE33)*6),"0")),2) -> 5.23 | AH33: 3 | AJ33: =IF(AH33<=3,1,0) -> 1 | AK33: =IF(AND(AH33>=4,AH33<=6),1,0) -> 0 | AL33: =IF(AH33>=7,1,0) -> 0
A34: 28 | D34: F | Q34: =IF(D34<>"D",IF(X34<=2,5-(V34*0.5),5-(((V34*0.5)+((X34-2)*0.5)))),"D") -> 5 | R34: 3 | S34: 5 | T34: =AG34 -> 5.04 | U34: =IF(D34<>"D",SUM(Q34:T34),"Disp.") -> 18.04 | V34: =COUNTIFS(E34:P34,"=A") -> 0 | W34: =COUNTIFS(E34:P34,"=R") -> 0 | X34: =COUNTIFS(E34:P34,"=T") -> 0 | Y34: =COUNTIFS(E34:P34,"=M") -> 0 | Z34: 28 | AA34: =B34 -> 0 | AB34: 2.49 | AE34: =IF(D34="D",100,(MIN(AB34:AD34))) -> 2.49 | AF34: =IF(D34="F",MIN(AB34:AD34),"X") -> 2.49 | AG34: =ROUND(IF(D34="G",((TC!$G$1/AE34)*6),IF(D34="F",((TC!$G$2/AE34)*6),"0")),2) -> 5.04 | AH34: 3 | AJ34: =IF(AH34<=3,1,0) -> 1 | AK34: =IF(AND(AH34>=4,AH34<=6),1,0) -> 0 | AL34: =IF(AH34>=7,1,0) -> 0
A35: 29 | D35: F | Q35: =IF(D35<>"D",IF(X35<=2,5-(V35*0.5),5-(((V35*0.5)+((X35-2)*0.5)))),"D") -> 5 | S35: 5 | T35: =AG35 -> 5.18 | U35: =IF(D35<>"D",SUM(Q35:T35),"Disp.") -> 15.18 | V35: =COUNTIFS(E35:P35,"=A") -> 0 | W35: =COUNTIFS(E35:P35,"=R") -> 0 | X35: =COUNTIFS(E35:P35,"=T") -> 0 | Y35: =COUNTIFS(E35:P35,"=M") -> 0 | Z35: 29 | AA35: =B35 -> 0 | AB35: 2.5 | AC35: 2.42 | AE35: =IF(D35="D",100,(MIN(AB35:AD35))) -> 2.42 | AF35: =IF(D35="F",MIN(AB35:AD35),"X") -> 2.42 | AG35: =ROUND(IF(D35="G",((TC!$G$1/AE35)*6),IF(D35="F",((TC!$G$2/AE35)*6),"0")),2) -> 5.18 | AH35: 3 | AJ35: =IF(AH35<=3,1,0) -> 1 | AK35: =IF(AND(AH35>=4,AH35<=6),1,0) -> 0 | AL35: =IF(AH35>=7,1,0) -> 0
A36: 30 | D36: G | Q36: =IF(D36<>"D",IF(X36<=2,5-(V36*0.5),5-(((V36*0.5)+((X36-2)*0.5)))),"D") -> 5 | R36: 3 | S36: 5 | T36: =AG36 -> 5.94 | U36: =IF(D36<>"D",SUM(Q36:T36),"Disp.") -> 18.94 | V36: =COUNTIFS(E36:P36,"=A") -> 0 | W36: =COUNTIFS(E36:P36,"=R") -> 0 | X36: =COUNTIFS(E36:P36,"=T") -> 0 | Y36: =COUNTIFS(E36:P36,"=M") -> 0 | Z36: 30 | AA36: =B36 -> 0 | AB36: 3.21 | AC36: 3.13 | AE36: =IF(D36="D",100,(MIN(AB36:AD36))) -> 3.13 | AF36: =IF(D36="F",MIN(AB36:AD36),"X") -> X | AG36: =ROUND(IF(D36="G",((TC!$G$1/AE36)*6),IF(D36="F",((TC!$G$2/AE36)*6),"0")),2) -> 5.94 | AH36: 7 | AJ36: =IF(AH36<=3,1,0) -> 0 | AK36: =IF(AND(AH36>=4,AH36<=6),1,0) -> 0 | AL36: =IF(AH36>=7,1,0) -> 1
A37: 31 | V37: =COUNTIFS(E37:P37,"=A") -> 0 | W37: =COUNTIFS(E37:P37,"=R") -> 0 | X37: =COUNTIFS(E37:P37,"=T") -> 0 | Y37: =COUNTIFS(E37:P37,"=M") -> 0 | Z37: 31 | AA37: =B37 -> 0 | AE37: =IF(D37="D",100,(MIN(AB37:AD37))) -> 0 | AG37: =ROUND(IF(D37="G",((TC!$G$1/AE37)*6),IF(D37="F",((TC!$G$2/AE37)*6),"0")),2) -> 0 | AJ37: =IF(AH37<=3,1,0) -> 1 | AK37: =IF(AND(AH37>=4,AH37<=6),1,0) -> 0 | AL37: =IF(AH37>=7,1,0) -> 0
A38: 32 | V38: =COUNTIFS(E38:P38,"=A") -> 0 | W38: =COUNTIFS(E38:P38,"=R") -> 0 | X38: =COUNTIFS(E38:P38,"=T") -> 0 | Y38: =COUNTIFS(E38:P38,"=M") -> 0 | Z38: 32 | AA38: =B38 -> 0 | AE38: =IF(D38="D",100,(MIN(AB38:AD38))) -> 0 | AG38: =ROUND(IF(D38="G",((TC!$G$1/AE38)*6),IF(D38="F",((TC!$G$2/AE38)*6),"0")),2) -> 0 | AJ38: =IF(AH38<=3,1,0) -> 1 | AK38: =IF(AND(AH38>=4,AH38<=6),1,0) -> 0 | AL38: =IF(AH38>=7,1,0) -> 0
A39: 33 | V39: =COUNTIFS(E39:P39,"=A") -> 0 | W39: =COUNTIFS(E39:P39,"=R") -> 0 | X39: =COUNTIFS(E39:P39,"=T") -> 0 | Y39: =COUNTIFS(E39:P39,"=M") -> 0 | Z39: 33 | AA39: =B39 -> 0 | AE39: =IF(D39="D",100,(MIN(AB39:AD39))) -> 0 | AG39: =ROUND(IF(D39="G",((TC!$G$1/AE39)*6),IF(D39="F",((TC!$G$2/AE39)*6),"0")),2) -> 0 | AJ39: =IF(AH39<=3,1,0) -> 1 | AK39: =IF(AND(AH39>=4,AH39<=6),1,0) -> 0 | AL39: =IF(AH39>=7,1,0) -> 0
A40: 34 | V40: =COUNTIFS(E40:P40,"=A") -> 0 | W40: =COUNTIFS(E40:P40,"=R") -> 0 | X40: =COUNTIFS(E40:P40,"=T") -> 0 | Y40: =COUNTIFS(E40:P40,"=M") -> 0 | Z40: 34 | AA40: =B40 -> 0 | AE40: =IF(D40="D",100,(MIN(AB40:AD40))) -> 0 | AG40: =ROUND(IF(D40="G",((TC!$G$1/AE40)*6),IF(D40="F",((TC!$G$2/AE40)*6),"0")),2) -> 0
...

Sheet SF2 CDtc
A1: Classe | C1: Cycle: | G1: Endurance | Q1: AS: 2019/2020 | AB1: Abs=35
A2: N° | B2: TCSF-2 | C2: Contrôle-Assiduité-Evaluation | Q2: Evaluation | U2: Note Finale | AB2: Ab=10
C3: Séance | E3: S1 | F3: S2 | G3: S3 | H3: S4 | I3: S5 | J3: S6 | K3: S7 | L3: S8 | M3: S9 | N3: S 10 | O3: S 11 | P3: S 12 | Q3: Conn. Comp. (5) | R3: Conn. Conc. (3) | S3: Conn. Proc (12) | AB3: Art=7
C4: D= | D4: =COUNTIFS(D7:D51,"=D") -> 2 | E4: 43731 | F4: 43733 | G4: =E4+7 -> 43738 | H4: =F4+7 -> 43740 | I4: =G4+7 -> 43745 | J4: =H4+7 -> 43747 | K4: =I4+7 -> 43752 | L4: =J4+7 -> 43754 | M4: =K4+7 -> 43759 | N4: =L4+7 -> 43761 | ... P4: =N4+7 -> 43768 | S4: Comp. Motr. | T4: Hab. Motrc. | U4: /20 | AJ4: 3 et < | AK4: Entre 4 et 6 | AL4: 7 et >
B5: Nom | C5: G= | D5: =COUNTIFS(D7:D51,"=G") -> 15 | V5: Assiduité | Z5: N° | AA5: Nom | AB5: Test 1 | AC5: Test 2 | AD5: Test 3 | AE5: Meilleur TG | AF5: Meilleur TF | AG5: Nt Hab Mot | AH5: Palier au test | AJ5: =SUM(AJ7:AJ46) -> 10 | AK5: =SUM(AK7:AK46) -> 13 | AL5: =SUM(AL7:AL46) -> 6
B6: Prénom | C6: F= | D6: =COUNTIFS(D7:D51,"=F") -> 13 | Q6: /5 | R6: /3 | S6: /6 | T6: /6 | V6: A | W6: R | X6: T | Y6: M
A7: 1 | D7: G | Q7: =IF(D7<>"D",IF(X7<=2,5-(V7*0.5),5-(((V7*0.5)+((X7-2)*0.5)))),"D") -> 5 | S7: 5 | T7: =AG7 -> 0.53 | U7: =IF(D7<>"D",SUM(Q7:T7),"Disp.") -> 10.53 | V7: =COUNTIFS(E7:P7,"=A") -> 0 | W7: =COUNTIFS(E7:P7,"=R") -> 0 | X7: =COUNTIFS(E7:P7,"=T") -> 0 | Y7: =COUNTIFS(E7:P7,"=M") -> 0 | Z7: 1 | AA7: =B7 -> 0 | AB7: 35 | AC7: 35 | AE7: =IF(D7="D",100,(MIN(AB7:AD7))) -> 35 | AF7: =IF(D7="F",MIN(AB7:AD7),"X") -> X | AG7: =ROUND(IF(D7="G",((TC!$G$1/AE7)*6),IF(D7="F",((TC!$G$2/AE7)*6),"0")),2) -> 0.53 | AH7: 5 | AJ7: =IF(AH7<=3,1,0) -> 0 | AK7: =IF(AND(AH7>=4,AH7<=6),1,0) -> 1 | AL7: =IF(AH7>=7,1,0) -> 0
A8: 2 | D8: F | Q8: =IF(D8<>"D",IF(X8<=2,5-(V8*0.5),5-(((V8*0.5)+((X8-2)*0.5)))),"D") -> 5 | R8: 3 | S8: 5 | T8: =AG8 -> 5.92 | U8: =IF(D8<>"D",SUM(Q8:T8),"Disp.") -> 18.92 | V8: =COUNTIFS(E8:P8,"=A") -> 0 | W8: =COUNTIFS(E8:P8,"=R") -> 0 | X8: =COUNTIFS(E8:P8,"=T") -> 0 | Y8: =COUNTIFS(E8:P8,"=M") -> 0 | Z8: 2 | AA8: =B8 -> 0 | AB8: 2.12 | AE8: =IF(D8="D",100,(MIN(AB8:AD8))) -> 2.12 | AF8: =IF(D8="F",MIN(AB8:AD8),"X") -> 2.12 | AG8: =ROUND(IF(D8="G",((TC!$G$1/AE8)*6),IF(D8="F",((TC!$G$2/AE8)*6),"0")),2) -> 5.92 | AH8: 4 | AJ8: =IF(AH8<=3,1,0) -> 0 | AK8: =IF(AND(AH8>=4,AH8<=6),1,0) -> 1 | AL8: =IF(AH8>=7,1,0) -> 0
A9: 3 | D9: G | Q9: =IF(D9<>"D",IF(X9<=2,5-(V9*0.5),5-(((V9*0.5)+((X9-2)*0.5)))),"D") -> 5 | S9: 5 | T9: =AG9 -> 5.94 | U9: =IF(D9<>"D",SUM(Q9:T9),"Disp.") -> 15.94 | V9: =COUNTIFS(E9:P9,"=A") -> 0 | W9: =COUNTIFS(E9:P9,"=R") -> 0 | X9: =COUNTIFS(E9:P9,"=T") -> 0 | Y9: =COUNTIFS(E9:P9,"=M") -> 0 | Z9: 3 | AA9: =B9 -> 0 | AB9: 3.13 | AE9: =IF(D9="D",100,(MIN(AB9:AD9))) -> 3.13 | AF9: =IF(D9="F",MIN(AB9:AD9),"X") -> X | AG9: =ROUND(IF(D9="G",((TC!$G$1/AE9)*6),IF(D9="F",((TC!$G$2/AE9)*6),"0")),2) -> 5.94 | AH9: 10 | AJ9: =IF(AH9<=3,1,0) -> 0 | AK9: =IF(AND(AH9>=4,AH9<=6),1,0) -> 0 | AL9: =IF(AH9>=7,1,0) -> 1
A10: 4 | D10: G | Q10: =IF(D10<>"D",IF(X10<=2,5-(V10*0.5),5-(((V10*0.5)+((X10-2)*0.5)))),"D") -> 5 | R10: 3 | S10: 5 | T10: =AG10 -> 5.67 | U10: =IF(D10<>"D",SUM(Q10:T10),"Disp.") -> 18.67 | V10: =COUNTIFS(E10:P10,"=A") -> 0 | W10: =COUNTIFS(E10:P10,"=R") -> 0 | X10: =COUNTIFS(E10:P10,"=T") -> 0 | Y10: =COUNTIFS(E10:P10,"=M") -> 0 | Z10: 4 | AA10: =B10 -> 0 | AB10: 3.28 | AE10: =IF(D10="D",100,(MIN(AB10:AD10))) -> 3.28 | AF10: =IF(D10="F",MIN(AB10:AD10),"X") -> X | AG10: =ROUND(IF(D10="G",((TC!$G$1/AE10)*6),IF(D10="F",((TC!$G$2/AE10)*6),"0")),2) -> 5.67 | AH10: 4 | AJ10: =IF(AH10<=3,1,0) -> 0 | AK10: =IF(AND(AH10>=4,AH10<=6),1,0) -> 1 | AL10: =IF(AH10>=7,1,0) -> 0
A11: 5 | D11: G | Q11: =IF(D11<>"D",IF(X11<=2,5-(V11*0.5),5-(((V11*0.5)+((X11-2)*0.5)))),"D") -> 5 | S11: 5 | T11: =AG11 -> 5.74 | U11: =IF(D11<>"D",SUM(Q11:T11),"Disp.") -> 15.74 | V11: =COUNTIFS(E11:P11,"=A") -> 0 | W11: =COUNTIFS(E11:P11,"=R") -> 0 | X11: =COUNTIFS(E11:P11,"=T") -> 0 | Y11: =COUNTIFS(E11:P11,"=M") -> 0 | Z11: 5 | AA11: =B11 -> 0 | AB11: 3.24 | AE11: =IF(D11="D",100,(MIN(AB11:AD11))) -> 3.24 | AF11: =IF(D11="F",MIN(AB11:AD11),"X") -> X | AG11: =ROUND(IF(D11="G",((TC!$G$1/AE11)*6),IF(D11="F",((TC!$G$2/AE11)*6),"0")),2) -> 5.74 | AH11: 7 | AJ11: =IF(AH11<=3,1,0) -> 0 | AK11: =IF(AND(AH11>=4,AH11<=6),1,0) -> 0 | AL11: =IF(AH11>=7,1,0) -> 1
A12: 6 | D12: G | Q12: =IF(D12<>"D",IF(X12<=2,5-(V12*0.5),5-(((V12*0.5)+((X12-2)*0.5)))),"D") -> 5 | S12: 5 | T12: =AG12 -> 5.62 | U12: =IF(D12<>"D",SUM(Q12:T12),"Disp.") -> 15.62 | V12: =COUNTIFS(E12:P12,"=A") -> 0 | W12: =COUNTIFS(E12:P12,"=R") -> 0 | X12: =COUNTIFS(E12:P12,"=T") -> 0 | Y12: =COUNTIFS(E12:P12,"=M") -> 0 | Z12: 6 | AA12: =B12 -> 0 | AB12: 3.31 | AE12: =IF(D12="D",100,(MIN(AB12:AD12))) -> 3.31 | AF12: =IF(D12="F",MIN(AB12:AD12),"X") -> X | AG12: =ROUND(IF(D12="G",((TC!$G$1/AE12)*6),IF(D12="F",((TC!$G$2/AE12)*6),"0")),2) -> 5.62 | AH12: 4 | AJ12: =IF(AH12<=3,1,0) -> 0 | AK12: =IF(AND(AH12>=4,AH12<=6),1,0) -> 1 | AL12: =IF(AH12>=7,1,0) -> 0
A13: 7 | D13: F | Q13: =IF(D13<>"D",IF(X13<=2,5-(V13*0.5),5-(((V13*0.5)+((X13-2)*0.5)))),"D") -> 5 | R13: 3 | S13: 5 | T13: =AG13 -> 5.52 | U13: =IF(D13<>"D",SUM(Q13:T13),"Disp.") -> 18.52 | V13: =COUNTIFS(E13:P13,"=A") -> 0 | W13: =COUNTIFS(E13:P13,"=R") -> 0 | X13: =COUNTIFS(E13:P13,"=T") -> 0 | Y13: =COUNTIFS(E13:P13,"=M") -> 0 | Z13: 7 | AA13: =B13 -> 0 | AB13: 2.27 | AE13: =IF(D13="D",100,(MIN(AB13:AD13))) -> 2.27 | AF13: =IF(D13="F",MIN(AB13:AD13),"X") -> 2.27 | AG13: =ROUND(IF(D13="G",((TC!$G$1/AE13)*6),IF(D13="F",((TC!$G$2/AE13)*6),"0")),2) -> 5.52 | AH13: 3 | AJ13: =IF(AH13<=3,1,0) -> 1 | AK13: =IF(AND(AH13>=4,AH13<=6),1,0) -> 0 | AL13: =IF(AH13>=7,1,0) -> 0
A14: 8 | D14: G | Q14: =IF(D14<>"D",IF(X14<=2,5-(V14*0.5),5-(((V14*0.5)+((X14-2)*0.5)))),"D") -> 5 | S14: 5 | T14: =AG14 -> 6 | U14: =IF(D14<>"D",SUM(Q14:T14),"Disp.") -> 16 | V14: =COUNTIFS(E14:P14,"=A") -> 0 | W14: =COUNTIFS(E14:P14,"=R") -> 0 | X14: =COUNTIFS(E14:P14,"=T") -> 0 | Y14: =COUNTIFS(E14:P14,"=M") -> 0 | Z14: 8 | AA14: =B14 -> 0 | AB14: 3.1 | AE14: =IF(D14="D",100,(MIN(AB14:AD14))) -> 3.1 | AF14: =IF(D14="F",MIN(AB14:AD14),"X") -> X | AG14: =ROUND(IF(D14="G",((TC!$G$1/AE14)*6),IF(D14="F",((TC!$G$2/AE14)*6),"0")),2) -> 6 | AH14: 10 | AJ14: =IF(AH14<=3,1,0) -> 0 | AK14: =IF(AND(AH14>=4,AH14<=6),1,0) -> 0 | AL14: =IF(AH14>=7,1,0) -> 1
A15: 9 | D15: F | Q15: =IF(D15<>"D",IF(X15<=2,5-(V15*0.5),5-(((V15*0.5)+((X15-2)*0.5)))),"D") -> 5 | R15: 3 | S15: 5 | T15: =AG15 -> 4.13 | U15: =IF(D15<>"D",SUM(Q15:T15),"Disp.") -> 17.13 | V15: =COUNTIFS(E15:P15,"=A") -> 0 | W15: =COUNTIFS(E15:P15,"=R") -> 0 | X15: =COUNTIFS(E15:P15,"=T") -> 0 | Y15: =COUNTIFS(E15:P15,"=M") -> 0 | Z15: 9 | AA15: =B15 -> 0 | AB15: 3.04 | AE15: =IF(D15="D",100,(MIN(AB15:AD15))) -> 3.04 | AF15: =IF(D15="F",MIN(AB15:AD15),"X") -> 3.04 | AG15: =ROUND(IF(D15="G",((TC!$G$1/AE15)*6),IF(D15="F",((TC!$G$2/AE15)*6),"0")),2) -> 4.13 | AH15: 6 | AJ15: =IF(AH15<=3,1,0) -> 0 | AK15: =IF(AND(AH15>=4,AH15<=6),1,0) -> 1 | AL15: =IF(AH15>=7,1,0) -> 0
A16: 10 | D16: D | Q16: =IF(D16<>"D",IF(X16<=2,5-(V16*0.5),5-(((V16*0.5)+((X16-2)*0.5)))),"D") -> D | T16: =AG16 -> 0 | U16: =IF(D16<>"D",SUM(Q16:T16),"Disp.") -> Disp. | V16: =COUNTIFS(E16:P16,"=A") -> 0 | W16: =COUNTIFS(E16:P16,"=R") -> 0 | X16: =COUNTIFS(E16:P16,"=T") -> 0 | Y16: =COUNTIFS(E16:P16,"=M") -> 0 | Z16: 10 | AA16: =B16 -> 0 | AE16: =IF(D16="D",100,(MIN(AB16:AD16))) -> 100 | AF16: =IF(D16="F",MIN(AB16:AD16),"X") -> X | AG16: =ROUND(IF(D16="G",((TC!$G$1/AE16)*6),IF(D16="F",((TC!$G$2/AE16)*6),"0")),2) -> 0 | AH16: 2 | AJ16: =IF(AH16<=3,1,0) -> 1 | AK16: =IF(AND(AH16>=4,AH16<=6),1,0) -> 0 | AL16: =IF(AH16>=7,1,0) -> 0
A17: 11 | D17: F | Q17: =IF(D17<>"D",IF(X17<=2,5-(V17*0.5),5-(((V17*0.5)+((X17-2)*0.5)))),"D") -> 5 | R17: 3 | S17: 5 | T17: =AG17 -> 5.57 | U17: =IF(D17<>"D",SUM(Q17:T17),"Disp.") -> 18.57 | V17: =COUNTIFS(E17:P17,"=A") -> 0 | W17: =COUNTIFS(E17:P17,"=R") -> 0 | X17: =COUNTIFS(E17:P17,"=T") -> 0 | Y17: =COUNTIFS(E17:P17,"=M") -> 0 | Z17: 11 | AA17: =B17 -> 0 | AB17: 2.25 | AC17: 35 | AE17: =IF(D17="D",100,(MIN(AB17:AD17))) -> 2.25 | AF17: =IF(D17="F",MIN(AB17:AD17),"X") -> 2.25 | AG17: =ROUND(IF(D17="G",((TC!$G$1/AE17)*6),IF(D17="F",((TC!$G$2/AE17)*6),"0")),2) -> 5.57 | AH17: 6 | AJ17: =IF(AH17<=3,1,0) -> 0 | AK17: =IF(AND(AH17>=4,AH17<=6),1,0) -> 1 | AL17: =IF(AH17>=7,1,0) -> 0
A18: 12 | D18: G | Q18: =IF(D18<>"D",IF(X18<=2,5-(V18*0.5),5-(((V18*0.5)+((X18-2)*0.5)))),"D") -> 5 | S18: 5 | T18: =AG18 -> 4.64 | U18: =IF(D18<>"D",SUM(Q18:T18),"Disp.") -> 14.64 | V18: =COUNTIFS(E18:P18,"=A") -> 0 | W18: =COUNTIFS(E18:P18,"=R") -> 0 | X18: =COUNTIFS(E18:P18,"=T") -> 0 | Y18: =COUNTIFS(E18:P18,"=M") -> 0 | Z18: 12 | AA18: =B18 -> 0 | AB18: 4.01 | AE18: =IF(D18="D",100,(MIN(AB18:AD18))) -> 4.01 | AF18: =IF(D18="F",MIN(AB18:AD18),"X") -> X | AG18: =ROUND(IF(D18="G",((TC!$G$1/AE18)*6),IF(D18="F",((TC!$G$2/AE18)*6),"0")),2) -> 4.64 | AH18: 6 | AJ18: =IF(AH18<=3,1,0) -> 0 | AK18: =IF(AND(AH18>=4,AH18<=6),1,0) -> 1 | AL18: =IF(AH18>=7,1,0) -> 0
A19: 13 | D19: F | Q19: =IF(D19<>"D",IF(X19<=2,5-(V19*0.5),5-(((V19*0.5)+((X19-2)*0.5)))),"D") -> 5 | R19: 3 | S19: 5 | T19: =AG19 -> 3.8 | U19: =IF(D19<>"D",SUM(Q19:T19),"Disp.") -> 16.8 | V19: =COUNTIFS(E19:P19,"=A") -> 0 | W19: =COUNTIFS(E19:P19,"=R") -> 0 | X19: =COUNTIFS(E19:P19,"=T") -> 0 | Y19: =COUNTIFS(E19:P19,"=M") -> 0 | Z19: 13 | AA19: =B19 -> 0 | AB19: 7 | AC19: 3.3 | AE19: =IF(D19="D",100,(MIN(AB19:AD19))) -> 3.3 | AF19: =IF(D19="F",MIN(AB19:AD19),"X") -> 3.3 | AG19: =ROUND(IF(D19="G",((TC!$G$1/AE19)*6),IF(D19="F",((TC!$G$2/AE19)*6),"0")),2) -> 3.8 | AH19: 3 | AJ19: =IF(AH19<=3,1,0) -> 1 | AK19: =IF(AND(AH19>=4,AH19<=6),1,0) -> 0 | AL19: =IF(AH19>=7,1,0) -> 0
A20: 14 | D20: G | Q20: =IF(D20<>"D",IF(X20<=2,5-(V20*0.5),5-(((V20*0.5)+((X20-2)*0.5)))),"D") -> 5 | R20: 3 | S20: 5 | T20: =AG20 -> 5.79 | U20: =IF(D20<>"D",SUM(Q20:T20),"Disp.") -> 18.79 | V20: =COUNTIFS(E20:P20,"=A") -> 0 | W20: =COUNTIFS(E20:P20,"=R") -> 0 | X20: =COUNTIFS(E20:P20,"=T") -> 0 | Y20: =COUNTIFS(E20:P20,"=M") -> 0 | Z20: 14 | AA20: =B20 -> 0 | AB20: 3.21 | AE20: =IF(D20="D",100,(MIN(AB20:AD20))) -> 3.21 | AF20: =IF(D20="F",MIN(AB20:AD20),"X") -> X | AG20: =ROUND(IF(D20="G",((TC!$G$1/AE20)*6),IF(D20="F",((TC!$G$2/AE20)*6),"0")),2) -> 5.79 | AH20: 10 | AJ20: =IF(AH20<=3,1,0) -> 0 | AK20: =IF(AND(AH20>=4,AH20<=6),1,0) -> 0 | AL20: =IF(AH20>=7,1,0) -> 1
A21: 15 | D21: F | Q21: =IF(D21<>"D",IF(X21<=2,5-(V21*0.5),5-(((V21*0.5)+((X21-2)*0.5)))),"D") -> 5 | R21: 3 | S21: 5 | T21: =AG21 -> 6 | U21: =IF(D21<>"D",SUM(Q21:T21),"Disp.") -> 19 | V21: =COUNTIFS(E21:P21,"=A") -> 0 | W21: =COUNTIFS(E21:P21,"=R") -> 0 | X21: =COUNTIFS(E21:P21,"=T") -> 0 | Y21: =COUNTIFS(E21:P21,"=M") -> 0 | Z21: 15 | AA21: =B21 -> 0 | AB21: 2.09 | AE21: =IF(D21="D",100,(MIN(AB21:AD21))) -> 2.09 | AF21: =IF(D21="F",MIN(AB21:AD21),"X") -> 2.09 | AG21: =ROUND(IF(D21="G",((TC!$G$1/AE21)*6),IF(D21="F",((TC!$G$2/AE21)*6),"0")),2) -> 6 | AH21: 6 | AJ21: =IF(AH21<=3,1,0) -> 0 | AK21: =IF(AND(AH21>=4,AH21<=6),1,0) -> 1 | AL21: =IF(AH21>=7,1,0) -> 0
A22: 16 | D22: F | Q22: =IF(D22<>"D",IF(X22<=2,5-(V22*0.5),5-(((V22*0.5)+((X22-2)*0.5)))),"D") -> 5 | R22: 3 | S22: 5 | T22: =AG22 -> 5.27 | U22: =IF(D22<>"D",SUM(Q22:T22),"Disp.") -> 18.27 | V22: =COUNTIFS(E22:P22,"=A") -> 0 | W22: =COUNTIFS(E22:P22,"=R") -> 0 | X22: =COUNTIFS(E22:P22,"=T") -> 0 | Y22: =COUNTIFS(E22:P22,"=M") -> 0 | Z22: 16 | AA22: =B22 -> 0 | AB22: 2.38 | AE22: =IF(D22="D",100,(MIN(AB22:AD22))) -> 2.38 | AF22: =IF(D22="F",MIN(AB22:AD22),"X") -> 2.38 | AG22: =ROUND(IF(D22="G",((TC!$G$1/AE22)*6),IF(D22="F",((TC!$G$2/AE22)*6),"0")),2) -> 5.27 | AH22: 3 | AJ22: =IF(AH22<=3,1,0) -> 1 | AK22: =IF(AND(AH22>=4,AH22<=6),1,0) -> 0 | AL22: =IF(AH22>=7,1,0) -> 0
A23: 17 | D23: F | Q23: =IF(D23<>"D",IF(X23<=2,5-(V23*0.5),5-(((V23*0.5)+((X23-2)*0.5)))),"D") -> 5 | S23: 5 | T23: =AG23 -> 1.79 | U23: =IF(D23<>"D",SUM(Q23:T23),"Disp.") -> 11.79 | V23: =COUNTIFS(E23:P23,"=A") -> 0 | W23: =COUNTIFS(E23:P23,"=R") -> 0 | X23: =COUNTIFS(E23:P23,"=T") -> 0 | Y23: =COUNTIFS(E23:P23,"=M") -> 0 | Z23: 17 | AA23: =B23 -> 0 | AB23: 7 | AC23: 35 | AE23: =IF(D23="D",100,(MIN(AB23:AD23))) -> 7 | AF23: =IF(D23="F",MIN(AB23:AD23),"X") -> 7 | AG23: =ROUND(IF(D23="G",((TC!$G$1/AE23)*6),IF(D23="F",((TC!$G$2/AE23)*6),"0")),2) -> 1.79 | AH23: 2 | AJ23: =IF(AH23<=3,1,0) -> 1 | AK23: =IF(AND(AH23>=4,AH23<=6),1,0) -> 0 | AL23: =IF(AH23>=7,1,0) -> 0
A24: 18 | D24: G | Q24: =IF(D24<>"D",IF(X24<=2,5-(V24*0.5),5-(((V24*0.5)+((X24-2)*0.5)))),"D") -> 5 | S24: 5 | T24: =AG24 -> 4.47 | U24: =IF(D24<>"D",SUM(Q24:T24),"Disp.") -> 14.47 | V24: =COUNTIFS(E24:P24,"=A") -> 0 | W24: =COUNTIFS(E24:P24,"=R") -> 0 | X24: =COUNTIFS(E24:P24,"=T") -> 0 | Y24: =COUNTIFS(E24:P24,"=M") -> 0 | Z24: 18 | AA24: =B24 -> 0 | AB24: 4.16 | AE24: =IF(D24="D",100,(MIN(AB24:AD24))) -> 4.16 | AF24: =IF(D24="F",MIN(AB24:AD24),"X") -> X | AG24: =ROUND(IF(D24="G",((TC!$G$1/AE24)*6),IF(D24="F",((TC!$G$2/AE24)*6),"0")),2) -> 4.47 | AH24: 5 | AJ24: =IF(AH24<=3,1,0) -> 0 | AK24: =IF(AND(AH24>=4,AH24<=6),1,0) -> 1 | AL24: =IF(AH24>=7,1,0) -> 0
A25: 19 | D25: F | Q25: =IF(D25<>"D",IF(X25<=2,5-(V25*0.5),5-(((V25*0.5)+((X25-2)*0.5)))),"D") -> 5 | S25: 5 | T25: =AG25 -> 1.79 | U25: =IF(D25<>"D",SUM(Q25:T25),"Disp.") -> 11.79 | V25: =COUNTIFS(E25:P25,"=A") -> 0 | W25: =COUNTIFS(E25:P25,"=R") -> 0 | X25: =COUNTIFS(E25:P25,"=T") -> 0 | Y25: =COUNTIFS(E25:P25,"=M") -> 0 | Z25: 19 | AA25: =B25 -> 0 | AB25: 7 | AC25: 35 | AE25: =IF(D25="D",100,(MIN(AB25:AD25))) -> 7 | AF25: =IF(D25="F",MIN(AB25:AD25),"X") -> 7 | AG25: =ROUND(IF(D25="G",((TC!$G$1/AE25)*6),IF(D25="F",((TC!$G$2/AE25)*6),"0")),2) -> 1.79 | AH25: 3 | AJ25: =IF(AH25<=3,1,0) -> 1 | AK25: =IF(AND(AH25>=4,AH25<=6),1,0) -> 0 | AL25: =IF(AH25>=7,1,0) -> 0
A26: 20 | D26: F | Q26: =IF(D26<>"D",IF(X26<=2,5-(V26*0.5),5-(((V26*0.5)+((X26-2)*0.5)))),"D") -> 5 | R26: 3 | S26: 5 | T26: =AG26 -> 3.8 | U26: =IF(D26<>"D",SUM(Q26:T26),"Disp.") -> 16.8 | V26: =COUNTIFS(E26:P26,"=A") -> 0 | W26: =COUNTIFS(E26:P26,"=R") -> 0 | X26: =COUNTIFS(E26:P26,"=T") -> 0 | Y26: =COUNTIFS(E26:P26,"=M") -> 0 | Z26: 20 | AA26: =B26 -> 0 | AB26: 7 | AC26: 3.3 | AE26: =IF(D26="D",100,(MIN(AB26:AD26))) -> 3.3 | AF26: =IF(D26="F",MIN(AB26:AD26),"X") -> 3.3 | AG26: =ROUND(IF(D26="G",((TC!$G$1/AE26)*6),IF(D26="F",((TC!$G$2/AE26)*6),"0")),2) -> 3.8 | AH26: 3 | AJ26: =IF(AH26<=3,1,0) -> 1 | AK26: =IF(AND(AH26>=4,AH26<=6),1,0) -> 0 | AL26: =IF(AH26>=7,1,0) -> 0
A27: 21 | D27: F | Q27: =IF(D27<>"D",IF(X27<=2,5-(V27*0.5),5-(((V27*0.5)+((X27-2)*0.5)))),"D") -> 5 | S27: 5 | T27: =AG27 -> 3.8 | U27: =IF(D27<>"D",SUM(Q27:T27),"Disp.") -> 13.8 | V27: =COUNTIFS(E27:P27,"=A") -> 0 | W27: =COUNTIFS(E27:P27,"=R") -> 0 | X27: =COUNTIFS(E27:P27,"=T") -> 0 | Y27: =COUNTIFS(E27:P27,"=M") -> 0 | Z27: 21 | AA27: =B27 -> 0 | AB27: 7 | AC27: 3.3 | AE27: =IF(D27="D",100,(MIN(AB27:AD27))) -> 3.3 | AF27: =IF(D27="F",MIN(AB27:AD27),"X") -> 3.3 | AG27: =ROUND(IF(D27="G",((TC!$G$1/AE27)*6),IF(D27="F",((TC!$G$2/AE27)*6),"0")),2) -> 3.8 | AH27: 2 | AJ27: =IF(AH27<=3,1,0) -> 1 | AK27: =IF(AND(AH27>=4,AH27<=6),1,0) -> 0 | AL27: =IF(AH27>=7,1,0) -> 0
A28: 22 | D28: G | Q28: =IF(D28<>"D",IF(X28<=2,5-(V28*0.5),5-(((V28*0.5)+((X28-2)*0.5)))),"D") -> 5 | R28: 1.5 | S28: 5 | T28: =AG28 -> 4.62 | U28: =IF(D28<>"D",SUM(Q28:T28),"Disp.") -> 16.12 | V28: =COUNTIFS(E28:P28,"=A") -> 0 | W28: =COUNTIFS(E28:P28,"=R") -> 0 | X28: =COUNTIFS(E28:P28,"=T") -> 0 | Y28: =COUNTIFS(E28:P28,"=M") -> 0 | Z28: 22 | AA28: =B28 -> 0 | AB28: 4.03 | AE28: =IF(D28="D",100,(MIN(AB28:AD28))) -> 4.03 | AF28: =IF(D28="F",MIN(AB28:AD28),"X") -> X | AG28: =ROUND(IF(D28="G",((TC!$G$1/AE28)*6),IF(D28="F",((TC!$G$2/AE28)*6),"0")),2) -> 4.62 | AH28: 6 | AJ28: =IF(AH28<=3,1,0) -> 0 | AK28: =IF(AND(AH28>=4,AH28<=6),1,0) -> 1 | AL28: =IF(AH28>=7,1,0) -> 0
A29: 23 | D29: G | Q29: =IF(D29<>"D",IF(X29<=2,5-(V29*0.5),5-(((V29*0.5)+((X29-2)*0.5)))),"D") -> 5 | S29: 5 | T29: =AG29 -> 5.34 | U29: =IF(D29<>"D",SUM(Q29:T29),"Disp.") -> 15.34 | V29: =COUNTIFS(E29:P29,"=A") -> 0 | W29: =COUNTIFS(E29:P29,"=R") -> 0 | X29: =COUNTIFS(E29:P29,"=T") -> 0 | Y29: =COUNTIFS(E29:P29,"=M") -> 0 | Z29: 23 | AA29: =B29 -> 0 | AB29: 3.48 | AE29: =IF(D29="D",100,(MIN(AB29:AD29))) -> 3.48 | AF29: =IF(D29="F",MIN(AB29:AD29),"X") -> X | AG29: =ROUND(IF(D29="G",((TC!$G$1/AE29)*6),IF(D29="F",((TC!$G$2/AE29)*6),"0")),2) -> 5.34 | AH29: 7 | AJ29: =IF(AH29<=3,1,0) -> 0 | AK29: =IF(AND(AH29>=4,AH29<=6),1,0) -> 0 | AL29: =IF(AH29>=7,1,0) -> 1
A30: 24 | D30: G | Q30: =IF(D30<>"D",IF(X30<=2,5-(V30*0.5),5-(((V30*0.5)+((X30-2)*0.5)))),"D") -> 5 | S30: 5 | T30: =AG30 -> 5.69 | U30: =IF(D30<>"D",SUM(Q30:T30),"Disp.") -> 15.69 | V30: =COUNTIFS(E30:P30,"=A") -> 0 | W30: =COUNTIFS(E30:P30,"=R") -> 0 | X30: =COUNTIFS(E30:P30,"=T") -> 0 | Y30: =COUNTIFS(E30:P30,"=M") -> 0 | Z30: 24 | AA30: =B30 -> 0 | AB30: 3.27 | AE30: =IF(D30="D",100,(MIN(AB30:AD30))) -> 3.27 | AF30: =IF(D30="F",MIN(AB30:AD30),"X") -> X | AG30: =ROUND(IF(D30="G",((TC!$G$1/AE30)*6),IF(D30="F",((TC!$G$2/AE30)*6),"0")),2) -> 5.69 | AH30: 7 | AJ30: =IF(AH30<=3,1,0) -> 0 | AK30: =IF(AND(AH30>=4,AH30<=6),1,0) -> 0 | AL30: =IF(AH30>=7,1,0) -> 1
A31: 25 | D31: G | Q31: =IF(D31<>"D",IF(X31<=2,5-(V31*0.5),5-(((V31*0.5)+((X31-2)*0.5)))),"D") -> 5 | R31: 3 | S31: 5 | T31: =AG31 -> 5.52 | U31: =IF(D31<>"D",SUM(Q31:T31),"Disp.") -> 18.52 | V31: =COUNTIFS(E31:P31,"=A") -> 0 | W31: =COUNTIFS(E31:P31,"=R") -> 0 | X31: =COUNTIFS(E31:P31,"=T") -> 0 | Y31: =COUNTIFS(E31:P31,"=M") -> 0 | Z31: 25 | AA31: =B31 -> 0 | AB31: 3.37 | AE31: =IF(D31="D",100,(MIN(AB31:AD31))) -> 3.37 | AF31: =IF(D31="F",MIN(AB31:AD31),"X") -> X | AG31: =ROUND(IF(D31="G",((TC!$G$1/AE31)*6),IF(D31="F",((TC!$G$2/AE31)*6),"0")),2) -> 5.52 | AH31: 6 | AJ31: =IF(AH31<=3,1,0) -> 0 | AK31: =IF(AND(AH31>=4,AH31<=6),1,0) -> 1 | AL31: =IF(AH31>=7,1,0) -> 0
A32: 26 | D32: F | Q32: =IF(D32<>"D",IF(X32<=2,5-(V32*0.5),5-(((V32*0.5)+((X32-2)*0.5)))),"D") -> 5 | S32: 5 | T32: =AG32 -> 1.79 | U32: =IF(D32<>"D",SUM(Q32:T32),"Disp.") -> 11.79 | V32: =COUNTIFS(E32:P32,"=A") -> 0 | W32: =COUNTIFS(E32:P32,"=R") -> 0 | X32: =COUNTIFS(E32:P32,"=T") -> 0 | Y32: =COUNTIFS(E32:P32,"=M") -> 0 | Z32: 26 | AA32: =B32 -> 0 | AB32: 7 | AC32: 35 | AE32: =IF(D32="D",100,(MIN(AB32:AD32))) -> 7 | AF32: =IF(D32="F",MIN(AB32:AD32),"X") -> 7 | AG32: =ROUND(IF(D32="G",((TC!$G$1/AE32)*6),IF(D32="F",((TC!$G$2/AE32)*6),"0")),2) -> 1.79 | AH32: 2 | AJ32: =IF(AH32<=3,1,0) -> 1 | AK32: =IF(AND(AH32>=4,AH32<=6),1,0) -> 0 | AL32: =IF(AH32>=7,1,0) -> 0
A33: 27 | D33: G | Q33: =IF(D33<>"D",IF(X33<=2,5-(V33*0.5),5-(((V33*0.5)+((X33-2)*0.5)))),"D") -> 5 | S33: 5 | T33: =AG33 -> 5.47 | U33: =IF(D33<>"D",SUM(Q33:T33),"Disp.") -> 15.47 | V33: =COUNTIFS(E33:P33,"=A") -> 0 | W33: =COUNTIFS(E33:P33,"=R") -> 0 | X33: =COUNTIFS(E33:P33,"=T") -> 0 | Y33: =COUNTIFS(E33:P33,"=M") -> 0 | Z33: 27 | AA33: =B33 -> 0 | AB33: 3.4 | AC33: 4.11 | AE33: =IF(D33="D",100,(MIN(AB33:AD33))) -> 3.4 | AF33: =IF(D33="F",MIN(AB33:AD33),"X") -> X | AG33: =ROUND(IF(D33="G",((TC!$G$1/AE33)*6),IF(D33="F",((TC!$G$2/AE33)*6),"0")),2) -> 5.47 | AH33: 4 | AJ33: =IF(AH33<=3,1,0) -> 0 | AK33: =IF(AND(AH33>=4,AH33<=6),1,0) -> 1 | AL33: =IF(AH33>=7,1,0) -> 0
A34: 28 | D34: G | Q34: =IF(D34<>"D",IF(X34<=2,5-(V34*0.5),5-(((V34*0.5)+((X34-2)*0.5)))),"D") -> 5 | R34: 3 | S34: 5 | T34: =AG34 -> 4.57 | U34: =IF(D34<>"D",SUM(Q34:T34),"Disp.") -> 17.57 | V34: =COUNTIFS(E34:P34,"=A") -> 0 | W34: =COUNTIFS(E34:P34,"=R") -> 0 | X34: =COUNTIFS(E34:P34,"=T") -> 0 | Y34: =COUNTIFS(E34:P34,"=M") -> 0 | Z34: 28 | AA34: =B34 -> 0 | AB34: 4.07 | AE34: =IF(D34="D",100,(MIN(AB34:AD34))) -> 4.07 | AF34: =IF(D34="F",MIN(AB34:AD34),"X") -> X | AG34: =ROUND(IF(D34="G",((TC!$G$1/AE34)*6),IF(D34="F",((TC!$G$2/AE34)*6),"0")),2) -> 4.57 | AH34: 5 | AJ34: =IF(AH34<=3,1,0) -> 0 | AK34: =IF(AND(AH34>=4,AH34<=6),1,0) -> 1 | AL34: =IF(AH34>=7,1,0) -> 0
A35: 29 | D35: F | Q35: =IF(D35<>"D",IF(X35<=2,5-(V35*0.5),5-(((V35*0.5)+((X35-2)*0.5)))),"D") -> 5 | R35: 7 | S35: 5 | T35: =AG35 -> 1.79 | U35: =IF(D35<>"D",SUM(Q35:T35),"Disp.") -> 18.79 | V35: =COUNTIFS(E35:P35,"=A") -> 0 | W35: =COUNTIFS(E35:P35,"=R") -> 0 | X35: =COUNTIFS(E35:P35,"=T") -> 0 | Y35: =COUNTIFS(E35:P35,"=M") -> 0 | Z35: 29 | AA35: =B35 -> 0 | AB35: 7 | AE35: =IF(D35="D",100,(MIN(AB35:AD35))) -> 7 | AF35: =IF(D35="F",MIN(AB35:AD35),"X") -> 7 | AG35: =ROUND(IF(D35="G",((TC!$G$1/AE35)*6),IF(D35="F",((TC!$G$2/AE35)*6),"0")),2) -> 1.79 | AH35: 3 | AJ35: =IF(AH35<=3,1,0) -> 1 | AK35: =IF(AND(AH35>=4,AH35<=6),1,0) -> 0 | AL35: =IF(AH35>=7,1,0) -> 0
A36: 30 | D36: D | Q36: =IF(D36<>"D",IF(X36<=2,5-(V36*0.5),5-(((V36*0.5)+((X36-2)*0.5)))),"D") -> D | T36: =AG36 -> 0 | U36: =IF(D36<>"D",SUM(Q36:T36),"Disp.") -> Disp. | V36: =COUNTIFS(E36:P36,"=A") -> 0 | W36: =COUNTIFS(E36:P36,"=R") -> 0 | X36: =COUNTIFS(E36:P36,"=T") -> 0 | Y36: =COUNTIFS(E36:P36,"=M") -> 0 | Z36: 30 | AA36: =B36 -> 0 | AE36: =IF(D36="D",100,(MIN(AB36:AD36))) -> 100 | AF36: =IF(D36="F",MIN(AB36:AD36),"X") -> X | AG36: =ROUND(IF(D36="G",((TC!$G$1/AE36)*6),IF(D36="F",((TC!$G$2/AE36)*6),"0")),2) -> 0
A37: 31 | V37: =COUNTIFS(E37:P37,"=A") -> 0 | W37: =COUNTIFS(E37:P37,"=R") -> 0 | X37: =COUNTIFS(E37:P37,"=T") -> 0 | Y37: =COUNTIFS(E37:P37,"=M") -> 0 | Z37: 31 | AA37: =B37 -> 0 | AE37: =IF(D37="D",100,(MIN(AB37:AD37))) -> 0 | AG37: =ROUND(IF(D37="G",((TC!$G$1/AE37)*6),IF(D37="F",((TC!$G$2/AE37)*6),"0")),2) -> 0
A38: 32 | V38: =COUNTIFS(E38:P38,"=A") -> 0 | W38: =COUNTIFS(E38:P38,"=R") -> 0 | X38: =COUNTIFS(E38:P38,"=T") -> 0 | Y38: =COUNTIFS(E38:P38,"=M") -> 0 | Z38: 32 | AA38: =B38 -> 0 | AE38: =IF(D38="D",100,(MIN(AB38:AD38))) -> 0 | AG38: =ROUND(IF(D38="G",((TC!$G$1/AE38)*6),IF(D38="F",((TC!$G$2/AE38)*6),"0")),2) -> 0
A39: 33 | V39: =COUNTIFS(E39:P39,"=A") -> 0 | W39: =COUNTIFS(E39:P39,"=R") -> 0 | X39: =COUNTIFS(E39:P39,"=T") -> 0 | Y39: =COUNTIFS(E39:P39,"=M") -> 0 | Z39: 33 | AA39: =B39 -> 0 | AE39: =IF(D39="D",100,(MIN(AB39:AD39))) -> 0 | AG39: =ROUND(IF(D39="G",((TC!$G$1/AE39)*6),IF(D39="F",((TC!$G$2/AE39)*6),"0")),2) -> 0
A40: 34 | V40: =COUNTIFS(E40:P40,"=A") -> 0 | W40: =COUNTIFS(E40:P40,"=R") -> 0 | X40: =COUNTIFS(E40:P40,"=T") -> 0 | Y40: =COUNTIFS(E40:P40,"=M") -> 0 | Z40: 34 | AA40: =B40 -> 0 | AE40: =IF(D40="D",100,(MIN(AB40:AD40))) -> 0 | AG40: =ROUND(IF(D40="G",((TC!$G$1/AE40)*6),IF(D40="F",((TC!$G$2/AE40)*6),"0")),2) -> 0
...

Sheet SF3 CDtc
A1: Classe | C1: Cycle: | G1: Endurance | Q1: AS: 2019/2020 | AB1: Abs=35
A2: N° | B2: TCSF-3 | C2: Contrôle-Assiduité-Evaluation | Q2: Evaluation | U2: Note Finale | AB2: Ab=10
C3: Séance | E3: S1 | F3: S2 | G3: S3 | H3: S4 | I3: S5 | J3: S6 | K3: S7 | L3: S8 | M3: S9 | N3: S 10 | O3: S 11 | P3: S 12 | Q3: Conn. Comp. (5) | R3: Conn. Conc. (3) | S3: Conn. Proc (12) | AB3: Art=7
C4: D= | D4: =COUNTIFS(D7:D51,"=D") -> 0 | E4: 43732 | F4: 43734 | G4: =E4+7 -> 43739 | H4: =F4+7 -> 43741 | I4: =G4+7 -> 43746 | J4: =H4+7 -> 43748 | K4: =I4+7 -> 43753 | L4: =J4+7 -> 43755 | M4: =K4+7 -> 43760 | N4: =L4+7 -> 43762 | ... P4: =N4+7 -> 43769 | S4: Comp. Motr. | T4: Hab. Motrc. | U4: /20 | AJ4: 3 et < | AK4: Entre 4 et 6 | AL4: 7 et >
B5: Nom | C5: G= | D5: =COUNTIFS(D7:D51,"=G") -> 12 | V5: Assiduité | Z5: N° | AA5: Nom | AB5: Test 1 | AC5: Test 2 | AD5: Test 3 | AE5: Meilleur TG | AF5: Meilleur TF | AG5: Nt Hab Mot | AH5: Palier au test | AJ5: =SUM(AJ7:AJ46) -> 13 | AK5: =SUM(AK7:AK46) -> 13 | AL5: =SUM(AL7:AL46) -> 8
B6: Prénom | C6: F= | D6: =COUNTIFS(D7:D51,"=F") -> 19 | Q6: /5 | R6: /3 | S6: /6 | T6: /6 | V6: A | W6: R | X6: T | Y6: M
A7: 1 | D7: F | Q7: =IF(D7<>"D",IF(X7<=2,5-(V7*0.5),5-(((V7*0.5)+((X7-2)*0.5)))),"D") -> 5 | S7: 5 | T7: =AG7 -> 5.23 | U7: =IF(D7<>"D",SUM(Q7:T7),"Disp.") -> 15.23 | V7: =COUNTIFS(E7:P7,"=A") -> 0 | W7: =COUNTIFS(E7:P7,"=R") -> 0 | X7: =COUNTIFS(E7:P7,"=T") -> 0 | Y7: =COUNTIFS(E7:P7,"=M") -> 0 | Z7: 1 | AA7: =B7 -> 0 | AB7: 2.4 | AE7: =IF(D7="D",100,(MIN(AB7:AD7))) -> 2.4 | AF7: =IF(D7="F",MIN(AB7:AD7),"X") -> 2.4 | AG7: =ROUND(IF(D7="G",((TC!$G$1/AE7)*6),IF(D7="F",((TC!$G$2/AE7)*6),"0")),2) -> 5.23 | AH7: 3 | AJ7: =IF(AH7<=3,1,0) -> 1 | AK7: =IF(AND(AH7>=4,AH7<=6),1,0) -> 0 | AL7: =IF(AH7>=7,1,0) -> 0
A8: 2 | D8: F | Q8: =IF(D8<>"D",IF(X8<=2,5-(V8*0.5),5-(((V8*0.5)+((X8-2)*0.5)))),"D") -> 5 | S8: 5 | T8: =AG8 -> 2.51 | U8: =IF(D8<>"D",SUM(Q8:T8),"Disp.") -> 12.51 | V8: =COUNTIFS(E8:P8,"=A") -> 0 | W8: =COUNTIFS(E8:P8,"=R") -> 0 | X8: =COUNTIFS(E8:P8,"=T") -> 0 | Y8: =COUNTIFS(E8:P8,"=M") -> 0 | Z8: 2 | AA8: =B8 -> 0 | AB8: 5 | AE8: =IF(D8="D",100,(MIN(AB8:AD8))) -> 5 | AF8: =IF(D8="F",MIN(AB8:AD8),"X") -> 5 | AG8: =ROUND(IF(D8="G",((TC!$G$1/AE8)*6),IF(D8="F",((TC!$G$2/AE8)*6),"0")),2) -> 2.51 | AH8: 5 | AJ8: =IF(AH8<=3,1,0) -> 0 | AK8: =IF(AND(AH8>=4,AH8<=6),1,0) -> 1 | AL8: =IF(AH8>=7,1,0) -> 0
A9: 3 | D9: F | Q9: =IF(D9<>"D",IF(X9<=2,5-(V9*0.5),5-(((V9*0.5)+((X9-2)*0.5)))),"D") -> 5 | S9: 5 | T9: =AG9 -> 1.25 | U9: =IF(D9<>"D",SUM(Q9:T9),"Disp.") -> 11.25 | V9: =COUNTIFS(E9:P9,"=A") -> 0 | W9: =COUNTIFS(E9:P9,"=R") -> 0 | X9: =COUNTIFS(E9:P9,"=T") -> 0 | Y9: =COUNTIFS(E9:P9,"=M") -> 0 | Z9: 3 | AA9: =B9 -> 0 | AB9: 10 | AE9: =IF(D9="D",100,(MIN(AB9:AD9))) -> 10 | AF9: =IF(D9="F",MIN(AB9:AD9),"X") -> 10 | AG9: =ROUND(IF(D9="G",((TC!$G$1/AE9)*6),IF(D9="F",((TC!$G$2/AE9)*6),"0")),2) -> 1.25 | AH9: 1 | AJ9: =IF(AH9<=3,1,0) -> 1 | AK9: =IF(AND(AH9>=4,AH9<=6),1,0) -> 0 | AL9: =IF(AH9>=7,1,0) -> 0
A10: 4 | D10: F | Q10: =IF(D10<>"D",IF(X10<=2,5-(V10*0.5),5-(((V10*0.5)+((X10-2)*0.5)))),"D") -> 5 | R10: 1.5 | S10: 5 | T10: =AG10 -> 5.08 | U10: =IF(D10<>"D",SUM(Q10:T10),"Disp.") -> 16.58 | V10: =COUNTIFS(E10:P10,"=A") -> 0 | W10: =COUNTIFS(E10:P10,"=R") -> 0 | X10: =COUNTIFS(E10:P10,"=T") -> 0 | Y10: =COUNTIFS(E10:P10,"=M") -> 0 | Z10: 4 | AA10: =B10 -> 0 | AB10: 2.47 | AE10: =IF(D10="D",100,(MIN(AB10:AD10))) -> 2.47 | AF10: =IF(D10="F",MIN(AB10:AD10),"X") -> 2.47 | AG10: =ROUND(IF(D10="G",((TC!$G$1/AE10)*6),IF(D10="F",((TC!$G$2/AE10)*6),"0")),2) -> 5.08 | AH10: 4 | AJ10: =IF(AH10<=3,1,0) -> 0 | AK10: =IF(AND(AH10>=4,AH10<=6),1,0) -> 1 | AL10: =IF(AH10>=7,1,0) -> 0
A11: 5 | D11: G | Q11: =IF(D11<>"D",IF(X11<=2,5-(V11*0.5),5-(((V11*0.5)+((X11-2)*0.5)))),"D") -> 5 | S11: 5 | T11: =AG11 -> 5.76 | U11: =IF(D11<>"D",SUM(Q11:T11),"Disp.") -> 15.76 | V11: =COUNTIFS(E11:P11,"=A") -> 0 | W11: =COUNTIFS(E11:P11,"=R") -> 0 | X11: =COUNTIFS(E11:P11,"=T") -> 0 | Y11: =COUNTIFS(E11:P11,"=M") -> 0 | Z11: 5 | AA11: =B11 -> 0 | AB11: 3.23 | AC11: 4.07 | AE11: =IF(D11="D",100,(MIN(AB11:AD11))) -> 3.23 | AF11: =IF(D11="F",MIN(AB11:AD11),"X") -> X | AG11: =ROUND(IF(D11="G",((TC!$G$1/AE11)*6),IF(D11="F",((TC!$G$2/AE11)*6),"0")),2) -> 5.76 | AH11: 8 | AJ11: =IF(AH11<=3,1,0) -> 0 | AK11: =IF(AND(AH11>=4,AH11<=6),1,0) -> 0 | AL11: =IF(AH11>=7,1,0) -> 1
A12: 6 | D12: F | Q12: =IF(D12<>"D",IF(X12<=2,5-(V12*0.5),5-(((V12*0.5)+((X12-2)*0.5)))),"D") -> 5 | S12: 5 | T12: =AG12 -> 1.79 | U12: =IF(D12<>"D",SUM(Q12:T12),"Disp.") -> 11.79 | V12: =COUNTIFS(E12:P12,"=A") -> 0 | W12: =COUNTIFS(E12:P12,"=R") -> 0 | X12: =COUNTIFS(E12:P12,"=T") -> 0 | Y12: =COUNTIFS(E12:P12,"=M") -> 0 | Z12: 6 | AA12: =B12 -> 0 | AB12: 7 | AE12: =IF(D12="D",100,(MIN(AB12:AD12))) -> 7 | AF12: =IF(D12="F",MIN(AB12:AD12),"X") -> 7 | AG12: =ROUND(IF(D12="G",((TC!$G$1/AE12)*6),IF(D12="F",((TC!$G$2/AE12)*6),"0")),2) -> 1.79 | AH12: 3 | AJ12: =IF(AH12<=3,1,0) -> 1 | AK12: =IF(AND(AH12>=4,AH12<=6),1,0) -> 0 | AL12: =IF(AH12>=7,1,0) -> 0
A13: 7 | D13: G | Q13: =IF(D13<>"D",IF(X13<=2,5-(V13*0.5),5-(((V13*0.5)+((X13-2)*0.5)))),"D") -> 5 | S13: 5 | T13: =AG13 -> 5.71 | U13: =IF(D13<>"D",SUM(Q13:T13),"Disp.") -> 15.71 | V13: =COUNTIFS(E13:P13,"=A") -> 0 | W13: =COUNTIFS(E13:P13,"=R") -> 0 | X13: =COUNTIFS(E13:P13,"=T") -> 0 | Y13: =COUNTIFS(E13:P13,"=M") -> 0 | Z13: 7 | AA13: =B13 -> 0 | AB13: 3.26 | AC13: 3.42 | AE13: =IF(D13="D",100,(MIN(AB13:AD13))) -> 3.26 | AF13: =IF(D13="F",MIN(AB13:AD13),"X") -> X | AG13: =ROUND(IF(D13="G",((TC!$G$1/AE13)*6),IF(D13="F",((TC!$G$2/AE13)*6),"0")),2) -> 5.71 | AH13: 10 | AJ13: =IF(AH13<=3,1,0) -> 0 | AK13: =IF(AND(AH13>=4,AH13<=6),1,0) -> 0 | AL13: =IF(AH13>=7,1,0) -> 1
A14: 8 | D14: G | Q14: =IF(D14<>"D",IF(X14<=2,5-(V14*0.5),5-(((V14*0.5)+((X14-2)*0.5)))),"D") -> 5 | R14: 3 | S14: 5 | T14: =AG14 -> 5.71 | U14: =IF(D14<>"D",SUM(Q14:T14),"Disp.") -> 18.71 | V14: =COUNTIFS(E14:P14,"=A") -> 0 | W14: =COUNTIFS(E14:P14,"=R") -> 0 | X14: =COUNTIFS(E14:P14,"=T") -> 0 | Y14: =COUNTIFS(E14:P14,"=M") -> 0 | Z14: 8 | AA14: =B14 -> 0 | AB14: 3.26 | AC14: 3.43 | AE14: =IF(D14="D",100,(MIN(AB14:AD14))) -> 3.26 | AF14: =IF(D14="F",MIN(AB14:AD14),"X") -> X | AG14: =ROUND(IF(D14="G",((TC!$G$1/AE14)*6),IF(D14="F",((TC!$G$2/AE14)*6),"0")),2) -> 5.71 | AH14: 8 | AJ14: =IF(AH14<=3,1,0) -> 0 | AK14: =IF(AND(AH14>=4,AH14<=6),1,0) -> 0 | AL14: =IF(AH14>=7,1,0) -> 1
A15: 9 | D15: F | Q15: =IF(D15<>"D",IF(X15<=2,5-(V15*0.5),5-(((V15*0.5)+((X15-2)*0.5)))),"D") -> 5 | R15: 3 | S15: 5 | T15: =AG15 -> 5.25 | U15: =IF(D15<>"D",SUM(Q15:T15),"Disp.") -> 18.25 | V15: =COUNTIFS(E15:P15,"=A") -> 0 | W15: =COUNTIFS(E15:P15,"=R") -> 0 | X15: =COUNTIFS(E15:P15,"=T") -> 0 | Y15: =COUNTIFS(E15:P15,"=M") -> 0 | Z15: 9 | AA15: =B15 -> 0 | AB15: 2.39 | AE15: =IF(D15="D",100,(MIN(AB15:AD15))) -> 2.39 | AF15: =IF(D15="F",MIN(AB15:AD15),"X") -> 2.39 | AG15: =ROUND(IF(D15="G",((TC!$G$1/AE15)*6),IF(D15="F",((TC!$G$2/AE15)*6),"0")),2) -> 5.25 | AH15: 4 | AJ15: =IF(AH15<=3,1,0) -> 0 | AK15: =IF(AND(AH15>=4,AH15<=6),1,0) -> 1 | AL15: =IF(AH15>=7,1,0) -> 0
A16: 10 | D16: G | Q16: =IF(D16<>"D",IF(X16<=2,5-(V16*0.5),5-(((V16*0.5)+((X16-2)*0.5)))),"D") -> 5 | R16: 1 | S16: 5 | T16: =AG16 -> 5.39 | U16: =IF(D16<>"D",SUM(Q16:T16),"Disp.") -> 16.39 | V16: =COUNTIFS(E16:P16,"=A") -> 0 | W16: =COUNTIFS(E16:P16,"=R") -> 0 | X16: =COUNTIFS(E16:P16,"=T") -> 0 | Y16: =COUNTIFS(E16:P16,"=M") -> 0 | Z16: 10 | AA16: =B16 -> 0 | AB16: 3.49 | AC16: 3.45 | AE16: =IF(D16="D",100,(MIN(AB16:AD16))) -> 3.45 | AF16: =IF(D16="F",MIN(AB16:AD16),"X") -> X | AG16: =ROUND(IF(D16="G",((TC!$G$1/AE16)*6),IF(D16="F",((TC!$G$2/AE16)*6),"0")),2) -> 5.39 | AH16: 5 | AJ16: =IF(AH16<=3,1,0) -> 0 | AK16: =IF(AND(AH16>=4,AH16<=6),1,0) -> 1 | AL16: =IF(AH16>=7,1,0) -> 0
A17: 11 | D17: G | Q17: =IF(D17<>"D",IF(X17<=2,5-(V17*0.5),5-(((V17*0.5)+((X17-2)*0.5)))),"D") -> 5 | R17: 3 | S17: 5 | T17: =AG17 -> 5.42 | U17: =IF(D17<>"D",SUM(Q17:T17),"Disp.") -> 18.42 | V17: =COUNTIFS(E17:P17,"=A") -> 0 | W17: =COUNTIFS(E17:P17,"=R") -> 0 | X17: =COUNTIFS(E17:P17,"=T") -> 0 | Y17: =COUNTIFS(E17:P17,"=M") -> 0 | Z17: 11 | AA17: =B17 -> 0 | AB17: 3.43 | AE17: =IF(D17="D",100,(MIN(AB17:AD17))) -> 3.43 | AF17: =IF(D17="F",MIN(AB17:AD17),"X") -> X | AG17: =ROUND(IF(D17="G",((TC!$G$1/AE17)*6),IF(D17="F",((TC!$G$2/AE17)*6),"0")),2) -> 5.42 | AH17: 7 | AJ17: =IF(AH17<=3,1,0) -> 0 | AK17: =IF(AND(AH17>=4,AH17<=6),1,0) -> 0 | AL17: =IF(AH17>=7,1,0) -> 1
A18: 12 | D18: G | Q18: =IF(D18<>"D",IF(X18<=2,5-(V18*0.5),5-(((V18*0.5)+((X18-2)*0.5)))),"D") -> 5 | R18: 1.5 | S18: 5 | T18: =AG18 -> 5.9 | U18: =IF(D18<>"D",SUM(Q18:T18),"Disp.") -> 17.4 | V18: =COUNTIFS(E18:P18,"=A") -> 0 | W18: =COUNTIFS(E18:P18,"=R") -> 0 | X18: =COUNTIFS(E18:P18,"=T") -> 0 | Y18: =COUNTIFS(E18:P18,"=M") -> 0 | Z18: 12 | AA18: =B18 -> 0 | AB18: 3.15 | AC18: 3.27 | AE18: =IF(D18="D",100,(MIN(AB18:AD18))) -> 3.15 | AF18: =IF(D18="F",MIN(AB18:AD18),"X") -> X | AG18: =ROUND(IF(D18="G",((TC!$G$1/AE18)*6),IF(D18="F",((TC!$G$2/AE18)*6),"0")),2) -> 5.9 | AH18: 10 | AJ18: =IF(AH18<=3,1,0) -> 0 | AK18: =IF(AND(AH18>=4,AH18<=6),1,0) -> 0 | AL18: =IF(AH18>=7,1,0) -> 1
A19: 13 | D19: F | Q19: =IF(D19<>"D",IF(X19<=2,5-(V19*0.5),5-(((V19*0.5)+((X19-2)*0.5)))),"D") -> 5 | S19: 5 | T19: =AG19 -> 1.79 | U19: =IF(D19<>"D",SUM(Q19:T19),"Disp.") -> 11.79 | V19: =COUNTIFS(E19:P19,"=A") -> 0 | W19: =COUNTIFS(E19:P19,"=R") -> 0 | X19: =COUNTIFS(E19:P19,"=T") -> 0 | Y19: =COUNTIFS(E19:P19,"=M") -> 0 | Z19: 13 | AA19: =B19 -> 0 | AB19: 7 | AE19: =IF(D19="D",100,(MIN(AB19:AD19))) -> 7 | AF19: =IF(D19="F",MIN(AB19:AD19),"X") -> 7 | AG19: =ROUND(IF(D19="G",((TC!$G$1/AE19)*6),IF(D19="F",((TC!$G$2/AE19)*6),"0")),2) -> 1.79 | AH19: 4 | AJ19: =IF(AH19<=3,1,0) -> 0 | AK19: =IF(AND(AH19>=4,AH19<=6),1,0) -> 1 | AL19: =IF(AH19>=7,1,0) -> 0
A20: 14 | D20: F | Q20: =IF(D20<>"D",IF(X20<=2,5-(V20*0.5),5-(((V20*0.5)+((X20-2)*0.5)))),"D") -> 5 | S20: 5 | T20: =AG20 -> 5.92 | U20: =IF(D20<>"D",SUM(Q20:T20),"Disp.") -> 15.92 | V20: =COUNTIFS(E20:P20,"=A") -> 0 | W20: =COUNTIFS(E20:P20,"=R") -> 0 | X20: =COUNTIFS(E20:P20,"=T") -> 0 | Y20: =COUNTIFS(E20:P20,"=M") -> 0 | Z20: 14 | AA20: =B20 -> 0 | AB20: 2.12 | AE20: =IF(D20="D",100,(MIN(AB20:AD20))) -> 2.12 | AF20: =IF(D20="F",MIN(AB20:AD20),"X") -> 2.12 | AG20: =ROUND(IF(D20="G",((TC!$G$1/AE20)*6),IF(D20="F",((TC!$G$2/AE20)*6),"0")),2) -> 5.92 | AH20: 5 | AJ20: =IF(AH20<=3,1,0) -> 0 | AK20: =IF(AND(AH20>=4,AH20<=6),1,0) -> 1 | AL20: =IF(AH20>=7,1,0) -> 0
A21: 15 | D21: F | Q21: =IF(D21<>"D",IF(X21<=2,5-(V21*0.5),5-(((V21*0.5)+((X21-2)*0.5)))),"D") -> 5 | R21: 3 | S21: 5 | T21: =AG21 -> 5.18 | U21: =IF(D21<>"D",SUM(Q21:T21),"Disp.") -> 18.18 | V21: =COUNTIFS(E21:P21,"=A") -> 0 | W21: =COUNTIFS(E21:P21,"=R") -> 0 | X21: =COUNTIFS(E21:P21,"=T") -> 0 | Y21: =COUNTIFS(E21:P21,"=M") -> 0 | Z21: 15 | AA21: =B21 -> 0 | AB21: 2.42 | AE21: =IF(D21="D",100,(MIN(AB21:AD21))) -> 2.42 | AF21: =IF(D21="F",MIN(AB21:AD21),"X") -> 2.42 | AG21: =ROUND(IF(D21="G",((TC!$G$1/AE21)*6),IF(D21="F",((TC!$G$2/AE21)*6),"0")),2) -> 5.18 | AH21: 5 | AJ21: =IF(AH21<=3,1,0) -> 0 | AK21: =IF(AND(AH21>=4,AH21<=6),1,0) -> 1 | AL21: =IF(AH21>=7,1,0) -> 0
A22: 16 | D22: G | Q22: =IF(D22<>"D",IF(X22<=2,5-(V22*0.5),5-(((V22*0.5)+((X22-2)*0.5)))),"D") -> 5 | S22: 5 | T22: =AG22 -> 5.59 | U22: =IF(D22<>"D",SUM(Q22:T22),"Disp.") -> 15.59 | V22: =COUNTIFS(E22:P22,"=A") -> 0 | W22: =COUNTIFS(E22:P22,"=R") -> 0 | X22: =COUNTIFS(E22:P22,"=T") -> 0 | Y22: =COUNTIFS(E22:P22,"=M") -> 0 | Z22: 16 | AA22: =B22 -> 0 | AB22: 3.33 | AC22: 3.47 | AE22: =IF(D22="D",100,(MIN(AB22:AD22))) -> 3.33 | AF22: =IF(D22="F",MIN(AB22:AD22),"X") -> X | AG22: =ROUND(IF(D22="G",((TC!$G$1/AE22)*6),IF(D22="F",((TC!$G$2/AE22)*6),"0")),2) -> 5.59 | AH22: 6 | AJ22: =IF(AH22<=3,1,0) -> 0 | AK22: =IF(AND(AH22>=4,AH22<=6),1,0) -> 1 | AL22: =IF(AH22>=7,1,0) -> 0
A23: 17 | D23: G | Q23: =IF(D23<>"D",IF(X23<=2,5-(V23*0.5),5-(((V23*0.5)+((X23-2)*0.5)))),"D") -> 5 | S23: 5 | T23: =AG23 -> 5.34 | U23: =IF(D23<>"D",SUM(Q23:T23),"Disp.") -> 15.34 | V23: =COUNTIFS(E23:P23,"=A") -> 0 | W23: =COUNTIFS(E23:P23,"=R") -> 0 | X23: =COUNTIFS(E23:P23,"=T") -> 0 | Y23: =COUNTIFS(E23:P23,"=M") -> 0 | Z23: 17 | AA23: =B23 -> 0 | AB23: 3.48 | AC23: 4.01 | AE23: =IF(D23="D",100,(MIN(AB23:AD23))) -> 3.48 | AF23: =IF(D23="F",MIN(AB23:AD23),"X") -> X | AG23: =ROUND(IF(D23="G",((TC!$G$1/AE23)*6),IF(D23="F",((TC!$G$2/AE23)*6),"0")),2) -> 5.34 | AH23: 7 | AJ23: =IF(AH23<=3,1,0) -> 0 | AK23: =IF(AND(AH23>=4,AH23<=6),1,0) -> 0 | AL23: =IF(AH23>=7,1,0) -> 1
A24: 18 | D24: F | Q24: =IF(D24<>"D",IF(X24<=2,5-(V24*0.5),5-(((V24*0.5)+((X24-2)*0.5)))),"D") -> 5 | S24: 5 | T24: =AG24 -> 4.08 | U24: =IF(D24<>"D",SUM(Q24:T24),"Disp.") -> 14.08 | V24: =COUNTIFS(E24:P24,"=A") -> 0 | W24: =COUNTIFS(E24:P24,"=R") -> 0 | X24: =COUNTIFS(E24:P24,"=T") -> 0 | Y24: =COUNTIFS(E24:P24,"=M") -> 0 | Z24: 18 | AA24: =B24 -> 0 | AB24: 3.07 | AE24: =IF(D24="D",100,(MIN(AB24:AD24))) -> 3.07 | AF24: =IF(D24="F",MIN(AB24:AD24),"X") -> 3.07 | AG24: =ROUND(IF(D24="G",((TC!$G$1/AE24)*6),IF(D24="F",((TC!$G$2/AE24)*6),"0")),2) -> 4.08 | AH24: 3 | AJ24: =IF(AH24<=3,1,0) -> 1 | AK24: =IF(AND(AH24>=4,AH24<=6),1,0) -> 0 | AL24: =IF(AH24>=7,1,0) -> 0
A25: 19 | D25: F | Q25: =IF(D25<>"D",IF(X25<=2,5-(V25*0.5),5-(((V25*0.5)+((X25-2)*0.5)))),"D") -> 5 | R25: 3 | S25: 5 | T25: =AG25 -> 5.31 | U25: =IF(D25<>"D",SUM(Q25:T25),"Disp.") -> 18.31 | V25: =COUNTIFS(E25:P25,"=A") -> 0 | W25: =COUNTIFS(E25:P25,"=R") -> 0 | X25: =COUNTIFS(E25:P25,"=T") -> 0 | Y25: =COUNTIFS(E25:P25,"=M") -> 0 | Z25: 19 | AA25: =B25 -> 0 | AB25: 2.36 | AE25: =IF(D25="D",100,(MIN(AB25:AD25))) -> 2.36 | AF25: =IF(D25="F",MIN(AB25:AD25),"X") -> 2.36 | AG25: =ROUND(IF(D25="G",((TC!$G$1/AE25)*6),IF(D25="F",((TC!$G$2/AE25)*6),"0")),2) -> 5.31 | AH25: 3 | AJ25: =IF(AH25<=3,1,0) -> 1 | AK25: =IF(AND(AH25>=4,AH25<=6),1,0) -> 0 | AL25: =IF(AH25>=7,1,0) -> 0
A26: 20 | D26: F | Q26: =IF(D26<>"D",IF(X26<=2,5-(V26*0.5),5-(((V26*0.5)+((X26-2)*0.5)))),"D") -> 5 | R26: 3 | S26: 5 | T26: =AG26 -> 5.73 | U26: =IF(D26<>"D",SUM(Q26:T26),"Disp.") -> 18.73 | V26: =COUNTIFS(E26:P26,"=A") -> 0 | W26: =COUNTIFS(E26:P26,"=R") -> 0 | X26: =COUNTIFS(E26:P26,"=T") -> 0 | Y26: =COUNTIFS(E26:P26,"=M") -> 0 | Z26: 20 | AA26: =B26 -> 0 | AB26: 2.19 | AE26: =IF(D26="D",100,(MIN(AB26:AD26))) -> 2.19 | AF26: =IF(D26="F",MIN(AB26:AD26),"X") -> 2.19 | AG26: =ROUND(IF(D26="G",((TC!$G$1/AE26)*6),IF(D26="F",((TC!$G$2/AE26)*6),"0")),2) -> 5.73 | AH26: 5 | AJ26: =IF(AH26<=3,1,0) -> 0 | AK26: =IF(AND(AH26>=4,AH26<=6),1,0) -> 1 | AL26: =IF(AH26>=7,1,0) -> 0
