Workbook

Sheet SF1 CDtc
A1: Classe | C1: Cycle: | G1: Endurance | Q1: AS: 2019/2020 | AB1: Abs=35
A2: N° | B2: TCSF-1 | C2: Contrôle-Assiduité-Evaluation | Q2: Evaluation | U2: Note Finale | AB2: Ab=10
C3: Séance | E3: S1 | F3: S2 | G3: S3 | H3: S4 | I3: S5 | J3: S6 | K3: S7 | L3: S8 | M3: S9 | N3: S 10 | O3: S 11 | P3: S 12 | Q3: Conn. Comp. (5) | R3: Conn. Conc. (3) | S3: Conn. Proc (12) | AB3: Art=7
C4: D= | D4: =COUNTIFS(D7:D51,"=D") -> 0 | E4: 43731 | F4: 43733 | G4: =E4+7 -> 43738 | H4: =F4+7 -> 43740 | I4: =G4+7 -> 43745 | J4: =H4+7 -> 43747 | K4: =I4+7 -> 43752 | L4: =J4+7 -> 43754 | M4: =K4+7 -> 43759 | N4: =L4+7 -> 43761 | ... P4: =N4+7 -> 43768 | S4: Comp. Motr. | T4: Hab. Motrc. | U4: /20 | AJ4: 3 et < | AK4: Entre 4 et 6 | AL4: 7 et >
B5: Nom | C5: G= | D5: =COUNTIFS(D7:D51,"=G") -> 14 | V5: Assiduité | Z5: N° | AA5: Nom | AB5: Test 1 | AC5: Test 2 | AD5: Test 3 | AE5: Meilleur TG | AF5: Meilleur TF | AG5: Nt Hab Mot | AH5: Palier au test | AJ5: =SUM(AJ7:AJ46) -> 19 | AK5: =SUM(AK7:AK46) -> 10 | AL5: =SUM(AL7:AL46) -> 4
B6: Prénom | C6: F= | D6: =COUNTIFS(D7:D51,"=F") -> 16 | Q6: /5 | R6: /3 | S6: /6 | T6: /6 | V6: A | W6: R | X6: T | Y6: M
A7: 1 | D7: G | Q7: =IF(D7<>"D",IF(X7<=2,5-(V7*0.5),5-(((V7*0.5)+((X7-2)*0.5)))),"D") -> 5 | S7: 5 | T7: =AG7 -> 5.39 | U7: =IF(D7<>"D",SUM(Q7:T7),"Disp.") -> 15.39 | V7: =COUNTIFS(E7:P7,"=A") -> 0 | W7: =COUNTIFS(E7:P7,"=R") -> 0 | X7: =COUNTIFS(E7:P7,"=T") -> 0 | Y7: =COUNTIFS(E7:P7,"=M") -> 0 | Z7: 1 | AA7: =B7 -> 0 | AB7: 4.31 | AC7: 3.45 | AE7: =IF(D7="D",100,(MIN(AB7:AD7))) -> 3.45 | AF7: =IF(D7="F",MIN(AB7:AD7),"X") -> X | AG7: =ROUND(IF(D7="G",((TC!$G$1/AE7)*6),IF(D7="F",((TC!$G$2/AE7)*6),"0")),2) -> 5.39 | AH7: 4 | AJ7: =IF(AH7<=3,1,0) -> 0 | AK7: =IF(AND(AH7>=4,AH7<=6),1,0) -> 1 | AL7: =IF(AH7>=7,1,0) -> 0
A8: 2 | D8: G | Q8: =IF(D8<>"D",IF(X8<=2,5-(V8*0.5),5-(((V8*0.5)+((X8-2)*0.5)))),"D") -> 5 | S8: 5 | T8: =AG8 -> 5.45 | U8: =IF(D8<>"D",SUM(Q8:T8),"Disp.") -> 15.45 | V8: =COUNTIFS(E8:P8,"=A") -> 0 | W8: =COUNTIFS(E8:P8,"=R") -> 0 | X8: =COUNTIFS(E8:P8,"=T") -> 0 | Y8: =COUNTIFS(E8:P8,"=M") -> 0 | Z8: 2 | AA8: =B8 -> 0 | AB8: 3.53 | AC8: 3.41 | AE8: =IF(D8="D",100,(MIN(AB8:AD8))) -> 3.41 | AF8: =IF(D8="F",MIN(AB8:AD8),"X") -> X | AG8: =ROUND(IF(D8="G",((TC!$G$1/AE8)*6),IF(D8="F",((TC!$G$2/AE8)*6),"0")),2) -> 5.45 | AH8: 5 | AJ8: =IF(AH8<=3,1,0) -> 0 | AK8: =IF(AND(AH8>=4,AH8<=6),1,0) -> 1 | AL8: =IF(AH8>=7,1,0) -> 0
A9: 3 | D9: G | Q9: =IF(D9<>"D",IF(X9<=2,5-(V9*0.5),5-(((V9*0.5)+((X9-2)*0.5)))),"D") -> 5 | S9: 5 | T9: =AG9 -> 5.2 | U9: =IF(D9<>"D",SUM(Q9:T9),"Disp.") -> 15.2 | V9: =COUNTIFS(E9:P9,"=A") -> 0 | W9: =COUNTIFS(E9:P9,"=R") -> 0 | X9: =COUNTIFS(E9:P9,"=T") -> 0 | Y9: =COUNTIFS(E9:P9,"=M") -> 0 | Z9: 3 | AA9: =B9 -> 0 | AB9: 35 | AC9: 3.58 | AE9: =IF(D9="D",100,(MIN(AB9:AD9))) -> 3.58 | AF9: =IF(D9="F",MIN(AB9:AD9),"X") -> X | AG9: =ROUND(IF(D9="G",((TC!$G$1/AE9)*6),IF(D9="F",((TC!$G$2/AE9)*6),"0")),2) -> 5.2 | AH9: 4 | AJ9: =IF(AH9<=3,1,0) -> 0 | AK9: =IF(AND(AH9>=4,AH9<=6),1,0) -> 1 | AL9: =IF(AH9>=7,1,0) -> 0
A10: 4 | D10: G | Q10: =IF(D10<>"D",IF(X10<=2,5-(V10*0.5),5-(((V10*0.5)+((X10-2)*0.5)))),"D") -> 5 | R10: 2 | S10: 5 | T10: =AG10 -> 5.78 | U10: =IF(D10<>"D",SUM(Q10:T10),"Disp.") -> 17.78 | V10: =COUNTIFS(E10:P10,"=A") -> 0 | W10: =COUNTIFS(E10:P10,"=R") -> 0 | X10: =COUNTIFS(E10:P10,"=T") -> 0 | Y10: =COUNTIFS(E10:P10,"=M") -> 0 | Z10: 4 | AA10: =B10 -> 0 | AB10: 3.23 | AC10: 3.22 | AE10: =IF(D10="D",100,(MIN(AB10:AD10))) -> 3.22 | AF10: =IF(D10="F",MIN(AB10:AD10),"X") -> X | AG10: =ROUND(IF(D10="G",((TC!$G$1/AE10)*6),IF(D10="F",((TC!$G$2/AE10)*6),"0")),2) -> 5.78 | AH10: 7 | AJ10: =IF(AH10<=3,1,0) -> 0 | AK10: =IF(AND(AH10>=4,AH10<=6),1,0) -> 0 | AL10: =IF(AH10>=7,1,0) -> 1
A11: 5 | D11: G | Q11: =IF(D11<>"D",IF(X11<=2,5-(V11*0.5),5-(((V11*0.5)+((X11-2)*0.5)))),"D") -> 5 | S11: 5 | T11: =AG11 -> 5.25 | U11: =IF(D11<>"D",SUM(Q11:T11),"Disp.") -> 15.25 | V11: =COUNTIFS(E11:P11,"=A") -> 0 | W11: =COUNTIFS(E11:P11,"=R") -> 0 | X11: =COUNTIFS(E11:P11,"=T") -> 0 | Y11: =COUNTIFS(E11:P11,"=M") -> 0 | Z11: 5 | AA11: =B11 -> 0 | AB11: 4.07 | AC11: 3.54 | AE11: =IF(D11="D",100,(MIN(AB11:AD11))) -> 3.54 | AF11: =IF(D11="F",MIN(AB11:AD11),"X") -> X | AG11: =ROUND(IF(D11="G",((TC!$G$1/AE11)*6),IF(D11="F",((TC!$G$2/AE11)*6),"0")),2) -> 5.25 | AH11: 4 | AJ11: =IF(AH11<=3,1,0) -> 0 | AK11: =IF(AND(AH11>=4,AH11<=6),1,0) -> 1 | AL11: =IF(AH11>=7,1,0) -> 0
A12: 6 | D12: G | Q12: =IF(D12<>"D",IF(X12<=2,5-(V12*0.5),5-(((V12*0.5)+((X12-2)*0.5)))),"D") -> 5 | R12: 3 | S12: 5 | T12: =AG12 -> 5.69 | U12: =IF(D12<>"D",SUM(Q12:T12),"Disp.") -> 18.69 | V12: =COUNTIFS(E12:P12,"=A") -> 0 | W12: =COUNTIFS(E12:P12,"=R") -> 0 | X12: =COUNTIFS(E12:P12,"=T") -> 0 | Y12: =COUNTIFS(E12:P12,"=M") -> 0 | Z12: 6 | AA12: =B12 -> 0 | AB12: 3.43 | AC12: 3.27 | AE12: =IF(D12="D",100,(MIN(AB12:AD12))) -> 3.27 | AF12: =IF(D12="F",MIN(AB12:AD12),"X") -> X | AG12: =ROUND(IF(D12="G",((TC!$G$1/AE12)*6),IF(D12="F",((TC!$G$2/AE12)*6),"0")),2) -> 5.69 | AH12: 7 | AJ12: =IF(AH12<=3,1,0) -> 0 | AK12: =IF(AND(AH12>=4,AH12<=6),1,0) -> 0 | AL12: =IF(AH12>=7,1,0) -> 1
A13: 7 | D13: G | Q13: =IF(D13<>"D",IF(X13<=2,5-(V13*0.5),5-(((V13*0.5)+((X13-2)*0.5)))),"D") -> 5 | R13: 3 | S13: 5 | T13: =AG13 -> 5.69 | U13: =IF(D13<>"D",SUM(Q13:T13),"Disp.") -> 18.69 | V13: =COUNTIFS(E13:P13,"=A") -> 0 | W13: =COUNTIFS(E13:P13,"=R") -> 0 | X13: =COUNTIFS(E13:P13,"=T") -> 0 | Y13: =COUNTIFS(E13:P13,"=M") -> 0 | Z13: 7 | AA13: =B13 -> 0 | AB13: 3.38 | AC13: 3.27 | AE13: =IF(D13="D",100,(MIN(AB13:AD13))) -> 3.27 | AF13: =IF(D13="F",MIN(AB13:AD13),"X") -> X | AG13: =ROUND(IF(D13="G",((TC!$G$1/AE13)*6),IF(D13="F",((TC!$G$2/AE13)*6),"0")),2) -> 5.69 | AH13: 4 | AJ13: =IF(AH13<=3,1,0) -> 0 | AK13: =IF(AND(AH13>=4,AH13<=6),1,0) -> 1 | AL13: =IF(AH13>=7,1,0) -> 0
A14: 8 | D14: F | Q14: =IF(D14<>"D",IF(X14<=2,5-(V14*0.5),5-(((V14*0.5)+((X14-2)*0.5)))),"D") -> 5 | S14: 5 | T14: =AG14 -> 3.75 | U14: =IF(D14<>"D",SUM(Q14:T14),"Disp.") -> 13.75 | V14: =COUNTIFS(E14:P14,"=A") -> 0 | W14: =COUNTIFS(E14:P14,"=R") -> 0 | X14: =COUNTIFS(E14:P14,"=T") -> 0 | Y14: =COUNTIFS(E14:P14,"=M") -> 0 | Z14: 8 | AA14: =B14 -> 0 | AB14: 3.34 | AE14: =IF(D14="D",100,(MIN(AB14:AD14))) -> 3.34 | AF14: =IF(D14="F",MIN(AB14:AD14),"X") -> 3.34 | AG14: =ROUND(IF(D14="G",((TC!$G$1/AE14)*6),IF(D14="F",((TC!$G$2/AE14)*6),"0")),2) -> 3.75 | AH14: 3 | AJ14: =IF(AH14<=3,1,0) -> 1 | AK14: =IF(AND(AH14>=4,AH14<=6),1,0) -> 0 | AL14: =IF(AH14>=7,1,0) -> 0
A15: 9 | D15: G | Q15: =IF(D15<>"D",IF(X15<=2,5-(V15*0.5),5-(((V15*0.5)+((X15-2)*0.5)))),"D") -> 5 | R15: 2 | S15: 5 | T15: =AG15 -> 5.2 | U15: =IF(D15<>"D",SUM(Q15:T15),"Disp.") -> 17.2 | V15: =COUNTIFS(E15:P15,"=A") -> 0 | W15: =COUNTIFS(E15:P15,"=R") -> 0 | X15: =COUNTIFS(E15:P15,"=T") -> 0 | Y15: =COUNTIFS(E15:P15,"=M") -> 0 | Z15: 9 | AA15: =B15 -> 0 | AB15: 4.04 | AC15: 3.58 | AE15: =IF(D15="D",100,(MIN(AB15:AD15))) -> 3.58 | AF15: =IF(D15="F",MIN(AB15:AD15),"X") -> X | AG15: =ROUND(IF(D15="G",((TC!$G$1/AE15)*6),IF(D15="F",((TC!$G$2/AE15)*6),"0")),2) -> 5.2 | AH15: 4 | AJ15: =IF(AH15<=3,1,0) -> 0 | AK15: =IF(AND(AH15>=4,AH15<=6),1,0) -> 1 | AL15: =IF(AH15>=7,1,0) -> 0
A16: 10 | D16: F | Q16: =IF(D16<>"D",IF(X16<=2,5-(V16*0.5),5-(((V16*0.5)+((X16-2)*0.5)))),"D") -> 5 | R16: 3 | S16: 5 | T16: =AG16 -> 5.04 | U16: =IF(D16<>"D",SUM(Q16:T16),"Disp.") -> 18.04 | V16: =COUNTIFS(E16:P16,"=A") -> 0 | W16: =COUNTIFS(E16:P16,"=R") -> 0 | X16: =COUNTIFS(E16:P16,"=T") -> 0 | Y16: =COUNTIFS(E16:P16,"=M") -> 0 | Z16: 10 | AA16: =B16 -> 0 | AB16: 2.49 | AE16: =IF(D16="D",100,(MIN(AB16:AD16))) -> 2.49 | AF16: =IF(D16="F",MIN(AB16:AD16),"X") -> 2.49 | AG16: =ROUND(IF(D16="G",((TC!$G$1/AE16)*6),IF(D16="F",((TC!$G$2/AE16)*6),"0")),2) -> 5.04 | AH16: 3 | AJ16: =IF(AH16<=3,1,0) -> 1 | AK16: =IF(AND(AH16>=4,AH16<=6),1,0) -> 0 | AL16: =IF(AH16>=7,1,0) -> 0
A17: 11 | D17: F | Q17: =IF(D17<>"D",IF(X17<=2,5-(V17*0.5),5-(((V17*0.5)+((X17-2)*0.5)))),"D") -> 5 | S17: 5 | T17: =AG17 -> 3.83 | U17: =IF(D17<>"D",SUM(Q17:T17),"Disp.") -> 13.83 | V17: =COUNTIFS(E17:P17,"=A") -> 0 | W17: =COUNTIFS(E17:P17,"=R") -> 0 | X17: =COUNTIFS(E17:P17,"=T") -> 0 | Y17: =COUNTIFS(E17:P17,"=M") -> 0 | Z17: 11 | AA17: =B17 -> 0 | AB17: 3.27 | AE17: =IF(D17="D",100,(MIN(AB17:AD17))) -> 3.27 | AF17: =IF(D17="F",MIN(AB17:AD17),"X") -> 3.27 | AG17: =ROUND(IF(D17="G",((TC!$G$1/AE17)*6),IF(D17="F",((TC!$G$2/AE17)*6),"0")),2) -> 3.83 | AH17: 3 | AJ17: =IF(AH17<=3,1,0) -> 1 | AK17: =IF(AND(AH17>=4,AH17<=6),1,0) -> 0 | AL17: =IF(AH17>=7,1,0) -> 0
A18: 12 | D18: F | Q18: =IF(D18<>"D",IF(X18<=2,5-(V18*0.5),5-(((V18*0.5)+((X18-2)*0.5)))),"D") -> 5 | S18: 5 | T18: =AG18 -> 3.75 | U18: =IF(D18<>"D",SUM(Q18:T18),"Disp.") -> 13.75 | V18: =COUNTIFS(E18:P18,"=A") -> 0 | W18: =COUNTIFS(E18:P18,"=R") -> 0 | X18: =COUNTIFS(E18:P18,"=T") -> 0 | Y18: =COUNTIFS(E18:P18,"=M") -> 0 | Z18: 12 | AA18: =B18 -> 0 | AB18: 3.34 | AE18: =IF(D18="D",100,(MIN(AB18:AD18))) -> 3.34 | AF18: =IF(D18="F",MIN(AB18:AD18),"X") -> 3.34 | AG18: =ROUND(IF(D18="G",((TC!$G$1/AE18)*6),IF(D18="F",((TC!$G$2/AE18)*6),"0")),2) -> 3.75 | AH18: 3 | AJ18: =IF(AH18<=3,1,0) -> 1 | AK18: =IF(AND(AH18>=4,AH18<=6),1,0) -> 0 | AL18: =IF(AH18>=7,1,0) -> 0
A19: 13 | D19: F | Q19: =IF(D19<>"D",IF(X19<=2,5-(V19*0.5),5-(((V19*0.5)+((X19-2)*0.5)))),"D") -> 5 | R19: 3 | S19: 5 | T19: =AG19 -> 4.88 | U19: =IF(D19<>"D",SUM(Q19:T19),"Disp.") -> 17.88 | V19: =COUNTIFS(E19:P19,"=A") -> 0 | W19: =COUNTIFS(E19:P19,"=R") -> 0 | X19: =COUNTIFS(E19:P19,"=T") -> 0 | Y19: =COUNTIFS(E19:P19,"=M") -> 0 | Z19: 13 | AA19: =B19 -> 0 | AB19: 2.57 | AE19: =IF(D19="D",100,(MIN(AB19:AD19))) -> 2.57 | AF19: =IF(D19="F",MIN(AB19:AD19),"X") -> 2.57 | AG19: =ROUND(IF(D19="G",((TC!$G$1/AE19)*6),IF(D19="F",((TC!$G$2/AE19)*6),"0")),2) -> 4.88 | AH19: 3 | AJ19: =IF(AH19<=3,1,0) -> 1 | AK19: =IF(AND(AH19>=4,AH19<=6),1,0) -> 0 | AL19: =IF(AH19>=7,1,0) -> 0
A20: 14 | D20: G | Q20: =IF(D20<>"D",IF(X20<=2,5-(V20*0.5),5-(((V20*0.5)+((X20-2)*0.5)))),"D") -> 5 | R20: 3 | S20: 5 | T20: =AG20 -> 5.6 | U20: =IF(D20<>"D",SUM(Q20:T20),"Disp.") -> 18.6 | V20: =COUNTIFS(E20:P20,"=A") -> 0 | W20: =COUNTIFS(E20:P20,"=R") -> 0 | X20: =COUNTIFS(E20:P20,"=T") -> 0 | Y20: =COUNTIFS(E20:P20,"=M") -> 0 | Z20: 14 | AA20: =B20 -> 0 | AB20: 3.33 | AC20: 3.32 | AE20: =IF(D20="D",100,(MIN(AB20:AD20))) -> 3.32 | AF20: =IF(D20="F",MIN(AB20:AD20),"X") -> X | AG20: =ROUND(IF(D20="G",((TC!$G$1/AE20)*6),IF(D20="F",((TC!$G$2/AE20)*6),"0")),2) -> 5.6 | AH20: 6 | AJ20: =IF(AH20<=3,1,0) -> 0 | AK20: =IF(AND(AH20>=4,AH20<=6),1,0) -> 1 | AL20: =IF(AH20>=7,1,0) -> 0
A21: 15 | D21: F | Q21: =IF(D21<>"D",IF(X21<=2,5-(V21*0.5),5-(((V21*0.5)+((X21-2)*0.5)))),"D") -> 5 | R21: 3 | S21: 5 | T21: =AG21 -> 5.2 | U21: =IF(D21<>"D",SUM(Q21:T21),"Disp.") -> 18.2 | V21: =COUNTIFS(E21:P21,"=A") -> 0 | W21: =COUNTIFS(E21:P21,"=R") -> 0 | X21: =COUNTIFS(E21:P21,"=T") -> 0 | Y21: =COUNTIFS(E21:P21,"=M") -> 0 | Z21: 15 | AA21: =B21 -> 0 | AB21: 2.41 | AE21: =IF(D21="D",100,(MIN(AB21:AD21))) -> 2.41 | AF21: =IF(D21="F",MIN(AB21:AD21),"X") -> 2.41 | AG21: =ROUND(IF(D21="G",((TC!$G$1/AE21)*6),IF(D21="F",((TC!$G$2/AE21)*6),"0")),2) -> 5.2 | AH21: 3 | AJ21: =IF(AH21<=3,1,0) -> 1 | AK21: =IF(AND(AH21>=4,AH21<=6),1,0) -> 0 | AL21: =IF(AH21>=7,1,0) -> 0
A22: 16 | D22: G | Q22: =IF(D22<>"D",IF(X22<=2,5-(V22*0.5),5-(((V22*0.5)+((X22-2)*0.5)))),"D") -> 5 | R22: 3 | S22: 5 | T22: =AG22 -> 4.63 | U22: =IF(D22<>"D",SUM(Q22:T22),"Disp.") -> 17.63 | V22: =COUNTIFS(E22:P22,"=A") -> 0 | W22: =COUNTIFS(E22:P22,"=R") -> 0 | X22: =COUNTIFS(E22:P22,"=T") -> 0 | Y22: =COUNTIFS(E22:P22,"=M") -> 0 | Z22: 16 | AA22: =B22 -> 0 | AB22: 4.02 | AC22: 4.07 | AE22: =IF(D22="D",100,(MIN(AB22:AD22))) -> 4.02 | AF22: =IF(D22="F",MIN(AB22:AD22),"X") -> X | AG22: =ROUND(IF(D22="G",((TC!$G$1/AE22)*6),IF(D22="F",((TC!$G$2/AE22)*6),"0")),2) -> 4.63 | AH22: 4 | AJ22: =IF(AH22<=3,1,0) -> 0 | AK22: =IF(AND(AH22>=4,AH22<=6),1,0) -> 1 | AL22: =IF(AH22>=7,1,0) -> 0
A23: 17 | D23: F | Q23: =IF(D23<>"D",IF(X23<=2,5-(V23*0.5),5-(((V23*0.5)+((X23-2)*0.5)))),"D") -> 5 | R23: 3 | S23: 5 | T23: =AG23 -> 4.07 | U23: =IF(D23<>"D",SUM(Q23:T23),"Disp.") -> 17.07 | V23: =COUNTIFS(E23:P23,"=A") -> 0 | W23: =COUNTIFS(E23:P23,"=R") -> 0 | X23: =COUNTIFS(E23:P23,"=T") -> 0 | Y23: =COUNTIFS(E23:P23,"=M") -> 0 | Z23: 17 | AA23: =B23 -> 0 | AB23: 3.08 | AE23: =IF(D23="D",100,(MIN(AB23:AD23))) -> 3.08 | AF23: =IF(D23="F",MIN(AB23:AD23),"X") -> 3.08 | AG23: =ROUND(IF(D23="G",((TC!$G$1/AE23)*6),IF(D23="F",((TC!$G$2/AE23)*6),"0")),2) -> 4.07 | AH23: 2 | AJ23: =IF(AH23<=3,1,0) -> 1 | AK23: =IF(AND(AH23>=4,AH23<=6),1,0) -> 0 | AL23: =IF(AH23>=7,1,0) -> 0
A24: 18 | D24: F | Q24: =IF(D24<>"D",IF(X24<=2,5-(V24*0.5),5-(((V24*0.5)+((X24-2)*0.5)))),"D") -> 5 | R24: 3 | S24: 5 | T24: =AG24 -> 3.78 | U24: =IF(D24<>"D",SUM(Q24:T24),"Disp.") -> 16.78 | V24: =COUNTIFS(E24:P24,"=A") -> 0 | W24: =COUNTIFS(E24:P24,"=R") -> 0 | X24: =COUNTIFS(E24:P24,"=T") -> 0 | Y24: =COUNTIFS(E24:P24,"=M") -> 0 | Z24: 18 | AA24: =B24 -> 0 | AB24: 3.32 | AE24: =IF(D24="D",100,(MIN(AB24:AD24))) -> 3.32 | AF24: =IF(D24="F",MIN(AB24:AD24),"X") -> 3.32 | AG24: =ROUND(IF(D24="G",((TC!$G$1/AE24)*6),IF(D24="F",((TC!$G$2/AE24)*6),"0")),2) -> 3.78 | AH24: 2 | AJ24: =IF(AH24<=3,1,0) -> 1 | AK24: =IF(AND(AH24>=4,AH24<=6),1,0) -> 0 | AL24: =IF(AH24>=7,1,0) -> 0
A25: 19 | D25: F | Q25: =IF(D25<>"D",IF(X25<=2,5-(V25*0.5),5-(((V25*0.5)+((X25-2)*0.5)))),"D") -> 5 | R25: 2 | S25: 5 | T25: =AG25 -> 5.12 | U25: =IF(D25<>"D",SUM(Q25:T25),"Disp.") -> 17.12 | V25: =COUNTIFS(E25:P25,"=A") -> 0 | W25: =COUNTIFS(E25:P25,"=R") -> 0 | X25: =COUNTIFS(E25:P25,"=T") -> 0 | Y25: =COUNTIFS(E25:P25,"=M") -> 0 | Z25: 19 | AA25: =B25 -> 0 | AB25: 10 | AC25: 2.45 | AE25: =IF(D25="D",100,(MIN(AB25:AD25))) -> 2.45 | AF25: =IF(D25="F",MIN(AB25:AD25),"X") -> 2.45 | AG25: =ROUND(IF(D25="G",((TC!$G$1/AE25)*6),IF(D25="F",((TC!$G$2/AE25)*6),"0")),2) -> 5.12 | AH25: 3 | AJ25: =IF(AH25<=3,1,0) -> 1 | AK25: =IF(AND(AH25>=4,AH25<=6),1,0) -> 0 | AL25: =IF(AH25>=7,1,0) -> 0
A26: 20 | D26: G | Q26: =IF(D26<>"D",IF(X26<=2,5-(V26*0.5),5-(((V26*0.5)+((X26-2)*0.5)))),"D") -> 5 | R26: 3 | S26: 5 | T26: =AG26 -> 4.39 | U26: =IF(D26<>"D",SUM(Q26:T26),"Disp.") -> 17.39 | V26: =COUNTIFS(E26:P26,"=A") -> 0 | W26: =COUNTIFS(E26:P26,"=R") -> 0 | X26: =COUNTIFS(E26:P26,"=T") -> 0 | Y26: =COUNTIFS(E26:P26,"=M") -> 0 | Z26: 20 | AA26: =B26 -> 0 | AB26: 4.36 | AC26: 4.24 | AE26: =IF(D26="D",100,(MIN(AB26:AD26))) -> 4.24 | AF26: =IF(D26="F",MIN(AB26:AD26),"X") -> X | AG26: =ROUND(IF(D26="G",((TC!$G$1/AE26)*6),IF(D26="F",((TC!$G$2/AE26)*6),"0")),2) -> 4.39 | AH26: 4 | AJ26: =IF(AH26<=3,1,0) -> 0 | AK26: =IF(AND(AH26>=4,AH26<=6),1,0) -> 1 | AL26: =IF(AH26>=7,1,0) -> 0
A27: 21 | D27: F | Q27: =IF(D27<>"D",IF(X27<=2,5-(V27*0.5),5-(((V27*0.5)+((X27-2)*0.5)))),"D") -> 5 | R27: 3 | S27: 5 | T27: =AG27 -> 3.92 | U27: =IF(D27<>"D",SUM(Q27:T27),"Disp.") -> 16.92 | V27: =COUNTIFS(E27:P27,"=A") -> 0 | W27: =COUNTIFS(E27:P27,"=R") -> 0 | X27: =COUNTIFS(E27:P27,"=T") -> 0 | Y27: =COUNTIFS(E27:P27,"=M") -> 0 | Z27: 21 | AA27: =B27 -> 0 | AB27: 3.2 | AE27: =IF(D27="D",100,(MIN(AB27:AD27))) -> 3.2 | AF27: =IF(D27="F",MIN(AB27:AD27),"X") -> 3.2 | AG27: =ROUND(IF(D27="G",((TC!$G$1/AE27)*6),IF(D27="F",((TC!$G$2/AE27)*6),"0")),2) -> 3.92 | AH27: 3 | AJ27: =IF(AH27<=3,1,0) -> 1 | AK27: =IF(AND(AH27>=4,AH27<=6),1,0) -> 0 | AL27: =IF(AH27>=7,1,0) -> 0
A28: 22 | D28: F | Q28: =IF(D28<>"D",IF(X28<=2,5-(V28*0.5),5-(((V28*0.5)+((X28-2)*0.5)))),"D") -> 5 | R28: 3 | S28: 5 | T28: =AG28 -> 5.25 | U28: =IF(D28<>"D",SUM(Q28:T28),"Disp.") -> 18.25 | V28: =COUNTIFS(E28:P28,"=A") -> 0 | W28: =COUNTIFS(E28:P28,"=R") -> 0 | X28: =COUNTIFS(E28:P28,"=T") -> 0 | Y28: =COUNTIFS(E28:P28,"=M") -> 0 | Z28: 22 | AA28: =B28 -> 0 | AB28: 2.39 | AE28: =IF(D28="D",100,(MIN(AB28:AD28))) -> 2.39 | AF28: =IF(D28="F",MIN(AB28:AD28),"X") -> 2.39 | AG28: =ROUND(IF(D28="G",((TC!$G$1/AE28)*6),IF(D28="F",((TC!$G$2/AE28)*6),"0")),2) -> 5.25 | AH28: 3 | AJ28: =IF(AH28<=3,1,0) -> 1 | AK28: =IF(AND(AH28>=4,AH28<=6),1,0) -> 0 | AL28: =IF(AH28>=7,1,0) -> 0
A29: 23 | D29: G | Q29: =IF(D29<>"D",IF(X29<=2,5-(V29*0.5),5-(((V29*0.5)+((X29-2)*0.5)))),"D") -> 5 | R29: 2 | S29: 5 | T29: =AG29 -> 5.69 | U29: =IF(D29<>"D",SUM(Q29:T29),"Disp.") -> 17.69 | V29: =COUNTIFS(E29:P29,"=A") -> 0 | W29: =COUNTIFS(E29:P29,"=R") -> 0 | X29: =COUNTIFS(E29:P29,"=T") -> 0 | Y29: =COUNTIFS(E29:P29,"=M") -> 0 | Z29: 23 | AA29: =B29 -> 0 | AB29: 3.3 | AC29: 3.27 | AE29: =IF(D29="D",100,(MIN(AB29:AD29))) -> 3.27 | AF29: =IF(D29="F",MIN(AB29:AD29),"X") -> X | AG29: =ROUND(IF(D29="G",((TC!$G$1/AE29)*6),IF(D29="F",((TC!$G$2/AE29)*6),"0")),2) -> 5.69 | AH29: 7 | AJ29: =IF(AH29<=3,1,0) -> 0 | AK29: =IF(AND(AH29>=4,AH29<=6),1,0) -> 0 | AL29: =IF(AH29>=7,1,0) -> 1
A30: 24 | D30: G | Q30: =IF(D30<>"D",IF(X30<=2,5-(V30*0.5),5-(((V30*0.5)+((X30-2)*0.5)))),"D") -> 5 | R30: 2 | S30: 5 | T30: =AG30 -> 4.3 | U30: =IF(D30<>"D",SUM(Q30:T30),"Disp.") -> 16.3 | V30: =COUNTIFS(E30:P30,"=A") -> 0 | W30: =COUNTIFS(E30:P30,"=R") -> 0 | X30: =COUNTIFS(E30:P30,"=T") -> 0 | Y30: =COUNTIFS(E30:P30,"=M") -> 0 | Z30: 24 | AA30: =B30 -> 0 | AB30: 5.34 | AC30: 4.33 | AE30: =IF(D30="D",100,(MIN(AB30:AD30))) -> 4.33 | AF30: =IF(D30="F",MIN(AB30:AD30),"X") -> X | AG30: =ROUND(IF(D30="G",((TC!$G$1/AE30)*6),IF(D30="F",((TC!$G$2/AE30)*6),"0")),2) -> 4.3 | AH30: 4 | AJ30: =IF(AH30<=3,1,0) -> 0 | AK30: =IF(AND(AH30>=4,AH30<=6),1,0) -> 1 | AL30: =IF(AH30>=7,1,0) -> 0
A31: 25 | D31: F | Q31: =IF(D31<>"D",IF(X31<=2,5-(V31*0.5),5-(((V31*0.5)+((X31-2)*0.5)))),"D") -> 5 | R31: 3 | S31: 5 | T31: =AG31 -> 5.48 | U31: =IF(D31<>"D",SUM(Q31:T31),"Disp.") -> 18.48 | V31: =COUNTIFS(E31:P31,"=A") -> 0 | W31: =COUNTIFS(E31:P31,"=R") -> 0 | X31: =COUNTIFS(E31:P31,"=T") -> 0 | Y31: =COUNTIFS(E31:P31,"=M") -> 0 | Z31: 25 | AA31: =B31 -> 0 | AB31: 2.29 | AE31: =IF(D31="D",100,(MIN(AB31:AD31))) -> 2.29 | AF31: =IF(D31="F",MIN(AB31:AD31),"X") -> 2.29 | AG31: =ROUND(IF(D31="G",((TC!$G$1/AE31)*6),IF(D31="F",((TC!$G$2/AE31)*6),"0")),2) -> 5.48 | AH31: 3 | AJ31: =IF(AH31<=3,1,0) -> 1 | AK31: =IF(AND(AH31>=4,AH31<=6),1,0) -> 0 | AL31: =IF(AH31>=7,1,0) -> 0
A32: 26 | D32: F | Q32: =IF(D32<>"D",IF(X32<=2,5-(V32*0.5),5-(((V32*0.5)+((X32-2)*0.5)))),"D") -> 5 | R32: 3 | S32: 5 | T32: =AG32 -> 4.9 | U32: =IF(D32<>"D",SUM(Q32:T32),"Disp.") -> 17.9 | V32: =COUNTIFS(E32:P32,"=A") -> 0 | W32: =COUNTIFS(E32:P32,"=R") -> 0 | X32: =COUNTIFS(E32:P32,"=T") -> 0 | Y32: =COUNTIFS(E32:P32,"=M") -> 0 | Z32: 26 | AA32: =B32 -> 0 | AB32: 2.56 | AE32: =IF(D32="D",100,(MIN(AB32:AD32))) -> 2.56 | AF32: =IF(D32="F",MIN(AB32:AD32),"X") -> 2.56 | AG32: =ROUND(IF(D32="G",((TC!$G$1/AE32)*6),IF(D32="F",((TC!$G$2/AE32)*6),"0")),2) -> 4.9 | AH32: 3 | AJ32: =IF(AH32<=3,1,0) -> 1 | AK32: =IF(AND(AH32>=4,AH32<=6),1,0) -> 0 | AL32: =IF(AH32>=7,1,0) -> 0
A33: 27 | D33: F | Q33: =IF(D33<>"D",IF(X33<=2,5-(V33*0.5),5-(((V33*0.5)+((X33-2)*0.5)))),"D") -> 5 | S33: 5 | T33: =AG33 -> 5.23 | U33: =IF(D33<>"D",SUM(Q33:T33),"Disp.") -> 15.23 | V33: =COUNTIFS(E33:P33,"=A") -> 0 | W33: =COUNTIFS(E33:P33,"=R") -> 0 | X33: =COUNTIFS(E33:P33,"=T") -> 0 | Y33: =COUNTIFS(E33:P33,"=M") -> 0 | Z33: 27 | AA33: =B33 -> 0 | AB33: 2.4 | AE33: =IF(D33="D",100,(MIN(AB33:AD33))) -> 2.4 | AF33: =IF(D33="F",MIN(AB33:AD33),"X") -> 2.4 | AG33: =ROUND(IF(D33="G",((TC!$G$1/AE33)*6),IF(D33="F",((TC!$G$2/AE33)*6),"0")),2) -> 5.23 | AH33: 3 | AJ33: =IF(AH33<=3,1,0) -> 1 | AK33: =IF(AND(AH33>=4,AH33<=6),1,0) -> 0 | AL33: =IF(AH33>=7,1,0) -> 0
A34: 28 | D34: F | Q34: =IF(D34<>"D",IF(X34<=2,5-(V34*0.5),5-(((V34*0.5)+((X34-2)*0.5)))),"D") -> 5 | R34: 3 | S34: 5 | T34: =AG34 -> 5.04 | U34: =IF(D34<>"D",SUM(Q34:T34),"Disp.") -> 18.04 | V34: =COUNTIFS(E34:P34,"=A") -> 0 | W34: =COUNTIFS(E34:P34,"=R") -> 0 | X34: =COUNTIFS(E34:P34,"=T") -> 0 | Y34: =COUNTIFS(E34:P34,"=M") -> 0 | Z34: 28 | AA34: =B34 -> 0 | AB34: 2.49 | AE34: =IF(D34="D",100,(MIN(AB34:AD34))) -> 2.49 | AF34: =IF(D34="F",MIN(AB34:AD34),"X") -> 2.49 | AG34: =ROUND(IF(D34="G",((TC!$G$1/AE34)*6),IF(D34="F",((TC!$G$2/AE34)*6),"0")),2) -> 5.04 | AH34: 3 | AJ34: =IF(AH34<=3,1,0) -> 1 | AK34: =IF(AND(AH34>=4,AH34<=6),1,0) -> 0 | AL34: =IF(AH34>=7,1,0) -> 0
A35: 29 | D35: F | Q35: =IF(D35<>"D",IF(X35<=2,5-(V35*0.5),5-(((V35*0.5)+((X35-2)*0.5)))),"D") -> 5 | S35: 5 | T35: =AG35 -> 5.18 | U35: =IF(D35<>"D",SUM(Q35:T35),"Disp.") -> 15.18 | V35: =COUNTIFS(E35:P35,"=A") -> 0 | W35: =COUNTIFS(E35:P35,"=R") -> 0 | X35: =COUNTIFS(E35:P35,"=T") -> 0 | Y35: =COUNTIFS(E35:P35,"=M") -> 0 | Z35: 29 | AA35: =B35 -> 0 | AB35: 2.5 | AC35: 2.42 | AE35: =IF(D35="D",100,(MIN(AB35:AD35))) -> 2.42 | AF35: =IF(D35="F",MIN(AB35:AD35),"X") -> 2.42 | AG35: =ROUND(IF(D35="G",((TC!$G$1/AE35)*6),IF(D35="F",((TC!$G$2/AE35)*6),"0")),2) -> 5.18 | AH35: 3 | AJ35: =IF(AH35<=3,1,0) -> 1 | AK35: =IF(AND(AH35>=4,AH35<=6),1,0) -> 0 | AL35: =IF(AH35>=7,1,0) -> 0
A36: 30 | D36: G | Q36: =IF(D36<>"D",IF(X36<=2,5-(V36*0.5),5-(((V36*0.5)+((X36-2)*0.5)))),"D") -> 5 | R36: 3 | S36: 5 | T36: =AG36 -> 5.94 | U36: =IF(D36<>"D",SUM(Q36:T36),"Disp.") -> 18.94 | V36: =COUNTIFS(E36:P36,"=A") -> 0 | W36: =COUNTIFS(E36:P36,"=R") -> 0 | X36: =COUNTIFS(E36:P36,"=T") -> 0 | Y36: =COUNTIFS(E36:P36,"=M") -> 0 | Z36: 30 | AA36: =B36 -> 0 | AB36: 3.21 | AC36: 3.13 | AE36: =IF(D36="D",100,(MIN(AB36:AD36))) -> 3.13 | AF36: =IF(D36="F",MIN(AB36:AD36),"X") -> X | AG36: =ROUND(IF(D36="G",((TC!$G$1/AE36)*6),IF(D36="F",((TC!$G$2/AE36)*6),"0")),2) -> 5.94 | AH36: 7 | AJ36: =IF(AH36<=3,1,0) -> 0 | AK36: =IF(AND(AH36>=4,AH36<=6),1,0) -> 0 | AL36: =IF(AH36>=7,1,0) -> 1
A37: 31 | V37: =COUNTIFS(E37:P37,"=A") -> 0 | W37: =COUNTIFS(E37:P37,"=R") -> 0 | X37: =COUNTIFS(E37:P37,"=T") -> 0 | Y37: =COUNTIFS(E37:P37,"=M") -> 0 | Z37: 31 | AA37: =B37 -> 0 | AE37: =IF(D37="D",100,(MIN(AB37:AD37))) -> 0 | AG37: =ROUND(IF(D37="G",((TC!$G$1/AE37)*6),IF(D37="F",((TC!$G$2/AE37)*6),"0")),2) -> 0 | AJ37: =IF(AH37<=3,1,0) -> 1 | AK37: =IF(AND(AH37>=4,AH37<=6),1,0) -> 0 | AL37: =IF(AH37>=7,1,0) -> 0
A38: 32 | V38: =COUNTIFS(E38:P38,"=A") -> 0 | W38: =COUNTIFS(E38:P38,"=R") -> 0 | X38: =COUNTIFS(E38:P38,"=T") -> 0 | Y38: =COUNTIFS(E38:P38,"=M") -> 0 | Z38: 32 | AA38: =B38 -> 0 | AE38: =IF(D38="D",100,(MIN(AB38:AD38))) -> 0 | AG38: =ROUND(IF(D38="G",((TC!$G$1/AE38)*6),IF(D38="F",((TC!$G$2/AE38)*6),"0")),2) -> 0 | AJ38: =IF(AH38<=3,1,0) -> 1 | AK38: =IF(AND(AH38>=4,AH38<=6),1,0) -> 0 | AL38: =IF(AH38>=7,1,0) -> 0
A39: 33 | V39: =COUNTIFS(E39:P39,"=A") -> 0 | W39: =COUNTIFS(E39:P39,"=R") -> 0 | X39: =COUNTIFS(E39:P39,"=T") -> 0 | Y39: =COUNTIFS(E39:P39,"=M") -> 0 | Z39: 33 | AA39: =B39 -> 0 | AE39: =IF(D39="D",100,(MIN(AB39:AD39))) -> 0 | AG39: =ROUND(IF(D39="G",((TC!$G$1/AE39)*6),IF(D39="F",((TC!$G$2/AE39)*6),"0")),2) -> 0 | AJ39: =IF(AH39<=3,1,0) -> 1 | AK39: =IF(AND(AH39>=4,AH39<=6),1,0) -> 0 | AL39: =IF(AH39>=7,1,0) -> 0
A40: 34 | V40: =COUNTIFS(E40:P40,"=A") -> 0 | W40: =COUNTIFS(E40:P40,"=R") -> 0 | X40: =COUNTIFS(E40:P40,"=T") -> 0 | Y40: =COUNTIFS(E40:P40,"=M") -> 0 | Z40: 34 | AA40: =B40 -> 0 | AE40: =IF(D40="D",100,(MIN(AB40:AD40))) -> 0 | AG40: =ROUND(IF(D40="G",((TC!$G$1/AE40)*6),IF(D40="F",((TC!$G$2/AE40)*6),"0")),2) -> 0
A41: 35 | V41: =COUNTIFS(E41:P41,"=A") -> 0 | W41: =COUNTIFS(E41:P41,"=R") -> 0 | X41: =COUNTIFS(E41:P41,"=T") -> 0 | Y41: =COUNTIFS(E41:P41,"=M") -> 0 | Z41: 35 | AA41: =B41 -> 0 | AE41: =IF(D41="D",100,(MIN(AB41:AD41))) -> 0 | AG41: =ROUND(IF(D41="G",((TC!$G$1/AE41)*6),IF(D41="F",((TC!$G$2/AE41)*6),"0")),2) -> 0
A42: 36 | V42: =COUNTIFS(E42:P42,"=A") -> 0 | W42: =COUNTIFS(E42:P42,"=R") -> 0 | X42: =COUNTIFS(E42:P42,"=T") -> 0 | Y42: =COUNTIFS(E42:P42,"=M") -> 0 | Z42: 36 | AA42: =B42 -> 0 | AE42: =IF(D42="D",100,(MIN(AB42:AD42))) -> 0 | AG42: =ROUND(IF(D42="G",((TC!$G$1/AE42)*6),IF(D42="F",((TC!$G$2/AE42)*6),"0")),2) -> 0
A43: 37 | V43: =COUNTIFS(E43:P43,"=A") -> 0 | W43: =COUNTIFS(E43:P43,"=R") -> 0 | X43: =COUNTIFS(E43:P43,"=T") -> 0 | Y43: =COUNTIFS(E43:P43,"=M") -> 0 | Z43: 37 | AA43: =B43 -> 0 | AE43: =IF(D43="D",100,(MIN(AB43:AD43))) -> 0 | AG43: =ROUND(IF(D43="G",((TC!$G$1/AE43)*6),IF(D43="F",((TC!$G$2/AE43)*6),"0")),2) -> 0
A44: 38 | V44: =COUNTIFS(E44:P44,"=A") -> 0 | W44: =COUNTIFS(E44:P44,"=R") -> 0 | X44: =COUNTIFS(E44:P44,"=T") -> 0 | Y44: =COUNTIFS(E44:P44,"=M") -> 0 | Z44: 38 | AA44: =B44 -> 0 | AE44: =IF(D44="D",100,(MIN(AB44:AD44))) -> 0 | AG44: =ROUND(IF(D44="G",((TC!$G$1/AE44)*6),IF(D44="F",((TC!$G$2/AE44)*6),"0")),2) -> 0
A45: 39 | V45: =COUNTIFS(E45:P45,"=A") -> 0 | W45: =COUNTIFS(E45:P45,"=R") -> 0 | X45: =COUNTIFS(E45:P45,"=T") -> 0 | Y45: =COUNTIFS(E45:P45,"=M") -> 0 | Z45: 39 | AA45: =B45 -> 0 | AE45: =IF(D45="D",100,(MIN(AB45:AD45))) -> 0 | AG45: =ROUND(IF(D45="G",((TC!$G$1/AE45)*6),IF(D45="F",((TC!$G$2/AE45)*6),"0")),2) -> 0
A46: 40 | V46: =COUNTIFS(E46:P46,"=A") -> 0 | W46: =COUNTIFS(E46:P46,"=R") -> 0 | X46: =COUNTIFS(E46:P46,"=T") -> 0 | Y46: =COUNTIFS(E46:P46,"=M") -> 0 | Z46: 40 | AA46: =B46 -> 0 | AE46: =IF(D46="D",100,(MIN(AB46:AD46))) -> 0 | AG46: =ROUND(IF(D46="G",((TC!$G$1/AE46)*6),IF(D46="F",((TC!$G$2/AE46)*6),"0")),2) -> 0

Sheet SF2 CDtc
A1: Classe | C1: Cycle: | G1: Endurance | Q1: AS: 2019/2020 | AB1: Abs=35
A2: N° | B2: TCSF-2 | C2: Contrôle-Assiduité-Evaluation | Q2: Evaluation | U2: Note Finale | AB2: Ab=10
C3: Séance | E3: S1 | F3: S2 | G3: S3 | H3: S4 | I3: S5 | J3: S6 | K3: S7 | L3: S8 | M3: S9 | N3: S 10 | O3: S 11 | P3: S 12 | Q3: Conn. Comp. (5) | R3: Conn. Conc. (3) | S3: Conn. Proc (12) | AB3: Art=7
C4: D= | D4: =COUNTIFS(D7:D51,"=D") -> 2 | E4: 43731 | F4: 43733 | G4: =E4+7 -> 43738 | H4: =F4+7 -> 43740 | I4: =G4+7 -> 43745 | J4: =H4+7 -> 43747 | K4: =I4+7 -> 43752 | L4: =J4+7 -> 43754 | M4: =K4+7 -> 43759 | N4: =L4+7 -> 43761 | ... P4: =N4+7 -> 43768 | S4: Comp. Motr. | T4: Hab. Motrc. | U4: /20 | AJ4: 3 et < | AK4: Entre 4 et 6 | AL4: 7 et >
B5: Nom | C5: G= | D5: =COUNTIFS(D7:D51,"=G") -> 15 | V5: Assiduité | Z5: N° | AA5: Nom | AB5: Test 1 | AC5: Test 2 | AD5: Test 3 | AE5: Meilleur TG | AF5: Meilleur TF | AG5: Nt Hab Mot | AH5: Palier au test | AJ5: =SUM(AJ7:AJ46) -> 10 | AK5: =SUM(AK7:AK46) -> 13 | AL5: =SUM(AL7:AL46) -> 6
B6: Prénom | C6: F= | D6: =COUNTIFS(D7:D51,"=F") -> 13 | Q6: /5 | R6: /3 | S6: /6 | T6: /6 | V6: A | W6: R | X6: T | Y6: M
A7: 1 | D7: G | Q7: =IF(D7<>"D",IF(X7<=2,5-(V7*0.5),5-(((V7*0.5)+((X7-2)*0.5)))),"D") -> 5 | S7: 5 | T7: =AG7 -> 0.53 | U7: =IF(D7<>"D",SUM(Q7:T7),"Disp.") -> 10.53 | V7: =COUNTIFS(E7:P7,"=A") -> 0 | W7: =COUNTIFS(E7:P7,"=R") -> 0 | X7: =COUNTIFS(E7:P7,"=T") -> 0 | Y7: =COUNTIFS(E7:P7,"=M") -> 0 | Z7: 1 | AA7: =B7 -> 0 | AB7: 35 | AC7: 35 | AE7: =IF(D7="D",100,(MIN(AB7:AD7))) -> 35 | AF7: =IF(D7="F",MIN(AB7:AD7),"X") -> X | AG7: =ROUND(IF(D7="G",((TC!$G$1/AE7)*6),IF(D7="F",((TC!$G$2/AE7)*6),"0")),2) -> 0.53 | AH7: 5 | AJ7: =IF(AH7<=3,1,0) -> 0 | AK7: =IF(AND(AH7>=4,AH7<=6),1,0) -> 1 | AL7: =IF(AH7>=7,1,0) -> 0
A8: 2 | D8: F | Q8: =IF(D8<>"D",IF(X8<=2,5-(V8*0.5),5-(((V8*0.5)+((X8-2)*0.5)))),"D") -> 5 | R8: 3 | S8: 5 | T8: =AG8 -> 5.92 | U8: =IF(D8<>"D",SUM(Q8:T8),"Disp.") -> 18.92 | V8: =COUNTIFS(E8:P8,"=A") -> 0 | W8: =COUNTIFS(E8:P8,"=R") -> 0 | X8: =COUNTIFS(E8:P8,"=T") -> 0 | Y8: =COUNTIFS(E8:P8,"=M") -> 0 | Z8: 2 | AA8: =B8 -> 0 | AB8: 2.12 | AE8: =IF(D8="D",100,(MIN(AB8:AD8))) -> 2.12 | AF8: =IF(D8="F",MIN(AB8:AD8),"X") -> 2.12 | AG8: =ROUND(IF(D8="G",((TC!$G$1/AE8)*6),IF(D8="F",((TC!$G$2/AE8)*6),"0")),2) -> 5.92 | AH8: 4 | AJ8: =IF(AH8<=3,1,0) -> 0 | AK8: =IF(AND(AH8>=4,AH8<=6),1,0) -> 1 | AL8: =IF(AH8>=7,1,0) -> 0
A9: 3 | D9: G | Q9: =IF(D9<>"D",IF(X9<=2,5-(V9*0.5),5-(((V9*0.5)+((X9-2)*0.5)))),"D") -> 5 | S9: 5 | T9: =AG9 -> 5.94 | U9: =IF(D9<>"D",SUM(Q9:T9),"Disp.") -> 15.94 | V9: =COUNTIFS(E9:P9,"=A") -> 0 | W9: =COUNTIFS(E9:P9,"=R") -> 0 | X9: =COUNTIFS(E9:P9,"=T") -> 0 | Y9: =COUNTIFS(E9:P9,"=M") -> 0 | Z9: 3 | AA9: =B9 -> 0 | AB9: 3.13 | AE9: =IF(D9="D",100,(MIN(AB9:AD9))) -> 3.13 | AF9: =IF(D9="F",MIN(AB9:AD9),"X") -> X | AG9: =ROUND(IF(D9="G",((TC!$G$1/AE9)*6),IF(D9="F",((TC!$G$2/AE9)*6),"0")),2) -> 5.94 | AH9: 10 | AJ9: =IF(AH9<=3,1,0) -> 0 | AK9: =IF(AND(AH9>=4,AH9<=6),1,0) -> 0 | AL9: =IF(AH9>=7,1,0) -> 1
A10: 4 | D10: G | Q10: =IF(D10<>"D",IF(X10<=2,5-(V10*0.5),5-(((V10*0.5)+((X10-2)*0.5)))),"D") -> 5 | R10: 3 | S10: 5 | T10: =AG10 -> 5.67 | U10: =IF(D10<>"D",SUM(Q10:T10),"Disp.") -> 18.67 | V10: =COUNTIFS(E10:P10,"=A") -> 0 | W10: =COUNTIFS(E10:P10,"=R") -> 0 | X10: =COUNTIFS(E10:P10,"=T") -> 0 | Y10: =COUNTIFS(E10:P10,"=M") -> 0 | Z10: 4 | AA10: =B10 -> 0 | AB10: 3.28 | AE10: =IF(D10="D",100,(MIN(AB10:AD10))) -> 3.28 | AF10: =IF(D10="F",MIN(AB10:AD10),"X") -> X | AG10: =ROUND(IF(D10="G",((TC!$G$1/AE10)*6),IF(D10="F",((TC!$G$2/AE10)*6),"0")),2) -> 5.67 | AH10: 4 | AJ10: =IF(AH10<=3,1,0) -> 0 | AK10: =IF(AND(AH10>=4,AH10<=6),1,0) -> 1 | AL10: =IF(AH10>=7,1,0) -> 0
A11: 5 | D11: G | Q11: =IF(D11<>"D",IF(X11<=2,5-(V11*0.5),5-(((V11*0.5)+((X11-2)*0.5)))),"D") -> 5 | S11: 5 | T11: =AG11 -> 5.74 | U11: =IF(D11<>"D",SUM(Q11:T11),"Disp.") -> 15.74 | V11: =COUNTIFS(E11:P11,"=A") -> 0 | W11: =COUNTIFS(E11:P11,"=R") -> 0 | X11: =COUNTIFS(E11:P11,"=T") -> 0 | Y11: =COUNTIFS(E11:P11,"=M") -> 0 | Z11: 5 | AA11: =B11 -> 0 | AB11: 3.24 | AE11: =IF(D11="D",100,(MIN(AB11:AD11))) -> 3.24 | AF11: =IF(D11="F",MIN(AB11:AD11),"X") -> X | AG11: =ROUND(IF(D11="G",((TC!$G$1/AE11)*6),IF(D11="F",((TC!$G$2/AE11)*6),"0")),2) -> 5.74 | AH11: 7 | AJ11: =IF(AH11<=3,1,0) -> 0 | AK11: =IF(AND(AH11>=4,AH11<=6),1,0) -> 0 | AL11: =IF(AH11>=7,1,0) -> 1
A12: 6 | D12: G | Q12: =IF(D12<>"D",IF(X12<=2,5-(V12*0.5),5-(((V12*0.5)+((X12-2)*0.5)))),"D") -> 5 | S12: 5 | T12: =AG12 -> 5.62 | U12: =IF(D12<>"D",SUM(Q12:T12),"Disp.") -> 15.62 | V12: =COUNTIFS(E12:P12,"=A") -> 0 | W12: =COUNTIFS(E12:P12,"=R") -> 0 | X12: =COUNTIFS(E12:P12,"=T") -> 0 | Y12: =COUNTIFS(E12:P12,"=M") -> 0 | Z12: 6 | AA12: =B12 -> 0 | AB12: 3.31 | AE12: =IF(D12="D",100,(MIN(AB12:AD12))) -> 3.31 | AF12: =IF(D12="F",MIN(AB12:AD12),"X") -> X | AG12: =ROUND(IF(D12="G",((TC!$G$1/AE12)*6),IF(D12="F",((TC!$G$2/AE12)*6),"0")),2) -> 5.62 | AH12: 4 | AJ12: =IF(AH12<=3,1,0) -> 0 | AK12: =IF(AND(AH12>=4,AH12<=6),1,0) -> 1 | AL12: =IF(AH12>=7,1,0) -> 0
A13: 7 | D13: F | Q13: =IF(D13<>"D",IF(X13<=2,5-(V13*0.5),5-(((V13*0.5)+((X13-2)*0.5)))),"D") -> 5 | R13: 3 | S13: 5 | T13: =AG13 -> 5.52 | U13: =IF(D13<>"D",SUM(Q13:T13),"Disp.") -> 18.52 | V13: =COUNTIFS(E13:P13,"=A") -> 0 | W13: =COUNTIFS(E13:P13,"=R") -> 0 | X13: =COUNTIFS(E13:P13,"=T") -> 0 | Y13: =COUNTIFS(E13:P13,"=M") -> 0 | Z13: 7 | AA13: =B13 -> 0 | AB13: 2.27 | AE13: =IF(D13="D",100,(MIN(AB13:AD13))) -> 2.27 | AF13: =IF(D13="F",MIN(AB13:AD13),"X") -> 2.27 | AG13: =ROUND(IF(D13="G",((TC!$G$1/AE13)*6),IF(D13="F",((TC!$G$2/AE13)*6),"0")),2) -> 5.52 | AH13: 3 | AJ13: =IF(AH13<=3,1,0) -> 1 | AK13: =IF(AND(AH13>=4,AH13<=6),1,0) -> 0 | AL13: =IF(AH13>=7,1,0) -> 0
A14: 8 | D14: G | Q14: =IF(D14<>"D",IF(X14<=2,5-(V14*0.5),5-(((V14*0.5)+((X14-2)*0.5)))),"D") -> 5 | S14: 5 | T14: =AG14 -> 6 | U14: =IF(D14<>"D",SUM(Q14:T14),"Disp.") -> 16 | V14: =COUNTIFS(E14:P14,"=A") -> 0 | W14: =COUNTIFS(E14:P14,"=R") -> 0 | X14: =COUNTIFS(E14:P14,"=T") -> 0 | Y14: =COUNTIFS(E14:P14,"=M") -> 0 | Z14: 8 | AA14: =B14 -> 0 | AB14: 3.1 | AE14: =IF(D14="D",100,(MIN(AB14:AD14))) -> 3.1 | AF14: =IF(D14="F",MIN(AB14:AD14),"X") -> X | AG14: =ROUND(IF(D14="G",((TC!$G$1/AE14)*6),IF(D14="F",((TC!$G$2/AE14)*6),"0")),2) -> 6 | AH14: 10 | AJ14: =IF(AH14<=3,1,0) -> 0 | AK14: =IF(AND(AH14>=4,AH14<=6),1,0) -> 0 | AL14: =IF(AH14>=7,1,0) -> 1
A15: 9 | D15: F | Q15: =IF(D15<>"D",IF(X15<=2,5-(V15*0.5),5-(((V15*0.5)+((X15-2)*0.5)))),"D") -> 5 | R15: 3 | S15: 5 | T15: =AG15 -> 4.13 | U15: =IF(D15<>"D",SUM(Q15:T15),"Disp.") -> 17.13 | V15: =COUNTIFS(E15:P15,"=A") -> 0 | W15: =COUNTIFS(E15:P15,"=R") -> 0 | X15: =COUNTIFS(E15:P15,"=T") -> 0 | Y15: =COUNTIFS(E15:P15,"=M") -> 0 | Z15: 9 | AA15: =B15 -> 0 | AB15: 3.04 | AE15: =IF(D15="D",100,(MIN(AB15:AD15))) -> 3.04 | AF15: =IF(D15="F",MIN(AB15:AD15),"X") -> 3.04 | AG15: =ROUND(IF(D15="G",((TC!$G$1/AE15)*6),IF(D15="F",((TC!$G$2/AE15)*6),"0")),2) -> 4.13 | AH15: 6 | AJ15: =IF(AH15<=3,1,0) -> 0 | AK15: =IF(AND(AH15>=4,AH15<=6),1,0) -> 1 | AL15: =IF(AH15>=7,1,0) -> 0
A16: 10 | D16: D | Q16: =IF(D16<>"D",IF(X16<=2,5-(V16*0.5),5-(((V16*0.5)+((X16-2)*0.5)))),"D") -> D | T16: =AG16 -> 0 | U16: =IF(D16<>"D",SUM(Q16:T16),"Disp.") -> Disp. | V16: =COUNTIFS(E16:P16,"=A") -> 0 | W16: =COUNTIFS(E16:P16,"=R") -> 0 | X16: =COUNTIFS(E16:P16,"=T") -> 0 | Y16: =COUNTIFS(E16:P16,"=M") -> 0 | Z16: 10 | AA16: =B16 -> 0 | AE16: =IF(D16="D",100,(MIN(AB16:AD16))) -> 100 | AF16: =IF(D16="F",MIN(AB16:AD16),"X") -> X | AG16: =ROUND(IF(D16="G",((TC!$G$1/AE16)*6),IF(D16="F",((TC!$G$2/AE16)*6),"0")),2) -> 0 | AH16: 2 | AJ16: =IF(AH16<=3,1,0) -> 1 | AK16: =IF(AND(AH16>=4,AH16<=6),1,0) -> 0 | AL16: =IF(AH16>=7,1,0) -> 0
A17: 11 | D17: F | Q17: =IF(D17<>"D",IF(X17<=2,5-(V17*0.5),5-(((V17*0.5)+((X17-2)*0.5)))),"D") -> 5 | R17: 3 | S17: 5 | T17: =AG17 -> 5.57 | U17: =IF(D17<>"D",SUM(Q17:T17),"Disp.") -> 18.57 | V17: =COUNTIFS(E17:P17,"=A") -> 0 | W17: =COUNTIFS(E17:P17,"=R") -> 0 | X17: =COUNTIFS(E17:P17,"=T") -> 0 | Y17: =COUNTIFS(E17:P17,"=M") -> 0 | Z17: 11 | AA17: =B17 -> 0 | AB17: 2.25 | AC17: 35 | AE17: =IF(D17="D",100,(MIN(AB17:AD17))) -> 2.25 | AF17: =IF(D17="F",MIN(AB17:AD17),"X") -> 2.25 | AG17: =ROUND(IF(D17="G",((TC!$G$1/AE17)*6),IF(D17="F",((TC!$G$2/AE17)*6),"0")),2) -> 5.57 | AH17: 6 | AJ17: =IF(AH17<=3,1,0) -> 0 | AK17: =IF(AND(AH17>=4,AH17<=6),1,0) -> 1 | AL17: =IF(AH17>=7,1,0) -> 0
A18: 12 | D18: G | Q18: =IF(D18<>"D",IF(X18<=2,5-(V18*0.5),5-(((V18*0.5)+((X18-2)*0.5)))),"D") -> 5 | S18: 5 | T18: =AG18 -> 4.64 | U18: =IF(D18<>"D",SUM(Q18:T18),"Disp.") -> 14.64 | V18: =COUNTIFS(E18:P18,"=A") -> 0 | W18: =COUNTIFS(E18:P18,"=R") -> 0 | X18: =COUNTIFS(E18:P18,"=T") -> 0 | Y18: =COUNTIFS(E18:P18,"=M") -> 0 | Z18: 12 | AA18: =B18 -> 0 | AB18: 4.01 | AE18: =IF(D18="D",100,(MIN(AB18:AD18))) -> 4.01 | AF18: =IF(D18="F",MIN(AB18:AD18),"X") -> X | AG18: =ROUND(IF(D18="G",((TC!$G$1/AE18)*6),IF(D18="F",((TC!$G$2/AE18)*6),"0")),2) -> 4.64 | AH18: 6 | AJ18: =IF(AH18<=3,1,0) -> 0 | AK18: =IF(AND(AH18>=4,AH18<=6),1,0) -> 1 | AL18: =IF(AH18>=7,1,0) -> 0
A19: 13 | D19: F | Q19: =IF(D19<>"D",IF(X19<=2,5-(V19*0.5),5-(((V19*0.5)+((X19-2)*0.5)))),"D") -> 5 | R19: 3 | S19: 5 | T19: =AG19 -> 3.8 | U19: =IF(D19<>"D",SUM(Q19:T19),"Disp.") -> 16.8 | V19: =COUNTIFS(E19:P19,"=A") -> 0 | W19: =COUNTIFS(E19:P19,"=R") -> 0 | X19: =COUNTIFS(E19:P19,"=T") -> 0 | Y19: =COUNTIFS(E19:P19,"=M") -> 0 | Z19: 13 | AA19: =B19 -> 0 | AB19: 7 | AC19: 3.3 | AE19: =IF(D19="D",100,(MIN(AB19:AD19))) -> 3.3 | AF19: =IF(D19="F",MIN(AB19:AD19),"X") -> 3.3 | AG19: =ROUND(IF(D19="G",((TC!$G$1/AE19)*6),IF(D19="F",((TC!$G$2/AE19)*6),"0")),2) -> 3.8 | AH19: 3 | AJ19: =IF(AH19<=3,1,0) -> 1 | AK19: =IF(AND(AH19>=4,AH19<=6),1,0) -> 0 | AL19: =IF(AH19>=7,1,0) -> 0
A20: 14 | D20: G | Q20: =IF(D20<>"D",IF(X20<=2,5-(V20*0.5),5-(((V20*0.5)+((X20-2)*0.5)))),"D") -> 5 | R20: 3 | S20: 5 | T20: =AG20 -> 5.79 | U20: =IF(D20<>"D",SUM(Q20:T20),"Disp.") -> 18.79 | V20: =COUNTIFS(E20:P20,"=A") -> 0 | W20: =COUNTIFS(E20:P20,"=R") -> 0 | X20: =COUNTIFS(E20:P20,"=T") -> 0 | Y20: =COUNTIFS(E20:P20,"=M") -> 0 | Z20: 14 | AA20: =B20 -> 0 | AB20: 3.21 | AE20: =IF(D20="D",100,(MIN(AB20:AD20))) -> 3.21 | AF20: =IF(D20="F",MIN(AB20:AD20),"X") -> X | AG20: =ROUND(IF(D20="G",((TC!$G$1/AE20)*6),IF(D20="F",((TC!$G$2/AE20)*6),"0")),2) -> 5.79 | AH20: 10 | AJ20: =IF(AH20<=3,1,0) -> 0 | AK20: =IF(AND(AH20>=4,AH20<=6),1,0) -> 0 | AL20: =IF(AH20>=7,1,0) -> 1
A21: 15 | D21: F | Q21: =IF(D21<>"D",IF(X21<=2,5-(V21*0.5),5-(((V21*0.5)+((X21-2)*0.5)))),"D") -> 5 | R21: 3 | S21: 5 | T21: =AG21 -> 6 | U21: =IF(D21<>"D",SUM(Q21:T21),"Disp.") -> 19 | V21: =COUNTIFS(E21:P21,"=A") -> 0 | W21: =COUNTIFS(E21:P21,"=R") -> 0 | X21: =COUNTIFS(E21:P21,"=T") -> 0 | Y21: =COUNTIFS(E21:P21,"=M") -> 0 | Z21: 15 | AA21: =B21 -> 0 | AB21: 2.09 | AE21: =IF(D21="D",100,(MIN(AB21:AD21))) -> 2.09 | AF21: =IF(D21="F",MIN(AB21:AD21),"X") -> 2.09 | AG21: =ROUND(IF(D21="G",((TC!$G$1/AE21)*6),IF(D21="F",((TC!$G$2/AE21)*6),"0")),2) -> 6 | AH21: 6 | AJ21: =IF(AH21<=3,1,0) -> 0 | AK21: =IF(AND(AH21>=4,AH21<=6),1,0) -> 1 | AL21: =IF(AH21>=7,1,0) -> 0
A22: 16 | D22: F | Q22: =IF(D22<>"D",IF(X22<=2,5-(V22*0.5),5-(((V22*0.5)+((X22-2)*0.5)))),"D") -> 5 | R22: 3 | S22: 5 | T22: =AG22 -> 5.27 | U22: =IF(D22<>"D",SUM(Q22:T22),"Disp.") -> 18.27 | V22: =COUNTIFS(E22:P22,"=A") -> 0 | W22: =COUNTIFS(E22:P22,"=R") -> 0 | X22: =COUNTIFS(E22:P22,"=T") -> 0 | Y22: =COUNTIFS(E22:P22,"=M") -> 0 | Z22: 16 | AA22: =B22 -> 0 | AB22: 2.38 | AE22: =IF(D22="D",100,(MIN(AB22:AD22))) -> 2.38 | AF22: =IF(D22="F",MIN(AB22:AD22),"X") -> 2.38 | AG22: =ROUND(IF(D22="G",((TC!$G$1/AE22)*6),IF(D22="F",((TC!$G$2/AE22)*6),"0")),2) -> 5.27 | AH22: 3 | AJ22: =IF(AH22<=3,1,0) -> 1 | AK22: =IF(AND(AH22>=4,AH22<=6),1,0) -> 0 | AL22: =IF(AH22>=7,1,0) -> 0
A23: 17 | D23: F | Q23: =IF(D23<>"D",IF(X23<=2,5-(V23*0.5),5-(((V23*0.5)+((X23-2)*0.5)))),"D") -> 5 | S23: 5 | T23: =AG23 -> 1.79 | U23: =IF(D23<>"D",SUM(Q23:T23),"Disp.") -> 11.79 | V23: =COUNTIFS(E23:P23,"=A") -> 0 | W23: =COUNTIFS(E23:P23,"=R") -> 0 | X23: =COUNTIFS(E23:P23,"=T") -> 0 | Y23: =COUNTIFS(E23:P23,"=M") -> 0 | Z23: 17 | AA23: =B23 -> 0 | AB23: 7 | AC23: 35 | AE23: =IF(D23="D",100,(MIN(AB23:AD23))) -> 7 | AF23: =IF(D23="F",MIN(AB23:AD23),"X") -> 7 | AG23: =ROUND(IF(D23="G",((TC!$G$1/AE23)*6),IF(D23="F",((TC!$G$2/AE23)*6),"0")),2) -> 1.79 | AH23: 2 | AJ23: =IF(AH23<=3,1,0) -> 1 | AK23: =IF(AND(AH23>=4,AH23<=6),1,0) -> 0 | AL23: =IF(AH23>=7,1,0) -> 0
A24: 18 | D24: G | Q24: =IF(D24<>"D",IF(X24<=2,5-(V24*0.5),5-(((V24*0.5)+((X24-2)*0.5)))),"D") -> 5 | S24: 5 | T24: =AG24 -> 4.47 | U24: =IF(D24<>"D",SUM(Q24:T24),"Disp.") -> 14.47 | V24: =COUNTIFS(E24:P24,"=A") -> 0 | W24: =COUNTIFS(E24:P24,"=R") -> 0 | X24: =COUNTIFS(E24:P24,"=T") -> 0 | Y24: =COUNTIFS(E24:P24,"=M") -> 0 | Z24: 18 | AA24: =B24 -> 0 | AB24: 4.16 | AE24: =IF(D24="D",100,(MIN(AB24:AD24))) -> 4.16 | AF24: =IF(D24="F",MIN(AB24:AD24),"X") -> X | AG24: =ROUND(IF(D24="G",((TC!$G$1/AE24)*6),IF(D24="F",((TC!$G$2/AE24)*6),"0")),2) -> 4.47 | AH24: 5 | AJ24: =IF(AH24<=3,1,0) -> 0 | AK24: =IF(AND(AH24>=4,AH24<=6),1,0) -> 1 | AL24: =IF(AH24>=7,1,0) -> 0
A25: 19 | D25: F | Q25: =IF(D25<>"D",IF(X25<=2,5-(V25*0.5),5-(((V25*0.5)+((X25-2)*0.5)))),"D") -> 5 | S25: 5 | T25: =AG25 -> 1.79 | U25: =IF(D25<>"D",SUM(Q25:T25),"Disp.") -> 11.79 | V25: =COUNTIFS(E25:P25,"=A") -> 0 | W25: =COUNTIFS(E25:P25,"=R") -> 0 | X25: =COUNTIFS(E25:P25,"=T") -> 0 | Y25: =COUNTIFS(E25:P25,"=M") -> 0 | Z25: 19 | AA25: =B25 -> 0 | AB25: 7 | AC25: 35 | AE25: =IF(D25="D",100,(MIN(AB25:AD25))) -> 7 | AF25: =IF(D25="F",MIN(AB25:AD25),"X") -> 7 | AG25: =ROUND(IF(D25="G",((TC!$G$1/AE25)*6),IF(D25="F",((TC!$G$2/AE25)*6),"0")),2) -> 1.79 | AH25: 3 | AJ25: =IF(AH25<=3,1,0) -> 1 | AK25: =IF(AND(AH25>=4,AH25<=6),1,0) -> 0 | AL25: =IF(AH25>=7,1,0) -> 0
A26: 20 | D26: F | Q26: =IF(D26<>"D",IF(X26<=2,5-(V26*0.5),5-(((V26*0.5)+((X26-2)*0.5)))),"D") -> 5 | R26: 3 | S26: 5 | T26: =AG26 -> 3.8 | U26: =IF(D26<>"D",SUM(Q26:T26),"Disp.") -> 16.8 | V26: =COUNTIFS(E26:P26,"=A") -> 0 | W26: =COUNTIFS(E26:P26,"=R") -> 0 | X26: =COUNTIFS(E26:P26,"=T") -> 0 | Y26: =COUNTIFS(E26:P26,"=M") -> 0 | Z26: 20 | AA26: =B26 -> 0 | AB26: 7 | AC26: 3.3 | AE26: =IF(D26="D",100,(MIN(AB26:AD26))) -> 3.3 | AF26: =IF(D26="F",MIN(AB26:AD26),"X") -> 3.3 | AG26: =ROUND(IF(D26="G",((TC!$G$1/AE26)*6),IF(D26="F",((TC!$G$2/AE26)*6),"0")),2) -> 3.8 | AH26: 3 | AJ26: =IF(AH26<=3,1,0) -> 1 | AK26: =IF(AND(AH26>=4,AH26<=6),1,0) -> 0 | AL26: =IF(AH26>=7,1,0) -> 0
A27: 21 | D27: F | Q27: =IF(D27<>"D",IF(X27<=2,5-(V27*0.5),5-(((V27*0.5)+((X27-2)*0.5)))),"D") -> 5 | S27: 5 | T27: =AG27 -> 3.8 | U27: =IF(D27<>"D",SUM(Q27:T27),"Disp.") -> 13.8 | V27: =COUNTIFS(E27:P27,"=A") -> 0 | W27: =COUNTIFS(E27:P27,"=R") -> 0 | X27: =COUNTIFS(E27:P27,"=T") -> 0 | Y27: =COUNTIFS(E27:P27,"=M") -> 0 | Z27: 21 | AA27: =B27 -> 0 | AB27: 7 | AC27: 3.3 | AE27: =IF(D27="D",100,(MIN(AB27:AD27))) -> 3.3 | AF27: =IF(D27="F",MIN(AB27:AD27),"X") -> 3.3 | AG27: =ROUND(IF(D27="G",((TC!$G$1/AE27)*6),IF(D27="F",((TC!$G$2/AE27)*6),"0")),2) -> 3.8 | AH27: 2 | AJ27: =IF(AH27<=3,1,0) -> 1 | AK27: =IF(AND(AH27>=4,AH27<=6),1,0) -> 0 | AL27: =IF(AH27>=7,1,0) -> 0
A28: 22 | D28: G | Q28: =IF(D28<>"D",IF(X28<=2,5-(V28*0.5),5-(((V28*0.5)+((X28-2)*0.5)))),"D") -> 5 | R28: 1.5 | S28: 5 | T28: =AG28 -> 4.62 | U28: =IF(D28<>"D",SUM(Q28:T28),"Disp.") -> 16.12 | V28: =COUNTIFS(E28:P28,"=A") -> 0 | W28: =COUNTIFS(E28:P28,"=R") -> 0 | X28: =COUNTIFS(E28:P28,"=T") -> 0 | Y28: =COUNTIFS(E28:P28,"=M") -> 0 | Z28: 22 | AA28: =B28 -> 0 | AB28: 4.03 | AE28: =IF(D28="D",100,(MIN(AB28:AD28))) -> 4.03 | AF28: =IF(D28="F",MIN(AB28:AD28),"X") -> X | AG28: =ROUND(IF(D28="G",((TC!$G$1/AE28)*6),IF(D28="F",((TC!$G$2/AE28)*6),"0")),2) -> 4.62 | AH28: 6 | AJ28: =IF(AH28<=3,1,0) -> 0 | AK28: =IF(AND(AH28>=4,AH28<=6),1,0) -> 1 | AL28: =IF(AH28>=7,1,0) -> 0
A29: 23 | D29: G | Q29: =IF(D29<>"D",IF(X29<=2,5-(V29*0.5),5-(((V29*0.5)+((X29-2)*0.5)))),"D") -> 5 | S29: 5 | T29: =AG29 -> 5.34 | U29: =IF(D29<>"D",SUM(Q29:T29),"Disp.") -> 15.34 | V29: =COUNTIFS(E29:P29,"=A") -> 0 | W29: =COUNTIFS(E29:P29,"=R") -> 0 | X29: =COUNTIFS(E29:P29,"=T") -> 0 | Y29: =COUNTIFS(E29:P29,"=M") -> 0 | Z29: 23 | AA29: =B29 -> 0 | AB29: 3.48 | AE29: =IF(D29="D",100,(MIN(AB29:AD29))) -> 3.48 | AF29: =IF(D29="F",MIN(AB29:AD29),"X") -> X | AG29: =ROUND(IF(D29="G",((TC!$G$1/AE29)*6),IF(D29="F",((TC!$G$2/AE29)*6),"0")),2) -> 5.34 | AH29: 7 | AJ29: =IF(AH29<=3,1,0) -> 0 | AK29: =IF(AND(AH29>=4,AH29<=6),1,0) -> 0 | AL29: =IF(AH29>=7,1,0) -> 1
A30: 24 | D30: G | Q30: =IF(D30<>"D",IF(X30<=2,5-(V30*0.5),5-(((V30*0.5)+((X30-2)*0.5)))),"D") -> 5 | S30: 5 | T30: =AG30 -> 5.69 | U30: =IF(D30<>"D",SUM(Q30:T30),"Disp.") -> 15.69 | V30: =COUNTIFS(E30:P30,"=A") -> 0 | W30: =COUNTIFS(E30:P30,"=R") -> 0 | X30: =COUNTIFS(E30:P30,"=T") -> 0 | Y30: =COUNTIFS(E30:P30,"=M") -> 0 | Z30: 24 | AA30: =B30 -> 0 | AB30: 3.27 | AE30: =IF(D30="D",100,(MIN(AB30:AD30))) -> 3.27 | AF30: =IF(D30="F",MIN(AB30:AD30),"X") -> X | AG30: =ROUND(IF(D30="G",((TC!$G$1/AE30)*6),IF(D30="F",((TC!$G$2/AE30)*6),"0")),2) -> 5.69 | AH30: 7 | AJ30: =IF(AH30<=3,1,0) -> 0 | AK30: =IF(AND(AH30>=4,AH30<=6),1,0) -> 0 | AL30: =IF(AH30>=7,1,0) -> 1
A31: 25 | D31: G | Q31: =IF(D31<>"D",IF(X31<=2,5-(V31*0.5),5-(((V31*0.5)+((X31-2)*0.5)))),"D") -> 5 | R31: 3 | S31: 5 | T31: =AG31 -> 5.52 | U31: =IF(D31<>"D",SUM(Q31:T31),"Disp.") -> 18.52 | V31: =COUNTIFS(E31:P31,"=A") -> 0 | W31: =COUNTIFS(E31:P31,"=R") -> 0 | X31: =COUNTIFS(E31:P31,"=T") -> 0 | Y31: =COUNTIFS(E31:P31,"=M") -> 0 | Z31: 25 | AA31: =B31 -> 0 | AB31: 3.37 | AE31: =IF(D31="D",100,(MIN(AB31:AD31))) -> 3.37 | AF31: =IF(D31="F",MIN(AB31:AD31),"X") -> X | AG31: =ROUND(IF(D31="G",((TC!$G$1/AE31)*6),IF(D31="F",((TC!$G$2/AE31)*6),"0")),2) -> 5.52 | AH31: 6 | AJ31: =IF(AH31<=3,1,0) -> 0 | AK31: =IF(AND(AH31>=4,AH31<=6),1,0) -> 1 | AL31: =IF(AH31>=7,1,0) -> 0
A32: 26 | D32: F | Q32: =IF(D32<>"D",IF(X32<=2,5-(V32*0.5),5-(((V32*0.5)+((X32-2)*0.5)))),"D") -> 5 | S32: 5 | T32: =AG32 -> 1.79 | U32: =IF(D32<>"D",SUM(Q32:T32),"Disp.") -> 11.79 | V32: =COUNTIFS(E32:P32,"=A") -> 0 | W32: =COUNTIFS(E32:P32,"=R") -> 0 | X32: =COUNTIFS(E32:P32,"=T") -> 0 | Y32: =COUNTIFS(E32:P32,"=M") -> 0 | Z32: 26 | AA32: =B32 -> 0 | AB32: 7 | AC32: 35 | AE32: =IF(D32="D",100,(MIN(AB32:AD32))) -> 7 | AF32: =IF(D32="F",MIN(AB32:AD32),"X") -> 7 | AG32: =ROUND(IF(D32="G",((TC!$G$1/AE32)*6),IF(D32="F",((TC!$G$2/AE32)*6),"0")),2) -> 1.79 | AH32: 2 | AJ32: =IF(AH32<=3,1,0) -> 1 | AK32: =IF(AND(AH32>=4,AH32<=6),1,0) -> 0 | AL32: =IF(AH32>=7,1,0) -> 0
A33: 27 | D33: G | Q33: =IF(D33<>"D",IF(X33<=2,5-(V33*0.5),5-(((V33*0.5)+((X33-2)*0.5)))),"D") -> 5 | S33: 5 | T33: =AG33 -> 5.47 | U33: =IF(D33<>"D",SUM(Q33:T33),"Disp.") -> 15.47 | V33: =COUNTIFS(E33:P33,"=A") -> 0 | W33: =COUNTIFS(E33:P33,"=R") -> 0 | X33: =COUNTIFS(E33:P33,"=T") -> 0 | Y33: =COUNTIFS(E33:P33,"=M") -> 0 | Z33: 27 | AA33: =B33 -> 0 | AB33: 3.4 | AC33: 4.11 | AE33: =IF(D33="D",100,(MIN(AB33:AD33))) -> 3.4 | AF33: =IF(D33="F",MIN(AB33:AD33),"X") -> X | AG33: =ROUND(IF(D33="G",((TC!$G$1/AE33)*6),IF(D33="F",((TC!$G$2/AE33)*6),"0")),2) -> 5.47 | AH33: 4 | AJ33: =IF(AH33<=3,1,0) -> 0 | AK33: =IF(AND(AH33>=4,AH33<=6),1,0) -> 1 | AL33: =IF(AH33>=7,1,0) -> 0
A34: 28 | D34: G | Q34: =IF(D34<>"D",IF(X34<=2,5-(V34*0.5),5-(((V34*0.5)+((X34-2)*0.5)))),"D") -> 5 | R34: 3 | S34: 5 | T34: =AG34 -> 4.57 | U34: =IF(D34<>"D",SUM(Q34:T34),"Disp.") -> 17.57 | V34: =COUNTIFS(E34:P34,"=A") -> 0 | W34: =COUNTIFS(E34:P34,"=R") -> 0 | X34: =COUNTIFS(E34:P34,"=T") -> 0 | Y34: =COUNTIFS(E34:P34,"=M") -> 0 | Z34: 28 | AA34: =B34 -> 0 | AB34: 4.07 | AE34: =IF(D34="D",100,(MIN(AB34:AD34))) -> 4.07 | AF34: =IF(D34="F",MIN(AB34:AD34),"X") -> X | AG34: =ROUND(IF(D34="G",((TC!$G$1/AE34)*6),IF(D34="F",((TC!$G$2/AE34)*6),"0")),2) -> 4.57 | AH34: 5 | AJ34: =IF(AH34<=3,1,0) -> 0 | AK34: =IF(AND(AH34>=4,AH34<=6),1,0) -> 1 | AL34: =IF(AH34>=7,1,0) -> 0
A35: 29 | D35: F | Q35: =IF(D35<>"D",IF(X35<=2,5-(V35*0.5),5-(((V35*0.5)+((X35-2)*0.5)))),"D") -> 5 | R35: 7 | S35: 5 | T35: =AG35 -> 1.79 | U35: =IF(D35<>"D",SUM(Q35:T35),"Disp.") -> 18.79 | V35: =COUNTIFS(E35:P35,"=A") -> 0 | W35: =COUNTIFS(E35:P35,"=R") -> 0 | X35: =COUNTIFS(E35:P35,"=T") -> 0 | Y35: =COUNTIFS(E35:P35,"=M") -> 0 | Z35: 29 | AA35: =B35 -> 0 | AB35: 7 | AE35: =IF(D35="D",100,(MIN(AB35:AD35))) -> 7 | AF35: =IF(D35="F",MIN(AB35:AD35),"X") -> 7 | AG35: =ROUND(IF(D35="G",((TC!$G$1/AE35)*6),IF(D35="F",((TC!$G$2/AE35)*6),"0")),2) -> 1.79 | AH35: 3 | AJ35: =IF(AH35<=3,1,0) -> 1 | AK35: =IF(AND(AH35>=4,AH35<=6),1,0) -> 0 | AL35: =IF(AH35>=7,1,0) -> 0
A36: 30 | D36: D | Q36: =IF(D36<>"D",IF(X36<=2,5-(V36*0.5),5-(((V36*0.5)+((X36-2)*0.5)))),"D") -> D | T36: =AG36 -> 0 | U36: =IF(D36<>"D",SUM(Q36:T36),"Disp.") -> Disp. | V36: =COUNTIFS(E36:P36,"=A") -> 0 | W36: =COUNTIFS(E36:P36,"=R") -> 0 | X36: =COUNTIFS(E36:P36,"=T") -> 0 | Y36: =COUNTIFS(E36:P36,"=M") -> 0 | Z36: 30 | AA36: =B36 -> 0 | AE36: =IF(D36="D",100,(MIN(AB36:AD36))) -> 100 | AF36: =IF(D36="F",MIN(AB36:AD36),"X") -> X | AG36: =ROUND(IF(D36="G",((TC!$G$1/AE36)*6),IF(D36="F",((TC!$G$2/AE36)*6),"0")),2) -> 0
A37: 31 | V37: =COUNTIFS(E37:P37,"=A") -> 0 | W37: =COUNTIFS(E37:P37,"=R") -> 0 | X37: =COUNTIFS(E37:P37,"=T") -> 0 | Y37: =COUNTIFS(E37:P37,"=M") -> 0 | Z37: 31 | AA37: =B37 -> 0 | AE37: =IF(D37="D",100,(MIN(AB37:AD37))) -> 0 | AG37: =ROUND(IF(D37="G",((TC!$G$1/AE37)*6),IF(D37="F",((TC!$G$2/AE37)*6),"0")),2) -> 0
A38: 32 | V38: =COUNTIFS(E38:P38,"=A") -> 0 | W38: =COUNTIFS(E38:P38,"=R") -> 0 | X38: =COUNTIFS(E38:P38,"=T") -> 0 | Y38: =COUNTIFS(E38:P38,"=M") -> 0 | Z38: 32 | AA38: =B38 -> 0 | AE38: =IF(D38="D",100,(MIN(AB38:AD38))) -> 0 | AG38: =ROUND(IF(D38="G",((TC!$G$1/AE38)*6),IF(D38="F",((TC!$G$2/AE38)*6),"0")),2) -> 0
A39: 33 | V39: =COUNTIFS(E39:P39,"=A") -> 0 | W39: =COUNTIFS(E39:P39,"=R") -> 0 | X39: =COUNTIFS(E39:P39,"=T") -> 0 | Y39: =COUNTIFS(E39:P39,"=M") -> 0 | Z39: 33 | AA39: =B39 -> 0 | AE39: =IF(D39="D",100,(MIN(AB39:AD39))) -> 0 | AG39: =ROUND(IF(D39="G",((TC!$G$1/AE39)*6),IF(D39="F",((TC!$G$2/AE39)*6),"0")),2) -> 0
A40: 34 | V40: =COUNTIFS(E40:P40,"=A") -> 0 | W40: =COUNTIFS(E40:P40,"=R") -> 0 | X40: =COUNTIFS(E40:P40,"=T") -> 0 | Y40: =COUNTIFS(E40:P40,"=M") -> 0 | Z40: 34 | AA40: =B40 -> 0 | AE40: =IF(D40="D",100,(MIN(AB40:AD40))) -> 0 | AG40: =ROUND(IF(D40="G",((TC!$G$1/AE40)*6),IF(D40="F",((TC!$G$2/AE40)*6),"0")),2) -> 0
A41: 35 | V41: =COUNTIFS(E41:P41,"=A") -> 0 | W41: =COUNTIFS(E41:P41,"=R") -> 0 | X41: =COUNTIFS(E41:P41,"=T") -> 0 | Y41: =COUNTIFS(E41:P41,"=M") -> 0 | Z41: 35 | AA41: =B41 -> 0 | AE41: =IF(D41="D",100,(MIN(AB41:AD41))) -> 0 | AG41: =ROUND(IF(D41="G",((TC!$G$1/AE41)*6),IF(D41="F",((TC!$G$2/AE41)*6),"0")),2) -> 0
A42: 36 | V42: =COUNTIFS(E42:P42,"=A") -> 0 | W42: =COUNTIFS(E42:P42,"=R") -> 0 | X42: =COUNTIFS(E42:P42,"=T") -> 0 | Y42: =COUNTIFS(E42:P42,"=M") -> 0 | Z42: 36 | AA42: =B42 -> 0 | AE42: =IF(D42="D",100,(MIN(AB42:AD42))) -> 0 | AG42: =ROUND(IF(D42="G",((TC!$G$1/AE42)*6),IF(D42="F",((TC!$G$2/AE42)*6),"0")),2) -> 0
A43: 37 | V43: =COUNTIFS(E43:P43,"=A") -> 0 | W43: =COUNTIFS(E43:P43,"=R") -> 0 | X43: =COUNTIFS(E43:P43,"=T") -> 0 | Y43: =COUNTIFS(E43:P43,"=M") -> 0 | Z43: 37 | AA43: =B43 -> 0 | AE43: =IF(D43="D",100,(MIN(AB43:AD43))) -> 0 | AG43: =ROUND(IF(D43="G",((TC!$G$1/AE43)*6),IF(D43="F",((TC!$G$2/AE43)*6),"0")),2) -> 0
A44: 38 | V44: =COUNTIFS(E44:P44,"=A") -> 0 | W44: =COUNTIFS(E44:P44,"=R") -> 0 | X44: =COUNTIFS(E44:P44,"=T") -> 0 | Y44: =COUNTIFS(E44:P44,"=M") -> 0 | Z44: 38 | AA44: =B44 -> 0 | AE44: =IF(D44="D",100,(MIN(AB44:AD44))) -> 0 | AG44: =ROUND(IF(D44="G",((TC!$G$1/AE44)*6),IF(D44="F",((TC!$G$2/AE44)*6),"0")),2) -> 0
A45: 39 | V45: =COUNTIFS(E45:P45,"=A") -> 0 | W45: =COUNTIFS(E45:P45,"=R") -> 0 | X45: =COUNTIFS(E45:P45,"=T") -> 0 | Y45: =COUNTIFS(E45:P45,"=M") -> 0 | Z45: 39 | AA45: =B45 -> 0 | AE45: =IF(D45="D",100,(MIN(AB45:AD45))) -> 0 | AG45: =ROUND(IF(D45="G",((TC!$G$1/AE45)*6),IF(D45="F",((TC!$G$2/AE45)*6),"0")),2) -> 0
A46: 40 | V46: =COUNTIFS(E46:P46,"=A") -> 0 | W46: =COUNTIFS(E46:P46,"=R") -> 0 | X46: =COUNTIFS(E46:P46,"=T") -> 0 | Y46: =COUNTIFS(E46:P46,"=M") -> 0 | Z46: 40 | AA46: =B46 -> 0 | AE46: =IF(D46="D",100,(MIN(AB46:AD46))) -> 0 | AG46: =ROUND(IF(D46="G",((TC!$G$1/AE46)*6),IF(D46="F",((TC!$G$2/AE46)*6),"0")),2) -> 0

Sheet SF3 CDtc
A1: Classe | C1: Cycle: | G1: Endurance | Q1: AS: 2019/2020 | AB1: Abs=35
A2: N° | B2: TCSF-3 | C2: Contrôle-Assiduité-Evaluation | Q2: Evaluation | U2: Note Finale | AB2: Ab=10
C3: Séance | E3: S1 | F3: S2 | G3: S3 | H3: S4 | I3: S5 | J3: S6 | K3: S7 | L3: S8 | M3: S9 | N3: S 10 | O3: S 11 | P3: S 12 | Q3: Conn. Comp. (5) | R3: Conn. Conc. (3) | S3: Conn. Proc (12) | AB3: Art=7
C4: D= | D4: =COUNTIFS(D7:D51,"=D") -> 0 | E4: 43732 | F4: 43734 | G4: =E4+7 -> 43739 | H4: =F4+7 -> 43741 | I4: =G4+7 -> 43746 | J4: =H4+7 -> 43748 | K4: =I4+7 -> 43753 | L4: =J4+7 -> 43755 | M4: =K4+7 -> 43760 | N4: =L4+7 -> 43762 | ... P4: =N4+7 -> 43769 | S4: Comp. Motr. | T4: Hab. Motrc. | U4: /20 | AJ4: 3 et < | AK4: Entre 4 et 6 | AL4: 7 et >
B5: Nom | C5: G= | D5: =COUNTIFS(D7:D51,"=G") -> 12 | V5: Assiduité | Z5: N° | AA5: Nom | AB5: Test 1 | AC5: Test 2 | AD5: Test 3 | AE5: Meilleur TG | AF5: Meilleur TF | AG5: Nt Hab Mot | AH5: Palier au test | AJ5: =SUM(AJ7:AJ46) -> 13 | AK5: =SUM(AK7:AK46) -> 13 | AL5: =SUM(AL7:AL46) -> 8
B6: Prénom | C6: F= | D6: =COUNTIFS(D7:D51,"=F") -> 19 | Q6: /5 | R6: /3 | S6: /6 | T6: /6 | V6: A | W6: R | X6: T | Y6: M
A7: 1 | D7: F | Q7: =IF(D7<>"D",IF(X7<=2,5-(V7*0.5),5-(((V7*0.5)+((X7-2)*0.5)))),"D") -> 5 | S7: 5 | T7: =AG7 -> 5.23 | U7: =IF(D7<>"D",SUM(Q7:T7),"Disp.") -> 15.23 | V7: =COUNTIFS(E7:P7,"=A") -> 0 | W7: =COUNTIFS(E7:P7,"=R") -> 0 | X7: =COUNTIFS(E7:P7,"=T") -> 0 | Y7: =COUNTIFS(E7:P7,"=M") -> 0 | Z7: 1 | AA7: =B7 -> 0 | AB7: 2.4 | AE7: =IF(D7="D",100,(MIN(AB7:AD7))) -> 2.4 | AF7: =IF(D7="F",MIN(AB7:AD7),"X") -> 2.4 | AG7: =ROUND(IF(D7="G",((TC!$G$1/AE7)*6),IF(D7="F",((TC!$G$2/AE7)*6),"0")),2) -> 5.23 | AH7: 3 | AJ7: =IF(AH7<=3,1,0) -> 1 | AK7: =IF(AND(AH7>=4,AH7<=6),1,0) -> 0 | AL7: =IF(AH7>=7,1,0) -> 0
A8: 2 | D8: F | Q8: =IF(D8<>"D",IF(X8<=2,5-(V8*0.5),5-(((V8*0.5)+((X8-2)*0.5)))),"D") -> 5 | S8: 5 | T8: =AG8 -> 2.51 | U8: =IF(D8<>"D",SUM(Q8:T8),"Disp.") -> 12.51 | V8: =COUNTIFS(E8:P8,"=A") -> 0 | W8: =COUNTIFS(E8:P8,"=R") -> 0 | X8: =COUNTIFS(E8:P8,"=T") -> 0 | Y8: =COUNTIFS(E8:P8,"=M") -> 0 | Z8: 2 | AA8: =B8 -> 0 | AB8: 5 | AE8: =IF(D8="D",100,(MIN(AB8:AD8))) -> 5 | AF8: =IF(D8="F",MIN(AB8:AD8),"X") -> 5 | AG8: =ROUND(IF(D8="G",((TC!$G$1/AE8)*6),IF(D8="F",((TC!$G$2/AE8)*6),"0")),2) -> 2.51 | AH8: 5 | AJ8: =IF(AH8<=3,1,0) -> 0 | AK8: =IF(AND(AH8>=4,AH8<=6),1,0) -> 1 | AL8: =IF(AH8>=7,1,0) -> 0
A9: 3 | D9: F | Q9: =IF(D9<>"D",IF(X9<=2,5-(V9*0.5),5-(((V9*0.5)+((X9-2)*0.5)))),"D") -> 5 | S9: 5 | T9: =AG9 -> 1.25 | U9: =IF(D9<>"D",SUM(Q9:T9),"Disp.") -> 11.25 | V9: =COUNTIFS(E9:P9,"=A") -> 0 | W9: =COUNTIFS(E9:P9,"=R") -> 0 | X9: =COUNTIFS(E9:P9,"=T") -> 0 | Y9: =COUNTIFS(E9:P9,"=M") -> 0 | Z9: 3 | AA9: =B9 -> 0 | AB9: 10 | AE9: =IF(D9="D",100,(MIN(AB9:AD9))) -> 10 | AF9: =IF(D9="F",MIN(AB9:AD9),"X") -> 10 | AG9: =ROUND(IF(D9="G",((TC!$G$1/AE9)*6),IF(D9="F",((TC!$G$2/AE9)*6),"0")),2) -> 1.25 | AH9: 1 | AJ9: =IF(AH9<=3,1,0) -> 1 | AK9: =IF(AND(AH9>=4,AH9<=6),1,0) -> 0 | AL9: =IF(AH9>=7,1,0) -> 0
A10: 4 | D10: F | Q10: =IF(D10<>"D",IF(X10<=2,5-(V10*0.5),5-(((V10*0.5)+((X10-2)*0.5)))),"D") -> 5 | R10: 1.5 | S10: 5 | T10: =AG10 -> 5.08 | U10: =IF(D10<>"D",SUM(Q10:T10),"Disp.") -> 16.58 | V10: =COUNTIFS(E10:P10,"=A") -> 0 | W10: =COUNTIFS(E10:P10,"=R") -> 0 | X10: =COUNTIFS(E10:P10,"=T") -> 0 | Y10: =COUNTIFS(E10:P10,"=M") -> 0 | Z10: 4 | AA10: =B10 -> 0 | AB10: 2.47 | AE10: =IF(D10="D",100,(MIN(AB10:AD10))) -> 2.47 | AF10: =IF(D10="F",MIN(AB10:AD10),"X") -> 2.47 | AG10: =ROUND(IF(D10="G",((TC!$G$1/AE10)*6),IF(D10="F",((TC!$G$2/AE10)*6),"0")),2) -> 5.08 | AH10: 4 | AJ10: =IF(AH10<=3,1,0) -> 0 | AK10: =IF(AND(AH10>=4,AH10<=6),1,0) -> 1 | AL10: =IF(AH10>=7,1,0) -> 0
A11: 5 | D11: G | Q11: =IF(D11<>"D",IF(X11<=2,5-(V11*0.5),5-(((V11*0.5)+((X11-2)*0.5)))),"D") -> 5 | S11: 5 | T11: =AG11 -> 5.76 | U11: =IF(D11<>"D",SUM(Q11:T11),"Disp.") -> 15.76 | V11: =COUNTIFS(E11:P11,"=A") -> 0 | W11: =COUNTIFS(E11:P11,"=R") -> 0 | X11: =COUNTIFS(E11:P11,"=T") -> 0 | Y11: =COUNTIFS(E11:P11,"=M") -> 0 | Z11: 5 | AA11: =B11 -> 0 | AB11: 3.23 | AC11: 4.07 | AE11: =IF(D11="D",100,(MIN(AB11:AD11))) -> 3.23 | AF11: =IF(D11="F",MIN(AB11:AD11),"X") -> X | AG11: =ROUND(IF(D11="G",((TC!$G$1/AE11)*6),IF(D11="F",((TC!$G$2/AE11)*6),"0")),2) -> 5.76 | AH11: 8 | AJ11: =IF(AH11<=3,1,0) -> 0 | AK11: =IF(AND(AH11>=4,AH11<=6),1,0) -> 0 | AL11: =IF(AH11>=7,1,0) -> 1
A12: 6 | D12: F | Q12: =IF(D12<>"D",IF(X12<=2,5-(V12*0.5),5-(((V12*0.5)+((X12-2)*0.5)))),"D") -> 5 | S12: 5 | T12: =AG12 -> 1.79 | U12: =IF(D12<>"D",SUM(Q12:T12),"Disp.") -> 11.79 | V12: =COUNTIFS(E12:P12,"=A") -> 0 | W12: =COUNTIFS(E12:P12,"=R") -> 0 | X12: =COUNTIFS(E12:P12,"=T") -> 0 | Y12: =COUNTIFS(E12:P12,"=M") -> 0 | Z12: 6 | AA12: =B12 -> 0 | AB12: 7 | AE12: =IF(D12="D",100,(MIN(AB12:AD12))) -> 7 | AF12: =IF(D12="F",MIN(AB12:AD12),"X") -> 7 | AG12: =ROUND(IF(D12="G",((TC!$G$1/AE12)*6),IF(D12="F",((TC!$G$2/AE12)*6),"0")),2) -> 1.79 | AH12: 3 | AJ12: =IF(AH12<=3,1,0) -> 1 | AK12: =IF(AND(AH12>=4,AH12<=6),1,0) -> 0 | AL12: =IF(AH12>=7,1,0) -> 0
A13: 7 | D13: G | Q13: =IF(D13<>"D",IF(X13<=2,5-(V13*0.5),5-(((V13*0.5)+((X13-2)*0.5)))),"D") -> 5 | S13: 5 | T13: =AG13 -> 5.71 | U13: =IF(D13<>"D",SUM(Q13:T13),"Disp.") -> 15.71 | V13: =COUNTIFS(E13:P13,"=A") -> 0 | W13: =COUNTIFS(E13:P13,"=R") -> 0 | X13: =COUNTIFS(E13:P13,"=T") -> 0 | Y13: =COUNTIFS(E13:P13,"=M") -> 0 | Z13: 7 | AA13: =B13 -> 0 | AB13: 3.26 | AC13: 3.42 | AE13: =IF(D13="D",100,(MIN(AB13:AD13))) -> 3.26 | AF13: =IF(D13="F",MIN(AB13:AD13),"X") -> X | AG13: =ROUND(IF(D13="G",((TC!$G$1/AE13)*6),IF(D13="F",((TC!$G$2/AE13)*6),"0")),2) -> 5.71 | AH13: 10 | AJ13: =IF(AH13<=3,1,0) -> 0 | AK13: =IF(AND(AH13>=4,AH13<=6),1,0) -> 0 | AL13: =IF(AH13>=7,1,0) -> 1
A14: 8 | D14: G | Q14: =IF(D14<>"D",IF(X14<=2,5-(V14*0.5),5-(((V14*0.5)+((X14-2)*0.5)))),"D") -> 5 | R14: 3 | S14: 5 | T14: =AG14 -> 5.71 | U14: =IF(D14<>"D",SUM(Q14:T14),"Disp.") -> 18.71 | V14: =COUNTIFS(E14:P14,"=A") -> 0 | W14: =COUNTIFS(E14:P14,"=R") -> 0 | X14: =COUNTIFS(E14:P14,"=T") -> 0 | Y14: =COUNTIFS(E14:P14,"=M") -> 0 | Z14: 8 | AA14: =B14 -> 0 | AB14: 3.26 | AC14: 3.43 | AE14: =IF(D14="D",100,(MIN(AB14:AD14))) -> 3.26 | AF14: =IF(D14="F",MIN(AB14:AD14),"X") -> X | AG14: =ROUND(IF(D14="G",((TC!$G$1/AE14)*6),IF(D14="F",((TC!$G$2/AE14)*6),"0")),2) -> 5.71 | AH14: 8 | AJ14: =IF(AH14<=3,1,0) -> 0 | AK14: =IF(AND(AH14>=4,AH14<=6),1,0) -> 0 | AL14: =IF(AH14>=7,1,0) -> 1
A15: 9 | D15: F | Q15: =IF(D15<>"D",IF(X15<=2,5-(V15*0.5),5-(((V15*0.5)+((X15-2)*0.5)))),"D") -> 5 | R15: 3 | S15: 5 | T15: =AG15 -> 5.25 | U15: =IF(D15<>"D",SUM(Q15:T15),"Disp.") -> 18.25 | V15: =COUNTIFS(E15:P15,"=A") -> 0 | W15: =COUNTIFS(E15:P15,"=R") -> 0 | X15: =COUNTIFS(E15:P15,"=T") -> 0 | Y15: =COUNTIFS(E15:P15,"=M") -> 0 | Z15: 9 | AA15: =B15 -> 0 | AB15: 2.39 | AE15: =IF(D15="D",100,(MIN(AB15:AD15))) -> 2.39 | AF15: =IF(D15="F",MIN(AB15:AD15),"X") -> 2.39 | AG15: =ROUND(IF(D15="G",((TC!$G$1/AE15)*6),IF(D15="F",((TC!$G$2/AE15)*6),"0")),2) -> 5.25 | AH15: 4 | AJ15: =IF(AH15<=3,1,0) -> 0 | AK15: =IF(AND(AH15>=4,AH15<=6),1,0) -> 1 | AL15: =IF(AH15>=7,1,0) -> 0
A16: 10 | D16: G | Q16: =IF(D16<>"D",IF(X16<=2,5-(V16*0.5),5-(((V16*0.5)+((X16-2)*0.5)))),"D") -> 5 | R16: 1 | S16: 5 | T16: =AG16 -> 5.39 | U16: =IF(D16<>"D",SUM(Q16:T16),"Disp.") -> 16.39 | V16: =COUNTIFS(E16:P16,"=A") -> 0 | W16: =COUNTIFS(E16:P16,"=R") -> 0 | X16: =COUNTIFS(E16:P16,"=T") -> 0 | Y16: =COUNTIFS(E16:P16,"=M") -> 0 | Z16: 10 | AA16: =B16 -> 0 | AB16: 3.49 | AC16: 3.45 | AE16: =IF(D16="D",100,(MIN(AB16:AD16))) -> 3.45 | AF16: =IF(D16="F",MIN(AB16:AD16),"X") -> X | AG16: =ROUND(IF(D16="G",((TC!$G$1/AE16)*6),IF(D16="F",((TC!$G$2/AE16)*6),"0")),2) -> 5.39 | AH16: 5 | AJ16: =IF(AH16<=3,1,0) -> 0 | AK16: =IF(AND(AH16>=4,AH16<=6),1,0) -> 1 | AL16: =IF(AH16>=7,1,0) -> 0
A17: 11 | D17: G | Q17: =IF(D17<>"D",IF(X17<=2,5-(V17*0.5),5-(((V17*0.5)+((X17-2)*0.5)))),"D") -> 5 | R17: 3 | S17: 5 | T17: =AG17 -> 5.42 | U17: =IF(D17<>"D",SUM(Q17:T17),"Disp.") -> 18.42 | V17: =COUNTIFS(E17:P17,"=A") -> 0 | W17: =COUNTIFS(E17:P17,"=R") -> 0 | X17: =COUNTIFS(E17:P17,"=T") -> 0 | Y17: =COUNTIFS(E17:P17,"=M") -> 0 | Z17: 11 | AA17: =B17 -> 0 | AB17: 3.43 | AE17: =IF(D17="D",100,(MIN(AB17:AD17))) -> 3.43 | AF17: =IF(D17="F",MIN(AB17:AD17),"X") -> X | AG17: =ROUND(IF(D17="G",((TC!$G$1/AE17)*6),IF(D17="F",((TC!$G$2/AE17)*6),"0")),2) -> 5.42 | AH17: 7 | AJ17: =IF(AH17<=3,1,0) -> 0 | AK17: =IF(AND(AH17>=4,AH17<=6),1,0) -> 0 | AL17: =IF(AH17>=7,1,0) -> 1
A18: 12 | D18: G | Q18: =IF(D18<>"D",IF(X18<=2,5-(V18*0.5),5-(((V18*0.5)+((X18-2)*0.5)))),"D") -> 5 | R18: 1.5 | S18: 5 | T18: =AG18 -> 5.9 | U18: =IF(D18<>"D",SUM(Q18:T18),"Disp.") -> 17.4 | V18: =COUNTIFS(E18:P18,"=A") -> 0 | W18: =COUNTIFS(E18:P18,"=R") -> 0 | X18: =COUNTIFS(E18:P18,"=T") -> 0 | Y18: =COUNTIFS(E18:P18,"=M") -> 0 | Z18: 12 | AA18: =B18 -> 0 | AB18: 3.15 | AC18: 3.27 | AE18: =IF(D18="D",100,(MIN(AB18:AD18))) -> 3.15 | AF18: =IF(D18="F",MIN(AB18:AD18),"X") -> X | AG18: =ROUND(IF(D18="G",((TC!$G$1/AE18)*6),IF(D18="F",((TC!$G$2/AE18)*6),"0")),2) -> 5.9 | AH18: 10 | AJ18: =IF(AH18<=3,1,0) -> 0 | AK18: =IF(AND(AH18>=4,AH18<=6),1,0) -> 0 | AL18: =IF(AH18>=7,1,0) -> 1
A19: 13 | D19: F | Q19: =IF(D19<>"D",IF(X19<=2,5-(V19*0.5),5-(((V19*0.5)+((X19-2)*0.5)))),"D") -> 5 | S19: 5 | T19: =AG19 -> 1.79 | U19: =IF(D19<>"D",SUM(Q19:T19),"Disp.") -> 11.79 | V19: =COUNTIFS(E19:P19,"=A") -> 0 | W19: =COUNTIFS(E19:P19,"=R") -> 0 | X19: =COUNTIFS(E19:P19,"=T") -> 0 | Y19: =COUNTIFS(E19:P19,"=M") -> 0 | Z19: 13 | AA19: =B19 -> 0 | AB19: 7 | AE19: =IF(D19="D",100,(MIN(AB19:AD19))) -> 7 | AF19: =IF(D19="F",MIN(AB19:AD19),"X") -> 7 | AG19: =ROUND(IF(D19="G",((TC!$G$1/AE19)*6),IF(D19="F",((TC!$G$2/AE19)*6),"0")),2) -> 1.79 | AH19: 4 | AJ19: =IF(AH19<=3,1,0) -> 0 | AK19: =IF(AND(AH19>=4,AH19<=6),1,0) -> 1 | AL19: =IF(AH19>=7,1,0) -> 0
A20: 14 | D20: F | Q20: =IF(D20<>"D",IF(X20<=2,5-(V20*0.5),5-(((V20*0.5)+((X20-2)*0.5)))),"D") -> 5 | S20: 5 | T20: =AG20 -> 5.92 | U20: =IF(D20<>"D",SUM(Q20:T20),"Disp.") -> 15.92 | V20: =COUNTIFS(E20:P20,"=A") -> 0 | W20: =COUNTIFS(E20:P20,"=R") -> 0 | X20: =COUNTIFS(E20:P20,"=T") -> 0 | Y20: =COUNTIFS(E20:P20,"=M") -> 0 | Z20: 14 | AA20: =B20 -> 0 | AB20: 2.12 | AE20: =IF(D20="D",100,(MIN(AB20:AD20))) -> 2.12 | AF20: =IF(D20="F",MIN(AB20:AD20),"X") -> 2.12 | AG20: =ROUND(IF(D20="G",((TC!$G$1/AE20)*6),IF(D20="F",((TC!$G$2/AE20)*6),"0")),2) -> 5.92 | AH20: 5 | AJ20: =IF(AH20<=3,1,0) -> 0 | AK20: =IF(AND(AH20>=4,AH20<=6),1,0) -> 1 | AL20: =IF(AH20>=7,1,0) -> 0
A21: 15 | D21: F | Q21: =IF(D21<>"D",IF(X21<=2,5-(V21*0.5),5-(((V21*0.5)+((X21-2)*0.5)))),"D") -> 5 | R21: 3 | S21: 5 | T21: =AG21 -> 5.18 | U21: =IF(D21<>"D",SUM(Q21:T21),"Disp.") -> 18.18 | V21: =COUNTIFS(E21:P21,"=A") -> 0 | W21: =COUNTIFS(E21:P21,"=R") -> 0 | X21: =COUNTIFS(E21:P21,"=T") -> 0 | Y21: =COUNTIFS(E21:P21,"=M") -> 0 | Z21: 15 | AA21: =B21 -> 0 | AB21: 2.42 | AE21: =IF(D21="D",100,(MIN(AB21:AD21))) -> 2.42 | AF21: =IF(D21="F",MIN(AB21:AD21),"X") -> 2.42 | AG21: =ROUND(IF(D21="G",((TC!$G$1/AE21)*6),IF(D21="F",((TC!$G$2/AE21)*6),"0")),2) -> 5.18 | AH21: 5 | AJ21: =IF(AH21<=3,1,0) -> 0 | AK21: =IF(AND(AH21>=4,AH21<=6),1,0) -> 1 | AL21: =IF(AH21>=7,1,0) -> 0
A22: 16 | D22: G | Q22: =IF(D22<>"D",IF(X22<=2,5-(V22*0.5),5-(((V22*0.5)+((X22-2)*0.5)))),"D") -> 5 | S22: 5 | T22: =AG22 -> 5.59 | U22: =IF(D22<>"D",SUM(Q22:T22),"Disp.") -> 15.59 | V22: =COUNTIFS(E22:P22,"=A") -> 0 | W22: =COUNTIFS(E22:P22,"=R") -> 0 | X22: =COUNTIFS(E22:P22,"=T") -> 0 | Y22: =COUNTIFS(E22:P22,"=M") -> 0 | Z22: 16 | AA22: =B22 -> 0 | AB22: 3.33 | AC22: 3.47 | AE22: =IF(D22="D",100,(MIN(AB22:AD22))) -> 3.33 | AF22: =IF(D22="F",MIN(AB22:AD22),"X") -> X | AG22: =ROUND(IF(D22="G",((TC!$G$1/AE22)*6),IF(D22="F",((TC!$G$2/AE22)*6),"0")),2) -> 5.59 | AH22: 6 | AJ22: =IF(AH22<=3,1,0) -> 0 | AK22: =IF(AND(AH22>=4,AH22<=6),1,0) -> 1 | AL22: =IF(AH22>=7,1,0) -> 0
A23: 17 | D23: G | Q23: =IF(D23<>"D",IF(X23<=2,5-(V23*0.5),5-(((V23*0.5)+((X23-2)*0.5)))),"D") -> 5 | S23: 5 | T23: =AG23 -> 5.34 | U23: =IF(D23<>"D",SUM(Q23:T23),"Disp.") -> 15.34 | V23: =COUNTIFS(E23:P23,"=A") -> 0 | W23: =COUNTIFS(E23:P23,"=R") -> 0 | X23: =COUNTIFS(E23:P23,"=T") -> 0 | Y23: =COUNTIFS(E23:P23,"=M") -> 0 | Z23: 17 | AA23: =B23 -> 0 | AB23: 3.48 | AC23: 4.01 | AE23: =IF(D23="D",100,(MIN(AB23:AD23))) -> 3.48 | AF23: =IF(D23="F",MIN(AB23:AD23),"X") -> X | AG23: =ROUND(IF(D23="G",((TC!$G$1/AE23)*6),IF(D23="F",((TC!$G$2/AE23)*6),"0")),2) -> 5.34 | AH23: 7 | AJ23: =IF(AH23<=3,1,0) -> 0 | AK23: =IF(AND(AH23>=4,AH23<=6),1,0) -> 0 | AL23: =IF(AH23>=7,1,0) -> 1
A24: 18 | D24: F | Q24: =IF(D24<>"D",IF(X24<=2,5-(V24*0.5),5-(((V24*0.5)+((X24-2)*0.5)))),"D") -> 5 | S24: 5 | T24: =AG24 -> 4.08 | U24: =IF(D24<>"D",SUM(Q24:T24),"Disp.") -> 14.08 | V24: =COUNTIFS(E24:P24,"=A") -> 0 | W24: =COUNTIFS(E24:P24,"=R") -> 0 | X24: =COUNTIFS(E24:P24,"=T") -> 0 | Y24: =COUNTIFS(E24:P24,"=M") -> 0 | Z24: 18 | AA24: =B24 -> 0 | AB24: 3.07 | AE24: =IF(D24="D",100,(MIN(AB24:AD24))) -> 3.07 | AF24: =IF(D24="F",MIN(AB24:AD24),"X") -> 3.07 | AG24: =ROUND(IF(D24="G",((TC!$G$1/AE24)*6),IF(D24="F",((TC!$G$2/AE24)*6),"0")),2) -> 4.08 | AH24: 3 | AJ24: =IF(AH24<=3,1,0) -> 1 | AK24: =IF(AND(AH24>=4,AH24<=6),1,0) -> 0 | AL24: =IF(AH24>=7,1,0) -> 0
A25: 19 | D25: F | Q25: =IF(D25<>"D",IF(X25<=2,5-(V25*0.5),5-(((V25*0.5)+((X25-2)*0.5)))),"D") -> 5 | R25: 3 | S25: 5 | T25: =AG25 -> 5.31 | U25: =IF(D25<>"D",SUM(Q25:T25),"Disp.") -> 18.31 | V25: =COUNTIFS(E25:P25,"=A") -> 0 | W25: =COUNTIFS(E25:P25,"=R") -> 0 | X25: =COUNTIFS(E25:P25,"=T") -> 0 | Y25: =COUNTIFS(E25:P25,"=M") -> 0 | Z25: 19 | AA25: =B25 -> 0 | AB25: 2.36 | AE25: =IF(D25="D",100,(MIN(AB25:AD25))) -> 2.36 | AF25: =IF(D25="F",MIN(AB25:AD25),"X") -> 2.36 | AG25: =ROUND(IF(D25="G",((TC!$G$1/AE25)*6),IF(D25="F",((TC!$G$2/AE25)*6),"0")),2) -> 5.31 | AH25: 3 | AJ25: =IF(AH25<=3,1,0) -> 1 | AK25: =IF(AND(AH25>=4,AH25<=6),1,0) -> 0 | AL25: =IF(AH25>=7,1,0) -> 0
A26: 20 | D26: F | Q26: =IF(D26<>"D",IF(X26<=2,5-(V26*0.5),5-(((V26*0.5)+((X26-2)*0.5)))),"D") -> 5 | R26: 3 | S26: 5 | T26: =AG26 -> 5.73 | U26: =IF(D26<>"D",SUM(Q26:T26),"Disp.") -> 18.73 | V26: =COUNTIFS(E26:P26,"=A") -> 0 | W26: =COUNTIFS(E26:P26,"=R") -> 0 | X26: =COUNTIFS(E26:P26,"=T") -> 0 | Y26: =COUNTIFS(E26:P26,"=M") -> 0 | Z26: 20 | AA26: =B26 -> 0 | AB26: 2.19 | AE26: =IF(D26="D",100,(MIN(AB26:AD26))) -> 2.19 | AF26: =IF(D26="F",MIN(AB26:AD26),"X") -> 2.19 | AG26: =ROUND(IF(D26="G",((TC!$G$1/AE26)*6),IF(D26="F",((TC!$G$2/AE26)*6),"0")),2) -> 5.73 | AH26: 5 | AJ26: =IF(AH26<=3,1,0) -> 0 | AK26: =IF(AND(AH26>=4,AH26<=6),1,0) -> 1 | AL26: =IF(AH26>=7,1,0) -> 0
A27: 21 | D27: G | Q27: =IF(D27<>"D",IF(X27<=2,5-(V27*0.5),5-(((V27*0.5)+((X27-2)*0.5)))),"D") -> 5 | S27: 5 | T27: =AG27 -> 5.87 | U27: =IF(D27<>"D",SUM(Q27:T27),"Disp.") -> 15.87 | V27: =COUNTIFS(E27:P27,"=A") -> 0 | W27: =COUNTIFS(E27:P27,"=R") -> 0 | X27: =COUNTIFS(E27:P27,"=T") -> 0 | Y27: =COUNTIFS(E27:P27,"=M") -> 0 | Z27: 21 | AA27: =B27 -> 0 | AB27: 3.17 | AC27: 3.4 | AE27: =IF(D27="D",100,(MIN(AB27:AD27))) -> 3.17 | AF27: =IF(D27="F",MIN(AB27:AD27),"X") -> X | AG27: =ROUND(IF(D27="G",((TC!$G$1/AE27)*6),IF(D27="F",((TC!$G$2/AE27)*6),"0")),2) -> 5.87 | AH27: 10 | AJ27: =IF(AH27<=3,1,0) -> 0 | AK27: =IF(AND(AH27>=4,AH27<=6),1,0) -> 0 | AL27: =IF(AH27>=7,1,0) -> 1
A28: 22 | D28: G | Q28: =IF(D28<>"D",IF(X28<=2,5-(V28*0.5),5-(((V28*0.5)+((X28-2)*0.5)))),"D") -> 5 | S28: 5 | T28: =AG28 -> 5.36 | U28: =IF(D28<>"D",SUM(Q28:T28),"Disp.") -> 15.36 | V28: =COUNTIFS(E28:P28,"=A") -> 0 | W28: =COUNTIFS(E28:P28,"=R") -> 0 | X28: =COUNTIFS(E28:P28,"=T") -> 0 | Y28: =COUNTIFS(E28:P28,"=M") -> 0 | Z28: 22 | AA28: =B28 -> 0 | AB28: 7 | AC28: 3.47 | AE28: =IF(D28="D",100,(MIN(AB28:AD28))) -> 3.47 | AF28: =IF(D28="F",MIN(AB28:AD28),"X") -> X | AG28: =ROUND(IF(D28="G",((TC!$G$1/AE28)*6),IF(D28="F",((TC!$G$2/AE28)*6),"0")),2) -> 5.36 | AH28: 6 | AJ28: =IF(AH28<=3,1,0) -> 0 | AK28: =IF(AND(AH28>=4,AH28<=6),1,0) -> 1 | AL28: =IF(AH28>=7,1,0) -> 0
A29: 23 | D29: F | Q29: =IF(D29<>"D",IF(X29<=2,5-(V29*0.5),5-(((V29*0.5)+((X29-2)*0.5)))),"D") -> 5 | S29: 5 | T29: =AG29 -> 5.14 | U29: =IF(D29<>"D",SUM(Q29:T29),"Disp.") -> 15.14 | V29: =COUNTIFS(E29:P29,"=A") -> 0 | W29: =COUNTIFS(E29:P29,"=R") -> 0 | X29: =COUNTIFS(E29:P29,"=T") -> 0 | Y29: =COUNTIFS(E29:P29,"=M") -> 0 | Z29: 23 | AA29: =B29 -> 0 | AB29: 2.44 | AE29: =IF(D29="D",100,(MIN(AB29:AD29))) -> 2.44 | AF29: =IF(D29="F",MIN(AB29:AD29),"X") -> 2.44 | AG29: =ROUND(IF(D29="G",((TC!$G$1/AE29)*6),IF(D29="F",((TC!$G$2/AE29)*6),"0")),2) -> 5.14 | AH29: 5 | AJ29: =IF(AH29<=3,1,0) -> 0 | AK29: =IF(AND(AH29>=4,AH29<=6),1,0) -> 1 | AL29: =IF(AH29>=7,1,0) -> 0
A30: 24 | D30: F | Q30: =IF(D30<>"D",IF(X30<=2,5-(V30*0.5),5-(((V30*0.5)+((X30-2)*0.5)))),"D") -> 5 | R30: 1 | S30: 5 | T30: =AG30 -> 5.02 | U30: =IF(D30<>"D",SUM(Q30:T30),"Disp.") -> 16.02 | V30: =COUNTIFS(E30:P30,"=A") -> 0 | W30: =COUNTIFS(E30:P30,"=R") -> 0 | X30: =COUNTIFS(E30:P30,"=T") -> 0 | Y30: =COUNTIFS(E30:P30,"=M") -> 0 | Z30: 24 | AA30: =B30 -> 0 | AB30: 2.5 | AE30: =IF(D30="D",100,(MIN(AB30:AD30))) -> 2.5 | AF30: =IF(D30="F",MIN(AB30:AD30),"X") -> 2.5 | AG30: =ROUND(IF(D30="G",((TC!$G$1/AE30)*6),IF(D30="F",((TC!$G$2/AE30)*6),"0")),2) -> 5.02 | AH30: 3 | AJ30: =IF(AH30<=3,1,0) -> 1 | AK30: =IF(AND(AH30>=4,AH30<=6),1,0) -> 0 | AL30: =IF(AH30>=7,1,0) -> 0
A31: 25 | D31: F | Q31: =IF(D31<>"D",IF(X31<=2,5-(V31*0.5),5-(((V31*0.5)+((X31-2)*0.5)))),"D") -> 5 | S31: 5 | T31: =AG31 -> 5.12 | U31: =IF(D31<>"D",SUM(Q31:T31),"Disp.") -> 15.12 | V31: =COUNTIFS(E31:P31,"=A") -> 0 | W31: =COUNTIFS(E31:P31,"=R") -> 0 | X31: =COUNTIFS(E31:P31,"=T") -> 0 | Y31: =COUNTIFS(E31:P31,"=M") -> 0 | Z31: 25 | AA31: =B31 -> 0 | AB31: 2.45 | AE31: =IF(D31="D",100,(MIN(AB31:AD31))) -> 2.45 | AF31: =IF(D31="F",MIN(AB31:AD31),"X") -> 2.45 | AG31: =ROUND(IF(D31="G",((TC!$G$1/AE31)*6),IF(D31="F",((TC!$G$2/AE31)*6),"0")),2) -> 5.12 | AH31: 4 | AJ31: =IF(AH31<=3,1,0) -> 0 | AK31: =IF(AND(AH31>=4,AH31<=6),1,0) -> 1 | AL31: =IF(AH31>=7,1,0) -> 0
A32: 26 | D32: F | Q32: =IF(D32<>"D",IF(X32<=2,5-(V32*0.5),5-(((V32*0.5)+((X32-2)*0.5)))),"D") -> 5 | R32: 2 | S32: 5 | T32: =AG32 -> 1.79 | U32: =IF(D32<>"D",SUM(Q32:T32),"Disp.") -> 13.79 | V32: =COUNTIFS(E32:P32,"=A") -> 0 | W32: =COUNTIFS(E32:P32,"=R") -> 0 | X32: =COUNTIFS(E32:P32,"=T") -> 0 | Y32: =COUNTIFS(E32:P32,"=M") -> 0 | Z32: 26 | AA32: =B32 -> 0 | AB32: 10 | AC32: 7 | AE32: =IF(D32="D",100,(MIN(AB32:AD32))) -> 7 | AF32: =IF(D32="F",MIN(AB32:AD32),"X") -> 7 | AG32: =ROUND(IF(D32="G",((TC!$G$1/AE32)*6),IF(D32="F",((TC!$G$2/AE32)*6),"0")),2) -> 1.79 | AH32: 1 | AJ32: =IF(AH32<=3,1,0) -> 1 | AK32: =IF(AND(AH32>=4,AH32<=6),1,0) -> 0 | AL32: =IF(AH32>=7,1,0) -> 0
A33: 27 | D33: F | Q33: =IF(D33<>"D",IF(X33<=2,5-(V33*0.5),5-(((V33*0.5)+((X33-2)*0.5)))),"D") -> 5 | R33: 3 | S33: 5 | T33: =AG33 -> 5.2 | U33: =IF(D33<>"D",SUM(Q33:T33),"Disp.") -> 18.2 | V33: =COUNTIFS(E33:P33,"=A") -> 0 | W33: =COUNTIFS(E33:P33,"=R") -> 0 | X33: =COUNTIFS(E33:P33,"=T") -> 0 | Y33: =COUNTIFS(E33:P33,"=M") -> 0 | Z33: 27 | AA33: =B33 -> 0 | AB33: 2.41 | AE33: =IF(D33="D",100,(MIN(AB33:AD33))) -> 2.41 | AF33: =IF(D33="F",MIN(AB33:AD33),"X") -> 2.41 | AG33: =ROUND(IF(D33="G",((TC!$G$1/AE33)*6),IF(D33="F",((TC!$G$2/AE33)*6),"0")),2) -> 5.2 | AH33: 3 | AJ33: =IF(AH33<=3,1,0) -> 1 | AK33: =IF(AND(AH33>=4,AH33<=6),1,0) -> 0 | AL33: =IF(AH33>=7,1,0) -> 0
A34: 28 | D34: F | Q34: =IF(D34<>"D",IF(X34<=2,5-(V34*0.5),5-(((V34*0.5)+((X34-2)*0.5)))),"D") -> 5 | R34: 3 | S34: 5 | T34: =AG34 -> 5.16 | U34: =IF(D34<>"D",SUM(Q34:T34),"Disp.") -> 18.16 | V34: =COUNTIFS(E34:P34,"=A") -> 0 | W34: =COUNTIFS(E34:P34,"=R") -> 0 | X34: =COUNTIFS(E34:P34,"=T") -> 0 | Y34: =COUNTIFS(E34:P34,"=M") -> 0 | Z34: 28 | AA34: =B34 -> 0 | AB34: 2.43 | AE34: =IF(D34="D",100,(MIN(AB34:AD34))) -> 2.43 | AF34: =IF(D34="F",MIN(AB34:AD34),"X") -> 2.43 | AG34: =ROUND(IF(D34="G",((TC!$G$1/AE34)*6),IF(D34="F",((TC!$G$2/AE34)*6),"0")),2) -> 5.16 | AH34: 3 | AJ34: =IF(AH34<=3,1,0) -> 1 | AK34: =IF(AND(AH34>=4,AH34<=6),1,0) -> 0 | AL34: =IF(AH34>=7,1,0) -> 0
A35: 29 | D35: G | Q35: =IF(D35<>"D",IF(X35<=2,5-(V35*0.5),5-(((V35*0.5)+((X35-2)*0.5)))),"D") -> 5 | S35: 5 | T35: =AG35 -> 5.92 | U35: =IF(D35<>"D",SUM(Q35:T35),"Disp.") -> 15.92 | V35: =COUNTIFS(E35:P35,"=A") -> 0 | W35: =COUNTIFS(E35:P35,"=R") -> 0 | X35: =COUNTIFS(E35:P35,"=T") -> 0 | Y35: =COUNTIFS(E35:P35,"=M") -> 0 | Z35: 29 | AA35: =B35 -> 0 | AB35: 3.14 | AC35: 3.19 | AE35: =IF(D35="D",100,(MIN(AB35:AD35))) -> 3.14 | AF35: =IF(D35="F",MIN(AB35:AD35),"X") -> X | AG35: =ROUND(IF(D35="G",((TC!$G$1/AE35)*6),IF(D35="F",((TC!$G$2/AE35)*6),"0")),2) -> 5.92 | AH35: 10 | AJ35: =IF(AH35<=3,1,0) -> 0 | AK35: =IF(AND(AH35>=4,AH35<=6),1,0) -> 0 | AL35: =IF(AH35>=7,1,0) -> 1
A36: 30 | D36: F | Q36: =IF(D36<>"D",IF(X36<=2,5-(V36*0.5),5-(((V36*0.5)+((X36-2)*0.5)))),"D") -> 5 | S36: 5 | T36: =AG36 -> 2.51 | U36: =IF(D36<>"D",SUM(Q36:T36),"Disp.") -> 12.51 | V36: =COUNTIFS(E36:P36,"=A") -> 0 | W36: =COUNTIFS(E36:P36,"=R") -> 0 | X36: =COUNTIFS(E36:P36,"=T") -> 0 | Y36: =COUNTIFS(E36:P36,"=M") -> 0 | Z36: 30 | AA36: =B36 -> 0 | AB36: 5 | AE36: =IF(D36="D",100,(MIN(AB36:AD36))) -> 5 | AF36: =IF(D36="F",MIN(AB36:AD36),"X") -> 5 | AG36: =ROUND(IF(D36="G",((TC!$G$1/AE36)*6),IF(D36="F",((TC!$G$2/AE36)*6),"0")),2) -> 2.51 | AH36: 1 | AJ36: =IF(AH36<=3,1,0) -> 1 | AK36: =IF(AND(AH36>=4,AH36<=6),1,0) -> 0 | AL36: =IF(AH36>=7,1,0) -> 0
A37: 31 | D37: G | Q37: =IF(D37<>"D",IF(X37<=2,5-(V37*0.5),5-(((V37*0.5)+((X37-2)*0.5)))),"D") -> 5 | S37: 5 | T37: =AG37 -> 2.66 | U37: =IF(D37<>"D",SUM(Q37:T37),"Disp.") -> 12.66 | V37: =COUNTIFS(E37:P37,"=A") -> 0 | W37: =COUNTIFS(E37:P37,"=R") -> 0 | X37: =COUNTIFS(E37:P37,"=T") -> 0 | Y37: =COUNTIFS(E37:P37,"=M") -> 0 | Z37: 31 | AA37: =B37 -> 0 | AB37: 35 | AC37: 7 | AE37: =IF(D37="D",100,(MIN(AB37:AD37))) -> 7 | AF37: =IF(D37="F",MIN(AB37:AD37),"X") -> X | AG37: =ROUND(IF(D37="G",((TC!$G$1/AE37)*6),IF(D37="F",((TC!$G$2/AE37)*6),"0")),2) -> 2.66 | AH37: 6 | AJ37: =IF(AH37<=3,1,0) -> 0 | AK37: =IF(AND(AH37>=4,AH37<=6),1,0) -> 1 | AL37: =IF(AH37>=7,1,0) -> 0
A38: 32 | V38: =COUNTIFS(E38:P38,"=A") -> 0 | W38: =COUNTIFS(E38:P38,"=R") -> 0 | X38: =COUNTIFS(E38:P38,"=T") -> 0 | Y38: =COUNTIFS(E38:P38,"=M") -> 0 | Z38: 32 | AA38: =B38 -> 0 | AE38: =IF(D38="D",100,(MIN(AB38:AD38))) -> 0 | AG38: =ROUND(IF(D38="G",((TC!$G$1/AE38)*6),IF(D38="F",((TC!$G$2/AE38)*6),"0")),2) -> 0 | AJ38: =IF(AH38<=3,1,0) -> 1 | AK38: =IF(AND(AH38>=4,AH38<=6),1,0) -> 0 | AL38: =IF(AH38>=7,1,0) -> 0
A39: 33 | V39: =COUNTIFS(E39:P39,"=A") -> 0 | W39: =COUNTIFS(E39:P39,"=R") -> 0 | X39: =COUNTIFS(E39:P39,"=T") -> 0 | Y39: =COUNTIFS(E39:P39,"=M") -> 0 | Z39: 33 | AA39: =B39 -> 0 | AE39: =IF(D39="D",100,(MIN(AB39:AD39))) -> 0 | AG39: =ROUND(IF(D39="G",((TC!$G$1/AE39)*6),IF(D39="F",((TC!$G$2/AE39)*6),"0")),2) -> 0 | AJ39: =IF(AH39<=3,1,0) -> 1 | AK39: =IF(AND(AH39>=4,AH39<=6),1,0) -> 0 | AL39: =IF(AH39>=7,1,0) -> 0
A40: 34 | V40: =COUNTIFS(E40:P40,"=A") -> 0 | W40: =COUNTIFS(E40:P40,"=R") -> 0 | X40: =COUNTIFS(E40:P40,"=T") -> 0 | Y40: =COUNTIFS(E40:P40,"=M") -> 0 | Z40: 34 | AA40: =B40 -> 0 | AE40: =IF(D40="D",100,(MIN(AB40:AD40))) -> 0 | AG40: =ROUND(IF(D40="G",((TC!$G$1/AE40)*6),IF(D40="F",((TC!$G$2/AE40)*6),"0")),2) -> 0 | AJ40: =IF(AH40<=3,1,0) -> 1 | AK40: =IF(AND(AH40>=4,AH40<=6),1,0) -> 0 | AL40: =IF(AH40>=7,1,0) -> 0
A41: 35 | V41: =COUNTIFS(E41:P41,"=A") -> 0 | W41: =COUNTIFS(E41:P41,"=R") -> 0 | X41: =COUNTIFS(E41:P41,"=T") -> 0 | Y41: =COUNTIFS(E41:P41,"=M") -> 0 | Z41: 35 | AA41: =B41 -> 0 | AE41: =IF(D41="D",100,(MIN(AB41:AD41))) -> 0 | AG41: =ROUND(IF(D41="G",((TC!$G$1/AE41)*6),IF(D41="F",((TC!$G$2/AE41)*6),"0")),2) -> 0
A42: 36 | V42: =COUNTIFS(E42:P42,"=A") -> 0 | W42: =COUNTIFS(E42:P42,"=R") -> 0 | X42: =COUNTIFS(E42:P42,"=T") -> 0 | Y42: =COUNTIFS(E42:P42,"=M") -> 0 | Z42: 36 | AA42: =B42 -> 0 | AE42: =IF(D42="D",100,(MIN(AB42:AD42))) -> 0 | AG42: =ROUND(IF(D42="G",((TC!$G$1/AE42)*6),IF(D42="F",((TC!$G$2/AE42)*6),"0")),2) -> 0
A43: 37 | V43: =COUNTIFS(E43:P43,"=A") -> 0 | W43: =COUNTIFS(E43:P43,"=R") -> 0 | X43: =COUNTIFS(E43:P43,"=T") -> 0 | Y43: =COUNTIFS(E43:P43,"=M") -> 0 | Z43: 37 | AA43: =B43 -> 0 | AE43: =IF(D43="D",100,(MIN(AB43:AD43))) -> 0 | AG43: =ROUND(IF(D43="G",((TC!$G$1/AE43)*6),IF(D43="F",((TC!$G$2/AE43)*6),"0")),2) -> 0
A44: 38 | V44: =COUNTIFS(E44:P44,"=A") -> 0 | W44: =COUNTIFS(E44:P44,"=R") -> 0 | X44: =COUNTIFS(E44:P44,"=T") -> 0 | Y44: =COUNTIFS(E44:P44,"=M") -> 0 | Z44: 38 | AA44: =B44 -> 0 | AE44: =IF(D44="D",100,(MIN(AB44:AD44))) -> 0 | AG44: =ROUND(IF(D44="G",((TC!$G$1/AE44)*6),IF(D44="F",((TC!$G$2/AE44)*6),"0")),2) -> 0
A45: 39 | V45: =COUNTIFS(E45:P45,"=A") -> 0 | W45: =COUNTIFS(E45:P45,"=R") -> 0 | X45: =COUNTIFS(E45:P45,"=T") -> 0 | Y45: =COUNTIFS(E45:P45,"=M") -> 0 | Z45: 39 | AA45: =B45 -> 0 | AE45: =IF(D45="D",100,(MIN(AB45:AD45))) -> 0 | AG45: =ROUND(IF(D45="G",((TC!$G$1/AE45)*6),IF(D45="F",((TC!$G$2/AE45)*6),"0")),2) -> 0
A46: 40 | V46: =COUNTIFS(E46:P46,"=A") -> 0 | W46: =COUNTIFS(E46:P46,"=R") -> 0 | X46: =COUNTIFS(E46:P46,"=T") -> 0 | Y46: =COUNTIFS(E46:P46,"=M") -> 0 | Z46: 40 | AA46: =B46 -> 0 | AE46: =IF(D46="D",100,(MIN(AB46:AD46))) -> 0 | AG46: =ROUND(IF(D46="G",((TC!$G$1/AE46)*6),IF(D46="F",((TC!$G$2/AE46)*6),"0")),2) -> 0

Sheet 1SE1
A1: Classe | C1: Cycle: | G1: Endurance | Q1: AS: 2019/2020
A2: N° | B2: 1 SE 1 | C2: Contrôle-Assiduité-Evaluation | Q2: Evaluation | U2: Note Finale
C3: Séance | E3: S1 | F3: S2 | G3: S3 | H3: S4 | I3: S5 | J3: S6 | K3: S7 | L3: S8 | M3: S9 | N3: S 10 | O3: S 11 | P3: S 12 | Q3: Conn. Comp. (4) | R3: Conn. Conc. (3) | S3: Conn. Proc (13)
C4: D= | D4: =COUNTIFS(D7:D51,"=D") -> 0 | S4: Comp. Motr. | T4: Hab. Motrc. | U4: /20 | AI4: 3 et < | AJ4: Entre 4 et 6 | AK4: 7 et >
B5: Nom | C5: G= | D5: =COUNTIFS(D7:D51,"=G") -> 12 | V5: Assiduité | Z5: N° | AA5: Nom | AB5: Test 1 | AC5: Test 2 | AD5: Test 3 | AE5: Meilleur TG | AF5: Meilleur TF | AG5: Nt Hab Mot | AH5: Palier au test | AI5: =SUM(AI7:AI46) -> 40 | AJ5: =SUM(AJ7:AJ46) -> 0 | AK5: =SUM(AK7:AK46) -> 0
B6: Prénom | C6: F= | D6: =COUNTIFS(D7:D51,"=F") -> 19 | Q6: /4 | R6: /3 | S6: /6 | T6: /7 | V6: A | W6: R | X6: T | Y6: M
A7: 1 | D7: F | Q7: =IF(D7<>"D",IF(X7<=2,4-(V7*0.5),4-(((V7*0.5)+((X7-2)*0.5)))),"D") -> 4 | T7: =AG7 -> 6.5274262 | U7: =IF(D7<>"D",SUM(Q7:T7),"Disp.") -> 10.527426 | V7: =COUNTIFS(E7:P7,"=A") -> 0 | W7: =COUNTIFS(E7:P7,"=R") -> 0 | X7: =COUNTIFS(E7:P7,"=T") -> 0 | Y7: =COUNTIFS(E7:P7,"=M") -> 0 | Z7: 1 | AA7: =B7 -> 0 | AB7: 2.37 | AC7: 2.41 | AD7: 2.43 | AE7: =IF(D7="G",MIN(AB7:AD7),"X") -> X | AF7: =IF(D7="F",MIN(AB7:AD7),"X") -> 2.37 | AG7: ='1BAC'!E82 -> 6.5274262 | AI7: =IF(AH7<=3,1,0) -> 1 | AJ7: =IF(AND(AH7>=4,AH7<=6),1,0) -> 0 | AK7: =IF(AH7>=7,1,0) -> 0
A8: 2 | D8: F | Q8: =IF(D8<>"D",IF(X8<=2,4-(V8*0.5),4-(((V8*0.5)+((X8-2)*0.5)))),"D") -> 4 | T8: =AG8 -> 4.76 | U8: =IF(D8<>"D",SUM(Q8:T8),"Disp.") -> 8.76 | V8: =COUNTIFS(E8:P8,"=A") -> 0 | W8: =COUNTIFS(E8:P8,"=R") -> 0 | X8: =COUNTIFS(E8:P8,"=T") -> 0 | Y8: =COUNTIFS(E8:P8,"=M") -> 0 | Z8: 2 | AA8: =B8 -> 0 | AB8: 3.38 | AC8: 3.36 | AD8: 3.25 | AE8: =IF(D8="G",MIN(AB8:AD8),"X") -> X | AF8: =IF(D8="F",MIN(AB8:AD8),"X") -> 3.25 | AG8: ='1BAC'!E83 -> 4.76 | AI8: =IF(AH8<=3,1,0) -> 1 | AJ8: =IF(AND(AH8>=4,AH8<=6),1,0) -> 0 | AK8: =IF(AH8>=7,1,0) -> 0
A9: 3 | D9: F | Q9: =IF(D9<>"D",IF(X9<=2,4-(V9*0.5),4-(((V9*0.5)+((X9-2)*0.5)))),"D") -> 4 | T9: =AG9 -> 4.8955696 | U9: =IF(D9<>"D",SUM(Q9:T9),"Disp.") -> 8.8955696 | V9: =COUNTIFS(E9:P9,"=A") -> 0 | W9: =COUNTIFS(E9:P9,"=R") -> 0 | X9: =COUNTIFS(E9:P9,"=T") -> 0 | Y9: =COUNTIFS(E9:P9,"=M") -> 0 | Z9: 3 | AA9: =B9 -> 0 | AB9: 3.16 | AE9: =IF(D9="G",MIN(AB9:AD9),"X") -> X | AF9: =IF(D9="F",MIN(AB9:AD9),"X") -> 3.16 | AG9: ='1BAC'!E84 -> 4.8955696 | AI9: =IF(AH9<=3,1,0) -> 1 | AJ9: =IF(AND(AH9>=4,AH9<=6),1,0) -> 0 | AK9: =IF(AH9>=7,1,0) -> 0
A10: 4 | D10: F | Q10: =IF(D10<>"D",IF(X10<=2,4-(V10*0.5),4-(((V10*0.5)+((X10-2)*0.5)))),"D") -> 4 | T10: =AG10 -> 6.5829787 | U10: =IF(D10<>"D",SUM(Q10:T10),"Disp.") -> 10.582979 | V10: =COUNTIFS(E10:P10,"=A") -> 0 | W10: =COUNTIFS(E10:P10,"=R") -> 0 | X10: =COUNTIFS(E10:P10,"=T") -> 0 | Y10: =COUNTIFS(E10:P10,"=M") -> 0 | Z10: 4 | AA10: =B10 -> 0 | AB10: 2.35 | AE10: =IF(D10="G",MIN(AB10:AD10),"X") -> X | AF10: =IF(D10="F",MIN(AB10:AD10),"X") -> 2.35 | AG10: ='1BAC'!E85 -> 6.5829787 | AI10: =IF(AH10<=3,1,0) -> 1 | AJ10: =IF(AND(AH10>=4,AH10<=6),1,0) -> 0 | AK10: =IF(AH10>=7,1,0) -> 0
A11: 5 | D11: G | Q11: =IF(D11<>"D",IF(X11<=2,4-(V11*0.5),4-(((V11*0.5)+((X11-2)*0.5)))),"D") -> 4 | T11: =AG11 -> 6.5864979 | U11: =IF(D11<>"D",SUM(Q11:T11),"Disp.") -> 10.586498 | V11: =COUNTIFS(E11:P11,"=A") -> 0 | W11: =COUNTIFS(E11:P11,"=R") -> 0 | X11: =COUNTIFS(E11:P11,"=T") -> 0 | Y11: =COUNTIFS(E11:P11,"=M") -> 0 | Z11: 5 | AA11: =B11 -> 0 | AB11: 2.37 | AE11: =IF(D11="G",MIN(AB11:AD11),"X") -> 2.37 | AF11: =IF(D11="F",MIN(AB11:AD11),"X") -> X | AG11: ='1BAC'!E86 -> 6.5864979 | AI11: =IF(AH11<=3,1,0) -> 1 | AJ11: =IF(AND(AH11>=4,AH11<=6),1,0) -> 0 | AK11: =IF(AH11>=7,1,0) -> 0
A12: 6 | D12: F | Q12: =IF(D12<>"D",IF(X12<=2,4-(V12*0.5),4-(((V12*0.5)+((X12-2)*0.5)))),"D") -> 4 | T12: =AG12 -> 3.8009828 | U12: =IF(D12<>"D",SUM(Q12:T12),"Disp.") -> 7.8009828 | V12: =COUNTIFS(E12:P12,"=A") -> 0 | W12: =COUNTIFS(E12:P12,"=R") -> 0 | X12: =COUNTIFS(E12:P12,"=T") -> 0 | Y12: =COUNTIFS(E12:P12,"=M") -> 0 | Z12: 6 | AA12: =B12 -> 0 | AB12: 7 | AC12: 4.07 | AE12: =IF(D12="G",MIN(AB12:AD12),"X") -> X | AF12: =IF(D12="F",MIN(AB12:AD12),"X") -> 4.07 | AG12: ='1BAC'!E87 -> 3.8009828 | AI12: =IF(AH12<=3,1,0) -> 1 | AJ12: =IF(AND(AH12>=4,AH12<=6),1,0) -> 0 | AK12: =IF(AH12>=7,1,0) -> 0
A13: 7 | D13: G | Q13: =IF(D13<>"D",IF(X13<=2,4-(V13*0.5),4-(((V13*0.5)+((X13-2)*0.5)))),"D") -> 4 | T13: =AG13 -> 4.372549 | U13: =IF(D13<>"D",SUM(Q13:T13),"Disp.") -> 8.372549 | V13: =COUNTIFS(E13:P13,"=A") -> 0 | W13: =COUNTIFS(E13:P13,"=R") -> 0 | X13: =COUNTIFS(E13:P13,"=T") -> 0 | Y13: =COUNTIFS(E13:P13,"=M") -> 0 | Z13: 7 | AA13: =B13 -> 0 | AB13: 3.57 | AC13: 4.05 | AE13: =IF(D13="G",MIN(AB13:AD13),"X") -> 3.57 | AF13: =IF(D13="F",MIN(AB13:AD13),"X") -> X | AG13: ='1BAC'!E88 -> 4.372549 | AI13: =IF(AH13<=3,1,0) -> 1 | AJ13: =IF(AND(AH13>=4,AH13<=6),1,0) -> 0 | AK13: =IF(AH13>=7,1,0) -> 0
A14: 8 | D14: G | Q14: =IF(D14<>"D",IF(X14<=2,4-(V14*0.5),4-(((V14*0.5)+((X14-2)*0.5)))),"D") -> 4 | T14: =AG14 -> 4.3971831 | U14: =IF(D14<>"D",SUM(Q14:T14),"Disp.") -> 8.3971831 | V14: =COUNTIFS(E14:P14,"=A") -> 0 | W14: =COUNTIFS(E14:P14,"=R") -> 0 | X14: =COUNTIFS(E14:P14,"=T") -> 0 | Y14: =COUNTIFS(E14:P14,"=M") -> 0 | Z14: 8 | AA14: =B14 -> 0 | AB14: 3.55 | AE14: =IF(D14="G",MIN(AB14:AD14),"X") -> 3.55 | AF14: =IF(D14="F",MIN(AB14:AD14),"X") -> X | AG14: ='1BAC'!E89 -> 4.3971831 | AI14: =IF(AH14<=3,1,0) -> 1 | AJ14: =IF(AND(AH14>=4,AH14<=6),1,0) -> 0 | AK14: =IF(AH14>=7,1,0) -> 0
A15: 9 | D15: F | Q15: =IF(D15<>"D",IF(X15<=2,4-(V15*0.5),4-(((V15*0.5)+((X15-2)*0.5)))),"D") -> 4 | T15: =AG15 -> 6.5274262 | U15: =IF(D15<>"D",SUM(Q15:T15),"Disp.") -> 10.527426 | V15: =COUNTIFS(E15:P15,"=A") -> 0 | W15: =COUNTIFS(E15:P15,"=R") -> 0 | X15: =COUNTIFS(E15:P15,"=T") -> 0 | Y15: =COUNTIFS(E15:P15,"=M") -> 0 | Z15: 9 | AA15: =B15 -> 0 | AB15: 2.4 | AC15: 2.4 | AD15: 2.37 | AE15: =IF(D15="G",MIN(AB15:AD15),"X") -> X | AF15: =IF(D15="F",MIN(AB15:AD15),"X") -> 2.37 | AG15: ='1BAC'!E90 -> 6.5274262 | AI15: =IF(AH15<=3,1,0) -> 1 | AJ15: =IF(AND(AH15>=4,AH15<=6),1,0) -> 0 | AK15: =IF(AH15>=7,1,0) -> 0
A16: 10 | D16: G | Q16: =IF(D16<>"D",IF(X16<=2,4-(V16*0.5),4-(((V16*0.5)+((X16-2)*0.5)))),"D") -> 4 | T16: =AG16 -> 6.4771784 | U16: =IF(D16<>"D",SUM(Q16:T16),"Disp.") -> 10.477178 | V16: =COUNTIFS(E16:P16,"=A") -> 0 | W16: =COUNTIFS(E16:P16,"=R") -> 0 | X16: =COUNTIFS(E16:P16,"=T") -> 0 | Y16: =COUNTIFS(E16:P16,"=M") -> 0 | Z16: 10 | AA16: =B16 -> 0 | AB16: 2.45 | AC16: 2.48 | AD16: 2.41 | AE16: =IF(D16="G",MIN(AB16:AD16),"X") -> 2.41 | AF16: =IF(D16="F",MIN(AB16:AD16),"X") -> X | AG16: ='1BAC'!E91 -> 6.4771784 | AI16: =IF(AH16<=3,1,0) -> 1 | AJ16: =IF(AND(AH16>=4,AH16<=6),1,0) -> 0 | AK16: =IF(AH16>=7,1,0) -> 0
A17: 11 | D17: G | Q17: =IF(D17<>"D",IF(X17<=2,4-(V17*0.5),4-(((V17*0.5)+((X17-2)*0.5)))),"D") -> 4 | T17: =AG17 -> 7 | U17: =IF(D17<>"D",SUM(Q17:T17),"Disp.") -> 11 | V17: =COUNTIFS(E17:P17,"=A") -> 0 | W17: =COUNTIFS(E17:P17,"=R") -> 0 | X17: =COUNTIFS(E17:P17,"=T") -> 0 | Y17: =COUNTIFS(E17:P17,"=M") -> 0 | Z17: 11 | AA17: =B17 -> 0 | AB17: 2.23 | AC17: 2.46 | AE17: =IF(D17="G",MIN(AB17:AD17),"X") -> 2.23 | AF17: =IF(D17="F",MIN(AB17:AD17),"X") -> X | AG17: ='1BAC'!E92 -> 7 | AI17: =IF(AH17<=3,1,0) -> 1 | AJ17: =IF(AND(AH17>=4,AH17<=6),1,0) -> 0 | AK17: =IF(AH17>=7,1,0) -> 0
A18: 12 | D18: G | Q18: =IF(D18<>"D",IF(X18<=2,4-(V18*0.5),4-(((V18*0.5)+((X18-2)*0.5)))),"D") -> 4 | T18: =AG18 -> 3.6134259 | U18: =IF(D18<>"D",SUM(Q18:T18),"Disp.") -> 7.6134259 | V18: =COUNTIFS(E18:P18,"=A") -> 0 | W18: =COUNTIFS(E18:P18,"=R") -> 0 | X18: =COUNTIFS(E18:P18,"=T") -> 0 | Y18: =COUNTIFS(E18:P18,"=M") -> 0 | Z18: 12 | AA18: =B18 -> 0 | AB18: 4.32 | AE18: =IF(D18="G",MIN(AB18:AD18),"X") -> 4.32 | AF18: =IF(D18="F",MIN(AB18:AD18),"X") -> X | AG18: ='1BAC'!E93 -> 3.6134259 | AI18: =IF(AH18<=3,1,0) -> 1 | AJ18: =IF(AND(AH18>=4,AH18<=6),1,0) -> 0 | AK18: =IF(AH18>=7,1,0) -> 0
A19: 13 | D19: F | Q19: =IF(D19<>"D",IF(X19<=2,4-(V19*0.5),4-(((V19*0.5)+((X19-2)*0.5)))),"D") -> 4 | T19: =AG19 -> 6.726087 | U19: =IF(D19<>"D",SUM(Q19:T19),"Disp.") -> 10.726087 | V19: =COUNTIFS(E19:P19,"=A") -> 0 | W19: =COUNTIFS(E19:P19,"=R") -> 0 | X19: =COUNTIFS(E19:P19,"=T") -> 0 | Y19: =COUNTIFS(E19:P19,"=M") -> 0 | Z19: 13 | AA19: =B19 -> 0 | AB19: 2.3 | AC19: 2.37 | AE19: =IF(D19="G",MIN(AB19:AD19),"X") -> X | AF19: =IF(D19="F",MIN(AB19:AD19),"X") -> 2.3 | AG19: ='1BAC'!E94 -> 6.726087 | AI19: =IF(AH19<=3,1,0) -> 1 | AJ19: =IF(AND(AH19>=4,AH19<=6),1,0) -> 0 | AK19: =IF(AH19>=7,1,0) -> 0
A20: 14 | D20: F | Q20: =IF(D20<>"D",IF(X20<=2,4-(V20*0.5),4-(((V20*0.5)+((X20-2)*0.5)))),"D") -> 4 | T20: =AG20 -> 4.6596386 | U20: =IF(D20<>"D",SUM(Q20:T20),"Disp.") -> 8.6596386 | V20: =COUNTIFS(E20:P20,"=A") -> 0 | W20: =COUNTIFS(E20:P20,"=R") -> 0 | X20: =COUNTIFS(E20:P20,"=T") -> 0 | Y20: =COUNTIFS(E20:P20,"=M") -> 0 | Z20: 14 | AA20: =B20 -> 0 | AB20: 3.32 | AC20: 3.33 | AE20: =IF(D20="G",MIN(AB20:AD20),"X") -> X | AF20: =IF(D20="F",MIN(AB20:AD20),"X") -> 3.32 | AG20: ='1BAC'!E95 -> 4.6596386 | AI20: =IF(AH20<=3,1,0) -> 1 | AJ20: =IF(AND(AH20>=4,AH20<=6),1,0) -> 0 | AK20: =IF(AH20>=7,1,0) -> 0
A21: 15 | D21: F | Q21: =IF(D21<>"D",IF(X21<=2,4-(V21*0.5),4-(((V21*0.5)+((X21-2)*0.5)))),"D") -> 4 | T21: =AG21 -> 7 | U21: =IF(D21<>"D",SUM(Q21:T21),"Disp.") -> 11 | V21: =COUNTIFS(E21:P21,"=A") -> 0 | W21: =COUNTIFS(E21:P21,"=R") -> 0 | X21: =COUNTIFS(E21:P21,"=T") -> 0 | Y21: =COUNTIFS(E21:P21,"=M") -> 0 | Z21: 15 | AA21: =B21 -> 0 | AB21: 2.21 | AC21: 2.42 | AE21: =IF(D21="G",MIN(AB21:AD21),"X") -> X | AF21: =IF(D21="F",MIN(AB21:AD21),"X") -> 2.21 | AG21: ='1BAC'!E96 -> 7 | AI21: =IF(AH21<=3,1,0) -> 1 | AJ21: =IF(AND(AH21>=4,AH21<=6),1,0) -> 0 | AK21: =IF(AH21>=7,1,0) -> 0
A22: 16 | D22: G | Q22: =IF(D22<>"D",IF(X22<=2,4-(V22*0.5),4-(((V22*0.5)+((X22-2)*0.5)))),"D") -> 4 | T22: =AG22 -> 3.8073171 | U22: =IF(D22<>"D",SUM(Q22:T22),"Disp.") -> 7.8073171 | V22: =COUNTIFS(E22:P22,"=A") -> 0 | W22: =COUNTIFS(E22:P22,"=R") -> 0 | X22: =COUNTIFS(E22:P22,"=T") -> 0 | Y22: =COUNTIFS(E22:P22,"=M") -> 0 | Z22: 16 | AA22: =B22 -> 0 | AB22: 4.1 | AE22: =IF(D22="G",MIN(AB22:AD22),"X") -> 4.1 | AF22: =IF(D22="F",MIN(AB22:AD22),"X") -> X | AG22: ='1BAC'!E97 -> 3.8073171 | AI22: =IF(AH22<=3,1,0) -> 1 | AJ22: =IF(AND(AH22>=4,AH22<=6),1,0) -> 0 | AK22: =IF(AH22>=7,1,0) -> 0
A23: 17 | D23: G | Q23: =IF(D23<>"D",IF(X23<=2,4-(V23*0.5),4-(((V23*0.5)+((X23-2)*0.5)))),"D") -> 4 | T23: =AG23 -> 1.561 | U23: =IF(D23<>"D",SUM(Q23:T23),"Disp.") -> 5.561 | V23: =COUNTIFS(E23:P23,"=A") -> 0 | W23: =COUNTIFS(E23:P23,"=R") -> 0 | X23: =COUNTIFS(E23:P23,"=T") -> 0 | Y23: =COUNTIFS(E23:P23,"=M") -> 0 | Z23: 17 | AA23: =B23 -> 0 | AB23: 35 | AC23: 10 | AE23: =IF(D23="G",MIN(AB23:AD23),"X") -> 10 | AF23: =IF(D23="F",MIN(AB23:AD23),"X") -> X | AG23: ='1BAC'!E98 -> 1.561 | AI23: =IF(AH23<=3,1,0) -> 1 | AJ23: =IF(AND(AH23>=4,AH23<=6),1,0) -> 0 | AK23: =IF(AH23>=7,1,0) -> 0
A24: 18 | D24: F | Q24: =IF(D24<>"D",IF(X24<=2,4-(V24*0.5),4-(((V24*0.5)+((X24-2)*0.5)))),"D") -> 4 | T24: =AG24 -> 4.3212291 | U24: =IF(D24<>"D",SUM(Q24:T24),"Disp.") -> 8.3212291 | V24: =COUNTIFS(E24:P24,"=A") -> 0 | W24: =COUNTIFS(E24:P24,"=R") -> 0 | X24: =COUNTIFS(E24:P24,"=T") -> 0 | Y24: =COUNTIFS(E24:P24,"=M") -> 0 | Z24: 18 | AA24: =B24 -> 0 | AB24: 3.58 | AE24: =IF(D24="G",MIN(AB24:AD24),"X") -> X | AF24: =IF(D24="F",MIN(AB24:AD24),"X") -> 3.58 | AG24: ='1BAC'!E99 -> 4.3212291 | AI24: =IF(AH24<=3,1,0) -> 1 | AJ24: =IF(AND(AH24>=4,AH24<=6),1,0) -> 0 | AK24: =IF(AH24>=7,1,0) -> 0
A25: 19 | D25: F | Q25: =IF(D25<>"D",IF(X25<=2,4-(V25*0.5),4-(((V25*0.5)+((X25-2)*0.5)))),"D") -> 4 | T25: =AG25 -> 6.2631579 | U25: =IF(D25<>"D",SUM(Q25:T25),"Disp.") -> 10.263158 | V25: =COUNTIFS(E25:P25,"=A") -> 0 | W25: =COUNTIFS(E25:P25,"=R") -> 0 | X25: =COUNTIFS(E25:P25,"=T") -> 0 | Y25: =COUNTIFS(E25:P25,"=M") -> 0 | Z25: 19 | AA25: =B25 -> 0 | AB25: 2.47 | AC25: 2.56 | AE25: =IF(D25="G",MIN(AB25:AD25),"X") -> X | AF25: =IF(D25="F",MIN(AB25:AD25),"X") -> 2.47 | AG25: ='1BAC'!E100 -> 6.2631579 | AI25: =IF(AH25<=3,1,0) -> 1 | AJ25: =IF(AND(AH25>=4,AH25<=6),1,0) -> 0 | AK25: =IF(AH25>=7,1,0) -> 0
A26: 20 | D26: F | Q26: =IF(D26<>"D",IF(X26<=2,4-(V26*0.5),4-(((V26*0.5)+((X26-2)*0.5)))),"D") -> 4 | T26: =AG26 -> 5.996124 | U26: =IF(D26<>"D",SUM(Q26:T26),"Disp.") -> 9.996124 | V26: =COUNTIFS(E26:P26,"=A") -> 0 | W26: =COUNTIFS(E26:P26,"=R") -> 0 | X26: =COUNTIFS(E26:P26,"=T") -> 0 | Y26: =COUNTIFS(E26:P26,"=M") -> 0 | Z26: 20 | AA26: =B26 -> 0 | AB26: 7 | AC26: 2.58 | AE26: =IF(D26="G",MIN(AB26:AD26),"X") -> X | AF26: =IF(D26="F",MIN(AB26:AD26),"X") -> 2.58 | AG26: ='1BAC'!E101 -> 5.996124 | AI26: =IF(AH26<=3,1,0) -> 1 | AJ26: =IF(AND(AH26>=4,AH26<=6),1,0) -> 0 | AK26: =IF(AH26>=7,1,0) -> 0
A27: 21 | D27: G | Q27: =IF(D27<>"D",IF(X27<=2,4-(V27*0.5),4-(((V27*0.5)+((X27-2)*0.5)))),"D") -> 4 | T27: =AG27 -> 4.6876877 | U27: =IF(D27<>"D",SUM(Q27:T27),"Disp.") -> 8.6876877 | V27: =COUNTIFS(E27:P27,"=A") -> 0 | W27: =COUNTIFS(E27:P27,"=R") -> 0 | X27: =COUNTIFS(E27:P27,"=T") -> 0 | Y27: =COUNTIFS(E27:P27,"=M") -> 0 | Z27: 21 | AA27: =B27 -> 0 | AB27: 3.51 | AD27: 3.33 | AE27: =IF(D27="G",MIN(AB27:AD27),"X") -> 3.33 | AF27: =IF(D27="F",MIN(AB27:AD27),"X") -> X | AG27: ='1BAC'!E102 -> 4.6876877 | AI27: =IF(AH27<=3,1,0) -> 1 | AJ27: =IF(AND(AH27>=4,AH27<=6),1,0) -> 0 | AK27: =IF(AH27>=7,1,0) -> 0
A28: 22 | D28: G | Q28: =IF(D28<>"D",IF(X28<=2,4-(V28*0.5),4-(((V28*0.5)+((X28-2)*0.5)))),"D") -> 4 | T28: =AG28 -> 6.3455285 | U28: =IF(D28<>"D",SUM(Q28:T28),"Disp.") -> 10.345528 | V28: =COUNTIFS(E28:P28,"=A") -> 0 | W28: =COUNTIFS(E28:P28,"=R") -> 0 | X28: =COUNTIFS(E28:P28,"=T") -> 0 | Y28: =COUNTIFS(E28:P28,"=M") -> 0 | Z28: 22 | AA28: =B28 -> 0 | AB28: 2.46 | AE28: =IF(D28="G",MIN(AB28:AD28),"X") -> 2.46 | AF28: =IF(D28="F",MIN(AB28:AD28),"X") -> X | AG28: ='1BAC'!E103 -> 6.3455285 | AI28: =IF(AH28<=3,1,0) -> 1 | AJ28: =IF(AND(AH28>=4,AH28<=6),1,0) -> 0 | AK28: =IF(AH28>=7,1,0) -> 0
A29: 23 | D29: F | Q29: =IF(D29<>"D",IF(X29<=2,4-(V29*0.5),4-(((V29*0.5)+((X29-2)*0.5)))),"D") -> 4 | T29: =AG29 -> 6.0194553 | U29: =IF(D29<>"D",SUM(Q29:T29),"Disp.") -> 10.019455 | V29: =COUNTIFS(E29:P29,"=A") -> 0 | W29: =COUNTIFS(E29:P29,"=R") -> 0 | X29: =COUNTIFS(E29:P29,"=T") -> 0 | Y29: =COUNTIFS(E29:P29,"=M") -> 0 | Z29: 23 | AA29: =B29 -> 0 | AB29: 7 | AC29: 2.57 | AE29: =IF(D29="G",MIN(AB29:AD29),"X") -> X | AF29: =IF(D29="F",MIN(AB29:AD29),"X") -> 2.57 | AG29: ='1BAC'!E104 -> 6.0194553 | AI29: =IF(AH29<=3,1,0) -> 1 | AJ29: =IF(AND(AH29>=4,AH29<=6),1,0) -> 0 | AK29: =IF(AH29>=7,1,0) -> 0
A30: 24 | D30: F | Q30: =IF(D30<>"D",IF(X30<=2,4-(V30*0.5),4-(((V30*0.5)+((X30-2)*0.5)))),"D") -> 4 | T30: =AG30 -> 5.0721311 | U30: =IF(D30<>"D",SUM(Q30:T30),"Disp.") -> 9.0721311 | V30: =COUNTIFS(E30:P30,"=A") -> 0 | W30: =COUNTIFS(E30:P30,"=R") -> 0 | X30: =COUNTIFS(E30:P30,"=T") -> 0 | Y30: =COUNTIFS(E30:P30,"=M") -> 0 | Z30: 24 | AA30: =B30 -> 0 | AB30: 3.05 | AE30: =IF(D30="G",MIN(AB30:AD30),"X") -> X | AF30: =IF(D30="F",MIN(AB30:AD30),"X") -> 3.05 | AG30: ='1BAC'!E105 -> 5.0721311 | AI30: =IF(AH30<=3,1,0) -> 1 | AJ30: =IF(AND(AH30>=4,AH30<=6),1,0) -> 0 | AK30: =IF(AH30>=7,1,0) -> 0
A31: 25 | D31: F | Q31: =IF(D31<>"D",IF(X31<=2,4-(V31*0.5),4-(((V31*0.5)+((X31-2)*0.5)))),"D") -> 4 | T31: =AG31 -> 6.4728033 | U31: =IF(D31<>"D",SUM(Q31:T31),"Disp.") -> 10.472803 | V31: =COUNTIFS(E31:P31,"=A") -> 0 | W31: =COUNTIFS(E31:P31,"=R") -> 0 | X31: =COUNTIFS(E31:P31,"=T") -> 0 | Y31: =COUNTIFS(E31:P31,"=M") -> 0 | Z31: 25 | AA31: =B31 -> 0 | AB31: 35 | AC31: 2.39 | AE31: =IF(D31="G",MIN(AB31:AD31),"X") -> X | AF31: =IF(D31="F",MIN(AB31:AD31),"X") -> 2.39 | AG31: ='1BAC'!E106 -> 6.4728033 | AI31: =IF(AH31<=3,1,0) -> 1 | AJ31: =IF(AND(AH31>=4,AH31<=6),1,0) -> 0 | AK31: =IF(AH31>=7,1,0) -> 0
A32: 26 | D32: F | Q32: =IF(D32<>"D",IF(X32<=2,4-(V32*0.5),4-(((V32*0.5)+((X32-2)*0.5)))),"D") -> 4 | T32: =AG32 -> 4.484058 | U32: =IF(D32<>"D",SUM(Q32:T32),"Disp.") -> 8.484058 | V32: =COUNTIFS(E32:P32,"=A") -> 0 | W32: =COUNTIFS(E32:P32,"=R") -> 0 | X32: =COUNTIFS(E32:P32,"=T") -> 0 | Y32: =COUNTIFS(E32:P32,"=M") -> 0 | Z32: 26 | AA32: =B32 -> 0 | AB32: 35 | AD32: 3.45 | AE32: =IF(D32="G",MIN(AB32:AD32),"X") -> X | AF32: =IF(D32="F",MIN(AB32:AD32),"X") -> 3.45 | AG32: ='1BAC'!E107 -> 4.484058 | AI32: =IF(AH32<=3,1,0) -> 1 | AJ32: =IF(AND(AH32>=4,AH32<=6),1,0) -> 0 | AK32: =IF(AH32>=7,1,0) -> 0
A33: 27 | D33: F | Q33: =IF(D33<>"D",IF(X33<=2,4-(V33*0.5),4-(((V33*0.5)+((X33-2)*0.5)))),"D") -> 4 | T33: =AG33 -> 4.6179104 | U33: =IF(D33<>"D",SUM(Q33:T33),"Disp.") -> 8.6179104 | V33: =COUNTIFS(E33:P33,"=A") -> 0 | W33: =COUNTIFS(E33:P33,"=R") -> 0 | X33: =COUNTIFS(E33:P33,"=T") -> 0 | Y33: =COUNTIFS(E33:P33,"=M") -> 0 | Z33: 27 | AA33: =B33 -> 0 | AB33: 3.35 | AC33: 3.37 | AE33: =IF(D33="G",MIN(AB33:AD33),"X") -> X | AF33: =IF(D33="F",MIN(AB33:AD33),"X") -> 3.35 | AG33: ='1BAC'!E108 -> 4.6179104 | AI33: =IF(AH33<=3,1,0) -> 1 | AJ33: =IF(AND(AH33>=4,AH33<=6),1,0) -> 0 | AK33: =IF(AH33>=7,1,0) -> 0
A34: 28 | D34: F | Q34: =IF(D34<>"D",IF(X34<=2,4-(V34*0.5),4-(((V34*0.5)+((X34-2)*0.5)))),"D") -> 4 | T34: =AG34 -> 4.6596386 | U34: =IF(D34<>"D",SUM(Q34:T34),"Disp.") -> 8.6596386 | V34: =COUNTIFS(E34:P34,"=A") -> 0 | W34: =COUNTIFS(E34:P34,"=R") -> 0 | X34: =COUNTIFS(E34:P34,"=T") -> 0 | Y34: =COUNTIFS(E34:P34,"=M") -> 0 | Z34: 28 | AA34: =B34 -> 0 | AB34: 3.46 | AC34: 3.55 | AD34: 3.32 | AE34: =IF(D34="G",MIN(AB34:AD34),"X") -> X | AF34: =IF(D34="F",MIN(AB34:AD34),"X") -> 3.32 | AG34: ='1BAC'!E109 -> 4.6596386 | AI34: =IF(AH34<=3,1,0) -> 1 | AJ34: =IF(AND(AH34>=4,AH34<=6),1,0) -> 0 | AK34: =IF(AH34>=7,1,0) -> 0
A35: 29 | D35: G | Q35: =IF(D35<>"D",IF(X35<=2,4-(V35*0.5),4-(((V35*0.5)+((X35-2)*0.5)))),"D") -> 4 | T35: =AG35 -> 4.6876877 | U35: =IF(D35<>"D",SUM(Q35:T35),"Disp.") -> 8.6876877 | V35: =COUNTIFS(E35:P35,"=A") -> 0 | W35: =COUNTIFS(E35:P35,"=R") -> 0 | X35: =COUNTIFS(E35:P35,"=T") -> 0 | Y35: =COUNTIFS(E35:P35,"=M") -> 0 | Z35: 29 | AA35: =B35 -> 0 | AB35: 3.33 | AE35: =IF(D35="G",MIN(AB35:AD35),"X") -> 3.33 | AF35: =IF(D35="F",MIN(AB35:AD35),"X") -> X | AG35: ='1BAC'!E110 -> 4.6876877 | AI35: =IF(AH35<=3,1,0) -> 1 | AJ35: =IF(AND(AH35>=4,AH35<=6),1,0) -> 0 | AK35: =IF(AH35>=7,1,0) -> 0
A36: 30 | D36: F | Q36: =IF(D36<>"D",IF(X36<=2,4-(V36*0.5),4-(((V36*0.5)+((X36-2)*0.5)))),"D") -> 4 | T36: =AG36 -> 4.673716 | U36: =IF(D36<>"D",SUM(Q36:T36),"Disp.") -> 8.673716 | V36: =COUNTIFS(E36:P36,"=A") -> 0 | W36: =COUNTIFS(E36:P36,"=R") -> 0 | X36: =COUNTIFS(E36:P36,"=T") -> 0 | Y36: =COUNTIFS(E36:P36,"=M") -> 0 | Z36: 30 | AA36: =B36 -> 0 | AB36: 3.31 | AE36: =IF(D36="G",MIN(AB36:AD36),"X") -> X | AF36: =IF(D36="F",MIN(AB36:AD36),"X") -> 3.31 | AG36: ='1BAC'!E111 -> 4.673716 | AI36: =IF(AH36<=3,1,0) -> 1 | AJ36: =IF(AND(AH36>=4,AH36<=6),1,0) -> 0 | AK36: =IF(AH36>=7,1,0) -> 0
A37: 31 | D37: G | Q37: =IF(D37<>"D",IF(X37<=2,4-(V37*0.5),4-(((V37*0.5)+((X37-2)*0.5)))),"D") -> 4 | T37: =AG37 -> 6.5588235 | U37: =IF(D37<>"D",SUM(Q37:T37),"Disp.") -> 10.558824 | V37: =COUNTIFS(E37:P37,"=A") -> 0 | W37: =COUNTIFS(E37:P37,"=R") -> 0 | X37: =COUNTIFS(E37:P37,"=T") -> 0 | Y37: =COUNTIFS(E37:P37,"=M") -> 0 | Z37: 31 | AA37: =B37 -> 0 | AB37: 2.38 | AD37: 2.51 | AE37: =IF(D37="G",MIN(AB37:AD37),"X") -> 2.38 | AF37: =IF(D37="F",MIN(AB37:AD37),"X") -> X | AG37: ='1BAC'!E112 -> 6.5588235 | AI37: =IF(AH37<=3,1,0) -> 1 | AJ37: =IF(AND(AH37>=4,AH37<=6),1,0) -> 0 | AK37: =IF(AH37>=7,1,0) -> 0
A38: 32 | Q38: =IF(D38<>"D",IF(X38<=2,4-(V38*0.5),4-(((V38*0.5)+((X38-2)*0.5)))),"D") -> 4 | T38: =AG38 -> Disp | U38: =IF(D38<>"D",SUM(Q38:T38),"Disp.") -> 4 | V38: =COUNTIFS(E38:P38,"=A") -> 0 | W38: =COUNTIFS(E38:P38,"=R") -> 0 | X38: =COUNTIFS(E38:P38,"=T") -> 0 | Y38: =COUNTIFS(E38:P38,"=M") -> 0 | Z38: 32 | AA38: =B38 -> 0 | AB38: 35 | AC38: 3 | AD38: 2.5 | AE38: =IF(D38="G",MIN(AB38:AD38),"X") -> X | AF38: =IF(D38="F",MIN(AB38:AD38),"X") -> X | AG38: ='1BAC'!E113 -> Disp | AI38: =IF(AH38<=3,1,0) -> 1 | AJ38: =IF(AND(AH38>=4,AH38<=6),1,0) -> 0 | AK38: =IF(AH38>=7,1,0) -> 0
A39: 33 | Q39: =IF(D39<>"D",IF(X39<=2,4-(V39*0.5),4-(((V39*0.5)+((X39-2)*0.5)))),"D") -> 4 | T39: =AG39 -> Disp | U39: =IF(D39<>"D",SUM(Q39:T39),"Disp.") -> 4 | V39: =COUNTIFS(E39:P39,"=A") -> 0 | W39: =COUNTIFS(E39:P39,"=R") -> 0 | X39: =COUNTIFS(E39:P39,"=T") -> 0 | Y39: =COUNTIFS(E39:P39,"=M") -> 0 | Z39: 33 | AA39: =B39 -> 0 | AE39: =IF(D39="G",MIN(AB39:AD39),"X") -> X | AF39: =IF(D39="F",MIN(AB39:AD39),"X") -> X | AG39: ='1BAC'!E114 -> Disp | AI39: =IF(AH39<=3,1,0) -> 1 | AJ39: =IF(AND(AH39>=4,AH39<=6),1,0) -> 0 | AK39: =IF(AH39>=7,1,0) -> 0
A40: 34 | Q40: =IF(D40<>"D",IF(X40<=2,4-(V40*0.5),4-(((V40*0.5)+((X40-2)*0.5)))),"D") -> 4 | T40: =AG40 -> Disp | U40: =IF(D40<>"D",SUM(Q40:T40),"Disp.") -> 4 | V40: =COUNTIFS(E40:P40,"=A") -> 0 | W40: =COUNTIFS(E40:P40,"=R") -> 0 | X40: =COUNTIFS(E40:P40,"=T") -> 0 | Y40: =COUNTIFS(E40:P40,"=M") -> 0 | Z40: 34 | AA40: =B40 -> 0 | AE40: =IF(D40="G",MIN(AB40:AD40),"X") -> X | AF40: =IF(D40="F",MIN(AB40:AD40),"X") -> X | AG40: ='1BAC'!E115 -> Disp | AI40: =IF(AH40<=4,1,0) -> 1 | AJ40: =IF(AND(AH40>=5,AH40<=6),1,0) -> 0 | AK40: =IF(AH40>=7,1,0) -> 0
A41: 35 | V41: =COUNTIFS(E41:P41,"=A") -> 0 | W41: =COUNTIFS(E41:P41,"=R") -> 0 | X41: =COUNTIFS(E41:P41,"=T") -> 0 | Y41: =COUNTIFS(E41:P41,"=M") -> 0 | Z41: 35 | AA41: =B41 -> 0 | AI41: =IF(AH41<=4,1,0) -> 1 | AJ41: =IF(AND(AH41>=5,AH41<=6),1,0) -> 0 | AK41: =IF(AH41>=7,1,0) -> 0
A42: 36 | V42: =COUNTIFS(E42:P42,"=A") -> 0 | W42: =COUNTIFS(E42:P42,"=R") -> 0 | X42: =COUNTIFS(E42:P42,"=T") -> 0 | Y42: =COUNTIFS(E42:P42,"=M") -> 0 | Z42: 36 | AA42: =B42 -> 0 | AI42: =IF(AH42<=4,1,0) -> 1 | AJ42: =IF(AND(AH42>=5,AH42<=6),1,0) -> 0 | AK42: =IF(AH42>=7,1,0) -> 0
A43: 37 | V43: =COUNTIFS(E43:P43,"=A") -> 0 | W43: =COUNTIFS(E43:P43,"=R") -> 0 | X43: =COUNTIFS(E43:P43,"=T") -> 0 | Y43: =COUNTIFS(E43:P43,"=M") -> 0 | Z43: 37 | AA43: =B43 -> 0 | AI43: =IF(AH43<=4,1,0) -> 1 | AJ43: =IF(AND(AH43>=5,AH43<=6),1,0) -> 0 | AK43: =IF(AH43>=7,1,0) -> 0
A44: 38 | V44: =COUNTIFS(E44:P44,"=A") -> 0 | W44: =COUNTIFS(E44:P44,"=R") -> 0 | X44: =COUNTIFS(E44:P44,"=T") -> 0 | Y44: =COUNTIFS(E44:P44,"=M") -> 0 | Z44: 38 | AA44: =B44 -> 0 | AI44: =IF(AH44<=4,1,0) -> 1 | AJ44: =IF(AND(AH44>=5,AH44<=6),1,0) -> 0 | AK44: =IF(AH44>=7,1,0) -> 0
A45: 39 | V45: =COUNTIFS(E45:P45,"=A") -> 0 | W45: =COUNTIFS(E45:P45,"=R") -> 0 | X45: =COUNTIFS(E45:P45,"=T") -> 0 | Y45: =COUNTIFS(E45:P45,"=M") -> 0 | Z45: 39 | AA45: =B45 -> 0 | AI45: =IF(AH45<=4,1,0) -> 1 | AJ45: =IF(AND(AH45>=5,AH45<=6),1,0) -> 0 | AK45: =IF(AH45>=7,1,0) -> 0
A46: 40 | V46: =COUNTIFS(E46:P46,"=A") -> 0 | W46: =COUNTIFS(E46:P46,"=R") -> 0 | X46: =COUNTIFS(E46:P46,"=T") -> 0 | Y46: =COUNTIFS(E46:P46,"=M") -> 0 | Z46: 40 | AA46: =B46 -> 0 | AI46: =IF(AH46<=4,1,0) -> 1 | AJ46: =IF(AND(AH46>=5,AH46<=6),1,0) -> 0 | AK46: =IF(AH46>=7,1,0) -> 0

Sheet TC
A1: Nom | B1: Sexe | C1: Classe | D1: Temps | F1: Meilleur Tmps TC G | G1: {=MIN(IF(B2:B141="G",D2:D141))} -> 3.1
A2: ='SF1 CDtc'!B7 -> 0 | B2: ='SF1 CDtc'!D7 -> G | C2: SF1 CDtc | D2: ='SF1 CDtc'!AE7 -> 3.45 | F2: Meilleur Tmps TC F | G2: {=MIN(IF(B2:B141="F",D2:D141))} -> 2.09
A3: ='SF1 CDtc'!B8 -> 0 | B3: ='SF1 CDtc'!D8 -> G | C3: SF1 CDtc | D3: ='SF1 CDtc'!AE8 -> 3.41
A4: ='SF1 CDtc'!B9 -> 0 | B4: ='SF1 CDtc'!D9 -> G | C4: SF1 CDtc | D4: ='SF1 CDtc'!AE9 -> 3.58
A5: ='SF1 CDtc'!B10 -> 0 | B5: ='SF1 CDtc'!D10 -> G | C5: SF1 CDtc | D5: ='SF1 CDtc'!AE10 -> 3.22
A6: ='SF1 CDtc'!B11 -> 0 | B6: ='SF1 CDtc'!D11 -> G | C6: SF1 CDtc | D6: ='SF1 CDtc'!AE11 -> 3.54
A7: ='SF1 CDtc'!B12 -> 0 | B7: ='SF1 CDtc'!D12 -> G | C7: SF1 CDtc | D7: ='SF1 CDtc'!AE12 -> 3.27
A8: ='SF1 CDtc'!B13 -> 0 | B8: ='SF1 CDtc'!D13 -> G | C8: SF1 CDtc | D8: ='SF1 CDtc'!AE13 -> 3.27
A9: ='SF1 CDtc'!B14 -> 0 | B9: ='SF1 CDtc'!D14 -> F | C9: SF1 CDtc | D9: ='SF1 CDtc'!AE14 -> 3.34
A10: ='SF1 CDtc'!B15 -> 0 | B10: ='SF1 CDtc'!D15 -> G | C10: SF1 CDtc | D10: ='SF1 CDtc'!AE15 -> 3.58
A11: ='SF1 CDtc'!B16 -> 0 | B11: ='SF1 CDtc'!D16 -> F | C11: SF1 CDtc | D11: ='SF1 CDtc'!AE16 -> 2.49
A12: ='SF1 CDtc'!B17 -> 0 | B12: ='SF1 CDtc'!D17 -> F | C12: SF1 CDtc | D12: ='SF1 CDtc'!AE17 -> 3.27
A13: ='SF1 CDtc'!B18 -> 0 | B13: ='SF1 CDtc'!D18 -> F | C13: SF1 CDtc | D13: ='SF1 CDtc'!AE18 -> 3.34
A14: ='SF1 CDtc'!B19 -> 0 | B14: ='SF1 CDtc'!D19 -> F | C14: SF1 CDtc | D14: ='SF1 CDtc'!AE19 -> 2.57
... A41: ='SF1 CDtc'!B46 -> 0 | B41: ='SF1 CDtc'!D46 -> 0 | C41: SF1 CDtc | D41: ='SF1 CDtc'!AE46 -> 0
A42: ='SF2 CDtc'!B7 -> 0 | B42: ='SF2 CDtc'!D7 -> G | C42: SF2 CDtc | D42: ='SF2 CDtc'!AE7 -> 35
A43: ='SF2 CDtc'!B8 -> 0 | B43: ='SF2 CDtc'!D8 -> F | C43: SF2 CDtc | D43: ='SF2 CDtc'!AE8 -> 2.12
A44: ='SF2 CDtc'!B9 -> 0 | B44: ='SF2 CDtc'!D9 -> G | C44: SF2 CDtc | D44: ='SF2 CDtc'!AE9 -> 3.13
A45: ='SF2 CDtc'!B10 -> 0 | B45: ='SF2 CDtc'!D10 -> G | C45: SF2 CDtc | D45: ='SF2 CDtc'!AE10 -> 3.28
A46: ='SF2 CDtc'!B11 -> 0 | B46: ='SF2 CDtc'!D11 -> G | C46: SF2 CDtc | D46: ='SF2 CDtc'!AE11 -> 3.24
A47: ='SF2 CDtc'!B12 -> 0 | B47: ='SF2 CDtc'!D12 -> G | C47: SF2 CDtc | D47: ='SF2 CDtc'!AE12 -> 3.31
A48: ='SF2 CDtc'!B13 -> 0 | B48: ='SF2 CDtc'!D13 -> F | C48: SF2 CDtc | D48: ='SF2 CDtc'!AE13 -> 2.27
A49: ='SF2 CDtc'!B14 -> 0 | B49: ='SF2 CDtc'!D14 -> G | C49: SF2 CDtc | D49: ='SF2 CDtc'!AE14 -> 3.1
A50: ='SF2 CDtc'!B15 -> 0 | B50: ='SF2 CDtc'!D15 -> F | C50: SF2 CDtc | D50: ='SF2 CDtc'!AE15 -> 3.04
A51: ='SF2 CDtc'!B16 -> 0 | B51: ='SF2 CDtc'!D16 -> D | C51: SF2 CDtc | D51: ='SF2 CDtc'!AE16 -> 100
A52: ='SF2 CDtc'!B17 -> 0 | B52: ='SF2 CDtc'!D17 -> F | C52: SF2 CDtc | D52: ='SF2 CDtc'!AE17 -> 2.25
A53: ='SF2 CDtc'!B18 -> 0 | B53: ='SF2 CDtc'!D18 -> G | C53: SF2 CDtc | D53: ='SF2 CDtc'!AE18 -> 4.01
... A81: ='SF2 CDtc'!B46 -> 0 | B81: ='SF2 CDtc'!D46 -> 0 | C81: SF2 CDtc | D81: ='SF2 CDtc'!AE46 -> 0
A82: ='SF3 CDtc'!B7 -> 0 | B82: ='SF3 CDtc'!D7 -> F | C82: SF3 CDtc | D82: ='SF3 CDtc'!AE7 -> 2.4
A83: ='SF3 CDtc'!B8 -> 0 | B83: ='SF3 CDtc'!D8 -> F | C83: SF3 CDtc | D83: ='SF3 CDtc'!AE8 -> 5
A84: ='SF3 CDtc'!B9 -> 0 | B84: ='SF3 CDtc'!D9 -> F | C84: SF3 CDtc | D84: ='SF3 CDtc'!AE9 -> 10
A85: ='SF3 CDtc'!B10 -> 0 | B85: ='SF3 CDtc'!D10 -> F | C85: SF3 CDtc | D85: ='SF3 CDtc'!AE10 -> 2.47
A86: ='SF3 CDtc'!B11 -> 0 | B86: ='SF3 CDtc'!D11 -> G | C86: SF3 CDtc | D86: ='SF3 CDtc'!AE11 -> 3.23
A87: ='SF3 CDtc'!B12 -> 0 | B87: ='SF3 CDtc'!D12 -> F | C87: SF3 CDtc | D87: ='SF3 CDtc'!AE12 -> 7
A88: ='SF3 CDtc'!B13 -> 0 | B88: ='SF3 CDtc'!D13 -> G | C88: SF3 CDtc | D88: ='SF3 CDtc'!AE13 -> 3.26
A89: ='SF3 CDtc'!B14 -> 0 | B89: ='SF3 CDtc'!D14 -> G | C89: SF3 CDtc | D89: ='SF3 CDtc'!AE14 -> 3.26
A90: ='SF3 CDtc'!B15 -> 0 | B90: ='SF3 CDtc'!D15 -> F | C90: SF3 CDtc | D90: ='SF3 CDtc'!AE15 -> 2.39
A91: ='SF3 CDtc'!B16 -> 0 | B91: ='SF3 CDtc'!D16 -> G | C91: SF3 CDtc | D91: ='SF3 CDtc'!AE16 -> 3.45
A92: ='SF3 CDtc'!B17 -> 0 | B92: ='SF3 CDtc'!D17 -> G | C92: SF3 CDtc | D92: ='SF3 CDtc'!AE17 -> 3.43
A93: ='SF3 CDtc'!B18 -> 0 | B93: ='SF3 CDtc'!D18 -> G | C93: SF3 CDtc | D93: ='SF3 CDtc'!AE18 -> 3.15
... A121: ='SF3 CDtc'!B46 -> 0 | B121: ='SF3 CDtc'!D46 -> 0 | C121: SF3 CDtc | D121: ='SF3 CDtc'!AE46 -> 0

Sheet Stats
A1: TC | E1: liste d'élèves dispensés
A2: Disp. | B2: Garçons | C2: Filles | E2: nom & prénom | F2: classe
A3: total des D4 | B3: total des D5 | C3: total des D6

Sheet 1BAC
A1: Nom | B1: Sexe | C1: Classe | D1: Temps | E1: Note/7 | G1: Meilleur Tmps TC G | H1: =_xlfn.MINIFS(D2:D201,B2:B201,"G") -> 2.23
A2: =#REF! -> #REF! | B2: =#REF! -> #REF! | C2: 1Ltr1 | D2: =IF(#REF!="G",#REF!,IF(#REF!="F",#REF!,"100")) -> #REF! | E2: =IF(B2="G",(($H$1/D2)*7),IF(B2="F",(($H$2/D2)*7),"Disp")) -> #REF! | G2: Meilleur Tmps TC F | H2: =_xlfn.MINIFS(D2:D201,B2:B201,"F") -> 2.21
A3: =#REF! -> #REF! | B3: =#REF! -> #REF! | C3: 1Ltr1 | D3: =IF(#REF!="G",#REF!,IF(#REF!="F",#REF!,"100")) -> #REF! | E3: =IF(B3="G",(($H$1/D3)*7),IF(B3="F",(($H$2/D3)*7),"Disp")) -> #REF!
A4: =#REF! -> #REF! | B4: =#REF! -> #REF! | C4: 1Ltr1 | D4: =IF(#REF!="G",#REF!,IF(#REF!="F",#REF!,"100")) -> #REF! | E4: =IF(B4="G",(($H$1/D4)*7),IF(B4="F",(($H$2/D4)*7),"Disp")) -> #REF!
A5: =#REF! -> #REF! | B5: =#REF! -> #REF! | C5: 1Ltr1 | D5: =IF(#REF!="G",#REF!,IF(#REF!="F",#REF!,"100")) -> #REF! | E5: =IF(B5="G",(($H$1/D5)*7),IF(B5="F",(($H$2/D5)*7),"Disp")) -> #REF!
A6: =#REF! -> #REF! | B6: =#REF! -> #REF! | C6: 1Ltr1 | D6: =IF(#REF!="G",#REF!,IF(#REF!="F",#REF!,"100")) -> #REF! | E6: =IF(B6="G",(($H$1/D6)*7),IF(B6="F",(($H$2/D6)*7),"Disp")) -> #REF!
A7: =#REF! -> #REF! | B7: =#REF! -> #REF! | C7: 1Ltr1 | D7: =IF(#REF!="G",#REF!,IF(#REF!="F",#REF!,"100")) -> #REF! | E7: =IF(B7="G",(($H$1/D7)*7),IF(B7="F",(($H$2/D7)*7),"Disp")) -> #REF!
A8: =#REF! -> #REF! | B8: =#REF! -> #REF! | C8: 1Ltr1 | D8: =IF(#REF!="G",#REF!,IF(#REF!="F",#REF!,"100")) -> #REF! | E8: =IF(B8="G",(($H$1/D8)*7),IF(B8="F",(($H$2/D8)*7),"Disp")) -> #REF!
A9: =#REF! -> #REF! | B9: =#REF! -> #REF! | C9: 1Ltr1 | D9: =IF(#REF!="G",#REF!,IF(#REF!="F",#REF!,"100")) -> #REF! | E9: =IF(B9="G",(($H$1/D9)*7),IF(B9="F",(($H$2/D9)*7),"Disp")) -> #REF!
A10: =#REF! -> #REF! | B10: =#REF! -> #REF! | C10: 1Ltr1 | D10: =IF(#REF!="G",#REF!,IF(#REF!="F",#REF!,"100")) -> #REF! | E10: =IF(B10="G",(($H$1/D10)*7),IF(B10="F",(($H$2/D10)*7),"Disp")) -> #REF!
A11: =#REF! -> #REF! | B11: =#REF! -> #REF! | C11: 1Ltr1 | D11: =IF(#REF!="G",#REF!,IF(#REF!="F",#REF!,"100")) -> #REF! | E11: =IF(B11="G",(($H$1/D11)*7),IF(B11="F",(($H$2/D11)*7),"Disp")) -> #REF!
A12: =#REF! -> #REF! | B12: =#REF! -> #REF! | C12: 1Ltr1 | D12: =IF(#REF!="G",#REF!,IF(#REF!="F",#REF!,"100")) -> #REF! | E12: =IF(B12="G",(($H$1/D12)*7),IF(B12="F",(($H$2/D12)*7),"Disp")) -> #REF!
A13: =#REF! -> #REF! | B13: =#REF! -> #REF! | C13: 1Ltr1 | D13: =IF(#REF!="G",#REF!,IF(#REF!="F",#REF!,"100")) -> #REF! | E13: =IF(B13="G",(($H$1/D13)*7),IF(B13="F",(($H$2/D13)*7),"Disp")) -> #REF!
A14: =#REF! -> #REF! | B14: =#REF! -> #REF! | C14: 1Ltr1 | D14: =IF(#REF!="G",#REF!,IF(#REF!="F",#REF!,"100")) -> #REF! | E14: =IF(B14="G",(($H$1/D14)*7),IF(B14="F",(($H$2/D14)*7),"Disp")) -> #REF!
... A81: =#REF! -> #REF! | B81: =#REF! -> #REF! | C81: 1Ltr2 | D81: =IF(#REF!="G",#REF!,IF(#REF!="F",#REF!,"100")) -> #REF! | E81: =IF(B81="G",(($H$1/D81)*7),IF(B81="F",(($H$2/D81)*7),"Disp")) -> #REF!
A82: ='1SE1'!B7 -> 0 | B82: ='1SE1'!D7 -> F | C82: 1SE1 | D82: =IF('1SE1'!D7="G",'1SE1'!AE7,IF('1SE1'!D7="F",'1SE1'!AF7,"100")) -> 2.37 | E82: =IF(B82="G",(($H$1/D82)*7),IF(B82="F",(($H$2/D82)*7),"Disp")) -> 6.5274262
A83: ='1SE1'!B8 -> 0 | B83: ='1SE1'!D8 -> F | C83: 1SE1 | D83: =IF('1SE1'!D8="G",'1SE1'!AE8,IF('1SE1'!D8="F",'1SE1'!AF8,"100")) -> 3.25 | E83: =IF(B83="G",(($H$1/D83)*7),IF(B83="F",(($H$2/D83)*7),"Disp")) -> 4.76
A84: ='1SE1'!B9 -> 0 | B84: ='1SE1'!D9 -> F | C84: 1SE1 | D84: =IF('1SE1'!D9="G",'1SE1'!AE9,IF('1SE1'!D9="F",'1SE1'!AF9,"100")) -> 3.16 | E84: =IF(B84="G",(($H$1/D84)*7),IF(B84="F",(($H$2/D84)*7),"Disp")) -> 4.8955696
A85: ='1SE1'!B10 -> 0 | B85: ='1SE1'!D10 -> F | C85: 1SE1 | D85: =IF('1SE1'!D10="G",'1SE1'!AE10,IF('1SE1'!D10="F",'1SE1'!AF10,"100")) -> 2.35 | E85: =IF(B85="G",(($H$1/D85)*7),IF(B85="F",(($H$2/D85)*7),"Disp")) -> 6.5829787
A86: ='1SE1'!B11 -> 0 | B86: ='1SE1'!D11 -> G | C86: 1SE1 | D86: =IF('1SE1'!D11="G",'1SE1'!AE11,IF('1SE1'!D11="F",'1SE1'!AF11,"100")) -> 2.37 | E86: =IF(B86="G",(($H$1/D86)*7),IF(B86="F",(($H$2/D86)*7),"Disp")) -> 6.5864979
A87: ='1SE1'!B12 -> 0 | B87: ='1SE1'!D12 -> F | C87: 1SE1 | D87: =IF('1SE1'!D12="G",'1SE1'!AE12,IF('1SE1'!D12="F",'1SE1'!AF12,"100")) -> 4.07 | E87: =IF(B87="G",(($H$1/D87)*7),IF(B87="F",(($H$2/D87)*7),"Disp")) -> 3.8009828
A88: ='1SE1'!B13 -> 0 | B88: ='1SE1'!D13 -> G | C88: 1SE1 | D88: =IF('1SE1'!D13="G",'1SE1'!AE13,IF('1SE1'!D13="F",'1SE1'!AF13,"100")) -> 3.57 | E88: =IF(B88="G",(($H$1/D88)*7),IF(B88="F",(($H$2/D88)*7),"Disp")) -> 4.372549
A89: ='1SE1'!B14 -> 0 | B89: ='1SE1'!D14 -> G | C89: 1SE1 | D89: =IF('1SE1'!D14="G",'1SE1'!AE14,IF('1SE1'!D14="F",'1SE1'!AF14,"100")) -> 3.55 | E89: =IF(B89="G",(($H$1/D89)*7),IF(B89="F",(($H$2/D89)*7),"Disp")) -> 4.3971831
A90: ='1SE1'!B15 -> 0 | B90: ='1SE1'!D15 -> F | C90: 1SE1 | D90: =IF('1SE1'!D15="G",'1SE1'!AE15,IF('1SE1'!D15="F",'1SE1'!AF15,"100")) -> 2.37 | E90: =IF(B90="G",(($H$1/D90)*7),IF(B90="F",(($H$2/D90)*7),"Disp")) -> 6.5274262
A91: ='1SE1'!B16 -> 0 | B91: ='1SE1'!D16 -> G | C91: 1SE1 | D91: =IF('1SE1'!D16="G",'1SE1'!AE16,IF('1SE1'!D16="F",'1SE1'!AF16,"100")) -> 2.41 | E91: =IF(B91="G",(($H$1/D91)*7),IF(B91="F",(($H$2/D91)*7),"Disp")) -> 6.4771784
A92: ='1SE1'!B17 -> 0 | B92: ='1SE1'!D17 -> G | C92: 1SE1 | D92: =IF('1SE1'!D17="G",'1SE1'!AE17,IF('1SE1'!D17="F",'1SE1'!AF17,"100")) -> 2.23 | E92: =IF(B92="G",(($H$1/D92)*7),IF(B92="F",(($H$2/D92)*7),"Disp")) -> 7
A93: ='1SE1'!B18 -> 0 | B93: ='1SE1'!D18 -> G | C93: 1SE1 | D93: =IF('1SE1'!D18="G",'1SE1'!AE18,IF('1SE1'!D18="F",'1SE1'!AF18,"100")) -> 4.32 | E93: =IF(B93="G",(($H$1/D93)*7),IF(B93="F",(($H$2/D93)*7),"Disp")) -> 3.6134259
... A121: ='1SE1'!B46 -> 0 | B121: ='1SE1'!D46 -> 0 | C121: 1SE1 | D121: =IF('1SE1'!D46="G",'1SE1'!AE46,IF('1SE1'!D46="F",'1SE1'!AF46,"100")) -> 100 | E121: =IF(B121="G",(($H$1/D121)*7),IF(B121="F",(($H$2/D121)*7),"Disp")) -> Disp
A122: =#REF! -> #REF! | B122: =#REF! -> #REF! | C122: 1SE2 | D122: =IF(#REF!="G",#REF!,IF(#REF!="F",#REF!,"100")) -> #REF! | E122: =IF(B122="G",(($H$1/D122)*7),IF(B122="F",(($H$2/D122)*7),"Disp")) -> #REF!
A123: =#REF! -> #REF! | B123: =#REF! -> #REF! | C123: 1SE2 | D123: =IF(#REF!="G",#REF!,IF(#REF!="F",#REF!,"100")) -> #REF! | E123: =IF(B123="G",(($H$1/D123)*7),IF(B123="F",(($H$2/D123)*7),"Disp")) -> #REF!
A124: =#REF! -> #REF! | B124: =#REF! -> #REF! | C124: 1SE2 | D124: =IF(#REF!="G",#REF!,IF(#REF!="F",#REF!,"100")) -> #REF! | E124: =IF(B124="G",(($H$1/D124)*7),IF(B124="F",(($H$2/D124)*7),"Disp")) -> #REF!
A125: =#REF! -> #REF! | B125: =#REF! -> #REF! | C125: 1SE2 | D125: =IF(#REF!="G",#REF!,IF(#REF!="F",#REF!,"100")) -> #REF! | E125: =IF(B125="G",(($H$1/D125)*7),IF(B125="F",(($H$2/D125)*7),"Disp")) -> #REF!
A126: =#REF! -> #REF! | B126: =#REF! -> #REF! | C126: 1SE2 | D126: =IF(#REF!="G",#REF!,IF(#REF!="F",#REF!,"100")) -> #REF! | E126: =IF(B126="G",(($H$1/D126)*7),IF(B126="F",(($H$2/D126)*7),"Disp")) -> #REF!
A127: =#REF! -> #REF! | B127: =#REF! -> #REF! | C127: 1SE2 | D127: =IF(#REF!="G",#REF!,IF(#REF!="F",#REF!,"100")) -> #REF! | E127: =IF(B127="G",(($H$1/D127)*7),IF(B127="F",(($H$2/D127)*7),"Disp")) -> #REF!
A128: =#REF! -> #REF! | B128: =#REF! -> #REF! | C128: 1SE2 | D128: =IF(#REF!="G",#REF!,IF(#REF!="F",#REF!,"100")) -> #REF! | E128: =IF(B128="G",(($H$1/D128)*7),IF(B128="F",(($H$2/D128)*7),"Disp")) -> #REF!
A129: =#REF! -> #REF! | B129: =#REF! -> #REF! | C129: 1SE2 | D129: =IF(#REF!="G",#REF!,IF(#REF!="F",#REF!,"100")) -> #REF! | E129: =IF(B129="G",(($H$1/D129)*7),IF(B129="F",(($H$2/D129)*7),"Disp")) -> #REF!
A130: =#REF! -> #REF! | B130: =#REF! -> #REF! | C130: 1SE2 | D130: =IF(#REF!="G",#REF!,IF(#REF!="F",#REF!,"100")) -> #REF! | E130: =IF(B130="G",(($H$1/D130)*7),IF(B130="F",(($H$2/D130)*7),"Disp")) -> #REF!
A131: =#REF! -> #REF! | B131: =#REF! -> #REF! | C131: 1SE2 | D131: =IF(#REF!="G",#REF!,IF(#REF!="F",#REF!,"100")) -> #REF! | E131: =IF(B131="G",(($H$1/D131)*7),IF(B131="F",(($H$2/D131)*7),"Disp")) -> #REF!
A132: =#REF! -> #REF! | B132: =#REF! -> #REF! | C132: 1SE2 | D132: =IF(#REF!="G",#REF!,IF(#REF!="F",#REF!,"100")) -> #REF! | E132: =IF(B132="G",(($H$1/D132)*7),IF(B132="F",(($H$2/D132)*7),"Disp")) -> #REF!
A133: =#REF! -> #REF! | B133: =#REF! -> #REF! | C133: 1SE2 | D133: =IF(#REF!="G",#REF!,IF(#REF!="F",#REF!,"100")) -> #REF! | E133: =IF(B133="G",(($H$1/D133)*7),IF(B133="F",(($H$2/D133)*7),"Disp")) -> #REF!
... A201: =#REF! -> #REF! | B201: =#REF! -> #REF! | C201: 1SE3 | D201: =IF(#REF!="G",#REF!,IF(#REF!="F",#REF!,"100")) -> #REF! | E201: =IF(B201="G",(($H$1/D201)*7),IF(B201="F",(($H$2/D201)*7),"Disp")) -> #REF!
