Workbook

Sheet Congès
A1: Personnes | B1: Date de début | C1: Date de fin
A2: Personne 01 | B2: 44048 | C2: 44069
A3: Personne 02 | B3: 44011 | C3: 44013
A4: Personne 02 | B4: 44046 | C4: 44064
A5: Personne 03 | B5: 44053 | C5: 44064
A6: Personne 04 | B6: 44060 | C6: 44078
A7: Personne 05 | B7: 44025 | C7: 44046
A8: Personne 06 | B8: 44035 | C8: 44050
A9: Personne 07 | B9: 44032 | C9: 44036
A10: Personne 07 | B10: 44064 | C10: 44170
A11: Personne 08 | B11: 44046 | C11: 44057
A12: Personne 09 | B12: 44046 | C12: 44057
A13: Personne 10 | B13: 44068 | C13: 44078
A14: Personne 10 | B14: 44088 | C14: 44092

Sheet Calendrier
B1: 44011 | C1: 44012 | D1: 44013 | E1: 44014 | F1: 44015 | G1: 44016 | H1: 44017 | I1: 44018 | J1: 44019 | K1: 44020 | L1: 44021 | M1: 44022 | N1: 44023 | O1: 44024 | P1: 44025 | Q1: 44026 | R1: 44027 | S1: 44028 | T1: 44029 | U1: 44030 | V1: 44031 | W1: 44032 | X1: 44033 | Y1: 44034 | Z1: 44035 | AA1: 44036 | AB1: 44037 | AC1: 44038 | AD1: 44039 | AE1: 44040 | AF1: 44041 | AG1: 44042 | AH1: 44043 | AI1: 44044 | AJ1: 44045 | AK1: 44046 | AL1: 44047 | AM1: 44048 | AN1: 44049 | AO1: 44050 | AP1: 44051 | AQ1: 44052 | AR1: 44053 | AS1: 44054 | AT1: 44055 | AU1: 44056 | AV1: 44057 | AW1: 44058 | AX1: 44059 | AY1: 44060 | AZ1: 44061 | BA1: 44062 | BB1: 44063 | BC1: 44064 | BD1: 44065 | BE1: 44066 | BF1: 44067 | BG1: 44068 | BH1: 44069 | BI1: 44070 | BJ1: 44071 | BK1: 44072 | BL1: 44073 | BM1: 44074 | BN1: 44075 | BO1: 44076 | BP1: 44077 | BQ1: 44078 | BR1: 44079 | BS1: 44080 | BT1: 44081 | BU1: 44082 | BV1: 44083 | BW1: 44084 | BX1: 44085 | BY1: 44086 | BZ1: 44087 | CA1: 44088 | CB1: 44089 | CC1: 44090 | CD1: 44091 | CE1: 44092 | CF1: 44093 | CG1: 44094 | CH1: 44095 | CI1: 44096 | CJ1: 44097 | CK1: 44098 | CL1: 44099 | CM1: 44100 | CN1: 44101 | CO1: 44102 | CP1: 44103 | CQ1: 44104 | CR1: 44105 | CS1: 44106 | CT1: 44107 | CU1: 44108 | CV1: 44109 | CW1: 44110 | CX1: 44111 | CY1: 44112 | CZ1: 44113 | DA1: 44114 | DB1: 44115 | DC1: 44116 | DD1: 44117 | DE1: 44118 | DF1: 44119 | DG1: 44120 | DH1: 44121 | DI1: 44122 | DJ1: 44123 | DK1: 44124 | DL1: 44125 | DM1: 44126 | DN1: 44127 | DO1: 44128 | DP1: 44129 | DQ1: 44130 | DR1: 44131 | DS1: 44132 | DT1: 44133 | DU1: 44134 | DV1: 44135 | DW1: 44136 | DX1: 44137 | DY1: 44138 | DZ1: 44139 | EA1: 44140 | EB1: 44141 | EC1: 44142 | ED1: 44143 | EE1: 44144 | EF1: 44145 | EG1: 44146 | EH1: 44147 | EI1: 44148 | EJ1: 44149 | EK1: 44150 | EL1: 44151 | EM1: 44152 | EN1: 44153 | EO1: 44154 | EP1: 44155 | EQ1: 44156 | ER1: 44157 | ES1: 44158 | ET1: 44159 | EU1: 44160 | EV1: 44161 | EW1: 44162 | EX1: 44163 | EY1: 44164 | EZ1: 44165 | FA1: 44166 | FB1: 44167 | FC1: 44168 | FD1: 44169 | FE1: 44170 | FF1: 44171 | FG1: 44172 | FH1: 44173 | FI1: 44174 | FJ1: 44175 | FK1: 44176 | FL1: 44177 | FM1: 44178 | FN1: 44179 | FO1: 44180 | FP1: 44181 | FQ1: 44182 | FR1: 44183 | FS1: 44184 | FT1: 44185 | FU1: 44186 | FV1: 44187 | FW1: 44188 | FX1: 44189 | FY1: 44190 | FZ1: 44191 | GA1: 44192 | GB1: 44193 | GC1: 44194 | GD1: 44195 | GE1: 44196
A2: Personne 01 | B2: =IF(AND(B$1>=VLOOKUP(Calendrier!$A2,Congès!$A$2:$C$14,2,FALSE),Calendrier!B$1<=VLOOKUP(Calendrier!$A2,Congès!$A$2:$C$14,3,FALSE)),1,"") | C2: =IF(AND(C$1>=VLOOKUP(Calendrier!$A2,Congès!$A$2:$C$14,2,FALSE),Calendrier!C$1<=VLOOKUP(Calendrier!$A2,Congès!$A$2:$C$14,3,FALSE)),1,"") | D2: =IF(AND(D$1>=VLOOKUP(Calendrier!$A2,Congès!$A$2:$C$14,2,FALSE),Calendrier!D$1<=VLOOKUP(Calendrier!$A2,Congès!$A$2:$C$14,3,FALSE)),1,"") | E2: =IF(AND(E$1>=VLOOKUP(Calendrier!$A2,Congès!$A$2:$C$14,2,FALSE),Calendrier!E$1<=VLOOKUP(Calendrier!$A2,Congès!$A$2:$C$14,3,FALSE)),1,"") | F2: =IF(AND(F$1>=VLOOKUP(Calendrier!$A2,Congès!$A$2:$C$14,2,FALSE),Calendrier!F$1<=VLOOKUP(Calendrier!$A2,Congès!$A$2:$C$14,3,FALSE)),1,"") | G2: =IF(AND(G$1>=VLOOKUP(Calendrier!$A2,Congès!$A$2:$C$14,2,FALSE),Calendrier!G$1<=VLOOKUP(Calendrier!$A2,Congès!$A$2:$C$14,3,FALSE)),1,"") | H2: =IF(AND(H$1>=VLOOKUP(Calendrier!$A2,Congès!$A$2:$C$14,2,FALSE),Calendrier!H$1<=VLOOKUP(Calendrier!$A2,Congès!$A$2:$C$14,3,FALSE)),1,"") | I2: =IF(AND(I$1>=VLOOKUP(Calendrier!$A2,Congès!$A$2:$C$14,2,FALSE),Calendrier!I$1<=VLOOKUP(Calendrier!$A2,Congès!$A$2:$C$14,3,FALSE)),1,"") | ... GE2: =IF(AND(GE$1>=VLOOKUP(Calendrier!$A2,Congès!$A$2:$C$14,2,FALSE),Calendrier!GE$1<=VLOOKUP(Calendrier!$A2,Congès!$A$2:$C$14,3,FALSE)),1,"")
A3: Personne 02 | B3: =IF(AND(B$1>=VLOOKUP(Calendrier!$A3,Congès!$A$2:$C$14,2,FALSE),Calendrier!B$1<=VLOOKUP(Calendrier!$A3,Congès!$A$2:$C$14,3,FALSE)),1,"") -> 1 | C3: =IF(AND(C$1>=VLOOKUP(Calendrier!$A3,Congès!$A$2:$C$14,2,FALSE),Calendrier!C$1<=VLOOKUP(Calendrier!$A3,Congès!$A$2:$C$14,3,FALSE)),1,"") -> 1 | D3: =IF(AND(D$1>=VLOOKUP(Calendrier!$A3,Congès!$A$2:$C$14,2,FALSE),Calendrier!D$1<=VLOOKUP(Calendrier!$A3,Congès!$A$2:$C$14,3,FALSE)),1,"") -> 1 | E3: =IF(AND(E$1>=VLOOKUP(Calendrier!$A3,Congès!$A$2:$C$14,2,FALSE),Calendrier!E$1<=VLOOKUP(Calendrier!$A3,Congès!$A$2:$C$14,3,FALSE)),1,"") | F3: =IF(AND(F$1>=VLOOKUP(Calendrier!$A3,Congès!$A$2:$C$14,2,FALSE),Calendrier!F$1<=VLOOKUP(Calendrier!$A3,Congès!$A$2:$C$14,3,FALSE)),1,"") | G3: =IF(AND(G$1>=VLOOKUP(Calendrier!$A3,Congès!$A$2:$C$14,2,FALSE),Calendrier!G$1<=VLOOKUP(Calendrier!$A3,Congès!$A$2:$C$14,3,FALSE)),1,"") | H3: =IF(AND(H$1>=VLOOKUP(Calendrier!$A3,Congès!$A$2:$C$14,2,FALSE),Calendrier!H$1<=VLOOKUP(Calendrier!$A3,Congès!$A$2:$C$14,3,FALSE)),1,"") | I3: =IF(AND(I$1>=VLOOKUP(Calendrier!$A3,Congès!$A$2:$C$14,2,FALSE),Calendrier!I$1<=VLOOKUP(Calendrier!$A3,Congès!$A$2:$C$14,3,FALSE)),1,"") | ... GE3: =IF(AND(GE$1>=VLOOKUP(Calendrier!$A3,Congès!$A$2:$C$14,2,FALSE),Calendrier!GE$1<=VLOOKUP(Calendrier!$A3,Congès!$A$2:$C$14,3,FALSE)),1,"")
A4: Personne 03 | B4: =IF(AND(B$1>=VLOOKUP(Calendrier!$A4,Congès!$A$2:$C$14,2,FALSE),Calendrier!B$1<=VLOOKUP(Calendrier!$A4,Congès!$A$2:$C$14,3,FALSE)),1,"") | C4: =IF(AND(C$1>=VLOOKUP(Calendrier!$A4,Congès!$A$2:$C$14,2,FALSE),Calendrier!C$1<=VLOOKUP(Calendrier!$A4,Congès!$A$2:$C$14,3,FALSE)),1,"") | D4: =IF(AND(D$1>=VLOOKUP(Calendrier!$A4,Congès!$A$2:$C$14,2,FALSE),Calendrier!D$1<=VLOOKUP(Calendrier!$A4,Congès!$A$2:$C$14,3,FALSE)),1,"") | E4: =IF(AND(E$1>=VLOOKUP(Calendrier!$A4,Congès!$A$2:$C$14,2,FALSE),Calendrier!E$1<=VLOOKUP(Calendrier!$A4,Congès!$A$2:$C$14,3,FALSE)),1,"") | F4: =IF(AND(F$1>=VLOOKUP(Calendrier!$A4,Congès!$A$2:$C$14,2,FALSE),Calendrier!F$1<=VLOOKUP(Calendrier!$A4,Congès!$A$2:$C$14,3,FALSE)),1,"") | G4: =IF(AND(G$1>=VLOOKUP(Calendrier!$A4,Congès!$A$2:$C$14,2,FALSE),Calendrier!G$1<=VLOOKUP(Calendrier!$A4,Congès!$A$2:$C$14,3,FALSE)),1,"") | H4: =IF(AND(H$1>=VLOOKUP(Calendrier!$A4,Congès!$A$2:$C$14,2,FALSE),Calendrier!H$1<=VLOOKUP(Calendrier!$A4,Congès!$A$2:$C$14,3,FALSE)),1,"") | I4: =IF(AND(I$1>=VLOOKUP(Calendrier!$A4,Congès!$A$2:$C$14,2,FALSE),Calendrier!I$1<=VLOOKUP(Calendrier!$A4,Congès!$A$2:$C$14,3,FALSE)),1,"") | ... GE4: =IF(AND(GE$1>=VLOOKUP(Calendrier!$A4,Congès!$A$2:$C$14,2,FALSE),Calendrier!GE$1<=VLOOKUP(Calendrier!$A4,Congès!$A$2:$C$14,3,FALSE)),1,"")
A5: Personne 04 | B5: =IF(AND(B$1>=VLOOKUP(Calendrier!$A5,Congès!$A$2:$C$14,2,FALSE),Calendrier!B$1<=VLOOKUP(Calendrier!$A5,Congès!$A$2:$C$14,3,FALSE)),1,"") | C5: =IF(AND(C$1>=VLOOKUP(Calendrier!$A5,Congès!$A$2:$C$14,2,FALSE),Calendrier!C$1<=VLOOKUP(Calendrier!$A5,Congès!$A$2:$C$14,3,FALSE)),1,"") | D5: =IF(AND(D$1>=VLOOKUP(Calendrier!$A5,Congès!$A$2:$C$14,2,FALSE),Calendrier!D$1<=VLOOKUP(Calendrier!$A5,Congès!$A$2:$C$14,3,FALSE)),1,"") | E5: =IF(AND(E$1>=VLOOKUP(Calendrier!$A5,Congès!$A$2:$C$14,2,FALSE),Calendrier!E$1<=VLOOKUP(Calendrier!$A5,Congès!$A$2:$C$14,3,FALSE)),1,"") | F5: =IF(AND(F$1>=VLOOKUP(Calendrier!$A5,Congès!$A$2:$C$14,2,FALSE),Calendrier!F$1<=VLOOKUP(Calendrier!$A5,Congès!$A$2:$C$14,3,FALSE)),1,"") | G5: =IF(AND(G$1>=VLOOKUP(Calendrier!$A5,Congès!$A$2:$C$14,2,FALSE),Calendrier!G$1<=VLOOKUP(Calendrier!$A5,Congès!$A$2:$C$14,3,FALSE)),1,"") | H5: =IF(AND(H$1>=VLOOKUP(Calendrier!$A5,Congès!$A$2:$C$14,2,FALSE),Calendrier!H$1<=VLOOKUP(Calendrier!$A5,Congès!$A$2:$C$14,3,FALSE)),1,"") | I5: =IF(AND(I$1>=VLOOKUP(Calendrier!$A5,Congès!$A$2:$C$14,2,FALSE),Calendrier!I$1<=VLOOKUP(Calendrier!$A5,Congès!$A$2:$C$14,3,FALSE)),1,"") | ... GE5: =IF(AND(GE$1>=VLOOKUP(Calendrier!$A5,Congès!$A$2:$C$14,2,FALSE),Calendrier!GE$1<=VLOOKUP(Calendrier!$A5,Congès!$A$2:$C$14,3,FALSE)),1,"")
A6: Personne 05 | B6: =IF(AND(B$1>=VLOOKUP(Calendrier!$A6,Congès!$A$2:$C$14,2,FALSE),Calendrier!B$1<=VLOOKUP(Calendrier!$A6,Congès!$A$2:$C$14,3,FALSE)),1,"") | C6: =IF(AND(C$1>=VLOOKUP(Calendrier!$A6,Congès!$A$2:$C$14,2,FALSE),Calendrier!C$1<=VLOOKUP(Calendrier!$A6,Congès!$A$2:$C$14,3,FALSE)),1,"") | D6: =IF(AND(D$1>=VLOOKUP(Calendrier!$A6,Congès!$A$2:$C$14,2,FALSE),Calendrier!D$1<=VLOOKUP(Calendrier!$A6,Congès!$A$2:$C$14,3,FALSE)),1,"") | E6: =IF(AND(E$1>=VLOOKUP(Calendrier!$A6,Congès!$A$2:$C$14,2,FALSE),Calendrier!E$1<=VLOOKUP(Calendrier!$A6,Congès!$A$2:$C$14,3,FALSE)),1,"") | F6: =IF(AND(F$1>=VLOOKUP(Calendrier!$A6,Congès!$A$2:$C$14,2,FALSE),Calendrier!F$1<=VLOOKUP(Calendrier!$A6,Congès!$A$2:$C$14,3,FALSE)),1,"") | G6: =IF(AND(G$1>=VLOOKUP(Calendrier!$A6,Congès!$A$2:$C$14,2,FALSE),Calendrier!G$1<=VLOOKUP(Calendrier!$A6,Congès!$A$2:$C$14,3,FALSE)),1,"") | H6: =IF(AND(H$1>=VLOOKUP(Calendrier!$A6,Congès!$A$2:$C$14,2,FALSE),Calendrier!H$1<=VLOOKUP(Calendrier!$A6,Congès!$A$2:$C$14,3,FALSE)),1,"") | I6: =IF(AND(I$1>=VLOOKUP(Calendrier!$A6,Congès!$A$2:$C$14,2,FALSE),Calendrier!I$1<=VLOOKUP(Calendrier!$A6,Congès!$A$2:$C$14,3,FALSE)),1,"") | ... GE6: =IF(AND(GE$1>=VLOOKUP(Calendrier!$A6,Congès!$A$2:$C$14,2,FALSE),Calendrier!GE$1<=VLOOKUP(Calendrier!$A6,Congès!$A$2:$C$14,3,FALSE)),1,"")
A7: Personne 06 | B7: =IF(AND(B$1>=VLOOKUP(Calendrier!$A7,Congès!$A$2:$C$14,2,FALSE),Calendrier!B$1<=VLOOKUP(Calendrier!$A7,Congès!$A$2:$C$14,3,FALSE)),1,"") | C7: =IF(AND(C$1>=VLOOKUP(Calendrier!$A7,Congès!$A$2:$C$14,2,FALSE),Calendrier!C$1<=VLOOKUP(Calendrier!$A7,Congès!$A$2:$C$14,3,FALSE)),1,"") | D7: =IF(AND(D$1>=VLOOKUP(Calendrier!$A7,Congès!$A$2:$C$14,2,FALSE),Calendrier!D$1<=VLOOKUP(Calendrier!$A7,Congès!$A$2:$C$14,3,FALSE)),1,"") | E7: =IF(AND(E$1>=VLOOKUP(Calendrier!$A7,Congès!$A$2:$C$14,2,FALSE),Calendrier!E$1<=VLOOKUP(Calendrier!$A7,Congès!$A$2:$C$14,3,FALSE)),1,"") | F7: =IF(AND(F$1>=VLOOKUP(Calendrier!$A7,Congès!$A$2:$C$14,2,FALSE),Calendrier!F$1<=VLOOKUP(Calendrier!$A7,Congès!$A$2:$C$14,3,FALSE)),1,"") | G7: =IF(AND(G$1>=VLOOKUP(Calendrier!$A7,Congès!$A$2:$C$14,2,FALSE),Calendrier!G$1<=VLOOKUP(Calendrier!$A7,Congès!$A$2:$C$14,3,FALSE)),1,"") | H7: =IF(AND(H$1>=VLOOKUP(Calendrier!$A7,Congès!$A$2:$C$14,2,FALSE),Calendrier!H$1<=VLOOKUP(Calendrier!$A7,Congès!$A$2:$C$14,3,FALSE)),1,"") | I7: =IF(AND(I$1>=VLOOKUP(Calendrier!$A7,Congès!$A$2:$C$14,2,FALSE),Calendrier!I$1<=VLOOKUP(Calendrier!$A7,Congès!$A$2:$C$14,3,FALSE)),1,"") | ... GE7: =IF(AND(GE$1>=VLOOKUP(Calendrier!$A7,Congès!$A$2:$C$14,2,FALSE),Calendrier!GE$1<=VLOOKUP(Calendrier!$A7,Congès!$A$2:$C$14,3,FALSE)),1,"")
A8: Personne 07 | B8: =IF(AND(B$1>=VLOOKUP(Calendrier!$A8,Congès!$A$2:$C$14,2,FALSE),Calendrier!B$1<=VLOOKUP(Calendrier!$A8,Congès!$A$2:$C$14,3,FALSE)),1,"") | C8: =IF(AND(C$1>=VLOOKUP(Calendrier!$A8,Congès!$A$2:$C$14,2,FALSE),Calendrier!C$1<=VLOOKUP(Calendrier!$A8,Congès!$A$2:$C$14,3,FALSE)),1,"") | D8: =IF(AND(D$1>=VLOOKUP(Calendrier!$A8,Congès!$A$2:$C$14,2,FALSE),Calendrier!D$1<=VLOOKUP(Calendrier!$A8,Congès!$A$2:$C$14,3,FALSE)),1,"") | E8: =IF(AND(E$1>=VLOOKUP(Calendrier!$A8,Congès!$A$2:$C$14,2,FALSE),Calendrier!E$1<=VLOOKUP(Calendrier!$A8,Congès!$A$2:$C$14,3,FALSE)),1,"") | F8: =IF(AND(F$1>=VLOOKUP(Calendrier!$A8,Congès!$A$2:$C$14,2,FALSE),Calendrier!F$1<=VLOOKUP(Calendrier!$A8,Congès!$A$2:$C$14,3,FALSE)),1,"") | G8: =IF(AND(G$1>=VLOOKUP(Calendrier!$A8,Congès!$A$2:$C$14,2,FALSE),Calendrier!G$1<=VLOOKUP(Calendrier!$A8,Congès!$A$2:$C$14,3,FALSE)),1,"") | H8: =IF(AND(H$1>=VLOOKUP(Calendrier!$A8,Congès!$A$2:$C$14,2,FALSE),Calendrier!H$1<=VLOOKUP(Calendrier!$A8,Congès!$A$2:$C$14,3,FALSE)),1,"") | I8: =IF(AND(I$1>=VLOOKUP(Calendrier!$A8,Congès!$A$2:$C$14,2,FALSE),Calendrier!I$1<=VLOOKUP(Calendrier!$A8,Congès!$A$2:$C$14,3,FALSE)),1,"") | ... GE8: =IF(AND(GE$1>=VLOOKUP(Calendrier!$A8,Congès!$A$2:$C$14,2,FALSE),Calendrier!GE$1<=VLOOKUP(Calendrier!$A8,Congès!$A$2:$C$14,3,FALSE)),1,"")
A9: Personne 08 | B9: =IF(AND(B$1>=VLOOKUP(Calendrier!$A9,Congès!$A$2:$C$14,2,FALSE),Calendrier!B$1<=VLOOKUP(Calendrier!$A9,Congès!$A$2:$C$14,3,FALSE)),1,"") | C9: =IF(AND(C$1>=VLOOKUP(Calendrier!$A9,Congès!$A$2:$C$14,2,FALSE),Calendrier!C$1<=VLOOKUP(Calendrier!$A9,Congès!$A$2:$C$14,3,FALSE)),1,"") | D9: =IF(AND(D$1>=VLOOKUP(Calendrier!$A9,Congès!$A$2:$C$14,2,FALSE),Calendrier!D$1<=VLOOKUP(Calendrier!$A9,Congès!$A$2:$C$14,3,FALSE)),1,"") | E9: =IF(AND(E$1>=VLOOKUP(Calendrier!$A9,Congès!$A$2:$C$14,2,FALSE),Calendrier!E$1<=VLOOKUP(Calendrier!$A9,Congès!$A$2:$C$14,3,FALSE)),1,"") | F9: =IF(AND(F$1>=VLOOKUP(Calendrier!$A9,Congès!$A$2:$C$14,2,FALSE),Calendrier!F$1<=VLOOKUP(Calendrier!$A9,Congès!$A$2:$C$14,3,FALSE)),1,"") | G9: =IF(AND(G$1>=VLOOKUP(Calendrier!$A9,Congès!$A$2:$C$14,2,FALSE),Calendrier!G$1<=VLOOKUP(Calendrier!$A9,Congès!$A$2:$C$14,3,FALSE)),1,"") | H9: =IF(AND(H$1>=VLOOKUP(Calendrier!$A9,Congès!$A$2:$C$14,2,FALSE),Calendrier!H$1<=VLOOKUP(Calendrier!$A9,Congès!$A$2:$C$14,3,FALSE)),1,"") | I9: =IF(AND(I$1>=VLOOKUP(Calendrier!$A9,Congès!$A$2:$C$14,2,FALSE),Calendrier!I$1<=VLOOKUP(Calendrier!$A9,Congès!$A$2:$C$14,3,FALSE)),1,"") | ... GE9: =IF(AND(GE$1>=VLOOKUP(Calendrier!$A9,Congès!$A$2:$C$14,2,FALSE),Calendrier!GE$1<=VLOOKUP(Calendrier!$A9,Congès!$A$2:$C$14,3,FALSE)),1,"")
A10: Personne 09 | B10: =IF(AND(B$1>=VLOOKUP(Calendrier!$A10,Congès!$A$2:$C$14,2,FALSE),Calendrier!B$1<=VLOOKUP(Calendrier!$A10,Congès!$A$2:$C$14,3,FALSE)),1,"") | C10: =IF(AND(C$1>=VLOOKUP(Calendrier!$A10,Congès!$A$2:$C$14,2,FALSE),Calendrier!C$1<=VLOOKUP(Calendrier!$A10,Congès!$A$2:$C$14,3,FALSE)),1,"") | D10: =IF(AND(D$1>=VLOOKUP(Calendrier!$A10,Congès!$A$2:$C$14,2,FALSE),Calendrier!D$1<=VLOOKUP(Calendrier!$A10,Congès!$A$2:$C$14,3,FALSE)),1,"") | E10: =IF(AND(E$1>=VLOOKUP(Calendrier!$A10,Congès!$A$2:$C$14,2,FALSE),Calendrier!E$1<=VLOOKUP(Calendrier!$A10,Congès!$A$2:$C$14,3,FALSE)),1,"") | F10: =IF(AND(F$1>=VLOOKUP(Calendrier!$A10,Congès!$A$2:$C$14,2,FALSE),Calendrier!F$1<=VLOOKUP(Calendrier!$A10,Congès!$A$2:$C$14,3,FALSE)),1,"") | G10: =IF(AND(G$1>=VLOOKUP(Calendrier!$A10,Congès!$A$2:$C$14,2,FALSE),Calendrier!G$1<=VLOOKUP(Calendrier!$A10,Congès!$A$2:$C$14,3,FALSE)),1,"") | H10: =IF(AND(H$1>=VLOOKUP(Calendrier!$A10,Congès!$A$2:$C$14,2,FALSE),Calendrier!H$1<=VLOOKUP(Calendrier!$A10,Congès!$A$2:$C$14,3,FALSE)),1,"") | I10: =IF(AND(I$1>=VLOOKUP(Calendrier!$A10,Congès!$A$2:$C$14,2,FALSE),Calendrier!I$1<=VLOOKUP(Calendrier!$A10,Congès!$A$2:$C$14,3,FALSE)),1,"") | ... GE10: =IF(AND(GE$1>=VLOOKUP(Calendrier!$A10,Congès!$A$2:$C$14,2,FALSE),Calendrier!GE$1<=VLOOKUP(Calendrier!$A10,Congès!$A$2:$C$14,3,FALSE)),1,"")
A11: Personne 10 | B11: =IF(AND(B$1>=VLOOKUP(Calendrier!$A11,Congès!$A$2:$C$14,2,FALSE),Calendrier!B$1<=VLOOKUP(Calendrier!$A11,Congès!$A$2:$C$14,3,FALSE)),1,"") | C11: =IF(AND(C$1>=VLOOKUP(Calendrier!$A11,Congès!$A$2:$C$14,2,FALSE),Calendrier!C$1<=VLOOKUP(Calendrier!$A11,Congès!$A$2:$C$14,3,FALSE)),1,"") | D11: =IF(AND(D$1>=VLOOKUP(Calendrier!$A11,Congès!$A$2:$C$14,2,FALSE),Calendrier!D$1<=VLOOKUP(Calendrier!$A11,Congès!$A$2:$C$14,3,FALSE)),1,"") | E11: =IF(AND(E$1>=VLOOKUP(Calendrier!$A11,Congès!$A$2:$C$14,2,FALSE),Calendrier!E$1<=VLOOKUP(Calendrier!$A11,Congès!$A$2:$C$14,3,FALSE)),1,"") | F11: =IF(AND(F$1>=VLOOKUP(Calendrier!$A11,Congès!$A$2:$C$14,2,FALSE),Calendrier!F$1<=VLOOKUP(Calendrier!$A11,Congès!$A$2:$C$14,3,FALSE)),1,"") | G11: =IF(AND(G$1>=VLOOKUP(Calendrier!$A11,Congès!$A$2:$C$14,2,FALSE),Calendrier!G$1<=VLOOKUP(Calendrier!$A11,Congès!$A$2:$C$14,3,FALSE)),1,"") | H11: =IF(AND(H$1>=VLOOKUP(Calendrier!$A11,Congès!$A$2:$C$14,2,FALSE),Calendrier!H$1<=VLOOKUP(Calendrier!$A11,Congès!$A$2:$C$14,3,FALSE)),1,"") | I11: =IF(AND(I$1>=VLOOKUP(Calendrier!$A11,Congès!$A$2:$C$14,2,FALSE),Calendrier!I$1<=VLOOKUP(Calendrier!$A11,Congès!$A$2:$C$14,3,FALSE)),1,"") | ... GE11: =IF(AND(GE$1>=VLOOKUP(Calendrier!$A11,Congès!$A$2:$C$14,2,FALSE),Calendrier!GE$1<=VLOOKUP(Calendrier!$A11,Congès!$A$2:$C$14,3,FALSE)),1,"")
