Workbook

Sheet donnees
A2: =B2&"_"&COUNTIF($B$2:B2,B2) -> Totoizi_1 | B2: =C2:C324&D2:D324 -> Totoizi | C2: Toto | D2: izi | E2: 09/07/2020 | J2: Nb Occurences | K2: =COUNTIF(#REF!,#REF!) -> #REF!
A3: =B3&"_"&COUNTIF($B$2:B3,B3) -> Totoizi_2 | B3: =C3:C327&D3:D327 -> Totoizi | C3: Toto | D3: izi | E3: 07/08/2020 | I3: =MIN(G3:G3) -> 0
A4: =B4&"_"&COUNTIF($B$2:B4,B4) -> Totoizi_3 | B4: =C4:C330&D4:D330 -> Totoizi | C4: Toto | D4: izi | E4: 07/08/2020
A5: =B5&"_"&COUNTIF($B$2:B5,B5) -> Totoizi_4 | B5: =C5:C343&D5:D343 -> Totoizi | C5: Toto | D5: izi | E5: 10/08/2020
A6: =B6&"_"&COUNTIF($B$2:B6,B6) -> Totoizi_5 | B6: =C6:C352&D6:D352 -> Totoizi | C6: Toto | D6: izi | E6: 10/08/2020
A7: =B7&"_"&COUNTIF($B$2:B7,B7) -> Totoizi_6 | B7: =C7:C364&D7:D364 -> Totoizi | C7: Toto | D7: izi | E7: 30/06/2020
A8: =B8&"_"&COUNTIF($B$2:B8,B8) -> Totoizi_7 | B8: =C8:C365&D8:D365 -> Totoizi | C8: Toto | D8: izi | E8: 10/08/2020
A9: =B9&"_"&COUNTIF($B$2:B9,B9) -> Totoizi_8 | B9: =C9:C367&D9:D367 -> Totoizi | C9: Toto | D9: izi | E9: 10/08/2020
A10: =B10&"_"&COUNTIF($B$2:B10,B10) -> Totoizi_9 | B10: =C10:C370&D10:D370 -> Totoizi | C10: Toto | D10: izi | E10: 28/07/2020
A11: =B11&"_"&COUNTIF($B$2:B11,B11) -> Totoizi_10 | B11: =C11:C375&D11:D375 -> Totoizi | C11: Toto | D11: izi | E11: 30/06/2020
A12: =B12&"_"&COUNTIF($B$2:B12,B12) -> Totoizi_11 | B12: =C12:C378&D12:D378 -> Totoizi | C12: Toto | D12: izi | E12: 01/07/2020
A13: =B13&"_"&COUNTIF($B$2:B13,B13) -> Totoizi_12 | B13: =C13:C379&D13:D379 -> Totoizi | C13: Toto | D13: izi | E13: 10/08/2020
A14: =B14&"_"&COUNTIF($B$2:B14,B14) -> Totoizi_13 | B14: =C14:C380&D14:D380 -> Totoizi | C14: Toto | D14: izi | E14: 28/07/2020
A15: =B15&"_"&COUNTIF($B$2:B15,B15) -> Totoizi_14 | B15: =C15:C381&D15:D381 -> Totoizi | C15: Toto | D15: izi | E15: 10/08/2020
A16: =B16&"_"&COUNTIF($B$2:B16,B16) -> Totoizi_15 | B16: =C16:C382&D16:D382 -> Totoizi | C16: Toto | D16: izi | E16: 10/08/2020
A17: =B17&"_"&COUNTIF($B$2:B17,B17) -> Totoizi_16 | B17: =C17:C384&D17:D384 -> Totoizi | C17: Toto | D17: izi | E17: 10/08/2020
A18: =B18&"_"&COUNTIF($B$2:B18,B18) -> Totoizi_17 | B18: =C18:C386&D18:D386 -> Totoizi | C18: Toto | D18: izi | E18: 10/08/2020
A19: =B19&"_"&COUNTIF($B$2:B19,B19) -> Totoizi_18 | B19: =C19:C389&D19:D389 -> Totoizi | C19: Toto | D19: izi | E19: 28/07/2020
A20: =B20&"_"&COUNTIF($B$2:B20,B20) -> Totoizi_19 | B20: =C20:C393&D20:D393 -> Totoizi | C20: Toto | D20: izi | E20: 10/07/2020
A21: =B21&"_"&COUNTIF($B$2:B21,B21) -> Totoizi_20 | B21: =C21:C396&D21:D396 -> Totoizi | C21: Toto | D21: izi | E21: 10/08/2020
A22: =B22&"_"&COUNTIF($B$2:B22,B22) -> Totoizi_21 | B22: =C22:C399&D22:D399 -> Totoizi | C22: Toto | D22: izi | E22: 16/07/2020
A23: =B23&"_"&COUNTIF($B$2:B23,B23) -> Totoizi_22 | B23: =C23:C400&D23:D400 -> Totoizi | C23: Toto | D23: izi | E23: 28/07/2020
A24: =B24&"_"&COUNTIF($B$2:B24,B24) -> Totoizi_23 | B24: =C24:C402&D24:D402 -> Totoizi | C24: Toto | D24: izi | E24: 10/08/2020
A25: =B25&"_"&COUNTIF($B$2:B25,B25) -> Totoizi_24 | B25: =C25:C404&D25:D404 -> Totoizi | C25: Toto | D25: izi | E25: 15/07/2020
A26: =B26&"_"&COUNTIF($B$2:B26,B26) -> Totoizi_25 | B26: =C26:C408&D26:D408 -> Totoizi | C26: Toto | D26: izi | E26: 10/08/2020
A27: =B27&"_"&COUNTIF($B$2:B27,B27) -> Totoizi_26 | B27: =C27:C409&D27:D409 -> Totoizi | C27: Toto | D27: izi | E27: 17/07/2020
A28: =B28&"_"&COUNTIF($B$2:B28,B28) -> Totoizi_27 | B28: =C28:C411&D28:D411 -> Totoizi | C28: Toto | D28: izi | E28: 10/08/2020
A29: =B29&"_"&COUNTIF($B$2:B29,B29) -> Totoizi_28 | B29: =C29:C414&D29:D414 -> Totoizi | C29: Toto | D29: izi | E29: 29/07/2020
A30: =B30&"_"&COUNTIF($B$2:B30,B30) -> Totoizi_29 | B30: =C30:C415&D30:D415 -> Totoizi | C30: Toto | D30: izi | E30: 29/07/2020
A31: =B31&"_"&COUNTIF($B$2:B31,B31) -> Totoizi_30 | B31: =C31:C416&D31:D416 -> Totoizi | C31: Toto | D31: izi | E31: 15/07/2020
A32: =B32&"_"&COUNTIF($B$2:B32,B32) -> Totoizi_31 | B32: =C32:C419&D32:D419 -> Totoizi | C32: Toto | D32: izi | E32: 29/07/2020
A33: =B33&"_"&COUNTIF($B$2:B33,B33) -> Totoizi_32 | B33: =C33:C420&D33:D420 -> Totoizi | C33: Toto | D33: izi | E33: 31/07/2020
A34: =B34&"_"&COUNTIF($B$2:B34,B34) -> Totoizi_33 | B34: =C34:C421&D34:D421 -> Totoizi | C34: Toto | D34: izi | E34: 29/07/2020
A35: =B35&"_"&COUNTIF($B$2:B35,B35) -> Totoizi_34 | B35: =C35:C422&D35:D422 -> Totoizi | C35: Toto | D35: izi | E35: 29/07/2020
A36: =B36&"_"&COUNTIF($B$2:B36,B36) -> Totoizi_35 | B36: =C36:C424&D36:D424 -> Totoizi | C36: Toto | D36: izi | E36: 29/07/2020
A37: =B37&"_"&COUNTIF($B$2:B37,B37) -> Totoizi_36 | B37: =C37:C425&D37:D425 -> Totoizi | C37: Toto | D37: izi | E37: 21/07/2020
A38: =B38&"_"&COUNTIF($B$2:B38,B38) -> Totoizi_37 | B38: =C38:C426&D38:D426 -> Totoizi | C38: Toto | D38: izi | E38: 29/07/2020
A39: =B39&"_"&COUNTIF($B$2:B39,B39) -> Totoizi_38 | B39: =C39:C427&D39:D427 -> Totoizi | C39: Toto | D39: izi | E39: 29/07/2020
A40: =B40&"_"&COUNTIF($B$2:B40,B40) -> Totoizi_39 | B40: =C40:C430&D40:D430 -> Totoizi | C40: Toto | D40: izi | E40: 30/07/2020
A41: =B41&"_"&COUNTIF($B$2:B41,B41) -> Totoizi_40 | B41: =C41:C431&D41:D431 -> Totoizi | C41: Toto | D41: izi | E41: 30/07/2020
...

Sheet TEST
G3: recherche | H3: Totoiza
K4: Nb Occurences | L4: =COUNTIF(donnees!$B$2:$B$202,H3) -> 84
G6: Occurrences | H6: Dates
G7: 1 | H7: =IFERROR(VLOOKUP($H$3&"_"&G7,donnees!A2:E195,5,0),"") -> 21/07/2020 | M7: Date : | N7: =MIN(H7:H1010) -> 0
G8: 2 | H8: =IFERROR(VLOOKUP($H$3&"_"&G8,donnees!A3:E196,5,0),"") -> 04/08/2020
G9: 3 | H9: =IFERROR(VLOOKUP($H$3&"_"&G9,donnees!A4:E197,5,0),"") -> 07/07/2020
G10: 4 | H10: =IFERROR(VLOOKUP($H$3&"_"&G10,donnees!A5:E198,5,0),"") -> 04/08/2020
G11: 5 | H11: =IFERROR(VLOOKUP($H$3&"_"&G11,donnees!A6:E199,5,0),"") -> 09/07/2020
G12: 6 | H12: =IFERROR(VLOOKUP($H$3&"_"&G12,donnees!A7:E200,5,0),"") -> 21/07/2020
G13: 7 | H13: =IFERROR(VLOOKUP($H$3&"_"&G13,donnees!A8:E201,5,0),"") -> 21/07/2020
G14: 8 | H14: =IFERROR(VLOOKUP($H$3&"_"&G14,donnees!A9:E202,5,0),"") -> 21/07/2020
G15: 9 | H15: =IFERROR(VLOOKUP($H$3&"_"&G15,donnees!A10:E203,5,0),"") -> 21/07/2020
G16: 10 | H16: =IFERROR(VLOOKUP($H$3&"_"&G16,donnees!A11:E204,5,0),"") -> 21/07/2020
G17: 11 | H17: =IFERROR(VLOOKUP($H$3&"_"&G17,donnees!A12:E205,5,0),"") -> 22/07/2020
G18: 12 | H18: =IFERROR(VLOOKUP($H$3&"_"&G18,donnees!A13:E206,5,0),"") -> 21/07/2020
G19: 13 | H19: =IFERROR(VLOOKUP($H$3&"_"&G19,donnees!A14:E207,5,0),"") -> 11/06/2020
... G1016: 1010 | H1016: =IFERROR(VLOOKUP($H$3&"_"&G1016,donnees!A1011:E1204,5,0),"")
