Workbook

Sheet donnees
A2: =B2&"_"&COUNTIF($B$2:B2,B2) -> Totoizi_1 | B2: =C2:C324&D2:D324 -> Totoizi | C2: Toto | D2: izi | E2: 09/07/2020 | J2: Nb Occurences | K2: =COUNTIF(#REF!,#REF!) -> #REF!
A3: =B3&"_"&COUNTIF($B$2:B3,B3) -> Totoizi_2 | B3: =C3:C327&D3:D327 -> Totoizi | C3: Toto | D3: izi | E3: 07/08/2020 | I3: =MIN(G3:G3) -> 0
A4: =B4&"_"&COUNTIF($B$2:B4,B4) -> Totoizi_3 | B4: =C4:C330&D4:D330 -> Totoizi | C4: Toto | D4: izi | E4: 07/08/2020
A5: =B5&"_"&COUNTIF($B$2:B5,B5) -> Totoizi_4 | B5: =C5:C343&D5:D343 -> Totoizi | C5: Toto | D5: izi | E5: 10/08/2020
A6: =B6&"_"&COUNTIF($B$2:B6,B6) -> Totoizi_5 | B6: =C6:C352&D6:D352 -> Totoizi | C6: Toto | D6: izi | E6: 10/08/2020
A7: =B7&"_"&COUNTIF($B$2:B7,B7) -> Totoizi_6 | B7: =C7:C364&D7:D364 -> Totoizi | C7: Toto | D7: izi | E7: 30/06/2020
A8: =B8&"_"&COUNTIF($B$2:B8,B8) -> Totoizi_7 | B8: =C8:C365&D8:D365 -> Totoizi | C8: Toto | D8: izi | E8: 10/08/2020
A9: =B9&"_"&COUNTIF($B$2:B9,B9) -> Totoizi_8 | B9: =C9:C367&D9:D367 -> Totoizi | C9: Toto | D9: izi | E9: 10/08/2020
A10: =B10&"_"&COUNTIF($B$2:B10,B10) -> Totoizi_9 | B10: =C10:C370&D10:D370 -> Totoizi | C10: Toto | D10: izi | E10: 28/07/2020
A11: =B11&"_"&COUNTIF($B$2:B11,B11) -> Totoizi_10 | B11: =C11:C375&D11:D375 -> Totoizi | C11: Toto | D11: izi | E11: 30/06/2020
A12: =B12&"_"&COUNTIF($B$2:B12,B12) -> Totoizi_11 | B12: =C12:C378&D12:D378 -> Totoizi | C12: Toto | D12: izi | E12: 01/07/2020
A13: =B13&"_"&COUNTIF($B$2:B13,B13) -> Totoizi_12 | B13: =C13:C379&D13:D379 -> Totoizi | C13: Toto | D13: izi | E13: 10/08/2020
A14: =B14&"_"&COUNTIF($B$2:B14,B14) -> Totoizi_13 | B14: =C14:C380&D14:D380 -> Totoizi | C14: Toto | D14: izi | E14: 28/07/2020
A15: =B15&"_"&COUNTIF($B$2:B15,B15) -> Totoizi_14 | B15: =C15:C381&D15:D381 -> Totoizi | C15: Toto | D15: izi | E15: 10/08/2020
A16: =B16&"_"&COUNTIF($B$2:B16,B16) -> Totoizi_15 | B16: =C16:C382&D16:D382 -> Totoizi | C16: Toto | D16: izi | E16: 10/08/2020
A17: =B17&"_"&COUNTIF($B$2:B17,B17) -> Totoizi_16 | B17: =C17:C384&D17:D384 -> Totoizi | C17: Toto | D17: izi | E17: 10/08/2020
A18: =B18&"_"&COUNTIF($B$2:B18,B18) -> Totoizi_17 | B18: =C18:C386&D18:D386 -> Totoizi | C18: Toto | D18: izi | E18: 10/08/2020
A19: =B19&"_"&COUNTIF($B$2:B19,B19) -> Totoizi_18 | B19: =C19:C389&D19:D389 -> Totoizi | C19: Toto | D19: izi | E19: 28/07/2020
A20: =B20&"_"&COUNTIF($B$2:B20,B20) -> Totoizi_19 | B20: =C20:C393&D20:D393 -> Totoizi | C20: Toto | D20: izi | E20: 10/07/2020
A21: =B21&"_"&COUNTIF($B$2:B21,B21) -> Totoizi_20 | B21: =C21:C396&D21:D396 -> Totoizi | C21: Toto | D21: izi | E21: 10/08/2020
A22: =B22&"_"&COUNTIF($B$2:B22,B22) -> Totoizi_21 | B22: =C22:C399&D22:D399 -> Totoizi | C22: Toto | D22: izi | E22: 16/07/2020
A23: =B23&"_"&COUNTIF($B$2:B23,B23) -> Totoizi_22 | B23: =C23:C400&D23:D400 -> Totoizi | C23: Toto | D23: izi | E23: 28/07/2020
A24: =B24&"_"&COUNTIF($B$2:B24,B24) -> Totoizi_23 | B24: =C24:C402&D24:D402 -> Totoizi | C24: Toto | D24: izi | E24: 10/08/2020
A25: =B25&"_"&COUNTIF($B$2:B25,B25) -> Totoizi_24 | B25: =C25:C404&D25:D404 -> Totoizi | C25: Toto | D25: izi | E25: 15/07/2020
A26: =B26&"_"&COUNTIF($B$2:B26,B26) -> Totoizi_25 | B26: =C26:C408&D26:D408 -> Totoizi | C26: Toto | D26: izi | E26: 10/08/2020
A27: =B27&"_"&COUNTIF($B$2:B27,B27) -> Totoizi_26 | B27: =C27:C409&D27:D409 -> Totoizi | C27: Toto | D27: izi | E27: 17/07/2020
A28: =B28&"_"&COUNTIF($B$2:B28,B28) -> Totoizi_27 | B28: =C28:C411&D28:D411 -> Totoizi | C28: Toto | D28: izi | E28: 10/08/2020
A29: =B29&"_"&COUNTIF($B$2:B29,B29) -> Totoizi_28 | B29: =C29:C414&D29:D414 -> Totoizi | C29: Toto | D29: izi | E29: 29/07/2020
A30: =B30&"_"&COUNTIF($B$2:B30,B30) -> Totoizi_29 | B30: =C30:C415&D30:D415 -> Totoizi | C30: Toto | D30: izi | E30: 29/07/2020
A31: =B31&"_"&COUNTIF($B$2:B31,B31) -> Totoizi_30 | B31: =C31:C416&D31:D416 -> Totoizi | C31: Toto | D31: izi | E31: 15/07/2020
A32: =B32&"_"&COUNTIF($B$2:B32,B32) -> Totoizi_31 | B32: =C32:C419&D32:D419 -> Totoizi | C32: Toto | D32: izi | E32: 29/07/2020
A33: =B33&"_"&COUNTIF($B$2:B33,B33) -> Totoizi_32 | B33: =C33:C420&D33:D420 -> Totoizi | C33: Toto | D33: izi | E33: 31/07/2020
A34: =B34&"_"&COUNTIF($B$2:B34,B34) -> Totoizi_33 | B34: =C34:C421&D34:D421 -> Totoizi | C34: Toto | D34: izi | E34: 29/07/2020
A35: =B35&"_"&COUNTIF($B$2:B35,B35) -> Totoizi_34 | B35: =C35:C422&D35:D422 -> Totoizi | C35: Toto | D35: izi | E35: 29/07/2020
A36: =B36&"_"&COUNTIF($B$2:B36,B36) -> Totoizi_35 | B36: =C36:C424&D36:D424 -> Totoizi | C36: Toto | D36: izi | E36: 29/07/2020
A37: =B37&"_"&COUNTIF($B$2:B37,B37) -> Totoizi_36 | B37: =C37:C425&D37:D425 -> Totoizi | C37: Toto | D37: izi | E37: 21/07/2020
A38: =B38&"_"&COUNTIF($B$2:B38,B38) -> Totoizi_37 | B38: =C38:C426&D38:D426 -> Totoizi | C38: Toto | D38: izi | E38: 29/07/2020
A39: =B39&"_"&COUNTIF($B$2:B39,B39) -> Totoizi_38 | B39: =C39:C427&D39:D427 -> Totoizi | C39: Toto | D39: izi | E39: 29/07/2020
A40: =B40&"_"&COUNTIF($B$2:B40,B40) -> Totoizi_39 | B40: =C40:C430&D40:D430 -> Totoizi | C40: Toto | D40: izi | E40: 30/07/2020
A41: =B41&"_"&COUNTIF($B$2:B41,B41) -> Totoizi_40 | B41: =C41:C431&D41:D431 -> Totoizi | C41: Toto | D41: izi | E41: 30/07/2020
A42: =B42&"_"&COUNTIF($B$2:B42,B42) -> Totoizi_41 | B42: =C42:C435&D42:D435 -> Totoizi | C42: Toto | D42: izi | E42: 30/07/2020
A43: =B43&"_"&COUNTIF($B$2:B43,B43) -> Totoizi_42 | B43: =C43:C436&D43:D436 -> Totoizi | C43: Toto | D43: izi | E43: 30/07/2020
A44: =B44&"_"&COUNTIF($B$2:B44,B44) -> Totoizi_43 | B44: =C44:C438&D44:D438 -> Totoizi | C44: Toto | D44: izi | E44: 03/08/2020
A45: =B45&"_"&COUNTIF($B$2:B45,B45) -> Totoizi_44 | B45: =C45:C439&D45:D439 -> Totoizi | C45: Toto | D45: izi | E45: 17/07/2020
A46: =B46&"_"&COUNTIF($B$2:B46,B46) -> Totoizi_45 | B46: =C46:C440&D46:D440 -> Totoizi | C46: Toto | D46: izi | E46: 20/07/2020
A47: =B47&"_"&COUNTIF($B$2:B47,B47) -> Totoizi_46 | B47: =C47:C443&D47:D443 -> Totoizi | C47: Toto | D47: izi | E47: 31/07/2020
A48: =B48&"_"&COUNTIF($B$2:B48,B48) -> Totoizi_47 | B48: =C48:C444&D48:D444 -> Totoizi | C48: Toto | D48: izi | E48: 15/07/2020
A49: =B49&"_"&COUNTIF($B$2:B49,B49) -> Totoizi_48 | B49: =C49:C449&D49:D449 -> Totoizi | C49: Toto | D49: izi | E49: 01/07/2020
A50: =B50&"_"&COUNTIF($B$2:B50,B50) -> Totoizi_49 | B50: =C50:C451&D50:D451 -> Totoizi | C50: Toto | D50: izi | E50: 01/07/2020
A51: =B51&"_"&COUNTIF($B$2:B51,B51) -> Totoizi_50 | B51: =C51:C453&D51:D453 -> Totoizi | C51: Toto | D51: izi | E51: 16/07/2020
A52: =B52&"_"&COUNTIF($B$2:B52,B52) -> Totoizi_51 | B52: =C52:C469&D52:D469 -> Totoizi | C52: Toto | D52: izi | E52: 30/07/2020
A53: =B53&"_"&COUNTIF($B$2:B53,B53) -> Totoizi_52 | B53: =C53:C470&D53:D470 -> Totoizi | C53: Toto | D53: izi | E53: 09/07/2020
A54: =B54&"_"&COUNTIF($B$2:B54,B54) -> Totoizi_53 | B54: =C54:C472&D54:D472 -> Totoizi | C54: Toto | D54: izi | E54: 30/07/2020
A55: =B55&"_"&COUNTIF($B$2:B55,B55) -> Totoizi_54 | B55: =C55:C473&D55:D473 -> Totoizi | C55: Toto | D55: izi | E55: 16/07/2020
A56: =B56&"_"&COUNTIF($B$2:B56,B56) -> Totoizi_55 | B56: =C56:C477&D56:D477 -> Totoizi | C56: Toto | D56: izi | E56: 30/07/2020
A57: =B57&"_"&COUNTIF($B$2:B57,B57) -> Totoizi_56 | B57: =C57:C478&D57:D478 -> Totoizi | C57: Toto | D57: izi | E57: 29/06/2020
A58: =B58&"_"&COUNTIF($B$2:B58,B58) -> Totoizi_57 | B58: =C58:C480&D58:D480 -> Totoizi | C58: Toto | D58: izi | E58: 07/07/2020
A59: =B59&"_"&COUNTIF($B$2:B59,B59) -> Totoizi_58 | B59: =C59:C484&D59:D484 -> Totoizi | C59: Toto | D59: izi | E59: 21/07/2020
A60: =B60&"_"&COUNTIF($B$2:B60,B60) -> Totoizi_59 | B60: =C60:C485&D60:D485 -> Totoizi | C60: Toto | D60: izi | E60: 31/07/2020
A61: =B61&"_"&COUNTIF($B$2:B61,B61) -> Totoizi_60 | B61: =C61:C486&D61:D486 -> Totoizi | C61: Toto | D61: izi | E61: 20/07/2020
A62: =B62&"_"&COUNTIF($B$2:B62,B62) -> Totoizi_61 | B62: =C62:C487&D62:D487 -> Totoizi | C62: Toto | D62: izi | E62: 31/07/2020
A63: =B63&"_"&COUNTIF($B$2:B63,B63) -> Totoizi_62 | B63: =C63:C492&D63:D492 -> Totoizi | C63: Toto | D63: izi | E63: 03/08/2020
A64: =B64&"_"&COUNTIF($B$2:B64,B64) -> Totoizi_63 | B64: =C64:C493&D64:D493 -> Totoizi | C64: Toto | D64: izi | E64: 03/08/2020
A65: =B65&"_"&COUNTIF($B$2:B65,B65) -> Totoizi_64 | B65: =C65:C494&D65:D494 -> Totoizi | C65: Toto | D65: izi | E65: 04/08/2020
A66: =B66&"_"&COUNTIF($B$2:B66,B66) -> Totoizi_65 | B66: =C66:C496&D66:D496 -> Totoizi | C66: Toto | D66: izi | E66: 04/08/2020
A67: =B67&"_"&COUNTIF($B$2:B67,B67) -> Totoizi_66 | B67: =C67:C498&D67:D498 -> Totoizi | C67: Toto | D67: izi | E67: 04/08/2020
A68: =B68&"_"&COUNTIF($B$2:B68,B68) -> Totoizi_67 | B68: =C68:C501&D68:D501 -> Totoizi | C68: Toto | D68: izi | E68: 03/08/2020
A69: =B69&"_"&COUNTIF($B$2:B69,B69) -> Totoizi_68 | B69: =C69:C505&D69:D505 -> Totoizi | C69: Toto | D69: izi | E69: 08/07/2020
A70: =B70&"_"&COUNTIF($B$2:B70,B70) -> Totoizi_69 | B70: =C70:C512&D70:D512 -> Totoizi | C70: Toto | D70: izi | E70: 22/07/2020
A71: =B71&"_"&COUNTIF($B$2:B71,B71) -> Totoizi_70 | B71: =C71:C513&D71:D513 -> Totoizi | C71: Toto | D71: izi | E71: 04/08/2020
A72: =B72&"_"&COUNTIF($B$2:B72,B72) -> Totoizi_71 | B72: =C72:C515&D72:D515 -> Totoizi | C72: Toto | D72: izi | E72: 04/08/2020
A73: =B73&"_"&COUNTIF($B$2:B73,B73) -> Totoizi_72 | B73: =C73:C516&D73:D516 -> Totoizi | C73: Toto | D73: izi | E73: 04/08/2020
A74: =B74&"_"&COUNTIF($B$2:B74,B74) -> Totoizi_73 | B74: =C74:C517&D74:D517 -> Totoizi | C74: Toto | D74: izi | E74: 08/07/2020
A75: =B75&"_"&COUNTIF($B$2:B75,B75) -> Totoizi_74 | B75: =C75:C518&D75:D518 -> Totoizi | C75: Toto | D75: izi | E75: 23/07/2020
A76: =B76&"_"&COUNTIF($B$2:B76,B76) -> Totoizi_75 | B76: =C76:C519&D76:D519 -> Totoizi | C76: Toto | D76: izi | E76: 04/08/2020
A77: =B77&"_"&COUNTIF($B$2:B77,B77) -> Totoizi_76 | B77: =C77:C520&D77:D520 -> Totoizi | C77: Toto | D77: izi | E77: 04/08/2020
A78: =B78&"_"&COUNTIF($B$2:B78,B78) -> Totoizi_77 | B78: =C78:C521&D78:D521 -> Totoizi | C78: Toto | D78: izi | E78: 23/07/2020
A79: =B79&"_"&COUNTIF($B$2:B79,B79) -> Totoizi_78 | B79: =C79:C522&D79:D522 -> Totoizi | C79: Toto | D79: izi | E79: 04/08/2020
A80: =B80&"_"&COUNTIF($B$2:B80,B80) -> Totoizi_79 | B80: =C80:C526&D80:D526 -> Totoizi | C80: Toto | D80: izi | E80: 23/07/2020
A81: =B81&"_"&COUNTIF($B$2:B81,B81) -> Totoizi_80 | B81: =C81:C528&D81:D528 -> Totoizi | C81: Toto | D81: izi | E81: 22/07/2020
A82: =B82&"_"&COUNTIF($B$2:B82,B82) -> Totoizi_81 | B82: =C82:C529&D82:D529 -> Totoizi | C82: Toto | D82: izi | E82: 21/07/2020
A83: =B83&"_"&COUNTIF($B$2:B83,B83) -> Totoizi_82 | B83: =C83:C530&D83:D530 -> Totoizi | C83: Toto | D83: izi | E83: 03/08/2020
A84: =B84&"_"&COUNTIF($B$2:B84,B84) -> Totoizi_83 | B84: =C84:C537&D84:D537 -> Totoizi | C84: Toto | D84: izi | E84: 23/07/2020
A85: =B85&"_"&COUNTIF($B$2:B85,B85) -> Totoizi_84 | B85: =C85:C538&D85:D538 -> Totoizi | C85: Toto | D85: izi | E85: 23/07/2020
A86: =B86&"_"&COUNTIF($B$2:B86,B86) -> Totoizi_85 | B86: =C86:C539&D86:D539 -> Totoizi | C86: Toto | D86: izi | E86: 23/07/2020
A87: =B87&"_"&COUNTIF($B$2:B87,B87) -> Totoizi_86 | B87: =C87:C541&D87:D541 -> Totoizi | C87: Toto | D87: izi | E87: 05/08/2020
A88: =B88&"_"&COUNTIF($B$2:B88,B88) -> Totoizi_87 | B88: =C88:C544&D88:D544 -> Totoizi | C88: Toto | D88: izi | E88: 21/07/2020
A89: =B89&"_"&COUNTIF($B$2:B89,B89) -> Totoizi_88 | B89: =C89:C545&D89:D545 -> Totoizi | C89: Toto | D89: izi | E89: 05/08/2020
A90: =B90&"_"&COUNTIF($B$2:B90,B90) -> Totoizi_89 | B90: =C90:C547&D90:D547 -> Totoizi | C90: Toto | D90: izi | E90: 05/08/2020
A91: =B91&"_"&COUNTIF($B$2:B91,B91) -> Totoizi_90 | B91: =C91:C549&D91:D549 -> Totoizi | C91: Toto | D91: izi | E91: 05/08/2020
A92: =B92&"_"&COUNTIF($B$2:B92,B92) -> Totoizi_91 | B92: =C92:C554&D92:D554 -> Totoizi | C92: Toto | D92: izi | E92: 05/08/2020
A93: =B93&"_"&COUNTIF($B$2:B93,B93) -> Totoizi_92 | B93: =C93:C555&D93:D555 -> Totoizi | C93: Toto | D93: izi | E93: 21/07/2020
A94: =B94&"_"&COUNTIF($B$2:B94,B94) -> Totoizi_93 | B94: =C94:C558&D94:D558 -> Totoizi | C94: Toto | D94: izi | E94: 04/08/2020
A95: =B95&"_"&COUNTIF($B$2:B95,B95) -> Totoizi_94 | B95: =C95:C560&D95:D560 -> Totoizi | C95: Toto | D95: izi | E95: 06/08/2020
A96: =B96&"_"&COUNTIF($B$2:B96,B96) -> Totoizi_95 | B96: =C96:C565&D96:D565 -> Totoizi | C96: Toto | D96: izi | E96: 06/08/2020
A97: =B97&"_"&COUNTIF($B$2:B97,B97) -> Totoizi_96 | B97: =C97:C567&D97:D567 -> Totoizi | C97: Toto | D97: izi | E97: 05/08/2020
A98: =B98&"_"&COUNTIF($B$2:B98,B98) -> Totoizi_97 | B98: =C98:C569&D98:D569 -> Totoizi | C98: Toto | D98: izi | E98: 05/08/2020
A99: =B99&"_"&COUNTIF($B$2:B99,B99) -> Totoizi_98 | B99: =C99:C573&D99:D573 -> Totoizi | C99: Toto | D99: izi | E99: 05/08/2020
A100: =B100&"_"&COUNTIF($B$2:B100,B100) -> Totoizi_99 | B100: =C100:C574&D100:D574 -> Totoizi | C100: Toto | D100: izi | E100: 05/08/2020
A101: =B101&"_"&COUNTIF($B$2:B101,B101) -> Totoizi_100 | B101: =C101:C575&D101:D575 -> Totoizi | C101: Toto | D101: izi | E101: 06/08/2020
...

Sheet TEST
G3: recherche | H3: Totoiza
K4: Nb Occurences | L4: =COUNTIF(donnees!$B$2:$B$202,H3) -> 84
G6: Occurrences | H6: Dates
G7: 1 | H7: =IFERROR(VLOOKUP($H$3&"_"&G7,donnees!A2:E195,5,0),"") -> 21/07/2020 | M7: Date : | N7: =MIN(H7:H1010) -> 0
G8: 2 | H8: =IFERROR(VLOOKUP($H$3&"_"&G8,donnees!A3:E196,5,0),"") -> 04/08/2020
G9: 3 | H9: =IFERROR(VLOOKUP($H$3&"_"&G9,donnees!A4:E197,5,0),"") -> 07/07/2020
G10: 4 | H10: =IFERROR(VLOOKUP($H$3&"_"&G10,donnees!A5:E198,5,0),"") -> 04/08/2020
G11: 5 | H11: =IFERROR(VLOOKUP($H$3&"_"&G11,donnees!A6:E199,5,0),"") -> 09/07/2020
G12: 6 | H12: =IFERROR(VLOOKUP($H$3&"_"&G12,donnees!A7:E200,5,0),"") -> 21/07/2020
G13: 7 | H13: =IFERROR(VLOOKUP($H$3&"_"&G13,donnees!A8:E201,5,0),"") -> 21/07/2020
G14: 8 | H14: =IFERROR(VLOOKUP($H$3&"_"&G14,donnees!A9:E202,5,0),"") -> 21/07/2020
G15: 9 | H15: =IFERROR(VLOOKUP($H$3&"_"&G15,donnees!A10:E203,5,0),"") -> 21/07/2020
G16: 10 | H16: =IFERROR(VLOOKUP($H$3&"_"&G16,donnees!A11:E204,5,0),"") -> 21/07/2020
G17: 11 | H17: =IFERROR(VLOOKUP($H$3&"_"&G17,donnees!A12:E205,5,0),"") -> 22/07/2020
G18: 12 | H18: =IFERROR(VLOOKUP($H$3&"_"&G18,donnees!A13:E206,5,0),"") -> 21/07/2020
G19: 13 | H19: =IFERROR(VLOOKUP($H$3&"_"&G19,donnees!A14:E207,5,0),"") -> 11/06/2020
... G1016: 1010 | H1016: =IFERROR(VLOOKUP($H$3&"_"&G1016,donnees!A1011:E1204,5,0),"")
