Workbook
Name ListeBase: '[1]Base alimentaire'!$A$4:$A$357

Sheet BILAN
B2: HOMME | E2: Date: | F2: =TODAY() -> 42816
C4: Poids | D4: 100 | E4: Taille | F4: 1.7 | G4: IMC | H4: =D4/(F4*F4) -> 34.602076 | I4: Kg/m² | K4: CALCUL DU NAP SUR 24H
C6: Age | D6: 65 | K6: Activité | L6: Heure | M6: NAP | N6: Valeur
K7: Sommeil | L7: 8 | M7: 1 | N7: =L7*M7 -> 8
C8: Métabolisme de base | D8: =((1.068*(D4^0.48)*(F4^0.5)*(D6^-0.13))) -> 7.3810301 | E8: Mj | F8: =BILAN!N17 -> 1.4208333 | G8: NAP précalculé | K8: Assise | L8: 13 | M8: 1.5 | N8: =L8*M8 -> 19.5
K9: Repas | L9: 0 | M9: 1.5 | N9: =L9*M9 -> 0
C10: Besoin Energétique Total | D10: =D8*F8 -> 10.487214 | E10: Mj | F10: =D10*1000/4.18 -> 2508.9028 | G10: Kcal | K10: Position debout | L10: 3 | M10: 2.2 | N10: =L10*M10 -> 6.6
K11: Ménage | L11: 0 | M11: 2.2 | N11: =L11*M11 -> 0
C12: Objectif: | D12: Perte de poids | F12: Nouveau besoin énergétique | K12: Activité sportive moyenne | L12: 0 | M12: 3 | N12: =L12*M12 -> 0
C13: Diminution de l'apport en % | D13: 25 | F13: =D10-(D10*D13/100) -> 7.8654102 | G13: Mj | H13: =F13*1000/4.18 -> 1881.6771 | I13: Kcal | K13: Activité marche rapide | L13: 0 | M13: 3.5 | N13: =L13*M13 -> 0
L14: =SUM(L7:L13) -> 24 | N14: =SUM(N7:N13) -> 34.1
B15: Apport Energétique Total
B16: =F13*1000 -> 7865.4102 | C16: % | D16: % | E16: gr | F16: gr
B17: PROTIDES | C17: 10 | D17: 20 | E17: =B16*C17/100/17 -> 46.267119 | F17: =B16*D17/100/17 -> 92.534238 | N17: =N14/L14 -> 1.4208333
B18: apport sécurité | C18: 0.83 | D18: 1.2 | E18: =C18*D4 -> 83 | F18: =D18*D4 -> 120
B19: LIPIDES | C19: 35 | D19: 40 | E19: =B16*C19/100/38 -> 72.444568 | F19: =B16*D19/100/38 -> 82.793792
B20: AGS | C20: 12 | E20: =(C20*B16/100)/38 -> 24.838138
B21: AGMI | C21: 18 | D21: 23 | E21: =(B16*C21/100)/38 -> 37.257206 | F21: =(B16*D21/100)/38 -> 47.60643
B22: AGPI | C22: 5 | E22: =B16*C22/100/38 -> 10.349224
B23: GLUCIDES | C23: 40 | D23: 55 | E23: =B16*C23/100/17 -> 185.06848 | F23: =B16*D23/100/17 -> 254.46915
B24: dont sucre | D24: 10 | F24: =B16*D24/100/17 -> 46.267119
B25: Calcium | F25: 900
B26: Fer | F26: 9
B27: Fibre | F27: 25
B28: Eau | C28: 35 | D28: 50 | E28: =C28*D4 -> 3500 | F28: =D28*D4 -> 5000

Sheet RATION 
B2: Evaluation moyenne - journée type du patient
B6: Poids | C6: Poids | D6: P | E6: L | F6: G | G6: Ca | H6: Fe | I6: FI | J6: AGS | K6: HY | L6: P | M6: L | N6: AGS | O6: G | P6: Ca | Q6: Fe | R6: Fibre | S6: Hydrique
B7: Lait 1/2 écrémé | C7: 0 | D7: 3.2 | E7: 1.6 | F7: 5 | G7: 120 | H7: 0.1 | I7: 0 | J7: 1.2 | K7: 1 | L7: =$C7*D7/100 -> 0 | M7: =$C7*E7/100 -> 0 | N7: =$C7*J7/100 -> 0 | O7: =$C7*F7/100 -> 0 | P7: =$C7*G7/100 -> 0 | Q7: =$C7*H7/100 -> 0 | S7: =C7*K7 -> 0
B8: Lait écrémé | C8: 150 | D8: 3.2 | E8: 0 | F8: 5 | G8: 120 | H8: 0 | I8: 0 | J8: 0 | K8: 1 | L8: =$C8*D8/100 -> 4.8 | M8: =$C8*E8/100 -> 0 | N8: =$C8*J8/100 -> 0 | O8: =$C8*F8/100 -> 7.5 | P8: =$C8*G8/100 -> 180 | Q8: =$C8*H8/100 -> 0 | S8: =C8*K8 -> 150
B9: Lait Entier | C9: 0 | D9: 3.2 | E9: 3.5 | F9: 5 | G9: 120 | H9: 0 | I9: 0 | J9: 2.3 | K9: 1 | L9: =$C9*D9/100 -> 0 | M9: =$C9*E9/100 -> 0 | N9: =$C9*J9/100 -> 0 | O9: =$C9*F9/100 -> 0 | P9: =$C9*G9/100 -> 0 | Q9: =$C9*H9/100 -> 0 | S9: =C9*K9 -> 0
B10: Yaourt Nature | C10: 0 | D10: 4 | E10: 1.6 | F10: 4.8 | G10: 160 | H10: 0.1 | I10: 0 | J10: 1.2 | K10: 0.8 | L10: =$C10*D10/100 -> 0 | M10: =$C10*E10/100 -> 0 | N10: =$C10*J10/100 -> 0 | O10: =$C10*F10/100 -> 0 | P10: =$C10*G10/100 -> 0 | Q10: =$C10*H10/100 -> 0 | S10: =C10*K10 -> 0
B11: Yaourt 0% | C11: 625 | D11: 4 | E11: 0.2 | F11: 4.8 | G11: 160 | H11: 0.1 | I11: 0 | J11: 0 | K11: 0.8 | L11: =$C11*D11/100 -> 25 | M11: =$C11*E11/100 -> 1.25 | N11: =$C11*J11/100 -> 0 | O11: =$C11*F11/100 -> 30 | P11: =$C11*G11/100 -> 1000 | Q11: =$C11*H11/100 -> 0.625 | S11: =C11*K11 -> 500
B12: Fromage Blanc | C12: 0 | D12: 7 | E12: 3.5 | F12: 3.5 | G12: 120 | H12: 0.1 | I12: 0 | J12: 2.3 | K12: 0.7 | L12: =$C12*D12/100 -> 0 | M12: =$C12*E12/100 -> 0 | N12: =$C12*J12/100 -> 0 | O12: =$C12*F12/100 -> 0 | P12: =$C12*G12/100 -> 0 | Q12: =$C12*H12/100 -> 0 | S12: =C12*K12 -> 0
B13: Petit suisse 3,8% | D13: 10 | E13: 3.8 | F13: 3.5 | G13: 120 | H13: 0.1 | I13: 0 | J13: 1.5 | K13: 0.7 | L13: =$C13*D13/100 -> 0 | M13: =$C13*E13/100 -> 0 | N13: =$C13*J13/100 -> 0 | O13: =$C13*F13/100 -> 0 | P13: =$C13*G13/100 -> 0 | Q13: =$C13*H13/100 -> 0 | S13: =C13*K13 -> 0
B14: Fromage Moy. | C14: 0 | D14: 20 | E14: 22 | F14: 0 | G14: 500 | H14: 0.3 | I14: 0 | J14: 14 | K14: 0.5 | L14: =$C14*D14/100 -> 0 | M14: =$C14*E14/100 -> 0 | N14: =$C14*J14/100 -> 0 | O14: =$C14*F14/100 -> 0 | P14: =$C14*G14/100 -> 0 | Q14: =$C14*H14/100 -> 0 | S14: =C14*K14 -> 0
B15: Fromage emmental | C15: 0 | D15: 29 | E15: 29 | F15: 0 | G15: 1100 | H15: 0.8 | I15: 0 | J15: 19 | K15: 0.3 | L15: =$C15*D15/100 -> 0 | M15: =$C15*E15/100 -> 0 | N15: =$C15*J15/100 -> 0 | O15: =$C15*F15/100 -> 0 | P15: =$C15*G15/100 -> 0 | Q15: =$C15*H15/100 -> 0 | S15: =C15*K15 -> 0
B16: Viande | C16: 50 | D16: 18 | E16: 10 | F16: 0 | G16: 15 | H16: 2 | I16: 0 | J16: 4 | K16: 0.7 | L16: =$C16*D16/100 -> 9 | M16: =$C16*E16/100 -> 5 | N16: =$C16*J16/100 -> 2 | O16: =$C16*F16/100 -> 0 | P16: =$C16*G16/100 -> 7.5 | Q16: =$C16*H16/100 -> 1 | S16: =C16*K16 -> 35
B17: Poisson | C17: 30 | D17: 18 | E17: 2 | F17: 0 | G17: 20 | H17: 1.5 | I17: 0 | J17: 0.6 | K17: 0.7 | L17: =$C17*D17/100 -> 5.4 | M17: =$C17*E17/100 -> 0.6 | N17: =$C17*J17/100 -> 0.18 | O17: =$C17*F17/100 -> 0 | P17: =$C17*G17/100 -> 6 | Q17: =$C17*H17/100 -> 0.45 | S17: =C17*K17 -> 21
B18: Œufs | C18: 60 | D18: 12 | E18: 11 | F18: 0 | G18: 55 | H18: 1.5 | I18: 0 | J18: 3.85 | K18: 0.7 | L18: =$C18*D18/100 -> 7.2 | M18: =$C18*E18/100 -> 6.6 | N18: =$C18*J18/100 -> 2.31 | O18: =$C18*F18/100 -> 0 | P18: =$C18*G18/100 -> 33 | Q18: =$C18*H18/100 -> 0.9 | S18: =C18*K18 -> 42
B19: Jambon | C19: 28 | D19: 21 | E19: 3 | F19: 0.6 | G19: 0 | H19: 0 | I19: 0 | J19: 0.9 | K19: 0.7 | L19: =$C19*D19/100 -> 5.88 | M19: =$C19*E19/100 -> 0.84 | N19: =$C19*J19/100 -> 0.252 | O19: =$C19*F19/100 -> 0.168 | P19: =$C19*G19/100 -> 0 | Q19: =$C19*H19/100 -> 0 | S19: =C19*K19 -> 19.6
B20: Abats | C20: 0 | D20: 18 | E20: 5 | F20: 3.5 | G20: 10 | H20: 5 | I20: 0 | J20: 2.25 | K20: 0.7 | L20: =$C20*D20/100 -> 0 | M20: =$C20*E20/100 -> 0 | N20: =$C20*J20/100 -> 0 | O20: =$C20*F20/100 -> 0 | P20: =$C20*G20/100 -> 0 | Q20: =$C20*H20/100 -> 0 | S20: =C20*K20 -> 0
B21: Charcuterie | C21: 0 | D21: 15 | E21: 33 | F21: 2 | G21: 20 | H21: 4 | I21: 0 | J21: 13.5 | K21: 0.6 | L21: =$C21*D21/100 -> 0 | M21: =$C21*E21/100 -> 0 | N21: =$C21*J21/100 -> 0 | O21: =$C21*F21/100 -> 0 | P21: =$C21*G21/100 -> 0 | Q21: =$C21*H21/100 -> 0 | S21: =C21*K21 -> 0
B22: Surimi | C22: 0 | D22: 8.6 | E22: 2.1 | F22: 11.8 | G22: 17 | H22: 0.4 | I22: 0 | J22: 1 | K22: 0 | L22: =$C22*D22/100 -> 0 | M22: =$C22*E22/100 -> 0 | N22: =$C22*J22/100 -> 0 | O22: =$C22*F22/100 -> 0 | P22: =$C22*G22/100 -> 0 | Q22: =$C22*H22/100 -> 0 | S22: =C22*K22 -> 0
B23: Nugget | C23: 0 | D23: 13 | E23: 9 | F23: 13.5 | G23: 0 | H23: 0 | I23: 0 | J23: 1 | K23: 0 | L23: =$C23*D23/100 -> 0 | M23: =$C23*E23/100 -> 0 | N23: =$C23*J23/100 -> 0 | O23: =$C23*F23/100 -> 0 | P23: =$C23*G23/100 -> 0 | Q23: =$C23*H23/100 -> 0 | S23: =C23*K23 -> 0
B24: ww couscous | C24: 300 | D24: 7.6 | E24: 2.1 | F24: 9.8 | G24: 0 | H24: 0 | I24: 1.7 | J24: 0.6 | K24: 0 | L24: =$C24*D24/100 -> 22.8 | M24: =$C24*E24/100 -> 6.3 | N24: =$C24*J24/100 -> 1.8 | O24: =$C24*F24/100 -> 29.4 | P24: =$C24*G24/100 -> 0 | Q24: =$C24*H24/100 -> 0 | S24: =C24*K24 -> 0
B25: Pain | C25: 0 | D25: 8 | E25: 0 | F25: 56 | G25: 20 | H25: 1 | I25: 3.5 | J25: 0 | K25: 0.3 | L25: =$C25*D25/100 -> 0 | M25: =$C25*E25/100 -> 0 | N25: =$C25*J25/100 -> 0 | O25: =$C25*F25/100 -> 0 | P25: =$C25*G25/100 -> 0 | Q25: =$C25*H25/100 -> 0 | R25: =$C25*I25/100 -> 0 | S25: =C25*K25 -> 0
B26: Biscottes | C26: 0 | D26: 22.8 | E26: 6.3 | F26: 29.4 | G26: 0 | H26: 0 | I26: 5.1 | J26: 1.5 | K26: 0.2 | L26: =$C26*D26/100 -> 0 | M26: =$C26*E26/100 -> 0 | N26: =$C26*J26/100 -> 0 | O26: =$C26*F26/100 -> 0 | P26: =$C26*G26/100 -> 0 | Q26: =$C26*H26/100 -> 0 | R26: =$C26*I26/100 -> 0 | S26: =C26*K26 -> 0
B27: weetabix | C27: 75 | D27: 11.5 | E27: 2 | F27: 68.6 | G27: 0 | H27: 0 | I27: 10 | J27: 0.6 | K27: 0 | L27: =$C27*D27/100 -> 8.625 | M27: =$C27*E27/100 -> 1.5 | N27: =$C27*J27/100 -> 0.45 | O27: =$C27*F27/100 -> 51.45 | P27: =$C27*G27/100 -> 0 | Q27: =$C27*H27/100 -> 0 | S27: =C27*K27 -> 0
B28: Farine | C28: 5 | D28: 10 | E28: 1 | F28: 71 | G28: 15 | H28: 1 | I28: 3.5 | J28: 0 | K28: 0 | L28: =$C28*D28/100 -> 0.5 | M28: =$C28*E28/100 -> 0.05 | N28: =$C28*J28/100 -> 0 | O28: =$C28*F28/100 -> 3.55 | P28: =$C28*G28/100 -> 0.75 | Q28: =$C28*H28/100 -> 0.05 | R28: =$C28*I28/100 -> 0.175 | S28: =C28*K28 -> 0
B29: Légumes secs | C29: 0 | D29: 23 | E29: 1 | F29: 50 | G29: 50 | H29: 8 | I29: 15 | J29: 0 | K29: 0.1 | L29: =$C29*D29/100 -> 0 | M29: =$C29*E29/100 -> 0 | N29: =$C29*J29/100 -> 0 | O29: =$C29*F29/100 -> 0 | P29: =$C29*G29/100 -> 0 | Q29: =$C29*H29/100 -> 0 | R29: =$C29*I29/100 -> 0 | S29: =C29*K29 -> 0
B30: Céréales Crues | C30: 20 | D30: 7 | E30: 0 | F30: 75 | G30: 15 | H30: 1.5 | I30: 7 | J30: 0 | K30: 0 | L30: =$C30*D30/100 -> 1.4 | M30: =$C30*E30/100 -> 0 | N30: =$C30*J30/100 -> 0 | O30: =$C30*F30/100 -> 15 | P30: =$C30*G30/100 -> 3 | Q30: =$C30*H30/100 -> 0.3 | R30: =$C30*I30/100 -> 1.4 | S30: =C30*K30 -> 0
B31: Pommes de Terre | C31: 0 | D31: 2 | E31: 0 | F31: 16 | G31: 7 | H31: 0.5 | I31: 1.5 | J31: 0 | K31: 0.6 | L31: =$C31*D31/100 -> 0 | M31: =$C31*E31/100 -> 0 | N31: =$C31*J31/100 -> 0 | O31: =$C31*F31/100 -> 0 | P31: =$C31*G31/100 -> 0 | Q31: =$C31*H31/100 -> 0 | R31: =$C31*I31/100 -> 0 | S31: =C31*K31 -> 0
B32: Légumes | C32: 300 | D32: 1 | E32: 0 | F32: 5 | G32: 40 | H32: 0.6 | I32: 2.5 | J32: 0 | K32: 0.8 | L32: =$C32*D32/100 -> 3 | M32: =$C32*E32/100 -> 0 | N32: =$C32*J32/100 -> 0 | O32: =$C32*F32/100 -> 15 | P32: =$C32*G32/100 -> 120 | Q32: =$C32*H32/100 -> 1.8 | R32: =$C32*I32/100 -> 7.5 | S32: =C32*K32 -> 240
B33: Fruits | C33: 0 | D33: 0 | E33: 0 | F33: 12 | G33: 20 | H33: 0.4 | I33: 2 | J33: 0 | K33: 0.8 | L33: =$C33*D33/100 -> 0 | M33: =$C33*E33/100 -> 0 | N33: =$C33*J33/100 -> 0 | O33: =$C33*F33/100 -> 0 | P33: =$C33*G33/100 -> 0 | Q33: =$C33*H33/100 -> 0 | R33: =$C33*I33/100 -> 0 | S33: =C33*K33 -> 0
B34: Beurre | C34: 5 | E34: 83 | G34: 15 | H34: 0.2 | I34: 0 | J34: 55 | K34: 0.1 | L34: =$C34*D34/100 -> 0 | M34: =$C34*E34/100 -> 4.15 | N34: =$C34*J34/100 -> 2.75 | O34: =$C34*F34/100 -> 0 | P34: =$C34*G34/100 -> 0.75 | Q34: =$C34*H34/100 -> 0.01 | S34: =C34*K34 -> 0.5
B35: Margarine 60% | C35: 0 | E35: 60 | G35: 30 | H35: 0 | I35: 0 | K35: 0.1 | L35: =$C35*D35/100 -> 0 | M35: =$C35*E35/100 -> 0 | N35: =$C35*J35/100 -> 0 | O35: =$C35*F35/100 -> 0 | P35: =$C35*G35/100 -> 0 | Q35: =$C35*H35/100 -> 0 | S35: =C35*K35 -> 0
B36: Huile Colza | C36: 0 | E36: 100 | G36: 0 | H36: 0 | I36: 0 | J36: 7 | K36: 0 | L36: =$C36*D36/100 -> 0 | M36: =$C36*E36/100 -> 0 | N36: =$C36*J36/100 -> 0 | O36: =$C36*F36/100 -> 0 | P36: =$C36*G36/100 -> 0 | Q36: =$C36*H36/100 -> 0 | S36: =C36*K36 -> 0
B37: Huile Olive | C37: 0 | E37: 100 | G37: 0 | H37: 0 | I37: 0 | J37: 14 | K37: 0 | L37: =$C37*D37/100 -> 0 | M37: =$C37*E37/100 -> 0 | N37: =$C37*J37/100 -> 0 | O37: =$C37*F37/100 -> 0 | P37: =$C37*G37/100 -> 0 | Q37: =$C37*H37/100 -> 0 | S37: =C37*K37 -> 0
B38: Sucre | C38: 50 | D38: 0 | E38: 0 | F38: 100 | G38: 0 | H38: 0 | I38: 0 | J38: 0 | K38: 0 | L38: =$C38*D38/100 -> 0 | M38: =$C38*E38/100 -> 0 | N38: =$C38*J38/100 -> 0 | O38: =$C38*F38/100 -> 50 | P38: =$C38*G38/100 -> 0 | Q38: =$C38*H38/100 -> 0 | S38: =C38*K38 -> 0
B39: Miel | C39: 0 | D39: 0 | E39: 0 | F39: 80 | G39: 7 | H39: 0.1 | I39: 0 | J39: 0 | K39: 0.2 | L39: =$C39*D39/100 -> 0 | M39: =$C39*E39/100 -> 0 | N39: =$C39*J39/100 -> 0 | O39: =$C39*F39/100 -> 0 | P39: =$C39*G39/100 -> 0 | Q39: =$C39*H39/100 -> 0 | S39: =C39*K39 -> 0
B40: Confiture | C40: 0 | D40: 0 | E40: 0 | F40: 68 | G40: 0 | H40: 0.5 | I40: 0 | J40: 1 | K40: 0.3 | L40: =$C40*D40/100 -> 0 | M40: =$C40*E40/100 -> 0 | N40: =$C40*J40/100 -> 0 | O40: =$C40*F40/100 -> 0 | P40: =$C40*G40/100 -> 0 | Q40: =$C40*H40/100 -> 0 | S40: =C40*K40 -> 0
B41: Cacao poudre | C41: 15 | D41: 6.1 | E41: 3.8 | F41: 80 | G41: 2 | H41: 11 | I41: 7 | J41: 6.5 | K41: 0 | L41: =$C41*D41/100 -> 0.915 | M41: =$C41*E41/100 -> 0.57 | N41: =$C41*J41/100 -> 0.975 | O41: =$C41*F41/100 -> 12 | P41: =$C41*G41/100 -> 0.3 | Q41: =$C41*H41/100 -> 1.65 | S41: =C41*K41 -> 0
B42: Chocolat 70% | C42: 0 | D42: 9 | E42: 40 | F42: 30 | G42: 30 | H42: 60 | I42: 10 | J42: 0 | K42: 12 | L42: =$C42*D42/100 -> 0 | M42: =$C42*E42/100 -> 0 | N42: =$C42*J42/100 -> 0 | O42: =$C42*F42/100 -> 0 | P42: =$C42*G42/100 -> 0 | Q42: =$C42*H42/100 -> 0 | S42: =C42*K42 -> 0
B43: Thé, café | C43: 500 | D43: 0 | E43: 0 | F43: 0 | G43: 0 | H43: 0 | I43: 0 | J43: 0 | K43: 1 | L43: =$C43*D43/100 -> 0 | M43: =$C43*E43/100 -> 0 | N43: =$C43*J43/100 -> 0 | O43: =$C43*F43/100 -> 0 | P43: =$C43*G43/100 -> 0 | Q43: =$C43*H43/100 -> 0 | S43: =C43*K43 -> 500
B44: Jus d'orange | C44: 150 | D44: 0 | E44: 0 | F44: 12 | G44: 0 | H44: 0 | I44: 0 | J44: 0 | K44: 1 | L44: =$C44*D44/100 -> 0 | M44: =$C44*E44/100 -> 0 | N44: =$C44*J44/100 -> 0 | O44: =$C44*F44/100 -> 18 | P44: =$C44*G44/100 -> 0 | Q44: =$C44*H44/100 -> 0 | S44: =C44*K44 -> 150
B45: Sojasun chocolat | C45: 350 | D45: 3.4 | E45: 2 | F45: 9.4 | G45: 120 | H45: 0 | I45: 1.1 | J45: 0.5 | K45: 1 | L45: =$C45*D45/100 -> 11.9 | M45: =$C45*E45/100 -> 7 | N45: =$C45*J45/100 -> 1.75 | O45: =$C45*F45/100 -> 32.9 | P45: =$C45*G45/100 -> 420 | Q45: =$C45*H45/100 -> 0 | S45: =C45*K45 -> 350
B46: Eau | C46: 1100 | D46: 0 | E46: 0 | F46: 0 | G46: 0 | H46: 0 | I46: 0 | J46: 0 | K46: 1 | L46: =$C46*D46/100 -> 0 | M46: =$C46*E46/100 -> 0 | N46: =$C46*J46/100 -> 0 | O46: =$C46*F46/100 -> 0 | P46: =$C46*G46/100 -> 0 | Q46: =$C46*H46/100 -> 0 | S46: =C46*K46 -> 1100
B47: potage | C47: 250 | D47: 0 | E47: 0 | F47: 0 | G47: 0 | H47: 0 | I47: 0 | J47: 0 | K47: 1 | S47: =C47*K47 -> 250
B48: Alcool (gr d'alcool) | C48: 5 | L48: =$C48*D48/100 -> 0 | M48: =$C48*E48/100 -> 0 | N48: =$C48*J48/100 -> 0 | O48: =$C48*F48/100 -> 0 | P48: =$C48*G48/100 -> 0 | Q48: =$C48*H48/100 -> 0
C49: 29
B50: SOUS Total en Kj | C50: =L51+M51+O51 -> 7600.276 | H50: Grammage | L50: =SUM(L7:L49) -> 106.42 | M50: =SUM(M7:M49) -> 33.86 | N50: =SUM(N7:N49) -> 12.467 | O50: =SUM(O7:O49) -> 264.968 | P50: =SUM(P7:P49) -> 1771.3 | Q50: =SUM(Q7:Q49) -> 6.785 | R50: =SUM(R7:R49) -> 9.075 | S50: =SUM(S7:S49) -> 3358.1
B51: Consommation ALCOOL | C51: =C48*C49 -> 145 | H51: Kj | L51: =L50*17 -> 1809.14 | M51: =M50*38 -> 1286.68 | O51: =O50*17 -> 4504.456
B52: grammage attendu | G52: Répartition en % | L52: =BILAN!E17 -> 46.267119 | M52: =BILAN!E19 -> 72.444568 | O52: =BILAN!E23 -> 185.06848
H53: Grammage attendu | L53: =BILAN!F17 -> 92.534238 | M53: =BILAN!F19 -> 82.793792 | N53: =BILAN!E20 -> 24.838138 | O53: =BILAN!F23 -> 254.46915 | P53: =BILAN!F25 -> 900 | Q53: =BILAN!F26 -> 9 | R53: =BILAN!F27 -> 25 | S53: =BILAN!E28 -> 3500
B54: Total en Kj | C54: =C51+C50 -> 7745.276 | L54: =L51/C50 -> 0.23803609 | M54: =M51/C50 -> 0.16929385 | O54: =O51/C50 -> 0.59267006 | S54: =BILAN!F28 -> 5000
B55: Total en Kcal | C55: =C54/4.18 -> 1852.9368 | L55: =BILAN!F17 -> 92.534238 | M55: =BILAN!F19 -> 82.793792 | O55: =BILAN!F23 -> 254.46915

Sheet PROPOSITION 
B2: PROPOSITION JOURNALIERE
T4: PETIT DEJEUNER | X4: COLLATION | AB4: DEJEUNER | AF4: GOUTER | AJ4: DINER
B5: Poids | C5: Poids | D5: P | E5: L | F5: G | G5: Ca | H5: Fe | I5: FI | J5: AGS | K5: HY | L5: P | M5: L | N5: AGS | O5: G | P5: Ca | Q5: Fe | R5: Fibre | S5: HY | T5: QT | U5: P | V5: L | W5: G | X5: QT | Y5: P | Z5: L | AA5: G | AB5: QT | AC5: P | AD5: L | AE5: G | AF5: QT | AG5: P | AH5: L | AI5: G | AJ5: QT | AK5: P | AL5: L | AM5: G
B6: Lait 1/2 écrémé | C6: =T6+X6+AB6+AF6+AJ6 -> 0 | D6: 3.5 | E6: 1.6 | F6: 5 | G6: 120 | H6: 0.1 | I6: 0 | J6: 1.2 | K6: 1 | L6: =$C6*D6/100 -> 0 | M6: =$C6*E6/100 -> 0 | N6: =$C6*J6/100 -> 0 | O6: =$C6*F6/100 -> 0 | P6: =$C6*G6/100 -> 0 | Q6: =$C6*H6/100 -> 0 | S6: =C6*K6 -> 0 | U6: =$T6*D6/100 -> 0 | V6: =$T6*E6/100 -> 0 | W6: =$T6*F6/100 -> 0 | Y6: =$X6*D6/100 -> 0 | Z6: =$X6*E6/100 -> 0 | AA6: =$X6*F6/100 -> 0 | AC6: =$AB6*D6/100 -> 0 | AD6: =$AB6*E6/100 -> 0 | AE6: =$AB6*F6/100 -> 0 | AG6: =$AF6*D6/100 -> 0 | AH6: =$AF6*E6/100 -> 0 | AI6: =$AF6*F6/100 -> 0 | AK6: =$AJ6*D6/100 -> 0 | AL6: =$AJ6*E6/100 -> 0 | AM6: =$AJ6*F6/100 -> 0
B7: Lait écrémé | C7: =T7+X7+AB7+AF7+AJ7 -> 250 | D7: 3.5 | E7: 0 | F7: 5 | G7: 120 | H7: 0 | I7: 0 | J7: 0 | K7: 1 | L7: =$C7*D7/100 -> 8.75 | M7: =$C7*E7/100 -> 0 | N7: =$C7*J7/100 -> 0 | O7: =$C7*F7/100 -> 12.5 | P7: =$C7*G7/100 -> 300 | Q7: =$C7*H7/100 -> 0 | S7: =C7*K7 -> 250 | T7: 250 | U7: =$T7*D7/100 -> 8.75 | V7: =$T7*E7/100 -> 0 | W7: =$T7*F7/100 -> 12.5 | Y7: =$X7*D7/100 -> 0 | Z7: =$X7*E7/100 -> 0 | AA7: =$X7*F7/100 -> 0 | AC7: =$AB7*D7/100 -> 0 | AD7: =$AB7*E7/100 -> 0 | AE7: =$AB7*F7/100 -> 0 | AG7: =$AF7*D7/100 -> 0 | AH7: =$AF7*E7/100 -> 0 | AI7: =$AF7*F7/100 -> 0 | AK7: =$AJ7*D7/100 -> 0 | AL7: =$AJ7*E7/100 -> 0 | AM7: =$AJ7*F7/100 -> 0
B8: Lait Entier | C8: =T8+X8+AB8+AF8+AJ8 -> 0 | D8: 3.5 | E8: 3.2 | F8: 5 | G8: 120 | H8: 0 | I8: 0 | J8: 2.3 | K8: 1 | L8: =$C8*D8/100 -> 0 | M8: =$C8*E8/100 -> 0 | N8: =$C8*J8/100 -> 0 | O8: =$C8*F8/100 -> 0 | P8: =$C8*G8/100 -> 0 | Q8: =$C8*H8/100 -> 0 | S8: =C8*K8 -> 0 | U8: =$T8*D8/100 -> 0 | V8: =$T8*E8/100 -> 0 | W8: =$T8*F8/100 -> 0 | Y8: =$X8*D8/100 -> 0 | Z8: =$X8*E8/100 -> 0 | AA8: =$X8*F8/100 -> 0 | AC8: =$AB8*D8/100 -> 0 | AD8: =$AB8*E8/100 -> 0 | AE8: =$AB8*F8/100 -> 0 | AG8: =$AF8*D8/100 -> 0 | AH8: =$AF8*E8/100 -> 0 | AI8: =$AF8*F8/100 -> 0 | AK8: =$AJ8*D8/100 -> 0 | AL8: =$AJ8*E8/100 -> 0 | AM8: =$AJ8*F8/100 -> 0
B9: Yaourt sucré | C9: =T9+X9+AB9+AF9+AJ9 -> 0 | D9: 4 | E9: 3.2 | F9: 12 | G9: 120 | H9: 0 | I9: 0 | J9: 2.3 | K9: 1 | L9: =$C9*D9/100 -> 0 | M9: =$C9*E9/100 -> 0 | N9: =$C9*J9/100 -> 0 | O9: =$C9*F9/100 -> 0 | P9: =$C9*G9/100 -> 0 | Q9: =$C9*H9/100 -> 0 | S9: =C9*K9 -> 0 | U9: =$T9*D9/100 -> 0 | V9: =$T9*E9/100 -> 0 | W9: =$T9*F9/100 -> 0 | Y9: =$X9*D9/100 -> 0 | Z9: =$X9*E9/100 -> 0 | AA9: =$X9*F9/100 -> 0 | AC9: =$AB9*D9/100 -> 0 | AD9: =$AB9*E9/100 -> 0 | AE9: =$AB9*F9/100 -> 0 | AG9: =$AF9*D9/100 -> 0 | AH9: =$AF9*E9/100 -> 0 | AI9: =$AF9*F9/100 -> 0 | AK9: =$AJ9*D9/100 -> 0 | AL9: =$AJ9*E9/100 -> 0 | AM9: =$AJ9*F9/100 -> 0
B10: Yaourt Nature | C10: =T10+X10+AB10+AF10+AJ10 -> 125 | D10: 4 | E10: 1.6 | F10: 4.8 | G10: 160 | H10: 0.1 | I10: 0 | J10: 1.2 | K10: 0.8 | L10: =$C10*D10/100 -> 5 | M10: =$C10*E10/100 -> 2 | N10: =$C10*J10/100 -> 1.5 | O10: =$C10*F10/100 -> 6 | P10: =$C10*G10/100 -> 200 | Q10: =$C10*H10/100 -> 0.125 | S10: =C10*K10 -> 100 | U10: =$T10*D10/100 -> 0 | V10: =$T10*E10/100 -> 0 | W10: =$T10*F10/100 -> 0 | Y10: =$X10*D10/100 -> 0 | Z10: =$X10*E10/100 -> 0 | AA10: =$X10*F10/100 -> 0 | AC10: =$AB10*D10/100 -> 0 | AD10: =$AB10*E10/100 -> 0 | AE10: =$AB10*F10/100 -> 0 | AG10: =$AF10*D10/100 -> 0 | AH10: =$AF10*E10/100 -> 0 | AI10: =$AF10*F10/100 -> 0 | AJ10: 125 | AK10: =$AJ10*D10/100 -> 5 | AL10: =$AJ10*E10/100 -> 2 | AM10: =$AJ10*F10/100 -> 6
B11: Yaourt 0% | C11: =T11+X11+AB11+AF11+AJ11 -> 0 | D11: 4 | E11: 0.2 | F11: 4.8 | G11: 160 | H11: 0.1 | I11: 0 | J11: 0 | K11: 0.8 | L11: =$C11*D11/100 -> 0 | M11: =$C11*E11/100 -> 0 | N11: =$C11*J11/100 -> 0 | O11: =$C11*F11/100 -> 0 | P11: =$C11*G11/100 -> 0 | Q11: =$C11*H11/100 -> 0 | S11: =C11*K11 -> 0 | U11: =$T11*D11/100 -> 0 | V11: =$T11*E11/100 -> 0 | W11: =$T11*F11/100 -> 0 | Y11: =$X11*D11/100 -> 0 | Z11: =$X11*E11/100 -> 0 | AA11: =$X11*F11/100 -> 0 | AC11: =$AB11*D11/100 -> 0 | AD11: =$AB11*E11/100 -> 0 | AE11: =$AB11*F11/100 -> 0 | AG11: =$AF11*D11/100 -> 0 | AH11: =$AF11*E11/100 -> 0 | AI11: =$AF11*F11/100 -> 0 | AK11: =$AJ11*D11/100 -> 0 | AL11: =$AJ11*E11/100 -> 0 | AM11: =$AJ11*F11/100 -> 0
B12: Fromage Blanc | C12: =T12+X12+AB12+AF12+AJ12 -> 0 | D12: 7 | E12: 3.5 | F12: 3.5 | G12: 120 | H12: 0.1 | I12: 0 | J12: 2.3 | K12: 0.7 | L12: =$C12*D12/100 -> 0 | M12: =$C12*E12/100 -> 0 | N12: =$C12*J12/100 -> 0 | O12: =$C12*F12/100 -> 0 | P12: =$C12*G12/100 -> 0 | Q12: =$C12*H12/100 -> 0 | S12: =C12*K12 -> 0 | U12: =$T12*D12/100 -> 0 | V12: =$T12*E12/100 -> 0 | W12: =$T12*F12/100 -> 0 | Y12: =$X12*D12/100 -> 0 | Z12: =$X12*E12/100 -> 0 | AA12: =$X12*F12/100 -> 0 | AC12: =$AB12*D12/100 -> 0 | AD12: =$AB12*E12/100 -> 0 | AE12: =$AB12*F12/100 -> 0 | AG12: =$AF12*D12/100 -> 0 | AH12: =$AF12*E12/100 -> 0 | AI12: =$AF12*F12/100 -> 0 | AK12: =$AJ12*D12/100 -> 0 | AL12: =$AJ12*E12/100 -> 0 | AM12: =$AJ12*F12/100 -> 0
B13: Petit suisse 3,8% | C13: =T13+X13+AB13+AF13+AJ13 -> 0 | D13: 10 | E13: 3.8 | F13: 3.5 | G13: 120 | H13: 0.1 | I13: 0 | J13: 1.5 | K13: 0.7 | L13: =$C13*D13/100 -> 0 | M13: =$C13*E13/100 -> 0 | N13: =$C13*J13/100 -> 0 | O13: =$C13*F13/100 -> 0 | P13: =$C13*G13/100 -> 0 | Q13: =$C13*H13/100 -> 0 | S13: =C13*K13 -> 0 | U13: =$T13*D13/100 -> 0 | V13: =$T13*E13/100 -> 0 | W13: =$T13*F13/100 -> 0 | Y13: =$X13*D13/100 -> 0 | Z13: =$X13*E13/100 -> 0 | AA13: =$X13*F13/100 -> 0 | AC13: =$AB13*D13/100 -> 0 | AD13: =$AB13*E13/100 -> 0 | AE13: =$AB13*F13/100 -> 0 | AG13: =$AF13*D13/100 -> 0 | AH13: =$AF13*E13/100 -> 0 | AI13: =$AF13*F13/100 -> 0 | AK13: =$AJ13*D13/100 -> 0 | AL13: =$AJ13*E13/100 -> 0 | AM13: =$AJ13*F13/100 -> 0
B14: Fromage Moy. | C14: =T14+X14+AB14+AF14+AJ14 -> 30 | D14: 20 | E14: 22 | F14: 0 | G14: 500 | H14: 0.3 | I14: 0 | J14: 14 | K14: 0.5 | L14: =$C14*D14/100 -> 6 | M14: =$C14*E14/100 -> 6.6 | N14: =$C14*J14/100 -> 4.2 | O14: =$C14*F14/100 -> 0 | P14: =$C14*G14/100 -> 150 | Q14: =$C14*H14/100 -> 0.09 | S14: =C14*K14 -> 15 | U14: =$T14*D14/100 -> 0 | V14: =$T14*E14/100 -> 0 | W14: =$T14*F14/100 -> 0 | Y14: =$X14*D14/100 -> 0 | Z14: =$X14*E14/100 -> 0 | AA14: =$X14*F14/100 -> 0 | AB14: 30 | AC14: =$AB14*D14/100 -> 6 | AD14: =$AB14*E14/100 -> 6.6 | AE14: =$AB14*F14/100 -> 0 | AG14: =$AF14*D14/100 -> 0 | AH14: =$AF14*E14/100 -> 0 | AI14: =$AF14*F14/100 -> 0 | AK14: =$AJ14*D14/100 -> 0 | AL14: =$AJ14*E14/100 -> 0 | AM14: =$AJ14*F14/100 -> 0
B15: Fromage emmental | C15: =T15+X15+AB15+AF15+AJ15 -> 0 | D15: 29 | E15: 29 | F15: 0 | G15: 1100 | H15: 0.8 | I15: 0 | J15: 19 | K15: 0.3 | L15: =$C15*D15/100 -> 0 | M15: =$C15*E15/100 -> 0 | N15: =$C15*J15/100 -> 0 | O15: =$C15*F15/100 -> 0 | P15: =$C15*G15/100 -> 0 | Q15: =$C15*H15/100 -> 0 | S15: =C15*K15 -> 0 | U15: =$T15*D15/100 -> 0 | V15: =$T15*E15/100 -> 0 | W15: =$T15*F15/100 -> 0 | Y15: =$X15*D15/100 -> 0 | Z15: =$X15*E15/100 -> 0 | AA15: =$X15*F15/100 -> 0 | AC15: =$AB15*D15/100 -> 0 | AD15: =$AB15*E15/100 -> 0 | AE15: =$AB15*F15/100 -> 0 | AG15: =$AF15*D15/100 -> 0 | AH15: =$AF15*E15/100 -> 0 | AI15: =$AF15*F15/100 -> 0 | AK15: =$AJ15*D15/100 -> 0 | AL15: =$AJ15*E15/100 -> 0 | AM15: =$AJ15*F15/100 -> 0
B16: Viande | C16: =T16+X16+AB16+AF16+AJ16 -> 0 | D16: 18 | E16: 10 | F16: 0 | G16: 15 | H16: 2 | I16: 0 | J16: 4 | K16: 0.7 | L16: =$C16*D16/100 -> 0 | M16: =$C16*E16/100 -> 0 | N16: =$C16*J16/100 -> 0 | O16: =$C16*F16/100 -> 0 | P16: =$C16*G16/100 -> 0 | Q16: =$C16*H16/100 -> 0 | S16: =C16*K16 -> 0 | U16: =$T16*D16/100 -> 0 | V16: =$T16*E16/100 -> 0 | W16: =$T16*F16/100 -> 0 | Y16: =$X16*D16/100 -> 0 | Z16: =$X16*E16/100 -> 0 | AA16: =$X16*F16/100 -> 0 | AC16: =$AB16*D16/100 -> 0 | AD16: =$AB16*E16/100 -> 0 | AE16: =$AB16*F16/100 -> 0 | AG16: =$AF16*D16/100 -> 0 | AH16: =$AF16*E16/100 -> 0 | AI16: =$AF16*F16/100 -> 0 | AK16: =$AJ16*D16/100 -> 0 | AL16: =$AJ16*E16/100 -> 0 | AM16: =$AJ16*F16/100 -> 0
B17: Viande rouge | C17: =T17+X17+AB17+AF17+AJ17 -> 30 | D17: 18 | E17: 17 | F17: 0 | G17: 7 | H17: 2.2 | I17: 0 | J17: 8 | K17: 0.62 | L17: =$C17*D17/100 -> 5.4 | M17: =$C17*E17/100 -> 5.1 | N17: =$C17*J17/100 -> 2.4 | O17: =$C17*F17/100 -> 0 | P17: =$C17*G17/100 -> 2.1 | Q17: =$C17*H17/100 -> 0.66 | S17: =C17*K17 -> 18.6 | U17: =$T17*D17/100 -> 0 | V17: =$T17*E17/100 -> 0 | W17: =$T17*F17/100 -> 0 | Y17: =$X17*D17/100 -> 0 | Z17: =$X17*E17/100 -> 0 | AA17: =$X17*F17/100 -> 0 | AB17: 15 | AC17: =$AB17*D17/100 -> 2.7 | AD17: =$AB17*E17/100 -> 2.55 | AE17: =$AB17*F17/100 -> 0 | AG17: =$AF17*D17/100 -> 0 | AH17: =$AF17*E17/100 -> 0 | AI17: =$AF17*F17/100 -> 0 | AJ17: 15 | AK17: =$AJ17*D17/100 -> 2.7 | AL17: =$AJ17*E17/100 -> 2.55 | AM17: =$AJ17*F17/100 -> 0
B18: Viande blanche | C18: =T18+X18+AB18+AF18+AJ18 -> 80 | D18: 26 | E18: 2 | F18: 0 | G18: 14 | H18: 0.5 | I18: 0 | J18: 0.6 | K18: 0.72 | L18: =$C18*D18/100 -> 20.8 | M18: =$C18*E18/100 -> 1.6 | N18: =$C18*J18/100 -> 0.48 | O18: =$C18*F18/100 -> 0 | P18: =$C18*G18/100 -> 11.2 | Q18: =$C18*H18/100 -> 0.4 | S18: =C18*K18 -> 57.6 | U18: =$T18*D18/100 -> 0 | V18: =$T18*E18/100 -> 0 | W18: =$T18*F18/100 -> 0 | Y18: =$X18*D18/100 -> 0 | Z18: =$X18*E18/100 -> 0 | AA18: =$X18*F18/100 -> 0 | AB18: 40 | AC18: =$AB18*D18/100 -> 10.4 | AD18: =$AB18*E18/100 -> 0.8 | AE18: =$AB18*F18/100 -> 0 | AG18: =$AF18*D18/100 -> 0 | AH18: =$AF18*E18/100 -> 0 | AI18: =$AF18*F18/100 -> 0 | AJ18: 40 | AK18: =$AJ18*D18/100 -> 10.4 | AL18: =$AJ18*E18/100 -> 0.8 | AM18: =$AJ18*F18/100 -> 0
B19: Viande de porc | C19: =T19+X19+AB19+AF19+AJ19 -> 30 | D19: 26 | E19: 19 | F19: 0 | G19: 20 | H19: 0.8 | I19: 0 | J19: 9 | K19: 0.55 | L19: =$C19*D19/100 -> 7.8 | M19: =$C19*E19/100 -> 5.7 | N19: =$C19*J19/100 -> 2.7 | O19: =$C19*F19/100 -> 0 | P19: =$C19*G19/100 -> 6 | Q19: =$C19*H19/100 -> 0.24 | S19: =C19*K19 -> 16.5 | U19: =$T19*D19/100 -> 0 | V19: =$T19*E19/100 -> 0 | W19: =$T19*F19/100 -> 0 | Y19: =$X19*D19/100 -> 0 | Z19: =$X19*E19/100 -> 0 | AA19: =$X19*F19/100 -> 0 | AB19: 15 | AC19: =$AB19*D19/100 -> 3.9 | AD19: =$AB19*E19/100 -> 2.85 | AE19: =$AB19*F19/100 -> 0 | AG19: =$AF19*D19/100 -> 0 | AH19: =$AF19*E19/100 -> 0 | AI19: =$AF19*F19/100 -> 0 | AJ19: 15 | AK19: =$AJ19*D19/100 -> 3.9 | AL19: =$AJ19*E19/100 -> 2.85 | AM19: =$AJ19*F19/100 -> 0
B20: Poisson | C20: =T20+X20+AB20+AF20+AJ20 -> 0 | D20: 18 | E20: 2 | F20: 0 | G20: 20 | H20: 1.5 | I20: 0 | J20: 0.6 | K20: 0.7 | L20: =$C20*D20/100 -> 0 | M20: =$C20*E20/100 -> 0 | N20: =$C20*J20/100 -> 0 | O20: =$C20*F20/100 -> 0 | P20: =$C20*G20/100 -> 0 | Q20: =$C20*H20/100 -> 0 | S20: =C20*K20 -> 0 | U20: =$T20*D20/100 -> 0 | V20: =$T20*E20/100 -> 0 | W20: =$T20*F20/100 -> 0 | Y20: =$X20*D20/100 -> 0 | Z20: =$X20*E20/100 -> 0 | AA20: =$X20*F20/100 -> 0 | AC20: =$AB20*D20/100 -> 0 | AD20: =$AB20*E20/100 -> 0 | AE20: =$AB20*F20/100 -> 0 | AG20: =$AF20*D20/100 -> 0 | AH20: =$AF20*E20/100 -> 0 | AI20: =$AF20*F20/100 -> 0 | AK20: =$AJ20*D20/100 -> 0 | AL20: =$AJ20*E20/100 -> 0 | AM20: =$AJ20*F20/100 -> 0
B21: Poisson gras | C21: =T21+X21+AB21+AF21+AJ21 -> 20 | D21: 30 | E21: 10 | F21: 0 | G21: 130 | H21: 1.7 | I21: 0 | J21: 3 | K21: 55 | L21: =$C21*D21/100 -> 6 | M21: =$C21*E21/100 -> 2 | N21: =$C21*J21/100 -> 0.6 | O21: =$C21*F21/100 -> 0 | P21: =$C21*G21/100 -> 26 | Q21: =$C21*H21/100 -> 0.34 | S21: =C21*K21 -> 1100 | U21: =$T21*D21/100 -> 0 | V21: =$T21*E21/100 -> 0 | W21: =$T21*F21/100 -> 0 | Y21: =$X21*D21/100 -> 0 | Z21: =$X21*E21/100 -> 0 | AA21: =$X21*F21/100 -> 0 | AB21: 10 | AC21: =$AB21*D21/100 -> 3 | AD21: =$AB21*E21/100 -> 1 | AE21: =$AB21*F21/100 -> 0 | AG21: =$AF21*D21/100 -> 0 | AH21: =$AF21*E21/100 -> 0 | AI21: =$AF21*F21/100 -> 0 | AJ21: 10 | AK21: =$AJ21*D21/100 -> 3 | AL21: =$AJ21*E21/100 -> 1 | AM21: =$AJ21*F21/100 -> 0
B22: Poisson blanc | C22: =T22+X22+AB22+AF22+AJ22 -> 20 | D22: 18 | E22: 1 | F22: 0 | G22: 10 | H22: 0.1 | I22: 0 | J22: 0.2 | K22: 76 | L22: =$C22*D22/100 -> 3.6 | M22: =$C22*E22/100 -> 0.2 | N22: =$C22*J22/100 -> 0.04 | O22: =$C22*F22/100 -> 0 | P22: =$C22*G22/100 -> 2 | Q22: =$C22*H22/100 -> 0.02 | S22: =C22*K22 -> 1520 | U22: =$T22*D22/100 -> 0 | V22: =$T22*E22/100 -> 0 | W22: =$T22*F22/100 -> 0 | Y22: =$X22*D22/100 -> 0 | Z22: =$X22*E22/100 -> 0 | AA22: =$X22*F22/100 -> 0 | AB22: 10 | AC22: =$AB22*D22/100 -> 1.8 | AD22: =$AB22*E22/100 -> 0.1 | AE22: =$AB22*F22/100 -> 0 | AG22: =$AF22*D22/100 -> 0 | AH22: =$AF22*E22/100 -> 0 | AI22: =$AF22*F22/100 -> 0 | AJ22: 10 | AK22: =$AJ22*D22/100 -> 1.8 | AL22: =$AJ22*E22/100 -> 0.1 | AM22: =$AJ22*F22/100 -> 0
B23: Œufs | C23: =T23+X23+AB23+AF23+AJ23 -> 34 | D23: 12 | E23: 11 | F23: 0 | G23: 55 | H23: 1.5 | I23: 0 | J23: 3.85 | K23: 0.7 | L23: =$C23*D23/100 -> 4.08 | M23: =$C23*E23/100 -> 3.74 | N23: =$C23*J23/100 -> 1.309 | O23: =$C23*F23/100 -> 0 | P23: =$C23*G23/100 -> 18.7 | Q23: =$C23*H23/100 -> 0.51 | S23: =C23*K23 -> 23.8 | U23: =$T23*D23/100 -> 0 | V23: =$T23*E23/100 -> 0 | W23: =$T23*F23/100 -> 0 | Y23: =$X23*D23/100 -> 0 | Z23: =$X23*E23/100 -> 0 | AA23: =$X23*F23/100 -> 0 | AB23: 17 | AC23: =$AB23*D23/100 -> 2.04 | AD23: =$AB23*E23/100 -> 1.87 | AE23: =$AB23*F23/100 -> 0 | AG23: =$AF23*D23/100 -> 0 | AH23: =$AF23*E23/100 -> 0 | AI23: =$AF23*F23/100 -> 0 | AJ23: 17 | AK23: =$AJ23*D23/100 -> 2.04 | AL23: =$AJ23*E23/100 -> 1.87 | AM23: =$AJ23*F23/100 -> 0
B24: Jambon | C24: =T24+X24+AB24+AF24+AJ24 -> 0 | D24: 21 | E24: 3 | F24: 0.6 | G24: 0 | H24: 0 | I24: 0 | J24: 0.9 | K24: 0.7 | L24: =$C24*D24/100 -> 0 | M24: =$C24*E24/100 -> 0 | N24: =$C24*J24/100 -> 0 | O24: =$C24*F24/100 -> 0 | P24: =$C24*G24/100 -> 0 | Q24: =$C24*H24/100 -> 0 | S24: =C24*K24 -> 0 | U24: =$T24*D24/100 -> 0 | V24: =$T24*E24/100 -> 0 | W24: =$T24*F24/100 -> 0 | Y24: =$X24*D24/100 -> 0 | Z24: =$X24*E24/100 -> 0 | AA24: =$X24*F24/100 -> 0 | AC24: =$AB24*D24/100 -> 0 | AD24: =$AB24*E24/100 -> 0 | AE24: =$AB24*F24/100 -> 0 | AG24: =$AF24*D24/100 -> 0 | AH24: =$AF24*E24/100 -> 0 | AI24: =$AF24*F24/100 -> 0 | AK24: =$AJ24*D24/100 -> 0 | AL24: =$AJ24*E24/100 -> 0 | AM24: =$AJ24*F24/100 -> 0
B25: Abats | C25: =T25+X25+AB25+AF25+AJ25 -> 0 | D25: 18 | E25: 5 | F25: 3.5 | G25: 10 | H25: 5 | I25: 0 | J25: 2.25 | K25: 0.7 | L25: =$C25*D25/100 -> 0 | M25: =$C25*E25/100 -> 0 | N25: =$C25*J25/100 -> 0 | O25: =$C25*F25/100 -> 0 | P25: =$C25*G25/100 -> 0 | Q25: =$C25*H25/100 -> 0 | S25: =C25*K25 -> 0 | U25: =$T25*D25/100 -> 0 | V25: =$T25*E25/100 -> 0 | W25: =$T25*F25/100 -> 0 | Y25: =$X25*D25/100 -> 0 | Z25: =$X25*E25/100 -> 0 | AA25: =$X25*F25/100 -> 0 | AC25: =$AB25*D25/100 -> 0 | AD25: =$AB25*E25/100 -> 0 | AE25: =$AB25*F25/100 -> 0 | AG25: =$AF25*D25/100 -> 0 | AH25: =$AF25*E25/100 -> 0 | AI25: =$AF25*F25/100 -> 0 | AK25: =$AJ25*D25/100 -> 0 | AL25: =$AJ25*E25/100 -> 0 | AM25: =$AJ25*F25/100 -> 0
B26: Charcuterie | C26: =T26+X26+AB26+AF26+AJ26 -> 0 | D26: 15 | E26: 33 | F26: 2 | G26: 20 | H26: 4 | I26: 0 | J26: 13.5 | K26: 0.6 | L26: =$C26*D26/100 -> 0 | M26: =$C26*E26/100 -> 0 | N26: =$C26*J26/100 -> 0 | O26: =$C26*F26/100 -> 0 | P26: =$C26*G26/100 -> 0 | Q26: =$C26*H26/100 -> 0 | S26: =C26*K26 -> 0 | U26: =$T26*D26/100 -> 0 | V26: =$T26*E26/100 -> 0 | W26: =$T26*F26/100 -> 0 | Y26: =$X26*D26/100 -> 0 | Z26: =$X26*E26/100 -> 0 | AA26: =$X26*F26/100 -> 0 | AC26: =$AB26*D26/100 -> 0 | AD26: =$AB26*E26/100 -> 0 | AE26: =$AB26*F26/100 -> 0 | AG26: =$AF26*D26/100 -> 0 | AH26: =$AF26*E26/100 -> 0 | AI26: =$AF26*F26/100 -> 0 | AK26: =$AJ26*D26/100 -> 0 | AL26: =$AJ26*E26/100 -> 0 | AM26: =$AJ26*F26/100 -> 0
B27: Surimi | C27: =T27+X27+AB27+AF27+AJ27 -> 0 | D27: 8.6 | E27: 2.1 | F27: 11.8 | G27: 17 | H27: 0.4 | I27: 0 | J27: 1 | K27: 0 | L27: =$C27*D27/100 -> 0 | M27: =$C27*E27/100 -> 0 | N27: =$C27*J27/100 -> 0 | O27: =$C27*F27/100 -> 0 | P27: =$C27*G27/100 -> 0 | Q27: =$C27*H27/100 -> 0 | S27: =C27*K27 -> 0 | U27: =$T27*D27/100 -> 0 | V27: =$T27*E27/100 -> 0 | W27: =$T27*F27/100 -> 0 | Y27: =$X27*D27/100 -> 0 | Z27: =$X27*E27/100 -> 0 | AA27: =$X27*F27/100 -> 0 | AC27: =$AB27*D27/100 -> 0 | AD27: =$AB27*E27/100 -> 0 | AE27: =$AB27*F27/100 -> 0 | AG27: =$AF27*D27/100 -> 0 | AH27: =$AF27*E27/100 -> 0 | AI27: =$AF27*F27/100 -> 0 | AK27: =$AJ27*D27/100 -> 0 | AL27: =$AJ27*E27/100 -> 0 | AM27: =$AJ27*F27/100 -> 0
B28: Nugget | C28: =T28+X28+AB28+AF28+AJ28 -> 0 | D28: 13 | E28: 9 | F28: 13.5 | G28: 0 | H28: 0 | I28: 0 | J28: 1 | K28: 0 | L28: =$C28*D28/100 -> 0 | M28: =$C28*E28/100 -> 0 | N28: =$C28*J28/100 -> 0 | O28: =$C28*F28/100 -> 0 | P28: =$C28*G28/100 -> 0 | Q28: =$C28*H28/100 -> 0 | S28: =C28*K28 -> 0 | U28: =$T28*D28/100 -> 0 | V28: =$T28*E28/100 -> 0 | W28: =$T28*F28/100 -> 0 | Y28: =$X28*D28/100 -> 0 | Z28: =$X28*E28/100 -> 0 | AA28: =$X28*F28/100 -> 0 | AC28: =$AB28*D28/100 -> 0 | AD28: =$AB28*E28/100 -> 0 | AE28: =$AB28*F28/100 -> 0 | AG28: =$AF28*D28/100 -> 0 | AH28: =$AF28*E28/100 -> 0 | AI28: =$AF28*F28/100 -> 0 | AK28: =$AJ28*D28/100 -> 0 | AL28: =$AJ28*E28/100 -> 0 | AM28: =$AJ28*F28/100 -> 0
B29: ww couscous | C29: =T29+X29+AB29+AF29+AJ29 -> 0 | D29: 7.6 | E29: 2.1 | F29: 9.8 | G29: 0 | H29: 0 | I29: 1.7 | J29: 0.6 | K29: 0 | L29: =$C29*D29/100 -> 0 | M29: =$C29*E29/100 -> 0 | N29: =$C29*J29/100 -> 0 | O29: =$C29*F29/100 -> 0 | P29: =$C29*G29/100 -> 0 | Q29: =$C29*H29/100 -> 0 | S29: =C29*K29 -> 0 | U29: =$T29*D29/100 -> 0 | V29: =$T29*E29/100 -> 0 | W29: =$T29*F29/100 -> 0 | Y29: =$X29*D29/100 -> 0 | Z29: =$X29*E29/100 -> 0 | AA29: =$X29*F29/100 -> 0 | AC29: =$AB29*D29/100 -> 0 | AD29: =$AB29*E29/100 -> 0 | AE29: =$AB29*F29/100 -> 0 | AG29: =$AF29*D29/100 -> 0 | AH29: =$AF29*E29/100 -> 0 | AI29: =$AF29*F29/100 -> 0 | AK29: =$AJ29*D29/100 -> 0 | AL29: =$AJ29*E29/100 -> 0 | AM29: =$AJ29*F29/100 -> 0
B30: Pain | C30: =T30+X30+AB30+AF30+AJ30 -> 75 | D30: 8 | E30: 0 | F30: 56 | G30: 20 | H30: 1 | I30: 3.5 | J30: 0 | K30: 0.3 | L30: =$C30*D30/100 -> 6 | M30: =$C30*E30/100 -> 0 | N30: =$C30*J30/100 -> 0 | O30: =$C30*F30/100 -> 42 | P30: =$C30*G30/100 -> 15 | Q30: =$C30*H30/100 -> 0.75 | R30: =$C30*I30/100 -> 2.625 | S30: =C30*K30 -> 22.5 | T30: 25 | U30: =$T30*D30/100 -> 2 | V30: =$T30*E30/100 -> 0 | W30: =$T30*F30/100 -> 14 | Y30: =$X30*D30/100 -> 0 | Z30: =$X30*E30/100 -> 0 | AA30: =$X30*F30/100 -> 0 | AB30: 25 | AC30: =$AB30*D30/100 -> 2 | AD30: =$AB30*E30/100 -> 0 | AE30: =$AB30*F30/100 -> 14 | AG30: =$AF30*D30/100 -> 0 | AH30: =$AF30*E30/100 -> 0 | AI30: =$AF30*F30/100 -> 0 | AJ30: 25 | AK30: =$AJ30*D30/100 -> 2 | AL30: =$AJ30*E30/100 -> 0 | AM30: =$AJ30*F30/100 -> 14
B31: Pain complet | C31: =T31+X31+AB31+AF31+AJ31 -> 75 | D31: 9 | E31: 1.75 | F31: 51 | G31: 33 | H31: 6.8 | I31: 5.6 | J31: 0.4 | K31: 0.3 | L31: =$C31*D31/100 -> 6.75 | M31: =$C31*E31/100 -> 1.3125 | N31: =$C31*J31/100 -> 0.3 | O31: =$C31*F31/100 -> 38.25 | P31: =$C31*G31/100 -> 24.75 | Q31: =$C31*H31/100 -> 5.1 | R31: =$C31*I31/100 -> 4.2 | S31: =C31*K31 -> 22.5 | T31: 25 | U31: =$T31*D31/100 -> 2.25 | V31: =$T31*E31/100 -> 0.4375 | W31: =$T31*F31/100 -> 12.75 | Y31: =$X31*D31/100 -> 0 | Z31: =$X31*E31/100 -> 0 | AA31: =$X31*F31/100 -> 0 | AB31: 25 | AC31: =$AB31*D31/100 -> 2.25 | AD31: =$AB31*E31/100 -> 0.4375 | AE31: =$AB31*F31/100 -> 12.75 | AG31: =$AF31*D31/100 -> 0 | AH31: =$AF31*E31/100 -> 0 | AI31: =$AF31*F31/100 -> 0 | AJ31: 25 | AK31: =$AJ31*D31/100 -> 2.25 | AL31: =$AJ31*E31/100 -> 0.4375 | AM31: =$AJ31*F31/100 -> 12.75
B32: Biscottes | C32: =T32+X32+AB32+AF32+AJ32 -> 0 | D32: 22.8 | E32: 6.3 | F32: 29.4 | G32: 0 | H32: 0 | I32: 5.1 | J32: 1.5 | K32: 0.2 | L32: =$C32*D32/100 -> 0 | M32: =$C32*E32/100 -> 0 | N32: =$C32*J32/100 -> 0 | O32: =$C32*F32/100 -> 0 | P32: =$C32*G32/100 -> 0 | Q32: =$C32*H32/100 -> 0 | R32: =$C32*I32/100 -> 0 | S32: =C32*K32 -> 0 | U32: =$T32*D32/100 -> 0 | V32: =$T32*E32/100 -> 0 | W32: =$T32*F32/100 -> 0 | Y32: =$X32*D32/100 -> 0 | Z32: =$X32*E32/100 -> 0 | AA32: =$X32*F32/100 -> 0 | AC32: =$AB32*D32/100 -> 0 | AD32: =$AB32*E32/100 -> 0 | AE32: =$AB32*F32/100 -> 0 | AG32: =$AF32*D32/100 -> 0 | AH32: =$AF32*E32/100 -> 0 | AI32: =$AF32*F32/100 -> 0 | AK32: =$AJ32*D32/100 -> 0 | AL32: =$AJ32*E32/100 -> 0 | AM32: =$AJ32*F32/100 -> 0
B33: weetabix | C33: =T33+X33+AB33+AF33+AJ33 -> 0 | D33: 11.5 | E33: 2 | F33: 68.6 | G33: 0 | H33: 0 | I33: 10 | J33: 0.6 | K33: 0 | L33: =$C33*D33/100 -> 0 | M33: =$C33*E33/100 -> 0 | N33: =$C33*J33/100 -> 0 | O33: =$C33*F33/100 -> 0 | P33: =$C33*G33/100 -> 0 | Q33: =$C33*H33/100 -> 0 | R33: =$C33*I33/100 -> 0 | S33: =C33*K33 -> 0 | U33: =$T33*D33/100 -> 0 | V33: =$T33*E33/100 -> 0 | W33: =$T33*F33/100 -> 0 | Y33: =$X33*D33/100 -> 0 | Z33: =$X33*E33/100 -> 0 | AA33: =$X33*F33/100 -> 0 | AC33: =$AB33*D33/100 -> 0 | AD33: =$AB33*E33/100 -> 0 | AE33: =$AB33*F33/100 -> 0 | AG33: =$AF33*D33/100 -> 0 | AH33: =$AF33*E33/100 -> 0 | AI33: =$AF33*F33/100 -> 0 | AK33: =$AJ33*D33/100 -> 0 | AL33: =$AJ33*E33/100 -> 0 | AM33: =$AJ33*F33/100 -> 0
B34: Biscuit | C34: =T34+X34+AB34+AF34+AJ34 -> 20 | D34: 5.25 | E34: 17.9 | F34: 67 | G34: 165 | H34: 4 | I34: 5.3 | J34: 7 | K34: 0.028 | L34: =$C34*D34/100 -> 1.05 | M34: =$C34*E34/100 -> 3.58 | N34: =$C34*J34/100 -> 1.4 | O34: =$C34*F34/100 -> 13.4 | P34: =$C34*G34/100 -> 33 | Q34: =$C34*H34/100 -> 0.8 | R34: =$C34*I34/100 -> 1.06 | S34: =C34*K34 -> 0.56 | U34: =$T34*D34/100 -> 0 | V34: =$T34*E34/100 -> 0 | W34: =$T34*F34/100 -> 0 | Y34: =$X34*D34/100 -> 0 | Z34: =$X34*E34/100 -> 0 | AA34: =$X34*F34/100 -> 0 | AC34: =$AB34*D34/100 -> 0 | AD34: =$AB34*E34/100 -> 0 | AE34: =$AB34*F34/100 -> 0 | AF34: 20 | AG34: =$AF34*D34/100 -> 1.05 | AH34: =$AF34*E34/100 -> 3.58 | AI34: =$AF34*F34/100 -> 13.4 | AK34: =$AJ34*D34/100 -> 0 | AL34: =$AJ34*E34/100 -> 0 | AM34: =$AJ34*F34/100 -> 0
B35: Farine | C35: =T35+X35+AB35+AF35+AJ35 -> 0 | D35: 10 | E35: 1 | F35: 71 | G35: 15 | H35: 1 | I35: 3.5 | J35: 0 | K35: 0 | L35: =$C35*D35/100 -> 0 | M35: =$C35*E35/100 -> 0 | N35: =$C35*J35/100 -> 0 | O35: =$C35*F35/100 -> 0 | P35: =$C35*G35/100 -> 0 | Q35: =$C35*H35/100 -> 0 | R35: =$C35*I35/100 -> 0 | S35: =C35*K35 -> 0 | U35: =$T35*D35/100 -> 0 | V35: =$T35*E35/100 -> 0 | W35: =$T35*F35/100 -> 0 | Y35: =$X35*D35/100 -> 0 | Z35: =$X35*E35/100 -> 0 | AA35: =$X35*F35/100 -> 0 | AC35: =$AB35*D35/100 -> 0 | AD35: =$AB35*E35/100 -> 0 | AE35: =$AB35*F35/100 -> 0 | AG35: =$AF35*D35/100 -> 0 | AH35: =$AF35*E35/100 -> 0 | AI35: =$AF35*F35/100 -> 0 | AK35: =$AJ35*D35/100 -> 0 | AL35: =$AJ35*E35/100 -> 0 | AM35: =$AJ35*F35/100 -> 0
B36: Légumes secs | C36: =T36+X36+AB36+AF36+AJ36 -> 14 | D36: 23 | E36: 1 | F36: 50 | G36: 50 | H36: 8 | I36: 15 | J36: 0 | K36: 0.1 | L36: =$C36*D36/100 -> 3.22 | M36: =$C36*E36/100 -> 0.14 | N36: =$C36*J36/100 -> 0 | O36: =$C36*F36/100 -> 7 | P36: =$C36*G36/100 -> 7 | Q36: =$C36*H36/100 -> 1.12 | R36: =$C36*I36/100 -> 2.1 | S36: =C36*K36 -> 1.4 | U36: =$T36*D36/100 -> 0 | V36: =$T36*E36/100 -> 0 | W36: =$T36*F36/100 -> 0 | Y36: =$X36*D36/100 -> 0 | Z36: =$X36*E36/100 -> 0 | AA36: =$X36*F36/100 -> 0 | AB36: 7 | AC36: =$AB36*D36/100 -> 1.61 | AD36: =$AB36*E36/100 -> 0.07 | AE36: =$AB36*F36/100 -> 3.5 | AG36: =$AF36*D36/100 -> 0 | AH36: =$AF36*E36/100 -> 0 | AI36: =$AF36*F36/100 -> 0 | AJ36: 7 | AK36: =$AJ36*D36/100 -> 1.61 | AL36: =$AJ36*E36/100 -> 0.07 | AM36: =$AJ36*F36/100 -> 3.5
B37: Céréales Crues | C37: =T37+X37+AB37+AF37+AJ37 -> 30 | D37: 7 | E37: 0 | F37: 75 | G37: 15 | H37: 1.5 | I37: 7 | J37: 0 | K37: 0 | L37: =$C37*D37/100 -> 2.1 | M37: =$C37*E37/100 -> 0 | N37: =$C37*J37/100 -> 0 | O37: =$C37*F37/100 -> 22.5 | P37: =$C37*G37/100 -> 4.5 | Q37: =$C37*H37/100 -> 0.45 | R37: =$C37*I37/100 -> 2.1 | S37: =C37*K37 -> 0 | U37: =$T37*D37/100 -> 0 | V37: =$T37*E37/100 -> 0 | W37: =$T37*F37/100 -> 0 | Y37: =$X37*D37/100 -> 0 | Z37: =$X37*E37/100 -> 0 | AA37: =$X37*F37/100 -> 0 | AB37: 15 | AC37: =$AB37*D37/100 -> 1.05 | AD37: =$AB37*E37/100 -> 0 | AE37: =$AB37*F37/100 -> 11.25 | AG37: =$AF37*D37/100 -> 0 | AH37: =$AF37*E37/100 -> 0 | AI37: =$AF37*F37/100 -> 0 | AJ37: 15 | AK37: =$AJ37*D37/100 -> 1.05 | AL37: =$AJ37*E37/100 -> 0 | AM37: =$AJ37*F37/100 -> 11.25
B38: Pommes de Terre | C38: =T38+X38+AB38+AF38+AJ38 -> 80 | D38: 2 | E38: 0 | F38: 16 | G38: 7 | H38: 0.5 | I38: 1.5 | J38: 0 | K38: 0.6 | L38: =$C38*D38/100 -> 1.6 | M38: =$C38*E38/100 -> 0 | N38: =$C38*J38/100 -> 0 | O38: =$C38*F38/100 -> 12.8 | P38: =$C38*G38/100 -> 5.6 | Q38: =$C38*H38/100 -> 0.4 | R38: =$C38*I38/100 -> 1.2 | S38: =C38*K38 -> 48 | U38: =$T38*D38/100 -> 0 | V38: =$T38*E38/100 -> 0 | W38: =$T38*F38/100 -> 0 | Y38: =$X38*D38/100 -> 0 | Z38: =$X38*E38/100 -> 0 | AA38: =$X38*F38/100 -> 0 | AB38: 40 | AC38: =$AB38*D38/100 -> 0.8 | AD38: =$AB38*E38/100 -> 0 | AE38: =$AB38*F38/100 -> 6.4 | AG38: =$AF38*D38/100 -> 0 | AH38: =$AF38*E38/100 -> 0 | AI38: =$AF38*F38/100 -> 0 | AJ38: 40 | AK38: =$AJ38*D38/100 -> 0.8 | AL38: =$AJ38*E38/100 -> 0 | AM38: =$AJ38*F38/100 -> 6.4
B39: Légumes | C39: =T39+X39+AB39+AF39+AJ39 -> 200 | D39: 1 | E39: 0 | F39: 5 | G39: 40 | H39: 0.6 | I39: 2.5 | J39: 0 | K39: 0.8 | L39: =$C39*D39/100 -> 2 | M39: =$C39*E39/100 -> 0 | N39: =$C39*J39/100 -> 0 | O39: =$C39*F39/100 -> 10 | P39: =$C39*G39/100 -> 80 | Q39: =$C39*H39/100 -> 1.2 | R39: =$C39*I39/100 -> 5 | S39: =C39*K39 -> 160 | U39: =$T39*D39/100 -> 0 | V39: =$T39*E39/100 -> 0 | W39: =$T39*F39/100 -> 0 | Y39: =$X39*D39/100 -> 0 | Z39: =$X39*E39/100 -> 0 | AA39: =$X39*F39/100 -> 0 | AB39: 100 | AC39: =$AB39*D39/100 -> 1 | AD39: =$AB39*E39/100 -> 0 | AE39: =$AB39*F39/100 -> 5 | AG39: =$AF39*D39/100 -> 0 | AH39: =$AF39*E39/100 -> 0 | AI39: =$AF39*F39/100 -> 0 | AJ39: 100 | AK39: =$AJ39*D39/100 -> 1 | AL39: =$AJ39*E39/100 -> 0 | AM39: =$AJ39*F39/100 -> 5
B40: Fruits | C40: =T40+X40+AB40+AF40+AJ40 -> 200 | D40: 0 | E40: 0 | F40: 12 | G40: 20 | H40: 0.4 | I40: 2 | J40: 0 | K40: 0.8 | L40: =$C40*D40/100 -> 0 | M40: =$C40*E40/100 -> 0 | N40: =$C40*J40/100 -> 0 | O40: =$C40*F40/100 -> 24 | P40: =$C40*G40/100 -> 40 | Q40: =$C40*H40/100 -> 0.8 | R40: =$C40*I40/100 -> 4 | S40: =C40*K40 -> 160 | U40: =$T40*D40/100 -> 0 | V40: =$T40*E40/100 -> 0 | W40: =$T40*F40/100 -> 0 | Y40: =$X40*D40/100 -> 0 | Z40: =$X40*E40/100 -> 0 | AA40: =$X40*F40/100 -> 0 | AB40: 100 | AC40: =$AB40*D40/100 -> 0 | AD40: =$AB40*E40/100 -> 0 | AE40: =$AB40*F40/100 -> 12 | AG40: =$AF40*D40/100 -> 0 | AH40: =$AF40*E40/100 -> 0 | AI40: =$AF40*F40/100 -> 0 | AJ40: 100 | AK40: =$AJ40*D40/100 -> 0 | AL40: =$AJ40*E40/100 -> 0 | AM40: =$AJ40*F40/100 -> 12
B41: Beurre | C41: =T41+X41+AB41+AF41+AJ41 -> 10 | E41: 83 | G41: 15 | H41: 0.2 | I41: 0 | J41: 55 | K41: 0.1 | L41: =$C41*D41/100 -> 0 | M41: =$C41*E41/100 -> 8.3 | N41: =$C41*J41/100 -> 5.5 | O41: =$C41*F41/100 -> 0 | P41: =$C41*G41/100 -> 1.5 | Q41: =$C41*H41/100 -> 0.02 | R41: =$C41*I41/100 -> 0 | S41: =C41*K41 -> 1 | T41: 10 | U41: =$T41*D41/100 -> 0 | V41: =$T41*E41/100 -> 8.3 | W41: =$T41*F41/100 -> 0 | Y41: =$X41*D41/100 -> 0 | Z41: =$X41*E41/100 -> 0 | AA41: =$X41*F41/100 -> 0 | AC41: =$AB41*D41/100 -> 0 | AD41: =$AB41*E41/100 -> 0 | AE41: =$AB41*F41/100 -> 0 | AG41: =$AF41*D41/100 -> 0 | AH41: =$AF41*E41/100 -> 0 | AI41: =$AF41*F41/100 -> 0 | AK41: =$AJ41*D41/100 -> 0 | AL41: =$AJ41*E41/100 -> 0 | AM41: =$AJ41*F41/100 -> 0
B42: Margarine 60% | C42: =T42+X42+AB42+AF42+AJ42 -> 0 | E42: 60 | G42: 30 | H42: 0 | I42: 0 | K42: 0.1 | L42: =$C42*D42/100 -> 0 | M42: =$C42*E42/100 -> 0 | N42: =$C42*J42/100 -> 0 | O42: =$C42*F42/100 -> 0 | P42: =$C42*G42/100 -> 0 | Q42: =$C42*H42/100 -> 0 | S42: =C42*K42 -> 0 | U42: =$T42*D42/100 -> 0 | V42: =$T42*E42/100 -> 0 | W42: =$T42*F42/100 -> 0 | Y42: =$X42*D42/100 -> 0 | Z42: =$X42*E42/100 -> 0 | AA42: =$X42*F42/100 -> 0 | AC42: =$AB42*D42/100 -> 0 | AD42: =$AB42*E42/100 -> 0 | AE42: =$AB42*F42/100 -> 0 | AG42: =$AF42*D42/100 -> 0 | AH42: =$AF42*E42/100 -> 0 | AI42: =$AF42*F42/100 -> 0 | AK42: =$AJ42*D42/100 -> 0 | AL42: =$AJ42*E42/100 -> 0 | AM42: =$AJ42*F42/100 -> 0
B43: Huile Colza | C43: =T43+X43+AB43+AF43+AJ43 -> 0 | E43: 100 | G43: 0 | H43: 0 | I43: 0 | J43: 7 | K43: 0 | L43: =$C43*D43/100 -> 0 | M43: =$C43*E43/100 -> 0 | N43: =$C43*J43/100 -> 0 | O43: =$C43*F43/100 -> 0 | P43: =$C43*G43/100 -> 0 | Q43: =$C43*H43/100 -> 0 | S43: =C43*K43 -> 0 | U43: =$T43*D43/100 -> 0 | V43: =$T43*E43/100 -> 0 | W43: =$T43*F43/100 -> 0 | Y43: =$X43*D43/100 -> 0 | Z43: =$X43*E43/100 -> 0 | AA43: =$X43*F43/100 -> 0 | AC43: =$AB43*D43/100 -> 0 | AD43: =$AB43*E43/100 -> 0 | AE43: =$AB43*F43/100 -> 0 | AG43: =$AF43*D43/100 -> 0 | AH43: =$AF43*E43/100 -> 0 | AI43: =$AF43*F43/100 -> 0 | AK43: =$AJ43*D43/100 -> 0 | AL43: =$AJ43*E43/100 -> 0 | AM43: =$AJ43*F43/100 -> 0
B44: Huile Olive | C44: =T44+X44+AB44+AF44+AJ44 -> 0 | E44: 100 | G44: 0 | H44: 0 | I44: 0 | J44: 14 | K44: 0 | L44: =$C44*D44/100 -> 0 | M44: =$C44*E44/100 -> 0 | N44: =$C44*J44/100 -> 0 | O44: =$C44*F44/100 -> 0 | P44: =$C44*G44/100 -> 0 | Q44: =$C44*H44/100 -> 0 | S44: =C44*K44 -> 0 | U44: =$T44*D44/100 -> 0 | V44: =$T44*E44/100 -> 0 | W44: =$T44*F44/100 -> 0 | Y44: =$X44*D44/100 -> 0 | Z44: =$X44*E44/100 -> 0 | AA44: =$X44*F44/100 -> 0 | AC44: =$AB44*D44/100 -> 0 | AD44: =$AB44*E44/100 -> 0 | AE44: =$AB44*F44/100 -> 0 | AG44: =$AF44*D44/100 -> 0 | AH44: =$AF44*E44/100 -> 0 | AI44: =$AF44*F44/100 -> 0 | AK44: =$AJ44*D44/100 -> 0 | AL44: =$AJ44*E44/100 -> 0 | AM44: =$AJ44*F44/100 -> 0
B45: Sucre | C45: =T45+X45+AB45+AF45+AJ45 -> 15 | D45: 0 | E45: 0 | F45: 100 | G45: 0 | H45: 0 | I45: 0 | J45: 0 | K45: 0 | L45: =$C45*D45/100 -> 0 | M45: =$C45*E45/100 -> 0 | N45: =$C45*J45/100 -> 0 | O45: =$C45*F45/100 -> 15 | P45: =$C45*G45/100 -> 0 | Q45: =$C45*H45/100 -> 0 | S45: =C45*K45 -> 0 | T45: 5 | U45: =$T45*D45/100 -> 0 | V45: =$T45*E45/100 -> 0 | W45: =$T45*F45/100 -> 5 | Y45: =$X45*D45/100 -> 0 | Z45: =$X45*E45/100 -> 0 | AA45: =$X45*F45/100 -> 0 | AB45: 5 | AC45: =$AB45*D45/100 -> 0 | AD45: =$AB45*E45/100 -> 0 | AE45: =$AB45*F45/100 -> 5 | AG45: =$AF45*D45/100 -> 0 | AH45: =$AF45*E45/100 -> 0 | AI45: =$AF45*F45/100 -> 0 | AJ45: 5 | AK45: =$AJ45*D45/100 -> 0 | AL45: =$AJ45*E45/100 -> 0 | AM45: =$AJ45*F45/100 -> 5
B46: Miel | C46: =T46+X46+AB46+AF46+AJ46 -> 0 | D46: 0 | E46: 0 | F46: 80 | G46: 7 | H46: 0.1 | I46: 0 | J46: 0 | K46: 0.2 | L46: =$C46*D46/100 -> 0 | M46: =$C46*E46/100 -> 0 | N46: =$C46*J46/100 -> 0 | O46: =$C46*F46/100 -> 0 | P46: =$C46*G46/100 -> 0 | Q46: =$C46*H46/100 -> 0 | S46: =C46*K46 -> 0 | U46: =$T46*D46/100 -> 0 | V46: =$T46*E46/100 -> 0 | W46: =$T46*F46/100 -> 0 | Y46: =$X46*D46/100 -> 0 | Z46: =$X46*E46/100 -> 0 | AA46: =$X46*F46/100 -> 0 | AC46: =$AB46*D46/100 -> 0 | AD46: =$AB46*E46/100 -> 0 | AE46: =$AB46*F46/100 -> 0 | AG46: =$AF46*D46/100 -> 0 | AH46: =$AF46*E46/100 -> 0 | AI46: =$AF46*F46/100 -> 0 | AK46: =$AJ46*D46/100 -> 0 | AL46: =$AJ46*E46/100 -> 0 | AM46: =$AJ46*F46/100 -> 0
B47: Confiture | C47: =T47+X47+AB47+AF47+AJ47 -> 0 | D47: 0 | E47: 0 | F47: 68 | G47: 0 | H47: 0.5 | I47: 0 | J47: 1 | K47: 0.3 | L47: =$C47*D47/100 -> 0 | M47: =$C47*E47/100 -> 0 | N47: =$C47*J47/100 -> 0 | O47: =$C47*F47/100 -> 0 | P47: =$C47*G47/100 -> 0 | Q47: =$C47*H47/100 -> 0 | S47: =C47*K47 -> 0 | U47: =$T47*D47/100 -> 0 | V47: =$T47*E47/100 -> 0 | W47: =$T47*F47/100 -> 0 | Y47: =$X47*D47/100 -> 0 | Z47: =$X47*E47/100 -> 0 | AA47: =$X47*F47/100 -> 0 | AC47: =$AB47*D47/100 -> 0 | AD47: =$AB47*E47/100 -> 0 | AE47: =$AB47*F47/100 -> 0 | AG47: =$AF47*D47/100 -> 0 | AH47: =$AF47*E47/100 -> 0 | AI47: =$AF47*F47/100 -> 0 | AK47: =$AJ47*D47/100 -> 0 | AL47: =$AJ47*E47/100 -> 0 | AM47: =$AJ47*F47/100 -> 0
B48: Cacao poudre | C48: =T48+X48+AB48+AF48+AJ48 -> 0 | D48: 6.1 | E48: 3.8 | F48: 80 | G48: 2 | H48: 11 | I48: 7 | J48: 6.5 | K48: 0 | L48: =$C48*D48/100 -> 0 | M48: =$C48*E48/100 -> 0 | N48: =$C48*J48/100 -> 0 | O48: =$C48*F48/100 -> 0 | P48: =$C48*G48/100 -> 0 | Q48: =$C48*H48/100 -> 0 | S48: =C48*K48 -> 0 | U48: =$T48*D48/100 -> 0 | V48: =$T48*E48/100 -> 0 | W48: =$T48*F48/100 -> 0 | Y48: =$X48*D48/100 -> 0 | Z48: =$X48*E48/100 -> 0 | AA48: =$X48*F48/100 -> 0 | AC48: =$AB48*D48/100 -> 0 | AD48: =$AB48*E48/100 -> 0 | AE48: =$AB48*F48/100 -> 0 | AG48: =$AF48*D48/100 -> 0 | AH48: =$AF48*E48/100 -> 0 | AI48: =$AF48*F48/100 -> 0 | AK48: =$AJ48*D48/100 -> 0 | AL48: =$AJ48*E48/100 -> 0 | AM48: =$AJ48*F48/100 -> 0
B49: Chocolat 70% | C49: =T49+X49+AB49+AF49+AJ49 -> 0 | D49: 9 | E49: 42 | F49: 30 | G49: 60 | H49: 11 | I49: 13 | J49: 30 | K49: 12 | L49: =$C49*D49/100 -> 0 | M49: =$C49*E49/100 -> 0 | N49: =$C49*J49/100 -> 0 | O49: =$C49*F49/100 -> 0 | P49: =$C49*G49/100 -> 0 | Q49: =$C49*H49/100 -> 0 | S49: =C49*K49 -> 0 | U49: =$T49*D49/100 -> 0 | V49: =$T49*E49/100 -> 0 | W49: =$T49*F49/100 -> 0 | Y49: =$X49*D49/100 -> 0 | Z49: =$X49*E49/100 -> 0 | AA49: =$X49*F49/100 -> 0 | AC49: =$AB49*D49/100 -> 0 | AD49: =$AB49*E49/100 -> 0 | AE49: =$AB49*F49/100 -> 0 | AG49: =$AF49*D49/100 -> 0 | AH49: =$AF49*E49/100 -> 0 | AI49: =$AF49*F49/100 -> 0 | AK49: =$AJ49*D49/100 -> 0 | AL49: =$AJ49*E49/100 -> 0 | AM49: =$AJ49*F49/100 -> 0
B50: Thé, café | C50: =T50+X50+AB50+AF50+AJ50 -> 0 | D50: 0 | E50: 0 | F50: 0 | G50: 0 | H50: 0 | I50: 0 | J50: 0 | K50: 1 | L50: =$C50*D50/100 -> 0 | M50: =$C50*E50/100 -> 0 | N50: =$C50*J50/100 -> 0 | O50: =$C50*F50/100 -> 0 | P50: =$C50*G50/100 -> 0 | Q50: =$C50*H50/100 -> 0 | S50: =C50*K50 -> 0 | U50: =$T50*D50/100 -> 0 | V50: =$T50*E50/100 -> 0 | W50: =$T50*F50/100 -> 0 | Y50: =$X50*D50/100 -> 0 | Z50: =$X50*E50/100 -> 0 | AA50: =$X50*F50/100 -> 0 | AC50: =$AB50*D50/100 -> 0 | AD50: =$AB50*E50/100 -> 0 | AE50: =$AB50*F50/100 -> 0 | AG50: =$AF50*D50/100 -> 0 | AH50: =$AF50*E50/100 -> 0 | AI50: =$AF50*F50/100 -> 0 | AK50: =$AJ50*D50/100 -> 0 | AL50: =$AJ50*E50/100 -> 0 | AM50: =$AJ50*F50/100 -> 0
B51: Jus d'orange | C51: =T51+X51+AB51+AF51+AJ51 -> 0 | D51: 0 | E51: 0 | F51: 12 | G51: 0 | H51: 0 | I51: 0 | J51: 0 | K51: 1 | L51: =$C51*D51/100 -> 0 | M51: =$C51*E51/100 -> 0 | N51: =$C51*J51/100 -> 0 | O51: =$C51*F51/100 -> 0 | P51: =$C51*G51/100 -> 0 | Q51: =$C51*H51/100 -> 0 | S51: =C51*K51 -> 0 | U51: =$T51*D51/100 -> 0 | V51: =$T51*E51/100 -> 0 | W51: =$T51*F51/100 -> 0 | Y51: =$X51*D51/100 -> 0 | Z51: =$X51*E51/100 -> 0 | AA51: =$X51*F51/100 -> 0 | AC51: =$AB51*D51/100 -> 0 | AD51: =$AB51*E51/100 -> 0 | AE51: =$AB51*F51/100 -> 0 | AG51: =$AF51*D51/100 -> 0 | AH51: =$AF51*E51/100 -> 0 | AI51: =$AF51*F51/100 -> 0 | AK51: =$AJ51*D51/100 -> 0 | AL51: =$AJ51*E51/100 -> 0 | AM51: =$AJ51*F51/100 -> 0
B52: Sojasun chocolat | C52: =T52+X52+AB52+AF52+AJ52 -> 0 | D52: 3.4 | E52: 2 | F52: 9.4 | G52: 120 | H52: 0 | I52: 1.1 | J52: 0.5 | K52: 1 | L52: =$C52*D52/100 -> 0 | M52: =$C52*E52/100 -> 0 | N52: =$C52*J52/100 -> 0 | O52: =$C52*F52/100 -> 0 | P52: =$C52*G52/100 -> 0 | Q52: =$C52*H52/100 -> 0 | S52: =C52*K52 -> 0 | U52: =$T52*D52/100 -> 0 | V52: =$T52*E52/100 -> 0 | W52: =$T52*F52/100 -> 0 | Y52: =$X52*D52/100 -> 0 | Z52: =$X52*E52/100 -> 0 | AA52: =$X52*F52/100 -> 0 | AC52: =$AB52*D52/100 -> 0 | AD52: =$AB52*E52/100 -> 0 | AE52: =$AB52*F52/100 -> 0 | AG52: =$AF52*D52/100 -> 0 | AH52: =$AF52*E52/100 -> 0 | AI52: =$AF52*F52/100 -> 0 | AK52: =$AJ52*D52/100 -> 0 | AL52: =$AJ52*E52/100 -> 0 | AM52: =$AJ52*F52/100 -> 0
B53: Eau | C53: =T53+X53+AB53+AF53+AJ53 -> 0 | D53: 0 | E53: 0 | F53: 0 | G53: 0 | H53: 0 | I53: 0 | J53: 0 | K53: 1 | L53: =$C53*D53/100 -> 0 | M53: =$C53*E53/100 -> 0 | N53: =$C53*J53/100 -> 0 | O53: =$C53*F53/100 -> 0 | P53: =$C53*G53/100 -> 0 | Q53: =$C53*H53/100 -> 0 | S53: =C53*K53 -> 0 | U53: =$T53*D53/100 -> 0 | V53: =$T53*E53/100 -> 0 | W53: =$T53*F53/100 -> 0 | Y53: =$X53*D53/100 -> 0 | Z53: =$X53*E53/100 -> 0 | AA53: =$X53*F53/100 -> 0 | AC53: =$AB53*D53/100 -> 0 | AD53: =$AB53*E53/100 -> 0 | AE53: =$AB53*F53/100 -> 0 | AG53: =$AF53*D53/100 -> 0 | AH53: =$AF53*E53/100 -> 0 | AI53: =$AF53*F53/100 -> 0 | AK53: =$AJ53*D53/100 -> 0 | AL53: =$AJ53*E53/100 -> 0 | AM53: =$AJ53*F53/100 -> 0
B54: potage légumes | C54: =T54+X54+AB54+AF54+AJ54 -> 0 | D54: 1 | E54: 0 | F54: 5 | G54: 40 | H54: 0.6 | I54: 2.5 | J54: 0 | K54: 0.8 | L54: =$C54*D54/100 -> 0 | M54: =$C54*E54/100 -> 0 | N54: =$C54*J54/100 -> 0 | O54: =$C54*F54/100 -> 0 | P54: =$C54*G54/100 -> 0 | Q54: =$C54*H54/100 -> 0 | S54: =C54*K54 -> 0 | U54: =$T54*D54/100 -> 0 | V54: =$T54*E54/100 -> 0 | W54: =$T54*F54/100 -> 0 | Y54: =$X54*D54/100 -> 0 | Z54: =$X54*E54/100 -> 0 | AA54: =$X54*F54/100 -> 0 | AC54: =$AB54*D54/100 -> 0 | AD54: =$AB54*E54/100 -> 0 | AE54: =$AB54*F54/100 -> 0 | AG54: =$AF54*D54/100 -> 0 | AH54: =$AF54*E54/100 -> 0 | AI54: =$AF54*F54/100 -> 0 | AK54: =$AJ54*D54/100 -> 0 | AL54: =$AJ54*E54/100 -> 0 | AM54: =$AJ54*F54/100 -> 0
B55: Alcool (gr d'alcool) | C55: 0 | L55: =$C55*D55/100 -> 0 | M55: =$C55*E55/100 -> 0 | N55: =$C55*J55/100 -> 0 | O55: =$C55*F55/100 -> 0 | P55: =$C55*G55/100 -> 0 | Q55: =$C55*H55/100 -> 0 | S55: 0 | U55: =$T55*D55/100 -> 0 | V55: =$T55*E55/100 -> 0 | W55: =$T55*F55/100 -> 0 | Y55: =$X55*D55/100 -> 0 | Z55: =$X55*E55/100 -> 0 | AA55: =$X55*F55/100 -> 0 | AC55: =$AB55*D55/100 -> 0 | AD55: =$AB55*E55/100 -> 0 | AE55: =$AB55*F55/100 -> 0 | AG55: =$AF55*D55/100 -> 0 | AH55: =$AF55*E55/100 -> 0 | AI55: =$AF55*F55/100 -> 0 | AK55: =$AJ55*D55/100 -> 0 | AL55: =$AJ55*E55/100 -> 0 | AM55: =$AJ55*F55/100 -> 0
C56: 29 | S56: 0
B57: SOUS Total en Kj | C57: =L58+M58+O58 -> 6521.555 | H57: Grammage | L57: =SUM(L6:L56) -> 90.15 | M57: =SUM(M6:M56) -> 40.2725 | N57: =SUM(N6:N56) -> 20.429 | O57: =SUM(O6:O56) -> 203.45 | P57: =SUM(P6:P56) -> 927.35 | Q57: =SUM(Q6:Q56) -> 13.025 | R57: =SUM(R6:R56) -> 22.285 | S57: =SUM(S6:S56) -> 3517.46 | T57: TT | U57: =SUM(U6:U56) -> 13 | V57: =SUM(V6:V56) -> 8.7375 | W57: =SUM(W6:W56) -> 44.25 | Y57: =SUM(Y6:Y56) -> 0 | Z57: =SUM(Z6:Z56) -> 0 | AA57: =SUM(AA6:AA56) -> 0 | AC57: =SUM(AC6:AC56) -> 38.55 | AD57: =SUM(AD6:AD56) -> 16.2775 | AE57: =SUM(AE6:AE56) -> 69.9 | AG57: =SUM(AG6:AG56) -> 1.05 | AH57: =SUM(AH6:AH56) -> 3.58 | AI57: =SUM(AI6:AI56) -> 13.4 | AK57: =SUM(AK6:AK56) -> 37.55 | AL57: =SUM(AL6:AL56) -> 11.6775 | AM57: =SUM(AM6:AM56) -> 75.9
B58: Consommation ALCOOL | C58: =C55*C56 -> 0 | H58: Kj | L58: =L57*17 -> 1532.55 | M58: =M57*38 -> 1530.355 | O58: =O57*17 -> 3458.65 | U58: =U57*17 -> 221 | V58: =V57*38 -> 332.025 | W58: =W57*17 -> 752.25 | Y58: =Y57*17 -> 0 | Z58: =Z57*38 -> 0 | AA58: =AA57*17 -> 0 | AC58: =AC57*17 -> 655.35 | AD58: =AD57*38 -> 618.545 | AE58: =AE57*17 -> 1188.3 | AG58: =AG57*17 -> 17.85 | AH58: =AH57*38 -> 136.04 | AI58: =AI57*17 -> 227.8 | AK58: =AK57*17 -> 638.35 | AL58: =AL57*38 -> 443.745 | AM58: =AM57*17 -> 1290.3
B59: grammage attendu | G59: Répartition en % | L59: =BILAN!E17 -> 46.267119 | M59: =BILAN!E19 -> 72.444568 | O59: =BILAN!E23 -> 185.06848 | T59: Kj | U59: =U58+V58+W58 -> 1305.275 | W59: =U59/X61 -> 0.20014782 | Y59: =Y58+Z58+AA58 -> 0 | AA59: =Y59*100/X61 -> 0 | AC59: =AC58+AD58+AE58 -> 2462.195 | AE59: =AC59/X61 -> 0.37754723 | AG59: =AG58+AH58+AI58 -> 381.69 | AI59: =AG59/X61 -> 0.058527452 | AK59: =AK58+AL58+AM58 -> 2372.395 | AM59: =AK59/X61 -> 0.3637775
H60: Grammage attendu | L60: =BILAN!F17 -> 92.534238 | M60: =BILAN!F19 -> 82.793792 | N60: =BILAN!E20 -> 24.838138 | O60: =BILAN!F23 -> 254.46915 | P60: =BILAN!F25 -> 900 | Q60: =BILAN!F26 -> 9 | R60: =BILAN!F27 -> 25 | S60: =BILAN!E28 -> 3500
B61: Total en Kj | C61: =C58+C57 -> 6521.555 | L61: =L58/C57 -> 0.23499763 | M61: =M58/C57 -> 0.23466106 | O61: =O58/C57 -> 0.53034131 | S61: =BILAN!F28 -> 5000 | U61: Total Energie | X61: =U59+Y59+AC59+AG59+AK59 -> 6521.555 | Z61: Kcal | AB61: soit | AC61: =X61/4.18 -> 1560.1806 | AE61: Kcal
B62: Total en Kcal | C62: =C61/4.18 -> 1560.1806 | L62: =BILAN!F17 -> 92.534238

Sheet Feuil1

Sheet Feuil2

Sheet Feuil3
