Workbook
Name dessertlundimidi: 'Menu LUNDI'!$E$4:$E$10
Name Entrée_1: DECLINAISON!$B$6:$B$6
Name Entrée_1: 'Menu LUNDI'!$A$5:$A$5
Name entree1: 'Menu LUNDI'!$A$5:$A$5
Name entree1: DECLINAISON!$B$6:$B$6
Name entreelundimidi: 'Menu LUNDI'!$A$5:$A$10
Name fromagelundimidi: 'Menu LUNDI'!$D$4:$D$10
Name garniture1lundimidi: 'Menu LUNDI'!$C$5:$C$10
Name platlundimidi: 'Menu LUNDI'!$B$5:$B$10

Sheet lundi midi
B1: FICHE DE COMMANDE
A3: Ajouter prélevement pour les MAS
A4: Ajouter prélevement pour l'autre bloc
A8: REPAS pour le MIDI | I8: Lundi midi | O8: ='[3]recap semaine'!B4 -> 40980
AG9: Gougaut
N10: sans | W10: Rault M | Y10: sans | AE10: sans | AF10: Lanos | AG10: normo
A11: total midi | D11: hypo- | F11: hypo | G11: diab | J11: hypo | M11: sans | N11: poiss | R11: mixé | U11: PN | V11: PN | W11: hypo & | Y11: lact. | AB11: sans | AE11: acide | AF11: pauvre | AG11: caloriq
A12: =AO16+AO54 -> 122 | B12: nor- | D12: choles | E12: choles | F12: gluci- | G12: s/œuf | H12: hypo | I12: hypo* | J12: s/riz | K12: hypo | L12: sans | M12: poiss | N12: pâtes | O12: que | Q12: mixé | R12: sans | S12: prél | T12: prélé | U12: san- | V12: plateau | W12: hypo- | X12: Jenvrin | Y12: fécul. | Z12: s/ jam- | AA12: sans | AB12: acide | AC12: sans | AD12: sans | AE12: + | AF12: en | AG12: mixé | AH12: ss sel | AI12: sans
B13: maux | C13: hypo | D13: térol. | E13: mixé | F13: dique | G13: mixé | H13: fibre | I13: source | J13: fibre | K13: mixé | L13: poiss | M13: mixé | N13: mixé | O13: fibres | P13: mixé | Q13: fibres | R13: sulfite | S13: mixé | T13: vement | U13: dwich | V13: froid | W13: choles | X13: J. | Y13: viande | Z13: bon | AA13: acide | AB13: mixé | AC13: bœuf | AD13: œuf | AE13: fibres | AF13: potassi | AG13: fibre | AH13: hypo | AI13: Purée | AO13: total
A14: CLIENT 1 | B14: 39 | C14: 3 | D14: 2 | E14: 1 | F14: 1 | G14: 1 | H14: 1 | L14: 3 | O14: 1 | P14: 6 | Q14: 7 | S14: 1 | T14: 1 | W14: 1 | X14: 1 | AA14: 2 | AB14: 2 | AF14: 1 | AG14: 1 | AI14: 1 | AO14: =SUM(B14:AN14) -> 76
A15: CLIENT 2 | B15: 27 | C15: 3 | I15: 1 | J15: 1 | K15: 1 | L15: 2 | N15: 1 | O15: 0 | P15: 6 | T15: 1 | Y15: 0 | AC15: 1 | AD15: 1 | AH15: 1 | AO15: =SUM(B15:AN15) -> 46
A16: s/total MAS | B16: =SUM(B14:B15) -> 66 | C16: =SUM(C14:C15) -> 6 | D16: =SUM(D14:D15) -> 2 | E16: =SUM(E14:E15) -> 1 | F16: =SUM(F14:F15) -> 1 | G16: =SUM(G14:G15) -> 1 | H16: =SUM(H14:H15) -> 1 | I16: =SUM(I14:I15) -> 1 | ... AK16: =SUM(AK14:AK15) -> 0 | AN16: =SUM(AN14:AN15) -> 0 | AO16: =AO14+AO15 -> 122
L18: choles | N18: Que | Q18: mixé | U18: PN | V18: PN | AE18: s/ | AF18: s/ | AG18: s/
B19: nor- | D19: choles | F19: hypo | G19: hyper | H19: sans | I19: sans | J19: diab | K19: hypo | L19: s/sel | M19: sans | N19: fécu- | O19: que | P19: mixé | Q19: sans | R19: sans | S19: prél | T19: prélé | U19: san- | V19: plateau | W19: hypo & | X19: Lori- | Y19: s/ | Z19: s/ | AA19: s/ | AB19: s/ | AC19: s/ | AD19: s/ | AE19: porc | AF19: porc | AG19: mouton | AH19: hyper | AI19: allergique | AJ19: colo | AK19: Mr | AL19: s/ail | AM19: s/gaz | AN19: SELF
B20: maux | C20: hypo | E20: diab | F20: diab | G20: calorique | H20: sel | I20: porc | J20: s/sel | K20: s/sel | L20: s/sucre | M20: poiss | N20: lent | O20: fibre | Q20: mout | R20: mouton | S20: régime | T20: vement | U20: dwich | V20: froid | W20: choles | X20: mier N. | Y20: viande | Z20: lactose | AA20: champ | AB20: fruit mer | AC20: féculent | AD20: fraise | AE20: gaz | AF20: fibre | AG20: gélatine | AH20: calorique | AI20: arachide | AJ20: pathe | AK20: Bouvier | AL20: épice | AN20: UCPR | AO20: total
A21: CLIENT 3 | AO21: =SUM(B21:AN21) -> 0 | AP21: =AO21+AO22 -> 0
A22: CLIENT 4 | AO22: =SUM(B22:AN22) -> 0
A23: CLIENT 5 | AO23: =SUM(B23:AN23) -> 0 | AP23: =AO23+AO24 -> 0
A24: CLIENT 6 | AO24: =SUM(B24:AN24) -> 0
A25: CLIENT 7 | AO25: =SUM(B25:AN25) -> 0
A26: CLIENT 8 | AO26: =SUM(B26:AN26) -> 0
A27: CLIENT 9 | AO27: =SUM(B27:AN27) -> 0
A28: CLIENT 10 | AO28: =SUM(B28:AN28) -> 0
A29: CLIENT 11 | AO29: =SUM(B29:AN29) -> 0
A30: CLIENT 12 | AO30: =SUM(B30:AN30) -> 0
A31: CLIENT 13 | AO31: =SUM(B31:AN31) -> 0 | AP31: =AO31+AO32 -> 0
A32: CLIENT 14 | AO32: =SUM(B32:AN32) -> 0
A33: CLIENT 15 | AO33: =SUM(B33:AN33) -> 0
A34: CLIENT 16 | AO34: =SUM(B34:AN34) -> 0
A35: CLIENT 17 | AO35: =SUM(B35:AN35) -> 0
A36: CLIENT 18 | AO36: =SUM(B36:AN36) -> 0
A37: CLIENT 19 | AO37: =SUM(B37:AN37) -> 0
A38: CLIENT 20 | AO38: =SUM(B38:AN38) -> 0
A39: CLIENT 21 | AO39: =SUM(B39:AN39) -> 0
A40: CLIENT 22 | AO40: =SUM(B40:AN40) -> 0
A41: CLIENT 23 | AO41: =SUM(B41:AN41) -> 0
A42: CLIENT 24 | AO42: =SUM(B42:AN42) -> 0 | AP42: =AO42+AO43+AO44 -> 0
A43: CLIENT 25 | AO43: =SUM(B43:AN43) -> 0
A44: CLIENT 26 | AO44: =SUM(B44:AN44) -> 0
A45: CLIENT 27 | AO45: =SUM(B45:AN45) -> 0
...

Sheet CLIENT 1
A1: CLIENT 1 | C1: date de livraison | D1: =J1 -> 40938 | G1: date de fabrication | H1: =D1-3 -> 40935 | I1: jour de consommation | J1: 40938
A2: Lundi midi | C2: température camion | H2: température plat témoin
A5: Lundi Midi
A6: Entrée | C6: Plat | E6: Garniture | G6: fromage | I6: dessert | L6: Plateau froid | M6: Sandwich
A7: ='Menu LUNDI'!A5 -> Tomates | B7: ='lundi midi'!B14 -> 39 | C7: ='Menu LUNDI'!B5 -> aile de raie sauce creme | D7: ='lundi midi'!B14 -> 39 | E7: ='Menu LUNDI'!C5 -> épinards | G7: ='Menu LUNDI'!D5 -> chèvre | I7: ='Menu LUNDI'!E5 -> flan patissier maisson
A8: ='Menu LUNDI'!A6 -> Tomates allégée | B8: ='lundi midi'!C14 -> 3 | C8: ='Menu LUNDI'!B6 -> aile de raie sauce allégée | D8: =SUM('lundi midi'!C14:K14) -> 9 | E8: ='Menu LUNDI'!C6 -> coquillettes | G8: ='Menu LUNDI'!D6 -> fromage allégé | I8: ='Menu LUNDI'!E6 -> flan patissier allégé
A9: ='Menu LUNDI'!A7 -> Cœur de palmier | C9: ='Menu LUNDI'!B7 -> escalope de dinde sauce crème | D9: ='lundi midi'!L14 -> 3 | E9: ='Menu LUNDI'!C7 -> Carottes vichy | G9: ='Menu LUNDI'!D7 -> fromage s/ sel | I9: ='Menu LUNDI'!E7 -> yaourt 0%
A10: ='Menu LUNDI'!A8 -> paté de campagne | C10: ='Menu LUNDI'!B8 -> omelette | E10: ='Menu LUNDI'!C8 -> Purée pdt | G10: ='Menu LUNDI'!D8 -> yaourt 0% | I10: ='Menu LUNDI'!E8 -> fruit de saison
A11: ='Menu LUNDI'!A9 -> - | C11: ='Menu LUNDI'!B9 -> - | E11: ='Menu LUNDI'!C9 -> - | G11: ='Menu LUNDI'!D9 -> compote | I11: ='Menu LUNDI'!E9 -> compote
A12: ='Menu LUNDI'!A10 -> - | C12: ='Menu LUNDI'!B10 -> - | E12: ='Menu LUNDI'!C10 -> - | G12: ='Menu LUNDI'!D10 -> 1 petit suisse | I12: ='Menu LUNDI'!E10 -> -
A13: Total Entrée | B13: =SUM(B7:B12) -> 42 | C13: Total plat | D13: =SUM(D7:D12) -> 51 | E13: Total garniture | F13: =SUM(F7:F12) -> 0 | G13: total fromage | H13: =SUM(H7:H12) -> 0 | I13: total dessert | J13: =SUM(J7:J12) -> 0
A15: Nombre de repas au total | D15: =D13 -> 51
A20: ='[1]Client 4'!A43 -> Pour le chauffeur : à l'arrivée sur le site et au départ du site | G20: ='[1]Client 4'!A44 -> Vérifier la T° du camion, la T° du plat temoin du camion - Relever la T° de la chambre froide du site. La T° doit être comprises entre 0 et 3°
B21: L'ENREGISTREMENT DES CONTRÔLES SUR L'ETABLISSEMENT LIVRE EN LIAISON FROIDE
C22: La réception | F22: Le stockage | H22: Heure sortie CF | J22: La remise en température | Q22: La distribution
A23: Produit contrôlé | C23: aspect* | D23: DLC | E23: T° 3°C | F23: T° chambre froide** | J23: Produit | L23: Début | O23: Fin | Q23: Préparation froide | T23: T°
L24: heure | N24: T° | O24: heure | P24: T°
A25: =A6 -> Entrée
A26: =C6 -> Plat
A27: =E6 -> Garniture
A28: =G6 -> fromage
A29: =I6 -> dessert
A31: Validation du contrôle | F31: Validation du contrôle | J31: Validation du contrôle | Q31: Validation du contrôle
A32: Non conformités | L32: Actions correctives
A34: * Inscrire " C " Pour les produits conformes à la commande ou au plan de contrôle | H34: Inscrire " NC " pour les produits non conformes | N34: ** Indiquer la température relevée
A35: Plats témoins ( Mettre un astérisque pour certifié la réalisation du plat témoin ) | H35: Pour les préparations fabriquées sur site et/ ou pour les préparations ayant fait l'objet de manipulation importante.

Sheet CLIENT 2
A1: CLIENT 2 | C1: date de livraison | D1: =J1 -> 40938 | G1: date de fabrication | H1: =D1-3 -> 40935 | I1: jour de consommation | J1: ='CLIENT 1'!J1 -> 40938
A2: Lundi midi | C2: température camion | H2: température plat témoin
A5: Lundi Midi
A6: Entrée | C6: Plat | E6: Garniture | G6: fromage | I6: dessert
A7: ='Menu LUNDI'!A5 -> Tomates | B7: 5 | C7: ='Menu LUNDI'!B5 -> aile de raie sauce creme | D7: 5 | E7: ='Menu LUNDI'!C5 -> épinards | F7: 5.5 | G7: ='Menu LUNDI'!D5 -> chèvre | H7: 5 | I7: ='Menu LUNDI'!E5 -> flan patissier maisson | J7: 5
A8: ='Menu LUNDI'!A6 -> Tomates allégée | B8: 2 | C8: ='Menu LUNDI'!B6 -> aile de raie sauce allégée | D8: 2 | E8: ='Menu LUNDI'!C6 -> coquillettes | F8: 1.5 | G8: ='Menu LUNDI'!D6 -> fromage allégé | H8: 2 | I8: ='Menu LUNDI'!E6 -> flan patissier allégé | J8: 2
A9: ='Menu LUNDI'!A7 -> Cœur de palmier | C9: ='Menu LUNDI'!B7 -> escalope de dinde sauce crème | E9: ='Menu LUNDI'!C7 -> Carottes vichy | G9: ='Menu LUNDI'!D7 -> fromage s/ sel | I9: ='Menu LUNDI'!E7 -> yaourt 0%
A10: ='Menu LUNDI'!A8 -> paté de campagne | C10: ='Menu LUNDI'!B8 -> omelette | E10: ='Menu LUNDI'!C8 -> Purée pdt | G10: ='Menu LUNDI'!D8 -> yaourt 0% | I10: ='Menu LUNDI'!E8 -> fruit de saison
A11: ='Menu LUNDI'!A9 -> - | C11: ='Menu LUNDI'!B9 -> - | E11: ='Menu LUNDI'!C9 -> - | G11: ='Menu LUNDI'!D9 -> compote | I11: ='Menu LUNDI'!E9 -> compote
A12: ='Menu LUNDI'!A10 -> - | C12: ='Menu LUNDI'!B10 -> - | E12: ='Menu LUNDI'!C10 -> - | G12: ='Menu LUNDI'!D10 -> 1 petit suisse | I12: ='Menu LUNDI'!E10 -> -
A13: Total Entrée | B13: =SUM(B7:B12) -> 7 | C13: Total plat | D13: =SUM(D7:D12) -> 7 | E13: Total garniture | F13: =SUM(F7:F12) -> 7 | G13: total fromage | H13: =SUM(H7:H12) -> 7 | I13: total dessert | J13: =SUM(J7:J12) -> 7
A15: Nombre de repas au total | D15: =D13 -> 7
A20: ='[1]Client 4'!A43 -> Pour le chauffeur : à l'arrivée sur le site et au départ du site | G20: ='[1]Client 4'!A44 -> Vérifier la T° du camion, la T° du plat temoin du camion - Relever la T° de la chambre froide du site. La T° doit être comprises entre 0 et 3°
B21: L'ENREGISTREMENT DES CONTRÔLES SUR L'ETABLISSEMENT LIVRE EN LIAISON FROIDE
C22: La réception | F22: Le stockage | H22: Heure sortie CF | J22: La remise en température | P22: La distribution
A23: Produit contrôlé | C23: aspect* | D23: DLC | E23: T° 3°C | F23: T° chambre froide** | J23: Produit | K23: Début | N23: Fin | P23: Préparation froide | S23: T°
K24: heure | M24: T° | N24: heure | O24: T°
A25: =#REF! -> #REF!
A26: =#REF! -> #REF!
A27: =#REF! -> #REF!
A28: =#REF! -> #REF!
A29: =#REF! -> #REF!
A30: =#REF! -> #REF!
A31: Validation du contrôle | F31: Validation du contrôle | J31: Validation du contrôle | P31: Validation du contrôle
A32: Non conformités | K32: Actions correctives
A34: * Inscrire " C " Pour les produits conformes à la commande ou au plan de contrôle | H34: Inscrire " NC " pour les produits non conformes | M34: ** Indiquer la température relevée
A35: Plats témoins ( Mettre un astérisque pour certifié la réalisation du plat témoin ) | H35: Pour les préparations fabriquées sur site et/ ou pour les préparations ayant fait l'objet de manipulation importante.

Sheet CLIENT 3
A1: CLIENT 3 | C1: date de livraison | D1: =J1 -> 40938 | G1: date de fabrication | H1: =D1-3 -> 40935 | I1: jour de consommation | J1: ='CLIENT 1'!J1 -> 40938
A2: Lundi midi | C2: température camion | H2: température plat témoin
A5: Lundi Midi
A6: Entrée | C6: Plat | E6: Garniture | G6: fromage | I6: dessert
A7: ='Menu LUNDI'!A5 -> Tomates | B7: 2 | C7: ='Menu LUNDI'!B5 -> aile de raie sauce creme | D7: 2 | E7: ='Menu LUNDI'!C5 -> épinards | F7: 2 | G7: ='Menu LUNDI'!D5 -> chèvre | H7: 2 | I7: ='Menu LUNDI'!E5 -> flan patissier maisson | J7: 2
A8: ='Menu LUNDI'!A6 -> Tomates allégée | C8: ='Menu LUNDI'!B6 -> aile de raie sauce allégée | E8: ='Menu LUNDI'!C6 -> coquillettes | G8: ='Menu LUNDI'!D6 -> fromage allégé | I8: ='Menu LUNDI'!E6 -> flan patissier allégé
A9: ='Menu LUNDI'!A7 -> Cœur de palmier | C9: ='Menu LUNDI'!B7 -> escalope de dinde sauce crème | E9: ='Menu LUNDI'!C7 -> Carottes vichy | G9: ='Menu LUNDI'!D7 -> fromage s/ sel | I9: ='Menu LUNDI'!E7 -> yaourt 0%
A10: ='Menu LUNDI'!A8 -> paté de campagne | C10: ='Menu LUNDI'!B8 -> omelette | E10: ='Menu LUNDI'!C8 -> Purée pdt | G10: ='Menu LUNDI'!D8 -> yaourt 0% | I10: ='Menu LUNDI'!E8 -> fruit de saison
A11: ='Menu LUNDI'!A9 -> - | C11: ='Menu LUNDI'!B9 -> - | E11: ='Menu LUNDI'!C9 -> - | G11: ='Menu LUNDI'!D9 -> compote | I11: ='Menu LUNDI'!E9 -> compote
A12: ='Menu LUNDI'!A10 -> - | C12: ='Menu LUNDI'!B10 -> - | E12: ='Menu LUNDI'!C10 -> - | G12: ='Menu LUNDI'!D10 -> 1 petit suisse | I12: ='Menu LUNDI'!E10 -> -
A13: Total Entrée | B13: =SUM(B7:B12) -> 2 | C13: Total plat | D13: =SUM(D7:D12) -> 2 | E13: Total garniture | F13: =SUM(F7:F12) -> 2 | G13: total fromage | H13: =SUM(H7:H12) -> 2 | I13: total dessert | J13: =SUM(J7:J12) -> 2
A15: Nombre de repas au total | D15: =D13 -> 2
A20: ='[1]Client 4'!A43 -> Pour le chauffeur : à l'arrivée sur le site et au départ du site | G20: ='[1]Client 4'!A44 -> Vérifier la T° du camion, la T° du plat temoin du camion - Relever la T° de la chambre froide du site. La T° doit être comprises entre 0 et 3°
B21: L'ENREGISTREMENT DES CONTRÔLES SUR L'ETABLISSEMENT LIVRE EN LIAISON FROIDE
C22: La réception | F22: Le stockage | H22: Heure sortie CF | J22: La remise en température | P22: La distribution
A23: Produit contrôlé | C23: aspect* | D23: DLC | E23: T° 3°C | F23: T° chambre froide** | J23: Produit | K23: Début | N23: Fin | P23: Préparation froide | S23: T°
K24: heure | M24: T° | N24: heure | O24: T°
A25: =#REF! -> #REF!
A26: =#REF! -> #REF!
A27: =#REF! -> #REF!
A28: =#REF! -> #REF!
A29: =#REF! -> #REF!
A30: =#REF! -> #REF!
A31: Validation du contrôle | F31: Validation du contrôle | J31: Validation du contrôle | P31: Validation du contrôle
A32: Non conformités | K32: Actions correctives
A34: * Inscrire " C " Pour les produits conformes à la commande ou au plan de contrôle | H34: Inscrire " NC " pour les produits non conformes | M34: ** Indiquer la température relevée
A35: Plats témoins ( Mettre un astérisque pour certifié la réalisation du plat témoin ) | H35: Pour les préparations fabriquées sur site et/ ou pour les préparations ayant fait l'objet de manipulation importante.

Sheet TOTAL MAS 2
A1: =Q1 -> 40938 | C1: date de livraison | F1: ='CLIENT 1'!D1 -> 40938 | H1: date de fabrication | K1: ='CLIENT 1'!H1 -> 40935 | N1: jour de consommation | Q1: ='[1]Client 4'!$Q$1 -> 40938
A2: ='CLIENT 1'!A2 -> Lundi midi | H2: ADAPEI DE L'ORNE
A3: ='CLIENT 1'!J1 -> 40938
A4: ='[1]Client 4'!B4 -> salade d'endives | B4: ='[1]Client 4'!C4 -> Entrée 2 | C4: ='[1]Client 4'!D4 -> Entrée 3 | D4: ='[1]Client 4'!E4 -> Entrée 4 | E4: ='[1]Client 4'!F4 -> Entrée 5 | F4: ='[1]Client 4'!G4 -> Entrée 6 | G4: ='[1]Client 4'!H4 -> sauté de porc sauce douce | H4: ='[1]Client 4'!I4 -> Viande 2 | ... AC4: ='[1]Client 4'!AD4 -> dessert 6
A5: ='[1]Client 3'!B37+'[1]Client 4'!B37 -> 10 | B5: ='[1]Client 3'!C37+'[1]Client 4'!C37 -> 0 | C5: ='[1]Client 3'!D37+'[1]Client 4'!D37 -> 0 | D5: ='[1]Client 3'!E37+'[1]Client 4'!E37 -> 0 | E5: ='[1]Client 3'!F37+'[1]Client 4'!F37 -> 0 | F5: ='[1]Client 3'!G37+'[1]Client 4'!G37 -> 0 | G5: ='[1]Client 3'!H37+'[1]Client 4'!H37 -> 10 | H5: ='[1]Client 3'!I37+'[1]Client 4'!I37 -> 0 | ... AC5: ='[1]Client 3'!AD37+'[1]Client 4'!AD37 -> 0
A7: =A4 -> salade d'endives | E7: =A5 -> 10 | J7: =L4 -> Poisson 2 | N7: =L5 -> 0
A8: =B4 -> Entrée 2 | E8: =B5 -> 0 | J8: =M4 -> Légume 1 | N8: =M5 -> 10
A9: =C4 -> Entrée 3 | E9: =C5 -> 0 | F9: =E7+E8+E9+E10+E11 -> 10 | J9: =N4 -> Légume 2 | N9: =N5 -> 0 | P9: =N7+N8+N9+N10+N12+N13+N11 -> 16
A10: =D4 -> Entrée 4 | E10: =D5 -> 0 | J10: =O4 -> Légume 3 | N10: =O5 -> 0
A11: 0 | E11: 0 | J11: fromage blanc | N11: 1
J12: gruyère (C. Leveau) | N12: 1
A13: =E4 -> Entrée 5 | E13: =E5 -> 0 | J13: yaourt nature (Peupliers) | N13: 4
A14: =F4 -> Entrée 6 | E14: =F5 -> 0 | F14: =E13+E14+E15+E16 -> 10
A15: =G4 -> sauté de porc sauce douce | E15: =G5 -> 10 | J15: =P4 -> Légume 4 | N15: =P5 -> 0
A16: 0 | E16: 0 | J16: =Q4 -> Légume 5 | N16: =Q5 -> 0 | P16: =N15+N16+N17+N18+N19 -> 0
J17: =R4 -> Légume 6 | N17: =R5 -> 0
A18: =H4 -> Viande 2 | E18: =H5 -> 0
A19: =I4 -> Viande 3 | E19: =I5 -> 0 | F19: =E18+E19+E20+E21 -> 0
A20: =J4 -> œuf ou feuilleté | E20: =J5 -> 0
A21: =K4 -> Poisson 1 | E21: =K5 -> 0 | J21: =S4 -> Fromage | N21: =S5 -> 10
A22: 0 | E22: 0 | J22: =T4 -> Fromage s/sel | N22: =T5 -> 0
I25: Repas ADAPEI | L25: =F14 -> 10
I26: Mas Les Mézières | L26: ='[1]Client 1'!B32 -> 10
A27: IME L'ETAPE : - 20 fruits + 20 compotes | I27: Mas La Soucre | L27: ='[1]Client 2'!B23 -> 0
I28: TOTAL | L28: =SUM(L25:L27) -> 20
B34: ] | C34: page suivante

Sheet Total MAS 1
A1: Mézière | C1: date de livraison | D1: =J1 -> 40938 | G1: date de fabrication | H1: =D1-3 -> 40935 | I1: jour de consommation | J1: 40938
A2: Lundi midi | C2: température camion | H2: température plat témoin
A5: Lundi Midi
A6: Entrée | C6: Plat | E6: Garniture | G6: fromage | I6: dessert
A7: ='Menu LUNDI'!A5 -> Tomates | B7: ='CLIENT 1'!B7+'CLIENT 2'!B7+'CLIENT 3'!B7 -> 46 | C7: ='Menu LUNDI'!B5 -> aile de raie sauce creme | D7: ='CLIENT 1'!D7+'CLIENT 2'!D7+'CLIENT 3'!D7 -> 46 | E7: ='Menu LUNDI'!C5 -> épinards | F7: ='CLIENT 1'!F7+'CLIENT 2'!F7+'CLIENT 3'!F7 -> 7.5 | G7: ='Menu LUNDI'!D5 -> chèvre | H7: ='CLIENT 1'!H7+'CLIENT 2'!H7+'CLIENT 3'!H7 -> 7 | I7: ='Menu LUNDI'!E5 -> flan patissier maisson | J7: ='CLIENT 1'!J7+'CLIENT 2'!J7+'CLIENT 3'!J7 -> 7
A8: ='Menu LUNDI'!A6 -> Tomates allégée | B8: ='CLIENT 1'!B8+'CLIENT 2'!B8+'CLIENT 3'!B8 -> 5 | C8: ='Menu LUNDI'!B6 -> aile de raie sauce allégée | D8: ='CLIENT 1'!D8+'CLIENT 2'!D8+'CLIENT 3'!D8 -> 11 | E8: ='Menu LUNDI'!C6 -> coquillettes | F8: ='CLIENT 1'!F8+'CLIENT 2'!F8+'CLIENT 3'!F8 -> 1.5 | G8: ='Menu LUNDI'!D6 -> fromage allégé | H8: ='CLIENT 1'!H8+'CLIENT 2'!H8+'CLIENT 3'!H8 -> 2 | I8: ='Menu LUNDI'!E6 -> flan patissier allégé | J8: ='CLIENT 1'!J8+'CLIENT 2'!J8+'CLIENT 3'!J8 -> 2
A9: ='Menu LUNDI'!A7 -> Cœur de palmier | B9: ='CLIENT 1'!B9+'CLIENT 2'!B9+'CLIENT 3'!B9 -> 0 | C9: ='Menu LUNDI'!B7 -> escalope de dinde sauce crème | D9: ='CLIENT 1'!D9+'CLIENT 2'!D9+'CLIENT 3'!D9 -> 3 | E9: ='Menu LUNDI'!C7 -> Carottes vichy | F9: ='CLIENT 1'!F9+'CLIENT 2'!F9+'CLIENT 3'!F9 -> 0 | G9: ='Menu LUNDI'!D7 -> fromage s/ sel | H9: ='CLIENT 1'!H9+'CLIENT 2'!H9+'CLIENT 3'!H9 -> 0 | I9: ='Menu LUNDI'!E7 -> yaourt 0% | J9: ='CLIENT 1'!J9+'CLIENT 2'!J9+'CLIENT 3'!J9 -> 0
A10: ='Menu LUNDI'!A8 -> paté de campagne | B10: ='CLIENT 1'!B10+'CLIENT 2'!B10+'CLIENT 3'!B10 -> 0 | C10: ='Menu LUNDI'!B8 -> omelette | D10: ='CLIENT 1'!D10+'CLIENT 2'!D10+'CLIENT 3'!D10 -> 0 | E10: ='Menu LUNDI'!C8 -> Purée pdt | F10: ='CLIENT 1'!F10+'CLIENT 2'!F10+'CLIENT 3'!F10 -> 0 | G10: ='Menu LUNDI'!D8 -> yaourt 0% | H10: ='CLIENT 1'!H10+'CLIENT 2'!H10+'CLIENT 3'!H10 -> 0 | I10: ='Menu LUNDI'!E8 -> fruit de saison | J10: ='CLIENT 1'!J10+'CLIENT 2'!J10+'CLIENT 3'!J10 -> 0
A11: ='Menu LUNDI'!A9 -> - | B11: ='CLIENT 1'!B11+'CLIENT 2'!B11+'CLIENT 3'!B11 -> 0 | C11: ='Menu LUNDI'!B9 -> - | D11: ='CLIENT 1'!D11+'CLIENT 2'!D11+'CLIENT 3'!D11 -> 0 | E11: ='Menu LUNDI'!C9 -> - | F11: ='CLIENT 1'!F11+'CLIENT 2'!F11+'CLIENT 3'!F11 -> 0 | G11: ='Menu LUNDI'!D9 -> compote | H11: ='CLIENT 1'!H11+'CLIENT 2'!H11+'CLIENT 3'!H11 -> 0 | I11: ='Menu LUNDI'!E9 -> compote | J11: ='CLIENT 1'!J11+'CLIENT 2'!J11+'CLIENT 3'!J11 -> 0
A12: ='Menu LUNDI'!A10 -> - | B12: ='CLIENT 1'!B12+'CLIENT 2'!B12+'CLIENT 3'!B12 -> 0 | C12: ='Menu LUNDI'!B10 -> - | D12: ='CLIENT 1'!D12+'CLIENT 2'!D12+'CLIENT 3'!D12 -> 0 | E12: ='Menu LUNDI'!C10 -> - | F12: ='CLIENT 1'!F12+'CLIENT 2'!F12+'CLIENT 3'!F12 -> 0 | G12: ='Menu LUNDI'!D10 -> 1 petit suisse | H12: ='CLIENT 1'!H12+'CLIENT 2'!H12+'CLIENT 3'!H12 -> 0 | I12: ='Menu LUNDI'!E10 -> - | J12: ='CLIENT 1'!J12+'CLIENT 2'!J12+'CLIENT 3'!J12 -> 0
A13: Total Entrée | B13: =SUM(B7:B12) -> 51 | C13: Total plat | D13: =SUM(D7:D12) -> 60 | E13: Total garniture | F13: =SUM(F7:F12) -> 9 | G13: total fromage | H13: =SUM(H7:H12) -> 9 | I13: total dessert | J13: =SUM(J7:J12) -> 9
A18: Repas MAS | B18: =D13 -> 60
A19: Repas ADAPEI
A20: Repas Ecole
A22: TOTAL PRODUCTION | B22: =SUM(B18:B20) -> 60

Sheet recap Jour
A2: SEMAINE 6
A3: Le Midi | B3: lundi midi | C3: mardi midi | D3: mercredi midi | E3: jeudi midi | F3: vendredi midi | G3: samedi midi | H3: dimanche midi | I3: total
B4: 40945 | C4: =SUM(B4+1) -> 40946 | D4: =SUM(C4+1) -> 40947 | E4: =SUM(D4+1) -> 40948 | F4: =SUM(E4+1) -> 40949 | G4: =SUM(F4+1) -> 40950 | H4: =SUM(G4+1) -> 40951
A5: Les Mézières | B5: ='[2]lundi midi'!AP14 -> 76 | C5: ='[2]mardi midi'!AP14 -> 74 | D5: ='[2]mercredi midi'!AP14 -> 80 | E5: ='[2]jeudi midi'!AP14 -> 75 | F5: ='[2]vendredi midi'!AP14 -> 71 | G5: ='[2]samedi midi'!AN14 -> 55 | H5: ='[2]dimanche midi'!AN14 -> 52 | I5: =SUM(B5:H5) -> 483
A6: La source | B6: ='[2]lundi midi'!AP15 -> 46 | C6: ='[2]mardi midi'!AP15 -> 46 | D6: ='[2]mercredi midi'!AP15 -> 45 | E6: ='[2]jeudi midi'!AP15 -> 45 | F6: ='[2]vendredi midi'!AP15 -> 47 | G6: ='[2]samedi midi'!AN15 -> 35 | H6: ='[2]dimanche midi'!AN15 -> 34 | I6: =SUM(B6:H6) -> 298
A7: Ruelle aux Liards | B7: ='[2]lundi midi'!AQ21 -> 25 | C7: ='[2]mardi midi'!AQ21 -> 25 | D7: ='[2]mercredi midi'!AQ21 -> 24 | E7: ='[2]jeudi midi'!AQ21 -> 25 | F7: ='[2]vendredi midi'!AQ21 -> 26 | I7: =SUM(B7:H7) -> 125
A8: Renault E. | I8: =SUM(B8:H8) -> 0
A9: Ribambelle L'Etape | B9: ='[2]lundi midi'!AP24 -> 13 | C9: ='[2]mardi midi'!AP24 -> 11 | D9: ='[2]mercredi midi'!AP24 -> 13 | E9: ='[2]jeudi midi'!AP24 -> 12 | F9: ='[2]vendredi midi'!AP24 -> 11 | I9: =SUM(B9:H9) -> 60
A10: IME l'étape | B10: ='[2]lundi midi'!AP25 -> 83 | C10: ='[2]mardi midi'!AP25 -> 76 | D10: ='[2]mercredi midi'!AP25 -> 61 | E10: ='[2]jeudi midi'!AP25 -> 65 | F10: ='[2]vendredi midi'!AP25 -> 78 | I10: =SUM(B10:H10) -> 363
A11: ESAT Beauregard | B11: ='[2]lundi midi'!AP26 -> 50 | C11: ='[2]mardi midi'!AP26 -> 49 | D11: ='[2]mercredi midi'!AP26 -> 50 | E11: ='[2]jeudi midi'!AP26 -> 49 | F11: ='[2]vendredi midi'!AP26 -> 48 | I11: =SUM(B11:H11) -> 246
A12: Peupliers | B12: ='[2]lundi midi'!AP27 -> 27 | C12: ='[2]mardi midi'!AP27 -> 30 | D12: ='[2]mercredi midi'!AP27 -> 29 | E12: ='[2]jeudi midi'!AP27 -> 33 | F12: ='[2]vendredi midi'!AP27 -> 26 | I12: =SUM(B12:H12) -> 145
A13: Hortentias | B13: ='[2]lundi midi'!AP28 -> 78 | C13: ='[2]mardi midi'!AP28 -> 79 | D13: ='[2]mercredi midi'!AP28 -> 75 | E13: ='[2]jeudi midi'!AP28 -> 77 | F13: ='[2]vendredi midi'!AP28 -> 77 | I13: =SUM(B13:H13) -> 386
A14: SACAT Flers | B14: ='[2]lundi midi'!AP29 -> 26 | C14: ='[2]mardi midi'!AP29 -> 27 | D14: ='[2]mercredi midi'!AP29 -> 29 | E14: ='[2]jeudi midi'!AP29 -> 30 | F14: ='[2]vendredi midi'!AP29 -> 30 | I14: =SUM(B14:H14) -> 142
A15: IME l'Espoir | B15: ='[2]lundi midi'!AP30 -> 35 | C15: ='[2]mardi midi'!AP30 -> 32 | D15: ='[2]mercredi midi'!AP30 -> 35 | E15: ='[2]jeudi midi'!AP30 -> 35 | F15: ='[2]vendredi midi'!AP30 -> 35 | I15: =SUM(B15:H15) -> 172
A16: ESAT Frémondière | B16: ='[2]lundi midi'!AP31 -> 80 | C16: ='[2]mardi midi'!AP31 -> 80 | D16: ='[2]mercredi midi'!AP31 -> 80 | E16: ='[2]jeudi midi'!AP31 -> 80 | F16: ='[2]vendredi midi'!AP31 -> 80 | I16: =SUM(B16:H16) -> 400
A17: Foyer Cottage | B17: ='[2]lundi midi'!AP32 -> 7 | C17: ='[2]mardi midi'!AP32 -> 7 | D17: ='[2]mercredi midi'!AP32 -> 5 | E17: ='[2]jeudi midi'!AP32 -> 7 | F17: ='[2]vendredi midi'!AP32 -> 5 | I17: =SUM(B17:H17) -> 31
A18: ESAT Argentan | B18: ='[2]lundi midi'!AP33 -> 76 | C18: ='[2]mardi midi'!AP33 -> 76 | D18: ='[2]mercredi midi'!AP33 -> 75 | E18: ='[2]jeudi midi'!AP33 -> 76 | F18: ='[2]vendredi midi'!AP33 -> 75 | I18: =SUM(B18:H18) -> 378
A19: ADIMC Jardin Alexandre | B19: ='[2]lundi midi'!AP34 -> 7 | C19: ='[2]mardi midi'!AP34 -> 6 | D19: ='[2]mercredi midi'!AP34 -> 6 | E19: ='[2]jeudi midi'!AP34 -> 5 | F19: ='[2]vendredi midi'!AP34 -> 5 | G19: ='[2]samedi midi'!AN21 -> 7 | H19: ='[2]dimanche midi'!AN21 -> 6 | I19: =SUM(B19:H19) -> 42
A20: ADIMC enfants | B20: ='[2]lundi midi'!AP35 -> 0 | C20: ='[2]mardi midi'!AP35 -> 0 | D20: ='[2]mercredi midi'!AP35 -> 0 | E20: ='[2]jeudi midi'!AP35 -> 3 | F20: ='[2]vendredi midi'!AP35 -> 3 | G20: ='[2]samedi midi'!AN22 -> 10 | H20: ='[2]dimanche midi'!AN22 -> 10 | I20: =SUM(B20:H20) -> 26
A21: MATFER Industrie | B21: ='[2]lundi midi'!AP36 -> 30 | C21: ='[2]mardi midi'!AP36 -> 31 | D21: ='[2]mercredi midi'!AP36 -> 32 | E21: ='[2]jeudi midi'!AP36 -> 32 | I21: =SUM(B21:H21) -> 125
A22: Aubépine | B22: ='[2]lundi midi'!AP37 -> 25 | C22: ='[2]mardi midi'!AP37 -> 25 | D22: ='[2]mercredi midi'!AP37 -> 25 | E22: ='[2]jeudi midi'!AP37 -> 25 | F22: ='[2]vendredi midi'!AP37 -> 25 | G22: ='[2]samedi midi'!AN23 -> 25 | H22: ='[2]dimanche midi'!AN23 -> 25 | I22: =SUM(B22:H22) -> 175
A23: -- Dont Mixé | B23: ='[2]lundi midi'!Q37 -> 3 | C23: ='[2]mardi midi'!Q37 -> 3 | D23: ='[2]mercredi midi'!Q37 -> 3 | E23: ='[2]jeudi midi'!Q37 -> 3 | F23: ='[2]vendredi midi'!Q37 -> 3 | G23: ='[2]samedi midi'!Q23 -> 3 | H23: ='[2]dimanche midi'!Q23 -> 3 | I23: =SUM(B23:H23) -> 21 | J23: NE JAMAIS TOUCHER
A24: Erable | B24: ='[2]lundi midi'!AP38 -> 30 | C24: ='[2]mardi midi'!AP38 -> 30 | D24: ='[2]mercredi midi'!AP38 -> 30 | E24: ='[2]jeudi midi'!AP38 -> 30 | F24: ='[2]vendredi midi'!AP38 -> 30 | G24: ='[2]samedi midi'!AN24 -> 30 | H24: ='[2]dimanche midi'!AN24 -> 30 | I24: =SUM(B24:H24) -> 210
A25: -- Dont mixé | B25: ='[2]lundi midi'!Q38+'[2]lundi midi'!R38 -> 20 | C25: ='[2]mardi midi'!Q38+'[2]mardi midi'!R38 -> 20 | D25: ='[2]mercredi midi'!Q38+'[2]mercredi midi'!R38 -> 20 | E25: ='[2]jeudi midi'!Q38+'[2]jeudi midi'!R38 -> 20 | F25: ='[2]vendredi midi'!Q38+'[2]vendredi midi'!R38 -> 20 | G25: ='[2]samedi midi'!Q24+'[2]samedi midi'!R24 -> 20 | H25: ='[2]dimanche midi'!Q24+'[2]dimanche midi'!R24 -> 20 | I25: =SUM(B25:H25) -> 140 | J25: NE JAMAIS TOUCHER
A26: St Germain Sarthe | B26: ='[2]lundi midi'!AP39 -> 19 | C26: ='[2]mardi midi'!AP39 -> 21 | D26: ='[2]mercredi midi'!AP39 -> 0 | E26: ='[2]jeudi midi'!AP39 -> 17 | F26: ='[2]vendredi midi'!AP39 -> 21 | I26: =SUM(B26:H26) -> 78
A27: Vivoin | B27: ='[2]lundi midi'!AP40 -> 30 | C27: ='[2]mardi midi'!AP40 -> 30 | E27: ='[2]jeudi midi'!AP40 -> 30 | F27: ='[2]vendredi midi'!AP40 -> 30 | I27: =SUM(B27:H27) -> 120
A28: Notre Dame | B28: ='[2]lundi midi'!AP41 -> 128 | C28: ='[2]mardi midi'!AP41 -> 114 | E28: ='[2]jeudi midi'!AP41 -> 113 | F28: ='[2]vendredi midi'!AP41 -> 128 | I28: =SUM(B28:H28) -> 483
A29: Lignière-Orgères | B29: ='[2]lundi midi'!AP42 -> 35 | C29: ='[2]mardi midi'!AP42 -> 38 | E29: ='[2]jeudi midi'!AP42 -> 32 | F29: ='[2]vendredi midi'!AP42 -> 36 | I29: =SUM(B29:H29) -> 141
A30: La Tonnelière | B30: ='[2]lundi midi'!AP43+'[2]lundi midi'!AP44 -> 0 | C30: ='[2]mardi midi'!AP43+'[2]mardi midi'!AP44 -> 0 | D30: ='[2]mercredi midi'!AP43+'[2]mercredi midi'!AP44 -> 0 | E30: ='[2]jeudi midi'!AP43+'[2]jeudi midi'!AP44 -> 0 | F30: ='[2]vendredi midi'!AP43+'[2]vendredi midi'!AP44 -> 0 | G30: ='[2]samedi midi'!AN25+'[2]samedi midi'!AN26 -> 0 | H30: ='[2]dimanche midi'!AN25+'[2]dimanche midi'!AN26 -> 0 | I30: =SUM(B30:H30) -> 0
A31: ESAT Bellevue | B31: ='[2]lundi midi'!AP45 -> 125 | C31: ='[2]mardi midi'!AP45 -> 134 | D31: ='[2]mercredi midi'!AP45 -> 127 | E31: ='[2]jeudi midi'!AP45 -> 135 | F31: ='[2]vendredi midi'!AP45 -> 127 | I31: =SUM(B31:H31) -> 648
A32: SACAT Alençon | B32: ='[2]lundi midi'!AP46 -> 10 | C32: ='[2]mardi midi'!AP46 -> 10 | D32: ='[2]mercredi midi'!AP46 -> 9 | E32: ='[2]jeudi midi'!AP46 -> 13 | F32: ='[2]vendredi midi'!AP46 -> 11 | I32: =SUM(B32:H32) -> 53
A33: EA Industrie Alençon | B33: ='[2]lundi midi'!AP47 -> 1 | C33: ='[2]mardi midi'!AP47 -> 1 | D33: ='[2]mercredi midi'!AP47 -> 1 | E33: ='[2]jeudi midi'!AP47 -> 1 | I33: =SUM(B33:H33) -> 4
A34: Sées Jeu. An. | D34: ='[2]mercredi midi'!AP48 -> 16 | I34: =SUM(B34:H34) -> 16
A35: coviva 3 compos | B35: ='[2]lundi midi'!AP49 -> 2 | C35: ='[2]mardi midi'!AP49 -> 2 | D35: ='[2]mercredi midi'!AP49 -> 2 | E35: ='[2]jeudi midi'!AP49 -> 2 | F35: ='[2]vendredi midi'!AP49 -> 1 | G35: ='[2]samedi midi'!AN27 -> 1 | H35: ='[2]dimanche midi'!AN27 -> 0 | I35: =SUM(B35:H35) -> 10
A36: Coviva 5 compos | B36: ='[2]lundi midi'!AP50 -> 0 | C36: ='[2]mardi midi'!AP50 -> 0 | D36: ='[2]mercredi midi'!AP50 -> 0 | E36: ='[2]jeudi midi'!AP50 -> 0 | F36: ='[2]vendredi midi'!AP50 -> 0 | G36: ='[2]samedi midi'!AN28 -> 0 | H36: ='[2]dimanche midi'!AN28 -> 0 | I36: =SUM(B36:H36) -> 0
A37: Autre 2 | B37: ='[2]lundi midi'!AP51 -> 0 | C37: ='[2]mardi midi'!AP51 -> 0 | D37: ='[2]mercredi midi'!AP51 -> 0 | E37: ='[2]jeudi midi'!AP51 -> 0 | F37: ='[2]vendredi midi'!AP51 -> 0 | I37: =SUM(B37:H37) -> 0
A38: ='[2]lundi midi'!B52 -> Clair Soleil | B38: ='[2]lundi midi'!AP52 -> 0 | C38: ='[2]mardi midi'!AP52 -> 0 | D38: ='[2]mercredi midi'!AP52 -> 0 | E38: ='[2]jeudi midi'!AP52 -> 0 | F38: ='[2]vendredi midi'!AP52 -> 0 | I38: =SUM(B38:H38) -> 0
A39: Centre Aéré Sées | I39: =SUM(B39:H39) -> 0
A40: MFR de Fyé | I40: =SUM(B40:H40) -> 0
A41: Total midi | B41: =SUM(B5:B39) -> 1087 | C41: =SUM(C5:C39) -> 1077 | D41: =SUM(D5:D39) -> 872 | E41: =SUM(E5:E39) -> 1070 | F41: =SUM(F5:F39) -> 1049 | G41: =SUM(G5:G39) -> 186 | H41: =SUM(H5:H39) -> 180 | I41: =SUM(B41:H41)-(I23+I25) -> 5360
...

Sheet DECLINAISON
B2: MENU Lundi
B4: Lundi Midi | I4: Lundi Soir
B5: Entrée | C5: Plat | D5: Garniture | E5: Garniture 2 | F5: fromage | G5: dessert | I5: Entrée | J5: Plat | K5: Garniture | L5: Garniture 2 | M5: fromage | N5: dessert
A6: Normal | B6: Tomates | C6: aile de raie sauce creme | D6: pate | E6: - | F6: chèvre | G6: flan patissier maisson
A7: Hypocalorique | B7: Tomates allégée | C7: aile de raie sauce allégée | D7: pate | E7: - | F7: fromage allégé | G7: flan patissier maisson
A8: Cholestérol | B8: Tomates allégée | C8: aile de raie sauce allégée | D8: pate | E8: - | F8: fromage allégé | G8: flan patissier maisson
A9: Diabétique | B9: Tomates allégée | C9: aile de raie sauce allégée | D9: pate | E9: épinards | F9: fromage allégé | G9: flan patissier maisson
A10: hypo -diabétique | B10: Tomates allégée | C10: aile de raie sauce allégée | D10: pate | E10: épinards | F10: 1 petit suisse | G10: flan patissier maisson
A11: hypoglucidique | B11: Tomates allégée | C11: aile de raie sauce allégée | D11: pate | E11: - | F11: fromage allégé | G11: flan patissier maisson
A12: choles s/sel s/sucre | B12: Tomates allégée | C12: aile de raie sauce allégée | D12: pate | E12: - | F12: compote | G12: flan patissier maisson
A13: diabétique s/sel | B13: Tomates allégée | C13: aile de raie sauce allégée | D13: pate | E13: - | F13: fromage allégé | G13: flan patissier maisson
A14: hypo & cholestérol | B14: Tomates allégée | C14: aile de raie sauce allégée | D14: pate | E14: - | F14: fromage s/ sel | G14: flan patissier maisson
A15: hypo fibre | B15: Tomates allégée | C15: aile de raie sauce allégée | D15: pate | E15: - | F15: 1 petit suisse | G15: flan patissier maisson
A16: hypo s/riz fibre | B16: Tomates allégée | C16: aile de raie sauce allégée | D16: pate | E16: - | F16: 1 petit suisse | G16: flan patissier maisson
A17: hypo s/sel
A18: S/sel
A19: s/viande
A20: s/porc
A21: s/poisson
A22: s/lactose
A23: s/bœuf
A24: s/œuf
A25: s/champignon
A26: s/fruit de mer
A27: s/jambon
A28: que féculent
... A37: Mme Jenvrin

Sheet Menu LUNDI
A3: Lundi Midi | G3: Lundi Soir
A4: Entrée | B4: Plat | C4: Garniture 1 | D4: fromage | E4: dessert | G4: Entrée | H4: Plat | I4: Garniture | J4: fromage | K4: dessert
A5: Tomates | B5: aile de raie sauce creme | C5: épinards | D5: chèvre | E5: flan patissier maisson | G5: salade marco polo | H5: jambon sauce au cidre | I5: ratatouille | J5: gruyère | K5: fromage blanc aux fruits
A6: Tomates allégée | B6: aile de raie sauce allégée | C6: coquillettes | D6: fromage allégé | E6: flan patissier allégé | G6: carottes rapées | H6: jambon sauce allégée | I6: blé | J6: fromage allégé | K6: fromage blanc 0%
A7: Cœur de palmier | B7: escalope de dinde sauce crème | C7: Carottes vichy | D7: fromage s/ sel | E7: yaourt 0% | G7: carottes rapées allégées | H7: feuilleté au fromage | I7: endives braisées | J7: fromage s/sel | K7: compote
A8: paté de campagne | B8: omelette | C8: Purée pdt | D8: yaourt 0% | E8: fruit de saison | G8: - | H8: - | I8: - | J8: yaourt 0% | K8: -
A9: - | B9: - | C9: - | D9: compote | E9: compote | G9: - | H9: - | I9: - | J9: compote | K9: -
A10: - | B10: - | C10: - | D10: 1 petit suisse | E10: - | G10: - | H10: - | I10: - | J10: - | K10: -
