Workbook

Sheet Statistiques Alpha
A1: ACTUELLEMENT | I1: RESULTAT VOULU
A3: Désignation | B3: NOM | C3: FAMILLE | D3: CATALOGUE | I3: Désignation | J3: NOM | K3: FAMILLE | L3: CATALOGUE
A4: ALESE DRYSOFT 60X60CM X30 | B4: =IFERROR(VLOOKUP(LEFT(A4,SEARCH(" ",A4)-1),Liste!A:B,1,0),"") | C4: =IFERROR(VLOOKUP(B4,Liste!A:C,2,0),"") | D4: =IFERROR(VLOOKUP(B4,Liste!A:C,3,0),"") | I4: ALESE DRYSOFT 60X60CM X30 | J4: ALESE | K4: MATERIEL | L4: CANINE
A5: K FOR CAT 60 GELULES | B5: =IFERROR(VLOOKUP(LEFT(A5,SEARCH(" ",A5)-1),Liste!A:B,1,0),"") | C5: =IFERROR(VLOOKUP(B5,Liste!A:C,2,0),"") | D5: =IFERROR(VLOOKUP(B5,Liste!A:C,3,0),"") | I5: K FOR CAT 60 GELULES | J5: K FOR CAT | K5: MP LABO | L5: CANINE
A6: METACAM CHEVAL SUSP.ORALE 100 ML | B6: =IFERROR(VLOOKUP(LEFT(A6,SEARCH(" ",A6)-1),Liste!A:B,1,0),"") | C6: =IFERROR(VLOOKUP(B6,Liste!A:C,2,0),"") | D6: =IFERROR(VLOOKUP(B6,Liste!A:C,3,0),"") | I6: METACAM CHEVAL SUSP.ORALE 100 ML | J6: METACAM | K6: LOCOMOTION EQ | L6: EQUINE
A7: METACAM CN 1 MG 84 CPRS | B7: =IFERROR(VLOOKUP(LEFT(A7,SEARCH(" ",A7)-1),Liste!A:B,1,0),"") | C7: =IFERROR(VLOOKUP(B7,Liste!A:C,2,0),"") | D7: =IFERROR(VLOOKUP(B7,Liste!A:C,3,0),"") | I7: METACAM CN 1 MG 84 CPRS | J7: METACAM | K7: ANTI-INFLAMMATOIRE CN | L7: CANINE
A8: METACAM CT 0,5 MG SUSP. ORALE 15ML | B8: =IFERROR(VLOOKUP(LEFT(A8,SEARCH(" ",A8)-1),Liste!A:B,1,0),"") | C8: =IFERROR(VLOOKUP(B8,Liste!A:C,2,0),"") | D8: =IFERROR(VLOOKUP(B8,Liste!A:C,3,0),"") | I8: METACAM CT 0,5 MG SUSP. ORALE 15ML | J8: METACAM | K8: ANTI-INFLAMMATOIRE CN | L8: CANINE
A9: METACAM GA INJ 40MG 100ML | B9: =IFERROR(VLOOKUP(LEFT(A9,SEARCH(" ",A9)-1),Liste!A:B,1,0),"") | C9: =IFERROR(VLOOKUP(B9,Liste!A:C,2,0),"") | D9: =IFERROR(VLOOKUP(B9,Liste!A:C,3,0),"") | I9: METACAM GA INJ 40MG 100ML | J9: METACAM | K9: ANTI-INFLAMMATOIRES RU | L9: RURALE
A10: NELIO 2.5 CHAT 140 CPRS | B10: =IFERROR(VLOOKUP(LEFT(A10,SEARCH(" ",A10)-1),Liste!A:B,1,0),"") -> NELIO | C10: =IFERROR(VLOOKUP(B10,Liste!A:C,2,0),"") -> CARDIO | D10: =IFERROR(VLOOKUP(B10,Liste!A:C,3,0),"") -> CANINE | I10: NELIO 2.5 CHAT 140 CPRS | J10: NELIO | K10: CARDIO | L10: CANINE
A11: NELIO"20" CHIEN 100 CPRS | B11: =IFERROR(VLOOKUP(LEFT(A11,SEARCH(" ",A11)-1),Liste!A:B,1,0),"") | C11: =IFERROR(VLOOKUP(B11,Liste!A:C,2,0),"") | D11: =IFERROR(VLOOKUP(B11,Liste!A:C,3,0),"") | I11: NELIO"20" CHIEN 100 CPRS | J11: NELIO | K11: CARDIO | L11: CANINE
A12: NEOBION 2 KG | B12: =IFERROR(VLOOKUP(LEFT(A12,SEARCH(" ",A12)-1),Liste!A:B,1,0),"") -> NEOBION | C12: =IFERROR(VLOOKUP(B12,Liste!A:C,2,0),"") -> BIMEDA RURALE | D12: =IFERROR(VLOOKUP(B12,Liste!A:C,3,0),"") -> RURALE | I12: NEOBION 2 KG | J12: NEOBION | K12: BIMEDA RURALE | L12: RURALE
A13: NEOBION PET 1KG | B13: =IFERROR(VLOOKUP(LEFT(A13,SEARCH(" ",A13)-1),Liste!A:B,1,0),"") -> NEOBION | C13: =IFERROR(VLOOKUP(B13,Liste!A:C,2,0),"") -> BIMEDA RURALE | D13: =IFERROR(VLOOKUP(B13,Liste!A:C,3,0),"") -> RURALE | I13: NEOBION PET 1KG | J13: NEOBION | K13: BIMEDA RURALE | L13: RURALE
A14: NETTOYANT POUR LA PEAU 40X10 ML | B14: =IFERROR(VLOOKUP(LEFT(A14,SEARCH(" ",A14)-1),Liste!A:B,1,0),"") | C14: =IFERROR(VLOOKUP(B14,Liste!A:C,2,0),"") | D14: =IFERROR(VLOOKUP(B14,Liste!A:C,3,0),"") | I14: NETTOYANT POUR LA PEAU 40X10 ML | J14: NETTOYANT POUR LA PEAU | K14: MP LABO | L14: CANINE
A15: NEXGARD CN S 2-4 KG 6 CPRS | B15: =IFERROR(VLOOKUP(LEFT(A15,SEARCH(" ",A15)-1),Liste!A:B,1,0),"") -> NEXGARD | C15: =IFERROR(VLOOKUP(B15,Liste!A:C,2,0),"") -> APE / API CN | D15: =IFERROR(VLOOKUP(B15,Liste!A:C,3,0),"") -> CANINE | I15: NEXGARD CN S 2-4 KG 6 CPRS | J15: NEXGARD | K15: APE / API CN | L15: CANINE
... A19: SOLUTE CHLORURE 7,2% 3L | B19: =IFERROR(VLOOKUP(LEFT(A19,SEARCH(" ",A19)-1),Liste!A:B,1,0),"") | C19: =IFERROR(VLOOKUP(B19,Liste!A:C,2,0),"") | D19: =IFERROR(VLOOKUP(B19,Liste!A:C,3,0),"") | I19: SOLUTE CHLORURE 7,2% | J19: SOLUTE CHLORURE 7,2% | K19: SOLUTES | L19: RURALE
A20: SOLUTE GLUCOSE 30% 10X500ML FL | B20: =IFERROR(VLOOKUP(LEFT(A20,SEARCH(" ",A20)-1),Liste!A:B,1,0),"") | C20: =IFERROR(VLOOKUP(B20,Liste!A:C,2,0),"") | D20: =IFERROR(VLOOKUP(B20,Liste!A:C,3,0),"") | I20: SOLUTE GLUCOSE 30% 10X500ML FL
A21: SOLUTE MIXTE 10X500ML FL | B21: =IFERROR(VLOOKUP(LEFT(A21,SEARCH(" ",A21)-1),Liste!A:B,1,0),"") | C21: =IFERROR(VLOOKUP(B21,Liste!A:C,2,0),"") | D21: =IFERROR(VLOOKUP(B21,Liste!A:C,3,0),"") | I21: SOLUTE MIXTE 10X500ML FL | J21: SOLUTE MIXTE | K21: SOLUTES | L21: CANINE
A22: SOLUTE RINGER LACTATE 10X1L | B22: =IFERROR(VLOOKUP(LEFT(A22,SEARCH(" ",A22)-1),Liste!A:B,1,0),"") | C22: =IFERROR(VLOOKUP(B22,Liste!A:C,2,0),"") | D22: =IFERROR(VLOOKUP(B22,Liste!A:C,3,0),"") | I22: SOLUTE RINGER LACTATE 10X1L | J22: SOLUTE RINGER | K22: SOLUTES | L22: CANINE
A23: SPRAY DEMELANT | I23: SPRAY DEMELANT | J23: SPRAY DEMELANT | K23: MP LABO | L23: CANINE
A24: STRONGHOLD CN BRUN 60 MG 3 PIP | B24: =IFERROR(VLOOKUP(LEFT(A24,SEARCH(" ",A24)-1),Liste!A:B,1,0),"") -> STRONGHOLD | C24: =IFERROR(VLOOKUP(B24,Liste!A:C,2,0),"") -> STRONGHOLD | D24: =IFERROR(VLOOKUP(B24,Liste!A:C,3,0),"") -> CANINE | I24: STRONGHOLD CN BRUN 60 MG 3 PIP
A25: STRONGHOLD CT BLEU 45 MG 6 PIP. | B25: =IFERROR(VLOOKUP(LEFT(A25,SEARCH(" ",A25)-1),Liste!A:B,1,0),"") -> STRONGHOLD | C25: =IFERROR(VLOOKUP(B25,Liste!A:C,2,0),"") -> STRONGHOLD | D25: =IFERROR(VLOOKUP(B25,Liste!A:C,3,0),"") -> CANINE | I25: STRONGHOLD CT BLEU 45 MG 6 PIP. | J25: STRONGHOLD | K25: STRONGHOLD | L25: CANINE
A30: La formule fonctionne parfaitement quand il y a un seul mot dans la colonne A de la feuille liste (NELIO, NEOBION, NEXGARD, PUREVAX).
A31: Par contre, je n'ai aucun résultat quand il y a plusieurs mots (ALESE DRYSOFT, METACAM CN, METACAM CHEVAL, SOLUTE CHLORURE, SPRAY DEMELANT…)
A32: A chaque fois ce sont les premiers mots.
A34: Dans la lliste possible, j'ai ajouté une colonne pour décomposer un nom.
A35: Prenons l'exemple du metacam : je ne sais pas trop la logique…
A36: Il faudrait qu'il fasse une recherche sur metacam, s'il trouve metacam, il regarde dans la 2ème colonne (complément). Si y a correspondance, il note les indications Nom famille catalogue.
A37: Ou il recherche d'abord dans la colonne complément. Si vide, il recherche dans la colonne nom et c'est ta formule. Si non vide (comme metacam), il recherche le mot de la colonne nom pour associer les 2.
A39: Pour le Stronghold, dans statistiques, j'en ai plusieurs (stong CN, CT CN-CT)
A40: Mais je n'ai pas besoin du Stronghold CN (cf résultat voulu)
A41: Le fait de mettre une colonne nom et complément dans la liste permettrait sans doute de mieux selectionner la recherche et d'afficher le résultat voulu.
A43: Merci beaucoup

Sheet Liste
A1: NOM | B1: FAMILLE | C1: CATALOGUE | H1: NOM | I1: Complément | J1: FAMILLE | K1: CATALOGUE
A2: ALESE DRYSOFT | B2: MATERIEL | C2: CANINE | H2: ALESE | I2: DRYSOFT | J2: MATERIEL | K2: CANINE
A3: K FOR CAT | B3: MP LABO | C3: CANINE | H3: K | I3: FOR CAT | J3: MP LABO | K3: CANINE
A4: METACAM CHEVAL | B4: LOCOMOTION EQ | C4: EQUINE | H4: METACAM | I4: CHEVAL | J4: LOCOMOTION EQ | K4: EQUINE
A5: METACAM CN | B5: ANTI-INFLAMMATOIRES CN | C5: CANINE | H5: METACAM | I5: CN | J5: ANTI-INFLAMMATOIRES CN | K5: CANINE
A6: METACAM CT | B6: ANTI-INFLAMMATOIRES CN | C6: CANINE | H6: METACAM | I6: CT | J6: ANTI-INFLAMMATOIRES CN | K6: CANINE
A7: METACAM GA | B7: ANTI-INFLAMMATOIRES RU | C7: RURALE | H7: METACAM | I7: GA | J7: ANTI-INFLAMMATOIRES RU | K7: RURALE
A8: NELIO | B8: CARDIO | C8: CANINE | H8: NELIO | J8: CARDIO | K8: CANINE
A9: NEOBION | B9: BIMEDA RURALE | C9: RURALE | H9: NELIO"20" | J9: CARDIO | K9: CANINE
A10: NEOBION PET | B10: NEOBION PET | C10: CANINE | H10: NEOBION | J10: BIMEDA RURALE | K10: RURALE
A11: NETTOYANT POUR LA PEAU | B11: MP LABO | C11: CANINE | H11: NEOBION | I11: PET | J11: NEOBION PET | K11: CANINE
A12: NEXGARD | B12: APE / API CN | C12: CANINE | H12: NETTOYANT | I12: POUR LA PEAU | J12: MP LABO | K12: CANINE
A13: PUREVAX | B13: VACCINS CN | C13: CANINE | H13: NEXGARD | J13: APE / API CN | K13: CANINE
A14: SOLUTE CHLORURE | B14: SOLUTES | C14: CANINE | H14: PUREVAX | J14: VACCINS CN | K14: CANINE
A15: SOLUTE CHLORURE 7,2% | B15: SOLUTES | C15: RURALE | H15: SOLUTE | I15: CHLORURE | J15: SOLUTES | K15: CANINE
A16: SOLUTE MIXTE | B16: SOLUTES | C16: CANINE | H16: SOLUTE | I16: CHLORURE 7,2% | J16: SOLUTES | K16: RURALE
A17: SOLUTE RINGER LACTATE | B17: SOLUTES | C17: CANINE | H17: SOLUTE | I17: MIXTE | J17: SOLUTES | K17: CANINE
A18: SPRAY DEMELANT | B18: MP LABO | C18: CANINE | H18: SOLUTE | I18: RINGER | J18: SOLUTES | K18: CANINE
A19: STRONGHOLD | B19: STRONGHOLD | C19: CANINE | H19: SPRAY | I19: DEMELANT | J19: MP LABO | K19: CANINE
H20: STRONGHOLD | I20: CT | J20: STRONGHOLD | K20: CANINE
A22: LISTE ACTUELLE
H23: LISTE POSSIBLE
