Workbook

Sheet Tableau
A1: PRODUITS | B1: NOM | C1: FAMILLE | H1: PRODUITS | I1: NOM | J1: FAMILLE
A2: NEOBION PET 200G | H2: NEOBION PET 200G | I2: NEOBION | J2: =VLOOKUP(I2,Liste!A:B,2,0) -> VACCINS CN
A3: NEOBION PET 200G | H3: NEOBION PET 200G | I3: NEOBION | J3: =VLOOKUP(I3,Liste!A:B,2,0) -> VACCINS CN
A4: NEOBION PET 200G | H4: NEOBION PET 200G | I4: NEOBION | J4: =VLOOKUP(I4,Liste!A:B,2,0) -> VACCINS CN
A5: NEOBION PET 200G | H5: NEOBION PET 200G | I5: NEOBION | J5: =VLOOKUP(I5,Liste!A:B,2,0) -> VACCINS CN
A6: NEOBION PET 200G | H6: NEOBION PET 200G | I6: NEOBION | J6: =VLOOKUP(I6,Liste!A:B,2,0) -> VACCINS CN
A7: NEOBION PET 200G | H7: NEOBION PET 200G | I7: NEOBION | J7: =VLOOKUP(I7,Liste!A:B,2,0) -> VACCINS CN
A8: NEOBION PET 200G | H8: NEOBION PET 200G | I8: NEOBION | J8: =VLOOKUP(I8,Liste!A:B,2,0) -> VACCINS CN
A9: NEOBION PET 200G | H9: NEOBION PET 200G | I9: NEOBION | J9: =VLOOKUP(I9,Liste!A:B,2,0) -> VACCINS CN
A10: NEOBION PET 400G | H10: NEOBION PET 400G | I10: NEOBION | J10: =VLOOKUP(I10,Liste!A:B,2,0) -> VACCINS CN
A11: NEOBOOST PET 15ML | H11: NEOBOOST PET 15ML | I11: NEOBOOST | J11: =VLOOKUP(I11,Liste!A:B,2,0) -> APE
A12: NEOBOOST PET 15ML | H12: NEOBOOST PET 15ML | I12: NEOBOOST | J12: =VLOOKUP(I12,Liste!A:B,2,0) -> APE
A13: NEOPRINIL POUR ON FLEXI 2.5L | H13: NEOPRINIL POUR ON FLEXI 2.5L | I13: NEOPRINIL | J13: =VLOOKUP(I13,Liste!A:B,2,0) -> VACCINS CN
A14: NERFASIN 20MG/ML 25 ML | H14: NERFASIN 20MG/ML 25 ML | I14: NERFASIN | J14: =VLOOKUP(I14,Liste!A:B,2,0) -> AINS
A15: NERFASIN 20MG/ML 25 ML | E15: RÉSULTAT SOUHAITÉ => | H15: NERFASIN 20MG/ML 25 ML | I15: NERFASIN | J15: =VLOOKUP(I15,Liste!A:B,2,0) -> AINS
A16: NERFASIN 20MG/ML 25 ML | H16: NERFASIN 20MG/ML 25 ML | I16: NERFASIN | J16: =VLOOKUP(I16,Liste!A:B,2,0) -> AINS
A17: NERVOSYL 30 ML | H17: NERVOSYL 30 ML | I17: NERVOSYL | J17: =VLOOKUP(I17,Liste!A:B,2,0) -> AINS
A18: NERVOSYL 30 ML | H18: NERVOSYL 30 ML | I18: NERVOSYL | J18: =VLOOKUP(I18,Liste!A:B,2,0) -> AINS
A19: NERVOSYL 30 ML | H19: NERVOSYL 30 ML | I19: NERVOSYL | J19: =VLOOKUP(I19,Liste!A:B,2,0) -> AINS
A20: NERVOSYL 30 ML | H20: NERVOSYL 30 ML | I20: NERVOSYL | J20: =VLOOKUP(I20,Liste!A:B,2,0) -> AINS
A21: NERVOSYL 30 ML | H21: NERVOSYL 30 ML | I21: NERVOSYL | J21: =VLOOKUP(I21,Liste!A:B,2,0) -> AINS
A22: NERVOSYL 30 ML | H22: NERVOSYL 30 ML | I22: NERVOSYL | J22: =VLOOKUP(I22,Liste!A:B,2,0) -> AINS
A23: NERVOSYL 30 ML | H23: NERVOSYL 30 ML | I23: NERVOSYL | J23: =VLOOKUP(I23,Liste!A:B,2,0) -> AINS
A24: NETTOYANT ANTI CALC.5 L ECOLABEL | H24: NETTOYANT ANTI CALC.5 L ECOLABEL | I24: NETTOYANT | J24: =VLOOKUP(I24,Liste!A:B,2,0) -> VACCINS CN
A25: NETTOYANT AURICULAIRE 100 ML | H25: NETTOYANT AURICULAIRE 100 ML | I25: NETTOYANT | J25: =VLOOKUP(I25,Liste!A:B,2,0) -> VACCINS CN
A26: NETTOYANT PHYSIO YEUX 125 ML | H26: NETTOYANT PHYSIO YEUX 125 ML | I26: NETTOYANT | J26: =VLOOKUP(I26,Liste!A:B,2,0) -> VACCINS CN
A27: NETTOYANT PHYSIO YEUX 125 ML | H27: NETTOYANT PHYSIO YEUX 125 ML | I27: NETTOYANT | J27: =VLOOKUP(I27,Liste!A:B,2,0) -> VACCINS CN
... A32: NEXGARD CN L 10-25 KG 3 CPRS | H32: NEXGARD CN L 10-25 KG 3 CPRS | I32: NEXGARD | J32: =VLOOKUP(I32,Liste!A:B,2,0) -> APE

Sheet Liste
A1: NOM | B1: FAMILLE
A2: NEXGARD | B2: APE
A3: NEOBION | B3: VACCINS CN
A4: NEOBOOST | B4: APE
A5: NEOPRINIL | B5: VACCINS CN
A6: NERFASIN | B6: AINS
A7: NERVOSYL | B7: AINS
A8: NETTOYANT | B8: VACCINS CN
A10: + 200 autres noms
