Workbook

Sheet Feuil1
Q2: OPERATION COMMUNIQUEE N°1
A3: OPERATION COMMUNIQUEE N°1 | Q3: OPERATION COMMUNIQUEE N°2
A4: EPCS | B4: 25000 | Q4: OPERATION COMMUNIQUEE N°3
A5: PGC | B5: 32000 | H5: =IF($E$7=0,"",OFFSET('fichier articles'!$B$1,MATCH($E$6,'fichier articles'!$B$2:$B$41,0)+ROW()-5,,,)) -> OPERATION COMMUNIQUEE N°1 | Q5: OPERATION COMMUNIQUEE N°4
A6: OPERATION COMMUNIQUEE N°2 | E6: OPERATION COMMUNIQUEE N°1 | H6: =IF($E$7=0,"",OFFSET('fichier articles'!$B$1,MATCH($E$6,'fichier articles'!$B$2:$B$41,0)+ROW()-5,,,)) -> EPCS | Q6: OPERATION COMMUNIQUEE N°5
A7: EPCS | B7: 36000 | E7: =IF($E$6<>"",HLOOKUP($E$6,$Q$8:$U$12,2,FALSE)) -> EPCS | F7: =IF(E7=0,"",OFFSET($B$1,MATCH($E$6,$A$1:$A$22,0)+ROW()-7,,,)) -> 25000 | H7: =IF($E$7=0,"",OFFSET('fichier articles'!$B$1,MATCH($E$6,'fichier articles'!$B$2:$B$41,0)+ROW()-5,,,)) -> 40000790 - APP PHOTO NUMERIQUE A850BL FUJ
A8: BAZAR | B8: 15000 | E8: =IF($E$6<>"",HLOOKUP($E$6,$Q$8:$U$12,3,FALSE)) -> PGC | F8: =IF(E8=0,"",OFFSET($B$1,MATCH($E$6,$A$1:$A$22,0)+ROW()-7,,,)) -> 32000 | H8: =IF($E$7=0,"",OFFSET('fichier articles'!$B$1,MATCH($E$6,'fichier articles'!$B$2:$B$41,0)+ROW()-5,,,)) -> 40000924 - JEUX PLAYSTATION 2 D'ARCADES | Q8: OPERATION COMMUNIQUEE N°1 | R8: OPERATION COMMUNIQUEE N°2 | S8: OPERATION COMMUNIQUEE N°3 | T8: OPERATION COMMUNIQUEE N°4 | U8: OPERATION COMMUNIQUEE N°5
A9: PGC | B9: 7000 | E9: =IF($E$6<>"",HLOOKUP($E$6,$Q$8:$U$12,4,FALSE)) -> 0 | F9: =IF(E9=0,"",OFFSET($B$1,MATCH($E$6,$A$1:$A$22,0)+ROW()-7,,,)) | H9: =IF($E$7=0,"",OFFSET('fichier articles'!$B$1,MATCH($E$6,'fichier articles'!$B$2:$B$41,0)+ROW()-5,,,)) -> 40000925 - JEUX PLAYSTATION 2 D'AVENTURE | Q9: EPCS | R9: EPCS | S9: BAZAR | T9: EPCS | U9: BAZAR
A10: OPERATION COMMUNIQUEE N°3 | E10: =IF($E$6<>"",HLOOKUP($E$6,$Q$8:$U$12,5,FALSE)) -> 0 | F10: =IF(E10=0,"",OFFSET($B$1,MATCH($E$6,$A$1:$A$22,0)+ROW()-7,,,)) | H10: =IF($E$7=0,"",OFFSET('fichier articles'!$B$1,MATCH($E$6,'fichier articles'!$B$2:$B$41,0)+ROW()-5,,,)) -> 40000926 - JEUX PLAYSTATION 2 DE SPORT | Q10: PGC | R10: BAZAR | S10: EPCS | U10: EPCS
A11: BAZAR | B11: 55000 | F11: =IF(E11=0,"",OFFSET($B$1,MATCH($E$6,$A$1:$A$22,0)+ROW()-7,,,)) | H11: =IF($E$7=0,"",OFFSET('fichier articles'!$B$1,MATCH($E$6,'fichier articles'!$B$2:$B$41,0)+ROW()-5,,,)) -> 40000927 - JEUX PC D'ARCADE | R11: PGC | S11: TEXTILE | U11: PFT
A12: EPCS | B12: 13000 | F12: =IF(E12=0,"",OFFSET($B$1,MATCH($E$6,$A$1:$A$22,0)+ROW()-7,,,)) | H12: =IF($E$7=0,"",OFFSET('fichier articles'!$B$1,MATCH($E$6,'fichier articles'!$B$2:$B$41,0)+ROW()-5,,,)) -> PGC | U12: PGC
A13: TEXTILE | B13: 3000 | F13: =IF(E13=0,"",OFFSET($B$1,MATCH($E$6,$A$1:$A$22,0)+ROW()-7,,,)) | H13: =IF($E$7=0,"",OFFSET('fichier articles'!$B$1,MATCH($E$6,'fichier articles'!$B$2:$B$41,0)+ROW()-5,,,)) -> 10000144 - 1,5L RC COLA
A14: OPERATION COMMUNIQUEE N°4 | F14: =IF(E14=0,"",OFFSET($B$1,MATCH($E$6,$A$1:$A$22,0)+ROW()-7,,,)) | H14: =IF($E$7=0,"",OFFSET('fichier articles'!$B$1,MATCH($E$6,'fichier articles'!$B$2:$B$41,0)+ROW()-5,,,)) -> 10000174 - 0,25L JUS D'ORANGE LE CRU
A15: EPCS | B15: 120000 | F15: =IF(E15=0,"",OFFSET($B$1,MATCH($E$6,$A$1:$A$22,0)+ROW()-7,,,)) | H15: =IF($E$7=0,"",OFFSET('fichier articles'!$B$1,MATCH($E$6,'fichier articles'!$B$2:$B$41,0)+ROW()-5,,,)) -> 10000252 - 1L 3M RAOUA
A16: OPERATION COMMUNIQUEE N°5 | F16: =IF(E16=0,"",OFFSET($B$1,MATCH($E$6,$A$1:$A$22,0)+ROW()-7,,,)) | H16: =IF($E$7=0,"",OFFSET('fichier articles'!$B$1,MATCH($E$6,'fichier articles'!$B$2:$B$41,0)+ROW()-5,,,)) -> 10000253 - 1L MANGUE RAOUA
A17: BAZAR | B17: 62000 | H17: =IF($E$7=0,"",OFFSET('fichier articles'!$B$1,MATCH($E$6,'fichier articles'!$B$2:$B$41,0)+ROW()-5,,,)) -> OPERATION COMMUNIQUEE N°2
A18: EPCS | B18: 34000 | H18: =IF($E$7=0,"",OFFSET('fichier articles'!$B$1,MATCH($E$6,'fichier articles'!$B$2:$B$41,0)+ROW()-5,,,)) -> EPCS
A19: PFT | B19: 10000 | H19: =IF($E$7=0,"",OFFSET('fichier articles'!$B$1,MATCH($E$6,'fichier articles'!$B$2:$B$41,0)+ROW()-5,,,)) -> 43000274 - CLIM 9000BTU C/F GREGWHN09B6NE
A20: PGC | B20: 75000 | H20: =IF($E$7=0,"",OFFSET('fichier articles'!$B$1,MATCH($E$6,'fichier articles'!$B$2:$B$41,0)+ROW()-5,,,)) -> 43000275 - CLIM 12000BTU C/F GRGWHN12B6NE
A21: PFT | B21: 10000 | H21: =IF($E$7=0,"",OFFSET('fichier articles'!$B$1,MATCH($E$6,'fichier articles'!$B$2:$B$41,0)+ROW()-5,,,)) -> 43000276 - CLIM 18000 BTU C/F GREKFR45WJ2
A22: PGC | B22: 75000 | H22: =IF($E$7=0,"",OFFSET('fichier articles'!$B$1,MATCH($E$6,'fichier articles'!$B$2:$B$41,0)+ROW()-5,,,)) -> 43000312 - CLIM 9000BTU C/F WESTP.WSG09HC
H23: =IF($E$7=0,"",OFFSET('fichier articles'!$B$1,MATCH($E$6,'fichier articles'!$B$2:$B$41,0)+ROW()-5,,,)) -> 43000313 - CLIM12000BTU C/F WESTP.WSG12HC
H24: =IF($E$7=0,"",OFFSET('fichier articles'!$B$1,MATCH($E$6,'fichier articles'!$B$2:$B$41,0)+ROW()-5,,,)) -> 43000314 - CLIM18000BTU C/F WESTP.WSG18HC
H25: =IF($E$7=0,"",OFFSET('fichier articles'!$B$1,MATCH($E$6,'fichier articles'!$B$2:$B$41,0)+ROW()-5,,,)) -> 43000315 - CLIM24000BTU C/F WESTP.WSG24HC
H26: =IF($E$7=0,"",OFFSET('fichier articles'!$B$1,MATCH($E$6,'fichier articles'!$B$2:$B$41,0)+ROW()-5,,,)) -> 43000329 - CLIM.12000BTUCF TERAN KS-H1269
H27: =IF($E$7=0,"",OFFSET('fichier articles'!$B$1,MATCH($E$6,'fichier articles'!$B$2:$B$41,0)+ROW()-5,,,)) -> BAZAR
H28: =IF($E$7=0,"",OFFSET('fichier articles'!$B$1,MATCH($E$6,'fichier articles'!$B$2:$B$41,0)+ROW()-5,,,)) -> 14000275 - ALLMINIUM ALLU-FOLLU 8M*30CM
H29: =IF($E$7=0,"",OFFSET('fichier articles'!$B$1,MATCH($E$6,'fichier articles'!$B$2:$B$41,0)+ROW()-5,,,)) -> 30000007 - LAMPE ECONOMIQUE B22/25W
H30: =IF($E$7=0,"",OFFSET('fichier articles'!$B$1,MATCH($E$6,'fichier articles'!$B$2:$B$41,0)+ROW()-5,,,)) -> 30000131 - LAMPE ECO RED 11W E27 6400K
H31: =IF($E$7=0,"",OFFSET('fichier articles'!$B$1,MATCH($E$6,'fichier articles'!$B$2:$B$41,0)+ROW()-5,,,)) -> 30000132 - LAMPE ECONRED 15W B22 2700W
H32: =IF($E$7=0,"",OFFSET('fichier articles'!$B$1,MATCH($E$6,'fichier articles'!$B$2:$B$41,0)+ROW()-5,,,)) -> 30000133 - LAMPE ECO RED 20W B22 6500K
H33: =IF($E$7=0,"",OFFSET('fichier articles'!$B$1,MATCH($E$6,'fichier articles'!$B$2:$B$41,0)+ROW()-5,,,)) -> 30000332 - LAMPE ECON 15W B22 6500K
H34: =IF($E$7=0,"",OFFSET('fichier articles'!$B$1,MATCH($E$6,'fichier articles'!$B$2:$B$41,0)+ROW()-5,,,)) -> 31000006 - CACHEMIR GANT DE CUISINE
... H45: =IF($E$7=0,"",OFFSET('fichier articles'!$B$1,MATCH($E$6,'fichier articles'!$B$2:$B$41,0)+ROW()-5,,,)) -> 0

Sheet fichier articles
A2: OPERATION COMMUNIQUEE N°1 | B2: OPERATION COMMUNIQUEE N°1
B3: EPCS
B4: 40000790 - APP PHOTO NUMERIQUE A850BL FUJ
B5: 40000924 - JEUX PLAYSTATION 2 D'ARCADES
B6: 40000925 - JEUX PLAYSTATION 2 D'AVENTURE
B7: 40000926 - JEUX PLAYSTATION 2 DE SPORT
B8: 40000927 - JEUX PC D'ARCADE
B9: PGC
B10: 10000144 - 1,5L RC COLA
B11: 10000174 - 0,25L JUS D'ORANGE LE CRU
B12: 10000252 - 1L 3M RAOUA
B13: 10000253 - 1L MANGUE RAOUA
A14: OPERATION COMMUNIQUEE N°2 | B14: OPERATION COMMUNIQUEE N°2
B15: EPCS
B16: 43000274 - CLIM 9000BTU C/F GREGWHN09B6NE
B17: 43000275 - CLIM 12000BTU C/F GRGWHN12B6NE
B18: 43000276 - CLIM 18000 BTU C/F GREKFR45WJ2
B19: 43000312 - CLIM 9000BTU C/F WESTP.WSG09HC
B20: 43000313 - CLIM12000BTU C/F WESTP.WSG12HC
B21: 43000314 - CLIM18000BTU C/F WESTP.WSG18HC
B22: 43000315 - CLIM24000BTU C/F WESTP.WSG24HC
B23: 43000329 - CLIM.12000BTUCF TERAN KS-H1269
B24: BAZAR
B25: 14000275 - ALLMINIUM ALLU-FOLLU 8M*30CM
B26: 30000007 - LAMPE ECONOMIQUE B22/25W
... B41: 11000492 - 430G PQ.PRE.CAK VANIL+RAIS.SEC

Sheet Feuil3
