Workbook

Sheet Rank
A1: Name | C1: A | E1: B | G1: C | I1: D | K1: E
A2: P1 | B2: {=somme(D2+F2+H2+J2+L2)} -> #NAME? | C2: -0.2195 | D2: =INDEX(Parameter!$C$2:$G$11,MATCH(C2,Parameter!$A$2:$A$11,1),MATCH(C$1,Parameter!$C$1:$G$1,0)) -> 4 | E2: -0.113 | F2: =INDEX(Parameter!$C$2:$G$11,MATCH(E2,Parameter!$A$2:$A$11,1),MATCH(E$1,Parameter!$C$1:$G$1,0)) -> 6 | G2: -0.1232 | H2: =INDEX(Parameter!$C$2:$G$11,MATCH(G2,Parameter!$A$2:$A$11,1),MATCH(G$1,Parameter!$C$1:$G$1,0)) -> 6 | I2: -0.1176 | J2: =INDEX(Parameter!$C$2:$G$11,MATCH(I2,Parameter!$A$2:$A$11,1),MATCH(I$1,Parameter!$C$1:$G$1,0)) -> 5 | K2: 0.05 | L2: =INDEX(Parameter!$C$2:$G$11,MATCH(K2,Parameter!$A$2:$A$11,1),MATCH(K$1,Parameter!$C$1:$G$1,0)) -> 6
A3: P2 | C3: -0.211 | D3: =INDEX(Parameter!$C$2:$G$11,MATCH(C3,Parameter!$A$2:$A$11,1),MATCH(C$1,Parameter!$C$1:$G$1,0)) -> 4 | E3: -0.2364 | F3: =INDEX(Parameter!$C$2:$G$11,MATCH(E3,Parameter!$A$2:$A$11,1),MATCH(E$1,Parameter!$C$1:$G$1,0)) -> 7 | G3: 0.2 | H3: =INDEX(Parameter!$C$2:$G$11,MATCH(G3,Parameter!$A$2:$A$11,1),MATCH(G$1,Parameter!$C$1:$G$1,0)) -> 4 | I3: 0.15 | J3: =INDEX(Parameter!$C$2:$G$11,MATCH(I3,Parameter!$A$2:$A$11,1),MATCH(I$1,Parameter!$C$1:$G$1,0)) -> 6 | K3: -0.09 | L3: =INDEX(Parameter!$C$2:$G$11,MATCH(K3,Parameter!$A$2:$A$11,1),MATCH(K$1,Parameter!$C$1:$G$1,0)) -> 5
A4: P3 | C4: -0.6822 | D4: =INDEX(Parameter!$C$2:$G$11,MATCH(C4,Parameter!$A$2:$A$11,1),MATCH(C$1,Parameter!$C$1:$G$1,0)) -> 2 | E4: -0.4275 | F4: =INDEX(Parameter!$C$2:$G$11,MATCH(E4,Parameter!$A$2:$A$11,1),MATCH(E$1,Parameter!$C$1:$G$1,0)) -> 8 | G4: -0.5204 | H4: =INDEX(Parameter!$C$2:$G$11,MATCH(G4,Parameter!$A$2:$A$11,1),MATCH(G$1,Parameter!$C$1:$G$1,0)) -> 8 | I4: -0.9006 | J4: =INDEX(Parameter!$C$2:$G$11,MATCH(I4,Parameter!$A$2:$A$11,1),MATCH(I$1,Parameter!$C$1:$G$1,0)) -> 1 | K4: 0.06 | L4: =INDEX(Parameter!$C$2:$G$11,MATCH(K4,Parameter!$A$2:$A$11,1),MATCH(K$1,Parameter!$C$1:$G$1,0)) -> 6
A5: P4 | C5: 0.1483 | D5: =INDEX(Parameter!$C$2:$G$11,MATCH(C5,Parameter!$A$2:$A$11,1),MATCH(C$1,Parameter!$C$1:$G$1,0)) -> 6 | E5: 0.1528 | F5: =INDEX(Parameter!$C$2:$G$11,MATCH(E5,Parameter!$A$2:$A$11,1),MATCH(E$1,Parameter!$C$1:$G$1,0)) -> 5 | G5: 0.1705 | H5: =INDEX(Parameter!$C$2:$G$11,MATCH(G5,Parameter!$A$2:$A$11,1),MATCH(G$1,Parameter!$C$1:$G$1,0)) -> 5 | I5: 0.1797 | J5: =INDEX(Parameter!$C$2:$G$11,MATCH(I5,Parameter!$A$2:$A$11,1),MATCH(I$1,Parameter!$C$1:$G$1,0)) -> 6 | K5: 0.1695 | L5: =INDEX(Parameter!$C$2:$G$11,MATCH(K5,Parameter!$A$2:$A$11,1),MATCH(K$1,Parameter!$C$1:$G$1,0)) -> 6
A6: P5 | C6: -122.4266 | D6: =INDEX(Parameter!$C$2:$G$11,MATCH(C6,Parameter!$A$2:$A$11,1),MATCH(C$1,Parameter!$C$1:$G$1,0)) -> #N/A | E6: -156.349 | F6: =INDEX(Parameter!$C$2:$G$11,MATCH(E6,Parameter!$A$2:$A$11,1),MATCH(E$1,Parameter!$C$1:$G$1,0)) -> #N/A | G6: -92.5653 | H6: =INDEX(Parameter!$C$2:$G$11,MATCH(G6,Parameter!$A$2:$A$11,1),MATCH(G$1,Parameter!$C$1:$G$1,0)) -> #N/A | I6: -72.0024 | J6: =INDEX(Parameter!$C$2:$G$11,MATCH(I6,Parameter!$A$2:$A$11,1),MATCH(I$1,Parameter!$C$1:$G$1,0)) -> #N/A | K6: -118.1362 | L6: =INDEX(Parameter!$C$2:$G$11,MATCH(K6,Parameter!$A$2:$A$11,1),MATCH(K$1,Parameter!$C$1:$G$1,0)) -> #N/A

Sheet Parameter
C1: A | D1: B | E1: C | F1: D | G1: E
A2: -1 | B2: -0.8 | C2: 1 | D2: 10 | E2: 10 | F2: 1 | G2: 1
A3: =B2 -> -0.8 | B3: -0.6 | C3: 2 | D3: 9 | E3: 9 | F3: 2 | G3: 2
A4: =B3 -> -0.6 | B4: -0.4 | C4: 3 | D4: 8 | E4: 8 | F4: 3 | G4: 3
A5: =B4 -> -0.4 | B5: -0.2 | C5: 4 | D5: 7 | E5: 7 | F5: 4 | G5: 4
A6: =B5 -> -0.2 | B6: 0 | C6: 5 | D6: 6 | E6: 6 | F6: 5 | G6: 5
A7: =B6 -> 0 | B7: 0.2 | C7: 6 | D7: 5 | E7: 5 | F7: 6 | G7: 6
A8: =B7 -> 0.2 | B8: 0.4 | C8: 7 | D8: 4 | E8: 4 | F8: 7 | G8: 7
A9: =B8 -> 0.4 | B9: 0.6 | C9: 8 | D9: 3 | E9: 3 | F9: 8 | G9: 8
A10: =B9 -> 0.6 | B10: 0.8 | C10: 9 | D10: 2 | E10: 2 | F10: 9 | G10: 9
A11: =B10 -> 0.8 | B11: 1 | C11: 10 | D11: 1 | E11: 1 | F11: 10 | G11: 10
