Workbook

Sheet Feuil1
A1: table 1
A2: table 2
A3: table 3
A4: table 4
A5: table 5
A6: table 6
A7: table 7
A8: table 8
A9: table 9
A10: table 10
A11: table 11
A12: table 12
... A51: table 51

Sheet Feuil2
A1: LUNDI
A2: MARDI
A3: MERCREDI
A4: JEUDI
A5: VENDREDI
A6: SAMEDI
A7: DIMANCHE

Sheet Feuil3
A1: janvier
A2: février
A3: mars
A4: avril
A5: mai
A6: juin
A7: juillet
A8: août
A9: septembre
A10: octobre
A11: novembre
A12: décembre

Sheet Feuil4
A1: ici je voudrais afficher l'ensemble des données présentes dans FEUIL1 Une fois toute les données récupérées, je voudrais avoir les données de FEUIL2 puis de FEUIL3. Le problème de la fonction présente en_dessous est expliquée en B53
A2: =IF(MATCH(A1,$A$1:$A1,0) <= COUNTA(Feuil1!A:A), INDIRECT("Feuil1!A"&MATCH(A1,$A$1:$A1,0)), IF(MATCH(A1,$A$1:$A1,0) <= COUNTA(Feuil1!A:A)+COUNTA(Feuil2!A:A), INDIRECT("Feuil2!A"& MATCH(A1,$A$1:$A1,0)-COUNTA(Feuil1!A:A)), INDIRECT("Feuil3!A"& MATCH(A1,$A$1:$A1,0)-COUNTA(Feuil1!A:A)-COUNTA(Feuil2!A:A)))) -> table 1
A3: =IF(MATCH(A2,$A$1:$A2,0) <= COUNTA(Feuil1!A:A), INDIRECT("Feuil1!A"&MATCH(A2,$A$1:$A2,0)), IF(MATCH(A2,$A$1:$A2,0) <= COUNTA(Feuil1!A:A)+COUNTA(Feuil2!A:A), INDIRECT("Feuil2!A"& MATCH(A2,$A$1:$A2,0)-COUNTA(Feuil1!A:A)), INDIRECT("Feuil3!A"& MATCH(A2,$A$1:$A2,0)-COUNTA(Feuil1!A:A)-COUNTA(Feuil2!A:A)))) -> table 2
A4: =IF(MATCH(A3,$A$1:$A3,0) <= COUNTA(Feuil1!A:A), INDIRECT("Feuil1!A"&MATCH(A3,$A$1:$A3,0)), IF(MATCH(A3,$A$1:$A3,0) <= COUNTA(Feuil1!A:A)+COUNTA(Feuil2!A:A), INDIRECT("Feuil2!A"& MATCH(A3,$A$1:$A3,0)-COUNTA(Feuil1!A:A)), INDIRECT("Feuil3!A"& MATCH(A3,$A$1:$A3,0)-COUNTA(Feuil1!A:A)-COUNTA(Feuil2!A:A)))) -> table 3
A5: =IF(MATCH(A4,$A$1:$A4,0) <= COUNTA(Feuil1!A:A), INDIRECT("Feuil1!A"&MATCH(A4,$A$1:$A4,0)), IF(MATCH(A4,$A$1:$A4,0) <= COUNTA(Feuil1!A:A)+COUNTA(Feuil2!A:A), INDIRECT("Feuil2!A"& MATCH(A4,$A$1:$A4,0)-COUNTA(Feuil1!A:A)), INDIRECT("Feuil3!A"& MATCH(A4,$A$1:$A4,0)-COUNTA(Feuil1!A:A)-COUNTA(Feuil2!A:A)))) -> table 4
A6: =IF(MATCH(A5,$A$1:$A5,0) <= COUNTA(Feuil1!A:A), INDIRECT("Feuil1!A"&MATCH(A5,$A$1:$A5,0)), IF(MATCH(A5,$A$1:$A5,0) <= COUNTA(Feuil1!A:A)+COUNTA(Feuil2!A:A), INDIRECT("Feuil2!A"& MATCH(A5,$A$1:$A5,0)-COUNTA(Feuil1!A:A)), INDIRECT("Feuil3!A"& MATCH(A5,$A$1:$A5,0)-COUNTA(Feuil1!A:A)-COUNTA(Feuil2!A:A)))) -> table 5
A7: =IF(MATCH(A6,$A$1:$A6,0) <= COUNTA(Feuil1!A:A), INDIRECT("Feuil1!A"&MATCH(A6,$A$1:$A6,0)), IF(MATCH(A6,$A$1:$A6,0) <= COUNTA(Feuil1!A:A)+COUNTA(Feuil2!A:A), INDIRECT("Feuil2!A"& MATCH(A6,$A$1:$A6,0)-COUNTA(Feuil1!A:A)), INDIRECT("Feuil3!A"& MATCH(A6,$A$1:$A6,0)-COUNTA(Feuil1!A:A)-COUNTA(Feuil2!A:A)))) -> table 6
A8: =IF(MATCH(A7,$A$1:$A7,0) <= COUNTA(Feuil1!A:A), INDIRECT("Feuil1!A"&MATCH(A7,$A$1:$A7,0)), IF(MATCH(A7,$A$1:$A7,0) <= COUNTA(Feuil1!A:A)+COUNTA(Feuil2!A:A), INDIRECT("Feuil2!A"& MATCH(A7,$A$1:$A7,0)-COUNTA(Feuil1!A:A)), INDIRECT("Feuil3!A"& MATCH(A7,$A$1:$A7,0)-COUNTA(Feuil1!A:A)-COUNTA(Feuil2!A:A)))) -> table 7
A9: =IF(MATCH(A8,$A$1:$A8,0) <= COUNTA(Feuil1!A:A), INDIRECT("Feuil1!A"&MATCH(A8,$A$1:$A8,0)), IF(MATCH(A8,$A$1:$A8,0) <= COUNTA(Feuil1!A:A)+COUNTA(Feuil2!A:A), INDIRECT("Feuil2!A"& MATCH(A8,$A$1:$A8,0)-COUNTA(Feuil1!A:A)), INDIRECT("Feuil3!A"& MATCH(A8,$A$1:$A8,0)-COUNTA(Feuil1!A:A)-COUNTA(Feuil2!A:A)))) -> table 8
A10: =IF(MATCH(A9,$A$1:$A9,0) <= COUNTA(Feuil1!A:A), INDIRECT("Feuil1!A"&MATCH(A9,$A$1:$A9,0)), IF(MATCH(A9,$A$1:$A9,0) <= COUNTA(Feuil1!A:A)+COUNTA(Feuil2!A:A), INDIRECT("Feuil2!A"& MATCH(A9,$A$1:$A9,0)-COUNTA(Feuil1!A:A)), INDIRECT("Feuil3!A"& MATCH(A9,$A$1:$A9,0)-COUNTA(Feuil1!A:A)-COUNTA(Feuil2!A:A)))) -> table 9
A11: =IF(MATCH(A10,$A$1:$A10,0) <= COUNTA(Feuil1!A:A), INDIRECT("Feuil1!A"&MATCH(A10,$A$1:$A10,0)), IF(MATCH(A10,$A$1:$A10,0) <= COUNTA(Feuil1!A:A)+COUNTA(Feuil2!A:A), INDIRECT("Feuil2!A"& MATCH(A10,$A$1:$A10,0)-COUNTA(Feuil1!A:A)), INDIRECT("Feuil3!A"& MATCH(A10,$A$1:$A10,0)-COUNTA(Feuil1!A:A)-COUNTA(Feuil2!A:A)))) -> table 10
A12: =IF(MATCH(A11,$A$1:$A11,0) <= COUNTA(Feuil1!A:A), INDIRECT("Feuil1!A"&MATCH(A11,$A$1:$A11,0)), IF(MATCH(A11,$A$1:$A11,0) <= COUNTA(Feuil1!A:A)+COUNTA(Feuil2!A:A), INDIRECT("Feuil2!A"& MATCH(A11,$A$1:$A11,0)-COUNTA(Feuil1!A:A)), INDIRECT("Feuil3!A"& MATCH(A11,$A$1:$A11,0)-COUNTA(Feuil1!A:A)-COUNTA(Feuil2!A:A)))) -> table 11
A13: =IF(MATCH(A12,$A$1:$A12,0) <= COUNTA(Feuil1!A:A), INDIRECT("Feuil1!A"&MATCH(A12,$A$1:$A12,0)), IF(MATCH(A12,$A$1:$A12,0) <= COUNTA(Feuil1!A:A)+COUNTA(Feuil2!A:A), INDIRECT("Feuil2!A"& MATCH(A12,$A$1:$A12,0)-COUNTA(Feuil1!A:A)), INDIRECT("Feuil3!A"& MATCH(A12,$A$1:$A12,0)-COUNTA(Feuil1!A:A)-COUNTA(Feuil2!A:A)))) -> table 12
... A52: =IF(MATCH(A51,$A$1:$A51,0) <= COUNTA(Feuil1!A:A), INDIRECT("Feuil1!A"&MATCH(A51,$A$1:$A51,0)), IF(MATCH(A51,$A$1:$A51,0) <= COUNTA(Feuil1!A:A)+COUNTA(Feuil2!A:A), INDIRECT("Feuil2!A"& MATCH(A51,$A$1:$A51,0)-COUNTA(Feuil1!A:A)), INDIRECT("Feuil3!A"& MATCH(A51,$A$1:$A51,0)-COUNTA(Feuil1!A:A)-COUNTA(Feuil2!A:A)))) -> table 51
A53: =IF(MATCH(A52,$A$1:$A52,0) <= COUNTA(Feuil1!A:A), INDIRECT("Feuil1!A"&MATCH(A52,$A$1:$A52,0)), IF(MATCH(A52,$A$1:$A52,0) <= COUNTA(Feuil1!A:A)+COUNTA(Feuil2!A:A), INDIRECT("Feuil2!A"& MATCH(A52,$A$1:$A52,0)-COUNTA(Feuil1!A:A)), INDIRECT("Feuil3!A"& MATCH(A52,$A$1:$A52,0)-COUNTA(Feuil1!A:A)-COUNTA(Feuil2!A:A)))) -> LUNDI | B53: ICI je voudrais donc qu'on reparte en A1 de la FEUIL2 et non pas être en A52
A54: =IF(MATCH(A53,$A$1:$A53,0) <= COUNTA(Feuil1!A:A), INDIRECT("Feuil1!A"&MATCH(A53,$A$1:$A53,0)), IF(MATCH(A53,$A$1:$A53,0) <= COUNTA(Feuil1!A:A)+COUNTA(Feuil2!A:A), INDIRECT("Feuil2!A"& MATCH(A53,$A$1:$A53,0)-COUNTA(Feuil1!A:A)), INDIRECT("Feuil3!A"& MATCH(A53,$A$1:$A53,0)-COUNTA(Feuil1!A:A)-COUNTA(Feuil2!A:A)))) -> MARDI
A55: =IF(MATCH(A54,$A$1:$A54,0) <= COUNTA(Feuil1!A:A), INDIRECT("Feuil1!A"&MATCH(A54,$A$1:$A54,0)), IF(MATCH(A54,$A$1:$A54,0) <= COUNTA(Feuil1!A:A)+COUNTA(Feuil2!A:A), INDIRECT("Feuil2!A"& MATCH(A54,$A$1:$A54,0)-COUNTA(Feuil1!A:A)), INDIRECT("Feuil3!A"& MATCH(A54,$A$1:$A54,0)-COUNTA(Feuil1!A:A)-COUNTA(Feuil2!A:A)))) -> MERCREDI
A56: =IF(MATCH(A55,$A$1:$A55,0) <= COUNTA(Feuil1!A:A), INDIRECT("Feuil1!A"&MATCH(A55,$A$1:$A55,0)), IF(MATCH(A55,$A$1:$A55,0) <= COUNTA(Feuil1!A:A)+COUNTA(Feuil2!A:A), INDIRECT("Feuil2!A"& MATCH(A55,$A$1:$A55,0)-COUNTA(Feuil1!A:A)), INDIRECT("Feuil3!A"& MATCH(A55,$A$1:$A55,0)-COUNTA(Feuil1!A:A)-COUNTA(Feuil2!A:A)))) -> JEUDI
A57: =IF(MATCH(A56,$A$1:$A56,0) <= COUNTA(Feuil1!A:A), INDIRECT("Feuil1!A"&MATCH(A56,$A$1:$A56,0)), IF(MATCH(A56,$A$1:$A56,0) <= COUNTA(Feuil1!A:A)+COUNTA(Feuil2!A:A), INDIRECT("Feuil2!A"& MATCH(A56,$A$1:$A56,0)-COUNTA(Feuil1!A:A)), INDIRECT("Feuil3!A"& MATCH(A56,$A$1:$A56,0)-COUNTA(Feuil1!A:A)-COUNTA(Feuil2!A:A)))) -> VENDREDI
A58: =IF(MATCH(A57,$A$1:$A57,0) <= COUNTA(Feuil1!A:A), INDIRECT("Feuil1!A"&MATCH(A57,$A$1:$A57,0)), IF(MATCH(A57,$A$1:$A57,0) <= COUNTA(Feuil1!A:A)+COUNTA(Feuil2!A:A), INDIRECT("Feuil2!A"& MATCH(A57,$A$1:$A57,0)-COUNTA(Feuil1!A:A)), INDIRECT("Feuil3!A"& MATCH(A57,$A$1:$A57,0)-COUNTA(Feuil1!A:A)-COUNTA(Feuil2!A:A)))) -> SAMEDI
A59: =IF(MATCH(A58,$A$1:$A58,0) <= COUNTA(Feuil1!A:A), INDIRECT("Feuil1!A"&MATCH(A58,$A$1:$A58,0)), IF(MATCH(A58,$A$1:$A58,0) <= COUNTA(Feuil1!A:A)+COUNTA(Feuil2!A:A), INDIRECT("Feuil2!A"& MATCH(A58,$A$1:$A58,0)-COUNTA(Feuil1!A:A)), INDIRECT("Feuil3!A"& MATCH(A58,$A$1:$A58,0)-COUNTA(Feuil1!A:A)-COUNTA(Feuil2!A:A)))) -> DIMANCHE
A60: =IF(MATCH(A59,$A$1:$A59,0) <= COUNTA(Feuil1!A:A), INDIRECT("Feuil1!A"&MATCH(A59,$A$1:$A59,0)), IF(MATCH(A59,$A$1:$A59,0) <= COUNTA(Feuil1!A:A)+COUNTA(Feuil2!A:A), INDIRECT("Feuil2!A"& MATCH(A59,$A$1:$A59,0)-COUNTA(Feuil1!A:A)), INDIRECT("Feuil3!A"& MATCH(A59,$A$1:$A59,0)-COUNTA(Feuil1!A:A)-COUNTA(Feuil2!A:A)))) -> janvier
A61: =IF(MATCH(A60,$A$1:$A60,0) <= COUNTA(Feuil1!A:A), INDIRECT("Feuil1!A"&MATCH(A60,$A$1:$A60,0)), IF(MATCH(A60,$A$1:$A60,0) <= COUNTA(Feuil1!A:A)+COUNTA(Feuil2!A:A), INDIRECT("Feuil2!A"& MATCH(A60,$A$1:$A60,0)-COUNTA(Feuil1!A:A)), INDIRECT("Feuil3!A"& MATCH(A60,$A$1:$A60,0)-COUNTA(Feuil1!A:A)-COUNTA(Feuil2!A:A)))) -> février
A62: =IF(MATCH(A61,$A$1:$A61,0) <= COUNTA(Feuil1!A:A), INDIRECT("Feuil1!A"&MATCH(A61,$A$1:$A61,0)), IF(MATCH(A61,$A$1:$A61,0) <= COUNTA(Feuil1!A:A)+COUNTA(Feuil2!A:A), INDIRECT("Feuil2!A"& MATCH(A61,$A$1:$A61,0)-COUNTA(Feuil1!A:A)), INDIRECT("Feuil3!A"& MATCH(A61,$A$1:$A61,0)-COUNTA(Feuil1!A:A)-COUNTA(Feuil2!A:A)))) -> mars
A63: =IF(MATCH(A62,$A$1:$A62,0) <= COUNTA(Feuil1!A:A), INDIRECT("Feuil1!A"&MATCH(A62,$A$1:$A62,0)), IF(MATCH(A62,$A$1:$A62,0) <= COUNTA(Feuil1!A:A)+COUNTA(Feuil2!A:A), INDIRECT("Feuil2!A"& MATCH(A62,$A$1:$A62,0)-COUNTA(Feuil1!A:A)), INDIRECT("Feuil3!A"& MATCH(A62,$A$1:$A62,0)-COUNTA(Feuil1!A:A)-COUNTA(Feuil2!A:A)))) -> avril
A64: =IF(MATCH(A63,$A$1:$A63,0) <= COUNTA(Feuil1!A:A), INDIRECT("Feuil1!A"&MATCH(A63,$A$1:$A63,0)), IF(MATCH(A63,$A$1:$A63,0) <= COUNTA(Feuil1!A:A)+COUNTA(Feuil2!A:A), INDIRECT("Feuil2!A"& MATCH(A63,$A$1:$A63,0)-COUNTA(Feuil1!A:A)), INDIRECT("Feuil3!A"& MATCH(A63,$A$1:$A63,0)-COUNTA(Feuil1!A:A)-COUNTA(Feuil2!A:A)))) -> mai
A65: =IF(MATCH(A64,$A$1:$A64,0) <= COUNTA(Feuil1!A:A), INDIRECT("Feuil1!A"&MATCH(A64,$A$1:$A64,0)), IF(MATCH(A64,$A$1:$A64,0) <= COUNTA(Feuil1!A:A)+COUNTA(Feuil2!A:A), INDIRECT("Feuil2!A"& MATCH(A64,$A$1:$A64,0)-COUNTA(Feuil1!A:A)), INDIRECT("Feuil3!A"& MATCH(A64,$A$1:$A64,0)-COUNTA(Feuil1!A:A)-COUNTA(Feuil2!A:A)))) -> juin
... A111: =IF(MATCH(A110,$A$1:$A110,0) <= COUNTA(Feuil1!A:A), INDIRECT("Feuil1!A"&MATCH(A110,$A$1:$A110,0)), IF(MATCH(A110,$A$1:$A110,0) <= COUNTA(Feuil1!A:A)+COUNTA(Feuil2!A:A), INDIRECT("Feuil2!A"& MATCH(A110,$A$1:$A110,0)-COUNTA(Feuil1!A:A)), INDIRECT("Feuil3!A"& MATCH(A110,$A$1:$A110,0)-COUNTA(Feuil1!A:A)-COUNTA(Feuil2!A:A)))) -> 0
