Workbook

Sheet listCoordi
B1: Equipe
A2: =RANK(C2,C$2:C$33) -> 1 | B2: Joana | C2: =RAND() -> 0.95708584
A3: =RANK(C3,C$2:C$33) -> 2 | B3: Nathalie | C3: =RAND() -> 0.89605447
A4: =RANK(C4,C$2:C$33) -> 3 | B4: Céline | C4: =RAND() -> 0.85836314
A5: =RANK(C5,C$2:C$33) -> 6 | B5: Cyril | C5: =RAND() -> 0.3463018
A6: =RANK(C6,C$2:C$33) -> 5 | B6: Fabien | C6: =RAND() -> 0.58047988
A7: =RANK(C7,C$2:C$33) -> 4 | B7: Nicolas | C7: =RAND() -> 0.75778098

Sheet 2020
B1: 44091 | D1: 44092 | F1: 44093 | H1: 44094 | J1: 44095 | L1: 44096 | N1: 44097 | P1: 44098 | R1: 44099 | T1: 44100 | V1: 44101 | X1: 44102 | Z1: 44103
A2: Ouverture | B2: =VLOOKUP(1,listCoordi!$A:$B,2,FALSE) -> Joana | C2: =VLOOKUP(2,listCoordi!$A:$B,2,FALSE) -> Nathalie | D2: =VLOOKUP(1,listCoordi!$A:$B,2,FALSE) -> Joana | E2: =VLOOKUP(2,listCoordi!$A:$B,2,FALSE) -> Nathalie | F2: =VLOOKUP(1,listCoordi!$A:$B,2,FALSE) -> Joana | G2: =VLOOKUP(2,listCoordi!$A:$B,2,FALSE) -> Nathalie | H2: =VLOOKUP(1,listCoordi!$A:$B,2,FALSE) -> Joana | I2: =VLOOKUP(2,listCoordi!$A:$B,2,FALSE) -> Nathalie | J2: =VLOOKUP(1,listCoordi!$A:$B,2,FALSE) -> Joana | K2: =VLOOKUP(2,listCoordi!$A:$B,2,FALSE) -> Nathalie | L2: =VLOOKUP(1,listCoordi!$A:$B,2,FALSE) -> Joana | M2: =VLOOKUP(2,listCoordi!$A:$B,2,FALSE) -> Nathalie | N2: =VLOOKUP(1,listCoordi!$A:$B,2,FALSE) -> Joana | O2: =VLOOKUP(2,listCoordi!$A:$B,2,FALSE) -> Nathalie | P2: =VLOOKUP(1,listCoordi!$A:$B,2,FALSE) -> Joana | Q2: =VLOOKUP(2,listCoordi!$A:$B,2,FALSE) -> Nathalie | R2: =VLOOKUP(1,listCoordi!$A:$B,2,FALSE) -> Joana | S2: =VLOOKUP(2,listCoordi!$A:$B,2,FALSE) -> Nathalie | T2: =VLOOKUP(1,listCoordi!$A:$B,2,FALSE) -> Joana | U2: =VLOOKUP(2,listCoordi!$A:$B,2,FALSE) -> Nathalie | V2: =VLOOKUP(1,listCoordi!$A:$B,2,FALSE) -> Joana | W2: =VLOOKUP(2,listCoordi!$A:$B,2,FALSE) -> Nathalie | X2: =VLOOKUP(1,listCoordi!$A:$B,2,FALSE) -> Joana | Y2: =VLOOKUP(2,listCoordi!$A:$B,2,FALSE) -> Nathalie | Z2: =VLOOKUP(1,listCoordi!$A:$B,2,FALSE) -> Joana | AA2: =VLOOKUP(2,listCoordi!$A:$B,2,FALSE) -> Nathalie
A3: Cœur de journée | B3: =VLOOKUP(3,listCoordi!$A:$B,2,FALSE) -> Céline | C3: =VLOOKUP(4,listCoordi!$A:$B,2,FALSE) -> Nicolas | D3: =VLOOKUP(3,listCoordi!$A:$B,2,FALSE) -> Céline | E3: =VLOOKUP(4,listCoordi!$A:$B,2,FALSE) -> Nicolas | F3: =VLOOKUP(3,listCoordi!$A:$B,2,FALSE) -> Céline | G3: =VLOOKUP(4,listCoordi!$A:$B,2,FALSE) -> Nicolas | H3: =VLOOKUP(3,listCoordi!$A:$B,2,FALSE) -> Céline | I3: =VLOOKUP(4,listCoordi!$A:$B,2,FALSE) -> Nicolas | J3: =VLOOKUP(3,listCoordi!$A:$B,2,FALSE) -> Céline | K3: =VLOOKUP(4,listCoordi!$A:$B,2,FALSE) -> Nicolas | L3: =VLOOKUP(3,listCoordi!$A:$B,2,FALSE) -> Céline | M3: =VLOOKUP(4,listCoordi!$A:$B,2,FALSE) -> Nicolas | N3: =VLOOKUP(3,listCoordi!$A:$B,2,FALSE) -> Céline | O3: =VLOOKUP(4,listCoordi!$A:$B,2,FALSE) -> Nicolas | P3: =VLOOKUP(3,listCoordi!$A:$B,2,FALSE) -> Céline | Q3: =VLOOKUP(4,listCoordi!$A:$B,2,FALSE) -> Nicolas | R3: =VLOOKUP(3,listCoordi!$A:$B,2,FALSE) -> Céline | S3: =VLOOKUP(4,listCoordi!$A:$B,2,FALSE) -> Nicolas | T3: =VLOOKUP(3,listCoordi!$A:$B,2,FALSE) -> Céline | U3: =VLOOKUP(4,listCoordi!$A:$B,2,FALSE) -> Nicolas | V3: =VLOOKUP(3,listCoordi!$A:$B,2,FALSE) -> Céline | W3: =VLOOKUP(4,listCoordi!$A:$B,2,FALSE) -> Nicolas | X3: =VLOOKUP(3,listCoordi!$A:$B,2,FALSE) -> Céline | Y3: =VLOOKUP(4,listCoordi!$A:$B,2,FALSE) -> Nicolas | Z3: =VLOOKUP(3,listCoordi!$A:$B,2,FALSE) -> Céline | AA3: =VLOOKUP(4,listCoordi!$A:$B,2,FALSE) -> Nicolas
A4: Fermeture | B4: =VLOOKUP(5,listCoordi!$A:$B,2,FALSE) -> Fabien | C4: =VLOOKUP(6,listCoordi!$A:$B,2,FALSE) -> Cyril | D4: =VLOOKUP(5,listCoordi!$A:$B,2,FALSE) -> Fabien | E4: =VLOOKUP(6,listCoordi!$A:$B,2,FALSE) -> Cyril | F4: =VLOOKUP(5,listCoordi!$A:$B,2,FALSE) -> Fabien | G4: =VLOOKUP(6,listCoordi!$A:$B,2,FALSE) -> Cyril | H4: =VLOOKUP(5,listCoordi!$A:$B,2,FALSE) -> Fabien | I4: =VLOOKUP(6,listCoordi!$A:$B,2,FALSE) -> Cyril | J4: =VLOOKUP(5,listCoordi!$A:$B,2,FALSE) -> Fabien | K4: =VLOOKUP(6,listCoordi!$A:$B,2,FALSE) -> Cyril | L4: =VLOOKUP(5,listCoordi!$A:$B,2,FALSE) -> Fabien | M4: =VLOOKUP(6,listCoordi!$A:$B,2,FALSE) -> Cyril | N4: =VLOOKUP(5,listCoordi!$A:$B,2,FALSE) -> Fabien | O4: =VLOOKUP(6,listCoordi!$A:$B,2,FALSE) -> Cyril | P4: =VLOOKUP(5,listCoordi!$A:$B,2,FALSE) -> Fabien | Q4: =VLOOKUP(6,listCoordi!$A:$B,2,FALSE) -> Cyril | R4: =VLOOKUP(5,listCoordi!$A:$B,2,FALSE) -> Fabien | S4: =VLOOKUP(6,listCoordi!$A:$B,2,FALSE) -> Cyril | T4: =VLOOKUP(5,listCoordi!$A:$B,2,FALSE) -> Fabien | U4: =VLOOKUP(6,listCoordi!$A:$B,2,FALSE) -> Cyril | V4: =VLOOKUP(5,listCoordi!$A:$B,2,FALSE) -> Fabien | W4: =VLOOKUP(6,listCoordi!$A:$B,2,FALSE) -> Cyril | X4: =VLOOKUP(5,listCoordi!$A:$B,2,FALSE) -> Fabien | Y4: =VLOOKUP(6,listCoordi!$A:$B,2,FALSE) -> Cyril | Z4: =VLOOKUP(5,listCoordi!$A:$B,2,FALSE) -> Fabien | AA4: =VLOOKUP(6,listCoordi!$A:$B,2,FALSE) -> Cyril
