Workbook

Sheet Input 1
A1: Num | B1: Libellé | C1: Dates | D1: Valeurs M | E1: Option
A2: A | B2: Libellé A | C2: 44012 | D2: 1.0576622 | E2: V
A3: A | B3: Libellé A | C3: 44011 | D3: 1.0568724 | E3: M
A4: B | B4: Libellé B | C4: 44010 | D4: 1.0547027 | E4: V
A5: B | B5: Libellé B | C5: 44009 | D5: 1.0535965 | E5: M
A6: C | B6: Libellé C | C6: 44008 | D6: 1.0536925 | E6: V
A7: C | B7: Libellé C | C7: 44007 | D7: 1.0534599 | E7: M

Sheet Input 2
A1: Date | B1: A' | C1: B' | D1: C'
A2: 44012 | B2: 0.238 | C2: 123 | D2: 125
A3: 44011 | B3: 0 | C3: 0.7 | D3: 1
A4: 44010 | B4: 0.954 | C4: 0.358 | D4: 0.3
A5: 44009 | B5: 0.364 | C5: 0.5 | D5: 0.23
A6: 44008 | B6: 0.256 | C6: 0.2574 | D6: 0.267
A7: 44007 | B7: 0.364 | C7: 0.248 | D7: 0.364

Sheet Results
A1: Num | B1: Libellé Num | C1: Dates | D1: Val Input 2 | E1: Option | F1: Valeurs M | G1: F1 | H1: F2 | I1: F3
A2: ='Input 1'!A2 -> A | B2: ='Input 1'!B2 -> Libellé A | C2: ='Input 1'!C2 -> 44012 | E2: ='Input 1'!E2 -> V | F2: ='Input 1'!D2 -> 1.0576622
A3: ='Input 1'!A3 -> A | B3: ='Input 1'!B3 -> Libellé A | C3: ='Input 1'!C3 -> 44011 | E3: ='Input 1'!E3 -> M | F3: ='Input 1'!D3 -> 1.0568724
A4: ='Input 1'!A4 -> B | B4: ='Input 1'!B4 -> Libellé B | C4: ='Input 1'!C4 -> 44010 | E4: ='Input 1'!E4 -> V | F4: ='Input 1'!D4 -> 1.0547027
A5: ='Input 1'!A5 -> B | B5: ='Input 1'!B5 -> Libellé B | C5: ='Input 1'!C5 -> 44009 | E5: ='Input 1'!E5 -> M | F5: ='Input 1'!D5 -> 1.0535965
A6: ='Input 1'!A6 -> C | B6: ='Input 1'!B6 -> Libellé C | C6: ='Input 1'!C6 -> 44008 | E6: ='Input 1'!E6 -> V | F6: ='Input 1'!D6 -> 1.0536925
A7: ='Input 1'!A7 -> C | B7: ='Input 1'!B7 -> Libellé C | C7: ='Input 1'!C7 -> 44007 | E7: ='Input 1'!E7 -> M | F7: ='Input 1'!D7 -> 1.0534599
