Workbook
Name A: Tables!$A$36
Name Déplacement: Tables!$F$26:$F$27
Name NomInfirmier: Tables!$I$4:$I$8
Name NomPatient: Tables!$B$5:$B$32
Name NomSoin: Tables!$E$5:$E$16
Name Soin: Tables!$E$5:$E$11,Tables!$E$12:$E$16
Name Soins: Tables!$E$5:$E$11

Sheet Tables
I3: Nom infirmier
A4: Civilité | B4: Nom Patient | C4: lieu | E4: Soin | F4: Tarification | I4: a
A5: Mme | B5: Bonnefemne | C5: mont de marsan | E5: AMI 1 | F5: 3.15 | I5: b
A6: M. | B6: Cordeiro | C6: hors agglo | E6: AMI 1,5 | F6: 4.725 | I6: c
A7: M. | B7: Bentejac | C7: hors agglo | E7: AMI 2 | F7: 6.3 | I7: d
A8: M. | B8: Gibert | C8: mont de marsan | E8: AMI 3 | F8: 9.45 | I8: e
A9: Mme | B9: Rodriguez | C9: hors agglo | E9: AMI 4 | F9: 12.6
A10: Mme | B10: Chatain | C10: hors agglo | E10: AIS 3 | F10: 7.95
A11: M. | B11: Dauney | C11: mont de marsan | E11: AIS 6 | F11: 15.9
A12: Mlle | B12: Humblot | C12: mont de marsan | E12: 1/2 AMI 1 | F12: =F5/2 -> 1.575
A13: Mme | B13: Lesclauses | C13: mont de marsan | E13: 1/2 AMI 1,5 | F13: =F6/2 -> 2.3625
A14: M. | B14: Ferru | C14: hors agglo | E14: 1/2 AMI 2 | F14: =F7/2 -> 3.15
A15: M. | B15: Jaspard | C15: hors agglo | E15: 1/2 AMI 3 | F15: =F8/2 -> 4.725
A16: Mlle | B16: Gimenez | C16: mont de marsan | E16: 1/2 AMI 4 | F16: =F9/2 -> 6.3
A17: M. | B17: Devaux | C17: hors agglo
A18: Mme | B18: Cabé | C18: hors agglo
E19: Majoration Dimanche et jours fériés
E20: 8
E25: Indemnités de déplacement | F25: Tarif
E26: Mont de Marsan | F26: 2.3
E27: Majoration hors agglo + 2,80 € | F27: 5.1
A35: Année
A36: 2011
A38: Jour de l'an | B38: 40544 | C38: 8
A39: Pâques | B39: =DOLLAR((DAY(MINUTE(A/38)/2+55)&"/4/"&A)/7,)*7-6 -> 40657 | C39: 8
A40: Lundi de Pâques | B40: =DOLLAR((DAY(MINUTE(A/38)/2+55)&"/4/"&A)/7,)*7-5 -> 40658 | C40: 8
A41: Fête du Travail | B41: 40664 | C41: 8
A42: Victoire 39/45 | B42: 40671 | C42: 8
A43: Ascension | B43: =DOLLAR((DAY(MINUTE(A/38)/2+55)&"/4/"&A)/7,)*7+33 -> 40696 | C43: 8
A44: Pentecôte | B44: =DOLLAR((DAY(MINUTE(A/38)/2+55)&"/4/"&A)/7,)*7+43 -> 40706 | C44: 8
A45: Lundi de Pentecôte | B45: =DOLLAR((DAY(MINUTE(A/38)/2+55)&"/4/"&A)/7,)*7+44 -> 40707 | C45: 8
A46: Fête Nationale | B46: 40738 | C46: 8
A47: Assomption | B47: 40770 | C47: 8
A48: Toussaint | B48: 40848 | C48: 8
A49: Armistice 14/18 | B49: 40858 | C49: 8
A50: Noël | B50: 40902 | C50: 8

Sheet Synthèse
A3: Somme de Total | B3: MOIS
A4: Étiquettes de lignes | B4: 2 | C4: 3 | D4: 4 | E4: 5 | F4: 6 | G4: 8 | H4: 10 | I4: Total général
A5: a | D5: 54.6 | G5: 51.875 | I5: 106.475
A6: Dauney | D6: 54.6 | G6: 51.875 | I6: 106.475
A7: 3 | D7: 54.6 | I7: 54.6
A8: 4 | G8: 51.875 | I8: 51.875
A9: b | C9: 32.7 | E9: 56.625 | I9: 89.325
A10: Cordeiro | C10: 32.7 | I10: 32.7
A11: 3 | C11: 32.7 | I11: 32.7
A12: Ferru | E12: 56.625 | I12: 56.625
A13: 4 | E13: 56.625 | I13: 56.625
A14: c | B14: 37.425 | F14: 59.85 | H14: 60.075 | I14: 157.35
A15: Bentejac | B15: 37.425 | I15: 37.425
A16: 3 | B16: 37.425 | I16: 37.425
A17: Cordeiro | F17: 59.85 | I17: 59.85
A18: 3 | F18: 59.85 | I18: 59.85
A19: Rodriguez | H19: 60.075 | I19: 60.075
A20: 4 | H20: 60.075 | I20: 60.075
A21: d | F21: 24.225 | I21: 24.225
A22: Lesclauses | F22: 24.225 | I22: 24.225
A23: 3 | F23: 24.225 | I23: 24.225
A24: Total général | B24: 37.425 | C24: 32.7 | D24: 54.6 | E24: 56.625 | F24: 84.075 | G24: 51.875 | H24: 60.075 | I24: 377.375

Sheet Données mensuelles
A1: Nom infirmier | B1: date | C1: mois | D1: Nom patient | E1: Soin 1 | F1: Tarification | G1: Soin 2 | H1: Tarification | I1: Soin 3 | J1: Tarification | K1: Soin 4 | L1: Tarification | M1: Soin 5 | N1: Tarification | O1: Sous total | P1: Majoration D / F | Q1: Déplacement | R1: Nombre de passages | S1: Total
A2: c | B2: 40575 | C2: =MONTH(B2) -> 2 | D2: Bentejac | E2: AMI 1,5 | F2: =IF(E2="","",VLOOKUP(E2,Tables!$E$5:$F$16,2,0)) -> 4.725 | G2: AMI 3 | H2: =IF(G2="","",VLOOKUP(G2,Tables!$E$5:$F$16,2,0)) -> 9.45 | I2: AIS 3 | J2: =IF(I2="","",VLOOKUP(I2,Tables!$E$5:$F$16,2,0)) -> 7.95 | L2: =IF(K2="","",VLOOKUP(K2,Tables!$E$5:$F$16,2,0)) | N2: =IF(M2="","",VLOOKUP(M2,Tables!$E$5:$F$16,2,0)) | O2: =SUMIF($E$1:$N$1,"Tarification",$E2:$N2) -> 22.125 | P2: =IF(WEEKDAY(B2)=1,8,IF(WEEKDAY(B2)=Tables!$B$38,8,IF(WEEKDAY(B2)=Tables!$B$39,8,IF(WEEKDAY(B2)=Tables!$B$40,8,IF(WEEKDAY(B2)=Tables!$B$41,8,IF(WEEKDAY(B2)=Tables!$B$42,8,IF(WEEKDAY(B2)=Tables!$B$43,8,IF(WEEKDAY(B2)=Tables!$B$44,8,IF(WEEKDAY(B2)=Tables!$B$45,8,IF(WEEKDAY(B2)=Tables!$B$46,8,IF(WEEKDAY(B2)=Tables!$B$47,8,IF(WEEKDAY(B2)=Tables!$B$48,8,IF(WEEKDAY(B2)=Tables!$B$49,8,IF(WEEKDAY(B2)=Tables!$B$50,8,0))))))))))))))*R2 -> 0 | Q2: =IF(INDEX(Tables!$A$5:$C$18,MATCH(D2,Tables!$B$5:$B$18,0),3)="hors agglo",Tables!$F$27,Tables!$F$26)*R2 -> 15.3 | R2: =COUNTA(E2,G2,I2,K2,M2) -> 3 | S2: =O2+P2+Q2 -> 37.425
A3: b | B3: 40603 | C3: =MONTH(B3) -> 3 | D3: Cordeiro | E3: AMI 2 | F3: =IF(E3="","",VLOOKUP(E3,Tables!$E$5:$F$16,2,0)) -> 6.3 | G3: AMI 1 | H3: =IF(G3="","",VLOOKUP(G3,Tables!$E$5:$F$16,2,0)) -> 3.15 | I3: AIS 3 | J3: =IF(I3="","",VLOOKUP(I3,Tables!$E$5:$F$16,2,0)) -> 7.95 | L3: =IF(K3="","",VLOOKUP(K3,Tables!$E$5:$F$16,2,0)) | N3: =IF(M3="","",VLOOKUP(M3,Tables!$E$5:$F$16,2,0)) | O3: =SUMIF($E$1:$N$1,"Tarification",$E3:$N3) -> 17.4 | P3: =IF(WEEKDAY(B3)=1,8,IF(WEEKDAY(B3)=Tables!$B$38,8,IF(WEEKDAY(B3)=Tables!$B$39,8,IF(WEEKDAY(B3)=Tables!$B$40,8,IF(WEEKDAY(B3)=Tables!$B$41,8,IF(WEEKDAY(B3)=Tables!$B$42,8,IF(WEEKDAY(B3)=Tables!$B$43,8,IF(WEEKDAY(B3)=Tables!$B$44,8,IF(WEEKDAY(B3)=Tables!$B$45,8,IF(WEEKDAY(B3)=Tables!$B$46,8,IF(WEEKDAY(B3)=Tables!$B$47,8,IF(WEEKDAY(B3)=Tables!$B$48,8,IF(WEEKDAY(B3)=Tables!$B$49,8,IF(WEEKDAY(B3)=Tables!$B$50,8,0))))))))))))))*R3 -> 0 | Q3: =IF(INDEX(Tables!$A$5:$C$18,MATCH(D3,Tables!$B$5:$B$18,0),3)="hors agglo",Tables!$F$27,Tables!$F$26)*R3 -> 15.3 | R3: =COUNTA(E3,G3,I3,K3,M3) -> 3 | S3: =O3+P3+Q3 -> 32.7
A4: c | B4: 40828 | C4: =MONTH(B4) -> 10 | D4: Rodriguez | E4: AIS 6 | F4: =IF(E4="","",VLOOKUP(E4,Tables!$E$5:$F$16,2,0)) -> 15.9 | G4: AMI 1 | H4: =IF(G4="","",VLOOKUP(G4,Tables!$E$5:$F$16,2,0)) -> 3.15 | I4: AIS 6 | J4: =IF(I4="","",VLOOKUP(I4,Tables!$E$5:$F$16,2,0)) -> 15.9 | K4: AMI 1,5 | L4: =IF(K4="","",VLOOKUP(K4,Tables!$E$5:$F$16,2,0)) -> 4.725 | N4: =IF(M4="","",VLOOKUP(M4,Tables!$E$5:$F$16,2,0)) | O4: =SUMIF($E$1:$N$1,"Tarification",$E4:$N4) -> 39.675 | P4: =IF(WEEKDAY(B4)=1,8,IF(WEEKDAY(B4)=Tables!$B$38,8,IF(WEEKDAY(B4)=Tables!$B$39,8,IF(WEEKDAY(B4)=Tables!$B$40,8,IF(WEEKDAY(B4)=Tables!$B$41,8,IF(WEEKDAY(B4)=Tables!$B$42,8,IF(WEEKDAY(B4)=Tables!$B$43,8,IF(WEEKDAY(B4)=Tables!$B$44,8,IF(WEEKDAY(B4)=Tables!$B$45,8,IF(WEEKDAY(B4)=Tables!$B$46,8,IF(WEEKDAY(B4)=Tables!$B$47,8,IF(WEEKDAY(B4)=Tables!$B$48,8,IF(WEEKDAY(B4)=Tables!$B$49,8,IF(WEEKDAY(B4)=Tables!$B$50,8,0))))))))))))))*R4 -> 0 | Q4: =IF(INDEX(Tables!$A$5:$C$18,MATCH(D4,Tables!$B$5:$B$18,0),3)="hors agglo",Tables!$F$27,Tables!$F$26)*R4 -> 20.4 | R4: =COUNTA(E4,G4,I4,K4,M4) -> 4 | S4: =O4+P4+Q4 -> 60.075
A5: a | B5: 40770 | C5: =MONTH(B5) -> 8 | D5: Dauney | E5: AMI 4 | F5: =IF(E5="","",VLOOKUP(E5,Tables!$E$5:$F$16,2,0)) -> 12.6 | G5: AMI 1,5 | H5: =IF(G5="","",VLOOKUP(G5,Tables!$E$5:$F$16,2,0)) -> 4.725 | I5: AIS 6 | J5: =IF(I5="","",VLOOKUP(I5,Tables!$E$5:$F$16,2,0)) -> 15.9 | K5: AMI 3 | L5: =IF(K5="","",VLOOKUP(K5,Tables!$E$5:$F$16,2,0)) -> 9.45 | N5: =IF(M5="","",VLOOKUP(M5,Tables!$E$5:$F$16,2,0)) | O5: =SUMIF($E$1:$N$1,"Tarification",$E5:$N5) -> 42.675 | P5: =IF(WEEKDAY(B5)=1,8,IF(WEEKDAY(B5)=Tables!$B$38,8,IF(WEEKDAY(B5)=Tables!$B$39,8,IF(WEEKDAY(B5)=Tables!$B$40,8,IF(WEEKDAY(B5)=Tables!$B$41,8,IF(WEEKDAY(B5)=Tables!$B$42,8,IF(WEEKDAY(B5)=Tables!$B$43,8,IF(WEEKDAY(B5)=Tables!$B$44,8,IF(WEEKDAY(B5)=Tables!$B$45,8,IF(WEEKDAY(B5)=Tables!$B$46,8,IF(WEEKDAY(B5)=Tables!$B$47,8,IF(WEEKDAY(B5)=Tables!$B$48,8,IF(WEEKDAY(B5)=Tables!$B$49,8,IF(WEEKDAY(B5)=Tables!$B$50,8,0))))))))))))))*R5 -> 0 | Q5: =IF(INDEX(Tables!$A$5:$C$18,MATCH(D5,Tables!$B$5:$B$18,0),3)="hors agglo",Tables!$F$27,Tables!$F$26)*R5 -> 9.2 | R5: =COUNTA(E5,G5,I5,K5,M5) -> 4 | S5: =O5+P5+Q5 -> 51.875
A6: c | B6: 40706 | C6: =MONTH(B6) -> 6 | D6: Cordeiro | E6: AMI 1 | F6: =IF(E6="","",VLOOKUP(E6,Tables!$E$5:$F$16,2,0)) -> 3.15 | G6: AMI 3 | H6: =IF(G6="","",VLOOKUP(G6,Tables!$E$5:$F$16,2,0)) -> 9.45 | I6: AIS 3 | J6: =IF(I6="","",VLOOKUP(I6,Tables!$E$5:$F$16,2,0)) -> 7.95 | L6: =IF(K6="","",VLOOKUP(K6,Tables!$E$5:$F$16,2,0)) | N6: =IF(M6="","",VLOOKUP(M6,Tables!$E$5:$F$16,2,0)) | O6: =SUMIF($E$1:$N$1,"Tarification",$E6:$N6) -> 20.55 | P6: =IF(WEEKDAY(B6)=1,8,IF(WEEKDAY(B6)=Tables!$B$38,8,IF(WEEKDAY(B6)=Tables!$B$39,8,IF(WEEKDAY(B6)=Tables!$B$40,8,IF(WEEKDAY(B6)=Tables!$B$41,8,IF(WEEKDAY(B6)=Tables!$B$42,8,IF(WEEKDAY(B6)=Tables!$B$43,8,IF(WEEKDAY(B6)=Tables!$B$44,8,IF(WEEKDAY(B6)=Tables!$B$45,8,IF(WEEKDAY(B6)=Tables!$B$46,8,IF(WEEKDAY(B6)=Tables!$B$47,8,IF(WEEKDAY(B6)=Tables!$B$48,8,IF(WEEKDAY(B6)=Tables!$B$49,8,IF(WEEKDAY(B6)=Tables!$B$50,8,0))))))))))))))*R6 -> 24 | Q6: =IF(INDEX(Tables!$A$5:$C$18,MATCH(D6,Tables!$B$5:$B$18,0),3)="hors agglo",Tables!$F$27,Tables!$F$26)*R6 -> 15.3 | R6: =COUNTA(E6,G6,I6,K6,M6) -> 3 | S6: =O6+P6+Q6 -> 59.85
A7: d | B7: 40709 | C7: =MONTH(B7) -> 6 | D7: Lesclauses | E7: AMI 2 | F7: =IF(E7="","",VLOOKUP(E7,Tables!$E$5:$F$16,2,0)) -> 6.3 | G7: AMI 1,5 | H7: =IF(G7="","",VLOOKUP(G7,Tables!$E$5:$F$16,2,0)) -> 4.725 | I7: AMI 2 | J7: =IF(I7="","",VLOOKUP(I7,Tables!$E$5:$F$16,2,0)) -> 6.3 | L7: =IF(K7="","",VLOOKUP(K7,Tables!$E$5:$F$16,2,0)) | N7: =IF(M7="","",VLOOKUP(M7,Tables!$E$5:$F$16,2,0)) | O7: =SUMIF($E$1:$N$1,"Tarification",$E7:$N7) -> 17.325 | P7: =IF(WEEKDAY(B7)=1,8,IF(WEEKDAY(B7)=Tables!$B$38,8,IF(WEEKDAY(B7)=Tables!$B$39,8,IF(WEEKDAY(B7)=Tables!$B$40,8,IF(WEEKDAY(B7)=Tables!$B$41,8,IF(WEEKDAY(B7)=Tables!$B$42,8,IF(WEEKDAY(B7)=Tables!$B$43,8,IF(WEEKDAY(B7)=Tables!$B$44,8,IF(WEEKDAY(B7)=Tables!$B$45,8,IF(WEEKDAY(B7)=Tables!$B$46,8,IF(WEEKDAY(B7)=Tables!$B$47,8,IF(WEEKDAY(B7)=Tables!$B$48,8,IF(WEEKDAY(B7)=Tables!$B$49,8,IF(WEEKDAY(B7)=Tables!$B$50,8,0))))))))))))))*R7 -> 0 | Q7: =IF(INDEX(Tables!$A$5:$C$18,MATCH(D7,Tables!$B$5:$B$18,0),3)="hors agglo",Tables!$F$27,Tables!$F$26)*R7 -> 6.9 | R7: =COUNTA(E7,G7,I7,K7,M7) -> 3 | S7: =O7+P7+Q7 -> 24.225
A8: a | B8: 40636 | C8: =MONTH(B8) -> 4 | D8: Dauney | E8: AMI 2 | F8: =IF(E8="","",VLOOKUP(E8,Tables!$E$5:$F$16,2,0)) -> 6.3 | G8: AMI 3 | H8: =IF(G8="","",VLOOKUP(G8,Tables!$E$5:$F$16,2,0)) -> 9.45 | I8: AIS 3 | J8: =IF(I8="","",VLOOKUP(I8,Tables!$E$5:$F$16,2,0)) -> 7.95 | L8: =IF(K8="","",VLOOKUP(K8,Tables!$E$5:$F$16,2,0)) | N8: =IF(M8="","",VLOOKUP(M8,Tables!$E$5:$F$16,2,0)) | O8: =SUMIF($E$1:$N$1,"Tarification",$E8:$N8) -> 23.7 | P8: =IF(WEEKDAY(B8)=1,8,IF(WEEKDAY(B8)=Tables!$B$38,8,IF(WEEKDAY(B8)=Tables!$B$39,8,IF(WEEKDAY(B8)=Tables!$B$40,8,IF(WEEKDAY(B8)=Tables!$B$41,8,IF(WEEKDAY(B8)=Tables!$B$42,8,IF(WEEKDAY(B8)=Tables!$B$43,8,IF(WEEKDAY(B8)=Tables!$B$44,8,IF(WEEKDAY(B8)=Tables!$B$45,8,IF(WEEKDAY(B8)=Tables!$B$46,8,IF(WEEKDAY(B8)=Tables!$B$47,8,IF(WEEKDAY(B8)=Tables!$B$48,8,IF(WEEKDAY(B8)=Tables!$B$49,8,IF(WEEKDAY(B8)=Tables!$B$50,8,0))))))))))))))*R8 -> 24 | Q8: =IF(INDEX(Tables!$A$5:$C$18,MATCH(D8,Tables!$B$5:$B$18,0),3)="hors agglo",Tables!$F$27,Tables!$F$26)*R8 -> 6.9 | R8: =COUNTA(E8,G8,I8,K8,M8) -> 3 | S8: =O8+P8+Q8 -> 54.6
A9: b | B9: 40669 | C9: =MONTH(B9) -> 5 | D9: Ferru | E9: AMI 2 | F9: =IF(E9="","",VLOOKUP(E9,Tables!$E$5:$F$16,2,0)) -> 6.3 | G9: AMI 4 | H9: =IF(G9="","",VLOOKUP(G9,Tables!$E$5:$F$16,2,0)) -> 12.6 | I9: AMI 4 | J9: =IF(I9="","",VLOOKUP(I9,Tables!$E$5:$F$16,2,0)) -> 12.6 | K9: AMI 1,5 | L9: =IF(K9="","",VLOOKUP(K9,Tables!$E$5:$F$16,2,0)) -> 4.725 | N9: =IF(M9="","",VLOOKUP(M9,Tables!$E$5:$F$16,2,0)) | O9: =SUMIF($E$1:$N$1,"Tarification",$E9:$N9) -> 36.225 | P9: =IF(WEEKDAY(B9)=1,8,IF(WEEKDAY(B9)=Tables!$B$38,8,IF(WEEKDAY(B9)=Tables!$B$39,8,IF(WEEKDAY(B9)=Tables!$B$40,8,IF(WEEKDAY(B9)=Tables!$B$41,8,IF(WEEKDAY(B9)=Tables!$B$42,8,IF(WEEKDAY(B9)=Tables!$B$43,8,IF(WEEKDAY(B9)=Tables!$B$44,8,IF(WEEKDAY(B9)=Tables!$B$45,8,IF(WEEKDAY(B9)=Tables!$B$46,8,IF(WEEKDAY(B9)=Tables!$B$47,8,IF(WEEKDAY(B9)=Tables!$B$48,8,IF(WEEKDAY(B9)=Tables!$B$49,8,IF(WEEKDAY(B9)=Tables!$B$50,8,0))))))))))))))*R9 -> 0 | Q9: =IF(INDEX(Tables!$A$5:$C$18,MATCH(D9,Tables!$B$5:$B$18,0),3)="hors agglo",Tables!$F$27,Tables!$F$26)*R9 -> 20.4 | R9: =COUNTA(E9,G9,I9,K9,M9) -> 4 | S9: =O9+P9+Q9 -> 56.625
F10: =IF(E10="","",VLOOKUP(E10,Tables!$E$5:$F$16,2,0)) | H10: =IF(G10="","",VLOOKUP(G10,Tables!$E$5:$F$16,2,0)) | J10: =IF(I10="","",VLOOKUP(I10,Tables!$E$5:$F$16,2,0)) | L10: =IF(K10="","",VLOOKUP(K10,Tables!$E$5:$F$16,2,0)) | N10: =IF(M10="","",VLOOKUP(M10,Tables!$E$5:$F$16,2,0)) | O10: =SUMIF($E$1:$N$1,"Tarification",$E10:$N10) -> 0 | P10: =IF(WEEKDAY(B10)=1,8,IF(WEEKDAY(B10)=Tables!$B$38,8,IF(WEEKDAY(B10)=Tables!$B$39,8,IF(WEEKDAY(B10)=Tables!$B$40,8,IF(WEEKDAY(B10)=Tables!$B$41,8,IF(WEEKDAY(B10)=Tables!$B$42,8,IF(WEEKDAY(B10)=Tables!$B$43,8,IF(WEEKDAY(B10)=Tables!$B$44,8,IF(WEEKDAY(B10)=Tables!$B$45,8,IF(WEEKDAY(B10)=Tables!$B$46,8,IF(WEEKDAY(B10)=Tables!$B$47,8,IF(WEEKDAY(B10)=Tables!$B$48,8,IF(WEEKDAY(B10)=Tables!$B$49,8,IF(WEEKDAY(B10)=Tables!$B$50,8,0))))))))))))))*R10 -> 0 | Q10: =IF(INDEX(Tables!$A$5:$C$18,MATCH(D10,Tables!$B$5:$B$18,0),3)="hors agglo",Tables!$F$27,Tables!$F$26)*R10 -> #N/A | R10: =COUNTA(E10,G10,I10,K10,M10) -> 0 | S10: =O10+P10+Q10 -> #N/A
F11: =IF(E11="","",VLOOKUP(E11,Tables!$E$5:$F$16,2,0)) | H11: =IF(G11="","",VLOOKUP(G11,Tables!$E$5:$F$16,2,0)) | J11: =IF(I11="","",VLOOKUP(I11,Tables!$E$5:$F$16,2,0)) | L11: =IF(K11="","",VLOOKUP(K11,Tables!$E$5:$F$16,2,0)) | N11: =IF(M11="","",VLOOKUP(M11,Tables!$E$5:$F$16,2,0)) | O11: =SUMIF($E$1:$N$1,"Tarification",$E11:$N11) -> 0 | P11: =IF(WEEKDAY(B11)=1,8,IF(WEEKDAY(B11)=Tables!$B$38,8,IF(WEEKDAY(B11)=Tables!$B$39,8,IF(WEEKDAY(B11)=Tables!$B$40,8,IF(WEEKDAY(B11)=Tables!$B$41,8,IF(WEEKDAY(B11)=Tables!$B$42,8,IF(WEEKDAY(B11)=Tables!$B$43,8,IF(WEEKDAY(B11)=Tables!$B$44,8,IF(WEEKDAY(B11)=Tables!$B$45,8,IF(WEEKDAY(B11)=Tables!$B$46,8,IF(WEEKDAY(B11)=Tables!$B$47,8,IF(WEEKDAY(B11)=Tables!$B$48,8,IF(WEEKDAY(B11)=Tables!$B$49,8,IF(WEEKDAY(B11)=Tables!$B$50,8,0))))))))))))))*R11 -> 0 | Q11: =IF(INDEX(Tables!$A$5:$C$18,MATCH(D11,Tables!$B$5:$B$18,0),3)="hors agglo",Tables!$F$27,Tables!$F$26)*R11 -> #N/A | R11: =COUNTA(E11,G11,I11,K11,M11) -> 0 | S11: =O11+P11+Q11 -> #N/A
F12: =IF(E12="","",VLOOKUP(E12,Tables!$E$5:$F$16,2,0)) | H12: =IF(G12="","",VLOOKUP(G12,Tables!$E$5:$F$16,2,0)) | J12: =IF(I12="","",VLOOKUP(I12,Tables!$E$5:$F$16,2,0)) | L12: =IF(K12="","",VLOOKUP(K12,Tables!$E$5:$F$16,2,0)) | N12: =IF(M12="","",VLOOKUP(M12,Tables!$E$5:$F$16,2,0)) | O12: =SUMIF($E$1:$N$1,"Tarification",$E12:$N12) -> 0 | P12: =IF(WEEKDAY(B12)=1,8,IF(WEEKDAY(B12)=Tables!$B$38,8,IF(WEEKDAY(B12)=Tables!$B$39,8,IF(WEEKDAY(B12)=Tables!$B$40,8,IF(WEEKDAY(B12)=Tables!$B$41,8,IF(WEEKDAY(B12)=Tables!$B$42,8,IF(WEEKDAY(B12)=Tables!$B$43,8,IF(WEEKDAY(B12)=Tables!$B$44,8,IF(WEEKDAY(B12)=Tables!$B$45,8,IF(WEEKDAY(B12)=Tables!$B$46,8,IF(WEEKDAY(B12)=Tables!$B$47,8,IF(WEEKDAY(B12)=Tables!$B$48,8,IF(WEEKDAY(B12)=Tables!$B$49,8,IF(WEEKDAY(B12)=Tables!$B$50,8,0))))))))))))))*R12 -> 0 | Q12: =IF(INDEX(Tables!$A$5:$C$18,MATCH(D12,Tables!$B$5:$B$18,0),3)="hors agglo",Tables!$F$27,Tables!$F$26)*R12 -> #N/A | R12: =COUNTA(E12,G12,I12,K12,M12) -> 0 | S12: =O12+P12+Q12 -> #N/A
F13: =IF(E13="","",VLOOKUP(E13,Tables!$E$5:$F$16,2,0)) | H13: =IF(G13="","",VLOOKUP(G13,Tables!$E$5:$F$16,2,0)) | J13: =IF(I13="","",VLOOKUP(I13,Tables!$E$5:$F$16,2,0)) | L13: =IF(K13="","",VLOOKUP(K13,Tables!$E$5:$F$16,2,0)) | N13: =IF(M13="","",VLOOKUP(M13,Tables!$E$5:$F$16,2,0)) | O13: =SUMIF($E$1:$N$1,"Tarification",$E13:$N13) -> 0 | P13: =IF(WEEKDAY(B13)=1,8,IF(WEEKDAY(B13)=Tables!$B$38,8,IF(WEEKDAY(B13)=Tables!$B$39,8,IF(WEEKDAY(B13)=Tables!$B$40,8,IF(WEEKDAY(B13)=Tables!$B$41,8,IF(WEEKDAY(B13)=Tables!$B$42,8,IF(WEEKDAY(B13)=Tables!$B$43,8,IF(WEEKDAY(B13)=Tables!$B$44,8,IF(WEEKDAY(B13)=Tables!$B$45,8,IF(WEEKDAY(B13)=Tables!$B$46,8,IF(WEEKDAY(B13)=Tables!$B$47,8,IF(WEEKDAY(B13)=Tables!$B$48,8,IF(WEEKDAY(B13)=Tables!$B$49,8,IF(WEEKDAY(B13)=Tables!$B$50,8,0))))))))))))))*R13 -> 0 | Q13: =IF(INDEX(Tables!$A$5:$C$18,MATCH(D13,Tables!$B$5:$B$18,0),3)="hors agglo",Tables!$F$27,Tables!$F$26)*R13 -> #N/A | R13: =COUNTA(E13,G13,I13,K13,M13) -> 0 | S13: =O13+P13+Q13 -> #N/A
F14: =IF(E14="","",VLOOKUP(E14,Tables!$E$5:$F$16,2,0)) | H14: =IF(G14="","",VLOOKUP(G14,Tables!$E$5:$F$16,2,0)) | J14: =IF(I14="","",VLOOKUP(I14,Tables!$E$5:$F$16,2,0)) | L14: =IF(K14="","",VLOOKUP(K14,Tables!$E$5:$F$16,2,0)) | N14: =IF(M14="","",VLOOKUP(M14,Tables!$E$5:$F$16,2,0)) | O14: =SUMIF($E$1:$N$1,"Tarification",$E14:$N14) -> 0 | P14: =IF(WEEKDAY(B14)=1,8,IF(WEEKDAY(B14)=Tables!$B$38,8,IF(WEEKDAY(B14)=Tables!$B$39,8,IF(WEEKDAY(B14)=Tables!$B$40,8,IF(WEEKDAY(B14)=Tables!$B$41,8,IF(WEEKDAY(B14)=Tables!$B$42,8,IF(WEEKDAY(B14)=Tables!$B$43,8,IF(WEEKDAY(B14)=Tables!$B$44,8,IF(WEEKDAY(B14)=Tables!$B$45,8,IF(WEEKDAY(B14)=Tables!$B$46,8,IF(WEEKDAY(B14)=Tables!$B$47,8,IF(WEEKDAY(B14)=Tables!$B$48,8,IF(WEEKDAY(B14)=Tables!$B$49,8,IF(WEEKDAY(B14)=Tables!$B$50,8,0))))))))))))))*R14 -> 0 | Q14: =IF(INDEX(Tables!$A$5:$C$18,MATCH(D14,Tables!$B$5:$B$18,0),3)="hors agglo",Tables!$F$27,Tables!$F$26)*R14 -> #N/A | R14: =COUNTA(E14,G14,I14,K14,M14) -> 0 | S14: =O14+P14+Q14 -> #N/A
F15: =IF(E15="","",VLOOKUP(E15,Tables!$E$5:$F$16,2,0)) | H15: =IF(G15="","",VLOOKUP(G15,Tables!$E$5:$F$16,2,0)) | J15: =IF(I15="","",VLOOKUP(I15,Tables!$E$5:$F$16,2,0)) | L15: =IF(K15="","",VLOOKUP(K15,Tables!$E$5:$F$16,2,0)) | N15: =IF(M15="","",VLOOKUP(M15,Tables!$E$5:$F$16,2,0)) | O15: =SUMIF($E$1:$N$1,"Tarification",$E15:$N15) -> 0 | P15: =IF(WEEKDAY(B15)=1,8,IF(WEEKDAY(B15)=Tables!$B$38,8,IF(WEEKDAY(B15)=Tables!$B$39,8,IF(WEEKDAY(B15)=Tables!$B$40,8,IF(WEEKDAY(B15)=Tables!$B$41,8,IF(WEEKDAY(B15)=Tables!$B$42,8,IF(WEEKDAY(B15)=Tables!$B$43,8,IF(WEEKDAY(B15)=Tables!$B$44,8,IF(WEEKDAY(B15)=Tables!$B$45,8,IF(WEEKDAY(B15)=Tables!$B$46,8,IF(WEEKDAY(B15)=Tables!$B$47,8,IF(WEEKDAY(B15)=Tables!$B$48,8,IF(WEEKDAY(B15)=Tables!$B$49,8,IF(WEEKDAY(B15)=Tables!$B$50,8,0))))))))))))))*R15 -> 0 | Q15: =IF(INDEX(Tables!$A$5:$C$18,MATCH(D15,Tables!$B$5:$B$18,0),3)="hors agglo",Tables!$F$27,Tables!$F$26)*R15 -> #N/A | R15: =COUNTA(E15,G15,I15,K15,M15) -> 0 | S15: =O15+P15+Q15 -> #N/A
F16: =IF(E16="","",VLOOKUP(E16,Tables!$E$5:$F$16,2,0)) | H16: =IF(G16="","",VLOOKUP(G16,Tables!$E$5:$F$16,2,0)) | J16: =IF(I16="","",VLOOKUP(I16,Tables!$E$5:$F$16,2,0)) | L16: =IF(K16="","",VLOOKUP(K16,Tables!$E$5:$F$16,2,0)) | N16: =IF(M16="","",VLOOKUP(M16,Tables!$E$5:$F$16,2,0)) | O16: =SUMIF($E$1:$N$1,"Tarification",$E16:$N16) -> 0 | P16: =IF(WEEKDAY(B16)=1,8,IF(WEEKDAY(B16)=Tables!$B$38,8,IF(WEEKDAY(B16)=Tables!$B$39,8,IF(WEEKDAY(B16)=Tables!$B$40,8,IF(WEEKDAY(B16)=Tables!$B$41,8,IF(WEEKDAY(B16)=Tables!$B$42,8,IF(WEEKDAY(B16)=Tables!$B$43,8,IF(WEEKDAY(B16)=Tables!$B$44,8,IF(WEEKDAY(B16)=Tables!$B$45,8,IF(WEEKDAY(B16)=Tables!$B$46,8,IF(WEEKDAY(B16)=Tables!$B$47,8,IF(WEEKDAY(B16)=Tables!$B$48,8,IF(WEEKDAY(B16)=Tables!$B$49,8,IF(WEEKDAY(B16)=Tables!$B$50,8,0))))))))))))))*R16 -> 0 | Q16: =IF(INDEX(Tables!$A$5:$C$18,MATCH(D16,Tables!$B$5:$B$18,0),3)="hors agglo",Tables!$F$27,Tables!$F$26)*R16 -> #N/A | R16: =COUNTA(E16,G16,I16,K16,M16) -> 0 | S16: =O16+P16+Q16 -> #N/A
F17: =IF(E17="","",VLOOKUP(E17,Tables!$E$5:$F$16,2,0)) | H17: =IF(G17="","",VLOOKUP(G17,Tables!$E$5:$F$16,2,0)) | J17: =IF(I17="","",VLOOKUP(I17,Tables!$E$5:$F$16,2,0)) | L17: =IF(K17="","",VLOOKUP(K17,Tables!$E$5:$F$16,2,0)) | N17: =IF(M17="","",VLOOKUP(M17,Tables!$E$5:$F$16,2,0)) | O17: =SUMIF($E$1:$N$1,"Tarification",$E17:$N17) -> 0 | P17: =IF(WEEKDAY(B17)=1,8,IF(WEEKDAY(B17)=Tables!$B$38,8,IF(WEEKDAY(B17)=Tables!$B$39,8,IF(WEEKDAY(B17)=Tables!$B$40,8,IF(WEEKDAY(B17)=Tables!$B$41,8,IF(WEEKDAY(B17)=Tables!$B$42,8,IF(WEEKDAY(B17)=Tables!$B$43,8,IF(WEEKDAY(B17)=Tables!$B$44,8,IF(WEEKDAY(B17)=Tables!$B$45,8,IF(WEEKDAY(B17)=Tables!$B$46,8,IF(WEEKDAY(B17)=Tables!$B$47,8,IF(WEEKDAY(B17)=Tables!$B$48,8,IF(WEEKDAY(B17)=Tables!$B$49,8,IF(WEEKDAY(B17)=Tables!$B$50,8,0))))))))))))))*R17 -> 0 | Q17: =IF(INDEX(Tables!$A$5:$C$18,MATCH(D17,Tables!$B$5:$B$18,0),3)="hors agglo",Tables!$F$27,Tables!$F$26)*R17 -> #N/A | R17: =COUNTA(E17,G17,I17,K17,M17) -> 0 | S17: =O17+P17+Q17 -> #N/A
F18: =IF(E18="","",VLOOKUP(E18,Tables!$E$5:$F$16,2,0)) | H18: =IF(G18="","",VLOOKUP(G18,Tables!$E$5:$F$16,2,0)) | J18: =IF(I18="","",VLOOKUP(I18,Tables!$E$5:$F$16,2,0)) | L18: =IF(K18="","",VLOOKUP(K18,Tables!$E$5:$F$16,2,0)) | N18: =IF(M18="","",VLOOKUP(M18,Tables!$E$5:$F$16,2,0)) | O18: =SUMIF($E$1:$N$1,"Tarification",$E18:$N18) -> 0 | P18: =IF(WEEKDAY(B18)=1,8,IF(WEEKDAY(B18)=Tables!$B$38,8,IF(WEEKDAY(B18)=Tables!$B$39,8,IF(WEEKDAY(B18)=Tables!$B$40,8,IF(WEEKDAY(B18)=Tables!$B$41,8,IF(WEEKDAY(B18)=Tables!$B$42,8,IF(WEEKDAY(B18)=Tables!$B$43,8,IF(WEEKDAY(B18)=Tables!$B$44,8,IF(WEEKDAY(B18)=Tables!$B$45,8,IF(WEEKDAY(B18)=Tables!$B$46,8,IF(WEEKDAY(B18)=Tables!$B$47,8,IF(WEEKDAY(B18)=Tables!$B$48,8,IF(WEEKDAY(B18)=Tables!$B$49,8,IF(WEEKDAY(B18)=Tables!$B$50,8,0))))))))))))))*R18 -> 0 | Q18: =IF(INDEX(Tables!$A$5:$C$18,MATCH(D18,Tables!$B$5:$B$18,0),3)="hors agglo",Tables!$F$27,Tables!$F$26)*R18 -> #N/A | R18: =COUNTA(E18,G18,I18,K18,M18) -> 0 | S18: =O18+P18+Q18 -> #N/A
F19: =IF(E19="","",VLOOKUP(E19,Tables!$E$5:$F$16,2,0)) | H19: =IF(G19="","",VLOOKUP(G19,Tables!$E$5:$F$16,2,0)) | J19: =IF(I19="","",VLOOKUP(I19,Tables!$E$5:$F$16,2,0)) | L19: =IF(K19="","",VLOOKUP(K19,Tables!$E$5:$F$16,2,0)) | N19: =IF(M19="","",VLOOKUP(M19,Tables!$E$5:$F$16,2,0)) | O19: =SUMIF($E$1:$N$1,"Tarification",$E19:$N19) -> 0 | P19: =IF(WEEKDAY(B19)=1,8,IF(WEEKDAY(B19)=Tables!$B$38,8,IF(WEEKDAY(B19)=Tables!$B$39,8,IF(WEEKDAY(B19)=Tables!$B$40,8,IF(WEEKDAY(B19)=Tables!$B$41,8,IF(WEEKDAY(B19)=Tables!$B$42,8,IF(WEEKDAY(B19)=Tables!$B$43,8,IF(WEEKDAY(B19)=Tables!$B$44,8,IF(WEEKDAY(B19)=Tables!$B$45,8,IF(WEEKDAY(B19)=Tables!$B$46,8,IF(WEEKDAY(B19)=Tables!$B$47,8,IF(WEEKDAY(B19)=Tables!$B$48,8,IF(WEEKDAY(B19)=Tables!$B$49,8,IF(WEEKDAY(B19)=Tables!$B$50,8,0))))))))))))))*R19 -> 0 | Q19: =IF(INDEX(Tables!$A$5:$C$18,MATCH(D19,Tables!$B$5:$B$18,0),3)="hors agglo",Tables!$F$27,Tables!$F$26)*R19 -> #N/A | R19: =COUNTA(E19,G19,I19,K19,M19) -> 0 | S19: =O19+P19+Q19 -> #N/A
F20: =IF(E20="","",VLOOKUP(E20,Tables!$E$5:$F$16,2,0)) | H20: =IF(G20="","",VLOOKUP(G20,Tables!$E$5:$F$16,2,0)) | J20: =IF(I20="","",VLOOKUP(I20,Tables!$E$5:$F$16,2,0)) | L20: =IF(K20="","",VLOOKUP(K20,Tables!$E$5:$F$16,2,0)) | N20: =IF(M20="","",VLOOKUP(M20,Tables!$E$5:$F$16,2,0)) | O20: =SUMIF($E$1:$N$1,"Tarification",$E20:$N20) -> 0 | P20: =IF(WEEKDAY(B20)=1,8,IF(WEEKDAY(B20)=Tables!$B$38,8,IF(WEEKDAY(B20)=Tables!$B$39,8,IF(WEEKDAY(B20)=Tables!$B$40,8,IF(WEEKDAY(B20)=Tables!$B$41,8,IF(WEEKDAY(B20)=Tables!$B$42,8,IF(WEEKDAY(B20)=Tables!$B$43,8,IF(WEEKDAY(B20)=Tables!$B$44,8,IF(WEEKDAY(B20)=Tables!$B$45,8,IF(WEEKDAY(B20)=Tables!$B$46,8,IF(WEEKDAY(B20)=Tables!$B$47,8,IF(WEEKDAY(B20)=Tables!$B$48,8,IF(WEEKDAY(B20)=Tables!$B$49,8,IF(WEEKDAY(B20)=Tables!$B$50,8,0))))))))))))))*R20 -> 0 | Q20: =IF(INDEX(Tables!$A$5:$C$18,MATCH(D20,Tables!$B$5:$B$18,0),3)="hors agglo",Tables!$F$27,Tables!$F$26)*R20 -> #N/A | R20: =COUNTA(E20,G20,I20,K20,M20) -> 0 | S20: =O20+P20+Q20 -> #N/A
F21: =IF(E21="","",VLOOKUP(E21,Tables!$E$5:$F$16,2,0)) | H21: =IF(G21="","",VLOOKUP(G21,Tables!$E$5:$F$16,2,0)) | J21: =IF(I21="","",VLOOKUP(I21,Tables!$E$5:$F$16,2,0)) | L21: =IF(K21="","",VLOOKUP(K21,Tables!$E$5:$F$16,2,0)) | N21: =IF(M21="","",VLOOKUP(M21,Tables!$E$5:$F$16,2,0)) | O21: =SUMIF($E$1:$N$1,"Tarification",$E21:$N21) -> 0 | P21: =IF(WEEKDAY(B21)=1,8,IF(WEEKDAY(B21)=Tables!$B$38,8,IF(WEEKDAY(B21)=Tables!$B$39,8,IF(WEEKDAY(B21)=Tables!$B$40,8,IF(WEEKDAY(B21)=Tables!$B$41,8,IF(WEEKDAY(B21)=Tables!$B$42,8,IF(WEEKDAY(B21)=Tables!$B$43,8,IF(WEEKDAY(B21)=Tables!$B$44,8,IF(WEEKDAY(B21)=Tables!$B$45,8,IF(WEEKDAY(B21)=Tables!$B$46,8,IF(WEEKDAY(B21)=Tables!$B$47,8,IF(WEEKDAY(B21)=Tables!$B$48,8,IF(WEEKDAY(B21)=Tables!$B$49,8,IF(WEEKDAY(B21)=Tables!$B$50,8,0))))))))))))))*R21 -> 0 | Q21: =IF(INDEX(Tables!$A$5:$C$18,MATCH(D21,Tables!$B$5:$B$18,0),3)="hors agglo",Tables!$F$27,Tables!$F$26)*R21 -> #N/A | R21: =COUNTA(E21,G21,I21,K21,M21) -> 0 | S21: =O21+P21+Q21 -> #N/A
R22: =COUNTA(E22,G22,I22,K22,M22) -> 0 | S22: =O22+P22+Q22 -> 0
D25: JOUR
D26: Nom patient | E26: Soin 1 | F26: Tarification | G26: Soin 2 | H26: Tarification | I26: Soin 3 | J26: Tarification | K26: Soin 4 | L26: Tarification | M26: Soin 5 | N26: Tarification | O26: Sous total | P26: Majoration D / F | Q26: Déplacement | R26: Nombre de passages | S26: Total
F27: =IF(E27=Tables!$E$5,Tables!$F$5,IF('Données mensuelles'!E27=Tables!$E$6,Tables!$F$6,IF('Données mensuelles'!E27=Tables!$E$7,Tables!$F$7,IF('Données mensuelles'!E27=Tables!$E$8,Tables!$F$8,IF('Données mensuelles'!E27=Tables!$E$9,Tables!$F$9,IF('Données mensuelles'!E27=Tables!$E$10,Tables!$F$10,IF('Données mensuelles'!E27=Tables!$E$11,Tables!$F$11,IF(E27=Tables!$E$12,Tables!$F$12,IF('Données mensuelles'!E27=Tables!$E$13,Tables!$F$13,IF(E27=Tables!$E$14,Tables!$F$14,IF(E27=Tables!$E$15,Tables!$F$15,IF(E27=Tables!$E$16,Tables!$F$16)))))))))))) -> FALSE | H27: =IF(G27=Tables!$E$5,Tables!$F$5,IF('Données mensuelles'!G27=Tables!$E$6,Tables!$F$6,IF('Données mensuelles'!G27=Tables!$E$7,Tables!$F$7,IF('Données mensuelles'!G27=Tables!$E$8,Tables!$F$8,IF('Données mensuelles'!G27=Tables!$E$9,Tables!$F$9,IF('Données mensuelles'!G27=Tables!$E$10,Tables!$F$10,IF('Données mensuelles'!G27=Tables!$E$11,Tables!$F$11,IF(G27=Tables!$E$12,Tables!$F$12,IF('Données mensuelles'!G27=Tables!$E$13,Tables!$F$13,IF(G27=Tables!$E$14,Tables!$F$14,IF(G27=Tables!$E$15,Tables!$F$15,IF(G27=Tables!$E$16,Tables!$F$16)))))))))))) -> FALSE | J27: =IF(I27=Tables!$E$5,Tables!$F$5,IF('Données mensuelles'!I27=Tables!$E$6,Tables!$F$6,IF('Données mensuelles'!I27=Tables!$E$7,Tables!$F$7,IF('Données mensuelles'!I27=Tables!$E$8,Tables!$F$8,IF('Données mensuelles'!I27=Tables!$E$9,Tables!$F$9,IF('Données mensuelles'!I27=Tables!$E$10,Tables!$F$10,IF('Données mensuelles'!I27=Tables!$E$11,Tables!$F$11,IF(I27=Tables!$E$12,Tables!$F$12,IF('Données mensuelles'!I27=Tables!$E$13,Tables!$F$13,IF(I27=Tables!$E$14,Tables!$F$14,IF(I27=Tables!$E$15,Tables!$F$15,IF(I27=Tables!$E$16,Tables!$F$16)))))))))))) -> FALSE | L27: =IF(K27=Tables!$E$5,Tables!$F$5,IF('Données mensuelles'!K27=Tables!$E$6,Tables!$F$6,IF('Données mensuelles'!K27=Tables!$E$7,Tables!$F$7,IF('Données mensuelles'!K27=Tables!$E$8,Tables!$F$8,IF('Données mensuelles'!K27=Tables!$E$9,Tables!$F$9,IF('Données mensuelles'!K27=Tables!$E$10,Tables!$F$10,IF('Données mensuelles'!K27=Tables!$E$11,Tables!$F$11,IF(K27=Tables!$E$12,Tables!$F$12,IF('Données mensuelles'!K27=Tables!$E$13,Tables!$F$13,IF(K27=Tables!$E$14,Tables!$F$14,IF(K27=Tables!$E$15,Tables!$F$15,IF(K27=Tables!$E$16,Tables!$F$16)))))))))))) -> FALSE | N27: =IF(M27=Tables!$E$5,Tables!$F$5,IF('Données mensuelles'!M27=Tables!$E$6,Tables!$F$6,IF('Données mensuelles'!M27=Tables!$E$7,Tables!$F$7,IF('Données mensuelles'!M27=Tables!$E$8,Tables!$F$8,IF('Données mensuelles'!M27=Tables!$E$9,Tables!$F$9,IF('Données mensuelles'!M27=Tables!$E$10,Tables!$F$10,IF('Données mensuelles'!M27=Tables!$E$11,Tables!$F$11,IF(M27=Tables!$E$12,Tables!$F$12,IF('Données mensuelles'!M27=Tables!$E$13,Tables!$F$13,IF(M27=Tables!$E$14,Tables!$F$14,IF(M27=Tables!$E$15,Tables!$F$15,IF(M27=Tables!$E$16,Tables!$F$16)))))))))))) -> FALSE | O27: =N27+L27+J27+H27+F27 -> 0 | Q27: 5.1 | S27: =O27+(Q27*R27)+(P27*Tables!$E$20*R27) -> 0
F28: =IF(E28=Tables!$E$5,Tables!$F$5,IF('Données mensuelles'!E28=Tables!$E$6,Tables!$F$6,IF('Données mensuelles'!E28=Tables!$E$7,Tables!$F$7,IF('Données mensuelles'!E28=Tables!$E$8,Tables!$F$8,IF('Données mensuelles'!E28=Tables!$E$9,Tables!$F$9,IF('Données mensuelles'!E28=Tables!$E$10,Tables!$F$10,IF('Données mensuelles'!E28=Tables!$E$11,Tables!$F$11,IF(E28=Tables!$E$12,Tables!$F$12,IF('Données mensuelles'!E28=Tables!$E$13,Tables!$F$13,IF(E28=Tables!$E$14,Tables!$F$14,IF(E28=Tables!$E$15,Tables!$F$15,IF(E28=Tables!$E$16,Tables!$F$16)))))))))))) -> FALSE | H28: =IF(G28=Tables!$E$5,Tables!$F$5,IF('Données mensuelles'!G28=Tables!$E$6,Tables!$F$6,IF('Données mensuelles'!G28=Tables!$E$7,Tables!$F$7,IF('Données mensuelles'!G28=Tables!$E$8,Tables!$F$8,IF('Données mensuelles'!G28=Tables!$E$9,Tables!$F$9,IF('Données mensuelles'!G28=Tables!$E$10,Tables!$F$10,IF('Données mensuelles'!G28=Tables!$E$11,Tables!$F$11,IF(G28=Tables!$E$12,Tables!$F$12,IF('Données mensuelles'!G28=Tables!$E$13,Tables!$F$13,IF(G28=Tables!$E$14,Tables!$F$14,IF(G28=Tables!$E$15,Tables!$F$15,IF(G28=Tables!$E$16,Tables!$F$16)))))))))))) -> FALSE | J28: =IF(I28=Tables!$E$5,Tables!$F$5,IF('Données mensuelles'!I28=Tables!$E$6,Tables!$F$6,IF('Données mensuelles'!I28=Tables!$E$7,Tables!$F$7,IF('Données mensuelles'!I28=Tables!$E$8,Tables!$F$8,IF('Données mensuelles'!I28=Tables!$E$9,Tables!$F$9,IF('Données mensuelles'!I28=Tables!$E$10,Tables!$F$10,IF('Données mensuelles'!I28=Tables!$E$11,Tables!$F$11,IF(I28=Tables!$E$12,Tables!$F$12,IF('Données mensuelles'!I28=Tables!$E$13,Tables!$F$13,IF(I28=Tables!$E$14,Tables!$F$14,IF(I28=Tables!$E$15,Tables!$F$15,IF(I28=Tables!$E$16,Tables!$F$16)))))))))))) -> FALSE | L28: =IF(K28=Tables!$E$5,Tables!$F$5,IF('Données mensuelles'!K28=Tables!$E$6,Tables!$F$6,IF('Données mensuelles'!K28=Tables!$E$7,Tables!$F$7,IF('Données mensuelles'!K28=Tables!$E$8,Tables!$F$8,IF('Données mensuelles'!K28=Tables!$E$9,Tables!$F$9,IF('Données mensuelles'!K28=Tables!$E$10,Tables!$F$10,IF('Données mensuelles'!K28=Tables!$E$11,Tables!$F$11,IF(K28=Tables!$E$12,Tables!$F$12,IF('Données mensuelles'!K28=Tables!$E$13,Tables!$F$13,IF(K28=Tables!$E$14,Tables!$F$14,IF(K28=Tables!$E$15,Tables!$F$15,IF(K28=Tables!$E$16,Tables!$F$16)))))))))))) -> FALSE | N28: =IF(M28=Tables!$E$5,Tables!$F$5,IF('Données mensuelles'!M28=Tables!$E$6,Tables!$F$6,IF('Données mensuelles'!M28=Tables!$E$7,Tables!$F$7,IF('Données mensuelles'!M28=Tables!$E$8,Tables!$F$8,IF('Données mensuelles'!M28=Tables!$E$9,Tables!$F$9,IF('Données mensuelles'!M28=Tables!$E$10,Tables!$F$10,IF('Données mensuelles'!M28=Tables!$E$11,Tables!$F$11,IF(M28=Tables!$E$12,Tables!$F$12,IF('Données mensuelles'!M28=Tables!$E$13,Tables!$F$13,IF(M28=Tables!$E$14,Tables!$F$14,IF(M28=Tables!$E$15,Tables!$F$15,IF(M28=Tables!$E$16,Tables!$F$16)))))))))))) -> FALSE | O28: =N28+L28+J28+H28+F28 -> 0 | Q28: 2.3 | S28: =O28+(Q28*R28)+(P28*Tables!$E$20*R28) -> 0
F29: =IF(E29=Tables!$E$5,Tables!$F$5,IF('Données mensuelles'!E29=Tables!$E$6,Tables!$F$6,IF('Données mensuelles'!E29=Tables!$E$7,Tables!$F$7,IF('Données mensuelles'!E29=Tables!$E$8,Tables!$F$8,IF('Données mensuelles'!E29=Tables!$E$9,Tables!$F$9,IF('Données mensuelles'!E29=Tables!$E$10,Tables!$F$10,IF('Données mensuelles'!E29=Tables!$E$11,Tables!$F$11,IF(E29=Tables!$E$12,Tables!$F$12,IF('Données mensuelles'!E29=Tables!$E$13,Tables!$F$13,IF(E29=Tables!$E$14,Tables!$F$14,IF(E29=Tables!$E$15,Tables!$F$15,IF(E29=Tables!$E$16,Tables!$F$16)))))))))))) -> FALSE | H29: =IF(G29=Tables!$E$5,Tables!$F$5,IF('Données mensuelles'!G29=Tables!$E$6,Tables!$F$6,IF('Données mensuelles'!G29=Tables!$E$7,Tables!$F$7,IF('Données mensuelles'!G29=Tables!$E$8,Tables!$F$8,IF('Données mensuelles'!G29=Tables!$E$9,Tables!$F$9,IF('Données mensuelles'!G29=Tables!$E$10,Tables!$F$10,IF('Données mensuelles'!G29=Tables!$E$11,Tables!$F$11,IF(G29=Tables!$E$12,Tables!$F$12,IF('Données mensuelles'!G29=Tables!$E$13,Tables!$F$13,IF(G29=Tables!$E$14,Tables!$F$14,IF(G29=Tables!$E$15,Tables!$F$15,IF(G29=Tables!$E$16,Tables!$F$16)))))))))))) -> FALSE | J29: =IF(I29=Tables!$E$5,Tables!$F$5,IF('Données mensuelles'!I29=Tables!$E$6,Tables!$F$6,IF('Données mensuelles'!I29=Tables!$E$7,Tables!$F$7,IF('Données mensuelles'!I29=Tables!$E$8,Tables!$F$8,IF('Données mensuelles'!I29=Tables!$E$9,Tables!$F$9,IF('Données mensuelles'!I29=Tables!$E$10,Tables!$F$10,IF('Données mensuelles'!I29=Tables!$E$11,Tables!$F$11,IF(I29=Tables!$E$12,Tables!$F$12,IF('Données mensuelles'!I29=Tables!$E$13,Tables!$F$13,IF(I29=Tables!$E$14,Tables!$F$14,IF(I29=Tables!$E$15,Tables!$F$15,IF(I29=Tables!$E$16,Tables!$F$16)))))))))))) -> FALSE | L29: =IF(K29=Tables!$E$5,Tables!$F$5,IF('Données mensuelles'!K29=Tables!$E$6,Tables!$F$6,IF('Données mensuelles'!K29=Tables!$E$7,Tables!$F$7,IF('Données mensuelles'!K29=Tables!$E$8,Tables!$F$8,IF('Données mensuelles'!K29=Tables!$E$9,Tables!$F$9,IF('Données mensuelles'!K29=Tables!$E$10,Tables!$F$10,IF('Données mensuelles'!K29=Tables!$E$11,Tables!$F$11,IF(K29=Tables!$E$12,Tables!$F$12,IF('Données mensuelles'!K29=Tables!$E$13,Tables!$F$13,IF(K29=Tables!$E$14,Tables!$F$14,IF(K29=Tables!$E$15,Tables!$F$15,IF(K29=Tables!$E$16,Tables!$F$16)))))))))))) -> FALSE | N29: =IF(M29=Tables!$E$5,Tables!$F$5,IF('Données mensuelles'!M29=Tables!$E$6,Tables!$F$6,IF('Données mensuelles'!M29=Tables!$E$7,Tables!$F$7,IF('Données mensuelles'!M29=Tables!$E$8,Tables!$F$8,IF('Données mensuelles'!M29=Tables!$E$9,Tables!$F$9,IF('Données mensuelles'!M29=Tables!$E$10,Tables!$F$10,IF('Données mensuelles'!M29=Tables!$E$11,Tables!$F$11,IF(M29=Tables!$E$12,Tables!$F$12,IF('Données mensuelles'!M29=Tables!$E$13,Tables!$F$13,IF(M29=Tables!$E$14,Tables!$F$14,IF(M29=Tables!$E$15,Tables!$F$15,IF(M29=Tables!$E$16,Tables!$F$16)))))))))))) -> FALSE | O29: =N29+L29+J29+H29+F29 -> 0 | S29: =O29+(Q29*R29)+(P29*Tables!$E$20*R29) -> 0
F30: =IF(E30=Tables!$E$5,Tables!$F$5,IF('Données mensuelles'!E30=Tables!$E$6,Tables!$F$6,IF('Données mensuelles'!E30=Tables!$E$7,Tables!$F$7,IF('Données mensuelles'!E30=Tables!$E$8,Tables!$F$8,IF('Données mensuelles'!E30=Tables!$E$9,Tables!$F$9,IF('Données mensuelles'!E30=Tables!$E$10,Tables!$F$10,IF('Données mensuelles'!E30=Tables!$E$11,Tables!$F$11,IF(E30=Tables!$E$12,Tables!$F$12,IF('Données mensuelles'!E30=Tables!$E$13,Tables!$F$13,IF(E30=Tables!$E$14,Tables!$F$14,IF(E30=Tables!$E$15,Tables!$F$15,IF(E30=Tables!$E$16,Tables!$F$16)))))))))))) -> FALSE | H30: =IF(G30=Tables!$E$5,Tables!$F$5,IF('Données mensuelles'!G30=Tables!$E$6,Tables!$F$6,IF('Données mensuelles'!G30=Tables!$E$7,Tables!$F$7,IF('Données mensuelles'!G30=Tables!$E$8,Tables!$F$8,IF('Données mensuelles'!G30=Tables!$E$9,Tables!$F$9,IF('Données mensuelles'!G30=Tables!$E$10,Tables!$F$10,IF('Données mensuelles'!G30=Tables!$E$11,Tables!$F$11,IF(G30=Tables!$E$12,Tables!$F$12,IF('Données mensuelles'!G30=Tables!$E$13,Tables!$F$13,IF(G30=Tables!$E$14,Tables!$F$14,IF(G30=Tables!$E$15,Tables!$F$15,IF(G30=Tables!$E$16,Tables!$F$16)))))))))))) -> FALSE | J30: =IF(I30=Tables!$E$5,Tables!$F$5,IF('Données mensuelles'!I30=Tables!$E$6,Tables!$F$6,IF('Données mensuelles'!I30=Tables!$E$7,Tables!$F$7,IF('Données mensuelles'!I30=Tables!$E$8,Tables!$F$8,IF('Données mensuelles'!I30=Tables!$E$9,Tables!$F$9,IF('Données mensuelles'!I30=Tables!$E$10,Tables!$F$10,IF('Données mensuelles'!I30=Tables!$E$11,Tables!$F$11,IF(I30=Tables!$E$12,Tables!$F$12,IF('Données mensuelles'!I30=Tables!$E$13,Tables!$F$13,IF(I30=Tables!$E$14,Tables!$F$14,IF(I30=Tables!$E$15,Tables!$F$15,IF(I30=Tables!$E$16,Tables!$F$16)))))))))))) -> FALSE | L30: =IF(K30=Tables!$E$5,Tables!$F$5,IF('Données mensuelles'!K30=Tables!$E$6,Tables!$F$6,IF('Données mensuelles'!K30=Tables!$E$7,Tables!$F$7,IF('Données mensuelles'!K30=Tables!$E$8,Tables!$F$8,IF('Données mensuelles'!K30=Tables!$E$9,Tables!$F$9,IF('Données mensuelles'!K30=Tables!$E$10,Tables!$F$10,IF('Données mensuelles'!K30=Tables!$E$11,Tables!$F$11,IF(K30=Tables!$E$12,Tables!$F$12,IF('Données mensuelles'!K30=Tables!$E$13,Tables!$F$13,IF(K30=Tables!$E$14,Tables!$F$14,IF(K30=Tables!$E$15,Tables!$F$15,IF(K30=Tables!$E$16,Tables!$F$16)))))))))))) -> FALSE | N30: =IF(M30=Tables!$E$5,Tables!$F$5,IF('Données mensuelles'!M30=Tables!$E$6,Tables!$F$6,IF('Données mensuelles'!M30=Tables!$E$7,Tables!$F$7,IF('Données mensuelles'!M30=Tables!$E$8,Tables!$F$8,IF('Données mensuelles'!M30=Tables!$E$9,Tables!$F$9,IF('Données mensuelles'!M30=Tables!$E$10,Tables!$F$10,IF('Données mensuelles'!M30=Tables!$E$11,Tables!$F$11,IF(M30=Tables!$E$12,Tables!$F$12,IF('Données mensuelles'!M30=Tables!$E$13,Tables!$F$13,IF(M30=Tables!$E$14,Tables!$F$14,IF(M30=Tables!$E$15,Tables!$F$15,IF(M30=Tables!$E$16,Tables!$F$16)))))))))))) -> FALSE | O30: =N30+L30+J30+H30+F30 -> 0 | S30: =O30+(Q30*R30)+(P30*Tables!$E$20*R30) -> 0
F31: =IF(E31=Tables!$E$5,Tables!$F$5,IF('Données mensuelles'!E31=Tables!$E$6,Tables!$F$6,IF('Données mensuelles'!E31=Tables!$E$7,Tables!$F$7,IF('Données mensuelles'!E31=Tables!$E$8,Tables!$F$8,IF('Données mensuelles'!E31=Tables!$E$9,Tables!$F$9,IF('Données mensuelles'!E31=Tables!$E$10,Tables!$F$10,IF('Données mensuelles'!E31=Tables!$E$11,Tables!$F$11,IF(E31=Tables!$E$12,Tables!$F$12,IF('Données mensuelles'!E31=Tables!$E$13,Tables!$F$13,IF(E31=Tables!$E$14,Tables!$F$14,IF(E31=Tables!$E$15,Tables!$F$15,IF(E31=Tables!$E$16,Tables!$F$16)))))))))))) -> FALSE | H31: =IF(G31=Tables!$E$5,Tables!$F$5,IF('Données mensuelles'!G31=Tables!$E$6,Tables!$F$6,IF('Données mensuelles'!G31=Tables!$E$7,Tables!$F$7,IF('Données mensuelles'!G31=Tables!$E$8,Tables!$F$8,IF('Données mensuelles'!G31=Tables!$E$9,Tables!$F$9,IF('Données mensuelles'!G31=Tables!$E$10,Tables!$F$10,IF('Données mensuelles'!G31=Tables!$E$11,Tables!$F$11,IF(G31=Tables!$E$12,Tables!$F$12,IF('Données mensuelles'!G31=Tables!$E$13,Tables!$F$13,IF(G31=Tables!$E$14,Tables!$F$14,IF(G31=Tables!$E$15,Tables!$F$15,IF(G31=Tables!$E$16,Tables!$F$16)))))))))))) -> FALSE | J31: =IF(I31=Tables!$E$5,Tables!$F$5,IF('Données mensuelles'!I31=Tables!$E$6,Tables!$F$6,IF('Données mensuelles'!I31=Tables!$E$7,Tables!$F$7,IF('Données mensuelles'!I31=Tables!$E$8,Tables!$F$8,IF('Données mensuelles'!I31=Tables!$E$9,Tables!$F$9,IF('Données mensuelles'!I31=Tables!$E$10,Tables!$F$10,IF('Données mensuelles'!I31=Tables!$E$11,Tables!$F$11,IF(I31=Tables!$E$12,Tables!$F$12,IF('Données mensuelles'!I31=Tables!$E$13,Tables!$F$13,IF(I31=Tables!$E$14,Tables!$F$14,IF(I31=Tables!$E$15,Tables!$F$15,IF(I31=Tables!$E$16,Tables!$F$16)))))))))))) -> FALSE | L31: =IF(K31=Tables!$E$5,Tables!$F$5,IF('Données mensuelles'!K31=Tables!$E$6,Tables!$F$6,IF('Données mensuelles'!K31=Tables!$E$7,Tables!$F$7,IF('Données mensuelles'!K31=Tables!$E$8,Tables!$F$8,IF('Données mensuelles'!K31=Tables!$E$9,Tables!$F$9,IF('Données mensuelles'!K31=Tables!$E$10,Tables!$F$10,IF('Données mensuelles'!K31=Tables!$E$11,Tables!$F$11,IF(K31=Tables!$E$12,Tables!$F$12,IF('Données mensuelles'!K31=Tables!$E$13,Tables!$F$13,IF(K31=Tables!$E$14,Tables!$F$14,IF(K31=Tables!$E$15,Tables!$F$15,IF(K31=Tables!$E$16,Tables!$F$16)))))))))))) -> FALSE | N31: =IF(M31=Tables!$E$5,Tables!$F$5,IF('Données mensuelles'!M31=Tables!$E$6,Tables!$F$6,IF('Données mensuelles'!M31=Tables!$E$7,Tables!$F$7,IF('Données mensuelles'!M31=Tables!$E$8,Tables!$F$8,IF('Données mensuelles'!M31=Tables!$E$9,Tables!$F$9,IF('Données mensuelles'!M31=Tables!$E$10,Tables!$F$10,IF('Données mensuelles'!M31=Tables!$E$11,Tables!$F$11,IF(M31=Tables!$E$12,Tables!$F$12,IF('Données mensuelles'!M31=Tables!$E$13,Tables!$F$13,IF(M31=Tables!$E$14,Tables!$F$14,IF(M31=Tables!$E$15,Tables!$F$15,IF(M31=Tables!$E$16,Tables!$F$16)))))))))))) -> FALSE | O31: =N31+L31+J31+H31+F31 -> 0 | S31: =O31+(Q31*R31)+(P31*Tables!$E$20*R31) -> 0
F32: =IF(E32=Tables!$E$5,Tables!$F$5,IF('Données mensuelles'!E32=Tables!$E$6,Tables!$F$6,IF('Données mensuelles'!E32=Tables!$E$7,Tables!$F$7,IF('Données mensuelles'!E32=Tables!$E$8,Tables!$F$8,IF('Données mensuelles'!E32=Tables!$E$9,Tables!$F$9,IF('Données mensuelles'!E32=Tables!$E$10,Tables!$F$10,IF('Données mensuelles'!E32=Tables!$E$11,Tables!$F$11,IF(E32=Tables!$E$12,Tables!$F$12,IF('Données mensuelles'!E32=Tables!$E$13,Tables!$F$13,IF(E32=Tables!$E$14,Tables!$F$14,IF(E32=Tables!$E$15,Tables!$F$15,IF(E32=Tables!$E$16,Tables!$F$16)))))))))))) -> FALSE | H32: =IF(G32=Tables!$E$5,Tables!$F$5,IF('Données mensuelles'!G32=Tables!$E$6,Tables!$F$6,IF('Données mensuelles'!G32=Tables!$E$7,Tables!$F$7,IF('Données mensuelles'!G32=Tables!$E$8,Tables!$F$8,IF('Données mensuelles'!G32=Tables!$E$9,Tables!$F$9,IF('Données mensuelles'!G32=Tables!$E$10,Tables!$F$10,IF('Données mensuelles'!G32=Tables!$E$11,Tables!$F$11,IF(G32=Tables!$E$12,Tables!$F$12,IF('Données mensuelles'!G32=Tables!$E$13,Tables!$F$13,IF(G32=Tables!$E$14,Tables!$F$14,IF(G32=Tables!$E$15,Tables!$F$15,IF(G32=Tables!$E$16,Tables!$F$16)))))))))))) -> FALSE | J32: =IF(I32=Tables!$E$5,Tables!$F$5,IF('Données mensuelles'!I32=Tables!$E$6,Tables!$F$6,IF('Données mensuelles'!I32=Tables!$E$7,Tables!$F$7,IF('Données mensuelles'!I32=Tables!$E$8,Tables!$F$8,IF('Données mensuelles'!I32=Tables!$E$9,Tables!$F$9,IF('Données mensuelles'!I32=Tables!$E$10,Tables!$F$10,IF('Données mensuelles'!I32=Tables!$E$11,Tables!$F$11,IF(I32=Tables!$E$12,Tables!$F$12,IF('Données mensuelles'!I32=Tables!$E$13,Tables!$F$13,IF(I32=Tables!$E$14,Tables!$F$14,IF(I32=Tables!$E$15,Tables!$F$15,IF(I32=Tables!$E$16,Tables!$F$16)))))))))))) -> FALSE | L32: =IF(K32=Tables!$E$5,Tables!$F$5,IF('Données mensuelles'!K32=Tables!$E$6,Tables!$F$6,IF('Données mensuelles'!K32=Tables!$E$7,Tables!$F$7,IF('Données mensuelles'!K32=Tables!$E$8,Tables!$F$8,IF('Données mensuelles'!K32=Tables!$E$9,Tables!$F$9,IF('Données mensuelles'!K32=Tables!$E$10,Tables!$F$10,IF('Données mensuelles'!K32=Tables!$E$11,Tables!$F$11,IF(K32=Tables!$E$12,Tables!$F$12,IF('Données mensuelles'!K32=Tables!$E$13,Tables!$F$13,IF(K32=Tables!$E$14,Tables!$F$14,IF(K32=Tables!$E$15,Tables!$F$15,IF(K32=Tables!$E$16,Tables!$F$16)))))))))))) -> FALSE | N32: =IF(M32=Tables!$E$5,Tables!$F$5,IF('Données mensuelles'!M32=Tables!$E$6,Tables!$F$6,IF('Données mensuelles'!M32=Tables!$E$7,Tables!$F$7,IF('Données mensuelles'!M32=Tables!$E$8,Tables!$F$8,IF('Données mensuelles'!M32=Tables!$E$9,Tables!$F$9,IF('Données mensuelles'!M32=Tables!$E$10,Tables!$F$10,IF('Données mensuelles'!M32=Tables!$E$11,Tables!$F$11,IF(M32=Tables!$E$12,Tables!$F$12,IF('Données mensuelles'!M32=Tables!$E$13,Tables!$F$13,IF(M32=Tables!$E$14,Tables!$F$14,IF(M32=Tables!$E$15,Tables!$F$15,IF(M32=Tables!$E$16,Tables!$F$16)))))))))))) -> FALSE | O32: =N32+L32+J32+H32+F32 -> 0 | S32: =O32+(Q32*R32)+(P32*Tables!$E$20*R32) -> 0
F33: =IF(E33=Tables!$E$5,Tables!$F$5,IF('Données mensuelles'!E33=Tables!$E$6,Tables!$F$6,IF('Données mensuelles'!E33=Tables!$E$7,Tables!$F$7,IF('Données mensuelles'!E33=Tables!$E$8,Tables!$F$8,IF('Données mensuelles'!E33=Tables!$E$9,Tables!$F$9,IF('Données mensuelles'!E33=Tables!$E$10,Tables!$F$10,IF('Données mensuelles'!E33=Tables!$E$11,Tables!$F$11,IF(E33=Tables!$E$12,Tables!$F$12,IF('Données mensuelles'!E33=Tables!$E$13,Tables!$F$13,IF(E33=Tables!$E$14,Tables!$F$14,IF(E33=Tables!$E$15,Tables!$F$15,IF(E33=Tables!$E$16,Tables!$F$16)))))))))))) -> FALSE | H33: =IF(G33=Tables!$E$5,Tables!$F$5,IF('Données mensuelles'!G33=Tables!$E$6,Tables!$F$6,IF('Données mensuelles'!G33=Tables!$E$7,Tables!$F$7,IF('Données mensuelles'!G33=Tables!$E$8,Tables!$F$8,IF('Données mensuelles'!G33=Tables!$E$9,Tables!$F$9,IF('Données mensuelles'!G33=Tables!$E$10,Tables!$F$10,IF('Données mensuelles'!G33=Tables!$E$11,Tables!$F$11,IF(G33=Tables!$E$12,Tables!$F$12,IF('Données mensuelles'!G33=Tables!$E$13,Tables!$F$13,IF(G33=Tables!$E$14,Tables!$F$14,IF(G33=Tables!$E$15,Tables!$F$15,IF(G33=Tables!$E$16,Tables!$F$16)))))))))))) -> FALSE | J33: =IF(I33=Tables!$E$5,Tables!$F$5,IF('Données mensuelles'!I33=Tables!$E$6,Tables!$F$6,IF('Données mensuelles'!I33=Tables!$E$7,Tables!$F$7,IF('Données mensuelles'!I33=Tables!$E$8,Tables!$F$8,IF('Données mensuelles'!I33=Tables!$E$9,Tables!$F$9,IF('Données mensuelles'!I33=Tables!$E$10,Tables!$F$10,IF('Données mensuelles'!I33=Tables!$E$11,Tables!$F$11,IF(I33=Tables!$E$12,Tables!$F$12,IF('Données mensuelles'!I33=Tables!$E$13,Tables!$F$13,IF(I33=Tables!$E$14,Tables!$F$14,IF(I33=Tables!$E$15,Tables!$F$15,IF(I33=Tables!$E$16,Tables!$F$16)))))))))))) -> FALSE | L33: =IF(K33=Tables!$E$5,Tables!$F$5,IF('Données mensuelles'!K33=Tables!$E$6,Tables!$F$6,IF('Données mensuelles'!K33=Tables!$E$7,Tables!$F$7,IF('Données mensuelles'!K33=Tables!$E$8,Tables!$F$8,IF('Données mensuelles'!K33=Tables!$E$9,Tables!$F$9,IF('Données mensuelles'!K33=Tables!$E$10,Tables!$F$10,IF('Données mensuelles'!K33=Tables!$E$11,Tables!$F$11,IF(K33=Tables!$E$12,Tables!$F$12,IF('Données mensuelles'!K33=Tables!$E$13,Tables!$F$13,IF(K33=Tables!$E$14,Tables!$F$14,IF(K33=Tables!$E$15,Tables!$F$15,IF(K33=Tables!$E$16,Tables!$F$16)))))))))))) -> FALSE | N33: =IF(M33=Tables!$E$5,Tables!$F$5,IF('Données mensuelles'!M33=Tables!$E$6,Tables!$F$6,IF('Données mensuelles'!M33=Tables!$E$7,Tables!$F$7,IF('Données mensuelles'!M33=Tables!$E$8,Tables!$F$8,IF('Données mensuelles'!M33=Tables!$E$9,Tables!$F$9,IF('Données mensuelles'!M33=Tables!$E$10,Tables!$F$10,IF('Données mensuelles'!M33=Tables!$E$11,Tables!$F$11,IF(M33=Tables!$E$12,Tables!$F$12,IF('Données mensuelles'!M33=Tables!$E$13,Tables!$F$13,IF(M33=Tables!$E$14,Tables!$F$14,IF(M33=Tables!$E$15,Tables!$F$15,IF(M33=Tables!$E$16,Tables!$F$16)))))))))))) -> FALSE | O33: =N33+L33+J33+H33+F33 -> 0 | S33: =O33+(Q33*R33)+(P33*Tables!$E$20*R33) -> 0
F34: =IF(E34=Tables!$E$5,Tables!$F$5,IF('Données mensuelles'!E34=Tables!$E$6,Tables!$F$6,IF('Données mensuelles'!E34=Tables!$E$7,Tables!$F$7,IF('Données mensuelles'!E34=Tables!$E$8,Tables!$F$8,IF('Données mensuelles'!E34=Tables!$E$9,Tables!$F$9,IF('Données mensuelles'!E34=Tables!$E$10,Tables!$F$10,IF('Données mensuelles'!E34=Tables!$E$11,Tables!$F$11,IF(E34=Tables!$E$12,Tables!$F$12,IF('Données mensuelles'!E34=Tables!$E$13,Tables!$F$13,IF(E34=Tables!$E$14,Tables!$F$14,IF(E34=Tables!$E$15,Tables!$F$15,IF(E34=Tables!$E$16,Tables!$F$16)))))))))))) -> FALSE | H34: =IF(G34=Tables!$E$5,Tables!$F$5,IF('Données mensuelles'!G34=Tables!$E$6,Tables!$F$6,IF('Données mensuelles'!G34=Tables!$E$7,Tables!$F$7,IF('Données mensuelles'!G34=Tables!$E$8,Tables!$F$8,IF('Données mensuelles'!G34=Tables!$E$9,Tables!$F$9,IF('Données mensuelles'!G34=Tables!$E$10,Tables!$F$10,IF('Données mensuelles'!G34=Tables!$E$11,Tables!$F$11,IF(G34=Tables!$E$12,Tables!$F$12,IF('Données mensuelles'!G34=Tables!$E$13,Tables!$F$13,IF(G34=Tables!$E$14,Tables!$F$14,IF(G34=Tables!$E$15,Tables!$F$15,IF(G34=Tables!$E$16,Tables!$F$16)))))))))))) -> FALSE | J34: =IF(I34=Tables!$E$5,Tables!$F$5,IF('Données mensuelles'!I34=Tables!$E$6,Tables!$F$6,IF('Données mensuelles'!I34=Tables!$E$7,Tables!$F$7,IF('Données mensuelles'!I34=Tables!$E$8,Tables!$F$8,IF('Données mensuelles'!I34=Tables!$E$9,Tables!$F$9,IF('Données mensuelles'!I34=Tables!$E$10,Tables!$F$10,IF('Données mensuelles'!I34=Tables!$E$11,Tables!$F$11,IF(I34=Tables!$E$12,Tables!$F$12,IF('Données mensuelles'!I34=Tables!$E$13,Tables!$F$13,IF(I34=Tables!$E$14,Tables!$F$14,IF(I34=Tables!$E$15,Tables!$F$15,IF(I34=Tables!$E$16,Tables!$F$16)))))))))))) -> FALSE | L34: =IF(K34=Tables!$E$5,Tables!$F$5,IF('Données mensuelles'!K34=Tables!$E$6,Tables!$F$6,IF('Données mensuelles'!K34=Tables!$E$7,Tables!$F$7,IF('Données mensuelles'!K34=Tables!$E$8,Tables!$F$8,IF('Données mensuelles'!K34=Tables!$E$9,Tables!$F$9,IF('Données mensuelles'!K34=Tables!$E$10,Tables!$F$10,IF('Données mensuelles'!K34=Tables!$E$11,Tables!$F$11,IF(K34=Tables!$E$12,Tables!$F$12,IF('Données mensuelles'!K34=Tables!$E$13,Tables!$F$13,IF(K34=Tables!$E$14,Tables!$F$14,IF(K34=Tables!$E$15,Tables!$F$15,IF(K34=Tables!$E$16,Tables!$F$16)))))))))))) -> FALSE | N34: =IF(M34=Tables!$E$5,Tables!$F$5,IF('Données mensuelles'!M34=Tables!$E$6,Tables!$F$6,IF('Données mensuelles'!M34=Tables!$E$7,Tables!$F$7,IF('Données mensuelles'!M34=Tables!$E$8,Tables!$F$8,IF('Données mensuelles'!M34=Tables!$E$9,Tables!$F$9,IF('Données mensuelles'!M34=Tables!$E$10,Tables!$F$10,IF('Données mensuelles'!M34=Tables!$E$11,Tables!$F$11,IF(M34=Tables!$E$12,Tables!$F$12,IF('Données mensuelles'!M34=Tables!$E$13,Tables!$F$13,IF(M34=Tables!$E$14,Tables!$F$14,IF(M34=Tables!$E$15,Tables!$F$15,IF(M34=Tables!$E$16,Tables!$F$16)))))))))))) -> FALSE | O34: =N34+L34+J34+H34+F34 -> 0 | S34: =O34+(Q34*R34)+(P34*Tables!$E$20*R34) -> 0
F35: =IF(E35=Tables!$E$5,Tables!$F$5,IF('Données mensuelles'!E35=Tables!$E$6,Tables!$F$6,IF('Données mensuelles'!E35=Tables!$E$7,Tables!$F$7,IF('Données mensuelles'!E35=Tables!$E$8,Tables!$F$8,IF('Données mensuelles'!E35=Tables!$E$9,Tables!$F$9,IF('Données mensuelles'!E35=Tables!$E$10,Tables!$F$10,IF('Données mensuelles'!E35=Tables!$E$11,Tables!$F$11,IF(E35=Tables!$E$12,Tables!$F$12,IF('Données mensuelles'!E35=Tables!$E$13,Tables!$F$13,IF(E35=Tables!$E$14,Tables!$F$14,IF(E35=Tables!$E$15,Tables!$F$15,IF(E35=Tables!$E$16,Tables!$F$16)))))))))))) -> FALSE | H35: =IF(G35=Tables!$E$5,Tables!$F$5,IF('Données mensuelles'!G35=Tables!$E$6,Tables!$F$6,IF('Données mensuelles'!G35=Tables!$E$7,Tables!$F$7,IF('Données mensuelles'!G35=Tables!$E$8,Tables!$F$8,IF('Données mensuelles'!G35=Tables!$E$9,Tables!$F$9,IF('Données mensuelles'!G35=Tables!$E$10,Tables!$F$10,IF('Données mensuelles'!G35=Tables!$E$11,Tables!$F$11,IF(G35=Tables!$E$12,Tables!$F$12,IF('Données mensuelles'!G35=Tables!$E$13,Tables!$F$13,IF(G35=Tables!$E$14,Tables!$F$14,IF(G35=Tables!$E$15,Tables!$F$15,IF(G35=Tables!$E$16,Tables!$F$16)))))))))))) -> FALSE | J35: =IF(I35=Tables!$E$5,Tables!$F$5,IF('Données mensuelles'!I35=Tables!$E$6,Tables!$F$6,IF('Données mensuelles'!I35=Tables!$E$7,Tables!$F$7,IF('Données mensuelles'!I35=Tables!$E$8,Tables!$F$8,IF('Données mensuelles'!I35=Tables!$E$9,Tables!$F$9,IF('Données mensuelles'!I35=Tables!$E$10,Tables!$F$10,IF('Données mensuelles'!I35=Tables!$E$11,Tables!$F$11,IF(I35=Tables!$E$12,Tables!$F$12,IF('Données mensuelles'!I35=Tables!$E$13,Tables!$F$13,IF(I35=Tables!$E$14,Tables!$F$14,IF(I35=Tables!$E$15,Tables!$F$15,IF(I35=Tables!$E$16,Tables!$F$16)))))))))))) -> FALSE | L35: =IF(K35=Tables!$E$5,Tables!$F$5,IF('Données mensuelles'!K35=Tables!$E$6,Tables!$F$6,IF('Données mensuelles'!K35=Tables!$E$7,Tables!$F$7,IF('Données mensuelles'!K35=Tables!$E$8,Tables!$F$8,IF('Données mensuelles'!K35=Tables!$E$9,Tables!$F$9,IF('Données mensuelles'!K35=Tables!$E$10,Tables!$F$10,IF('Données mensuelles'!K35=Tables!$E$11,Tables!$F$11,IF(K35=Tables!$E$12,Tables!$F$12,IF('Données mensuelles'!K35=Tables!$E$13,Tables!$F$13,IF(K35=Tables!$E$14,Tables!$F$14,IF(K35=Tables!$E$15,Tables!$F$15,IF(K35=Tables!$E$16,Tables!$F$16)))))))))))) -> FALSE | N35: =IF(M35=Tables!$E$5,Tables!$F$5,IF('Données mensuelles'!M35=Tables!$E$6,Tables!$F$6,IF('Données mensuelles'!M35=Tables!$E$7,Tables!$F$7,IF('Données mensuelles'!M35=Tables!$E$8,Tables!$F$8,IF('Données mensuelles'!M35=Tables!$E$9,Tables!$F$9,IF('Données mensuelles'!M35=Tables!$E$10,Tables!$F$10,IF('Données mensuelles'!M35=Tables!$E$11,Tables!$F$11,IF(M35=Tables!$E$12,Tables!$F$12,IF('Données mensuelles'!M35=Tables!$E$13,Tables!$F$13,IF(M35=Tables!$E$14,Tables!$F$14,IF(M35=Tables!$E$15,Tables!$F$15,IF(M35=Tables!$E$16,Tables!$F$16)))))))))))) -> FALSE | O35: =N35+L35+J35+H35+F35 -> 0 | S35: =O35+(Q35*R35)+(P35*Tables!$E$20*R35) -> 0
F36: =IF(E36=Tables!$E$5,Tables!$F$5,IF('Données mensuelles'!E36=Tables!$E$6,Tables!$F$6,IF('Données mensuelles'!E36=Tables!$E$7,Tables!$F$7,IF('Données mensuelles'!E36=Tables!$E$8,Tables!$F$8,IF('Données mensuelles'!E36=Tables!$E$9,Tables!$F$9,IF('Données mensuelles'!E36=Tables!$E$10,Tables!$F$10,IF('Données mensuelles'!E36=Tables!$E$11,Tables!$F$11,IF(E36=Tables!$E$12,Tables!$F$12,IF('Données mensuelles'!E36=Tables!$E$13,Tables!$F$13,IF(E36=Tables!$E$14,Tables!$F$14,IF(E36=Tables!$E$15,Tables!$F$15,IF(E36=Tables!$E$16,Tables!$F$16)))))))))))) -> FALSE | H36: =IF(G36=Tables!$E$5,Tables!$F$5,IF('Données mensuelles'!G36=Tables!$E$6,Tables!$F$6,IF('Données mensuelles'!G36=Tables!$E$7,Tables!$F$7,IF('Données mensuelles'!G36=Tables!$E$8,Tables!$F$8,IF('Données mensuelles'!G36=Tables!$E$9,Tables!$F$9,IF('Données mensuelles'!G36=Tables!$E$10,Tables!$F$10,IF('Données mensuelles'!G36=Tables!$E$11,Tables!$F$11,IF(G36=Tables!$E$12,Tables!$F$12,IF('Données mensuelles'!G36=Tables!$E$13,Tables!$F$13,IF(G36=Tables!$E$14,Tables!$F$14,IF(G36=Tables!$E$15,Tables!$F$15,IF(G36=Tables!$E$16,Tables!$F$16)))))))))))) -> FALSE | J36: =IF(I36=Tables!$E$5,Tables!$F$5,IF('Données mensuelles'!I36=Tables!$E$6,Tables!$F$6,IF('Données mensuelles'!I36=Tables!$E$7,Tables!$F$7,IF('Données mensuelles'!I36=Tables!$E$8,Tables!$F$8,IF('Données mensuelles'!I36=Tables!$E$9,Tables!$F$9,IF('Données mensuelles'!I36=Tables!$E$10,Tables!$F$10,IF('Données mensuelles'!I36=Tables!$E$11,Tables!$F$11,IF(I36=Tables!$E$12,Tables!$F$12,IF('Données mensuelles'!I36=Tables!$E$13,Tables!$F$13,IF(I36=Tables!$E$14,Tables!$F$14,IF(I36=Tables!$E$15,Tables!$F$15,IF(I36=Tables!$E$16,Tables!$F$16)))))))))))) -> FALSE | L36: =IF(K36=Tables!$E$5,Tables!$F$5,IF('Données mensuelles'!K36=Tables!$E$6,Tables!$F$6,IF('Données mensuelles'!K36=Tables!$E$7,Tables!$F$7,IF('Données mensuelles'!K36=Tables!$E$8,Tables!$F$8,IF('Données mensuelles'!K36=Tables!$E$9,Tables!$F$9,IF('Données mensuelles'!K36=Tables!$E$10,Tables!$F$10,IF('Données mensuelles'!K36=Tables!$E$11,Tables!$F$11,IF(K36=Tables!$E$12,Tables!$F$12,IF('Données mensuelles'!K36=Tables!$E$13,Tables!$F$13,IF(K36=Tables!$E$14,Tables!$F$14,IF(K36=Tables!$E$15,Tables!$F$15,IF(K36=Tables!$E$16,Tables!$F$16)))))))))))) -> FALSE | N36: =IF(M36=Tables!$E$5,Tables!$F$5,IF('Données mensuelles'!M36=Tables!$E$6,Tables!$F$6,IF('Données mensuelles'!M36=Tables!$E$7,Tables!$F$7,IF('Données mensuelles'!M36=Tables!$E$8,Tables!$F$8,IF('Données mensuelles'!M36=Tables!$E$9,Tables!$F$9,IF('Données mensuelles'!M36=Tables!$E$10,Tables!$F$10,IF('Données mensuelles'!M36=Tables!$E$11,Tables!$F$11,IF(M36=Tables!$E$12,Tables!$F$12,IF('Données mensuelles'!M36=Tables!$E$13,Tables!$F$13,IF(M36=Tables!$E$14,Tables!$F$14,IF(M36=Tables!$E$15,Tables!$F$15,IF(M36=Tables!$E$16,Tables!$F$16)))))))))))) -> FALSE | O36: =N36+L36+J36+H36+F36 -> 0 | S36: =O36+(Q36*R36)+(P36*Tables!$E$20*R36) -> 0
F37: =IF(E37=Tables!$E$5,Tables!$F$5,IF('Données mensuelles'!E37=Tables!$E$6,Tables!$F$6,IF('Données mensuelles'!E37=Tables!$E$7,Tables!$F$7,IF('Données mensuelles'!E37=Tables!$E$8,Tables!$F$8,IF('Données mensuelles'!E37=Tables!$E$9,Tables!$F$9,IF('Données mensuelles'!E37=Tables!$E$10,Tables!$F$10,IF('Données mensuelles'!E37=Tables!$E$11,Tables!$F$11,IF(E37=Tables!$E$12,Tables!$F$12,IF('Données mensuelles'!E37=Tables!$E$13,Tables!$F$13,IF(E37=Tables!$E$14,Tables!$F$14,IF(E37=Tables!$E$15,Tables!$F$15,IF(E37=Tables!$E$16,Tables!$F$16)))))))))))) -> FALSE | H37: =IF(G37=Tables!$E$5,Tables!$F$5,IF('Données mensuelles'!G37=Tables!$E$6,Tables!$F$6,IF('Données mensuelles'!G37=Tables!$E$7,Tables!$F$7,IF('Données mensuelles'!G37=Tables!$E$8,Tables!$F$8,IF('Données mensuelles'!G37=Tables!$E$9,Tables!$F$9,IF('Données mensuelles'!G37=Tables!$E$10,Tables!$F$10,IF('Données mensuelles'!G37=Tables!$E$11,Tables!$F$11,IF(G37=Tables!$E$12,Tables!$F$12,IF('Données mensuelles'!G37=Tables!$E$13,Tables!$F$13,IF(G37=Tables!$E$14,Tables!$F$14,IF(G37=Tables!$E$15,Tables!$F$15,IF(G37=Tables!$E$16,Tables!$F$16)))))))))))) -> FALSE | J37: =IF(I37=Tables!$E$5,Tables!$F$5,IF('Données mensuelles'!I37=Tables!$E$6,Tables!$F$6,IF('Données mensuelles'!I37=Tables!$E$7,Tables!$F$7,IF('Données mensuelles'!I37=Tables!$E$8,Tables!$F$8,IF('Données mensuelles'!I37=Tables!$E$9,Tables!$F$9,IF('Données mensuelles'!I37=Tables!$E$10,Tables!$F$10,IF('Données mensuelles'!I37=Tables!$E$11,Tables!$F$11,IF(I37=Tables!$E$12,Tables!$F$12,IF('Données mensuelles'!I37=Tables!$E$13,Tables!$F$13,IF(I37=Tables!$E$14,Tables!$F$14,IF(I37=Tables!$E$15,Tables!$F$15,IF(I37=Tables!$E$16,Tables!$F$16)))))))))))) -> FALSE | L37: =IF(K37=Tables!$E$5,Tables!$F$5,IF('Données mensuelles'!K37=Tables!$E$6,Tables!$F$6,IF('Données mensuelles'!K37=Tables!$E$7,Tables!$F$7,IF('Données mensuelles'!K37=Tables!$E$8,Tables!$F$8,IF('Données mensuelles'!K37=Tables!$E$9,Tables!$F$9,IF('Données mensuelles'!K37=Tables!$E$10,Tables!$F$10,IF('Données mensuelles'!K37=Tables!$E$11,Tables!$F$11,IF(K37=Tables!$E$12,Tables!$F$12,IF('Données mensuelles'!K37=Tables!$E$13,Tables!$F$13,IF(K37=Tables!$E$14,Tables!$F$14,IF(K37=Tables!$E$15,Tables!$F$15,IF(K37=Tables!$E$16,Tables!$F$16)))))))))))) -> FALSE | N37: =IF(M37=Tables!$E$5,Tables!$F$5,IF('Données mensuelles'!M37=Tables!$E$6,Tables!$F$6,IF('Données mensuelles'!M37=Tables!$E$7,Tables!$F$7,IF('Données mensuelles'!M37=Tables!$E$8,Tables!$F$8,IF('Données mensuelles'!M37=Tables!$E$9,Tables!$F$9,IF('Données mensuelles'!M37=Tables!$E$10,Tables!$F$10,IF('Données mensuelles'!M37=Tables!$E$11,Tables!$F$11,IF(M37=Tables!$E$12,Tables!$F$12,IF('Données mensuelles'!M37=Tables!$E$13,Tables!$F$13,IF(M37=Tables!$E$14,Tables!$F$14,IF(M37=Tables!$E$15,Tables!$F$15,IF(M37=Tables!$E$16,Tables!$F$16)))))))))))) -> FALSE | O37: =N37+L37+J37+H37+F37 -> 0 | S37: =O37+(Q37*R37)+(P37*Tables!$E$20*R37) -> 0
F38: =IF(E38=Tables!$E$5,Tables!$F$5,IF('Données mensuelles'!E38=Tables!$E$6,Tables!$F$6,IF('Données mensuelles'!E38=Tables!$E$7,Tables!$F$7,IF('Données mensuelles'!E38=Tables!$E$8,Tables!$F$8,IF('Données mensuelles'!E38=Tables!$E$9,Tables!$F$9,IF('Données mensuelles'!E38=Tables!$E$10,Tables!$F$10,IF('Données mensuelles'!E38=Tables!$E$11,Tables!$F$11,IF(E38=Tables!$E$12,Tables!$F$12,IF('Données mensuelles'!E38=Tables!$E$13,Tables!$F$13,IF(E38=Tables!$E$14,Tables!$F$14,IF(E38=Tables!$E$15,Tables!$F$15,IF(E38=Tables!$E$16,Tables!$F$16)))))))))))) -> FALSE | H38: =IF(G38=Tables!$E$5,Tables!$F$5,IF('Données mensuelles'!G38=Tables!$E$6,Tables!$F$6,IF('Données mensuelles'!G38=Tables!$E$7,Tables!$F$7,IF('Données mensuelles'!G38=Tables!$E$8,Tables!$F$8,IF('Données mensuelles'!G38=Tables!$E$9,Tables!$F$9,IF('Données mensuelles'!G38=Tables!$E$10,Tables!$F$10,IF('Données mensuelles'!G38=Tables!$E$11,Tables!$F$11,IF(G38=Tables!$E$12,Tables!$F$12,IF('Données mensuelles'!G38=Tables!$E$13,Tables!$F$13,IF(G38=Tables!$E$14,Tables!$F$14,IF(G38=Tables!$E$15,Tables!$F$15,IF(G38=Tables!$E$16,Tables!$F$16)))))))))))) -> FALSE | J38: =IF(I38=Tables!$E$5,Tables!$F$5,IF('Données mensuelles'!I38=Tables!$E$6,Tables!$F$6,IF('Données mensuelles'!I38=Tables!$E$7,Tables!$F$7,IF('Données mensuelles'!I38=Tables!$E$8,Tables!$F$8,IF('Données mensuelles'!I38=Tables!$E$9,Tables!$F$9,IF('Données mensuelles'!I38=Tables!$E$10,Tables!$F$10,IF('Données mensuelles'!I38=Tables!$E$11,Tables!$F$11,IF(I38=Tables!$E$12,Tables!$F$12,IF('Données mensuelles'!I38=Tables!$E$13,Tables!$F$13,IF(I38=Tables!$E$14,Tables!$F$14,IF(I38=Tables!$E$15,Tables!$F$15,IF(I38=Tables!$E$16,Tables!$F$16)))))))))))) -> FALSE | L38: =IF(K38=Tables!$E$5,Tables!$F$5,IF('Données mensuelles'!K38=Tables!$E$6,Tables!$F$6,IF('Données mensuelles'!K38=Tables!$E$7,Tables!$F$7,IF('Données mensuelles'!K38=Tables!$E$8,Tables!$F$8,IF('Données mensuelles'!K38=Tables!$E$9,Tables!$F$9,IF('Données mensuelles'!K38=Tables!$E$10,Tables!$F$10,IF('Données mensuelles'!K38=Tables!$E$11,Tables!$F$11,IF(K38=Tables!$E$12,Tables!$F$12,IF('Données mensuelles'!K38=Tables!$E$13,Tables!$F$13,IF(K38=Tables!$E$14,Tables!$F$14,IF(K38=Tables!$E$15,Tables!$F$15,IF(K38=Tables!$E$16,Tables!$F$16)))))))))))) -> FALSE | N38: =IF(M38=Tables!$E$5,Tables!$F$5,IF('Données mensuelles'!M38=Tables!$E$6,Tables!$F$6,IF('Données mensuelles'!M38=Tables!$E$7,Tables!$F$7,IF('Données mensuelles'!M38=Tables!$E$8,Tables!$F$8,IF('Données mensuelles'!M38=Tables!$E$9,Tables!$F$9,IF('Données mensuelles'!M38=Tables!$E$10,Tables!$F$10,IF('Données mensuelles'!M38=Tables!$E$11,Tables!$F$11,IF(M38=Tables!$E$12,Tables!$F$12,IF('Données mensuelles'!M38=Tables!$E$13,Tables!$F$13,IF(M38=Tables!$E$14,Tables!$F$14,IF(M38=Tables!$E$15,Tables!$F$15,IF(M38=Tables!$E$16,Tables!$F$16)))))))))))) -> FALSE | O38: =N38+L38+J38+H38+F38 -> 0 | S38: =O38+(Q38*R38)+(P38*Tables!$E$20*R38) -> 0
