Workbook

Sheet AI
C2: ANNEE INCOMPLETE
C3: Calcul Congés Payés à effectuer au 31 mai de chaque année (Partie A) | P3: passez votre souris sur les cases avec le petit triangle rouge pour plus d'info
C4: Calcul Indemnité Compensatrice et/ou Régularisation en cas de rupture du contrat (Partie B)
B7: Partie I: Comparatif du montant des congés payés et du temps validé à calculer à chaque 31 mai
C8: Mettez X dans l'une des 2 cases (brut conseillé) | M8: =CONCATENATE(C18," / ",C29) -> 2019 / 2020
B9: Calcul en BRUT | C9: x | E9: NOM DE L'ENFANT
B10: Calcul en Net
E11: Date de Début du contrat | H11: 43017 | J11: =IF(OR(H11="",H11=" ",H11=" ",H11=" "),0,1) -> 1 | K11: =IF(H11<DATE(C18,6,1),1,2) -> 1
B13: =CONCATENATE("Calendrier ",C18," / ",C29) -> Calendrier 2019 / 2020 | D13: Semaines validées | E13: Nbre de jours de CP acquis par le temps validé | F13: Total des jours de CP acquis | H13: Calcul des Congés Payés en maintien de salaire | L13: Calcul des Congés Payés « aux 10% »
L14: =CONCATENATE("montant perçus sur l'année ",M8," pour les cp acquis au 31/05/",C18," pris en temps sur l'année ",M8) -> montant perçus sur l'année 2019 / 2020 pour les cp acquis au 31/05/2019 pris en temps sur l'année 2019 / 2020 | Q14: Cumul
L16: 682.82 | M16: =L16*10% -> 68.282
L17: Salaires perçus CP inclus | P17: Jrs Ouvrés | Q17: Temps validé | R17: CP acquis | S17: Sem validées
B18: Juin | C18: 2019 | D18: 4 | E18: =(D18/4)*2.5 -> 2.5 | L18: 530.48 | M18: =L18*10% -> 53.048 | N18: 6 | O18: 44012 | P18: 22 | Q18: 1 | R18: 2.5 | S18: 0
B19: Juillet | C19: =$C$18 -> 2019 | D19: 4 | E19: =(D19/4)*2.5 -> 2.5 | L19: 713.17 | M19: =L19*10% -> 71.317 | N19: 7 | O19: 44043 | P19: 23 | Q19: 1 | R19: 5 | S19: 4
B20: Août | C20: =$C$18 -> 2019 | D20: 4 | E20: =(D20/4)*2.5 -> 2.5 | H20: Données contractuelles en vigueur au | L20: 857.1 | M20: =L20*10% -> 85.71 | N20: 8 | O20: 44074 | P20: 21 | Q20: 1 | R20: 7.5 | S20: 2
B21: Septembre | C21: =$C$18 -> 2019 | D21: 4 | E21: =(D21/4)*2.5 -> 2.5 | H21: =C29 -> 2020 | L21: 542.03 | M21: =L21*10% -> 54.203 | N21: 9 | O21: 44104 | P21: 22 | Q21: 1 | R21: 10 | S21: 4
B22: Octobre | C22: =$C$18 -> 2019 | E22: =(D22/4)*2.5 -> 0 | H22: Nr jour/sem | I22: Nbr heure/sem | K22: Taux horaire | L22: 573.41 | M22: =L22*10% -> 57.341 | N22: 10 | O22: 44135 | P22: 22 | Q22: 1 | R22: 12.5 | S22: 5
B23: Novembre | C23: =$C$18 -> 2019 | E23: =(D23/4)*2.5 -> 0 | H23: 3 | I23: 8 | K23: 5.567 | L23: 463.46 | M23: =L23*10% -> 46.346 | N23: 11 | O23: 44165 | P23: 21 | Q23: 1 | R23: 15 | S23: 4
B24: Décembre | C24: =$C$18 -> 2019 | E24: =(D24/4)*2.5 -> 0 | L24: 502.09 | M24: =L24*10% -> 50.209 | N24: 12 | O24: 44196 | P24: 23 | Q24: 1 | R24: 17.5 | S24: 3
B25: Janvier | C25: =$C$18+1 -> 2020 | E25: =(D25/4)*2.5 -> 0 | H25: montant CP/ jour | K25: =L33/F30 -> 40.86375 | L25: 502.09 | M25: =L25*10% -> 50.209 | N25: 1 | O25: 44227 | P25: 21 | Q25: 1 | R25: 20 | S25: 5
B26: Février | C26: =$C$18+1 -> 2020 | E26: =(D26/4)*2.5 -> 0 | L26: 502.09 | M26: =L26*10% -> 50.209 | N26: 2 | O26: 44255 | P26: 20 | Q26: 1 | R26: 22.5 | S26: 3
B27: Mars | C27: =$C$18+1 -> 2020 | E27: =(D27/4)*2.5 -> 0 | L27: 251.05 | M27: =L27*10% -> 25.105 | N27: 3 | O27: 44286 | P27: 23 | Q27: 1 | R27: 25 | S27: 3
B28: Avril | C28: =$C$18+1 -> 2020 | E28: =(D28/4)*2.5 -> 0 | F28: =K43*2 -> 6 | L28: 0 | M28: =L28*10% -> 0 | N28: 4 | O28: 44316 | P28: 22 | Q28: 1 | R28: 27.5 | S28: 3
B29: Mai | C29: =$C$18+1 -> 2020 | E29: =(D29/4)*2.5 -> 0 | L29: 418.39 | M29: =L29*10% -> 41.839 | N29: 5 | O29: 44347 | P29: 21 | Q29: 1 | R29: 30 | S29: 5
B30: TOTAL | D30: =SUM(D18:D29) -> 16 | E30: =ROUNDUP((D30/4)*2.5,0) -> 10 | F30: =IF(E30+F28>30,30,E30+F28) -> 16 | H30: =ROUNDUP((H23*F30)/6,0) -> 8 | I30: =H30*I23 -> 64 | K30: =ROUND(I30*K23,2) -> 356.29 | L30: =SUM(L18:L29)+L16 -> 6538.18 | M30: =ROUND(SUM(M18:M29)+M16,2) -> 653.82 | Q30: 12 | S30: 41
B31: Rémunération que le salarié aurait perçue pendant son temps de congé | K31: =K30 -> 356.29 | L31: CP 10 % | M31: =M30 -> 653.82 | Q31: 30 | S31: 25.625
B33: Le montant le plus avantageux pour le salarié est retenu, soit | L33: =IF(K31>M31,K31,M31) -> 653.82
B35: ATTENTION : Si pendant l'année de référence ci-dessus votre taux horaire ou le temps de travail ont évolués,
B36: il convient de calculer les congés en maintien de salaire selon les éléments en vigueur à la date de rupture, ou au plus tard au 31 mai
B37: de l'année de référence considérée, car le salaire doit être maintenu à hauteur des derniers éléments du contrat en cours durant cette année.
B39: 30 avril | C39: =C28 -> 2020 | D39: Si à cette date du 30 avril, vous avez à charge un ou des enfants de moins de 15 ans,
D40: et que vous n'ayez pas acquis 30 jours ouvrables, vous pouvez bénéficier de Congés Payés Supplémentaires
D41: dans la limite de 30 jours ouvrables de CP annuels maxi.
B43: Nombre d'enfants à charge de moins de 15 ans au 30 avril | J43: =C28 -> 2020 | K43: 3
B45: Le montant des congés payés peut être versé, selon l'accord des parties à préciser au contrat
I46: Mettez X dans l'une des 5 cases
B47: [ 1 ] | C47: - Soit en une seule fois au mois de juin | I47: x | K47: =IF(ISBLANK(I47),"",L33) -> 653.82
B48: [ 2 ] | C48: - Soit en une seule fois à la prise principale des congés | K48: =IF(ISBLANK(I48),"",L33)
B49: [ 3 ] | C49: - Soit au fur et à mesure de la prise des congés | K49: =IF(ISBLANK(I49),"",L33/F30) | L49: =IF(ISBLANK(I49),"","par jour ouvrable pris")
B50: [ 4 ] | C50: - Soit par 1/12ème chaque mois (à compter de juin jusque mai suivant) | K50: =IF(ISBLANK(I50),"",L33/12) | L50: =IF(ISBLANK(I50),"","par mois") | O50: En cours de contrat cocher fin de période
...

Sheet récapitulatif AI
C2: ANNEE INCOMPLETE
C3: Récapitulatifs | I3: =AI!M8 -> 2019 / 2020
C5: NOM DE L'ENFANT | D5: =AI!G9 -> 0
H7: =IF(AI!C9="x","Calcul en Brut","Calcul en Net") -> Calcul en Brut
C8: =[1]AI!C29 -> 0 | G8: =AI!L33 -> 653.82
A11: Le montant des congés payés a été versé, selon l'accord des parties précisé au contrat *
D13: Il a été acquis un total de jours ouvrables de : | E13: =AI!F30 -> 16 | G13: =IF([1]AI!Q56="x",[1]AI!O56,IF([1]AI!Q58="x",[1]AI!O58)) -> Date de fin de contrat | I13: =AI!M58 -> 0
D15: * Soit au fur et à mesure de la prise des congés | E15: =IF(AI!I49="x",AI!K49,0) -> 0 | H15: * Soit 1/12ème chaque mois | I15: =AI!K50
G17: * Soit en une fois ou plusieurs fois de manière ponctuel | H17: =IF(AI!I47="x","voir ci-dessous",IF(AI!I48="x","voir ci-dessous",IF(AI!I52="x","voir ci-dessous",IF(AI!I51="x","voir ci-dessous","")))) -> voir ci-dessous
A19: Calendrier | C19: CP PRIS | D19: Dates | E19: Paiements au Fur et à Mes. | F19: Calendrier | H19: Paiements Ponctuels | I19: Paiements au 1/12ème
E21: [3] | H21: [1] [2] [5] [6] | I21: [4]
E22: Montant | H22: Montant | I22: Montant
A23: mai | B23: =AI!C76 -> 2020 | C23: =AI!D76 -> 0 | D23: =AI!E76 -> 0 | E23: =C23*$E$15 -> 0 | F23: mai | G23: =AI!L76 -> 2020 | H23: =AI!M76 -> 0 | I23: =$I$15
A24: juin | B24: =AI!C77 -> 2020 | C24: =AI!D77 -> 0 | D24: =AI!E77 -> 0 | E24: =C24*$E$15 -> 0 | F24: juin | G24: =AI!L77 -> 2020 | H24: =AI!M77 -> 0 | I24: =$I$15
A25: juillet | B25: =AI!C78 -> 2020 | C25: =AI!D78 -> 6 | D25: =AI!E78 -> 0 | E25: =C25*$E$15 -> 0 | F25: juillet | G25: =AI!L78 -> 2020 | H25: =AI!M78 -> 0 | I25: =$I$15
A26: août | B26: =AI!C79 -> 2020 | C26: =AI!D79 -> 0 | D26: =AI!E79 -> 0 | E26: =C26*$E$15 -> 0 | F26: août | G26: =AI!L79 -> 2020 | H26: =AI!M79 -> 0 | I26: =$I$15
A27: septembre | B27: =AI!C80 -> 2020 | C27: =AI!D80 -> 0 | D27: =AI!E80 -> 0 | E27: =C27*$E$15 -> 0 | F27: septembre | G27: =AI!L80 -> 2020 | H27: =AI!M80 -> 0 | I27: =$I$15
A28: octobre | B28: =AI!C81 -> 2020 | C28: =AI!D81 -> 0 | D28: =AI!E81 -> 0 | E28: =C28*$E$15 -> 0 | F28: octobre | G28: =AI!L81 -> 2020 | H28: =AI!M81 -> 0 | I28: =$I$15
A29: novembre | B29: =AI!C82 -> 2020 | C29: =AI!D82 -> 0 | D29: =AI!E82 -> 0 | E29: =C29*$E$15 -> 0 | F29: novembre | G29: =AI!L82 -> 2020 | H29: =AI!M82 -> 0 | I29: =$I$15
A30: décembre | B30: =AI!C83 -> 2020 | C30: =AI!D83 -> 0 | D30: =AI!E83 -> 0 | E30: =C30*$E$15 -> 0 | F30: décembre | G30: =AI!L83 -> 2020 | H30: =AI!M83 -> 0 | I30: =$I$15
A31: janvier | B31: =AI!C84 -> 2021 | C31: =AI!D84 -> 0 | D31: =AI!E84 -> 0 | E31: =C31*$E$15 -> 0 | F31: janvier | G31: =AI!L84 -> 2021 | H31: =AI!M84 -> 0 | I31: =$I$15
A32: février | B32: =AI!C85 -> 2021 | C32: =AI!D85 -> 0 | D32: =AI!E85 -> 0 | E32: =C32*$E$15 -> 0 | F32: février | G32: =AI!L85 -> 2021 | H32: =AI!M85 -> 0 | I32: =$I$15
A33: mars | B33: =AI!C86 -> 2021 | C33: =AI!D86 -> 0 | D33: =AI!E86 -> 0 | E33: =C33*$E$15 -> 0 | F33: mars | G33: =AI!L86 -> 2021 | H33: =AI!M86 -> 0 | I33: =$I$15
A34: avril | B34: =AI!C87 -> 2021 | C34: =AI!D87 -> 0 | D34: =AI!E87 -> 0 | E34: =C34*$E$15 -> 0 | F34: avril | G34: =AI!L87 -> 2021 | H34: =AI!M87 -> 0 | I34: =$I$15
A35: Montant total CP pris | C35: =SUM(C23:C34) -> 6 | E35: =SUM(E23:E34) -> 0 | F35: Montant total CP payés | H35: =SUM(H23:H34) -> 0 | I35: =SUM(I23:I34) -> 0
A37: Montant des Congés Payés à régulariser antérieure | H37: =AI!M72 -> 0 | I37: =AI!L72 -> 0
A38: Indemnité Compensatrice de congé pour jour(s) de fractionnement non pris | H38: =IF(AI!I68="non dû",0,AI!I68) -> 0 | I38: =AI!I66 -> non dû
A39: Montant des congés payés dû | H39: =G8 -> 653.82 | I39: =H39/AI!K25 -> 16
A40: Montant des congés payés déjà versés | H40: =IF(E35>0,E35,IF(H35>0,H35,IF(I35>0,I35,0))) -> 0 | I40: =H40/AI!K25 -> 0
F42: TOTAL à noter sur le dernier BS, ligne « Congés payés » | G42: =G8+H37+H38-H40 -> 653.82
F44: qui correspond au nombre total de jours ouvrables à déclarer à PAJEMPLOI | G44: =I37+I38+I39-I40 -> #VALUE!

Sheet REGUL AC
E2: ANNEE COMPLETE
E3: Calcul Régularisation à l'issue des CP pris
B5: Comparatif de la rémunération perçue pendant le temps de congés acquis et la règle du 1/10ème
C6: Mettez X dans l'une des 2 cases | K6: =CONCATENATE(C12," / ",C23) -> 2018 / 2019
B7: Calcul en BRUT | C7: x | E7: NOM DE L'ENFANT
B8: Calcul en NET
B10: Calendrier | D10: Mois validés | E10: Nbre de jours de CP par mois | F10: Total des jours de CP acquis | H10: Calendrier | J10: Calcul des Congés Payés au 1/10ème des salaires bruts
B11: =CONCATENATE(C12," / ",C23) -> 2018 / 2019 | H11: =CONCATENATE(I12," / ",I23) -> 2018 / 2019
B12: Juin | C12: 2018 | E12: =D12*2.5 -> 0 | H12: Juin | I12: =C12 -> 2018 | K12: =J12*10% -> 0
B13: Juillet | C13: =$C$12 -> 2018 | E13: =D13*2.5 -> 0 | H13: Juillet | I13: =C13 -> 2018 | K13: =J13*10% -> 0
B14: Août | C14: =$C$12 -> 2018 | E14: =D14*2.5 -> 0 | H14: Août | I14: =C14 -> 2018 | K14: =J14*10% -> 0
B15: Septembre | C15: =$C$12 -> 2018 | E15: =D15*2.5 -> 0 | H15: Septembre | I15: =C15 -> 2018 | K15: =J15*10% -> 0
B16: Octobre | C16: =$C$12 -> 2018 | E16: =D16*2.5 -> 0 | H16: Octobre | I16: =C16 -> 2018 | K16: =J16*10% -> 0
B17: Novembre | C17: =$C$12 -> 2018 | E17: =D17*2.5 -> 0 | H17: Novembre | I17: =C17 -> 2018 | K17: =J17*10% -> 0
B18: Décembre | C18: =$C$12 -> 2018 | E18: =D18*2.5 -> 0 | H18: Décembre | I18: =C18 -> 2018 | K18: =J18*10% -> 0
B19: Janvier | C19: =$C$12+1 -> 2019 | E19: =D19*2.5 -> 0 | H19: Janvier | I19: =C19 -> 2019 | K19: =J19*10% -> 0
B20: Février | C20: =$C$12+1 -> 2019 | E20: =D20*2.5 -> 0 | H20: Février | I20: =C20 -> 2019 | K20: =J20*10% -> 0
B21: Mars | C21: =$C$12+1 -> 2019 | E21: =D21*2.5 -> 0 | H21: Mars | I21: =C21 -> 2019 | K21: =J21*10% -> 0
B22: Avril | C22: =$C$12+1 -> 2019 | E22: =D22*2.5 -> 0 | F22: =J29*2 -> 0 | H22: Avril | I22: =C22 -> 2019 | K22: =J22*10% -> 0
B23: Mai | C23: =$C$12+1 -> 2019 | E23: =D23*2.5 -> 0 | H23: Mai | I23: =C23 -> 2019 | K23: =J23*10% -> 0
B24: TOTAL | D24: =SUM(D12:D23) -> 0 | E24: =ROUNDUP(E12+E13+E14+E15+E16+E17+E18+E19+E20+E21+E22+E23,0) -> 0 | F24: =E24+F22 -> 0 | H24: TOTAL | J24: =SUM(J12:J23) -> 0 | K24: =SUM(K12:K23) -> 0
B26: 30 avril | C26: =C22 -> 2019 | D26: Si à cette date du 30 avril, vous avez à charge un ou des enfants de moins de 15 ans, et que vous n'ayez pas acquis 30 jours ouvrables, vous pouvez bénéficier de Congés Payés Supplémentaires dans la limite de 30 jours de CP annuels maxi
B29: Nombre d'enfant à charge de moins de 15 ans au 30 avril de l'année en cours
B31: Calcul régularisation congés payés
G33: Date de régularisation
B35: RECAPITUALATIF DES CONGES PRIS PAYES
B36: Calendrier | D36: CP pris | E36: Dates | F36: Nombre d'hres payées | G36: Taux horaire | H36: Montant des CP pris
B37: =CONCATENATE(C38," / ",C49) -> 2019 / 2020
B38: Mai | C38: =$C$23 -> 2019 | H38: =F38*G38 -> 0
B39: Juin | C39: =$C$23 -> 2019 | H39: =F39*G39 -> 0
B40: Juillet | C40: =$C$23 -> 2019 | H40: =F40*G40 -> 0
B41: Août | C41: =$C$23 -> 2019 | H41: =F41*G41 -> 0
B42: Septembre | C42: =$C$23 -> 2019 | H42: =F42*G42 -> 0
B43: Octobre | C43: =$C$23 -> 2019 | H43: =F43*G43 -> 0
B44: Novembre | C44: =$C$23 -> 2019 | H44: =F44*G44 -> 0
B45: Décembre | C45: =$C$23 -> 2019 | H45: =F45*G45 -> 0
B46: Janvier | C46: =$C$23+1 -> 2020 | H46: =F46*G46 -> 0
B47: Février | C47: =$C$23+1 -> 2020 | H47: =F47*G47 -> 0
B48: Mars | C48: =$C$23+1 -> 2020 | H48: =F48*G48 -> 0
B49: Avril | C49: =$C$23+1 -> 2020 | H49: =F49*G49 -> 0
...

Sheet indemnité compensatrice CP AC
B2: ANNEE COMPLETE
A5: Comparatif du montant des congés payés et du temps validé
B6: Mettez X dans l'une des 2 cases | J6: =CONCATENATE(B12," / ",B23) -> 2019 / 2020
A7: Calcul en BRUT | B7: =IF(ISBLANK('[2]Régularisation des CP'!B8),"",'[2]Régularisation des CP'!B8) -> x | E7: NOM DE L'ENFANT | F7: ='[2]Régularisation des CP'!E8 -> Xxxxxx XXXXX
A8: Calcul en NET | B8: =IF(ISBLANK('[2]Régularisation des CP'!B9),"",'[2]Régularisation des CP'!B9)
A10: Calendrier | C10: Mois validés | D10: Nbre de jours de CP par mois | E10: Total des jours de CP acquis | F10: Calcul des Congés Payés en maintien de salaire | I10: Calcul des Congés Payés au 10 % des salaires versés
A11: 2019 / 2020
A12: Juin | B12: 2019 | D12: =C12*2.5 -> 0 | J12: =I12*10% -> 0
A13: Juillet | B13: =$B$12 -> 2019 | D13: =C13*2.5 -> 0 | J13: =I13*10% -> 0
A14: Août | B14: =$B$12 -> 2019 | D14: =C14*2.5 -> 0 | J14: =I14*10% -> 0
A15: Septembre | B15: =$B$12 -> 2019 | D15: =C15*2.5 -> 0 | J15: =I15*10% -> 0
A16: Octobre | B16: =$B$12 -> 2019 | D16: =C16*2.5 -> 0 | J16: =I16*10% -> 0
A17: Novembre | B17: =$B$12 -> 2019 | D17: =C17*2.5 -> 0 | J17: =I17*10% -> 0
A18: Décembre | B18: =$B$12 -> 2019 | D18: =C18*2.5 -> 0 | J18: =I18*10% -> 0
A19: Janvier | B19: =$B$18+1 -> 2020 | D19: =C19*2.5 -> 0 | J19: =I19*10% -> 0
A20: Février | B20: =$B$18+1 -> 2020 | D20: =C20*2.5 -> 0 | J20: =I20*10% -> 0
A21: Mars | B21: =$B$18+1 -> 2020 | D21: =C21*2.5 -> 0 | J21: =I21*10% -> 0
A22: Avril | B22: =$B$18+1 -> 2020 | D22: =C22*2.5 -> 0 | E22: =H33*2 -> 0 | J22: =I22*10% -> 0
A23: Mai | B23: =$B$18+1 -> 2020 | D23: =C23*2.5 -> 0 | J23: =I23*10% -> 0
A24: TOTAL | C24: 3.25 | D24: =ROUNDUP(D12+D13+D14+D15+D16+D17+D18+D19+D20+D21+D22+D23,0) -> 0 | E24: =D24+E22 -> 0 | F24: =ROUNDUP(F17*E24/6,0) -> 0 | G24: =F24*G17 -> 0 | H24: =G24*H17 -> 0 | I24: =SUM(I12:I23) -> 0 | J24: =SUM(J12:J23) -> 0
A25: Rémunération que le salarié percevra pendant son temps de congé pris en temps | H25: =H24 -> 0 | I25: CP 10 % | J25: =J24 -> 0
A27: ATTENTION : Si pendant l'année de référence votre taux horaire et/ou le temps de travail sont modifiés, il faut calculer les congés en maintien du salaire selon les nouvelles données, car le salaire doit être maintenu à hauteur des derniers éléments du contrat en cours au moment de la prise de congés.
A30: 30 avril | B30: =B22 -> 2020 | C30: Si à cette date du 30 avril, vous avez à charge un ou des enfants de moins de 15 ans, et que vous n'ayez pas acquis 30 jours ouvrables, vous pouvez bénéficier de Congés Payés Supplémentaires dans la limite de 30 jours de CP annuels maxi
A33: Nombre d'enfant à charge de moins de 15 ans au 30 avril de l'année en cours
A35: Calcul de l'indemnité compensatrice de congés payés
A37: RECAPITUALATIF DES CONGES PRIS | H37: Date de fin de contrat
A39: Calendrier | C39: CP pris | D39: Dates | E39: Indemnité compensatrice Congés Payés non pris en maintien de salaire si la règle du 1/10ème ne se trouve pas la plus favorable | H39: Indemnité Compensatrice Congés non pris si la règle du 1/10ème des salaires est la plus favorable avec déduction des éventuels congés payés pris
A40: Mai | B40: =$B$23 -> 2020 | C40: ='[2]Régularisation des CP'!C39 -> 0 | D40: ='[2]Régularisation des CP'!D39 -> 0
A41: Juin | B41: =$B$23 -> 2020 | C41: ='[2]Régularisation des CP'!C40 -> 0 | D41: ='[2]Régularisation des CP'!D40 -> 0
A42: Juillet | B42: =$B$23 -> 2020 | C42: ='[2]Régularisation des CP'!C41 -> 0 | D42: ='[2]Régularisation des CP'!D41 -> 0
A43: Août | B43: =$B$23 -> 2020
A44: Septembre | B44: =$B$23 -> 2020
A45: Octobre | B45: =$B$23 -> 2020
A46: Novembre | B46: =$B$23 -> 2020
A47: Décembre | B47: =$B$23 -> 2020
A48: Janvier | B48: =$B$23+1 -> 2021
A49: Février | B49: =$B$23+1 -> 2021
A50: Mars | B50: =$B$23+1 -> 2021
A51: Avril | B51: =$B$23+1 -> 2021 | D51: ='[2]Régularisation des CP'!D50 -> 0
A52: Nbre de CP pris | C52: =IF(C40+C41+C42+C43+C44+C45+C46+C47+C48+C49+C50+C51>E24,FALSE,C40+C41+C42+C43+C44+C45+C46+C47+C48+C49+C50+C51) -> 0 | E52: =C52*(H25/E24) -> #DIV/0! | F52: =E24-C52 -> 0 | G52: =H25-E52 -> #DIV/0! | H52: =C52*(H25/E24) -> #DIV/0! | I52: =E24-C52 -> 0 | J52: =J25-H52+IF(H25>J25,H52-J52,0) -> #DIV/0!
...

Sheet recap sem parents
B1: Récapitulatif semaines prises par les parents
B3: nom de l'employeur
B5: date anniversaire du contrat | E5: 43556
C6: période | E6: =CONCATENATE(C12," / ",C23) -> 2019 / 2020
B8: Nombres de semaines déduites | E8: 5
B10: RECAPITULATIF DES CONGES PRIS
B11: Calendrier | D11: sem prises | E11: date
B12: =TEXT(E5,"mmmm") -> avril | C12: =TEXT(E5,"aaaa") -> 2019
B13: =EDATE($E$5,1) -> 43586 | C13: =TEXT(B13,"aaaa") -> 2019
B14: =EDATE($E$5,2) -> 43617 | C14: =TEXT(B14,"aaaa") -> 2019
B15: =EDATE($E$5,3) -> 43647 | C15: =TEXT(B15,"aaaa") -> 2019
B16: =EDATE($E$5,4) -> 43678 | C16: =TEXT(B16,"aaaa") -> 2019
B17: =EDATE($E$5,5) -> 43709 | C17: =TEXT(B17,"aaaa") -> 2019
B18: =EDATE($E$5,6) -> 43739 | C18: =TEXT(B18,"aaaa") -> 2019
B19: =EDATE($E$5,7) -> 43770 | C19: =TEXT(B19,"aaaa") -> 2019 | D19: 1
B20: =EDATE($E$5,8) -> 43800 | C20: =TEXT(B20,"aaaa") -> 2019 | D20: 1
B21: =EDATE($E$5,9) -> 43831 | C21: =TEXT(B21,"aaaa") -> 2020 | D21: 3
B22: =EDATE($E$5,10) -> 43862 | C22: =TEXT(B22,"aaaa") -> 2020
B23: =EDATE($E$5,11) -> 43891 | C23: =TEXT(B23,"aaaa") -> 2020
B24: Total semaines prises | D24: =(D12+D13+D14+D15+D16+D17+D18+D19+D20+D21+D22+D23) -> 5
B25: Reste à prendre | D25: =IF(D24>E8,"vous avez pris trop de semaine",E8-D24) -> 0
