Workbook

Sheet AI
C2: ANNEE INCOMPLETE
C3: Calcul Congés Payés à effectuer au 31 mai de chaque année (Partie A)
C4: Calcul Indemnité Compensatrice et/ou Régularisation en cas de rupture du contrat (Partie B)
B6: Partie A: Comparatif du montant des congés payés et du temps validé à calculer à chaque 31 mai
C7: Mettez X dans l'une des 2 cases | M7: =CONCATENATE(C17," / ",C28) -> 2020 / 2021
B8: Calcul en BRUT | C8: x | E8: NOM DE L'ENFANT | G8: BONHOMME Nathan
B9: Calcul en NET
E10: Date de Début du contrat | H10: 43709 | J10: =IF(OR(H10="",H10=" ",H10=" ",H10=" "),0,1) -> 1 | K10: =IF(H10<DATE(C17,6,1),1,2) -> 1
B12: =CONCATENATE("Calendrier ",C17," / ",C28) -> Calendrier 2020 / 2021 | D12: Semaines validées | E12: Nbre de jours de CP acquis par le temps validé | F12: Total des jours de CP acquis | H12: Calcul des Congés Payés en maintien de salaire | L12: Calcul des Congés Payés « aux 10% »
Q13: Cumul
L14: CP payé au 31 mai
L15: 900.45 | M15: =L15*10% -> 90.045
L16: Salaires perçus CP inclus | P16: Jrs Ouvrés | Q16: Temps validé | R16: CP acquis | S16: Sem validées
B17: Juin | C17: 2020 | D17: 4 | E17: =(D17/4)*2.5 -> 2.5 | L17: 609.81 | M17: =L17*10% -> 60.981 | N17: 6 | O17: 44012 | P17: 22 | Q17: 1 | R17: 2.5 | S17: 0
B18: Juillet | C18: =$C$17 -> 2020 | D18: 5 | E18: =(D18/4)*2.5 -> 3.125 | L18: 750.92 | M18: =L18*10% -> 75.092 | N18: 7 | O18: 44043 | P18: 23 | Q18: 1 | R18: 5 | S18: 4
B19: Août | C19: =$C$17 -> 2020 | D19: 3 | E19: =(D19/4)*2.5 -> 1.875 | H19: Données contractuelles en vigueur au | L19: 692.47 | M19: =L19*10% -> 69.247 | N19: 8 | O19: 44074 | P19: 21 | Q19: 1 | R19: 7.5 | S19: 2
B20: Septembre | C20: =$C$17 -> 2020 | E20: =(D20/4)*2.5 -> 0 | H20: =C28 -> 2021 | M20: =L20*10% -> 0 | N20: 9 | O20: 44104 | P20: 22 | Q20: 1 | R20: 10 | S20: 4
B21: Octobre | C21: =$C$17 -> 2020 | E21: =(D21/4)*2.5 -> 0 | H21: Nr jour/sem | I21: Nbr heure/sem | K21: Taux horaire | M21: =L21*10% -> 0 | N21: 10 | O21: 44135 | P21: 22 | Q21: 1 | R21: 12.5 | S21: 5
B22: Novembre | C22: =$C$17 -> 2020 | E22: =(D22/4)*2.5 -> 0 | H22: 5 | I22: 9 | K22: 4.35 | M22: =L22*10% -> 0 | N22: 11 | O22: 44165 | P22: 21 | Q22: 1 | R22: 15 | S22: 4
B23: Décembre | C23: =$C$17 -> 2020 | E23: =(D23/4)*2.5 -> 0 | M23: =L23*10% -> 0 | N23: 12 | O23: 44196 | P23: 23 | Q23: 1 | R23: 17.5 | S23: 3
B24: Janvier | C24: =$C$17+1 -> 2021 | E24: =(D24/4)*2.5 -> 0 | H24: montant CP/ jour | K24: =L32/F29 -> 36.92125 | M24: =L24*10% -> 0 | N24: 1 | O24: 44227 | P24: 21 | Q24: 1 | R24: 20 | S24: 5
B25: Février | C25: =$C$17+1 -> 2021 | E25: =(D25/4)*2.5 -> 0 | M25: =L25*10% -> 0 | N25: 2 | O25: 44255 | P25: 20 | Q25: 1 | R25: 22.5 | S25: 3
B26: Mars | C26: =$C$17+1 -> 2021 | E26: =(D26/4)*2.5 -> 0 | M26: =L26*10% -> 0 | N26: 3 | O26: 44286 | P26: 23 | Q26: 1 | R26: 25 | S26: 3
B27: Avril | C27: =$C$17+1 -> 2021 | E27: =(D27/4)*2.5 -> 0 | F27: =K42*2 -> 0 | M27: =L27*10% -> 0 | N27: 4 | O27: 44316 | P27: 22 | Q27: 1 | R27: 27.5 | S27: 3
B28: Mai | C28: =$C$17+1 -> 2021 | E28: =(D28/4)*2.5 -> 0 | M28: =L28*10% -> 0 | N28: 5 | O28: 44347 | P28: 21 | Q28: 1 | R28: 30 | S28: 5
B29: TOTAL | D29: =SUM(D17:D28) -> 12 | E29: =ROUNDUP((D29/4)*2.5,0) -> 8 | F29: =IF(E29+F27>30,30,E29+F27) -> 8 | H29: =ROUNDUP((H22*F29)/6,0) -> 7 | I29: =H29*I22 -> 63 | K29: =ROUND(I29*K22,2) -> 274.05 | L29: =SUM(L17:L28)+L15 -> 2953.65 | M29: =ROUND(SUM(M17:M28)+M15,2) -> 295.37 | Q29: 12 | S29: 41
B30: Rémunération que le salarié aurait perçue pendant son temps de congé | K30: =K29 -> 274.05 | L30: CP 10 % | M30: =M29 -> 295.37 | Q30: 30 | S30: 25.625
B32: Le montant le plus avantageux pour le salarié est retenu, soit | L32: =IF(K30>M30,K30,M30) -> 295.37
B34: ATTENTION : Si pendant l'année de référence ci-dessus votre taux horaire ou le temps de travail ont évolués,
B35: il convient de calculer les congés en maintien de salaire selon les éléments en vigueur à la date de rupture, ou au plus tard au 31 mai
B36: de l'année de référence considérée, car le salaire doit être maintenu à hauteur des derniers éléments du contrat en cours durant cette année.
B38: 30 avril | C38: =C27 -> 2021 | D38: Si à cette date du 30 avril, vous avez à charge un ou des enfants de moins de 15 ans,
D39: et que vous n'ayez pas acquis 30 jours ouvrables, vous pouvez bénéficier de Congés Payés Supplémentaires
D40: dans la limite de 30 jours ouvrables de CP annuels maxi.
B42: Nombre d'enfants à charge de moins de 15 ans au 30 avril | J42: =C27 -> 2021 | K42: 0
B44: Le montant des congés payés peut être versé, selon l'accord des parties à préciser au contrat
H45: Mettez X dans l'une des 6 cases
B46: [ 1 ] | C46: - Soit en une seule fois au mois de juin | K46: =IF(ISBLANK(I46),"",L32)
B47: [ 2 ] | C47: - Soit en une seule fois à la prise principale des congés | K47: =IF(ISBLANK(I47),"",L32)
B48: [ 3 ] | C48: - Soit au fur et à mesure de la prise des congés | I48: x | K48: =IF(ISBLANK(I48),"",L32/F29) -> 36.92125 | L48: =IF(ISBLANK(I48),"","par jour ouvrable pris") -> par jour ouvrable pris
...

Sheet récapitulatif AI
D2: ANNEE INCOMPLETE
D3: Récapitulatifs | J3: =AI!M7 -> 2020 / 2021
D5: NOM DE L'ENFANT | E5: =AI!G8 -> BONHOMME Nathan
I7: =IF(AI!C8="x","Calcul en Brut","Calcul en Net") -> Calcul en Brut
D8: =AI!C28 -> 2021 | H8: =AI!L32 -> 295.37
B11: Le montant des congés payés a été versé, selon l'accord des parties précisé au contrat *
E13: Il a été acquis un total de jours ouvrables de : | F13: =AI!F29 -> 8 | H13: =IF(AI!Q54="x",AI!O54,IF(AI!Q56="x",AI!O56)) -> Date de fin de contrat | J13: =AI!M56 -> 44071
E15: * Soit au fur et à mesure de la prise des congés | F15: =IF(AI!I48="x",AI!K48,0) -> 36.92125 | I15: * Soit 1/12ème chaque mois | J15: =AI!K49 | M15: =DATE(AI!L77,6,30) -> 44377
H17: * Soit en une fois ou plusieurs fois de manière ponctuel | I17: =IF(AI!I46="x","voir ci-dessous",IF(AI!I47="x","voir ci-dessous",IF(AI!I51="x","voir ci-dessous",IF(AI!I50="x","voir ci-dessous",""))))
B19: Calendrier | D19: CP PRIS | E19: Dates | F19: Paiements au Fur et à Mes. | G19: Calendrier | I19: Paiements Ponctuels | J19: Paiements au 1/12ème
F21: [3] | I21: [1] [2] [5] [6] | J21: [4]
F22: Montant | I22: Montant | J22: Montant
B23: =DATE(AI!$C$77,6,30) -> 44377 | D23: =AI!D77 -> 0 | E23: =AI!E77 -> 0 | F23: =IF($J$13<B23,D23*$F$15,"") -> 0 | G23: =DATE(AI!$C$77,6,1) -> 44348 | I23: =IF($J$13>$M$15,AI!M77,0) -> 0 | J23: =IF($J$13>$M$15,$J$15,0) -> 0
B24: =DATE(AI!$C$77,7,31) -> 44408 | D24: =AI!D78 -> 0 | E24: =AI!E78 -> 0 | F24: =IF($J$13<B24,D24*$F$15,"") -> 0 | G24: =DATE(AI!$C$77,7,1) -> 44378 | I24: =IF($J$13>$M$15,AI!M78,0) -> 0 | J24: =IF($J$13>$M$15,$J$15,0) -> 0
B25: =DATE(AI!$C$77,8,31) -> 44439 | D25: =AI!D79 -> 0 | E25: =AI!E79 -> 0 | F25: =IF($J$13<B25,D25*$F$15,"") -> 0 | G25: =DATE(AI!$C$77,8,1) -> 44409 | I25: =IF($J$13>$M$15,AI!M79,0) -> 0 | J25: =IF($J$13>$M$15,$J$15,0) -> 0
B26: =DATE(AI!$C$77,9,30) -> 44469 | D26: =AI!D80 -> 0 | E26: =AI!E80 -> 0 | F26: =IF($J$13<B26,D26*$F$15,"") -> 0 | G26: =DATE(AI!$C$77,9,1) -> 44440 | I26: =IF($J$13>$M$15,AI!M80,0) -> 0 | J26: =IF($J$13>$M$15,$J$15,0) -> 0
B27: =DATE(AI!$C$77,10,31) -> 44500 | D27: =AI!D81 -> 0 | E27: =AI!E81 -> 0 | F27: =IF($J$13<B27,D27*$F$15,"") -> 0 | G27: =DATE(AI!$C$77,10,1) -> 44470 | I27: =IF($J$13>$M$15,AI!M81,0) -> 0 | J27: =IF($J$13>$M$15,$J$15,0) -> 0
B28: =DATE(AI!$C$77,11,30) -> 44530 | D28: =AI!D82 -> 0 | E28: =AI!E82 -> 0 | F28: =IF($J$13<B28,D28*$F$15,"") -> 0 | G28: =DATE(AI!$C$77,11,1) -> 44501 | I28: =IF($J$13>$M$15,AI!M82,0) -> 0 | J28: =IF($J$13>$M$15,$J$15,0) -> 0
B29: =DATE(AI!$C$77,12,31) -> 44561 | D29: =AI!D83 -> 0 | E29: =AI!E83 -> 0 | F29: =IF($J$13<B29,D29*$F$15,"") -> 0 | G29: =DATE(AI!$C$77,12,1) -> 44531 | I29: =IF($J$13>$M$15,AI!M83,0) -> 0 | J29: =IF($J$13>$M$15,$J$15,0) -> 0
B30: =DATE(AI!$C$77+1,1,31) -> 44592 | D30: =AI!D84 -> 0 | E30: =AI!E84 -> 0 | F30: =IF($J$13<B30,D30*$F$15,"") -> 0 | G30: =DATE(AI!$C$77+1,1,1) -> 44562 | I30: =IF($J$13>$M$15,AI!M84,0) -> 0 | J30: =IF($J$13>$M$15,$J$15,0) -> 0
B31: =DATE(AI!$C$77+1,2,29) -> 44621 | D31: =AI!D85 -> 0 | E31: =AI!E85 -> 0 | F31: =IF($J$13<B31,D31*$F$15,"") -> 0 | G31: =DATE(AI!$C$77+1,2,1) -> 44593 | I31: =IF($J$13>$M$15,AI!M85,0) -> 0 | J31: =IF($J$13>$M$15,$J$15,0) -> 0
B32: =DATE(AI!$C$77+1,3,31) -> 44651 | D32: =AI!D86 -> 0 | E32: =AI!E86 -> 0 | F32: =IF($J$13<B32,D32*$F$15,"") -> 0 | G32: =DATE(AI!$C$77+1,3,1) -> 44621 | I32: =IF($J$13>$M$15,AI!M86,0) -> 0 | J32: =IF($J$13>$M$15,$J$15,0) -> 0
B33: =DATE(AI!$C$77+1,4,30) -> 44681 | D33: =AI!D87 -> 0 | E33: =AI!E87 -> 0 | F33: =IF($J$13<B33,D33*$F$15,"") -> 0 | G33: =DATE(AI!$C$77+1,4,1) -> 44652 | I33: =IF($J$13>$M$15,AI!M87,0) -> 0 | J33: =IF($J$13>$M$15,$J$15,0) -> 0
B34: =DATE(AI!$C$77+1,5,31) -> 44712 | D34: =AI!D88 -> 0 | E34: =AI!E88 -> 0 | F34: =IF($J$13<B34,D34*$F$15,"") -> 0 | G34: =DATE(AI!$C$77+1,5,1) -> 44682 | I34: =IF($J$13>$M$15,AI!M88,0) -> 0 | J34: =IF($J$13>$M$15,$J$15,0) -> 0
B35: Montant total CP pris | D35: =SUM(D23:D34) -> 0 | F35: =SUM(F23:F34) -> 0 | G35: Montant total CP payés | I35: =SUM(I23:I34) -> 0 | J35: =SUM(J23:J34) -> 0
B37: Uniquement si la rupture est antérieur au 1er juin | H37: =AI!C77 -> 2021
B38: Montant de l'Indemnité compensatrice pour les CP acquis sur l'année. | H38: =CONCATENATE(AI!C17-1,"/",AI!C28-1) -> 2019/2020 | I38: =AI!M72 -> 366.85
B39: Nombre de jours de congés payés acquis sur l'année non encore payés | H39: =CONCATENATE(AI!C17-1,"/",AI!C28-1) -> 2019/2020 | I39: =AI!L72 -> 10
B40: Indemnité Compensatrice de congé pour jour(s) de fractionnement au 31/10/ | H40: =AI!C21 -> 2020 | I40: =IF(AI!I66="non dû",0,AI!I66) -> 0 | J40: =IF(AI!I66="non dû",0,AI!I64-AI!I82) -> 0
B42: Montant des congés payés pris en temps déjà versés | I42: =IF(F35>0,F35,IF(I35>0,I35,IF(J35>0,J35,0))) -> 0 | J42: =D35 -> 0
B43: Montant des congés payés pris en temps non encore versés | I43: =IF(F35>0,D35*F15-F35,IF(I35>0,I35,IF(J35>0,J35,0))) -> 0 | J43: =I43/AI!K24 -> 0
B45: =IF(H13="Date de fin de période","total congés payés restant dû","Total congés payer à reporter sur le BS ligne congés payés") -> Total congés payer à reporter sur le BS ligne congés payés | H45: =H8+I38+I40-I42+I43 -> 662.22
B47: Indemnité compendatrice de congés payés a reporter au cadre 7 de l'attestation pôle emploi | H47: =IF(H13="Date de fin de contrat",H8+I38-I42-I43,"") -> 662.22
B49: qui correspond au nombre total de jours ouvrables à déclarer à PAJEMPLOI | H49: =I39+J40+F13-J42-J43 -> 18
C53: Récapitulatif semaines prises par les parents
B55: nom de l'employeur | D55: FAVRE Perrine
C57: date anniversaire du contrat | F57: 43891
D58: période | F58: =CONCATENATE(D64," / ",D75) -> 2020 / 2021
C60: Nombres de semaines déduites | F60: 4
C62: RECAPITULATIF DES CONGES PRIS
...

Sheet REGUL AC
D2: ANNEE COMPLETE
D3: Calcul Régularisation à l'issue des CP pris
B5: Comparatif de la rémunération perçue pendant le temps de congés acquis et la règle du 1/10ème
C6: Mettez X dans l'une des 2 cases | K6: =CONCATENATE(C12," / ",C23) -> 2018 / 2019
B7: Calcul en BRUT | C7: x | E7: NOM DE L'ENFANT
B8: Calcul en NET
B10: Calendrier | D10: Mois validés | E10: Nbre de jours de CP par mois | F10: Total des jours de CP acquis | H10: Calendrier | J10: Calcul des Congés Payés au 1/10ème des salaires bruts
B11: =CONCATENATE(C12," / ",C23) -> 2018 / 2019 | H11: =CONCATENATE(I12," / ",I23) -> 2018 / 2019
B12: Juin | C12: 2018 | D12: 1 | E12: =D12*2.5 -> 2.5 | H12: Juin | I12: =C12 -> 2018 | K12: =J12*10% -> 0
B13: Juillet | C13: =$C$12 -> 2018 | D13: 1 | E13: =D13*2.5 -> 2.5 | H13: Juillet | I13: =C13 -> 2018 | K13: =J13*10% -> 0
B14: Août | C14: =$C$12 -> 2018 | D14: 1 | E14: =D14*2.5 -> 2.5 | H14: Août | I14: =C14 -> 2018 | K14: =J14*10% -> 0
B15: Septembre | C15: =$C$12 -> 2018 | D15: 1 | E15: =D15*2.5 -> 2.5 | H15: Septembre | I15: =C15 -> 2018 | K15: =J15*10% -> 0
B16: Octobre | C16: =$C$12 -> 2018 | D16: 0.5 | E16: =D16*2.5 -> 1.25 | H16: Octobre | I16: =C16 -> 2018 | K16: =J16*10% -> 0
B17: Novembre | C17: =$C$12 -> 2018 | D17: 1 | E17: =D17*2.5 -> 2.5 | H17: Novembre | I17: =C17 -> 2018 | K17: =J17*10% -> 0
B18: Décembre | C18: =$C$12 -> 2018 | D18: 1 | E18: =D18*2.5 -> 2.5 | H18: Décembre | I18: =C18 -> 2018 | K18: =J18*10% -> 0
B19: Janvier | C19: =$C$12+1 -> 2019 | D19: 1 | E19: =D19*2.5 -> 2.5 | H19: Janvier | I19: =C19 -> 2019 | K19: =J19*10% -> 0
B20: Février | C20: =$C$12+1 -> 2019 | D20: 1 | E20: =D20*2.5 -> 2.5 | H20: Février | I20: =C20 -> 2019 | K20: =J20*10% -> 0
B21: Mars | C21: =$C$12+1 -> 2019 | D21: 1 | E21: =D21*2.5 -> 2.5 | H21: Mars | I21: =C21 -> 2019 | K21: =J21*10% -> 0
B22: Avril | C22: =$C$12+1 -> 2019 | D22: 1 | E22: =D22*2.5 -> 2.5 | F22: =J29*2 -> 0 | H22: Avril | I22: =C22 -> 2019 | K22: =J22*10% -> 0
B23: Mai | C23: =$C$12+1 -> 2019 | D23: 1 | E23: =D23*2.5 -> 2.5 | H23: Mai | I23: =C23 -> 2019 | K23: =J23*10% -> 0
B24: TOTAL | D24: =SUM(D12:D23) -> 11.5 | E24: =ROUNDUP(E12+E13+E14+E15+E16+E17+E18+E19+E20+E21+E22+E23,0) -> 29 | F24: =E24+F22 -> 29 | H24: TOTAL | J24: =SUM(J12:J23) -> 0 | K24: =SUM(K12:K23) -> 0
B26: 30 avril | C26: =C22 -> 2019 | D26: Si à cette date du 30 avril, vous avez à charge un ou des enfants de moins de 15 ans, et que vous n'ayez pas acquis 30 jours ouvrables, vous pouvez bénéficier de Congés Payés Supplémentaires dans la limite de 30 jours de CP annuels maxi
B29: Nombre d'enfant à charge de moins de 15 ans au 30 avril de l'année en cours
B31: Calcul régularisation congés payés
G33: Date de régularisation
B35: RECAPITUALATIF DES CONGES PRIS PAYES
B36: Calendrier | D36: CP pris | E36: Dates | F36: Nombre d'hres payées | G36: Taux horaire | H36: Montant des CP pris
B37: =CONCATENATE(C38," / ",C49) -> 2019 / 2020
B38: Juin | C38: =$C$23 -> 2019 | H38: =F38*G38 -> 0
B39: Juillet | C39: =$C$23 -> 2019 | H39: =F39*G39 -> 0
B40: Août | C40: =$C$23 -> 2019 | H40: =F40*G40 -> 0
B41: Septembre | C41: =$C$23 -> 2019 | H41: =F41*G41 -> 0
B42: Octobre | C42: =$C$23 -> 2019 | H42: =F42*G42 -> 0
B43: Novembre | C43: =$C$23 -> 2019 | H43: =F43*G43 -> 0
B44: Décembre | C44: =$C$23 -> 2019 | H44: =F44*G44 -> 0
B45: Janvier | C45: =$C$23+1 -> 2020 | H45: =F45*G45 -> 0
B46: Février | C46: =$C$23+1 -> 2020 | H46: =F46*G46 -> 0
B47: Mars | C47: =$C$23+1 -> 2020 | H47: =F47*G47 -> 0
B48: Avril | C48: =$C$23+1 -> 2020 | H48: =F48*G48 -> 0
B49: mai | C49: =$C$23+1 -> 2020 | H49: =F49*G49 -> 0
...

Sheet indemnité compensatrice CP AC
C2: ANNEE COMPLETE
C3: Indemnités compensatrices de congés payés
B5: Comparatif du montant des congés payés et du temps validé
C6: Mettez X dans l'une des 2 cases | K6: =CONCATENATE(C12," / ",C23) -> 2019 / 2020
B7: Calcul en BRUT | C7: x | F7: NOM DE L'ENFANT
B8: Calcul en NET
B10: Calendrier | D10: Mois validés | E10: Nbre de jours de CP par mois | F10: Total des jours de CP acquis | G10: Calcul des Congés Payés en maintien de salaire | J10: Calcul des Congés Payés au 10 % des salaires versés
B11: =K6 -> 2019 / 2020
B12: Juin | C12: 2019 | D12: 1 | E12: =D12*2.5 -> 2.5 | K12: =J12*10% -> 0
B13: Juillet | C13: =$C$12 -> 2019 | D13: 0.5 | E13: =D13*2.5 -> 1.25 | K13: =J13*10% -> 0
B14: Août | C14: =$C$12 -> 2019 | D14: 1 | E14: =D14*2.5 -> 2.5 | G14: Données contractuelles en vigueur au | K14: =J14*10% -> 0
B15: Septembre | C15: =$C$12 -> 2019 | D15: 1 | E15: =D15*2.5 -> 2.5 | G15: =C23 -> 2020 | K15: =J15*10% -> 0
B16: Octobre | C16: =$C$12 -> 2019 | D16: 1 | E16: =D16*2.5 -> 2.5 | G16: Nbr jrs/sem | H16: Nbr heures/sem | I16: Taux horaire | K16: =J16*10% -> 0
B17: Novembre | C17: =$C$12 -> 2019 | D17: 1 | E17: =D17*2.5 -> 2.5 | G17: 3 | H17: 8 | I17: 5.7056 | K17: =J17*10% -> 0
B18: Décembre | C18: =$C$12 -> 2019 | D18: 0.75 | E18: =D18*2.5 -> 1.875 | K18: =J18*10% -> 0
B19: Janvier | C19: =$C$18+1 -> 2020 | D19: 1 | E19: =D19*2.5 -> 2.5 | K19: =J19*10% -> 0
B20: Février | C20: =$C$18+1 -> 2020 | D20: 1 | E20: =D20*2.5 -> 2.5 | K20: =J20*10% -> 0
B21: Mars | C21: =$C$18+1 -> 2020 | D21: 1 | E21: =D21*2.5 -> 2.5 | K21: =J21*10% -> 0
B22: Avril | C22: =$C$18+1 -> 2020 | D22: 0.75 | E22: =D22*2.5 -> 1.875 | F22: =I33*2 -> 6 | K22: =J22*10% -> 0
B23: Mai | C23: =$C$18+1 -> 2020 | D23: 1 | E23: =D23*2.5 -> 2.5 | K23: =J23*10% -> 0
B24: TOTAL | D24: =ROUND(SUM(D12:D23),0) -> 11 | E24: =ROUNDUP(E12+E13+E14+E15+E16+E17+E18+E19+E20+E21+E22+E23,0) -> 28 | F24: =E24+F22 -> 34 | G24: =ROUNDUP(G17*F24/6,0) -> 17 | H24: =G24*H17 -> 136 | I24: =ROUND(H24*I17,4) -> 775.9616 | J24: =SUM(J12:J23) -> 0 | K24: =ROUND(SUM(K12:K23),4) -> 0
B25: Rémunération que le salarié percevra pendant son temps de congé pris en temps | I25: =I24 -> 775.9616 | J25: CP 10 % | K25: =K24 -> 0
B27: ATTENTION : Si pendant l'année de référence votre taux horaire et/ou le temps de travail sont modifiés, il faut calculer les congés en maintien du salaire selon les nouvelles données, car le salaire doit être maintenu à hauteur des derniers éléments du contrat en cours au moment de la prise de congés.
B30: 30 avril | C30: =C22 -> 2020 | D30: Si à cette date du 30 avril, vous avez à charge un ou des enfants de moins de 15 ans, et que vous n'ayez pas acquis 30 jours ouvrables, vous pouvez bénéficier de Congés Payés Supplémentaires dans la limite de 30 jours de CP annuels maxi
B33: Nombre d'enfant à charge de moins de 15 ans au 30 avril de l'année en cours | H33: =C22 -> 2020 | I33: 3
B35: Calcul de l'indemnité compensatrice de congés payés
B37: RECAPITUALATIF DES CONGES PRIS | I37: Date de fin de contrat
B39: Calendrier | D39: CP pris | E39: Dates | F39: Indemnité compensatrice Congés Payés non pris en maintien de salaire si la règle du 1/10ème ne se trouve pas la plus favorable | I39: Indemnité Compensatrice Congés non pris si la règle du 1/10ème des salaires est la plus favorable avec déduction des éventuels congés payés pris
B40: Juin | C40: =$C$23 -> 2020
B41: Juillet | C41: =$C$23 -> 2020
B42: Août | C42: =$C$23 -> 2020
B43: Septembre | C43: =$C$23 -> 2020
B44: Octobre | C44: =$C$23 -> 2020
B45: Novembre | C45: =$C$23 -> 2020
B46: Décembre | C46: =$C$23 -> 2020
B47: Janvier | C47: =$C$23+1 -> 2021
B48: Février | C48: =$C$23+1 -> 2021
B49: Mars | C49: =$C$23+1 -> 2021
B50: Avril | C50: =$C$23+1 -> 2021
B51: mai | C51: =$C$23+1 -> 2021
...

Sheet recap sem parents
B2: Récapitulatif semaines prises par les parents
B4: nom de l'employeur | C4: BERNARD Séverine
B6: date anniversaire du contrat | E6: 43556
C7: période | E7: =CONCATENATE(C13," / ",C24) -> 2019 / 2020
B9: Nombres de semaines déduites | E9: 5
B11: RECAPITULATIF DES CONGES PRIS
B12: Calendrier | D12: sem prises | E12: date
B13: =TEXT(E6,"mmmm") -> avril | C13: =TEXT(E6,"aaaa") -> 2019
B14: =EDATE($E$6,1) -> 43586 | C14: =TEXT(B14,"aaaa") -> 2019
B15: =EDATE($E$6,2) -> 43617 | C15: =TEXT(B15,"aaaa") -> 2019
B16: =EDATE($E$6,3) -> 43647 | C16: =TEXT(B16,"aaaa") -> 2019
B17: =EDATE($E$6,4) -> 43678 | C17: =TEXT(B17,"aaaa") -> 2019
B18: =EDATE($E$6,5) -> 43709 | C18: =TEXT(B18,"aaaa") -> 2019
B19: =EDATE($E$6,6) -> 43739 | C19: =TEXT(B19,"aaaa") -> 2019
B20: =EDATE($E$6,7) -> 43770 | C20: =TEXT(B20,"aaaa") -> 2019 | D20: 1
B21: =EDATE($E$6,8) -> 43800 | C21: =TEXT(B21,"aaaa") -> 2019
B22: =EDATE($E$6,9) -> 43831 | C22: =TEXT(B22,"aaaa") -> 2020 | D22: 3
B23: =EDATE($E$6,10) -> 43862 | C23: =TEXT(B23,"aaaa") -> 2020
B24: =EDATE($E$6,11) -> 43891 | C24: =TEXT(B24,"aaaa") -> 2020
B25: Total semaines prises | D25: =(D13+D14+D15+D16+D17+D18+D19+D20+D21+D22+D23+D24) -> 4
B26: Reste à prendre | D26: =IF(D25>E9,"vous avez pris trop de semaine",E9-D25) -> 1
