Workbook

Sheet RECETTES
A1: RECETTES
A3: Commande | C3: Génoise | D3: Commande | E3: Pâte Sucrée | G3: Commande | H3: Biscuit noisettes | J3: Commande | K3: Financier framboises | M3: Commande | N3: Financier framboises
A4: 1 | D4: 1 | G4: 1 | J4: 1 | M4: 0
B5: Qté | C5: Ingrédients | E5: Qté | F5: Ingrédients | H5: Qté | I5: Ingrédients | K5: Qté | L5: Ingrédients | N5: Qté | O5: Ingrédients
A6: Ordre | D6: Ordre | G6: Ordre | J6: Ordre | M6: Ordre
A7: 0 | B7: 170 | C7: Œufs | D7: 0 | E7: 8 | F7: Beurre | G7: 0 | H7: 80 | I7: Beurre | J7: 0 | K7: 6 | L7: Beurre | M7: 0 | N7: 6 | O7: Beurre
B8: 2 | C8: Sucre | E8: 30 | F8: Farine T55 | H8: 4 | I8: Pâte de noisettes | K8: 187 | L8: Sucre glace | N8: 187 | O8: Sucre glace
B9: 60 | C9: Farine T55 | E9: 2 | F9: Sucre glace | H9: 28 | I9: Sucre inverti | K9: 60 | L9: Farine T55 | N9: 60 | O9: Farine
E10: 30 | F10: Sel | H10: 90 | I10: Sucre | K10: 30 | L10: Poudre d'amandes | N10: 30 | O10: Poudre d'amandes
E11: 2 | F11: Œufs | H11: 298 | I11: Poudre d'amandes | K11: 14 | L11: Blancs d'œufs | N11: 14 | O11: Blancs d'œufs
E12: 6 | F12: Poudre d'amandes | H12: 10 | I12: Farine T55 | K12: 4 | L12: Framboise | N12: 4 | O12: Framboise
H13: 20 | I13: Levure chimique
H14: 2 | I14: Crème
I15: Œufs
A18: Commande | C18: Génoise | D18: Commande | E18: Pâte Sucrée | G18: Commande | H18: Biscuit noisettes | J18: Commande | K18: Financier framboises | M18: Commande | N18: Financier framboises
A19: 1 | D19: 0 | G19: 0 | J19: 0 | M19: 0
B20: Qté | C20: Ingrédients | E20: Qté | F20: Ingrédients | H20: Qté | I20: Ingrédients | K20: Qté | L20: Ingrédients | N20: Qté | O20: Ingrédients
A21: Ordre | D21: Ordre | G21: Ordre | J21: Ordre | M21: Ordre
A22: 0 | B22: 170 | C22: Œufs | D22: 0 | E22: 8 | F22: Beurre | G22: 0 | H22: 80 | I22: Beurre | J22: 0 | K22: 6 | L22: Beurre | M22: 0 | N22: 6 | O22: Beurre
B23: 2 | C23: Sucre | E23: 30 | F23: Farine | H23: 4 | I23: Pâte noisettes | K23: 187 | L23: Sucre glace | N23: 187 | O23: Sucre glace
B24: 60 | C24: Farine T55 | E24: 2 | F24: Sucre glace | H24: 28 | I24: Sucre inverti | K24: 60 | L24: Farine | N24: 60 | O24: Farine
E25: 30 | F25: Sel | H25: 90 | I25: Sucre | K25: 30 | L25: Poudre d'amandes | N25: 30 | O25: Poudre d'amandes
E26: 2 | F26: Œufs | H26: 298 | I26: Poudre d'amandes | K26: 14 | L26: Blancs d'œufs | N26: 14 | O26: Blancs d'œufs
E27: 6 | F27: Poudres d'amandes | H27: 10 | I27: Farine | K27: 4 | L27: Framboises | N27: 4 | O27: Framboises
H28: 20 | I28: Levure
H29: 2 | I29: Crème
I30: Œufs

Sheet COMMANDE
A1: COMMANDE

Sheet LISTE DE COURSE
A1: LISTE DE COURSE
A3: FRAIS | B3: Nécessaire | C3: Achat | E3: FRUITS - LÉGUMES FRAIS | F3: Nécessaire | G3: Achat
A5: Beurre | B5: =(SUMPRODUCT((RECETTES!$C$7:$C$17='LISTE DE COURSE'!A5)*(RECETTES!$B$7:$B$17))*RECETTES!$A$4)+(SUMPRODUCT((RECETTES!$F$7:$F$17='LISTE DE COURSE'!A5)*(RECETTES!$E$7:$E$17))*RECETTES!$D$4)+(SUMPRODUCT((RECETTES!$I$7:$I$17='LISTE DE COURSE'!A5)*(RECETTES!$H$7:$H$17))*RECETTES!$G$4)+(SUMPRODUCT((RECETTES!$K$7:$K$17='LISTE DE COURSE'!A5)*(RECETTES!$K$7:$K$17))*RECETTES!$J$4)+(SUMPRODUCT((RECETTES!$O$7:$O$17='LISTE DE COURSE'!A5)*(RECETTES!$N$7:$N$17))*RECETTES!$M$4)+(SUMPRODUCT((RECETTES!$C$22:$C$31='LISTE DE COURSE'!A5)*(RECETTES!$B$22:$B$31))*RECETTES!$A$19)+(SUMPRODUCT((RECETTES!$F$22:$F$31='LISTE DE COURSE'!A5)*(RECETTES!$E$22:$E$31))*RECETTES!$D$19)+(SUMPRODUCT((RECETTES!$I$22:$I$31='LISTE DE COURSE'!A5)*(RECETTES!$H$22:$H$31))*RECETTES!$G$19) -> 88 | C5: =IF(SUMPRODUCT(('LISTE DE COURSE'!B5)-(STOCK!B5))>0,SUMPRODUCT(('LISTE DE COURSE'!B5)-(STOCK!B5)),0) -> 88 | E5: Ananas | F5: =(SUMPRODUCT((RECETTES!$C$7:$C$17='LISTE DE COURSE'!E5)*(RECETTES!$B$7:$B$17))*RECETTES!$A$4)+(SUMPRODUCT((RECETTES!$F$7:$F$17='LISTE DE COURSE'!E5)*(RECETTES!$E$7:$E$17))*RECETTES!$D$4)+(SUMPRODUCT((RECETTES!$I$7:$I$17='LISTE DE COURSE'!E5)*(RECETTES!$H$7:$H$17))*RECETTES!$G$4)+(SUMPRODUCT((RECETTES!$K$7:$K$17='LISTE DE COURSE'!E5)*(RECETTES!$K$7:$K$17))*RECETTES!$J$4)+(SUMPRODUCT((RECETTES!$O$7:$O$17='LISTE DE COURSE'!E5)*(RECETTES!$N$7:$N$17))*RECETTES!$M$4)+(SUMPRODUCT((RECETTES!$C$22:$C$31='LISTE DE COURSE'!E5)*(RECETTES!$B$22:$B$31))*RECETTES!$A$19)+(SUMPRODUCT((RECETTES!$F$22:$F$31='LISTE DE COURSE'!E5)*(RECETTES!$E$22:$E$31))*RECETTES!$D$19)+(SUMPRODUCT((RECETTES!$I$22:$I$31='LISTE DE COURSE'!E5)*(RECETTES!$H$22:$H$31))*RECETTES!$G$19) -> 0 | G5: =IF(SUMPRODUCT(('LISTE DE COURSE'!F5)-(STOCK!E5))>0,SUMPRODUCT(('LISTE DE COURSE'!F5)-(STOCK!E5)),0) -> 0
A6: Beurre salé | B6: =(SUMPRODUCT((RECETTES!$C$7:$C$17='LISTE DE COURSE'!A6)*(RECETTES!$B$7:$B$17))*RECETTES!$A$4)+(SUMPRODUCT((RECETTES!$F$7:$F$17='LISTE DE COURSE'!A6)*(RECETTES!$E$7:$E$17))*RECETTES!$D$4)+(SUMPRODUCT((RECETTES!$I$7:$I$17='LISTE DE COURSE'!A6)*(RECETTES!$H$7:$H$17))*RECETTES!$G$4)+(SUMPRODUCT((RECETTES!$K$7:$K$17='LISTE DE COURSE'!A6)*(RECETTES!$K$7:$K$17))*RECETTES!$J$4)+(SUMPRODUCT((RECETTES!$O$7:$O$17='LISTE DE COURSE'!A6)*(RECETTES!$N$7:$N$17))*RECETTES!$M$4)+(SUMPRODUCT((RECETTES!$C$22:$C$31='LISTE DE COURSE'!A6)*(RECETTES!$B$22:$B$31))*RECETTES!$A$19)+(SUMPRODUCT((RECETTES!$F$22:$F$31='LISTE DE COURSE'!A6)*(RECETTES!$E$22:$E$31))*RECETTES!$D$19)+(SUMPRODUCT((RECETTES!$I$22:$I$31='LISTE DE COURSE'!A6)*(RECETTES!$H$22:$H$31))*RECETTES!$G$19) -> 0 | C6: =IF(SUMPRODUCT(('LISTE DE COURSE'!B6)-(STOCK!B6))>0,SUMPRODUCT(('LISTE DE COURSE'!B6)-(STOCK!B6)),0) -> 0 | E6: Brisures de framboises | F6: =(SUMPRODUCT((RECETTES!$C$7:$C$17='LISTE DE COURSE'!E6)*(RECETTES!$B$7:$B$17))*RECETTES!$A$4)+(SUMPRODUCT((RECETTES!$F$7:$F$17='LISTE DE COURSE'!E6)*(RECETTES!$E$7:$E$17))*RECETTES!$D$4)+(SUMPRODUCT((RECETTES!$I$7:$I$17='LISTE DE COURSE'!E6)*(RECETTES!$H$7:$H$17))*RECETTES!$G$4)+(SUMPRODUCT((RECETTES!$K$7:$K$17='LISTE DE COURSE'!E6)*(RECETTES!$K$7:$K$17))*RECETTES!$J$4)+(SUMPRODUCT((RECETTES!$O$7:$O$17='LISTE DE COURSE'!E6)*(RECETTES!$N$7:$N$17))*RECETTES!$M$4)+(SUMPRODUCT((RECETTES!$C$22:$C$31='LISTE DE COURSE'!E6)*(RECETTES!$B$22:$B$31))*RECETTES!$A$19)+(SUMPRODUCT((RECETTES!$F$22:$F$31='LISTE DE COURSE'!E6)*(RECETTES!$E$22:$E$31))*RECETTES!$D$19)+(SUMPRODUCT((RECETTES!$I$22:$I$31='LISTE DE COURSE'!E6)*(RECETTES!$H$22:$H$31))*RECETTES!$G$19) -> 0 | G6: =IF(SUMPRODUCT(('LISTE DE COURSE'!F6)-(STOCK!E6))>0,SUMPRODUCT(('LISTE DE COURSE'!F6)-(STOCK!E6)),0) -> 0
A7: Blancs d'œufs | B7: =(SUMPRODUCT((RECETTES!$C$7:$C$17='LISTE DE COURSE'!A7)*(RECETTES!$B$7:$B$17))*RECETTES!$A$4)+(SUMPRODUCT((RECETTES!$F$7:$F$17='LISTE DE COURSE'!A7)*(RECETTES!$E$7:$E$17))*RECETTES!$D$4)+(SUMPRODUCT((RECETTES!$I$7:$I$17='LISTE DE COURSE'!A7)*(RECETTES!$H$7:$H$17))*RECETTES!$G$4)+(SUMPRODUCT((RECETTES!$K$7:$K$17='LISTE DE COURSE'!A7)*(RECETTES!$K$7:$K$17))*RECETTES!$J$4)+(SUMPRODUCT((RECETTES!$O$7:$O$17='LISTE DE COURSE'!A7)*(RECETTES!$N$7:$N$17))*RECETTES!$M$4)+(SUMPRODUCT((RECETTES!$C$22:$C$31='LISTE DE COURSE'!A7)*(RECETTES!$B$22:$B$31))*RECETTES!$A$19)+(SUMPRODUCT((RECETTES!$F$22:$F$31='LISTE DE COURSE'!A7)*(RECETTES!$E$22:$E$31))*RECETTES!$D$19)+(SUMPRODUCT((RECETTES!$I$22:$I$31='LISTE DE COURSE'!A7)*(RECETTES!$H$22:$H$31))*RECETTES!$G$19) -> 0 | C7: =IF(SUMPRODUCT(('LISTE DE COURSE'!B7)-(STOCK!B7))>0,SUMPRODUCT(('LISTE DE COURSE'!B7)-(STOCK!B7)),0) -> 0 | E7: Cassis | F7: =(SUMPRODUCT((RECETTES!$C$7:$C$17='LISTE DE COURSE'!E7)*(RECETTES!$B$7:$B$17))*RECETTES!$A$4)+(SUMPRODUCT((RECETTES!$F$7:$F$17='LISTE DE COURSE'!E7)*(RECETTES!$E$7:$E$17))*RECETTES!$D$4)+(SUMPRODUCT((RECETTES!$I$7:$I$17='LISTE DE COURSE'!E7)*(RECETTES!$H$7:$H$17))*RECETTES!$G$4)+(SUMPRODUCT((RECETTES!$K$7:$K$17='LISTE DE COURSE'!E7)*(RECETTES!$K$7:$K$17))*RECETTES!$J$4)+(SUMPRODUCT((RECETTES!$O$7:$O$17='LISTE DE COURSE'!E7)*(RECETTES!$N$7:$N$17))*RECETTES!$M$4)+(SUMPRODUCT((RECETTES!$C$22:$C$31='LISTE DE COURSE'!E7)*(RECETTES!$B$22:$B$31))*RECETTES!$A$19)+(SUMPRODUCT((RECETTES!$F$22:$F$31='LISTE DE COURSE'!E7)*(RECETTES!$E$22:$E$31))*RECETTES!$D$19)+(SUMPRODUCT((RECETTES!$I$22:$I$31='LISTE DE COURSE'!E7)*(RECETTES!$H$22:$H$31))*RECETTES!$G$19) -> 0 | G7: =IF(SUMPRODUCT(('LISTE DE COURSE'!F7)-(STOCK!E7))>0,SUMPRODUCT(('LISTE DE COURSE'!F7)-(STOCK!E7)),0) -> 0
A8: Crème | B8: =(SUMPRODUCT((RECETTES!$C$7:$C$17='LISTE DE COURSE'!A8)*(RECETTES!$B$7:$B$17))*RECETTES!$A$4)+(SUMPRODUCT((RECETTES!$F$7:$F$17='LISTE DE COURSE'!A8)*(RECETTES!$E$7:$E$17))*RECETTES!$D$4)+(SUMPRODUCT((RECETTES!$I$7:$I$17='LISTE DE COURSE'!A8)*(RECETTES!$H$7:$H$17))*RECETTES!$G$4)+(SUMPRODUCT((RECETTES!$K$7:$K$17='LISTE DE COURSE'!A8)*(RECETTES!$K$7:$K$17))*RECETTES!$J$4)+(SUMPRODUCT((RECETTES!$O$7:$O$17='LISTE DE COURSE'!A8)*(RECETTES!$N$7:$N$17))*RECETTES!$M$4)+(SUMPRODUCT((RECETTES!$C$22:$C$31='LISTE DE COURSE'!A8)*(RECETTES!$B$22:$B$31))*RECETTES!$A$19)+(SUMPRODUCT((RECETTES!$F$22:$F$31='LISTE DE COURSE'!A8)*(RECETTES!$E$22:$E$31))*RECETTES!$D$19)+(SUMPRODUCT((RECETTES!$I$22:$I$31='LISTE DE COURSE'!A8)*(RECETTES!$H$22:$H$31))*RECETTES!$G$19) -> 2 | C8: =IF(SUMPRODUCT(('LISTE DE COURSE'!B8)-(STOCK!B8))>0,SUMPRODUCT(('LISTE DE COURSE'!B8)-(STOCK!B8)),0) -> 2 | E8: Citron jaune | F8: =(SUMPRODUCT((RECETTES!$C$7:$C$17='LISTE DE COURSE'!E8)*(RECETTES!$B$7:$B$17))*RECETTES!$A$4)+(SUMPRODUCT((RECETTES!$F$7:$F$17='LISTE DE COURSE'!E8)*(RECETTES!$E$7:$E$17))*RECETTES!$D$4)+(SUMPRODUCT((RECETTES!$I$7:$I$17='LISTE DE COURSE'!E8)*(RECETTES!$H$7:$H$17))*RECETTES!$G$4)+(SUMPRODUCT((RECETTES!$K$7:$K$17='LISTE DE COURSE'!E8)*(RECETTES!$K$7:$K$17))*RECETTES!$J$4)+(SUMPRODUCT((RECETTES!$O$7:$O$17='LISTE DE COURSE'!E8)*(RECETTES!$N$7:$N$17))*RECETTES!$M$4)+(SUMPRODUCT((RECETTES!$C$22:$C$31='LISTE DE COURSE'!E8)*(RECETTES!$B$22:$B$31))*RECETTES!$A$19)+(SUMPRODUCT((RECETTES!$F$22:$F$31='LISTE DE COURSE'!E8)*(RECETTES!$E$22:$E$31))*RECETTES!$D$19)+(SUMPRODUCT((RECETTES!$I$22:$I$31='LISTE DE COURSE'!E8)*(RECETTES!$H$22:$H$31))*RECETTES!$G$19) -> 0 | G8: =IF(SUMPRODUCT(('LISTE DE COURSE'!F8)-(STOCK!E8))>0,SUMPRODUCT(('LISTE DE COURSE'!F8)-(STOCK!E8)),0) -> 0
A9: Jaunes d'œufs | B9: =(SUMPRODUCT((RECETTES!$C$7:$C$17='LISTE DE COURSE'!A9)*(RECETTES!$B$7:$B$17))*RECETTES!$A$4)+(SUMPRODUCT((RECETTES!$F$7:$F$17='LISTE DE COURSE'!A9)*(RECETTES!$E$7:$E$17))*RECETTES!$D$4)+(SUMPRODUCT((RECETTES!$I$7:$I$17='LISTE DE COURSE'!A9)*(RECETTES!$H$7:$H$17))*RECETTES!$G$4)+(SUMPRODUCT((RECETTES!$K$7:$K$17='LISTE DE COURSE'!A9)*(RECETTES!$K$7:$K$17))*RECETTES!$J$4)+(SUMPRODUCT((RECETTES!$O$7:$O$17='LISTE DE COURSE'!A9)*(RECETTES!$N$7:$N$17))*RECETTES!$M$4)+(SUMPRODUCT((RECETTES!$C$22:$C$31='LISTE DE COURSE'!A9)*(RECETTES!$B$22:$B$31))*RECETTES!$A$19)+(SUMPRODUCT((RECETTES!$F$22:$F$31='LISTE DE COURSE'!A9)*(RECETTES!$E$22:$E$31))*RECETTES!$D$19)+(SUMPRODUCT((RECETTES!$I$22:$I$31='LISTE DE COURSE'!A9)*(RECETTES!$H$22:$H$31))*RECETTES!$G$19) -> 0 | C9: =IF(SUMPRODUCT(('LISTE DE COURSE'!B9)-(STOCK!B9))>0,SUMPRODUCT(('LISTE DE COURSE'!B9)-(STOCK!B9)),0) -> 0 | E9: Citron vert | F9: =(SUMPRODUCT((RECETTES!$C$7:$C$17='LISTE DE COURSE'!E9)*(RECETTES!$B$7:$B$17))*RECETTES!$A$4)+(SUMPRODUCT((RECETTES!$F$7:$F$17='LISTE DE COURSE'!E9)*(RECETTES!$E$7:$E$17))*RECETTES!$D$4)+(SUMPRODUCT((RECETTES!$I$7:$I$17='LISTE DE COURSE'!E9)*(RECETTES!$H$7:$H$17))*RECETTES!$G$4)+(SUMPRODUCT((RECETTES!$K$7:$K$17='LISTE DE COURSE'!E9)*(RECETTES!$K$7:$K$17))*RECETTES!$J$4)+(SUMPRODUCT((RECETTES!$O$7:$O$17='LISTE DE COURSE'!E9)*(RECETTES!$N$7:$N$17))*RECETTES!$M$4)+(SUMPRODUCT((RECETTES!$C$22:$C$31='LISTE DE COURSE'!E9)*(RECETTES!$B$22:$B$31))*RECETTES!$A$19)+(SUMPRODUCT((RECETTES!$F$22:$F$31='LISTE DE COURSE'!E9)*(RECETTES!$E$22:$E$31))*RECETTES!$D$19)+(SUMPRODUCT((RECETTES!$I$22:$I$31='LISTE DE COURSE'!E9)*(RECETTES!$H$22:$H$31))*RECETTES!$G$19) -> 0 | G9: =IF(SUMPRODUCT(('LISTE DE COURSE'!F9)-(STOCK!E9))>0,SUMPRODUCT(('LISTE DE COURSE'!F9)-(STOCK!E9)),0) -> 0
A10: Lait | B10: =(SUMPRODUCT((RECETTES!$C$7:$C$17='LISTE DE COURSE'!A10)*(RECETTES!$B$7:$B$17))*RECETTES!$A$4)+(SUMPRODUCT((RECETTES!$F$7:$F$17='LISTE DE COURSE'!A10)*(RECETTES!$E$7:$E$17))*RECETTES!$D$4)+(SUMPRODUCT((RECETTES!$I$7:$I$17='LISTE DE COURSE'!A10)*(RECETTES!$H$7:$H$17))*RECETTES!$G$4)+(SUMPRODUCT((RECETTES!$K$7:$K$17='LISTE DE COURSE'!A10)*(RECETTES!$K$7:$K$17))*RECETTES!$J$4)+(SUMPRODUCT((RECETTES!$O$7:$O$17='LISTE DE COURSE'!A10)*(RECETTES!$N$7:$N$17))*RECETTES!$M$4)+(SUMPRODUCT((RECETTES!$C$22:$C$31='LISTE DE COURSE'!A10)*(RECETTES!$B$22:$B$31))*RECETTES!$A$19)+(SUMPRODUCT((RECETTES!$F$22:$F$31='LISTE DE COURSE'!A10)*(RECETTES!$E$22:$E$31))*RECETTES!$D$19)+(SUMPRODUCT((RECETTES!$I$22:$I$31='LISTE DE COURSE'!A10)*(RECETTES!$H$22:$H$31))*RECETTES!$G$19) -> 0 | C10: =IF(SUMPRODUCT(('LISTE DE COURSE'!B10)-(STOCK!B10))>0,SUMPRODUCT(('LISTE DE COURSE'!B10)-(STOCK!B10)),0) -> 0 | E10: Fraise | F10: =(SUMPRODUCT((RECETTES!$C$7:$C$17='LISTE DE COURSE'!E10)*(RECETTES!$B$7:$B$17))*RECETTES!$A$4)+(SUMPRODUCT((RECETTES!$F$7:$F$17='LISTE DE COURSE'!E10)*(RECETTES!$E$7:$E$17))*RECETTES!$D$4)+(SUMPRODUCT((RECETTES!$I$7:$I$17='LISTE DE COURSE'!E10)*(RECETTES!$H$7:$H$17))*RECETTES!$G$4)+(SUMPRODUCT((RECETTES!$K$7:$K$17='LISTE DE COURSE'!E10)*(RECETTES!$K$7:$K$17))*RECETTES!$J$4)+(SUMPRODUCT((RECETTES!$O$7:$O$17='LISTE DE COURSE'!E10)*(RECETTES!$N$7:$N$17))*RECETTES!$M$4)+(SUMPRODUCT((RECETTES!$C$22:$C$31='LISTE DE COURSE'!E10)*(RECETTES!$B$22:$B$31))*RECETTES!$A$19)+(SUMPRODUCT((RECETTES!$F$22:$F$31='LISTE DE COURSE'!E10)*(RECETTES!$E$22:$E$31))*RECETTES!$D$19)+(SUMPRODUCT((RECETTES!$I$22:$I$31='LISTE DE COURSE'!E10)*(RECETTES!$H$22:$H$31))*RECETTES!$G$19) -> 0 | G10: =IF(SUMPRODUCT(('LISTE DE COURSE'!F10)-(STOCK!E10))>0,SUMPRODUCT(('LISTE DE COURSE'!F10)-(STOCK!E10)),0) -> 0
A11: Œufs | B11: =(SUMPRODUCT((RECETTES!$C$7:$C$17='LISTE DE COURSE'!A11)*(RECETTES!$B$7:$B$17))*RECETTES!$A$4)+(SUMPRODUCT((RECETTES!$F$7:$F$17='LISTE DE COURSE'!A11)*(RECETTES!$E$7:$E$17))*RECETTES!$D$4)+(SUMPRODUCT((RECETTES!$I$7:$I$17='LISTE DE COURSE'!A11)*(RECETTES!$H$7:$H$17))*RECETTES!$G$4)+(SUMPRODUCT((RECETTES!$K$7:$K$17='LISTE DE COURSE'!A11)*(RECETTES!$K$7:$K$17))*RECETTES!$J$4)+(SUMPRODUCT((RECETTES!$O$7:$O$17='LISTE DE COURSE'!A11)*(RECETTES!$N$7:$N$17))*RECETTES!$M$4)+(SUMPRODUCT((RECETTES!$C$22:$C$31='LISTE DE COURSE'!A11)*(RECETTES!$B$22:$B$31))*RECETTES!$A$19)+(SUMPRODUCT((RECETTES!$F$22:$F$31='LISTE DE COURSE'!A11)*(RECETTES!$E$22:$E$31))*RECETTES!$D$19)+(SUMPRODUCT((RECETTES!$I$22:$I$31='LISTE DE COURSE'!A11)*(RECETTES!$H$22:$H$31))*RECETTES!$G$19) -> 342 | C11: =IF(SUMPRODUCT(('LISTE DE COURSE'!B11)-(STOCK!B11))>0,SUMPRODUCT(('LISTE DE COURSE'!B11)-(STOCK!B11)),0) -> 337 | E11: Framboise | F11: =(SUMPRODUCT((RECETTES!$C$7:$C$17='LISTE DE COURSE'!E11)*(RECETTES!$B$7:$B$17))*RECETTES!$A$4)+(SUMPRODUCT((RECETTES!$F$7:$F$17='LISTE DE COURSE'!E11)*(RECETTES!$E$7:$E$17))*RECETTES!$D$4)+(SUMPRODUCT((RECETTES!$I$7:$I$17='LISTE DE COURSE'!E11)*(RECETTES!$H$7:$H$17))*RECETTES!$G$4)+(SUMPRODUCT((RECETTES!$K$7:$K$17='LISTE DE COURSE'!E11)*(RECETTES!$K$7:$K$17))*RECETTES!$J$4)+(SUMPRODUCT((RECETTES!$O$7:$O$17='LISTE DE COURSE'!E11)*(RECETTES!$N$7:$N$17))*RECETTES!$M$4)+(SUMPRODUCT((RECETTES!$C$22:$C$31='LISTE DE COURSE'!E11)*(RECETTES!$B$22:$B$31))*RECETTES!$A$19)+(SUMPRODUCT((RECETTES!$F$22:$F$31='LISTE DE COURSE'!E11)*(RECETTES!$E$22:$E$31))*RECETTES!$D$19)+(SUMPRODUCT((RECETTES!$I$22:$I$31='LISTE DE COURSE'!E11)*(RECETTES!$H$22:$H$31))*RECETTES!$G$19) -> 0 | G11: =IF(SUMPRODUCT(('LISTE DE COURSE'!F11)-(STOCK!E11))>0,SUMPRODUCT(('LISTE DE COURSE'!F11)-(STOCK!E11)),0) -> 0
A12: Mascarpone | B12: =(SUMPRODUCT((RECETTES!$C$7:$C$17='LISTE DE COURSE'!A12)*(RECETTES!$B$7:$B$17))*RECETTES!$A$4)+(SUMPRODUCT((RECETTES!$F$7:$F$17='LISTE DE COURSE'!A12)*(RECETTES!$E$7:$E$17))*RECETTES!$D$4)+(SUMPRODUCT((RECETTES!$I$7:$I$17='LISTE DE COURSE'!A12)*(RECETTES!$H$7:$H$17))*RECETTES!$G$4)+(SUMPRODUCT((RECETTES!$K$7:$K$17='LISTE DE COURSE'!A12)*(RECETTES!$K$7:$K$17))*RECETTES!$J$4)+(SUMPRODUCT((RECETTES!$O$7:$O$17='LISTE DE COURSE'!A12)*(RECETTES!$N$7:$N$17))*RECETTES!$M$4)+(SUMPRODUCT((RECETTES!$C$22:$C$31='LISTE DE COURSE'!A12)*(RECETTES!$B$22:$B$31))*RECETTES!$A$19)+(SUMPRODUCT((RECETTES!$F$22:$F$31='LISTE DE COURSE'!A12)*(RECETTES!$E$22:$E$31))*RECETTES!$D$19)+(SUMPRODUCT((RECETTES!$I$22:$I$31='LISTE DE COURSE'!A12)*(RECETTES!$H$22:$H$31))*RECETTES!$G$19) -> 0 | C12: =IF(SUMPRODUCT(('LISTE DE COURSE'!B12)-(STOCK!B12))>0,SUMPRODUCT(('LISTE DE COURSE'!B12)-(STOCK!B12)),0) -> 0 | E12: Griottes | F12: =(SUMPRODUCT((RECETTES!$C$7:$C$17='LISTE DE COURSE'!E12)*(RECETTES!$B$7:$B$17))*RECETTES!$A$4)+(SUMPRODUCT((RECETTES!$F$7:$F$17='LISTE DE COURSE'!E12)*(RECETTES!$E$7:$E$17))*RECETTES!$D$4)+(SUMPRODUCT((RECETTES!$I$7:$I$17='LISTE DE COURSE'!E12)*(RECETTES!$H$7:$H$17))*RECETTES!$G$4)+(SUMPRODUCT((RECETTES!$K$7:$K$17='LISTE DE COURSE'!E12)*(RECETTES!$K$7:$K$17))*RECETTES!$J$4)+(SUMPRODUCT((RECETTES!$O$7:$O$17='LISTE DE COURSE'!E12)*(RECETTES!$N$7:$N$17))*RECETTES!$M$4)+(SUMPRODUCT((RECETTES!$C$22:$C$31='LISTE DE COURSE'!E12)*(RECETTES!$B$22:$B$31))*RECETTES!$A$19)+(SUMPRODUCT((RECETTES!$F$22:$F$31='LISTE DE COURSE'!E12)*(RECETTES!$E$22:$E$31))*RECETTES!$D$19)+(SUMPRODUCT((RECETTES!$I$22:$I$31='LISTE DE COURSE'!E12)*(RECETTES!$H$22:$H$31))*RECETTES!$G$19) -> 0 | G12: =IF(SUMPRODUCT(('LISTE DE COURSE'!F12)-(STOCK!E12))>0,SUMPRODUCT(('LISTE DE COURSE'!F12)-(STOCK!E12)),0) -> 0
A13: Philadelphia | B13: =(SUMPRODUCT((RECETTES!$C$7:$C$17='LISTE DE COURSE'!A13)*(RECETTES!$B$7:$B$17))*RECETTES!$A$4)+(SUMPRODUCT((RECETTES!$F$7:$F$17='LISTE DE COURSE'!A13)*(RECETTES!$E$7:$E$17))*RECETTES!$D$4)+(SUMPRODUCT((RECETTES!$I$7:$I$17='LISTE DE COURSE'!A13)*(RECETTES!$H$7:$H$17))*RECETTES!$G$4)+(SUMPRODUCT((RECETTES!$K$7:$K$17='LISTE DE COURSE'!A13)*(RECETTES!$K$7:$K$17))*RECETTES!$J$4)+(SUMPRODUCT((RECETTES!$O$7:$O$17='LISTE DE COURSE'!A13)*(RECETTES!$N$7:$N$17))*RECETTES!$M$4)+(SUMPRODUCT((RECETTES!$C$22:$C$31='LISTE DE COURSE'!A13)*(RECETTES!$B$22:$B$31))*RECETTES!$A$19)+(SUMPRODUCT((RECETTES!$F$22:$F$31='LISTE DE COURSE'!A13)*(RECETTES!$E$22:$E$31))*RECETTES!$D$19)+(SUMPRODUCT((RECETTES!$I$22:$I$31='LISTE DE COURSE'!A13)*(RECETTES!$H$22:$H$31))*RECETTES!$G$19) -> 0 | C13: =IF(SUMPRODUCT(('LISTE DE COURSE'!B13)-(STOCK!B13))>0,SUMPRODUCT(('LISTE DE COURSE'!B13)-(STOCK!B13)),0) -> 0 | E13: Groseilles | F13: =(SUMPRODUCT((RECETTES!$C$7:$C$17='LISTE DE COURSE'!E13)*(RECETTES!$B$7:$B$17))*RECETTES!$A$4)+(SUMPRODUCT((RECETTES!$F$7:$F$17='LISTE DE COURSE'!E13)*(RECETTES!$E$7:$E$17))*RECETTES!$D$4)+(SUMPRODUCT((RECETTES!$I$7:$I$17='LISTE DE COURSE'!E13)*(RECETTES!$H$7:$H$17))*RECETTES!$G$4)+(SUMPRODUCT((RECETTES!$K$7:$K$17='LISTE DE COURSE'!E13)*(RECETTES!$K$7:$K$17))*RECETTES!$J$4)+(SUMPRODUCT((RECETTES!$O$7:$O$17='LISTE DE COURSE'!E13)*(RECETTES!$N$7:$N$17))*RECETTES!$M$4)+(SUMPRODUCT((RECETTES!$C$22:$C$31='LISTE DE COURSE'!E13)*(RECETTES!$B$22:$B$31))*RECETTES!$A$19)+(SUMPRODUCT((RECETTES!$F$22:$F$31='LISTE DE COURSE'!E13)*(RECETTES!$E$22:$E$31))*RECETTES!$D$19)+(SUMPRODUCT((RECETTES!$I$22:$I$31='LISTE DE COURSE'!E13)*(RECETTES!$H$22:$H$31))*RECETTES!$G$19) -> 0 | G13: =IF(SUMPRODUCT(('LISTE DE COURSE'!F13)-(STOCK!E13))>0,SUMPRODUCT(('LISTE DE COURSE'!F13)-(STOCK!E13)),0) -> 0
E14: Mandarine | F14: =(SUMPRODUCT((RECETTES!$C$7:$C$17='LISTE DE COURSE'!E14)*(RECETTES!$B$7:$B$17))*RECETTES!$A$4)+(SUMPRODUCT((RECETTES!$F$7:$F$17='LISTE DE COURSE'!E14)*(RECETTES!$E$7:$E$17))*RECETTES!$D$4)+(SUMPRODUCT((RECETTES!$I$7:$I$17='LISTE DE COURSE'!E14)*(RECETTES!$H$7:$H$17))*RECETTES!$G$4)+(SUMPRODUCT((RECETTES!$K$7:$K$17='LISTE DE COURSE'!E14)*(RECETTES!$K$7:$K$17))*RECETTES!$J$4)+(SUMPRODUCT((RECETTES!$O$7:$O$17='LISTE DE COURSE'!E14)*(RECETTES!$N$7:$N$17))*RECETTES!$M$4)+(SUMPRODUCT((RECETTES!$C$22:$C$31='LISTE DE COURSE'!E14)*(RECETTES!$B$22:$B$31))*RECETTES!$A$19)+(SUMPRODUCT((RECETTES!$F$22:$F$31='LISTE DE COURSE'!E14)*(RECETTES!$E$22:$E$31))*RECETTES!$D$19)+(SUMPRODUCT((RECETTES!$I$22:$I$31='LISTE DE COURSE'!E14)*(RECETTES!$H$22:$H$31))*RECETTES!$G$19) -> 0 | G14: =IF(SUMPRODUCT(('LISTE DE COURSE'!F14)-(STOCK!E14))>0,SUMPRODUCT(('LISTE DE COURSE'!F14)-(STOCK!E14)),0) -> 0
E15: Orange | F15: =(SUMPRODUCT((RECETTES!$C$7:$C$17='LISTE DE COURSE'!E15)*(RECETTES!$B$7:$B$17))*RECETTES!$A$4)+(SUMPRODUCT((RECETTES!$F$7:$F$17='LISTE DE COURSE'!E15)*(RECETTES!$E$7:$E$17))*RECETTES!$D$4)+(SUMPRODUCT((RECETTES!$I$7:$I$17='LISTE DE COURSE'!E15)*(RECETTES!$H$7:$H$17))*RECETTES!$G$4)+(SUMPRODUCT((RECETTES!$K$7:$K$17='LISTE DE COURSE'!E15)*(RECETTES!$K$7:$K$17))*RECETTES!$J$4)+(SUMPRODUCT((RECETTES!$O$7:$O$17='LISTE DE COURSE'!E15)*(RECETTES!$N$7:$N$17))*RECETTES!$M$4)+(SUMPRODUCT((RECETTES!$C$22:$C$31='LISTE DE COURSE'!E15)*(RECETTES!$B$22:$B$31))*RECETTES!$A$19)+(SUMPRODUCT((RECETTES!$F$22:$F$31='LISTE DE COURSE'!E15)*(RECETTES!$E$22:$E$31))*RECETTES!$D$19)+(SUMPRODUCT((RECETTES!$I$22:$I$31='LISTE DE COURSE'!E15)*(RECETTES!$H$22:$H$31))*RECETTES!$G$19) -> 0 | G15: =IF(SUMPRODUCT(('LISTE DE COURSE'!F15)-(STOCK!E15))>0,SUMPRODUCT(('LISTE DE COURSE'!F15)-(STOCK!E15)),0) -> 0
A16: FARINES - POUDRES - LEVURES | B16: Nécessaire | C16: Achat | E16: Pamplemousse | F16: =(SUMPRODUCT((RECETTES!$C$7:$C$17='LISTE DE COURSE'!E16)*(RECETTES!$B$7:$B$17))*RECETTES!$A$4)+(SUMPRODUCT((RECETTES!$F$7:$F$17='LISTE DE COURSE'!E16)*(RECETTES!$E$7:$E$17))*RECETTES!$D$4)+(SUMPRODUCT((RECETTES!$I$7:$I$17='LISTE DE COURSE'!E16)*(RECETTES!$H$7:$H$17))*RECETTES!$G$4)+(SUMPRODUCT((RECETTES!$K$7:$K$17='LISTE DE COURSE'!E16)*(RECETTES!$K$7:$K$17))*RECETTES!$J$4)+(SUMPRODUCT((RECETTES!$O$7:$O$17='LISTE DE COURSE'!E16)*(RECETTES!$N$7:$N$17))*RECETTES!$M$4)+(SUMPRODUCT((RECETTES!$C$22:$C$31='LISTE DE COURSE'!E16)*(RECETTES!$B$22:$B$31))*RECETTES!$A$19)+(SUMPRODUCT((RECETTES!$F$22:$F$31='LISTE DE COURSE'!E16)*(RECETTES!$E$22:$E$31))*RECETTES!$D$19)+(SUMPRODUCT((RECETTES!$I$22:$I$31='LISTE DE COURSE'!E16)*(RECETTES!$H$22:$H$31))*RECETTES!$G$19) -> 0 | G16: =IF(SUMPRODUCT(('LISTE DE COURSE'!F16)-(STOCK!E16))>0,SUMPRODUCT(('LISTE DE COURSE'!F16)-(STOCK!E16)),0) -> 0
E17: Poire | F17: =(SUMPRODUCT((RECETTES!$C$7:$C$17='LISTE DE COURSE'!E17)*(RECETTES!$B$7:$B$17))*RECETTES!$A$4)+(SUMPRODUCT((RECETTES!$F$7:$F$17='LISTE DE COURSE'!E17)*(RECETTES!$E$7:$E$17))*RECETTES!$D$4)+(SUMPRODUCT((RECETTES!$I$7:$I$17='LISTE DE COURSE'!E17)*(RECETTES!$H$7:$H$17))*RECETTES!$G$4)+(SUMPRODUCT((RECETTES!$K$7:$K$17='LISTE DE COURSE'!E17)*(RECETTES!$K$7:$K$17))*RECETTES!$J$4)+(SUMPRODUCT((RECETTES!$O$7:$O$17='LISTE DE COURSE'!E17)*(RECETTES!$N$7:$N$17))*RECETTES!$M$4)+(SUMPRODUCT((RECETTES!$C$22:$C$31='LISTE DE COURSE'!E17)*(RECETTES!$B$22:$B$31))*RECETTES!$A$19)+(SUMPRODUCT((RECETTES!$F$22:$F$31='LISTE DE COURSE'!E17)*(RECETTES!$E$22:$E$31))*RECETTES!$D$19)+(SUMPRODUCT((RECETTES!$I$22:$I$31='LISTE DE COURSE'!E17)*(RECETTES!$H$22:$H$31))*RECETTES!$G$19) -> 0 | G17: =IF(SUMPRODUCT(('LISTE DE COURSE'!F17)-(STOCK!E17))>0,SUMPRODUCT(('LISTE DE COURSE'!F17)-(STOCK!E17)),0) -> 0
A18: Amidon de maïs | B18: =(SUMPRODUCT((RECETTES!$C$7:$C$17='LISTE DE COURSE'!A18)*(RECETTES!$B$7:$B$17))*RECETTES!$A$4)+(SUMPRODUCT((RECETTES!$F$7:$F$17='LISTE DE COURSE'!A18)*(RECETTES!$E$7:$E$17))*RECETTES!$D$4)+(SUMPRODUCT((RECETTES!$I$7:$I$17='LISTE DE COURSE'!A18)*(RECETTES!$H$7:$H$17))*RECETTES!$G$4)+(SUMPRODUCT((RECETTES!$K$7:$K$17='LISTE DE COURSE'!A18)*(RECETTES!$K$7:$K$17))*RECETTES!$J$4)+(SUMPRODUCT((RECETTES!$O$7:$O$17='LISTE DE COURSE'!A18)*(RECETTES!$N$7:$N$17))*RECETTES!$M$4)+(SUMPRODUCT((RECETTES!$C$22:$C$31='LISTE DE COURSE'!A18)*(RECETTES!$B$22:$B$31))*RECETTES!$A$19)+(SUMPRODUCT((RECETTES!$F$22:$F$31='LISTE DE COURSE'!A18)*(RECETTES!$E$22:$E$31))*RECETTES!$D$19)+(SUMPRODUCT((RECETTES!$I$22:$I$31='LISTE DE COURSE'!A18)*(RECETTES!$H$22:$H$31))*RECETTES!$G$19) -> 0 | C18: =IF(SUMPRODUCT(('LISTE DE COURSE'!B18)-(STOCK!B18))>0,SUMPRODUCT(('LISTE DE COURSE'!B18)-(STOCK!B18)),0) -> 0 | E18: Pomme Royal Gala | F18: =(SUMPRODUCT((RECETTES!$C$7:$C$17='LISTE DE COURSE'!E18)*(RECETTES!$B$7:$B$17))*RECETTES!$A$4)+(SUMPRODUCT((RECETTES!$F$7:$F$17='LISTE DE COURSE'!E18)*(RECETTES!$E$7:$E$17))*RECETTES!$D$4)+(SUMPRODUCT((RECETTES!$I$7:$I$17='LISTE DE COURSE'!E18)*(RECETTES!$H$7:$H$17))*RECETTES!$G$4)+(SUMPRODUCT((RECETTES!$K$7:$K$17='LISTE DE COURSE'!E18)*(RECETTES!$K$7:$K$17))*RECETTES!$J$4)+(SUMPRODUCT((RECETTES!$O$7:$O$17='LISTE DE COURSE'!E18)*(RECETTES!$N$7:$N$17))*RECETTES!$M$4)+(SUMPRODUCT((RECETTES!$C$22:$C$31='LISTE DE COURSE'!E18)*(RECETTES!$B$22:$B$31))*RECETTES!$A$19)+(SUMPRODUCT((RECETTES!$F$22:$F$31='LISTE DE COURSE'!E18)*(RECETTES!$E$22:$E$31))*RECETTES!$D$19)+(SUMPRODUCT((RECETTES!$I$22:$I$31='LISTE DE COURSE'!E18)*(RECETTES!$H$22:$H$31))*RECETTES!$G$19) -> 0 | G18: =IF(SUMPRODUCT(('LISTE DE COURSE'!F18)-(STOCK!E18))>0,SUMPRODUCT(('LISTE DE COURSE'!F18)-(STOCK!E18)),0) -> 0
A19: Farine T65 | B19: =(SUMPRODUCT((RECETTES!$C$7:$C$17='LISTE DE COURSE'!A19)*(RECETTES!$B$7:$B$17))*RECETTES!$A$4)+(SUMPRODUCT((RECETTES!$F$7:$F$17='LISTE DE COURSE'!A19)*(RECETTES!$E$7:$E$17))*RECETTES!$D$4)+(SUMPRODUCT((RECETTES!$I$7:$I$17='LISTE DE COURSE'!A19)*(RECETTES!$H$7:$H$17))*RECETTES!$G$4)+(SUMPRODUCT((RECETTES!$K$7:$K$17='LISTE DE COURSE'!A19)*(RECETTES!$K$7:$K$17))*RECETTES!$J$4)+(SUMPRODUCT((RECETTES!$O$7:$O$17='LISTE DE COURSE'!A19)*(RECETTES!$N$7:$N$17))*RECETTES!$M$4)+(SUMPRODUCT((RECETTES!$C$22:$C$31='LISTE DE COURSE'!A19)*(RECETTES!$B$22:$B$31))*RECETTES!$A$19)+(SUMPRODUCT((RECETTES!$F$22:$F$31='LISTE DE COURSE'!A19)*(RECETTES!$E$22:$E$31))*RECETTES!$D$19)+(SUMPRODUCT((RECETTES!$I$22:$I$31='LISTE DE COURSE'!A19)*(RECETTES!$H$22:$H$31))*RECETTES!$G$19) -> 0 | C19: =IF(SUMPRODUCT(('LISTE DE COURSE'!B19)-(STOCK!B19))>0,SUMPRODUCT(('LISTE DE COURSE'!B19)-(STOCK!B19)),0) -> 0 | E19: Pomme verte | F19: =(SUMPRODUCT((RECETTES!$C$7:$C$17='LISTE DE COURSE'!E19)*(RECETTES!$B$7:$B$17))*RECETTES!$A$4)+(SUMPRODUCT((RECETTES!$F$7:$F$17='LISTE DE COURSE'!E19)*(RECETTES!$E$7:$E$17))*RECETTES!$D$4)+(SUMPRODUCT((RECETTES!$I$7:$I$17='LISTE DE COURSE'!E19)*(RECETTES!$H$7:$H$17))*RECETTES!$G$4)+(SUMPRODUCT((RECETTES!$K$7:$K$17='LISTE DE COURSE'!E19)*(RECETTES!$K$7:$K$17))*RECETTES!$J$4)+(SUMPRODUCT((RECETTES!$O$7:$O$17='LISTE DE COURSE'!E19)*(RECETTES!$N$7:$N$17))*RECETTES!$M$4)+(SUMPRODUCT((RECETTES!$C$22:$C$31='LISTE DE COURSE'!E19)*(RECETTES!$B$22:$B$31))*RECETTES!$A$19)+(SUMPRODUCT((RECETTES!$F$22:$F$31='LISTE DE COURSE'!E19)*(RECETTES!$E$22:$E$31))*RECETTES!$D$19)+(SUMPRODUCT((RECETTES!$I$22:$I$31='LISTE DE COURSE'!E19)*(RECETTES!$H$22:$H$31))*RECETTES!$G$19) -> 0 | G19: =IF(SUMPRODUCT(('LISTE DE COURSE'!F19)-(STOCK!E19))>0,SUMPRODUCT(('LISTE DE COURSE'!F19)-(STOCK!E19)),0) -> 0
A20: Farine T55 | B20: =(SUMPRODUCT((RECETTES!$C$7:$C$17='LISTE DE COURSE'!A20)*(RECETTES!$B$7:$B$17))*RECETTES!$A$4)+(SUMPRODUCT((RECETTES!$F$7:$F$17='LISTE DE COURSE'!A20)*(RECETTES!$E$7:$E$17))*RECETTES!$D$4)+(SUMPRODUCT((RECETTES!$I$7:$I$17='LISTE DE COURSE'!A20)*(RECETTES!$H$7:$H$17))*RECETTES!$G$4)+(SUMPRODUCT((RECETTES!$K$7:$K$17='LISTE DE COURSE'!A20)*(RECETTES!$K$7:$K$17))*RECETTES!$J$4)+(SUMPRODUCT((RECETTES!$O$7:$O$17='LISTE DE COURSE'!A20)*(RECETTES!$N$7:$N$17))*RECETTES!$M$4)+(SUMPRODUCT((RECETTES!$C$22:$C$31='LISTE DE COURSE'!A20)*(RECETTES!$B$22:$B$31))*RECETTES!$A$19)+(SUMPRODUCT((RECETTES!$F$22:$F$31='LISTE DE COURSE'!A20)*(RECETTES!$E$22:$E$31))*RECETTES!$D$19)+(SUMPRODUCT((RECETTES!$I$22:$I$31='LISTE DE COURSE'!A20)*(RECETTES!$H$22:$H$31))*RECETTES!$G$19) -> 160 | C20: =IF(SUMPRODUCT(('LISTE DE COURSE'!B20)-(STOCK!B20))>0,SUMPRODUCT(('LISTE DE COURSE'!B20)-(STOCK!B20)),0) -> 160 | E20: Zeste de citron jaune | F20: =(SUMPRODUCT((RECETTES!$C$7:$C$17='LISTE DE COURSE'!E20)*(RECETTES!$B$7:$B$17))*RECETTES!$A$4)+(SUMPRODUCT((RECETTES!$F$7:$F$17='LISTE DE COURSE'!E20)*(RECETTES!$E$7:$E$17))*RECETTES!$D$4)+(SUMPRODUCT((RECETTES!$I$7:$I$17='LISTE DE COURSE'!E20)*(RECETTES!$H$7:$H$17))*RECETTES!$G$4)+(SUMPRODUCT((RECETTES!$K$7:$K$17='LISTE DE COURSE'!E20)*(RECETTES!$K$7:$K$17))*RECETTES!$J$4)+(SUMPRODUCT((RECETTES!$O$7:$O$17='LISTE DE COURSE'!E20)*(RECETTES!$N$7:$N$17))*RECETTES!$M$4)+(SUMPRODUCT((RECETTES!$C$22:$C$31='LISTE DE COURSE'!E20)*(RECETTES!$B$22:$B$31))*RECETTES!$A$19)+(SUMPRODUCT((RECETTES!$F$22:$F$31='LISTE DE COURSE'!E20)*(RECETTES!$E$22:$E$31))*RECETTES!$D$19)+(SUMPRODUCT((RECETTES!$I$22:$I$31='LISTE DE COURSE'!E20)*(RECETTES!$H$22:$H$31))*RECETTES!$G$19) -> 0 | G20: =IF(SUMPRODUCT(('LISTE DE COURSE'!F20)-(STOCK!E20))>0,SUMPRODUCT(('LISTE DE COURSE'!F20)-(STOCK!E20)),0) -> 0
A21: Farine T45 | B21: =(SUMPRODUCT((RECETTES!$C$7:$C$17='LISTE DE COURSE'!A21)*(RECETTES!$B$7:$B$17))*RECETTES!$A$4)+(SUMPRODUCT((RECETTES!$F$7:$F$17='LISTE DE COURSE'!A21)*(RECETTES!$E$7:$E$17))*RECETTES!$D$4)+(SUMPRODUCT((RECETTES!$I$7:$I$17='LISTE DE COURSE'!A21)*(RECETTES!$H$7:$H$17))*RECETTES!$G$4)+(SUMPRODUCT((RECETTES!$K$7:$K$17='LISTE DE COURSE'!A21)*(RECETTES!$K$7:$K$17))*RECETTES!$J$4)+(SUMPRODUCT((RECETTES!$O$7:$O$17='LISTE DE COURSE'!A21)*(RECETTES!$N$7:$N$17))*RECETTES!$M$4)+(SUMPRODUCT((RECETTES!$C$22:$C$31='LISTE DE COURSE'!A21)*(RECETTES!$B$22:$B$31))*RECETTES!$A$19)+(SUMPRODUCT((RECETTES!$F$22:$F$31='LISTE DE COURSE'!A21)*(RECETTES!$E$22:$E$31))*RECETTES!$D$19)+(SUMPRODUCT((RECETTES!$I$22:$I$31='LISTE DE COURSE'!A21)*(RECETTES!$H$22:$H$31))*RECETTES!$G$19) -> 0 | C21: =IF(SUMPRODUCT(('LISTE DE COURSE'!B21)-(STOCK!B21))>0,SUMPRODUCT(('LISTE DE COURSE'!B21)-(STOCK!B21)),0) -> 0 | E21: Zeste de citron vert | F21: =(SUMPRODUCT((RECETTES!$C$7:$C$17='LISTE DE COURSE'!E21)*(RECETTES!$B$7:$B$17))*RECETTES!$A$4)+(SUMPRODUCT((RECETTES!$F$7:$F$17='LISTE DE COURSE'!E21)*(RECETTES!$E$7:$E$17))*RECETTES!$D$4)+(SUMPRODUCT((RECETTES!$I$7:$I$17='LISTE DE COURSE'!E21)*(RECETTES!$H$7:$H$17))*RECETTES!$G$4)+(SUMPRODUCT((RECETTES!$K$7:$K$17='LISTE DE COURSE'!E21)*(RECETTES!$K$7:$K$17))*RECETTES!$J$4)+(SUMPRODUCT((RECETTES!$O$7:$O$17='LISTE DE COURSE'!E21)*(RECETTES!$N$7:$N$17))*RECETTES!$M$4)+(SUMPRODUCT((RECETTES!$C$22:$C$31='LISTE DE COURSE'!E21)*(RECETTES!$B$22:$B$31))*RECETTES!$A$19)+(SUMPRODUCT((RECETTES!$F$22:$F$31='LISTE DE COURSE'!E21)*(RECETTES!$E$22:$E$31))*RECETTES!$D$19)+(SUMPRODUCT((RECETTES!$I$22:$I$31='LISTE DE COURSE'!E21)*(RECETTES!$H$22:$H$31))*RECETTES!$G$19) -> 0 | G21: =IF(SUMPRODUCT(('LISTE DE COURSE'!F21)-(STOCK!E21))>0,SUMPRODUCT(('LISTE DE COURSE'!F21)-(STOCK!E21)),0) -> 0
A22: Farine T80 | B22: =(SUMPRODUCT((RECETTES!$C$7:$C$17='LISTE DE COURSE'!A22)*(RECETTES!$B$7:$B$17))*RECETTES!$A$4)+(SUMPRODUCT((RECETTES!$F$7:$F$17='LISTE DE COURSE'!A22)*(RECETTES!$E$7:$E$17))*RECETTES!$D$4)+(SUMPRODUCT((RECETTES!$I$7:$I$17='LISTE DE COURSE'!A22)*(RECETTES!$H$7:$H$17))*RECETTES!$G$4)+(SUMPRODUCT((RECETTES!$K$7:$K$17='LISTE DE COURSE'!A22)*(RECETTES!$K$7:$K$17))*RECETTES!$J$4)+(SUMPRODUCT((RECETTES!$O$7:$O$17='LISTE DE COURSE'!A22)*(RECETTES!$N$7:$N$17))*RECETTES!$M$4)+(SUMPRODUCT((RECETTES!$C$22:$C$31='LISTE DE COURSE'!A22)*(RECETTES!$B$22:$B$31))*RECETTES!$A$19)+(SUMPRODUCT((RECETTES!$F$22:$F$31='LISTE DE COURSE'!A22)*(RECETTES!$E$22:$E$31))*RECETTES!$D$19)+(SUMPRODUCT((RECETTES!$I$22:$I$31='LISTE DE COURSE'!A22)*(RECETTES!$H$22:$H$31))*RECETTES!$G$19) -> 0 | C22: =IF(SUMPRODUCT(('LISTE DE COURSE'!B22)-(STOCK!B22))>0,SUMPRODUCT(('LISTE DE COURSE'!B22)-(STOCK!B22)),0) -> 0 | E22: Zeste de mandarine | F22: =(SUMPRODUCT((RECETTES!$C$7:$C$17='LISTE DE COURSE'!E22)*(RECETTES!$B$7:$B$17))*RECETTES!$A$4)+(SUMPRODUCT((RECETTES!$F$7:$F$17='LISTE DE COURSE'!E22)*(RECETTES!$E$7:$E$17))*RECETTES!$D$4)+(SUMPRODUCT((RECETTES!$I$7:$I$17='LISTE DE COURSE'!E22)*(RECETTES!$H$7:$H$17))*RECETTES!$G$4)+(SUMPRODUCT((RECETTES!$K$7:$K$17='LISTE DE COURSE'!E22)*(RECETTES!$K$7:$K$17))*RECETTES!$J$4)+(SUMPRODUCT((RECETTES!$O$7:$O$17='LISTE DE COURSE'!E22)*(RECETTES!$N$7:$N$17))*RECETTES!$M$4)+(SUMPRODUCT((RECETTES!$C$22:$C$31='LISTE DE COURSE'!E22)*(RECETTES!$B$22:$B$31))*RECETTES!$A$19)+(SUMPRODUCT((RECETTES!$F$22:$F$31='LISTE DE COURSE'!E22)*(RECETTES!$E$22:$E$31))*RECETTES!$D$19)+(SUMPRODUCT((RECETTES!$I$22:$I$31='LISTE DE COURSE'!E22)*(RECETTES!$H$22:$H$31))*RECETTES!$G$19) -> 0 | G22: =IF(SUMPRODUCT(('LISTE DE COURSE'!F22)-(STOCK!E22))>0,SUMPRODUCT(('LISTE DE COURSE'!F22)-(STOCK!E22)),0) -> 0
A23: Farine de seigle | B23: =(SUMPRODUCT((RECETTES!$C$7:$C$17='LISTE DE COURSE'!A23)*(RECETTES!$B$7:$B$17))*RECETTES!$A$4)+(SUMPRODUCT((RECETTES!$F$7:$F$17='LISTE DE COURSE'!A23)*(RECETTES!$E$7:$E$17))*RECETTES!$D$4)+(SUMPRODUCT((RECETTES!$I$7:$I$17='LISTE DE COURSE'!A23)*(RECETTES!$H$7:$H$17))*RECETTES!$G$4)+(SUMPRODUCT((RECETTES!$K$7:$K$17='LISTE DE COURSE'!A23)*(RECETTES!$K$7:$K$17))*RECETTES!$J$4)+(SUMPRODUCT((RECETTES!$O$7:$O$17='LISTE DE COURSE'!A23)*(RECETTES!$N$7:$N$17))*RECETTES!$M$4)+(SUMPRODUCT((RECETTES!$C$22:$C$31='LISTE DE COURSE'!A23)*(RECETTES!$B$22:$B$31))*RECETTES!$A$19)+(SUMPRODUCT((RECETTES!$F$22:$F$31='LISTE DE COURSE'!A23)*(RECETTES!$E$22:$E$31))*RECETTES!$D$19)+(SUMPRODUCT((RECETTES!$I$22:$I$31='LISTE DE COURSE'!A23)*(RECETTES!$H$22:$H$31))*RECETTES!$G$19) -> 0 | C23: =IF(SUMPRODUCT(('LISTE DE COURSE'!B23)-(STOCK!B23))>0,SUMPRODUCT(('LISTE DE COURSE'!B23)-(STOCK!B23)),0) -> 0 | E23: Zeste de pamplemousse | F23: =(SUMPRODUCT((RECETTES!$C$7:$C$17='LISTE DE COURSE'!E23)*(RECETTES!$B$7:$B$17))*RECETTES!$A$4)+(SUMPRODUCT((RECETTES!$F$7:$F$17='LISTE DE COURSE'!E23)*(RECETTES!$E$7:$E$17))*RECETTES!$D$4)+(SUMPRODUCT((RECETTES!$I$7:$I$17='LISTE DE COURSE'!E23)*(RECETTES!$H$7:$H$17))*RECETTES!$G$4)+(SUMPRODUCT((RECETTES!$K$7:$K$17='LISTE DE COURSE'!E23)*(RECETTES!$K$7:$K$17))*RECETTES!$J$4)+(SUMPRODUCT((RECETTES!$O$7:$O$17='LISTE DE COURSE'!E23)*(RECETTES!$N$7:$N$17))*RECETTES!$M$4)+(SUMPRODUCT((RECETTES!$C$22:$C$31='LISTE DE COURSE'!E23)*(RECETTES!$B$22:$B$31))*RECETTES!$A$19)+(SUMPRODUCT((RECETTES!$F$22:$F$31='LISTE DE COURSE'!E23)*(RECETTES!$E$22:$E$31))*RECETTES!$D$19)+(SUMPRODUCT((RECETTES!$I$22:$I$31='LISTE DE COURSE'!E23)*(RECETTES!$H$22:$H$31))*RECETTES!$G$19) -> 0 | G23: =IF(SUMPRODUCT(('LISTE DE COURSE'!F23)-(STOCK!E23))>0,SUMPRODUCT(('LISTE DE COURSE'!F23)-(STOCK!E23)),0) -> 0
A24: Fécule de pomme de terre | B24: =(SUMPRODUCT((RECETTES!$C$7:$C$17='LISTE DE COURSE'!A24)*(RECETTES!$B$7:$B$17))*RECETTES!$A$4)+(SUMPRODUCT((RECETTES!$F$7:$F$17='LISTE DE COURSE'!A24)*(RECETTES!$E$7:$E$17))*RECETTES!$D$4)+(SUMPRODUCT((RECETTES!$I$7:$I$17='LISTE DE COURSE'!A24)*(RECETTES!$H$7:$H$17))*RECETTES!$G$4)+(SUMPRODUCT((RECETTES!$K$7:$K$17='LISTE DE COURSE'!A24)*(RECETTES!$K$7:$K$17))*RECETTES!$J$4)+(SUMPRODUCT((RECETTES!$O$7:$O$17='LISTE DE COURSE'!A24)*(RECETTES!$N$7:$N$17))*RECETTES!$M$4)+(SUMPRODUCT((RECETTES!$C$22:$C$31='LISTE DE COURSE'!A24)*(RECETTES!$B$22:$B$31))*RECETTES!$A$19)+(SUMPRODUCT((RECETTES!$F$22:$F$31='LISTE DE COURSE'!A24)*(RECETTES!$E$22:$E$31))*RECETTES!$D$19)+(SUMPRODUCT((RECETTES!$I$22:$I$31='LISTE DE COURSE'!A24)*(RECETTES!$H$22:$H$31))*RECETTES!$G$19) -> 0 | C24: =IF(SUMPRODUCT(('LISTE DE COURSE'!B24)-(STOCK!B24))>0,SUMPRODUCT(('LISTE DE COURSE'!B24)-(STOCK!B24)),0) -> 0
A25: Levure chimique | B25: =(SUMPRODUCT((RECETTES!$C$7:$C$17='LISTE DE COURSE'!A25)*(RECETTES!$B$7:$B$17))*RECETTES!$A$4)+(SUMPRODUCT((RECETTES!$F$7:$F$17='LISTE DE COURSE'!A25)*(RECETTES!$E$7:$E$17))*RECETTES!$D$4)+(SUMPRODUCT((RECETTES!$I$7:$I$17='LISTE DE COURSE'!A25)*(RECETTES!$H$7:$H$17))*RECETTES!$G$4)+(SUMPRODUCT((RECETTES!$K$7:$K$17='LISTE DE COURSE'!A25)*(RECETTES!$K$7:$K$17))*RECETTES!$J$4)+(SUMPRODUCT((RECETTES!$O$7:$O$17='LISTE DE COURSE'!A25)*(RECETTES!$N$7:$N$17))*RECETTES!$M$4)+(SUMPRODUCT((RECETTES!$C$22:$C$31='LISTE DE COURSE'!A25)*(RECETTES!$B$22:$B$31))*RECETTES!$A$19)+(SUMPRODUCT((RECETTES!$F$22:$F$31='LISTE DE COURSE'!A25)*(RECETTES!$E$22:$E$31))*RECETTES!$D$19)+(SUMPRODUCT((RECETTES!$I$22:$I$31='LISTE DE COURSE'!A25)*(RECETTES!$H$22:$H$31))*RECETTES!$G$19) -> 20 | C25: =IF(SUMPRODUCT(('LISTE DE COURSE'!B25)-(STOCK!B25))>0,SUMPRODUCT(('LISTE DE COURSE'!B25)-(STOCK!B25)),0) -> 20
A26: Levure boulangère | B26: =(SUMPRODUCT((RECETTES!$C$7:$C$17='LISTE DE COURSE'!A26)*(RECETTES!$B$7:$B$17))*RECETTES!$A$4)+(SUMPRODUCT((RECETTES!$F$7:$F$17='LISTE DE COURSE'!A26)*(RECETTES!$E$7:$E$17))*RECETTES!$D$4)+(SUMPRODUCT((RECETTES!$I$7:$I$17='LISTE DE COURSE'!A26)*(RECETTES!$H$7:$H$17))*RECETTES!$G$4)+(SUMPRODUCT((RECETTES!$K$7:$K$17='LISTE DE COURSE'!A26)*(RECETTES!$K$7:$K$17))*RECETTES!$J$4)+(SUMPRODUCT((RECETTES!$O$7:$O$17='LISTE DE COURSE'!A26)*(RECETTES!$N$7:$N$17))*RECETTES!$M$4)+(SUMPRODUCT((RECETTES!$C$22:$C$31='LISTE DE COURSE'!A26)*(RECETTES!$B$22:$B$31))*RECETTES!$A$19)+(SUMPRODUCT((RECETTES!$F$22:$F$31='LISTE DE COURSE'!A26)*(RECETTES!$E$22:$E$31))*RECETTES!$D$19)+(SUMPRODUCT((RECETTES!$I$22:$I$31='LISTE DE COURSE'!A26)*(RECETTES!$H$22:$H$31))*RECETTES!$G$19) -> 0 | C26: =IF(SUMPRODUCT(('LISTE DE COURSE'!B26)-(STOCK!B26))>0,SUMPRODUCT(('LISTE DE COURSE'!B26)-(STOCK!B26)),0) -> 0 | E26: PURÉE DE FRUITS | F26: Nécessaire | G26: Achat
E28: Purée d'ananas | F28: =(SUMPRODUCT((RECETTES!$C$7:$C$17='LISTE DE COURSE'!E28)*(RECETTES!$B$7:$B$17))*RECETTES!$A$4)+(SUMPRODUCT((RECETTES!$F$7:$F$17='LISTE DE COURSE'!E28)*(RECETTES!$E$7:$E$17))*RECETTES!$D$4)+(SUMPRODUCT((RECETTES!$I$7:$I$17='LISTE DE COURSE'!E28)*(RECETTES!$H$7:$H$17))*RECETTES!$G$4)+(SUMPRODUCT((RECETTES!$K$7:$K$17='LISTE DE COURSE'!E28)*(RECETTES!$K$7:$K$17))*RECETTES!$J$4)+(SUMPRODUCT((RECETTES!$O$7:$O$17='LISTE DE COURSE'!E28)*(RECETTES!$N$7:$N$17))*RECETTES!$M$4)+(SUMPRODUCT((RECETTES!$C$22:$C$31='LISTE DE COURSE'!E28)*(RECETTES!$B$22:$B$31))*RECETTES!$A$19)+(SUMPRODUCT((RECETTES!$F$22:$F$31='LISTE DE COURSE'!E28)*(RECETTES!$E$22:$E$31))*RECETTES!$D$19)+(SUMPRODUCT((RECETTES!$I$22:$I$31='LISTE DE COURSE'!E28)*(RECETTES!$H$22:$H$31))*RECETTES!$G$19) -> 0 | G28: =IF(SUMPRODUCT(('LISTE DE COURSE'!F28)-(STOCK!E28))>0,SUMPRODUCT(('LISTE DE COURSE'!F28)-(STOCK!E28)),0) -> 0
A29: SUCRES | B29: Nécessaire | C29: Achat | E29: Purée de cassis | F29: =(SUMPRODUCT((RECETTES!$C$7:$C$17='LISTE DE COURSE'!E29)*(RECETTES!$B$7:$B$17))*RECETTES!$A$4)+(SUMPRODUCT((RECETTES!$F$7:$F$17='LISTE DE COURSE'!E29)*(RECETTES!$E$7:$E$17))*RECETTES!$D$4)+(SUMPRODUCT((RECETTES!$I$7:$I$17='LISTE DE COURSE'!E29)*(RECETTES!$H$7:$H$17))*RECETTES!$G$4)+(SUMPRODUCT((RECETTES!$K$7:$K$17='LISTE DE COURSE'!E29)*(RECETTES!$K$7:$K$17))*RECETTES!$J$4)+(SUMPRODUCT((RECETTES!$O$7:$O$17='LISTE DE COURSE'!E29)*(RECETTES!$N$7:$N$17))*RECETTES!$M$4)+(SUMPRODUCT((RECETTES!$C$22:$C$31='LISTE DE COURSE'!E29)*(RECETTES!$B$22:$B$31))*RECETTES!$A$19)+(SUMPRODUCT((RECETTES!$F$22:$F$31='LISTE DE COURSE'!E29)*(RECETTES!$E$22:$E$31))*RECETTES!$D$19)+(SUMPRODUCT((RECETTES!$I$22:$I$31='LISTE DE COURSE'!E29)*(RECETTES!$H$22:$H$31))*RECETTES!$G$19) -> 0 | G29: =IF(SUMPRODUCT(('LISTE DE COURSE'!F29)-(STOCK!E29))>0,SUMPRODUCT(('LISTE DE COURSE'!F29)-(STOCK!E29)),0) -> 0
E30: Purée de citron | F30: =(SUMPRODUCT((RECETTES!$C$7:$C$17='LISTE DE COURSE'!E30)*(RECETTES!$B$7:$B$17))*RECETTES!$A$4)+(SUMPRODUCT((RECETTES!$F$7:$F$17='LISTE DE COURSE'!E30)*(RECETTES!$E$7:$E$17))*RECETTES!$D$4)+(SUMPRODUCT((RECETTES!$I$7:$I$17='LISTE DE COURSE'!E30)*(RECETTES!$H$7:$H$17))*RECETTES!$G$4)+(SUMPRODUCT((RECETTES!$K$7:$K$17='LISTE DE COURSE'!E30)*(RECETTES!$K$7:$K$17))*RECETTES!$J$4)+(SUMPRODUCT((RECETTES!$O$7:$O$17='LISTE DE COURSE'!E30)*(RECETTES!$N$7:$N$17))*RECETTES!$M$4)+(SUMPRODUCT((RECETTES!$C$22:$C$31='LISTE DE COURSE'!E30)*(RECETTES!$B$22:$B$31))*RECETTES!$A$19)+(SUMPRODUCT((RECETTES!$F$22:$F$31='LISTE DE COURSE'!E30)*(RECETTES!$E$22:$E$31))*RECETTES!$D$19)+(SUMPRODUCT((RECETTES!$I$22:$I$31='LISTE DE COURSE'!E30)*(RECETTES!$H$22:$H$31))*RECETTES!$G$19) -> 0 | G30: =IF(SUMPRODUCT(('LISTE DE COURSE'!F30)-(STOCK!E30))>0,SUMPRODUCT(('LISTE DE COURSE'!F30)-(STOCK!E30)),0) -> 0
A31: Cassonade | B31: =(SUMPRODUCT((RECETTES!$C$7:$C$17='LISTE DE COURSE'!A31)*(RECETTES!$B$7:$B$17))*RECETTES!$A$4)+(SUMPRODUCT((RECETTES!$F$7:$F$17='LISTE DE COURSE'!A31)*(RECETTES!$E$7:$E$17))*RECETTES!$D$4)+(SUMPRODUCT((RECETTES!$I$7:$I$17='LISTE DE COURSE'!A31)*(RECETTES!$H$7:$H$17))*RECETTES!$G$4)+(SUMPRODUCT((RECETTES!$K$7:$K$17='LISTE DE COURSE'!A31)*(RECETTES!$K$7:$K$17))*RECETTES!$J$4)+(SUMPRODUCT((RECETTES!$O$7:$O$17='LISTE DE COURSE'!A31)*(RECETTES!$N$7:$N$17))*RECETTES!$M$4)+(SUMPRODUCT((RECETTES!$C$22:$C$31='LISTE DE COURSE'!A31)*(RECETTES!$B$22:$B$31))*RECETTES!$A$19)+(SUMPRODUCT((RECETTES!$F$22:$F$31='LISTE DE COURSE'!A31)*(RECETTES!$E$22:$E$31))*RECETTES!$D$19)+(SUMPRODUCT((RECETTES!$I$22:$I$31='LISTE DE COURSE'!A31)*(RECETTES!$H$22:$H$31))*RECETTES!$G$19) -> 0 | C31: =IF(SUMPRODUCT(('LISTE DE COURSE'!B31)-(STOCK!B31))>0,SUMPRODUCT(('LISTE DE COURSE'!B31)-(STOCK!B31)),0) -> 0 | E31: Purée de citron vert | F31: =(SUMPRODUCT((RECETTES!$C$7:$C$17='LISTE DE COURSE'!E31)*(RECETTES!$B$7:$B$17))*RECETTES!$A$4)+(SUMPRODUCT((RECETTES!$F$7:$F$17='LISTE DE COURSE'!E31)*(RECETTES!$E$7:$E$17))*RECETTES!$D$4)+(SUMPRODUCT((RECETTES!$I$7:$I$17='LISTE DE COURSE'!E31)*(RECETTES!$H$7:$H$17))*RECETTES!$G$4)+(SUMPRODUCT((RECETTES!$K$7:$K$17='LISTE DE COURSE'!E31)*(RECETTES!$K$7:$K$17))*RECETTES!$J$4)+(SUMPRODUCT((RECETTES!$O$7:$O$17='LISTE DE COURSE'!E31)*(RECETTES!$N$7:$N$17))*RECETTES!$M$4)+(SUMPRODUCT((RECETTES!$C$22:$C$31='LISTE DE COURSE'!E31)*(RECETTES!$B$22:$B$31))*RECETTES!$A$19)+(SUMPRODUCT((RECETTES!$F$22:$F$31='LISTE DE COURSE'!E31)*(RECETTES!$E$22:$E$31))*RECETTES!$D$19)+(SUMPRODUCT((RECETTES!$I$22:$I$31='LISTE DE COURSE'!E31)*(RECETTES!$H$22:$H$31))*RECETTES!$G$19) -> 0 | G31: =IF(SUMPRODUCT(('LISTE DE COURSE'!F31)-(STOCK!E31))>0,SUMPRODUCT(('LISTE DE COURSE'!F31)-(STOCK!E31)),0) -> 0
A32: Miel | B32: =(SUMPRODUCT((RECETTES!$C$7:$C$17='LISTE DE COURSE'!A32)*(RECETTES!$B$7:$B$17))*RECETTES!$A$4)+(SUMPRODUCT((RECETTES!$F$7:$F$17='LISTE DE COURSE'!A32)*(RECETTES!$E$7:$E$17))*RECETTES!$D$4)+(SUMPRODUCT((RECETTES!$I$7:$I$17='LISTE DE COURSE'!A32)*(RECETTES!$H$7:$H$17))*RECETTES!$G$4)+(SUMPRODUCT((RECETTES!$K$7:$K$17='LISTE DE COURSE'!A32)*(RECETTES!$K$7:$K$17))*RECETTES!$J$4)+(SUMPRODUCT((RECETTES!$O$7:$O$17='LISTE DE COURSE'!A32)*(RECETTES!$N$7:$N$17))*RECETTES!$M$4)+(SUMPRODUCT((RECETTES!$C$22:$C$31='LISTE DE COURSE'!A32)*(RECETTES!$B$22:$B$31))*RECETTES!$A$19)+(SUMPRODUCT((RECETTES!$F$22:$F$31='LISTE DE COURSE'!A32)*(RECETTES!$E$22:$E$31))*RECETTES!$D$19)+(SUMPRODUCT((RECETTES!$I$22:$I$31='LISTE DE COURSE'!A32)*(RECETTES!$H$22:$H$31))*RECETTES!$G$19) -> 0 | C32: =IF(SUMPRODUCT(('LISTE DE COURSE'!B32)-(STOCK!B32))>0,SUMPRODUCT(('LISTE DE COURSE'!B32)-(STOCK!B32)),0) -> 0 | E32: Purée de clémentine | F32: =(SUMPRODUCT((RECETTES!$C$7:$C$17='LISTE DE COURSE'!E32)*(RECETTES!$B$7:$B$17))*RECETTES!$A$4)+(SUMPRODUCT((RECETTES!$F$7:$F$17='LISTE DE COURSE'!E32)*(RECETTES!$E$7:$E$17))*RECETTES!$D$4)+(SUMPRODUCT((RECETTES!$I$7:$I$17='LISTE DE COURSE'!E32)*(RECETTES!$H$7:$H$17))*RECETTES!$G$4)+(SUMPRODUCT((RECETTES!$K$7:$K$17='LISTE DE COURSE'!E32)*(RECETTES!$K$7:$K$17))*RECETTES!$J$4)+(SUMPRODUCT((RECETTES!$O$7:$O$17='LISTE DE COURSE'!E32)*(RECETTES!$N$7:$N$17))*RECETTES!$M$4)+(SUMPRODUCT((RECETTES!$C$22:$C$31='LISTE DE COURSE'!E32)*(RECETTES!$B$22:$B$31))*RECETTES!$A$19)+(SUMPRODUCT((RECETTES!$F$22:$F$31='LISTE DE COURSE'!E32)*(RECETTES!$E$22:$E$31))*RECETTES!$D$19)+(SUMPRODUCT((RECETTES!$I$22:$I$31='LISTE DE COURSE'!E32)*(RECETTES!$H$22:$H$31))*RECETTES!$G$19) -> 0 | G32: =IF(SUMPRODUCT(('LISTE DE COURSE'!F32)-(STOCK!E32))>0,SUMPRODUCT(('LISTE DE COURSE'!F32)-(STOCK!E32)),0) -> 0
A33: Glucose | B33: =(SUMPRODUCT((RECETTES!$C$7:$C$17='LISTE DE COURSE'!A33)*(RECETTES!$B$7:$B$17))*RECETTES!$A$4)+(SUMPRODUCT((RECETTES!$F$7:$F$17='LISTE DE COURSE'!A33)*(RECETTES!$E$7:$E$17))*RECETTES!$D$4)+(SUMPRODUCT((RECETTES!$I$7:$I$17='LISTE DE COURSE'!A33)*(RECETTES!$H$7:$H$17))*RECETTES!$G$4)+(SUMPRODUCT((RECETTES!$K$7:$K$17='LISTE DE COURSE'!A33)*(RECETTES!$K$7:$K$17))*RECETTES!$J$4)+(SUMPRODUCT((RECETTES!$O$7:$O$17='LISTE DE COURSE'!A33)*(RECETTES!$N$7:$N$17))*RECETTES!$M$4)+(SUMPRODUCT((RECETTES!$C$22:$C$31='LISTE DE COURSE'!A33)*(RECETTES!$B$22:$B$31))*RECETTES!$A$19)+(SUMPRODUCT((RECETTES!$F$22:$F$31='LISTE DE COURSE'!A33)*(RECETTES!$E$22:$E$31))*RECETTES!$D$19)+(SUMPRODUCT((RECETTES!$I$22:$I$31='LISTE DE COURSE'!A33)*(RECETTES!$H$22:$H$31))*RECETTES!$G$19) -> 0 | C33: =IF(SUMPRODUCT(('LISTE DE COURSE'!B33)-(STOCK!B33))>0,SUMPRODUCT(('LISTE DE COURSE'!B33)-(STOCK!B33)),0) -> 0 | E33: Purée de fraise | F33: =(SUMPRODUCT((RECETTES!$C$7:$C$17='LISTE DE COURSE'!E33)*(RECETTES!$B$7:$B$17))*RECETTES!$A$4)+(SUMPRODUCT((RECETTES!$F$7:$F$17='LISTE DE COURSE'!E33)*(RECETTES!$E$7:$E$17))*RECETTES!$D$4)+(SUMPRODUCT((RECETTES!$I$7:$I$17='LISTE DE COURSE'!E33)*(RECETTES!$H$7:$H$17))*RECETTES!$G$4)+(SUMPRODUCT((RECETTES!$K$7:$K$17='LISTE DE COURSE'!E33)*(RECETTES!$K$7:$K$17))*RECETTES!$J$4)+(SUMPRODUCT((RECETTES!$O$7:$O$17='LISTE DE COURSE'!E33)*(RECETTES!$N$7:$N$17))*RECETTES!$M$4)+(SUMPRODUCT((RECETTES!$C$22:$C$31='LISTE DE COURSE'!E33)*(RECETTES!$B$22:$B$31))*RECETTES!$A$19)+(SUMPRODUCT((RECETTES!$F$22:$F$31='LISTE DE COURSE'!E33)*(RECETTES!$E$22:$E$31))*RECETTES!$D$19)+(SUMPRODUCT((RECETTES!$I$22:$I$31='LISTE DE COURSE'!E33)*(RECETTES!$H$22:$H$31))*RECETTES!$G$19) -> 0 | G33: =IF(SUMPRODUCT(('LISTE DE COURSE'!F33)-(STOCK!E33))>0,SUMPRODUCT(('LISTE DE COURSE'!F33)-(STOCK!E33)),0) -> 0
A34: Sucre glace | B34: =(SUMPRODUCT((RECETTES!$C$7:$C$17='LISTE DE COURSE'!A34)*(RECETTES!$B$7:$B$17))*RECETTES!$A$4)+(SUMPRODUCT((RECETTES!$F$7:$F$17='LISTE DE COURSE'!A34)*(RECETTES!$E$7:$E$17))*RECETTES!$D$4)+(SUMPRODUCT((RECETTES!$I$7:$I$17='LISTE DE COURSE'!A34)*(RECETTES!$H$7:$H$17))*RECETTES!$G$4)+(SUMPRODUCT((RECETTES!$K$7:$K$17='LISTE DE COURSE'!A34)*(RECETTES!$K$7:$K$17))*RECETTES!$J$4)+(SUMPRODUCT((RECETTES!$O$7:$O$17='LISTE DE COURSE'!A34)*(RECETTES!$N$7:$N$17))*RECETTES!$M$4)+(SUMPRODUCT((RECETTES!$C$22:$C$31='LISTE DE COURSE'!A34)*(RECETTES!$B$22:$B$31))*RECETTES!$A$19)+(SUMPRODUCT((RECETTES!$F$22:$F$31='LISTE DE COURSE'!A34)*(RECETTES!$E$22:$E$31))*RECETTES!$D$19)+(SUMPRODUCT((RECETTES!$I$22:$I$31='LISTE DE COURSE'!A34)*(RECETTES!$H$22:$H$31))*RECETTES!$G$19) -> 2 | C34: =IF(SUMPRODUCT(('LISTE DE COURSE'!B34)-(STOCK!B34))>0,SUMPRODUCT(('LISTE DE COURSE'!B34)-(STOCK!B34)),0) -> 2 | E34: Fraises entières | F34: =(SUMPRODUCT((RECETTES!$C$7:$C$17='LISTE DE COURSE'!E34)*(RECETTES!$B$7:$B$17))*RECETTES!$A$4)+(SUMPRODUCT((RECETTES!$F$7:$F$17='LISTE DE COURSE'!E34)*(RECETTES!$E$7:$E$17))*RECETTES!$D$4)+(SUMPRODUCT((RECETTES!$I$7:$I$17='LISTE DE COURSE'!E34)*(RECETTES!$H$7:$H$17))*RECETTES!$G$4)+(SUMPRODUCT((RECETTES!$K$7:$K$17='LISTE DE COURSE'!E34)*(RECETTES!$K$7:$K$17))*RECETTES!$J$4)+(SUMPRODUCT((RECETTES!$O$7:$O$17='LISTE DE COURSE'!E34)*(RECETTES!$N$7:$N$17))*RECETTES!$M$4)+(SUMPRODUCT((RECETTES!$C$22:$C$31='LISTE DE COURSE'!E34)*(RECETTES!$B$22:$B$31))*RECETTES!$A$19)+(SUMPRODUCT((RECETTES!$F$22:$F$31='LISTE DE COURSE'!E34)*(RECETTES!$E$22:$E$31))*RECETTES!$D$19)+(SUMPRODUCT((RECETTES!$I$22:$I$31='LISTE DE COURSE'!E34)*(RECETTES!$H$22:$H$31))*RECETTES!$G$19) -> 0 | G34: =IF(SUMPRODUCT(('LISTE DE COURSE'!F34)-(STOCK!E34))>0,SUMPRODUCT(('LISTE DE COURSE'!F34)-(STOCK!E34)),0) -> 0
A35: Sucre inverti | B35: =(SUMPRODUCT((RECETTES!$C$7:$C$17='LISTE DE COURSE'!A35)*(RECETTES!$B$7:$B$17))*RECETTES!$A$4)+(SUMPRODUCT((RECETTES!$F$7:$F$17='LISTE DE COURSE'!A35)*(RECETTES!$E$7:$E$17))*RECETTES!$D$4)+(SUMPRODUCT((RECETTES!$I$7:$I$17='LISTE DE COURSE'!A35)*(RECETTES!$H$7:$H$17))*RECETTES!$G$4)+(SUMPRODUCT((RECETTES!$K$7:$K$17='LISTE DE COURSE'!A35)*(RECETTES!$K$7:$K$17))*RECETTES!$J$4)+(SUMPRODUCT((RECETTES!$O$7:$O$17='LISTE DE COURSE'!A35)*(RECETTES!$N$7:$N$17))*RECETTES!$M$4)+(SUMPRODUCT((RECETTES!$C$22:$C$31='LISTE DE COURSE'!A35)*(RECETTES!$B$22:$B$31))*RECETTES!$A$19)+(SUMPRODUCT((RECETTES!$F$22:$F$31='LISTE DE COURSE'!A35)*(RECETTES!$E$22:$E$31))*RECETTES!$D$19)+(SUMPRODUCT((RECETTES!$I$22:$I$31='LISTE DE COURSE'!A35)*(RECETTES!$H$22:$H$31))*RECETTES!$G$19) -> 28 | C35: =IF(SUMPRODUCT(('LISTE DE COURSE'!B35)-(STOCK!B35))>0,SUMPRODUCT(('LISTE DE COURSE'!B35)-(STOCK!B35)),0) -> 28 | E35: Purée de framboise | F35: =(SUMPRODUCT((RECETTES!$C$7:$C$17='LISTE DE COURSE'!E35)*(RECETTES!$B$7:$B$17))*RECETTES!$A$4)+(SUMPRODUCT((RECETTES!$F$7:$F$17='LISTE DE COURSE'!E35)*(RECETTES!$E$7:$E$17))*RECETTES!$D$4)+(SUMPRODUCT((RECETTES!$I$7:$I$17='LISTE DE COURSE'!E35)*(RECETTES!$H$7:$H$17))*RECETTES!$G$4)+(SUMPRODUCT((RECETTES!$K$7:$K$17='LISTE DE COURSE'!E35)*(RECETTES!$K$7:$K$17))*RECETTES!$J$4)+(SUMPRODUCT((RECETTES!$O$7:$O$17='LISTE DE COURSE'!E35)*(RECETTES!$N$7:$N$17))*RECETTES!$M$4)+(SUMPRODUCT((RECETTES!$C$22:$C$31='LISTE DE COURSE'!E35)*(RECETTES!$B$22:$B$31))*RECETTES!$A$19)+(SUMPRODUCT((RECETTES!$F$22:$F$31='LISTE DE COURSE'!E35)*(RECETTES!$E$22:$E$31))*RECETTES!$D$19)+(SUMPRODUCT((RECETTES!$I$22:$I$31='LISTE DE COURSE'!E35)*(RECETTES!$H$22:$H$31))*RECETTES!$G$19) -> 0 | G35: =IF(SUMPRODUCT(('LISTE DE COURSE'!F35)-(STOCK!E35))>0,SUMPRODUCT(('LISTE DE COURSE'!F35)-(STOCK!E35)),0) -> 0
A36: Sucre | B36: =(SUMPRODUCT((RECETTES!$C$7:$C$17='LISTE DE COURSE'!A36)*(RECETTES!$B$7:$B$17))*RECETTES!$A$4)+(SUMPRODUCT((RECETTES!$F$7:$F$17='LISTE DE COURSE'!A36)*(RECETTES!$E$7:$E$17))*RECETTES!$D$4)+(SUMPRODUCT((RECETTES!$I$7:$I$17='LISTE DE COURSE'!A36)*(RECETTES!$H$7:$H$17))*RECETTES!$G$4)+(SUMPRODUCT((RECETTES!$K$7:$K$17='LISTE DE COURSE'!A36)*(RECETTES!$K$7:$K$17))*RECETTES!$J$4)+(SUMPRODUCT((RECETTES!$O$7:$O$17='LISTE DE COURSE'!A36)*(RECETTES!$N$7:$N$17))*RECETTES!$M$4)+(SUMPRODUCT((RECETTES!$C$22:$C$31='LISTE DE COURSE'!A36)*(RECETTES!$B$22:$B$31))*RECETTES!$A$19)+(SUMPRODUCT((RECETTES!$F$22:$F$31='LISTE DE COURSE'!A36)*(RECETTES!$E$22:$E$31))*RECETTES!$D$19)+(SUMPRODUCT((RECETTES!$I$22:$I$31='LISTE DE COURSE'!A36)*(RECETTES!$H$22:$H$31))*RECETTES!$G$19) -> 94 | C36: =IF(SUMPRODUCT(('LISTE DE COURSE'!B36)-(STOCK!B36))>0,SUMPRODUCT(('LISTE DE COURSE'!B36)-(STOCK!B36)),0) -> 94 | E36: Purée de griottes | F36: =(SUMPRODUCT((RECETTES!$C$7:$C$17='LISTE DE COURSE'!E36)*(RECETTES!$B$7:$B$17))*RECETTES!$A$4)+(SUMPRODUCT((RECETTES!$F$7:$F$17='LISTE DE COURSE'!E36)*(RECETTES!$E$7:$E$17))*RECETTES!$D$4)+(SUMPRODUCT((RECETTES!$I$7:$I$17='LISTE DE COURSE'!E36)*(RECETTES!$H$7:$H$17))*RECETTES!$G$4)+(SUMPRODUCT((RECETTES!$K$7:$K$17='LISTE DE COURSE'!E36)*(RECETTES!$K$7:$K$17))*RECETTES!$J$4)+(SUMPRODUCT((RECETTES!$O$7:$O$17='LISTE DE COURSE'!E36)*(RECETTES!$N$7:$N$17))*RECETTES!$M$4)+(SUMPRODUCT((RECETTES!$C$22:$C$31='LISTE DE COURSE'!E36)*(RECETTES!$B$22:$B$31))*RECETTES!$A$19)+(SUMPRODUCT((RECETTES!$F$22:$F$31='LISTE DE COURSE'!E36)*(RECETTES!$E$22:$E$31))*RECETTES!$D$19)+(SUMPRODUCT((RECETTES!$I$22:$I$31='LISTE DE COURSE'!E36)*(RECETTES!$H$22:$H$31))*RECETTES!$G$19) -> 0 | G36: =IF(SUMPRODUCT(('LISTE DE COURSE'!F36)-(STOCK!E36))>0,SUMPRODUCT(('LISTE DE COURSE'!F36)-(STOCK!E36)),0) -> 0
E37: Lait de Coco | F37: =(SUMPRODUCT((RECETTES!$C$7:$C$17='LISTE DE COURSE'!E37)*(RECETTES!$B$7:$B$17))*RECETTES!$A$4)+(SUMPRODUCT((RECETTES!$F$7:$F$17='LISTE DE COURSE'!E37)*(RECETTES!$E$7:$E$17))*RECETTES!$D$4)+(SUMPRODUCT((RECETTES!$I$7:$I$17='LISTE DE COURSE'!E37)*(RECETTES!$H$7:$H$17))*RECETTES!$G$4)+(SUMPRODUCT((RECETTES!$K$7:$K$17='LISTE DE COURSE'!E37)*(RECETTES!$K$7:$K$17))*RECETTES!$J$4)+(SUMPRODUCT((RECETTES!$O$7:$O$17='LISTE DE COURSE'!E37)*(RECETTES!$N$7:$N$17))*RECETTES!$M$4)+(SUMPRODUCT((RECETTES!$C$22:$C$31='LISTE DE COURSE'!E37)*(RECETTES!$B$22:$B$31))*RECETTES!$A$19)+(SUMPRODUCT((RECETTES!$F$22:$F$31='LISTE DE COURSE'!E37)*(RECETTES!$E$22:$E$31))*RECETTES!$D$19)+(SUMPRODUCT((RECETTES!$I$22:$I$31='LISTE DE COURSE'!E37)*(RECETTES!$H$22:$H$31))*RECETTES!$G$19) -> 0 | G37: =IF(SUMPRODUCT(('LISTE DE COURSE'!F37)-(STOCK!E37))>0,SUMPRODUCT(('LISTE DE COURSE'!F37)-(STOCK!E37)),0) -> 0
E38: Purée de mandarine | F38: =(SUMPRODUCT((RECETTES!$C$7:$C$17='LISTE DE COURSE'!E38)*(RECETTES!$B$7:$B$17))*RECETTES!$A$4)+(SUMPRODUCT((RECETTES!$F$7:$F$17='LISTE DE COURSE'!E38)*(RECETTES!$E$7:$E$17))*RECETTES!$D$4)+(SUMPRODUCT((RECETTES!$I$7:$I$17='LISTE DE COURSE'!E38)*(RECETTES!$H$7:$H$17))*RECETTES!$G$4)+(SUMPRODUCT((RECETTES!$K$7:$K$17='LISTE DE COURSE'!E38)*(RECETTES!$K$7:$K$17))*RECETTES!$J$4)+(SUMPRODUCT((RECETTES!$O$7:$O$17='LISTE DE COURSE'!E38)*(RECETTES!$N$7:$N$17))*RECETTES!$M$4)+(SUMPRODUCT((RECETTES!$C$22:$C$31='LISTE DE COURSE'!E38)*(RECETTES!$B$22:$B$31))*RECETTES!$A$19)+(SUMPRODUCT((RECETTES!$F$22:$F$31='LISTE DE COURSE'!E38)*(RECETTES!$E$22:$E$31))*RECETTES!$D$19)+(SUMPRODUCT((RECETTES!$I$22:$I$31='LISTE DE COURSE'!E38)*(RECETTES!$H$22:$H$31))*RECETTES!$G$19) -> 0 | G38: =IF(SUMPRODUCT(('LISTE DE COURSE'!F38)-(STOCK!E38))>0,SUMPRODUCT(('LISTE DE COURSE'!F38)-(STOCK!E38)),0) -> 0
A39: MATIÈRES SÈCHES, DIVERS | B39: Nécessaire | C39: Achat | E39: Purée de mangue | F39: =(SUMPRODUCT((RECETTES!$C$7:$C$17='LISTE DE COURSE'!E39)*(RECETTES!$B$7:$B$17))*RECETTES!$A$4)+(SUMPRODUCT((RECETTES!$F$7:$F$17='LISTE DE COURSE'!E39)*(RECETTES!$E$7:$E$17))*RECETTES!$D$4)+(SUMPRODUCT((RECETTES!$I$7:$I$17='LISTE DE COURSE'!E39)*(RECETTES!$H$7:$H$17))*RECETTES!$G$4)+(SUMPRODUCT((RECETTES!$K$7:$K$17='LISTE DE COURSE'!E39)*(RECETTES!$K$7:$K$17))*RECETTES!$J$4)+(SUMPRODUCT((RECETTES!$O$7:$O$17='LISTE DE COURSE'!E39)*(RECETTES!$N$7:$N$17))*RECETTES!$M$4)+(SUMPRODUCT((RECETTES!$C$22:$C$31='LISTE DE COURSE'!E39)*(RECETTES!$B$22:$B$31))*RECETTES!$A$19)+(SUMPRODUCT((RECETTES!$F$22:$F$31='LISTE DE COURSE'!E39)*(RECETTES!$E$22:$E$31))*RECETTES!$D$19)+(SUMPRODUCT((RECETTES!$I$22:$I$31='LISTE DE COURSE'!E39)*(RECETTES!$H$22:$H$31))*RECETTES!$G$19) -> 0 | G39: =IF(SUMPRODUCT(('LISTE DE COURSE'!F39)-(STOCK!E39))>0,SUMPRODUCT(('LISTE DE COURSE'!F39)-(STOCK!E39)),0) -> 0
E40: Purée de noix de coco | F40: =(SUMPRODUCT((RECETTES!$C$7:$C$17='LISTE DE COURSE'!E40)*(RECETTES!$B$7:$B$17))*RECETTES!$A$4)+(SUMPRODUCT((RECETTES!$F$7:$F$17='LISTE DE COURSE'!E40)*(RECETTES!$E$7:$E$17))*RECETTES!$D$4)+(SUMPRODUCT((RECETTES!$I$7:$I$17='LISTE DE COURSE'!E40)*(RECETTES!$H$7:$H$17))*RECETTES!$G$4)+(SUMPRODUCT((RECETTES!$K$7:$K$17='LISTE DE COURSE'!E40)*(RECETTES!$K$7:$K$17))*RECETTES!$J$4)+(SUMPRODUCT((RECETTES!$O$7:$O$17='LISTE DE COURSE'!E40)*(RECETTES!$N$7:$N$17))*RECETTES!$M$4)+(SUMPRODUCT((RECETTES!$C$22:$C$31='LISTE DE COURSE'!E40)*(RECETTES!$B$22:$B$31))*RECETTES!$A$19)+(SUMPRODUCT((RECETTES!$F$22:$F$31='LISTE DE COURSE'!E40)*(RECETTES!$E$22:$E$31))*RECETTES!$D$19)+(SUMPRODUCT((RECETTES!$I$22:$I$31='LISTE DE COURSE'!E40)*(RECETTES!$H$22:$H$31))*RECETTES!$G$19) -> 0 | G40: =IF(SUMPRODUCT(('LISTE DE COURSE'!F40)-(STOCK!E40))>0,SUMPRODUCT(('LISTE DE COURSE'!F40)-(STOCK!E40)),0) -> 0
A41: Amandes entières | B41: =(SUMPRODUCT((RECETTES!$C$7:$C$17='LISTE DE COURSE'!A41)*(RECETTES!$B$7:$B$17))*RECETTES!$A$4)+(SUMPRODUCT((RECETTES!$F$7:$F$17='LISTE DE COURSE'!A41)*(RECETTES!$E$7:$E$17))*RECETTES!$D$4)+(SUMPRODUCT((RECETTES!$I$7:$I$17='LISTE DE COURSE'!A41)*(RECETTES!$H$7:$H$17))*RECETTES!$G$4)+(SUMPRODUCT((RECETTES!$K$7:$K$17='LISTE DE COURSE'!A41)*(RECETTES!$K$7:$K$17))*RECETTES!$J$4)+(SUMPRODUCT((RECETTES!$O$7:$O$17='LISTE DE COURSE'!A41)*(RECETTES!$N$7:$N$17))*RECETTES!$M$4)+(SUMPRODUCT((RECETTES!$C$22:$C$31='LISTE DE COURSE'!A41)*(RECETTES!$B$22:$B$31))*RECETTES!$A$19)+(SUMPRODUCT((RECETTES!$F$22:$F$31='LISTE DE COURSE'!A41)*(RECETTES!$E$22:$E$31))*RECETTES!$D$19)+(SUMPRODUCT((RECETTES!$I$22:$I$31='LISTE DE COURSE'!A41)*(RECETTES!$H$22:$H$31))*RECETTES!$G$19) -> 0 | C41: =IF(SUMPRODUCT(('LISTE DE COURSE'!B41)-(STOCK!B41))>0,SUMPRODUCT(('LISTE DE COURSE'!B41)-(STOCK!B41)),0) -> 0 | E41: Purée d'orange | F41: =(SUMPRODUCT((RECETTES!$C$7:$C$17='LISTE DE COURSE'!E41)*(RECETTES!$B$7:$B$17))*RECETTES!$A$4)+(SUMPRODUCT((RECETTES!$F$7:$F$17='LISTE DE COURSE'!E41)*(RECETTES!$E$7:$E$17))*RECETTES!$D$4)+(SUMPRODUCT((RECETTES!$I$7:$I$17='LISTE DE COURSE'!E41)*(RECETTES!$H$7:$H$17))*RECETTES!$G$4)+(SUMPRODUCT((RECETTES!$K$7:$K$17='LISTE DE COURSE'!E41)*(RECETTES!$K$7:$K$17))*RECETTES!$J$4)+(SUMPRODUCT((RECETTES!$O$7:$O$17='LISTE DE COURSE'!E41)*(RECETTES!$N$7:$N$17))*RECETTES!$M$4)+(SUMPRODUCT((RECETTES!$C$22:$C$31='LISTE DE COURSE'!E41)*(RECETTES!$B$22:$B$31))*RECETTES!$A$19)+(SUMPRODUCT((RECETTES!$F$22:$F$31='LISTE DE COURSE'!E41)*(RECETTES!$E$22:$E$31))*RECETTES!$D$19)+(SUMPRODUCT((RECETTES!$I$22:$I$31='LISTE DE COURSE'!E41)*(RECETTES!$H$22:$H$31))*RECETTES!$G$19) -> 0 | G41: =IF(SUMPRODUCT(('LISTE DE COURSE'!F41)-(STOCK!E41))>0,SUMPRODUCT(('LISTE DE COURSE'!F41)-(STOCK!E41)),0) -> 0
A42: Amandes hachées | B42: =(SUMPRODUCT((RECETTES!$C$7:$C$17='LISTE DE COURSE'!A42)*(RECETTES!$B$7:$B$17))*RECETTES!$A$4)+(SUMPRODUCT((RECETTES!$F$7:$F$17='LISTE DE COURSE'!A42)*(RECETTES!$E$7:$E$17))*RECETTES!$D$4)+(SUMPRODUCT((RECETTES!$I$7:$I$17='LISTE DE COURSE'!A42)*(RECETTES!$H$7:$H$17))*RECETTES!$G$4)+(SUMPRODUCT((RECETTES!$K$7:$K$17='LISTE DE COURSE'!A42)*(RECETTES!$K$7:$K$17))*RECETTES!$J$4)+(SUMPRODUCT((RECETTES!$O$7:$O$17='LISTE DE COURSE'!A42)*(RECETTES!$N$7:$N$17))*RECETTES!$M$4)+(SUMPRODUCT((RECETTES!$C$22:$C$31='LISTE DE COURSE'!A42)*(RECETTES!$B$22:$B$31))*RECETTES!$A$19)+(SUMPRODUCT((RECETTES!$F$22:$F$31='LISTE DE COURSE'!A42)*(RECETTES!$E$22:$E$31))*RECETTES!$D$19)+(SUMPRODUCT((RECETTES!$I$22:$I$31='LISTE DE COURSE'!A42)*(RECETTES!$H$22:$H$31))*RECETTES!$G$19) -> 0 | C42: =IF(SUMPRODUCT(('LISTE DE COURSE'!B42)-(STOCK!B42))>0,SUMPRODUCT(('LISTE DE COURSE'!B42)-(STOCK!B42)),0) -> 0 | E42: Purée de passion | F42: =(SUMPRODUCT((RECETTES!$C$7:$C$17='LISTE DE COURSE'!E42)*(RECETTES!$B$7:$B$17))*RECETTES!$A$4)+(SUMPRODUCT((RECETTES!$F$7:$F$17='LISTE DE COURSE'!E42)*(RECETTES!$E$7:$E$17))*RECETTES!$D$4)+(SUMPRODUCT((RECETTES!$I$7:$I$17='LISTE DE COURSE'!E42)*(RECETTES!$H$7:$H$17))*RECETTES!$G$4)+(SUMPRODUCT((RECETTES!$K$7:$K$17='LISTE DE COURSE'!E42)*(RECETTES!$K$7:$K$17))*RECETTES!$J$4)+(SUMPRODUCT((RECETTES!$O$7:$O$17='LISTE DE COURSE'!E42)*(RECETTES!$N$7:$N$17))*RECETTES!$M$4)+(SUMPRODUCT((RECETTES!$C$22:$C$31='LISTE DE COURSE'!E42)*(RECETTES!$B$22:$B$31))*RECETTES!$A$19)+(SUMPRODUCT((RECETTES!$F$22:$F$31='LISTE DE COURSE'!E42)*(RECETTES!$E$22:$E$31))*RECETTES!$D$19)+(SUMPRODUCT((RECETTES!$I$22:$I$31='LISTE DE COURSE'!E42)*(RECETTES!$H$22:$H$31))*RECETTES!$G$19) -> 0 | G42: =IF(SUMPRODUCT(('LISTE DE COURSE'!F42)-(STOCK!E42))>0,SUMPRODUCT(('LISTE DE COURSE'!F42)-(STOCK!E42)),0) -> 0
A43: Brisures de marrons | B43: =(SUMPRODUCT((RECETTES!$C$7:$C$17='LISTE DE COURSE'!A43)*(RECETTES!$B$7:$B$17))*RECETTES!$A$4)+(SUMPRODUCT((RECETTES!$F$7:$F$17='LISTE DE COURSE'!A43)*(RECETTES!$E$7:$E$17))*RECETTES!$D$4)+(SUMPRODUCT((RECETTES!$I$7:$I$17='LISTE DE COURSE'!A43)*(RECETTES!$H$7:$H$17))*RECETTES!$G$4)+(SUMPRODUCT((RECETTES!$K$7:$K$17='LISTE DE COURSE'!A43)*(RECETTES!$K$7:$K$17))*RECETTES!$J$4)+(SUMPRODUCT((RECETTES!$O$7:$O$17='LISTE DE COURSE'!A43)*(RECETTES!$N$7:$N$17))*RECETTES!$M$4)+(SUMPRODUCT((RECETTES!$C$22:$C$31='LISTE DE COURSE'!A43)*(RECETTES!$B$22:$B$31))*RECETTES!$A$19)+(SUMPRODUCT((RECETTES!$F$22:$F$31='LISTE DE COURSE'!A43)*(RECETTES!$E$22:$E$31))*RECETTES!$D$19)+(SUMPRODUCT((RECETTES!$I$22:$I$31='LISTE DE COURSE'!A43)*(RECETTES!$H$22:$H$31))*RECETTES!$G$19) -> 0 | C43: =IF(SUMPRODUCT(('LISTE DE COURSE'!B43)-(STOCK!B43))>0,SUMPRODUCT(('LISTE DE COURSE'!B43)-(STOCK!B43)),0) -> 0 | E43: Purée de pêche blanche | F43: =(SUMPRODUCT((RECETTES!$C$7:$C$17='LISTE DE COURSE'!E43)*(RECETTES!$B$7:$B$17))*RECETTES!$A$4)+(SUMPRODUCT((RECETTES!$F$7:$F$17='LISTE DE COURSE'!E43)*(RECETTES!$E$7:$E$17))*RECETTES!$D$4)+(SUMPRODUCT((RECETTES!$I$7:$I$17='LISTE DE COURSE'!E43)*(RECETTES!$H$7:$H$17))*RECETTES!$G$4)+(SUMPRODUCT((RECETTES!$K$7:$K$17='LISTE DE COURSE'!E43)*(RECETTES!$K$7:$K$17))*RECETTES!$J$4)+(SUMPRODUCT((RECETTES!$O$7:$O$17='LISTE DE COURSE'!E43)*(RECETTES!$N$7:$N$17))*RECETTES!$M$4)+(SUMPRODUCT((RECETTES!$C$22:$C$31='LISTE DE COURSE'!E43)*(RECETTES!$B$22:$B$31))*RECETTES!$A$19)+(SUMPRODUCT((RECETTES!$F$22:$F$31='LISTE DE COURSE'!E43)*(RECETTES!$E$22:$E$31))*RECETTES!$D$19)+(SUMPRODUCT((RECETTES!$I$22:$I$31='LISTE DE COURSE'!E43)*(RECETTES!$H$22:$H$31))*RECETTES!$G$19) -> 0 | G43: =IF(SUMPRODUCT(('LISTE DE COURSE'!F43)-(STOCK!E43))>0,SUMPRODUCT(('LISTE DE COURSE'!F43)-(STOCK!E43)),0) -> 0
A44: Cacahuètes | B44: =(SUMPRODUCT((RECETTES!$C$7:$C$17='LISTE DE COURSE'!A44)*(RECETTES!$B$7:$B$17))*RECETTES!$A$4)+(SUMPRODUCT((RECETTES!$F$7:$F$17='LISTE DE COURSE'!A44)*(RECETTES!$E$7:$E$17))*RECETTES!$D$4)+(SUMPRODUCT((RECETTES!$I$7:$I$17='LISTE DE COURSE'!A44)*(RECETTES!$H$7:$H$17))*RECETTES!$G$4)+(SUMPRODUCT((RECETTES!$K$7:$K$17='LISTE DE COURSE'!A44)*(RECETTES!$K$7:$K$17))*RECETTES!$J$4)+(SUMPRODUCT((RECETTES!$O$7:$O$17='LISTE DE COURSE'!A44)*(RECETTES!$N$7:$N$17))*RECETTES!$M$4)+(SUMPRODUCT((RECETTES!$C$22:$C$31='LISTE DE COURSE'!A44)*(RECETTES!$B$22:$B$31))*RECETTES!$A$19)+(SUMPRODUCT((RECETTES!$F$22:$F$31='LISTE DE COURSE'!A44)*(RECETTES!$E$22:$E$31))*RECETTES!$D$19)+(SUMPRODUCT((RECETTES!$I$22:$I$31='LISTE DE COURSE'!A44)*(RECETTES!$H$22:$H$31))*RECETTES!$G$19) -> 0 | C44: =IF(SUMPRODUCT(('LISTE DE COURSE'!B44)-(STOCK!B44))>0,SUMPRODUCT(('LISTE DE COURSE'!B44)-(STOCK!B44)),0) -> 0 | E44: Purée de poire | F44: =(SUMPRODUCT((RECETTES!$C$7:$C$17='LISTE DE COURSE'!E44)*(RECETTES!$B$7:$B$17))*RECETTES!$A$4)+(SUMPRODUCT((RECETTES!$F$7:$F$17='LISTE DE COURSE'!E44)*(RECETTES!$E$7:$E$17))*RECETTES!$D$4)+(SUMPRODUCT((RECETTES!$I$7:$I$17='LISTE DE COURSE'!E44)*(RECETTES!$H$7:$H$17))*RECETTES!$G$4)+(SUMPRODUCT((RECETTES!$K$7:$K$17='LISTE DE COURSE'!E44)*(RECETTES!$K$7:$K$17))*RECETTES!$J$4)+(SUMPRODUCT((RECETTES!$O$7:$O$17='LISTE DE COURSE'!E44)*(RECETTES!$N$7:$N$17))*RECETTES!$M$4)+(SUMPRODUCT((RECETTES!$C$22:$C$31='LISTE DE COURSE'!E44)*(RECETTES!$B$22:$B$31))*RECETTES!$A$19)+(SUMPRODUCT((RECETTES!$F$22:$F$31='LISTE DE COURSE'!E44)*(RECETTES!$E$22:$E$31))*RECETTES!$D$19)+(SUMPRODUCT((RECETTES!$I$22:$I$31='LISTE DE COURSE'!E44)*(RECETTES!$H$22:$H$31))*RECETTES!$G$19) -> 0 | G44: =IF(SUMPRODUCT(('LISTE DE COURSE'!F44)-(STOCK!E44))>0,SUMPRODUCT(('LISTE DE COURSE'!F44)-(STOCK!E44)),0) -> 0
A45: Carambar | B45: =(SUMPRODUCT((RECETTES!$C$7:$C$17='LISTE DE COURSE'!A45)*(RECETTES!$B$7:$B$17))*RECETTES!$A$4)+(SUMPRODUCT((RECETTES!$F$7:$F$17='LISTE DE COURSE'!A45)*(RECETTES!$E$7:$E$17))*RECETTES!$D$4)+(SUMPRODUCT((RECETTES!$I$7:$I$17='LISTE DE COURSE'!A45)*(RECETTES!$H$7:$H$17))*RECETTES!$G$4)+(SUMPRODUCT((RECETTES!$K$7:$K$17='LISTE DE COURSE'!A45)*(RECETTES!$K$7:$K$17))*RECETTES!$J$4)+(SUMPRODUCT((RECETTES!$O$7:$O$17='LISTE DE COURSE'!A45)*(RECETTES!$N$7:$N$17))*RECETTES!$M$4)+(SUMPRODUCT((RECETTES!$C$22:$C$31='LISTE DE COURSE'!A45)*(RECETTES!$B$22:$B$31))*RECETTES!$A$19)+(SUMPRODUCT((RECETTES!$F$22:$F$31='LISTE DE COURSE'!A45)*(RECETTES!$E$22:$E$31))*RECETTES!$D$19)+(SUMPRODUCT((RECETTES!$I$22:$I$31='LISTE DE COURSE'!A45)*(RECETTES!$H$22:$H$31))*RECETTES!$G$19) -> 0 | C45: =IF(SUMPRODUCT(('LISTE DE COURSE'!B45)-(STOCK!B45))>0,SUMPRODUCT(('LISTE DE COURSE'!B45)-(STOCK!B45)),0) -> 0 | E45: Purée de pomme verte | F45: =(SUMPRODUCT((RECETTES!$C$7:$C$17='LISTE DE COURSE'!E45)*(RECETTES!$B$7:$B$17))*RECETTES!$A$4)+(SUMPRODUCT((RECETTES!$F$7:$F$17='LISTE DE COURSE'!E45)*(RECETTES!$E$7:$E$17))*RECETTES!$D$4)+(SUMPRODUCT((RECETTES!$I$7:$I$17='LISTE DE COURSE'!E45)*(RECETTES!$H$7:$H$17))*RECETTES!$G$4)+(SUMPRODUCT((RECETTES!$K$7:$K$17='LISTE DE COURSE'!E45)*(RECETTES!$K$7:$K$17))*RECETTES!$J$4)+(SUMPRODUCT((RECETTES!$O$7:$O$17='LISTE DE COURSE'!E45)*(RECETTES!$N$7:$N$17))*RECETTES!$M$4)+(SUMPRODUCT((RECETTES!$C$22:$C$31='LISTE DE COURSE'!E45)*(RECETTES!$B$22:$B$31))*RECETTES!$A$19)+(SUMPRODUCT((RECETTES!$F$22:$F$31='LISTE DE COURSE'!E45)*(RECETTES!$E$22:$E$31))*RECETTES!$D$19)+(SUMPRODUCT((RECETTES!$I$22:$I$31='LISTE DE COURSE'!E45)*(RECETTES!$H$22:$H$31))*RECETTES!$G$19) -> 0 | G45: =IF(SUMPRODUCT(('LISTE DE COURSE'!F45)-(STOCK!E45))>0,SUMPRODUCT(('LISTE DE COURSE'!F45)-(STOCK!E45)),0) -> 0
A46: Crème de marron | B46: =(SUMPRODUCT((RECETTES!$C$7:$C$17='LISTE DE COURSE'!A46)*(RECETTES!$B$7:$B$17))*RECETTES!$A$4)+(SUMPRODUCT((RECETTES!$F$7:$F$17='LISTE DE COURSE'!A46)*(RECETTES!$E$7:$E$17))*RECETTES!$D$4)+(SUMPRODUCT((RECETTES!$I$7:$I$17='LISTE DE COURSE'!A46)*(RECETTES!$H$7:$H$17))*RECETTES!$G$4)+(SUMPRODUCT((RECETTES!$K$7:$K$17='LISTE DE COURSE'!A46)*(RECETTES!$K$7:$K$17))*RECETTES!$J$4)+(SUMPRODUCT((RECETTES!$O$7:$O$17='LISTE DE COURSE'!A46)*(RECETTES!$N$7:$N$17))*RECETTES!$M$4)+(SUMPRODUCT((RECETTES!$C$22:$C$31='LISTE DE COURSE'!A46)*(RECETTES!$B$22:$B$31))*RECETTES!$A$19)+(SUMPRODUCT((RECETTES!$F$22:$F$31='LISTE DE COURSE'!A46)*(RECETTES!$E$22:$E$31))*RECETTES!$D$19)+(SUMPRODUCT((RECETTES!$I$22:$I$31='LISTE DE COURSE'!A46)*(RECETTES!$H$22:$H$31))*RECETTES!$G$19) -> 0 | C46: =IF(SUMPRODUCT(('LISTE DE COURSE'!B46)-(STOCK!B46))>0,SUMPRODUCT(('LISTE DE COURSE'!B46)-(STOCK!B46)),0) -> 0
A47: Extrait de café | B47: =(SUMPRODUCT((RECETTES!$C$7:$C$17='LISTE DE COURSE'!A47)*(RECETTES!$B$7:$B$17))*RECETTES!$A$4)+(SUMPRODUCT((RECETTES!$F$7:$F$17='LISTE DE COURSE'!A47)*(RECETTES!$E$7:$E$17))*RECETTES!$D$4)+(SUMPRODUCT((RECETTES!$I$7:$I$17='LISTE DE COURSE'!A47)*(RECETTES!$H$7:$H$17))*RECETTES!$G$4)+(SUMPRODUCT((RECETTES!$K$7:$K$17='LISTE DE COURSE'!A47)*(RECETTES!$K$7:$K$17))*RECETTES!$J$4)+(SUMPRODUCT((RECETTES!$O$7:$O$17='LISTE DE COURSE'!A47)*(RECETTES!$N$7:$N$17))*RECETTES!$M$4)+(SUMPRODUCT((RECETTES!$C$22:$C$31='LISTE DE COURSE'!A47)*(RECETTES!$B$22:$B$31))*RECETTES!$A$19)+(SUMPRODUCT((RECETTES!$F$22:$F$31='LISTE DE COURSE'!A47)*(RECETTES!$E$22:$E$31))*RECETTES!$D$19)+(SUMPRODUCT((RECETTES!$I$22:$I$31='LISTE DE COURSE'!A47)*(RECETTES!$H$22:$H$31))*RECETTES!$G$19) -> 0 | C47: =IF(SUMPRODUCT(('LISTE DE COURSE'!B47)-(STOCK!B47))>0,SUMPRODUCT(('LISTE DE COURSE'!B47)-(STOCK!B47)),0) -> 0
A48: Feuilletine | B48: =(SUMPRODUCT((RECETTES!$C$7:$C$17='LISTE DE COURSE'!A48)*(RECETTES!$B$7:$B$17))*RECETTES!$A$4)+(SUMPRODUCT((RECETTES!$F$7:$F$17='LISTE DE COURSE'!A48)*(RECETTES!$E$7:$E$17))*RECETTES!$D$4)+(SUMPRODUCT((RECETTES!$I$7:$I$17='LISTE DE COURSE'!A48)*(RECETTES!$H$7:$H$17))*RECETTES!$G$4)+(SUMPRODUCT((RECETTES!$K$7:$K$17='LISTE DE COURSE'!A48)*(RECETTES!$K$7:$K$17))*RECETTES!$J$4)+(SUMPRODUCT((RECETTES!$O$7:$O$17='LISTE DE COURSE'!A48)*(RECETTES!$N$7:$N$17))*RECETTES!$M$4)+(SUMPRODUCT((RECETTES!$C$22:$C$31='LISTE DE COURSE'!A48)*(RECETTES!$B$22:$B$31))*RECETTES!$A$19)+(SUMPRODUCT((RECETTES!$F$22:$F$31='LISTE DE COURSE'!A48)*(RECETTES!$E$22:$E$31))*RECETTES!$D$19)+(SUMPRODUCT((RECETTES!$I$22:$I$31='LISTE DE COURSE'!A48)*(RECETTES!$H$22:$H$31))*RECETTES!$G$19) -> 0 | C48: =IF(SUMPRODUCT(('LISTE DE COURSE'!B48)-(STOCK!B48))>0,SUMPRODUCT(('LISTE DE COURSE'!B48)-(STOCK!B48)),0) -> 0 | E48: ADDITIFS | F48: Nécessaire | G48: Achat
A49: Fleur de sel | B49: =(SUMPRODUCT((RECETTES!$C$7:$C$17='LISTE DE COURSE'!A49)*(RECETTES!$B$7:$B$17))*RECETTES!$A$4)+(SUMPRODUCT((RECETTES!$F$7:$F$17='LISTE DE COURSE'!A49)*(RECETTES!$E$7:$E$17))*RECETTES!$D$4)+(SUMPRODUCT((RECETTES!$I$7:$I$17='LISTE DE COURSE'!A49)*(RECETTES!$H$7:$H$17))*RECETTES!$G$4)+(SUMPRODUCT((RECETTES!$K$7:$K$17='LISTE DE COURSE'!A49)*(RECETTES!$K$7:$K$17))*RECETTES!$J$4)+(SUMPRODUCT((RECETTES!$O$7:$O$17='LISTE DE COURSE'!A49)*(RECETTES!$N$7:$N$17))*RECETTES!$M$4)+(SUMPRODUCT((RECETTES!$C$22:$C$31='LISTE DE COURSE'!A49)*(RECETTES!$B$22:$B$31))*RECETTES!$A$19)+(SUMPRODUCT((RECETTES!$F$22:$F$31='LISTE DE COURSE'!A49)*(RECETTES!$E$22:$E$31))*RECETTES!$D$19)+(SUMPRODUCT((RECETTES!$I$22:$I$31='LISTE DE COURSE'!A49)*(RECETTES!$H$22:$H$31))*RECETTES!$G$19) -> 0 | C49: =IF(SUMPRODUCT(('LISTE DE COURSE'!B49)-(STOCK!B49))>0,SUMPRODUCT(('LISTE DE COURSE'!B49)-(STOCK!B49)),0) -> 0
A50: Fraises déshydratées | B50: =(SUMPRODUCT((RECETTES!$C$7:$C$17='LISTE DE COURSE'!A50)*(RECETTES!$B$7:$B$17))*RECETTES!$A$4)+(SUMPRODUCT((RECETTES!$F$7:$F$17='LISTE DE COURSE'!A50)*(RECETTES!$E$7:$E$17))*RECETTES!$D$4)+(SUMPRODUCT((RECETTES!$I$7:$I$17='LISTE DE COURSE'!A50)*(RECETTES!$H$7:$H$17))*RECETTES!$G$4)+(SUMPRODUCT((RECETTES!$K$7:$K$17='LISTE DE COURSE'!A50)*(RECETTES!$K$7:$K$17))*RECETTES!$J$4)+(SUMPRODUCT((RECETTES!$O$7:$O$17='LISTE DE COURSE'!A50)*(RECETTES!$N$7:$N$17))*RECETTES!$M$4)+(SUMPRODUCT((RECETTES!$C$22:$C$31='LISTE DE COURSE'!A50)*(RECETTES!$B$22:$B$31))*RECETTES!$A$19)+(SUMPRODUCT((RECETTES!$F$22:$F$31='LISTE DE COURSE'!A50)*(RECETTES!$E$22:$E$31))*RECETTES!$D$19)+(SUMPRODUCT((RECETTES!$I$22:$I$31='LISTE DE COURSE'!A50)*(RECETTES!$H$22:$H$31))*RECETTES!$G$19) -> 0 | C50: =IF(SUMPRODUCT(('LISTE DE COURSE'!B50)-(STOCK!B50))>0,SUMPRODUCT(('LISTE DE COURSE'!B50)-(STOCK!B50)),0) -> 0 | E50: Acide citrique | F50: =(SUMPRODUCT((RECETTES!$C$7:$C$17='LISTE DE COURSE'!E50)*(RECETTES!$B$7:$B$17))*RECETTES!$A$4)+(SUMPRODUCT((RECETTES!$F$7:$F$17='LISTE DE COURSE'!E50)*(RECETTES!$E$7:$E$17))*RECETTES!$D$4)+(SUMPRODUCT((RECETTES!$I$7:$I$17='LISTE DE COURSE'!E50)*(RECETTES!$H$7:$H$17))*RECETTES!$G$4)+(SUMPRODUCT((RECETTES!$K$7:$K$17='LISTE DE COURSE'!E50)*(RECETTES!$K$7:$K$17))*RECETTES!$J$4)+(SUMPRODUCT((RECETTES!$O$7:$O$17='LISTE DE COURSE'!E50)*(RECETTES!$N$7:$N$17))*RECETTES!$M$4)+(SUMPRODUCT((RECETTES!$C$22:$C$31='LISTE DE COURSE'!E50)*(RECETTES!$B$22:$B$31))*RECETTES!$A$19)+(SUMPRODUCT((RECETTES!$F$22:$F$31='LISTE DE COURSE'!E50)*(RECETTES!$E$22:$E$31))*RECETTES!$D$19)+(SUMPRODUCT((RECETTES!$I$22:$I$31='LISTE DE COURSE'!E50)*(RECETTES!$H$22:$H$31))*RECETTES!$G$19) -> 0 | G50: =IF(SUMPRODUCT(('LISTE DE COURSE'!F50)-(STOCK!E50))>0,SUMPRODUCT(('LISTE DE COURSE'!F50)-(STOCK!E50)),0) -> 0
A51: Gianduja | B51: =(SUMPRODUCT((RECETTES!$C$7:$C$17='LISTE DE COURSE'!A51)*(RECETTES!$B$7:$B$17))*RECETTES!$A$4)+(SUMPRODUCT((RECETTES!$F$7:$F$17='LISTE DE COURSE'!A51)*(RECETTES!$E$7:$E$17))*RECETTES!$D$4)+(SUMPRODUCT((RECETTES!$I$7:$I$17='LISTE DE COURSE'!A51)*(RECETTES!$H$7:$H$17))*RECETTES!$G$4)+(SUMPRODUCT((RECETTES!$K$7:$K$17='LISTE DE COURSE'!A51)*(RECETTES!$K$7:$K$17))*RECETTES!$J$4)+(SUMPRODUCT((RECETTES!$O$7:$O$17='LISTE DE COURSE'!A51)*(RECETTES!$N$7:$N$17))*RECETTES!$M$4)+(SUMPRODUCT((RECETTES!$C$22:$C$31='LISTE DE COURSE'!A51)*(RECETTES!$B$22:$B$31))*RECETTES!$A$19)+(SUMPRODUCT((RECETTES!$F$22:$F$31='LISTE DE COURSE'!A51)*(RECETTES!$E$22:$E$31))*RECETTES!$D$19)+(SUMPRODUCT((RECETTES!$I$22:$I$31='LISTE DE COURSE'!A51)*(RECETTES!$H$22:$H$31))*RECETTES!$G$19) -> 0 | C51: =IF(SUMPRODUCT(('LISTE DE COURSE'!B51)-(STOCK!B51))>0,SUMPRODUCT(('LISTE DE COURSE'!B51)-(STOCK!B51)),0) -> 0 | E51: Arôme violette | F51: =(SUMPRODUCT((RECETTES!$C$7:$C$17='LISTE DE COURSE'!E51)*(RECETTES!$B$7:$B$17))*RECETTES!$A$4)+(SUMPRODUCT((RECETTES!$F$7:$F$17='LISTE DE COURSE'!E51)*(RECETTES!$E$7:$E$17))*RECETTES!$D$4)+(SUMPRODUCT((RECETTES!$I$7:$I$17='LISTE DE COURSE'!E51)*(RECETTES!$H$7:$H$17))*RECETTES!$G$4)+(SUMPRODUCT((RECETTES!$K$7:$K$17='LISTE DE COURSE'!E51)*(RECETTES!$K$7:$K$17))*RECETTES!$J$4)+(SUMPRODUCT((RECETTES!$O$7:$O$17='LISTE DE COURSE'!E51)*(RECETTES!$N$7:$N$17))*RECETTES!$M$4)+(SUMPRODUCT((RECETTES!$C$22:$C$31='LISTE DE COURSE'!E51)*(RECETTES!$B$22:$B$31))*RECETTES!$A$19)+(SUMPRODUCT((RECETTES!$F$22:$F$31='LISTE DE COURSE'!E51)*(RECETTES!$E$22:$E$31))*RECETTES!$D$19)+(SUMPRODUCT((RECETTES!$I$22:$I$31='LISTE DE COURSE'!E51)*(RECETTES!$H$22:$H$31))*RECETTES!$G$19) -> 0 | G51: =IF(SUMPRODUCT(('LISTE DE COURSE'!F51)-(STOCK!E51))>0,SUMPRODUCT(('LISTE DE COURSE'!F51)-(STOCK!E51)),0) -> 0
A52: Muesli | B52: =(SUMPRODUCT((RECETTES!$C$7:$C$17='LISTE DE COURSE'!A52)*(RECETTES!$B$7:$B$17))*RECETTES!$A$4)+(SUMPRODUCT((RECETTES!$F$7:$F$17='LISTE DE COURSE'!A52)*(RECETTES!$E$7:$E$17))*RECETTES!$D$4)+(SUMPRODUCT((RECETTES!$I$7:$I$17='LISTE DE COURSE'!A52)*(RECETTES!$H$7:$H$17))*RECETTES!$G$4)+(SUMPRODUCT((RECETTES!$K$7:$K$17='LISTE DE COURSE'!A52)*(RECETTES!$K$7:$K$17))*RECETTES!$J$4)+(SUMPRODUCT((RECETTES!$O$7:$O$17='LISTE DE COURSE'!A52)*(RECETTES!$N$7:$N$17))*RECETTES!$M$4)+(SUMPRODUCT((RECETTES!$C$22:$C$31='LISTE DE COURSE'!A52)*(RECETTES!$B$22:$B$31))*RECETTES!$A$19)+(SUMPRODUCT((RECETTES!$F$22:$F$31='LISTE DE COURSE'!A52)*(RECETTES!$E$22:$E$31))*RECETTES!$D$19)+(SUMPRODUCT((RECETTES!$I$22:$I$31='LISTE DE COURSE'!A52)*(RECETTES!$H$22:$H$31))*RECETTES!$G$19) -> 0 | C52: =IF(SUMPRODUCT(('LISTE DE COURSE'!B52)-(STOCK!B52))>0,SUMPRODUCT(('LISTE DE COURSE'!B52)-(STOCK!B52)),0) -> 0 | E52: Bicarbonate de soude | F52: =(SUMPRODUCT((RECETTES!$C$7:$C$17='LISTE DE COURSE'!E52)*(RECETTES!$B$7:$B$17))*RECETTES!$A$4)+(SUMPRODUCT((RECETTES!$F$7:$F$17='LISTE DE COURSE'!E52)*(RECETTES!$E$7:$E$17))*RECETTES!$D$4)+(SUMPRODUCT((RECETTES!$I$7:$I$17='LISTE DE COURSE'!E52)*(RECETTES!$H$7:$H$17))*RECETTES!$G$4)+(SUMPRODUCT((RECETTES!$K$7:$K$17='LISTE DE COURSE'!E52)*(RECETTES!$K$7:$K$17))*RECETTES!$J$4)+(SUMPRODUCT((RECETTES!$O$7:$O$17='LISTE DE COURSE'!E52)*(RECETTES!$N$7:$N$17))*RECETTES!$M$4)+(SUMPRODUCT((RECETTES!$C$22:$C$31='LISTE DE COURSE'!E52)*(RECETTES!$B$22:$B$31))*RECETTES!$A$19)+(SUMPRODUCT((RECETTES!$F$22:$F$31='LISTE DE COURSE'!E52)*(RECETTES!$E$22:$E$31))*RECETTES!$D$19)+(SUMPRODUCT((RECETTES!$I$22:$I$31='LISTE DE COURSE'!E52)*(RECETTES!$H$22:$H$31))*RECETTES!$G$19) -> 0 | G52: =IF(SUMPRODUCT(('LISTE DE COURSE'!F52)-(STOCK!E52))>0,SUMPRODUCT(('LISTE DE COURSE'!F52)-(STOCK!E52)),0) -> 0
A53: Noisettes entières | B53: =(SUMPRODUCT((RECETTES!$C$7:$C$17='LISTE DE COURSE'!A53)*(RECETTES!$B$7:$B$17))*RECETTES!$A$4)+(SUMPRODUCT((RECETTES!$F$7:$F$17='LISTE DE COURSE'!A53)*(RECETTES!$E$7:$E$17))*RECETTES!$D$4)+(SUMPRODUCT((RECETTES!$I$7:$I$17='LISTE DE COURSE'!A53)*(RECETTES!$H$7:$H$17))*RECETTES!$G$4)+(SUMPRODUCT((RECETTES!$K$7:$K$17='LISTE DE COURSE'!A53)*(RECETTES!$K$7:$K$17))*RECETTES!$J$4)+(SUMPRODUCT((RECETTES!$O$7:$O$17='LISTE DE COURSE'!A53)*(RECETTES!$N$7:$N$17))*RECETTES!$M$4)+(SUMPRODUCT((RECETTES!$C$22:$C$31='LISTE DE COURSE'!A53)*(RECETTES!$B$22:$B$31))*RECETTES!$A$19)+(SUMPRODUCT((RECETTES!$F$22:$F$31='LISTE DE COURSE'!A53)*(RECETTES!$E$22:$E$31))*RECETTES!$D$19)+(SUMPRODUCT((RECETTES!$I$22:$I$31='LISTE DE COURSE'!A53)*(RECETTES!$H$22:$H$31))*RECETTES!$G$19) -> 0 | C53: =IF(SUMPRODUCT(('LISTE DE COURSE'!B53)-(STOCK!B53))>0,SUMPRODUCT(('LISTE DE COURSE'!B53)-(STOCK!B53)),0) -> 0 | E53: Colorant chocolat | F53: =(SUMPRODUCT((RECETTES!$C$7:$C$17='LISTE DE COURSE'!E53)*(RECETTES!$B$7:$B$17))*RECETTES!$A$4)+(SUMPRODUCT((RECETTES!$F$7:$F$17='LISTE DE COURSE'!E53)*(RECETTES!$E$7:$E$17))*RECETTES!$D$4)+(SUMPRODUCT((RECETTES!$I$7:$I$17='LISTE DE COURSE'!E53)*(RECETTES!$H$7:$H$17))*RECETTES!$G$4)+(SUMPRODUCT((RECETTES!$K$7:$K$17='LISTE DE COURSE'!E53)*(RECETTES!$K$7:$K$17))*RECETTES!$J$4)+(SUMPRODUCT((RECETTES!$O$7:$O$17='LISTE DE COURSE'!E53)*(RECETTES!$N$7:$N$17))*RECETTES!$M$4)+(SUMPRODUCT((RECETTES!$C$22:$C$31='LISTE DE COURSE'!E53)*(RECETTES!$B$22:$B$31))*RECETTES!$A$19)+(SUMPRODUCT((RECETTES!$F$22:$F$31='LISTE DE COURSE'!E53)*(RECETTES!$E$22:$E$31))*RECETTES!$D$19)+(SUMPRODUCT((RECETTES!$I$22:$I$31='LISTE DE COURSE'!E53)*(RECETTES!$H$22:$H$31))*RECETTES!$G$19) -> 0 | G53: =IF(SUMPRODUCT(('LISTE DE COURSE'!F53)-(STOCK!E53))>0,SUMPRODUCT(('LISTE DE COURSE'!F53)-(STOCK!E53)),0) -> 0
A54: Noix de coco en poudre | B54: =(SUMPRODUCT((RECETTES!$C$7:$C$17='LISTE DE COURSE'!A54)*(RECETTES!$B$7:$B$17))*RECETTES!$A$4)+(SUMPRODUCT((RECETTES!$F$7:$F$17='LISTE DE COURSE'!A54)*(RECETTES!$E$7:$E$17))*RECETTES!$D$4)+(SUMPRODUCT((RECETTES!$I$7:$I$17='LISTE DE COURSE'!A54)*(RECETTES!$H$7:$H$17))*RECETTES!$G$4)+(SUMPRODUCT((RECETTES!$K$7:$K$17='LISTE DE COURSE'!A54)*(RECETTES!$K$7:$K$17))*RECETTES!$J$4)+(SUMPRODUCT((RECETTES!$O$7:$O$17='LISTE DE COURSE'!A54)*(RECETTES!$N$7:$N$17))*RECETTES!$M$4)+(SUMPRODUCT((RECETTES!$C$22:$C$31='LISTE DE COURSE'!A54)*(RECETTES!$B$22:$B$31))*RECETTES!$A$19)+(SUMPRODUCT((RECETTES!$F$22:$F$31='LISTE DE COURSE'!A54)*(RECETTES!$E$22:$E$31))*RECETTES!$D$19)+(SUMPRODUCT((RECETTES!$I$22:$I$31='LISTE DE COURSE'!A54)*(RECETTES!$H$22:$H$31))*RECETTES!$G$19) -> 0 | C54: =IF(SUMPRODUCT(('LISTE DE COURSE'!B54)-(STOCK!B54))>0,SUMPRODUCT(('LISTE DE COURSE'!B54)-(STOCK!B54)),0) -> 0 | E54: Colorant jaune | F54: =(SUMPRODUCT((RECETTES!$C$7:$C$17='LISTE DE COURSE'!E54)*(RECETTES!$B$7:$B$17))*RECETTES!$A$4)+(SUMPRODUCT((RECETTES!$F$7:$F$17='LISTE DE COURSE'!E54)*(RECETTES!$E$7:$E$17))*RECETTES!$D$4)+(SUMPRODUCT((RECETTES!$I$7:$I$17='LISTE DE COURSE'!E54)*(RECETTES!$H$7:$H$17))*RECETTES!$G$4)+(SUMPRODUCT((RECETTES!$K$7:$K$17='LISTE DE COURSE'!E54)*(RECETTES!$K$7:$K$17))*RECETTES!$J$4)+(SUMPRODUCT((RECETTES!$O$7:$O$17='LISTE DE COURSE'!E54)*(RECETTES!$N$7:$N$17))*RECETTES!$M$4)+(SUMPRODUCT((RECETTES!$C$22:$C$31='LISTE DE COURSE'!E54)*(RECETTES!$B$22:$B$31))*RECETTES!$A$19)+(SUMPRODUCT((RECETTES!$F$22:$F$31='LISTE DE COURSE'!E54)*(RECETTES!$E$22:$E$31))*RECETTES!$D$19)+(SUMPRODUCT((RECETTES!$I$22:$I$31='LISTE DE COURSE'!E54)*(RECETTES!$H$22:$H$31))*RECETTES!$G$19) -> 0 | G54: =IF(SUMPRODUCT(('LISTE DE COURSE'!F54)-(STOCK!E54))>0,SUMPRODUCT(('LISTE DE COURSE'!F54)-(STOCK!E54)),0) -> 0
A55: Noix de pécan | B55: =(SUMPRODUCT((RECETTES!$C$7:$C$17='LISTE DE COURSE'!A55)*(RECETTES!$B$7:$B$17))*RECETTES!$A$4)+(SUMPRODUCT((RECETTES!$F$7:$F$17='LISTE DE COURSE'!A55)*(RECETTES!$E$7:$E$17))*RECETTES!$D$4)+(SUMPRODUCT((RECETTES!$I$7:$I$17='LISTE DE COURSE'!A55)*(RECETTES!$H$7:$H$17))*RECETTES!$G$4)+(SUMPRODUCT((RECETTES!$K$7:$K$17='LISTE DE COURSE'!A55)*(RECETTES!$K$7:$K$17))*RECETTES!$J$4)+(SUMPRODUCT((RECETTES!$O$7:$O$17='LISTE DE COURSE'!A55)*(RECETTES!$N$7:$N$17))*RECETTES!$M$4)+(SUMPRODUCT((RECETTES!$C$22:$C$31='LISTE DE COURSE'!A55)*(RECETTES!$B$22:$B$31))*RECETTES!$A$19)+(SUMPRODUCT((RECETTES!$F$22:$F$31='LISTE DE COURSE'!A55)*(RECETTES!$E$22:$E$31))*RECETTES!$D$19)+(SUMPRODUCT((RECETTES!$I$22:$I$31='LISTE DE COURSE'!A55)*(RECETTES!$H$22:$H$31))*RECETTES!$G$19) -> 0 | C55: =IF(SUMPRODUCT(('LISTE DE COURSE'!B55)-(STOCK!B55))>0,SUMPRODUCT(('LISTE DE COURSE'!B55)-(STOCK!B55)),0) -> 0 | E55: Colorant orange | F55: =(SUMPRODUCT((RECETTES!$C$7:$C$17='LISTE DE COURSE'!E55)*(RECETTES!$B$7:$B$17))*RECETTES!$A$4)+(SUMPRODUCT((RECETTES!$F$7:$F$17='LISTE DE COURSE'!E55)*(RECETTES!$E$7:$E$17))*RECETTES!$D$4)+(SUMPRODUCT((RECETTES!$I$7:$I$17='LISTE DE COURSE'!E55)*(RECETTES!$H$7:$H$17))*RECETTES!$G$4)+(SUMPRODUCT((RECETTES!$K$7:$K$17='LISTE DE COURSE'!E55)*(RECETTES!$K$7:$K$17))*RECETTES!$J$4)+(SUMPRODUCT((RECETTES!$O$7:$O$17='LISTE DE COURSE'!E55)*(RECETTES!$N$7:$N$17))*RECETTES!$M$4)+(SUMPRODUCT((RECETTES!$C$22:$C$31='LISTE DE COURSE'!E55)*(RECETTES!$B$22:$B$31))*RECETTES!$A$19)+(SUMPRODUCT((RECETTES!$F$22:$F$31='LISTE DE COURSE'!E55)*(RECETTES!$E$22:$E$31))*RECETTES!$D$19)+(SUMPRODUCT((RECETTES!$I$22:$I$31='LISTE DE COURSE'!E55)*(RECETTES!$H$22:$H$31))*RECETTES!$G$19) -> 0 | G55: =IF(SUMPRODUCT(('LISTE DE COURSE'!F55)-(STOCK!E55))>0,SUMPRODUCT(('LISTE DE COURSE'!F55)-(STOCK!E55)),0) -> 0
A56: Pâte d'amande | B56: =(SUMPRODUCT((RECETTES!$C$7:$C$17='LISTE DE COURSE'!A56)*(RECETTES!$B$7:$B$17))*RECETTES!$A$4)+(SUMPRODUCT((RECETTES!$F$7:$F$17='LISTE DE COURSE'!A56)*(RECETTES!$E$7:$E$17))*RECETTES!$D$4)+(SUMPRODUCT((RECETTES!$I$7:$I$17='LISTE DE COURSE'!A56)*(RECETTES!$H$7:$H$17))*RECETTES!$G$4)+(SUMPRODUCT((RECETTES!$K$7:$K$17='LISTE DE COURSE'!A56)*(RECETTES!$K$7:$K$17))*RECETTES!$J$4)+(SUMPRODUCT((RECETTES!$O$7:$O$17='LISTE DE COURSE'!A56)*(RECETTES!$N$7:$N$17))*RECETTES!$M$4)+(SUMPRODUCT((RECETTES!$C$22:$C$31='LISTE DE COURSE'!A56)*(RECETTES!$B$22:$B$31))*RECETTES!$A$19)+(SUMPRODUCT((RECETTES!$F$22:$F$31='LISTE DE COURSE'!A56)*(RECETTES!$E$22:$E$31))*RECETTES!$D$19)+(SUMPRODUCT((RECETTES!$I$22:$I$31='LISTE DE COURSE'!A56)*(RECETTES!$H$22:$H$31))*RECETTES!$G$19) -> 0 | C56: =IF(SUMPRODUCT(('LISTE DE COURSE'!B56)-(STOCK!B56))>0,SUMPRODUCT(('LISTE DE COURSE'!B56)-(STOCK!B56)),0) -> 0 | E56: Colorant rose | F56: =(SUMPRODUCT((RECETTES!$C$7:$C$17='LISTE DE COURSE'!E56)*(RECETTES!$B$7:$B$17))*RECETTES!$A$4)+(SUMPRODUCT((RECETTES!$F$7:$F$17='LISTE DE COURSE'!E56)*(RECETTES!$E$7:$E$17))*RECETTES!$D$4)+(SUMPRODUCT((RECETTES!$I$7:$I$17='LISTE DE COURSE'!E56)*(RECETTES!$H$7:$H$17))*RECETTES!$G$4)+(SUMPRODUCT((RECETTES!$K$7:$K$17='LISTE DE COURSE'!E56)*(RECETTES!$K$7:$K$17))*RECETTES!$J$4)+(SUMPRODUCT((RECETTES!$O$7:$O$17='LISTE DE COURSE'!E56)*(RECETTES!$N$7:$N$17))*RECETTES!$M$4)+(SUMPRODUCT((RECETTES!$C$22:$C$31='LISTE DE COURSE'!E56)*(RECETTES!$B$22:$B$31))*RECETTES!$A$19)+(SUMPRODUCT((RECETTES!$F$22:$F$31='LISTE DE COURSE'!E56)*(RECETTES!$E$22:$E$31))*RECETTES!$D$19)+(SUMPRODUCT((RECETTES!$I$22:$I$31='LISTE DE COURSE'!E56)*(RECETTES!$H$22:$H$31))*RECETTES!$G$19) -> 0 | G56: =IF(SUMPRODUCT(('LISTE DE COURSE'!F56)-(STOCK!E56))>0,SUMPRODUCT(('LISTE DE COURSE'!F56)-(STOCK!E56)),0) -> 0
A57: Pâte de Marron | B57: =(SUMPRODUCT((RECETTES!$C$7:$C$17='LISTE DE COURSE'!A57)*(RECETTES!$B$7:$B$17))*RECETTES!$A$4)+(SUMPRODUCT((RECETTES!$F$7:$F$17='LISTE DE COURSE'!A57)*(RECETTES!$E$7:$E$17))*RECETTES!$D$4)+(SUMPRODUCT((RECETTES!$I$7:$I$17='LISTE DE COURSE'!A57)*(RECETTES!$H$7:$H$17))*RECETTES!$G$4)+(SUMPRODUCT((RECETTES!$K$7:$K$17='LISTE DE COURSE'!A57)*(RECETTES!$K$7:$K$17))*RECETTES!$J$4)+(SUMPRODUCT((RECETTES!$O$7:$O$17='LISTE DE COURSE'!A57)*(RECETTES!$N$7:$N$17))*RECETTES!$M$4)+(SUMPRODUCT((RECETTES!$C$22:$C$31='LISTE DE COURSE'!A57)*(RECETTES!$B$22:$B$31))*RECETTES!$A$19)+(SUMPRODUCT((RECETTES!$F$22:$F$31='LISTE DE COURSE'!A57)*(RECETTES!$E$22:$E$31))*RECETTES!$D$19)+(SUMPRODUCT((RECETTES!$I$22:$I$31='LISTE DE COURSE'!A57)*(RECETTES!$H$22:$H$31))*RECETTES!$G$19) -> 0 | C57: =IF(SUMPRODUCT(('LISTE DE COURSE'!B57)-(STOCK!B57))>0,SUMPRODUCT(('LISTE DE COURSE'!B57)-(STOCK!B57)),0) -> 0 | E57: Colorant rouge | F57: =(SUMPRODUCT((RECETTES!$C$7:$C$17='LISTE DE COURSE'!E57)*(RECETTES!$B$7:$B$17))*RECETTES!$A$4)+(SUMPRODUCT((RECETTES!$F$7:$F$17='LISTE DE COURSE'!E57)*(RECETTES!$E$7:$E$17))*RECETTES!$D$4)+(SUMPRODUCT((RECETTES!$I$7:$I$17='LISTE DE COURSE'!E57)*(RECETTES!$H$7:$H$17))*RECETTES!$G$4)+(SUMPRODUCT((RECETTES!$K$7:$K$17='LISTE DE COURSE'!E57)*(RECETTES!$K$7:$K$17))*RECETTES!$J$4)+(SUMPRODUCT((RECETTES!$O$7:$O$17='LISTE DE COURSE'!E57)*(RECETTES!$N$7:$N$17))*RECETTES!$M$4)+(SUMPRODUCT((RECETTES!$C$22:$C$31='LISTE DE COURSE'!E57)*(RECETTES!$B$22:$B$31))*RECETTES!$A$19)+(SUMPRODUCT((RECETTES!$F$22:$F$31='LISTE DE COURSE'!E57)*(RECETTES!$E$22:$E$31))*RECETTES!$D$19)+(SUMPRODUCT((RECETTES!$I$22:$I$31='LISTE DE COURSE'!E57)*(RECETTES!$H$22:$H$31))*RECETTES!$G$19) -> 0 | G57: =IF(SUMPRODUCT(('LISTE DE COURSE'!F57)-(STOCK!E57))>0,SUMPRODUCT(('LISTE DE COURSE'!F57)-(STOCK!E57)),0) -> 0
A58: Pâte de noisettes | B58: =(SUMPRODUCT((RECETTES!$C$7:$C$17='LISTE DE COURSE'!A58)*(RECETTES!$B$7:$B$17))*RECETTES!$A$4)+(SUMPRODUCT((RECETTES!$F$7:$F$17='LISTE DE COURSE'!A58)*(RECETTES!$E$7:$E$17))*RECETTES!$D$4)+(SUMPRODUCT((RECETTES!$I$7:$I$17='LISTE DE COURSE'!A58)*(RECETTES!$H$7:$H$17))*RECETTES!$G$4)+(SUMPRODUCT((RECETTES!$K$7:$K$17='LISTE DE COURSE'!A58)*(RECETTES!$K$7:$K$17))*RECETTES!$J$4)+(SUMPRODUCT((RECETTES!$O$7:$O$17='LISTE DE COURSE'!A58)*(RECETTES!$N$7:$N$17))*RECETTES!$M$4)+(SUMPRODUCT((RECETTES!$C$22:$C$31='LISTE DE COURSE'!A58)*(RECETTES!$B$22:$B$31))*RECETTES!$A$19)+(SUMPRODUCT((RECETTES!$F$22:$F$31='LISTE DE COURSE'!A58)*(RECETTES!$E$22:$E$31))*RECETTES!$D$19)+(SUMPRODUCT((RECETTES!$I$22:$I$31='LISTE DE COURSE'!A58)*(RECETTES!$H$22:$H$31))*RECETTES!$G$19) -> 4 | C58: =IF(SUMPRODUCT(('LISTE DE COURSE'!B58)-(STOCK!B58))>0,SUMPRODUCT(('LISTE DE COURSE'!B58)-(STOCK!B58)),0) -> 4 | E58: Colorant vert | F58: =(SUMPRODUCT((RECETTES!$C$7:$C$17='LISTE DE COURSE'!E58)*(RECETTES!$B$7:$B$17))*RECETTES!$A$4)+(SUMPRODUCT((RECETTES!$F$7:$F$17='LISTE DE COURSE'!E58)*(RECETTES!$E$7:$E$17))*RECETTES!$D$4)+(SUMPRODUCT((RECETTES!$I$7:$I$17='LISTE DE COURSE'!E58)*(RECETTES!$H$7:$H$17))*RECETTES!$G$4)+(SUMPRODUCT((RECETTES!$K$7:$K$17='LISTE DE COURSE'!E58)*(RECETTES!$K$7:$K$17))*RECETTES!$J$4)+(SUMPRODUCT((RECETTES!$O$7:$O$17='LISTE DE COURSE'!E58)*(RECETTES!$N$7:$N$17))*RECETTES!$M$4)+(SUMPRODUCT((RECETTES!$C$22:$C$31='LISTE DE COURSE'!E58)*(RECETTES!$B$22:$B$31))*RECETTES!$A$19)+(SUMPRODUCT((RECETTES!$F$22:$F$31='LISTE DE COURSE'!E58)*(RECETTES!$E$22:$E$31))*RECETTES!$D$19)+(SUMPRODUCT((RECETTES!$I$22:$I$31='LISTE DE COURSE'!E58)*(RECETTES!$H$22:$H$31))*RECETTES!$G$19) -> 0 | G58: =IF(SUMPRODUCT(('LISTE DE COURSE'!F58)-(STOCK!E58))>0,SUMPRODUCT(('LISTE DE COURSE'!F58)-(STOCK!E58)),0) -> 0
A59: Pâte de pistache | B59: =(SUMPRODUCT((RECETTES!$C$7:$C$17='LISTE DE COURSE'!A59)*(RECETTES!$B$7:$B$17))*RECETTES!$A$4)+(SUMPRODUCT((RECETTES!$F$7:$F$17='LISTE DE COURSE'!A59)*(RECETTES!$E$7:$E$17))*RECETTES!$D$4)+(SUMPRODUCT((RECETTES!$I$7:$I$17='LISTE DE COURSE'!A59)*(RECETTES!$H$7:$H$17))*RECETTES!$G$4)+(SUMPRODUCT((RECETTES!$K$7:$K$17='LISTE DE COURSE'!A59)*(RECETTES!$K$7:$K$17))*RECETTES!$J$4)+(SUMPRODUCT((RECETTES!$O$7:$O$17='LISTE DE COURSE'!A59)*(RECETTES!$N$7:$N$17))*RECETTES!$M$4)+(SUMPRODUCT((RECETTES!$C$22:$C$31='LISTE DE COURSE'!A59)*(RECETTES!$B$22:$B$31))*RECETTES!$A$19)+(SUMPRODUCT((RECETTES!$F$22:$F$31='LISTE DE COURSE'!A59)*(RECETTES!$E$22:$E$31))*RECETTES!$D$19)+(SUMPRODUCT((RECETTES!$I$22:$I$31='LISTE DE COURSE'!A59)*(RECETTES!$H$22:$H$31))*RECETTES!$G$19) -> 0 | C59: =IF(SUMPRODUCT(('LISTE DE COURSE'!B59)-(STOCK!B59))>0,SUMPRODUCT(('LISTE DE COURSE'!B59)-(STOCK!B59)),0) -> 0 | E59: Fondant blanc | F59: =(SUMPRODUCT((RECETTES!$C$7:$C$17='LISTE DE COURSE'!E59)*(RECETTES!$B$7:$B$17))*RECETTES!$A$4)+(SUMPRODUCT((RECETTES!$F$7:$F$17='LISTE DE COURSE'!E59)*(RECETTES!$E$7:$E$17))*RECETTES!$D$4)+(SUMPRODUCT((RECETTES!$I$7:$I$17='LISTE DE COURSE'!E59)*(RECETTES!$H$7:$H$17))*RECETTES!$G$4)+(SUMPRODUCT((RECETTES!$K$7:$K$17='LISTE DE COURSE'!E59)*(RECETTES!$K$7:$K$17))*RECETTES!$J$4)+(SUMPRODUCT((RECETTES!$O$7:$O$17='LISTE DE COURSE'!E59)*(RECETTES!$N$7:$N$17))*RECETTES!$M$4)+(SUMPRODUCT((RECETTES!$C$22:$C$31='LISTE DE COURSE'!E59)*(RECETTES!$B$22:$B$31))*RECETTES!$A$19)+(SUMPRODUCT((RECETTES!$F$22:$F$31='LISTE DE COURSE'!E59)*(RECETTES!$E$22:$E$31))*RECETTES!$D$19)+(SUMPRODUCT((RECETTES!$I$22:$I$31='LISTE DE COURSE'!E59)*(RECETTES!$H$22:$H$31))*RECETTES!$G$19) -> 0 | G59: =IF(SUMPRODUCT(('LISTE DE COURSE'!F59)-(STOCK!E59))>0,SUMPRODUCT(('LISTE DE COURSE'!F59)-(STOCK!E59)),0) -> 0
A60: Pâte de Spéculoos | B60: =(SUMPRODUCT((RECETTES!$C$7:$C$17='LISTE DE COURSE'!A60)*(RECETTES!$B$7:$B$17))*RECETTES!$A$4)+(SUMPRODUCT((RECETTES!$F$7:$F$17='LISTE DE COURSE'!A60)*(RECETTES!$E$7:$E$17))*RECETTES!$D$4)+(SUMPRODUCT((RECETTES!$I$7:$I$17='LISTE DE COURSE'!A60)*(RECETTES!$H$7:$H$17))*RECETTES!$G$4)+(SUMPRODUCT((RECETTES!$K$7:$K$17='LISTE DE COURSE'!A60)*(RECETTES!$K$7:$K$17))*RECETTES!$J$4)+(SUMPRODUCT((RECETTES!$O$7:$O$17='LISTE DE COURSE'!A60)*(RECETTES!$N$7:$N$17))*RECETTES!$M$4)+(SUMPRODUCT((RECETTES!$C$22:$C$31='LISTE DE COURSE'!A60)*(RECETTES!$B$22:$B$31))*RECETTES!$A$19)+(SUMPRODUCT((RECETTES!$F$22:$F$31='LISTE DE COURSE'!A60)*(RECETTES!$E$22:$E$31))*RECETTES!$D$19)+(SUMPRODUCT((RECETTES!$I$22:$I$31='LISTE DE COURSE'!A60)*(RECETTES!$H$22:$H$31))*RECETTES!$G$19) -> 0 | C60: =IF(SUMPRODUCT(('LISTE DE COURSE'!B60)-(STOCK!B60))>0,SUMPRODUCT(('LISTE DE COURSE'!B60)-(STOCK!B60)),0) -> 0 | E60: Gélatine | F60: =(SUMPRODUCT((RECETTES!$C$7:$C$17='LISTE DE COURSE'!E60)*(RECETTES!$B$7:$B$17))*RECETTES!$A$4)+(SUMPRODUCT((RECETTES!$F$7:$F$17='LISTE DE COURSE'!E60)*(RECETTES!$E$7:$E$17))*RECETTES!$D$4)+(SUMPRODUCT((RECETTES!$I$7:$I$17='LISTE DE COURSE'!E60)*(RECETTES!$H$7:$H$17))*RECETTES!$G$4)+(SUMPRODUCT((RECETTES!$K$7:$K$17='LISTE DE COURSE'!E60)*(RECETTES!$K$7:$K$17))*RECETTES!$J$4)+(SUMPRODUCT((RECETTES!$O$7:$O$17='LISTE DE COURSE'!E60)*(RECETTES!$N$7:$N$17))*RECETTES!$M$4)+(SUMPRODUCT((RECETTES!$C$22:$C$31='LISTE DE COURSE'!E60)*(RECETTES!$B$22:$B$31))*RECETTES!$A$19)+(SUMPRODUCT((RECETTES!$F$22:$F$31='LISTE DE COURSE'!E60)*(RECETTES!$E$22:$E$31))*RECETTES!$D$19)+(SUMPRODUCT((RECETTES!$I$22:$I$31='LISTE DE COURSE'!E60)*(RECETTES!$H$22:$H$31))*RECETTES!$G$19) -> 0 | G60: =IF(SUMPRODUCT(('LISTE DE COURSE'!F60)-(STOCK!E60))>0,SUMPRODUCT(('LISTE DE COURSE'!F60)-(STOCK!E60)),0) -> 0
A61: Pistaches hachées | B61: =(SUMPRODUCT((RECETTES!$C$7:$C$17='LISTE DE COURSE'!A61)*(RECETTES!$B$7:$B$17))*RECETTES!$A$4)+(SUMPRODUCT((RECETTES!$F$7:$F$17='LISTE DE COURSE'!A61)*(RECETTES!$E$7:$E$17))*RECETTES!$D$4)+(SUMPRODUCT((RECETTES!$I$7:$I$17='LISTE DE COURSE'!A61)*(RECETTES!$H$7:$H$17))*RECETTES!$G$4)+(SUMPRODUCT((RECETTES!$K$7:$K$17='LISTE DE COURSE'!A61)*(RECETTES!$K$7:$K$17))*RECETTES!$J$4)+(SUMPRODUCT((RECETTES!$O$7:$O$17='LISTE DE COURSE'!A61)*(RECETTES!$N$7:$N$17))*RECETTES!$M$4)+(SUMPRODUCT((RECETTES!$C$22:$C$31='LISTE DE COURSE'!A61)*(RECETTES!$B$22:$B$31))*RECETTES!$A$19)+(SUMPRODUCT((RECETTES!$F$22:$F$31='LISTE DE COURSE'!A61)*(RECETTES!$E$22:$E$31))*RECETTES!$D$19)+(SUMPRODUCT((RECETTES!$I$22:$I$31='LISTE DE COURSE'!A61)*(RECETTES!$H$22:$H$31))*RECETTES!$G$19) -> 0 | C61: =IF(SUMPRODUCT(('LISTE DE COURSE'!B61)-(STOCK!B61))>0,SUMPRODUCT(('LISTE DE COURSE'!B61)-(STOCK!B61)),0) -> 0 | E61: Isomalt | F61: =(SUMPRODUCT((RECETTES!$C$7:$C$17='LISTE DE COURSE'!E61)*(RECETTES!$B$7:$B$17))*RECETTES!$A$4)+(SUMPRODUCT((RECETTES!$F$7:$F$17='LISTE DE COURSE'!E61)*(RECETTES!$E$7:$E$17))*RECETTES!$D$4)+(SUMPRODUCT((RECETTES!$I$7:$I$17='LISTE DE COURSE'!E61)*(RECETTES!$H$7:$H$17))*RECETTES!$G$4)+(SUMPRODUCT((RECETTES!$K$7:$K$17='LISTE DE COURSE'!E61)*(RECETTES!$K$7:$K$17))*RECETTES!$J$4)+(SUMPRODUCT((RECETTES!$O$7:$O$17='LISTE DE COURSE'!E61)*(RECETTES!$N$7:$N$17))*RECETTES!$M$4)+(SUMPRODUCT((RECETTES!$C$22:$C$31='LISTE DE COURSE'!E61)*(RECETTES!$B$22:$B$31))*RECETTES!$A$19)+(SUMPRODUCT((RECETTES!$F$22:$F$31='LISTE DE COURSE'!E61)*(RECETTES!$E$22:$E$31))*RECETTES!$D$19)+(SUMPRODUCT((RECETTES!$I$22:$I$31='LISTE DE COURSE'!E61)*(RECETTES!$H$22:$H$31))*RECETTES!$G$19) -> 0 | G61: =IF(SUMPRODUCT(('LISTE DE COURSE'!F61)-(STOCK!E61))>0,SUMPRODUCT(('LISTE DE COURSE'!F61)-(STOCK!E61)),0) -> 0
... A63: Poudre de noisettes | B63: =(SUMPRODUCT((RECETTES!$C$7:$C$17='LISTE DE COURSE'!A63)*(RECETTES!$B$7:$B$17))*RECETTES!$A$4)+(SUMPRODUCT((RECETTES!$F$7:$F$17='LISTE DE COURSE'!A63)*(RECETTES!$E$7:$E$17))*RECETTES!$D$4)+(SUMPRODUCT((RECETTES!$I$7:$I$17='LISTE DE COURSE'!A63)*(RECETTES!$H$7:$H$17))*RECETTES!$G$4)+(SUMPRODUCT((RECETTES!$K$7:$K$17='LISTE DE COURSE'!A63)*(RECETTES!$K$7:$K$17))*RECETTES!$J$4)+(SUMPRODUCT((RECETTES!$O$7:$O$17='LISTE DE COURSE'!A63)*(RECETTES!$N$7:$N$17))*RECETTES!$M$4)+(SUMPRODUCT((RECETTES!$C$22:$C$31='LISTE DE COURSE'!A63)*(RECETTES!$B$22:$B$31))*RECETTES!$A$19)+(SUMPRODUCT((RECETTES!$F$22:$F$31='LISTE DE COURSE'!A63)*(RECETTES!$E$22:$E$31))*RECETTES!$D$19)+(SUMPRODUCT((RECETTES!$I$22:$I$31='LISTE DE COURSE'!A63)*(RECETTES!$H$22:$H$31))*RECETTES!$G$19) -> 0 | C63: =IF(SUMPRODUCT(('LISTE DE COURSE'!B63)-(STOCK!B63))>0,SUMPRODUCT(('LISTE DE COURSE'!B63)-(STOCK!B63)),0) -> 0 | E63: Sorbitol | F63: =(SUMPRODUCT((RECETTES!$C$7:$C$17='LISTE DE COURSE'!E63)*(RECETTES!$B$7:$B$17))*RECETTES!$A$4)+(SUMPRODUCT((RECETTES!$F$7:$F$17='LISTE DE COURSE'!E63)*(RECETTES!$E$7:$E$17))*RECETTES!$D$4)+(SUMPRODUCT((RECETTES!$I$7:$I$17='LISTE DE COURSE'!E63)*(RECETTES!$H$7:$H$17))*RECETTES!$G$4)+(SUMPRODUCT((RECETTES!$K$7:$K$17='LISTE DE COURSE'!E63)*(RECETTES!$K$7:$K$17))*RECETTES!$J$4)+(SUMPRODUCT((RECETTES!$O$7:$O$17='LISTE DE COURSE'!E63)*(RECETTES!$N$7:$N$17))*RECETTES!$M$4)+(SUMPRODUCT((RECETTES!$C$22:$C$31='LISTE DE COURSE'!E63)*(RECETTES!$B$22:$B$31))*RECETTES!$A$19)+(SUMPRODUCT((RECETTES!$F$22:$F$31='LISTE DE COURSE'!E63)*(RECETTES!$E$22:$E$31))*RECETTES!$D$19)+(SUMPRODUCT((RECETTES!$I$22:$I$31='LISTE DE COURSE'!E63)*(RECETTES!$H$22:$H$31))*RECETTES!$G$19) -> 0 | G63: =IF(SUMPRODUCT(('LISTE DE COURSE'!F63)-(STOCK!E63))>0,SUMPRODUCT(('LISTE DE COURSE'!F63)-(STOCK!E63)),0) -> 0
A64: Poudre de pistaches | B64: =(SUMPRODUCT((RECETTES!$C$7:$C$17='LISTE DE COURSE'!A64)*(RECETTES!$B$7:$B$17))*RECETTES!$A$4)+(SUMPRODUCT((RECETTES!$F$7:$F$17='LISTE DE COURSE'!A64)*(RECETTES!$E$7:$E$17))*RECETTES!$D$4)+(SUMPRODUCT((RECETTES!$I$7:$I$17='LISTE DE COURSE'!A64)*(RECETTES!$H$7:$H$17))*RECETTES!$G$4)+(SUMPRODUCT((RECETTES!$K$7:$K$17='LISTE DE COURSE'!A64)*(RECETTES!$K$7:$K$17))*RECETTES!$J$4)+(SUMPRODUCT((RECETTES!$O$7:$O$17='LISTE DE COURSE'!A64)*(RECETTES!$N$7:$N$17))*RECETTES!$M$4)+(SUMPRODUCT((RECETTES!$C$22:$C$31='LISTE DE COURSE'!A64)*(RECETTES!$B$22:$B$31))*RECETTES!$A$19)+(SUMPRODUCT((RECETTES!$F$22:$F$31='LISTE DE COURSE'!A64)*(RECETTES!$E$22:$E$31))*RECETTES!$D$19)+(SUMPRODUCT((RECETTES!$I$22:$I$31='LISTE DE COURSE'!A64)*(RECETTES!$H$22:$H$31))*RECETTES!$G$19) -> 0 | C64: =IF(SUMPRODUCT(('LISTE DE COURSE'!B64)-(STOCK!B64))>0,SUMPRODUCT(('LISTE DE COURSE'!B64)-(STOCK!B64)),0) -> 0
A65: Riz soufflé | B65: =(SUMPRODUCT((RECETTES!$C$7:$C$17='LISTE DE COURSE'!A65)*(RECETTES!$B$7:$B$17))*RECETTES!$A$4)+(SUMPRODUCT((RECETTES!$F$7:$F$17='LISTE DE COURSE'!A65)*(RECETTES!$E$7:$E$17))*RECETTES!$D$4)+(SUMPRODUCT((RECETTES!$I$7:$I$17='LISTE DE COURSE'!A65)*(RECETTES!$H$7:$H$17))*RECETTES!$G$4)+(SUMPRODUCT((RECETTES!$K$7:$K$17='LISTE DE COURSE'!A65)*(RECETTES!$K$7:$K$17))*RECETTES!$J$4)+(SUMPRODUCT((RECETTES!$O$7:$O$17='LISTE DE COURSE'!A65)*(RECETTES!$N$7:$N$17))*RECETTES!$M$4)+(SUMPRODUCT((RECETTES!$C$22:$C$31='LISTE DE COURSE'!A65)*(RECETTES!$B$22:$B$31))*RECETTES!$A$19)+(SUMPRODUCT((RECETTES!$F$22:$F$31='LISTE DE COURSE'!A65)*(RECETTES!$E$22:$E$31))*RECETTES!$D$19)+(SUMPRODUCT((RECETTES!$I$22:$I$31='LISTE DE COURSE'!A65)*(RECETTES!$H$22:$H$31))*RECETTES!$G$19) -> 0 | C65: =IF(SUMPRODUCT(('LISTE DE COURSE'!B65)-(STOCK!B65))>0,SUMPRODUCT(('LISTE DE COURSE'!B65)-(STOCK!B65)),0) -> 0
A66: Sésame noir | B66: =(SUMPRODUCT((RECETTES!$C$7:$C$17='LISTE DE COURSE'!A66)*(RECETTES!$B$7:$B$17))*RECETTES!$A$4)+(SUMPRODUCT((RECETTES!$F$7:$F$17='LISTE DE COURSE'!A66)*(RECETTES!$E$7:$E$17))*RECETTES!$D$4)+(SUMPRODUCT((RECETTES!$I$7:$I$17='LISTE DE COURSE'!A66)*(RECETTES!$H$7:$H$17))*RECETTES!$G$4)+(SUMPRODUCT((RECETTES!$K$7:$K$17='LISTE DE COURSE'!A66)*(RECETTES!$K$7:$K$17))*RECETTES!$J$4)+(SUMPRODUCT((RECETTES!$O$7:$O$17='LISTE DE COURSE'!A66)*(RECETTES!$N$7:$N$17))*RECETTES!$M$4)+(SUMPRODUCT((RECETTES!$C$22:$C$31='LISTE DE COURSE'!A66)*(RECETTES!$B$22:$B$31))*RECETTES!$A$19)+(SUMPRODUCT((RECETTES!$F$22:$F$31='LISTE DE COURSE'!A66)*(RECETTES!$E$22:$E$31))*RECETTES!$D$19)+(SUMPRODUCT((RECETTES!$I$22:$I$31='LISTE DE COURSE'!A66)*(RECETTES!$H$22:$H$31))*RECETTES!$G$19) -> 0 | C66: =IF(SUMPRODUCT(('LISTE DE COURSE'!B66)-(STOCK!B66))>0,SUMPRODUCT(('LISTE DE COURSE'!B66)-(STOCK!B66)),0) -> 0 | E66: HUILES - VINAIGRES | F66: Nécessaire | G66: Achat
A67: Spéculoos | B67: =(SUMPRODUCT((RECETTES!$C$7:$C$17='LISTE DE COURSE'!A67)*(RECETTES!$B$7:$B$17))*RECETTES!$A$4)+(SUMPRODUCT((RECETTES!$F$7:$F$17='LISTE DE COURSE'!A67)*(RECETTES!$E$7:$E$17))*RECETTES!$D$4)+(SUMPRODUCT((RECETTES!$I$7:$I$17='LISTE DE COURSE'!A67)*(RECETTES!$H$7:$H$17))*RECETTES!$G$4)+(SUMPRODUCT((RECETTES!$K$7:$K$17='LISTE DE COURSE'!A67)*(RECETTES!$K$7:$K$17))*RECETTES!$J$4)+(SUMPRODUCT((RECETTES!$O$7:$O$17='LISTE DE COURSE'!A67)*(RECETTES!$N$7:$N$17))*RECETTES!$M$4)+(SUMPRODUCT((RECETTES!$C$22:$C$31='LISTE DE COURSE'!A67)*(RECETTES!$B$22:$B$31))*RECETTES!$A$19)+(SUMPRODUCT((RECETTES!$F$22:$F$31='LISTE DE COURSE'!A67)*(RECETTES!$E$22:$E$31))*RECETTES!$D$19)+(SUMPRODUCT((RECETTES!$I$22:$I$31='LISTE DE COURSE'!A67)*(RECETTES!$H$22:$H$31))*RECETTES!$G$19) -> 0 | C67: =IF(SUMPRODUCT(('LISTE DE COURSE'!B67)-(STOCK!B67))>0,SUMPRODUCT(('LISTE DE COURSE'!B67)-(STOCK!B67)),0) -> 0
E68: Eau | F68: =(SUMPRODUCT((RECETTES!$C$7:$C$17='LISTE DE COURSE'!E68)*(RECETTES!$B$7:$B$17))*RECETTES!$A$4)+(SUMPRODUCT((RECETTES!$F$7:$F$17='LISTE DE COURSE'!E68)*(RECETTES!$E$7:$E$17))*RECETTES!$D$4)+(SUMPRODUCT((RECETTES!$I$7:$I$17='LISTE DE COURSE'!E68)*(RECETTES!$H$7:$H$17))*RECETTES!$G$4)+(SUMPRODUCT((RECETTES!$K$7:$K$17='LISTE DE COURSE'!E68)*(RECETTES!$K$7:$K$17))*RECETTES!$J$4)+(SUMPRODUCT((RECETTES!$O$7:$O$17='LISTE DE COURSE'!E68)*(RECETTES!$N$7:$N$17))*RECETTES!$M$4)+(SUMPRODUCT((RECETTES!$C$22:$C$31='LISTE DE COURSE'!E68)*(RECETTES!$B$22:$B$31))*RECETTES!$A$19)+(SUMPRODUCT((RECETTES!$F$22:$F$31='LISTE DE COURSE'!E68)*(RECETTES!$E$22:$E$31))*RECETTES!$D$19)+(SUMPRODUCT((RECETTES!$I$22:$I$31='LISTE DE COURSE'!E68)*(RECETTES!$H$22:$H$31))*RECETTES!$G$19) -> 0 | G68: =IF(SUMPRODUCT(('LISTE DE COURSE'!F68)-(STOCK!E68))>0,SUMPRODUCT(('LISTE DE COURSE'!F68)-(STOCK!E68)),0) -> 0
E69: Huile de colza | F69: =(SUMPRODUCT((RECETTES!$C$7:$C$17='LISTE DE COURSE'!E69)*(RECETTES!$B$7:$B$17))*RECETTES!$A$4)+(SUMPRODUCT((RECETTES!$F$7:$F$17='LISTE DE COURSE'!E69)*(RECETTES!$E$7:$E$17))*RECETTES!$D$4)+(SUMPRODUCT((RECETTES!$I$7:$I$17='LISTE DE COURSE'!E69)*(RECETTES!$H$7:$H$17))*RECETTES!$G$4)+(SUMPRODUCT((RECETTES!$K$7:$K$17='LISTE DE COURSE'!E69)*(RECETTES!$K$7:$K$17))*RECETTES!$J$4)+(SUMPRODUCT((RECETTES!$O$7:$O$17='LISTE DE COURSE'!E69)*(RECETTES!$N$7:$N$17))*RECETTES!$M$4)+(SUMPRODUCT((RECETTES!$C$22:$C$31='LISTE DE COURSE'!E69)*(RECETTES!$B$22:$B$31))*RECETTES!$A$19)+(SUMPRODUCT((RECETTES!$F$22:$F$31='LISTE DE COURSE'!E69)*(RECETTES!$E$22:$E$31))*RECETTES!$D$19)+(SUMPRODUCT((RECETTES!$I$22:$I$31='LISTE DE COURSE'!E69)*(RECETTES!$H$22:$H$31))*RECETTES!$G$19) -> 0 | G69: =IF(SUMPRODUCT(('LISTE DE COURSE'!F69)-(STOCK!E69))>0,SUMPRODUCT(('LISTE DE COURSE'!F69)-(STOCK!E69)),0) -> 0
A70: CONSERVES | B70: Nécessaire | C70: Achat | E70: Huile de friture | F70: =(SUMPRODUCT((RECETTES!$C$7:$C$17='LISTE DE COURSE'!E70)*(RECETTES!$B$7:$B$17))*RECETTES!$A$4)+(SUMPRODUCT((RECETTES!$F$7:$F$17='LISTE DE COURSE'!E70)*(RECETTES!$E$7:$E$17))*RECETTES!$D$4)+(SUMPRODUCT((RECETTES!$I$7:$I$17='LISTE DE COURSE'!E70)*(RECETTES!$H$7:$H$17))*RECETTES!$G$4)+(SUMPRODUCT((RECETTES!$K$7:$K$17='LISTE DE COURSE'!E70)*(RECETTES!$K$7:$K$17))*RECETTES!$J$4)+(SUMPRODUCT((RECETTES!$O$7:$O$17='LISTE DE COURSE'!E70)*(RECETTES!$N$7:$N$17))*RECETTES!$M$4)+(SUMPRODUCT((RECETTES!$C$22:$C$31='LISTE DE COURSE'!E70)*(RECETTES!$B$22:$B$31))*RECETTES!$A$19)+(SUMPRODUCT((RECETTES!$F$22:$F$31='LISTE DE COURSE'!E70)*(RECETTES!$E$22:$E$31))*RECETTES!$D$19)+(SUMPRODUCT((RECETTES!$I$22:$I$31='LISTE DE COURSE'!E70)*(RECETTES!$H$22:$H$31))*RECETTES!$G$19) -> 0 | G70: =IF(SUMPRODUCT(('LISTE DE COURSE'!F70)-(STOCK!E70))>0,SUMPRODUCT(('LISTE DE COURSE'!F70)-(STOCK!E70)),0) -> 0
E71: Huile d'olive | F71: =(SUMPRODUCT((RECETTES!$C$7:$C$17='LISTE DE COURSE'!E71)*(RECETTES!$B$7:$B$17))*RECETTES!$A$4)+(SUMPRODUCT((RECETTES!$F$7:$F$17='LISTE DE COURSE'!E71)*(RECETTES!$E$7:$E$17))*RECETTES!$D$4)+(SUMPRODUCT((RECETTES!$I$7:$I$17='LISTE DE COURSE'!E71)*(RECETTES!$H$7:$H$17))*RECETTES!$G$4)+(SUMPRODUCT((RECETTES!$K$7:$K$17='LISTE DE COURSE'!E71)*(RECETTES!$K$7:$K$17))*RECETTES!$J$4)+(SUMPRODUCT((RECETTES!$O$7:$O$17='LISTE DE COURSE'!E71)*(RECETTES!$N$7:$N$17))*RECETTES!$M$4)+(SUMPRODUCT((RECETTES!$C$22:$C$31='LISTE DE COURSE'!E71)*(RECETTES!$B$22:$B$31))*RECETTES!$A$19)+(SUMPRODUCT((RECETTES!$F$22:$F$31='LISTE DE COURSE'!E71)*(RECETTES!$E$22:$E$31))*RECETTES!$D$19)+(SUMPRODUCT((RECETTES!$I$22:$I$31='LISTE DE COURSE'!E71)*(RECETTES!$H$22:$H$31))*RECETTES!$G$19) -> 0 | G71: =IF(SUMPRODUCT(('LISTE DE COURSE'!F71)-(STOCK!E71))>0,SUMPRODUCT(('LISTE DE COURSE'!F71)-(STOCK!E71)),0) -> 0
A72: Lait concentré non sucré | B72: =(SUMPRODUCT((RECETTES!$C$7:$C$17='LISTE DE COURSE'!A72)*(RECETTES!$B$7:$B$17))*RECETTES!$A$4)+(SUMPRODUCT((RECETTES!$F$7:$F$17='LISTE DE COURSE'!A72)*(RECETTES!$E$7:$E$17))*RECETTES!$D$4)+(SUMPRODUCT((RECETTES!$I$7:$I$17='LISTE DE COURSE'!A72)*(RECETTES!$H$7:$H$17))*RECETTES!$G$4)+(SUMPRODUCT((RECETTES!$K$7:$K$17='LISTE DE COURSE'!A72)*(RECETTES!$K$7:$K$17))*RECETTES!$J$4)+(SUMPRODUCT((RECETTES!$O$7:$O$17='LISTE DE COURSE'!A72)*(RECETTES!$N$7:$N$17))*RECETTES!$M$4)+(SUMPRODUCT((RECETTES!$C$22:$C$31='LISTE DE COURSE'!A72)*(RECETTES!$B$22:$B$31))*RECETTES!$A$19)+(SUMPRODUCT((RECETTES!$F$22:$F$31='LISTE DE COURSE'!A72)*(RECETTES!$E$22:$E$31))*RECETTES!$D$19)+(SUMPRODUCT((RECETTES!$I$22:$I$31='LISTE DE COURSE'!A72)*(RECETTES!$H$22:$H$31))*RECETTES!$G$19) -> 0 | C72: =IF(SUMPRODUCT(('LISTE DE COURSE'!B72)-(STOCK!B72))>0,SUMPRODUCT(('LISTE DE COURSE'!B72)-(STOCK!B72)),0) -> 0 | E72: Huile de pépin de raisin | F72: =(SUMPRODUCT((RECETTES!$C$7:$C$17='LISTE DE COURSE'!E72)*(RECETTES!$B$7:$B$17))*RECETTES!$A$4)+(SUMPRODUCT((RECETTES!$F$7:$F$17='LISTE DE COURSE'!E72)*(RECETTES!$E$7:$E$17))*RECETTES!$D$4)+(SUMPRODUCT((RECETTES!$I$7:$I$17='LISTE DE COURSE'!E72)*(RECETTES!$H$7:$H$17))*RECETTES!$G$4)+(SUMPRODUCT((RECETTES!$K$7:$K$17='LISTE DE COURSE'!E72)*(RECETTES!$K$7:$K$17))*RECETTES!$J$4)+(SUMPRODUCT((RECETTES!$O$7:$O$17='LISTE DE COURSE'!E72)*(RECETTES!$N$7:$N$17))*RECETTES!$M$4)+(SUMPRODUCT((RECETTES!$C$22:$C$31='LISTE DE COURSE'!E72)*(RECETTES!$B$22:$B$31))*RECETTES!$A$19)+(SUMPRODUCT((RECETTES!$F$22:$F$31='LISTE DE COURSE'!E72)*(RECETTES!$E$22:$E$31))*RECETTES!$D$19)+(SUMPRODUCT((RECETTES!$I$22:$I$31='LISTE DE COURSE'!E72)*(RECETTES!$H$22:$H$31))*RECETTES!$G$19) -> 0 | G72: =IF(SUMPRODUCT(('LISTE DE COURSE'!F72)-(STOCK!E72))>0,SUMPRODUCT(('LISTE DE COURSE'!F72)-(STOCK!E72)),0) -> 0
A73: Sirop d'érable | B73: =(SUMPRODUCT((RECETTES!$C$7:$C$17='LISTE DE COURSE'!A73)*(RECETTES!$B$7:$B$17))*RECETTES!$A$4)+(SUMPRODUCT((RECETTES!$F$7:$F$17='LISTE DE COURSE'!A73)*(RECETTES!$E$7:$E$17))*RECETTES!$D$4)+(SUMPRODUCT((RECETTES!$I$7:$I$17='LISTE DE COURSE'!A73)*(RECETTES!$H$7:$H$17))*RECETTES!$G$4)+(SUMPRODUCT((RECETTES!$K$7:$K$17='LISTE DE COURSE'!A73)*(RECETTES!$K$7:$K$17))*RECETTES!$J$4)+(SUMPRODUCT((RECETTES!$O$7:$O$17='LISTE DE COURSE'!A73)*(RECETTES!$N$7:$N$17))*RECETTES!$M$4)+(SUMPRODUCT((RECETTES!$C$22:$C$31='LISTE DE COURSE'!A73)*(RECETTES!$B$22:$B$31))*RECETTES!$A$19)+(SUMPRODUCT((RECETTES!$F$22:$F$31='LISTE DE COURSE'!A73)*(RECETTES!$E$22:$E$31))*RECETTES!$D$19)+(SUMPRODUCT((RECETTES!$I$22:$I$31='LISTE DE COURSE'!A73)*(RECETTES!$H$22:$H$31))*RECETTES!$G$19) -> 0 | C73: =IF(SUMPRODUCT(('LISTE DE COURSE'!B73)-(STOCK!B73))>0,SUMPRODUCT(('LISTE DE COURSE'!B73)-(STOCK!B73)),0) -> 0 | E73: Vinaigre blanc | F73: =(SUMPRODUCT((RECETTES!$C$7:$C$17='LISTE DE COURSE'!E73)*(RECETTES!$B$7:$B$17))*RECETTES!$A$4)+(SUMPRODUCT((RECETTES!$F$7:$F$17='LISTE DE COURSE'!E73)*(RECETTES!$E$7:$E$17))*RECETTES!$D$4)+(SUMPRODUCT((RECETTES!$I$7:$I$17='LISTE DE COURSE'!E73)*(RECETTES!$H$7:$H$17))*RECETTES!$G$4)+(SUMPRODUCT((RECETTES!$K$7:$K$17='LISTE DE COURSE'!E73)*(RECETTES!$K$7:$K$17))*RECETTES!$J$4)+(SUMPRODUCT((RECETTES!$O$7:$O$17='LISTE DE COURSE'!E73)*(RECETTES!$N$7:$N$17))*RECETTES!$M$4)+(SUMPRODUCT((RECETTES!$C$22:$C$31='LISTE DE COURSE'!E73)*(RECETTES!$B$22:$B$31))*RECETTES!$A$19)+(SUMPRODUCT((RECETTES!$F$22:$F$31='LISTE DE COURSE'!E73)*(RECETTES!$E$22:$E$31))*RECETTES!$D$19)+(SUMPRODUCT((RECETTES!$I$22:$I$31='LISTE DE COURSE'!E73)*(RECETTES!$H$22:$H$31))*RECETTES!$G$19) -> 0 | G73: =IF(SUMPRODUCT(('LISTE DE COURSE'!F73)-(STOCK!E73))>0,SUMPRODUCT(('LISTE DE COURSE'!F73)-(STOCK!E73)),0) -> 0
A76: CHOCOLATS | B76: Nécessaire | C76: Achat | E76: ALCOOLS | F76: Nécessaire | G76: Achat
A78: Beurre de cacao | B78: =(SUMPRODUCT((RECETTES!$C$7:$C$17='LISTE DE COURSE'!A78)*(RECETTES!$B$7:$B$17))*RECETTES!$A$4)+(SUMPRODUCT((RECETTES!$F$7:$F$17='LISTE DE COURSE'!A78)*(RECETTES!$E$7:$E$17))*RECETTES!$D$4)+(SUMPRODUCT((RECETTES!$I$7:$I$17='LISTE DE COURSE'!A78)*(RECETTES!$H$7:$H$17))*RECETTES!$G$4)+(SUMPRODUCT((RECETTES!$K$7:$K$17='LISTE DE COURSE'!A78)*(RECETTES!$K$7:$K$17))*RECETTES!$J$4)+(SUMPRODUCT((RECETTES!$O$7:$O$17='LISTE DE COURSE'!A78)*(RECETTES!$N$7:$N$17))*RECETTES!$M$4)+(SUMPRODUCT((RECETTES!$C$22:$C$31='LISTE DE COURSE'!A78)*(RECETTES!$B$22:$B$31))*RECETTES!$A$19)+(SUMPRODUCT((RECETTES!$F$22:$F$31='LISTE DE COURSE'!A78)*(RECETTES!$E$22:$E$31))*RECETTES!$D$19)+(SUMPRODUCT((RECETTES!$I$22:$I$31='LISTE DE COURSE'!A78)*(RECETTES!$H$22:$H$31))*RECETTES!$G$19) -> 0 | C78: =IF(SUMPRODUCT(('LISTE DE COURSE'!B78)-(STOCK!B78))>0,SUMPRODUCT(('LISTE DE COURSE'!B78)-(STOCK!B78)),0) -> 0 | E78: Amaretto | F78: =(SUMPRODUCT((RECETTES!$C$7:$C$17='LISTE DE COURSE'!E78)*(RECETTES!$B$7:$B$17))*RECETTES!$A$4)+(SUMPRODUCT((RECETTES!$F$7:$F$17='LISTE DE COURSE'!E78)*(RECETTES!$E$7:$E$17))*RECETTES!$D$4)+(SUMPRODUCT((RECETTES!$I$7:$I$17='LISTE DE COURSE'!E78)*(RECETTES!$H$7:$H$17))*RECETTES!$G$4)+(SUMPRODUCT((RECETTES!$K$7:$K$17='LISTE DE COURSE'!E78)*(RECETTES!$K$7:$K$17))*RECETTES!$J$4)+(SUMPRODUCT((RECETTES!$O$7:$O$17='LISTE DE COURSE'!E78)*(RECETTES!$N$7:$N$17))*RECETTES!$M$4)+(SUMPRODUCT((RECETTES!$C$22:$C$31='LISTE DE COURSE'!E78)*(RECETTES!$B$22:$B$31))*RECETTES!$A$19)+(SUMPRODUCT((RECETTES!$F$22:$F$31='LISTE DE COURSE'!E78)*(RECETTES!$E$22:$E$31))*RECETTES!$D$19)+(SUMPRODUCT((RECETTES!$I$22:$I$31='LISTE DE COURSE'!E78)*(RECETTES!$H$22:$H$31))*RECETTES!$G$19) -> 0 | G78: =IF(SUMPRODUCT(('LISTE DE COURSE'!F78)-(STOCK!E78))>0,SUMPRODUCT(('LISTE DE COURSE'!F78)-(STOCK!E78)),0) -> 0
A79: Bueno | B79: =(SUMPRODUCT((RECETTES!$C$7:$C$17='LISTE DE COURSE'!A79)*(RECETTES!$B$7:$B$17))*RECETTES!$A$4)+(SUMPRODUCT((RECETTES!$F$7:$F$17='LISTE DE COURSE'!A79)*(RECETTES!$E$7:$E$17))*RECETTES!$D$4)+(SUMPRODUCT((RECETTES!$I$7:$I$17='LISTE DE COURSE'!A79)*(RECETTES!$H$7:$H$17))*RECETTES!$G$4)+(SUMPRODUCT((RECETTES!$K$7:$K$17='LISTE DE COURSE'!A79)*(RECETTES!$K$7:$K$17))*RECETTES!$J$4)+(SUMPRODUCT((RECETTES!$O$7:$O$17='LISTE DE COURSE'!A79)*(RECETTES!$N$7:$N$17))*RECETTES!$M$4)+(SUMPRODUCT((RECETTES!$C$22:$C$31='LISTE DE COURSE'!A79)*(RECETTES!$B$22:$B$31))*RECETTES!$A$19)+(SUMPRODUCT((RECETTES!$F$22:$F$31='LISTE DE COURSE'!A79)*(RECETTES!$E$22:$E$31))*RECETTES!$D$19)+(SUMPRODUCT((RECETTES!$I$22:$I$31='LISTE DE COURSE'!A79)*(RECETTES!$H$22:$H$31))*RECETTES!$G$19) -> 0 | C79: =IF(SUMPRODUCT(('LISTE DE COURSE'!B79)-(STOCK!B79))>0,SUMPRODUCT(('LISTE DE COURSE'!B79)-(STOCK!B79)),0) -> 0 | E79: Calvados | F79: =(SUMPRODUCT((RECETTES!$C$7:$C$17='LISTE DE COURSE'!E79)*(RECETTES!$B$7:$B$17))*RECETTES!$A$4)+(SUMPRODUCT((RECETTES!$F$7:$F$17='LISTE DE COURSE'!E79)*(RECETTES!$E$7:$E$17))*RECETTES!$D$4)+(SUMPRODUCT((RECETTES!$I$7:$I$17='LISTE DE COURSE'!E79)*(RECETTES!$H$7:$H$17))*RECETTES!$G$4)+(SUMPRODUCT((RECETTES!$K$7:$K$17='LISTE DE COURSE'!E79)*(RECETTES!$K$7:$K$17))*RECETTES!$J$4)+(SUMPRODUCT((RECETTES!$O$7:$O$17='LISTE DE COURSE'!E79)*(RECETTES!$N$7:$N$17))*RECETTES!$M$4)+(SUMPRODUCT((RECETTES!$C$22:$C$31='LISTE DE COURSE'!E79)*(RECETTES!$B$22:$B$31))*RECETTES!$A$19)+(SUMPRODUCT((RECETTES!$F$22:$F$31='LISTE DE COURSE'!E79)*(RECETTES!$E$22:$E$31))*RECETTES!$D$19)+(SUMPRODUCT((RECETTES!$I$22:$I$31='LISTE DE COURSE'!E79)*(RECETTES!$H$22:$H$31))*RECETTES!$G$19) -> 0 | G79: =IF(SUMPRODUCT(('LISTE DE COURSE'!F79)-(STOCK!E79))>0,SUMPRODUCT(('LISTE DE COURSE'!F79)-(STOCK!E79)),0) -> 0
A80: Cacao en poudre | B80: =(SUMPRODUCT((RECETTES!$C$7:$C$17='LISTE DE COURSE'!A80)*(RECETTES!$B$7:$B$17))*RECETTES!$A$4)+(SUMPRODUCT((RECETTES!$F$7:$F$17='LISTE DE COURSE'!A80)*(RECETTES!$E$7:$E$17))*RECETTES!$D$4)+(SUMPRODUCT((RECETTES!$I$7:$I$17='LISTE DE COURSE'!A80)*(RECETTES!$H$7:$H$17))*RECETTES!$G$4)+(SUMPRODUCT((RECETTES!$K$7:$K$17='LISTE DE COURSE'!A80)*(RECETTES!$K$7:$K$17))*RECETTES!$J$4)+(SUMPRODUCT((RECETTES!$O$7:$O$17='LISTE DE COURSE'!A80)*(RECETTES!$N$7:$N$17))*RECETTES!$M$4)+(SUMPRODUCT((RECETTES!$C$22:$C$31='LISTE DE COURSE'!A80)*(RECETTES!$B$22:$B$31))*RECETTES!$A$19)+(SUMPRODUCT((RECETTES!$F$22:$F$31='LISTE DE COURSE'!A80)*(RECETTES!$E$22:$E$31))*RECETTES!$D$19)+(SUMPRODUCT((RECETTES!$I$22:$I$31='LISTE DE COURSE'!A80)*(RECETTES!$H$22:$H$31))*RECETTES!$G$19) -> 0 | C80: =IF(SUMPRODUCT(('LISTE DE COURSE'!B80)-(STOCK!B80))>0,SUMPRODUCT(('LISTE DE COURSE'!B80)-(STOCK!B80)),0) -> 0 | E80: Clairette de Die | F80: =(SUMPRODUCT((RECETTES!$C$7:$C$17='LISTE DE COURSE'!E80)*(RECETTES!$B$7:$B$17))*RECETTES!$A$4)+(SUMPRODUCT((RECETTES!$F$7:$F$17='LISTE DE COURSE'!E80)*(RECETTES!$E$7:$E$17))*RECETTES!$D$4)+(SUMPRODUCT((RECETTES!$I$7:$I$17='LISTE DE COURSE'!E80)*(RECETTES!$H$7:$H$17))*RECETTES!$G$4)+(SUMPRODUCT((RECETTES!$K$7:$K$17='LISTE DE COURSE'!E80)*(RECETTES!$K$7:$K$17))*RECETTES!$J$4)+(SUMPRODUCT((RECETTES!$O$7:$O$17='LISTE DE COURSE'!E80)*(RECETTES!$N$7:$N$17))*RECETTES!$M$4)+(SUMPRODUCT((RECETTES!$C$22:$C$31='LISTE DE COURSE'!E80)*(RECETTES!$B$22:$B$31))*RECETTES!$A$19)+(SUMPRODUCT((RECETTES!$F$22:$F$31='LISTE DE COURSE'!E80)*(RECETTES!$E$22:$E$31))*RECETTES!$D$19)+(SUMPRODUCT((RECETTES!$I$22:$I$31='LISTE DE COURSE'!E80)*(RECETTES!$H$22:$H$31))*RECETTES!$G$19) -> 0 | G80: =IF(SUMPRODUCT(('LISTE DE COURSE'!F80)-(STOCK!E80))>0,SUMPRODUCT(('LISTE DE COURSE'!F80)-(STOCK!E80)),0) -> 0
A81: Chocolat blanc | B81: =(SUMPRODUCT((RECETTES!$C$7:$C$17='LISTE DE COURSE'!A81)*(RECETTES!$B$7:$B$17))*RECETTES!$A$4)+(SUMPRODUCT((RECETTES!$F$7:$F$17='LISTE DE COURSE'!A81)*(RECETTES!$E$7:$E$17))*RECETTES!$D$4)+(SUMPRODUCT((RECETTES!$I$7:$I$17='LISTE DE COURSE'!A81)*(RECETTES!$H$7:$H$17))*RECETTES!$G$4)+(SUMPRODUCT((RECETTES!$K$7:$K$17='LISTE DE COURSE'!A81)*(RECETTES!$K$7:$K$17))*RECETTES!$J$4)+(SUMPRODUCT((RECETTES!$O$7:$O$17='LISTE DE COURSE'!A81)*(RECETTES!$N$7:$N$17))*RECETTES!$M$4)+(SUMPRODUCT((RECETTES!$C$22:$C$31='LISTE DE COURSE'!A81)*(RECETTES!$B$22:$B$31))*RECETTES!$A$19)+(SUMPRODUCT((RECETTES!$F$22:$F$31='LISTE DE COURSE'!A81)*(RECETTES!$E$22:$E$31))*RECETTES!$D$19)+(SUMPRODUCT((RECETTES!$I$22:$I$31='LISTE DE COURSE'!A81)*(RECETTES!$H$22:$H$31))*RECETTES!$G$19) -> 0 | C81: =IF(SUMPRODUCT(('LISTE DE COURSE'!B81)-(STOCK!B81))>0,SUMPRODUCT(('LISTE DE COURSE'!B81)-(STOCK!B81)),0) -> 0 | E81: Fleur d'oranger | F81: =(SUMPRODUCT((RECETTES!$C$7:$C$17='LISTE DE COURSE'!E81)*(RECETTES!$B$7:$B$17))*RECETTES!$A$4)+(SUMPRODUCT((RECETTES!$F$7:$F$17='LISTE DE COURSE'!E81)*(RECETTES!$E$7:$E$17))*RECETTES!$D$4)+(SUMPRODUCT((RECETTES!$I$7:$I$17='LISTE DE COURSE'!E81)*(RECETTES!$H$7:$H$17))*RECETTES!$G$4)+(SUMPRODUCT((RECETTES!$K$7:$K$17='LISTE DE COURSE'!E81)*(RECETTES!$K$7:$K$17))*RECETTES!$J$4)+(SUMPRODUCT((RECETTES!$O$7:$O$17='LISTE DE COURSE'!E81)*(RECETTES!$N$7:$N$17))*RECETTES!$M$4)+(SUMPRODUCT((RECETTES!$C$22:$C$31='LISTE DE COURSE'!E81)*(RECETTES!$B$22:$B$31))*RECETTES!$A$19)+(SUMPRODUCT((RECETTES!$F$22:$F$31='LISTE DE COURSE'!E81)*(RECETTES!$E$22:$E$31))*RECETTES!$D$19)+(SUMPRODUCT((RECETTES!$I$22:$I$31='LISTE DE COURSE'!E81)*(RECETTES!$H$22:$H$31))*RECETTES!$G$19) -> 0 | G81: =IF(SUMPRODUCT(('LISTE DE COURSE'!F81)-(STOCK!E81))>0,SUMPRODUCT(('LISTE DE COURSE'!F81)-(STOCK!E81)),0) -> 0
A82: Chocolat dulcey | B82: =(SUMPRODUCT((RECETTES!$C$7:$C$17='LISTE DE COURSE'!A82)*(RECETTES!$B$7:$B$17))*RECETTES!$A$4)+(SUMPRODUCT((RECETTES!$F$7:$F$17='LISTE DE COURSE'!A82)*(RECETTES!$E$7:$E$17))*RECETTES!$D$4)+(SUMPRODUCT((RECETTES!$I$7:$I$17='LISTE DE COURSE'!A82)*(RECETTES!$H$7:$H$17))*RECETTES!$G$4)+(SUMPRODUCT((RECETTES!$K$7:$K$17='LISTE DE COURSE'!A82)*(RECETTES!$K$7:$K$17))*RECETTES!$J$4)+(SUMPRODUCT((RECETTES!$O$7:$O$17='LISTE DE COURSE'!A82)*(RECETTES!$N$7:$N$17))*RECETTES!$M$4)+(SUMPRODUCT((RECETTES!$C$22:$C$31='LISTE DE COURSE'!A82)*(RECETTES!$B$22:$B$31))*RECETTES!$A$19)+(SUMPRODUCT((RECETTES!$F$22:$F$31='LISTE DE COURSE'!A82)*(RECETTES!$E$22:$E$31))*RECETTES!$D$19)+(SUMPRODUCT((RECETTES!$I$22:$I$31='LISTE DE COURSE'!A82)*(RECETTES!$H$22:$H$31))*RECETTES!$G$19) -> 0 | C82: =IF(SUMPRODUCT(('LISTE DE COURSE'!B82)-(STOCK!B82))>0,SUMPRODUCT(('LISTE DE COURSE'!B82)-(STOCK!B82)),0) -> 0 | E82: Grand Marnier | F82: =(SUMPRODUCT((RECETTES!$C$7:$C$17='LISTE DE COURSE'!E82)*(RECETTES!$B$7:$B$17))*RECETTES!$A$4)+(SUMPRODUCT((RECETTES!$F$7:$F$17='LISTE DE COURSE'!E82)*(RECETTES!$E$7:$E$17))*RECETTES!$D$4)+(SUMPRODUCT((RECETTES!$I$7:$I$17='LISTE DE COURSE'!E82)*(RECETTES!$H$7:$H$17))*RECETTES!$G$4)+(SUMPRODUCT((RECETTES!$K$7:$K$17='LISTE DE COURSE'!E82)*(RECETTES!$K$7:$K$17))*RECETTES!$J$4)+(SUMPRODUCT((RECETTES!$O$7:$O$17='LISTE DE COURSE'!E82)*(RECETTES!$N$7:$N$17))*RECETTES!$M$4)+(SUMPRODUCT((RECETTES!$C$22:$C$31='LISTE DE COURSE'!E82)*(RECETTES!$B$22:$B$31))*RECETTES!$A$19)+(SUMPRODUCT((RECETTES!$F$22:$F$31='LISTE DE COURSE'!E82)*(RECETTES!$E$22:$E$31))*RECETTES!$D$19)+(SUMPRODUCT((RECETTES!$I$22:$I$31='LISTE DE COURSE'!E82)*(RECETTES!$H$22:$H$31))*RECETTES!$G$19) -> 0 | G82: =IF(SUMPRODUCT(('LISTE DE COURSE'!F82)-(STOCK!E82))>0,SUMPRODUCT(('LISTE DE COURSE'!F82)-(STOCK!E82)),0) -> 0
A83: Chocolat lait | B83: =(SUMPRODUCT((RECETTES!$C$7:$C$17='LISTE DE COURSE'!A83)*(RECETTES!$B$7:$B$17))*RECETTES!$A$4)+(SUMPRODUCT((RECETTES!$F$7:$F$17='LISTE DE COURSE'!A83)*(RECETTES!$E$7:$E$17))*RECETTES!$D$4)+(SUMPRODUCT((RECETTES!$I$7:$I$17='LISTE DE COURSE'!A83)*(RECETTES!$H$7:$H$17))*RECETTES!$G$4)+(SUMPRODUCT((RECETTES!$K$7:$K$17='LISTE DE COURSE'!A83)*(RECETTES!$K$7:$K$17))*RECETTES!$J$4)+(SUMPRODUCT((RECETTES!$O$7:$O$17='LISTE DE COURSE'!A83)*(RECETTES!$N$7:$N$17))*RECETTES!$M$4)+(SUMPRODUCT((RECETTES!$C$22:$C$31='LISTE DE COURSE'!A83)*(RECETTES!$B$22:$B$31))*RECETTES!$A$19)+(SUMPRODUCT((RECETTES!$F$22:$F$31='LISTE DE COURSE'!A83)*(RECETTES!$E$22:$E$31))*RECETTES!$D$19)+(SUMPRODUCT((RECETTES!$I$22:$I$31='LISTE DE COURSE'!A83)*(RECETTES!$H$22:$H$31))*RECETTES!$G$19) -> 0 | C83: =IF(SUMPRODUCT(('LISTE DE COURSE'!B83)-(STOCK!B83))>0,SUMPRODUCT(('LISTE DE COURSE'!B83)-(STOCK!B83)),0) -> 0 | E83: Kirsch | F83: =(SUMPRODUCT((RECETTES!$C$7:$C$17='LISTE DE COURSE'!E83)*(RECETTES!$B$7:$B$17))*RECETTES!$A$4)+(SUMPRODUCT((RECETTES!$F$7:$F$17='LISTE DE COURSE'!E83)*(RECETTES!$E$7:$E$17))*RECETTES!$D$4)+(SUMPRODUCT((RECETTES!$I$7:$I$17='LISTE DE COURSE'!E83)*(RECETTES!$H$7:$H$17))*RECETTES!$G$4)+(SUMPRODUCT((RECETTES!$K$7:$K$17='LISTE DE COURSE'!E83)*(RECETTES!$K$7:$K$17))*RECETTES!$J$4)+(SUMPRODUCT((RECETTES!$O$7:$O$17='LISTE DE COURSE'!E83)*(RECETTES!$N$7:$N$17))*RECETTES!$M$4)+(SUMPRODUCT((RECETTES!$C$22:$C$31='LISTE DE COURSE'!E83)*(RECETTES!$B$22:$B$31))*RECETTES!$A$19)+(SUMPRODUCT((RECETTES!$F$22:$F$31='LISTE DE COURSE'!E83)*(RECETTES!$E$22:$E$31))*RECETTES!$D$19)+(SUMPRODUCT((RECETTES!$I$22:$I$31='LISTE DE COURSE'!E83)*(RECETTES!$H$22:$H$31))*RECETTES!$G$19) -> 0 | G83: =IF(SUMPRODUCT(('LISTE DE COURSE'!F83)-(STOCK!E83))>0,SUMPRODUCT(('LISTE DE COURSE'!F83)-(STOCK!E83)),0) -> 0
A84: Chocolat noir | B84: =(SUMPRODUCT((RECETTES!$C$7:$C$17='LISTE DE COURSE'!A84)*(RECETTES!$B$7:$B$17))*RECETTES!$A$4)+(SUMPRODUCT((RECETTES!$F$7:$F$17='LISTE DE COURSE'!A84)*(RECETTES!$E$7:$E$17))*RECETTES!$D$4)+(SUMPRODUCT((RECETTES!$I$7:$I$17='LISTE DE COURSE'!A84)*(RECETTES!$H$7:$H$17))*RECETTES!$G$4)+(SUMPRODUCT((RECETTES!$K$7:$K$17='LISTE DE COURSE'!A84)*(RECETTES!$K$7:$K$17))*RECETTES!$J$4)+(SUMPRODUCT((RECETTES!$O$7:$O$17='LISTE DE COURSE'!A84)*(RECETTES!$N$7:$N$17))*RECETTES!$M$4)+(SUMPRODUCT((RECETTES!$C$22:$C$31='LISTE DE COURSE'!A84)*(RECETTES!$B$22:$B$31))*RECETTES!$A$19)+(SUMPRODUCT((RECETTES!$F$22:$F$31='LISTE DE COURSE'!A84)*(RECETTES!$E$22:$E$31))*RECETTES!$D$19)+(SUMPRODUCT((RECETTES!$I$22:$I$31='LISTE DE COURSE'!A84)*(RECETTES!$H$22:$H$31))*RECETTES!$G$19) -> 0 | C84: =IF(SUMPRODUCT(('LISTE DE COURSE'!B84)-(STOCK!B84))>0,SUMPRODUCT(('LISTE DE COURSE'!B84)-(STOCK!B84)),0) -> 0 | E84: Liqueur de pêche | F84: =(SUMPRODUCT((RECETTES!$C$7:$C$17='LISTE DE COURSE'!E84)*(RECETTES!$B$7:$B$17))*RECETTES!$A$4)+(SUMPRODUCT((RECETTES!$F$7:$F$17='LISTE DE COURSE'!E84)*(RECETTES!$E$7:$E$17))*RECETTES!$D$4)+(SUMPRODUCT((RECETTES!$I$7:$I$17='LISTE DE COURSE'!E84)*(RECETTES!$H$7:$H$17))*RECETTES!$G$4)+(SUMPRODUCT((RECETTES!$K$7:$K$17='LISTE DE COURSE'!E84)*(RECETTES!$K$7:$K$17))*RECETTES!$J$4)+(SUMPRODUCT((RECETTES!$O$7:$O$17='LISTE DE COURSE'!E84)*(RECETTES!$N$7:$N$17))*RECETTES!$M$4)+(SUMPRODUCT((RECETTES!$C$22:$C$31='LISTE DE COURSE'!E84)*(RECETTES!$B$22:$B$31))*RECETTES!$A$19)+(SUMPRODUCT((RECETTES!$F$22:$F$31='LISTE DE COURSE'!E84)*(RECETTES!$E$22:$E$31))*RECETTES!$D$19)+(SUMPRODUCT((RECETTES!$I$22:$I$31='LISTE DE COURSE'!E84)*(RECETTES!$H$22:$H$31))*RECETTES!$G$19) -> 0 | G84: =IF(SUMPRODUCT(('LISTE DE COURSE'!F84)-(STOCK!E84))>0,SUMPRODUCT(('LISTE DE COURSE'!F84)-(STOCK!E84)),0) -> 0
A85: Drops chocolat noir | B85: =(SUMPRODUCT((RECETTES!$C$7:$C$17='LISTE DE COURSE'!A85)*(RECETTES!$B$7:$B$17))*RECETTES!$A$4)+(SUMPRODUCT((RECETTES!$F$7:$F$17='LISTE DE COURSE'!A85)*(RECETTES!$E$7:$E$17))*RECETTES!$D$4)+(SUMPRODUCT((RECETTES!$I$7:$I$17='LISTE DE COURSE'!A85)*(RECETTES!$H$7:$H$17))*RECETTES!$G$4)+(SUMPRODUCT((RECETTES!$K$7:$K$17='LISTE DE COURSE'!A85)*(RECETTES!$K$7:$K$17))*RECETTES!$J$4)+(SUMPRODUCT((RECETTES!$O$7:$O$17='LISTE DE COURSE'!A85)*(RECETTES!$N$7:$N$17))*RECETTES!$M$4)+(SUMPRODUCT((RECETTES!$C$22:$C$31='LISTE DE COURSE'!A85)*(RECETTES!$B$22:$B$31))*RECETTES!$A$19)+(SUMPRODUCT((RECETTES!$F$22:$F$31='LISTE DE COURSE'!A85)*(RECETTES!$E$22:$E$31))*RECETTES!$D$19)+(SUMPRODUCT((RECETTES!$I$22:$I$31='LISTE DE COURSE'!A85)*(RECETTES!$H$22:$H$31))*RECETTES!$G$19) -> 0 | C85: =IF(SUMPRODUCT(('LISTE DE COURSE'!B85)-(STOCK!B85))>0,SUMPRODUCT(('LISTE DE COURSE'!B85)-(STOCK!B85)),0) -> 0 | E85: Rhum | F85: =(SUMPRODUCT((RECETTES!$C$7:$C$17='LISTE DE COURSE'!E85)*(RECETTES!$B$7:$B$17))*RECETTES!$A$4)+(SUMPRODUCT((RECETTES!$F$7:$F$17='LISTE DE COURSE'!E85)*(RECETTES!$E$7:$E$17))*RECETTES!$D$4)+(SUMPRODUCT((RECETTES!$I$7:$I$17='LISTE DE COURSE'!E85)*(RECETTES!$H$7:$H$17))*RECETTES!$G$4)+(SUMPRODUCT((RECETTES!$K$7:$K$17='LISTE DE COURSE'!E85)*(RECETTES!$K$7:$K$17))*RECETTES!$J$4)+(SUMPRODUCT((RECETTES!$O$7:$O$17='LISTE DE COURSE'!E85)*(RECETTES!$N$7:$N$17))*RECETTES!$M$4)+(SUMPRODUCT((RECETTES!$C$22:$C$31='LISTE DE COURSE'!E85)*(RECETTES!$B$22:$B$31))*RECETTES!$A$19)+(SUMPRODUCT((RECETTES!$F$22:$F$31='LISTE DE COURSE'!E85)*(RECETTES!$E$22:$E$31))*RECETTES!$D$19)+(SUMPRODUCT((RECETTES!$I$22:$I$31='LISTE DE COURSE'!E85)*(RECETTES!$H$22:$H$31))*RECETTES!$G$19) -> 0 | G85: =IF(SUMPRODUCT(('LISTE DE COURSE'!F85)-(STOCK!E85))>0,SUMPRODUCT(('LISTE DE COURSE'!F85)-(STOCK!E85)),0) -> 0
A86: Gianduja Lait | B86: =(SUMPRODUCT((RECETTES!$C$7:$C$17='LISTE DE COURSE'!A86)*(RECETTES!$B$7:$B$17))*RECETTES!$A$4)+(SUMPRODUCT((RECETTES!$F$7:$F$17='LISTE DE COURSE'!A86)*(RECETTES!$E$7:$E$17))*RECETTES!$D$4)+(SUMPRODUCT((RECETTES!$I$7:$I$17='LISTE DE COURSE'!A86)*(RECETTES!$H$7:$H$17))*RECETTES!$G$4)+(SUMPRODUCT((RECETTES!$K$7:$K$17='LISTE DE COURSE'!A86)*(RECETTES!$K$7:$K$17))*RECETTES!$J$4)+(SUMPRODUCT((RECETTES!$O$7:$O$17='LISTE DE COURSE'!A86)*(RECETTES!$N$7:$N$17))*RECETTES!$M$4)+(SUMPRODUCT((RECETTES!$C$22:$C$31='LISTE DE COURSE'!A86)*(RECETTES!$B$22:$B$31))*RECETTES!$A$19)+(SUMPRODUCT((RECETTES!$F$22:$F$31='LISTE DE COURSE'!A86)*(RECETTES!$E$22:$E$31))*RECETTES!$D$19)+(SUMPRODUCT((RECETTES!$I$22:$I$31='LISTE DE COURSE'!A86)*(RECETTES!$H$22:$H$31))*RECETTES!$G$19) -> 0 | C86: =IF(SUMPRODUCT(('LISTE DE COURSE'!B86)-(STOCK!B86))>0,SUMPRODUCT(('LISTE DE COURSE'!B86)-(STOCK!B86)),0) -> 0
A87: M&M's | B87: =(SUMPRODUCT((RECETTES!$C$7:$C$17='LISTE DE COURSE'!A87)*(RECETTES!$B$7:$B$17))*RECETTES!$A$4)+(SUMPRODUCT((RECETTES!$F$7:$F$17='LISTE DE COURSE'!A87)*(RECETTES!$E$7:$E$17))*RECETTES!$D$4)+(SUMPRODUCT((RECETTES!$I$7:$I$17='LISTE DE COURSE'!A87)*(RECETTES!$H$7:$H$17))*RECETTES!$G$4)+(SUMPRODUCT((RECETTES!$K$7:$K$17='LISTE DE COURSE'!A87)*(RECETTES!$K$7:$K$17))*RECETTES!$J$4)+(SUMPRODUCT((RECETTES!$O$7:$O$17='LISTE DE COURSE'!A87)*(RECETTES!$N$7:$N$17))*RECETTES!$M$4)+(SUMPRODUCT((RECETTES!$C$22:$C$31='LISTE DE COURSE'!A87)*(RECETTES!$B$22:$B$31))*RECETTES!$A$19)+(SUMPRODUCT((RECETTES!$F$22:$F$31='LISTE DE COURSE'!A87)*(RECETTES!$E$22:$E$31))*RECETTES!$D$19)+(SUMPRODUCT((RECETTES!$I$22:$I$31='LISTE DE COURSE'!A87)*(RECETTES!$H$22:$H$31))*RECETTES!$G$19) -> 0 | C87: =IF(SUMPRODUCT(('LISTE DE COURSE'!B87)-(STOCK!B87))>0,SUMPRODUCT(('LISTE DE COURSE'!B87)-(STOCK!B87)),0) -> 0
A88: Nutella | B88: =(SUMPRODUCT((RECETTES!$C$7:$C$17='LISTE DE COURSE'!A88)*(RECETTES!$B$7:$B$17))*RECETTES!$A$4)+(SUMPRODUCT((RECETTES!$F$7:$F$17='LISTE DE COURSE'!A88)*(RECETTES!$E$7:$E$17))*RECETTES!$D$4)+(SUMPRODUCT((RECETTES!$I$7:$I$17='LISTE DE COURSE'!A88)*(RECETTES!$H$7:$H$17))*RECETTES!$G$4)+(SUMPRODUCT((RECETTES!$K$7:$K$17='LISTE DE COURSE'!A88)*(RECETTES!$K$7:$K$17))*RECETTES!$J$4)+(SUMPRODUCT((RECETTES!$O$7:$O$17='LISTE DE COURSE'!A88)*(RECETTES!$N$7:$N$17))*RECETTES!$M$4)+(SUMPRODUCT((RECETTES!$C$22:$C$31='LISTE DE COURSE'!A88)*(RECETTES!$B$22:$B$31))*RECETTES!$A$19)+(SUMPRODUCT((RECETTES!$F$22:$F$31='LISTE DE COURSE'!A88)*(RECETTES!$E$22:$E$31))*RECETTES!$D$19)+(SUMPRODUCT((RECETTES!$I$22:$I$31='LISTE DE COURSE'!A88)*(RECETTES!$H$22:$H$31))*RECETTES!$G$19) -> 0 | C88: =IF(SUMPRODUCT(('LISTE DE COURSE'!B88)-(STOCK!B88))>0,SUMPRODUCT(('LISTE DE COURSE'!B88)-(STOCK!B88)),0) -> 0 | E88: ÉPICES | F88: Nécessaire | G88: Achat
A89: Oreo | B89: =(SUMPRODUCT((RECETTES!$C$7:$C$17='LISTE DE COURSE'!A89)*(RECETTES!$B$7:$B$17))*RECETTES!$A$4)+(SUMPRODUCT((RECETTES!$F$7:$F$17='LISTE DE COURSE'!A89)*(RECETTES!$E$7:$E$17))*RECETTES!$D$4)+(SUMPRODUCT((RECETTES!$I$7:$I$17='LISTE DE COURSE'!A89)*(RECETTES!$H$7:$H$17))*RECETTES!$G$4)+(SUMPRODUCT((RECETTES!$K$7:$K$17='LISTE DE COURSE'!A89)*(RECETTES!$K$7:$K$17))*RECETTES!$J$4)+(SUMPRODUCT((RECETTES!$O$7:$O$17='LISTE DE COURSE'!A89)*(RECETTES!$N$7:$N$17))*RECETTES!$M$4)+(SUMPRODUCT((RECETTES!$C$22:$C$31='LISTE DE COURSE'!A89)*(RECETTES!$B$22:$B$31))*RECETTES!$A$19)+(SUMPRODUCT((RECETTES!$F$22:$F$31='LISTE DE COURSE'!A89)*(RECETTES!$E$22:$E$31))*RECETTES!$D$19)+(SUMPRODUCT((RECETTES!$I$22:$I$31='LISTE DE COURSE'!A89)*(RECETTES!$H$22:$H$31))*RECETTES!$G$19) -> 0 | C89: =IF(SUMPRODUCT(('LISTE DE COURSE'!B89)-(STOCK!B89))>0,SUMPRODUCT(('LISTE DE COURSE'!B89)-(STOCK!B89)),0) -> 0
A90: Praliné | B90: =(SUMPRODUCT((RECETTES!$C$7:$C$17='LISTE DE COURSE'!A90)*(RECETTES!$B$7:$B$17))*RECETTES!$A$4)+(SUMPRODUCT((RECETTES!$F$7:$F$17='LISTE DE COURSE'!A90)*(RECETTES!$E$7:$E$17))*RECETTES!$D$4)+(SUMPRODUCT((RECETTES!$I$7:$I$17='LISTE DE COURSE'!A90)*(RECETTES!$H$7:$H$17))*RECETTES!$G$4)+(SUMPRODUCT((RECETTES!$K$7:$K$17='LISTE DE COURSE'!A90)*(RECETTES!$K$7:$K$17))*RECETTES!$J$4)+(SUMPRODUCT((RECETTES!$O$7:$O$17='LISTE DE COURSE'!A90)*(RECETTES!$N$7:$N$17))*RECETTES!$M$4)+(SUMPRODUCT((RECETTES!$C$22:$C$31='LISTE DE COURSE'!A90)*(RECETTES!$B$22:$B$31))*RECETTES!$A$19)+(SUMPRODUCT((RECETTES!$F$22:$F$31='LISTE DE COURSE'!A90)*(RECETTES!$E$22:$E$31))*RECETTES!$D$19)+(SUMPRODUCT((RECETTES!$I$22:$I$31='LISTE DE COURSE'!A90)*(RECETTES!$H$22:$H$31))*RECETTES!$G$19) -> 0 | C90: =IF(SUMPRODUCT(('LISTE DE COURSE'!B90)-(STOCK!B90))>0,SUMPRODUCT(('LISTE DE COURSE'!B90)-(STOCK!B90)),0) -> 0 | E90: Extrait de café | F90: =(SUMPRODUCT((RECETTES!$C$7:$C$17='LISTE DE COURSE'!E90)*(RECETTES!$B$7:$B$17))*RECETTES!$A$4)+(SUMPRODUCT((RECETTES!$F$7:$F$17='LISTE DE COURSE'!E90)*(RECETTES!$E$7:$E$17))*RECETTES!$D$4)+(SUMPRODUCT((RECETTES!$I$7:$I$17='LISTE DE COURSE'!E90)*(RECETTES!$H$7:$H$17))*RECETTES!$G$4)+(SUMPRODUCT((RECETTES!$K$7:$K$17='LISTE DE COURSE'!E90)*(RECETTES!$K$7:$K$17))*RECETTES!$J$4)+(SUMPRODUCT((RECETTES!$O$7:$O$17='LISTE DE COURSE'!E90)*(RECETTES!$N$7:$N$17))*RECETTES!$M$4)+(SUMPRODUCT((RECETTES!$C$22:$C$31='LISTE DE COURSE'!E90)*(RECETTES!$B$22:$B$31))*RECETTES!$A$19)+(SUMPRODUCT((RECETTES!$F$22:$F$31='LISTE DE COURSE'!E90)*(RECETTES!$E$22:$E$31))*RECETTES!$D$19)+(SUMPRODUCT((RECETTES!$I$22:$I$31='LISTE DE COURSE'!E90)*(RECETTES!$H$22:$H$31))*RECETTES!$G$19) -> 0 | G90: =IF(SUMPRODUCT(('LISTE DE COURSE'!F90)-(STOCK!E90))>0,SUMPRODUCT(('LISTE DE COURSE'!F90)-(STOCK!E90)),0) -> 0
A91: Schoko-bons | B91: =(SUMPRODUCT((RECETTES!$C$7:$C$17='LISTE DE COURSE'!A91)*(RECETTES!$B$7:$B$17))*RECETTES!$A$4)+(SUMPRODUCT((RECETTES!$F$7:$F$17='LISTE DE COURSE'!A91)*(RECETTES!$E$7:$E$17))*RECETTES!$D$4)+(SUMPRODUCT((RECETTES!$I$7:$I$17='LISTE DE COURSE'!A91)*(RECETTES!$H$7:$H$17))*RECETTES!$G$4)+(SUMPRODUCT((RECETTES!$K$7:$K$17='LISTE DE COURSE'!A91)*(RECETTES!$K$7:$K$17))*RECETTES!$J$4)+(SUMPRODUCT((RECETTES!$O$7:$O$17='LISTE DE COURSE'!A91)*(RECETTES!$N$7:$N$17))*RECETTES!$M$4)+(SUMPRODUCT((RECETTES!$C$22:$C$31='LISTE DE COURSE'!A91)*(RECETTES!$B$22:$B$31))*RECETTES!$A$19)+(SUMPRODUCT((RECETTES!$F$22:$F$31='LISTE DE COURSE'!A91)*(RECETTES!$E$22:$E$31))*RECETTES!$D$19)+(SUMPRODUCT((RECETTES!$I$22:$I$31='LISTE DE COURSE'!A91)*(RECETTES!$H$22:$H$31))*RECETTES!$G$19) -> 0 | C91: =IF(SUMPRODUCT(('LISTE DE COURSE'!B91)-(STOCK!B91))>0,SUMPRODUCT(('LISTE DE COURSE'!B91)-(STOCK!B91)),0) -> 0 | E91: Clou de girofle | F91: =(SUMPRODUCT((RECETTES!$C$7:$C$17='LISTE DE COURSE'!E91)*(RECETTES!$B$7:$B$17))*RECETTES!$A$4)+(SUMPRODUCT((RECETTES!$F$7:$F$17='LISTE DE COURSE'!E91)*(RECETTES!$E$7:$E$17))*RECETTES!$D$4)+(SUMPRODUCT((RECETTES!$I$7:$I$17='LISTE DE COURSE'!E91)*(RECETTES!$H$7:$H$17))*RECETTES!$G$4)+(SUMPRODUCT((RECETTES!$K$7:$K$17='LISTE DE COURSE'!E91)*(RECETTES!$K$7:$K$17))*RECETTES!$J$4)+(SUMPRODUCT((RECETTES!$O$7:$O$17='LISTE DE COURSE'!E91)*(RECETTES!$N$7:$N$17))*RECETTES!$M$4)+(SUMPRODUCT((RECETTES!$C$22:$C$31='LISTE DE COURSE'!E91)*(RECETTES!$B$22:$B$31))*RECETTES!$A$19)+(SUMPRODUCT((RECETTES!$F$22:$F$31='LISTE DE COURSE'!E91)*(RECETTES!$E$22:$E$31))*RECETTES!$D$19)+(SUMPRODUCT((RECETTES!$I$22:$I$31='LISTE DE COURSE'!E91)*(RECETTES!$H$22:$H$31))*RECETTES!$G$19) -> 0 | G91: =IF(SUMPRODUCT(('LISTE DE COURSE'!F91)-(STOCK!E91))>0,SUMPRODUCT(('LISTE DE COURSE'!F91)-(STOCK!E91)),0) -> 0
E92: Cumin | F92: =(SUMPRODUCT((RECETTES!$C$7:$C$17='LISTE DE COURSE'!E92)*(RECETTES!$B$7:$B$17))*RECETTES!$A$4)+(SUMPRODUCT((RECETTES!$F$7:$F$17='LISTE DE COURSE'!E92)*(RECETTES!$E$7:$E$17))*RECETTES!$D$4)+(SUMPRODUCT((RECETTES!$I$7:$I$17='LISTE DE COURSE'!E92)*(RECETTES!$H$7:$H$17))*RECETTES!$G$4)+(SUMPRODUCT((RECETTES!$K$7:$K$17='LISTE DE COURSE'!E92)*(RECETTES!$K$7:$K$17))*RECETTES!$J$4)+(SUMPRODUCT((RECETTES!$O$7:$O$17='LISTE DE COURSE'!E92)*(RECETTES!$N$7:$N$17))*RECETTES!$M$4)+(SUMPRODUCT((RECETTES!$C$22:$C$31='LISTE DE COURSE'!E92)*(RECETTES!$B$22:$B$31))*RECETTES!$A$19)+(SUMPRODUCT((RECETTES!$F$22:$F$31='LISTE DE COURSE'!E92)*(RECETTES!$E$22:$E$31))*RECETTES!$D$19)+(SUMPRODUCT((RECETTES!$I$22:$I$31='LISTE DE COURSE'!E92)*(RECETTES!$H$22:$H$31))*RECETTES!$G$19) -> 0 | G92: =IF(SUMPRODUCT(('LISTE DE COURSE'!F92)-(STOCK!E92))>0,SUMPRODUCT(('LISTE DE COURSE'!F92)-(STOCK!E92)),0) -> 0
E93: Mélange 4 épices | F93: =(SUMPRODUCT((RECETTES!$C$7:$C$17='LISTE DE COURSE'!E93)*(RECETTES!$B$7:$B$17))*RECETTES!$A$4)+(SUMPRODUCT((RECETTES!$F$7:$F$17='LISTE DE COURSE'!E93)*(RECETTES!$E$7:$E$17))*RECETTES!$D$4)+(SUMPRODUCT((RECETTES!$I$7:$I$17='LISTE DE COURSE'!E93)*(RECETTES!$H$7:$H$17))*RECETTES!$G$4)+(SUMPRODUCT((RECETTES!$K$7:$K$17='LISTE DE COURSE'!E93)*(RECETTES!$K$7:$K$17))*RECETTES!$J$4)+(SUMPRODUCT((RECETTES!$O$7:$O$17='LISTE DE COURSE'!E93)*(RECETTES!$N$7:$N$17))*RECETTES!$M$4)+(SUMPRODUCT((RECETTES!$C$22:$C$31='LISTE DE COURSE'!E93)*(RECETTES!$B$22:$B$31))*RECETTES!$A$19)+(SUMPRODUCT((RECETTES!$F$22:$F$31='LISTE DE COURSE'!E93)*(RECETTES!$E$22:$E$31))*RECETTES!$D$19)+(SUMPRODUCT((RECETTES!$I$22:$I$31='LISTE DE COURSE'!E93)*(RECETTES!$H$22:$H$31))*RECETTES!$G$19) -> 0 | G93: =IF(SUMPRODUCT(('LISTE DE COURSE'!F93)-(STOCK!E93))>0,SUMPRODUCT(('LISTE DE COURSE'!F93)-(STOCK!E93)),0) -> 0
A94: FRUITS CONFITS - NAPPAGE | B94: Nécessaire | C94: Achat | E94: Poivre Blanc | F94: =(SUMPRODUCT((RECETTES!$C$7:$C$17='LISTE DE COURSE'!E94)*(RECETTES!$B$7:$B$17))*RECETTES!$A$4)+(SUMPRODUCT((RECETTES!$F$7:$F$17='LISTE DE COURSE'!E94)*(RECETTES!$E$7:$E$17))*RECETTES!$D$4)+(SUMPRODUCT((RECETTES!$I$7:$I$17='LISTE DE COURSE'!E94)*(RECETTES!$H$7:$H$17))*RECETTES!$G$4)+(SUMPRODUCT((RECETTES!$K$7:$K$17='LISTE DE COURSE'!E94)*(RECETTES!$K$7:$K$17))*RECETTES!$J$4)+(SUMPRODUCT((RECETTES!$O$7:$O$17='LISTE DE COURSE'!E94)*(RECETTES!$N$7:$N$17))*RECETTES!$M$4)+(SUMPRODUCT((RECETTES!$C$22:$C$31='LISTE DE COURSE'!E94)*(RECETTES!$B$22:$B$31))*RECETTES!$A$19)+(SUMPRODUCT((RECETTES!$F$22:$F$31='LISTE DE COURSE'!E94)*(RECETTES!$E$22:$E$31))*RECETTES!$D$19)+(SUMPRODUCT((RECETTES!$I$22:$I$31='LISTE DE COURSE'!E94)*(RECETTES!$H$22:$H$31))*RECETTES!$G$19) -> 0 | G94: =IF(SUMPRODUCT(('LISTE DE COURSE'!F94)-(STOCK!E94))>0,SUMPRODUCT(('LISTE DE COURSE'!F94)-(STOCK!E94)),0) -> 0
E95: Sel | F95: =(SUMPRODUCT((RECETTES!$C$7:$C$17='LISTE DE COURSE'!E95)*(RECETTES!$B$7:$B$17))*RECETTES!$A$4)+(SUMPRODUCT((RECETTES!$F$7:$F$17='LISTE DE COURSE'!E95)*(RECETTES!$E$7:$E$17))*RECETTES!$D$4)+(SUMPRODUCT((RECETTES!$I$7:$I$17='LISTE DE COURSE'!E95)*(RECETTES!$H$7:$H$17))*RECETTES!$G$4)+(SUMPRODUCT((RECETTES!$K$7:$K$17='LISTE DE COURSE'!E95)*(RECETTES!$K$7:$K$17))*RECETTES!$J$4)+(SUMPRODUCT((RECETTES!$O$7:$O$17='LISTE DE COURSE'!E95)*(RECETTES!$N$7:$N$17))*RECETTES!$M$4)+(SUMPRODUCT((RECETTES!$C$22:$C$31='LISTE DE COURSE'!E95)*(RECETTES!$B$22:$B$31))*RECETTES!$A$19)+(SUMPRODUCT((RECETTES!$F$22:$F$31='LISTE DE COURSE'!E95)*(RECETTES!$E$22:$E$31))*RECETTES!$D$19)+(SUMPRODUCT((RECETTES!$I$22:$I$31='LISTE DE COURSE'!E95)*(RECETTES!$H$22:$H$31))*RECETTES!$G$19) -> 30 | G95: =IF(SUMPRODUCT(('LISTE DE COURSE'!F95)-(STOCK!E95))>0,SUMPRODUCT(('LISTE DE COURSE'!F95)-(STOCK!E95)),0) -> 30
A96: Ecorce d'orange | B96: =(SUMPRODUCT((RECETTES!$C$7:$C$17='LISTE DE COURSE'!A96)*(RECETTES!$B$7:$B$17))*RECETTES!$A$4)+(SUMPRODUCT((RECETTES!$F$7:$F$17='LISTE DE COURSE'!A96)*(RECETTES!$E$7:$E$17))*RECETTES!$D$4)+(SUMPRODUCT((RECETTES!$I$7:$I$17='LISTE DE COURSE'!A96)*(RECETTES!$H$7:$H$17))*RECETTES!$G$4)+(SUMPRODUCT((RECETTES!$K$7:$K$17='LISTE DE COURSE'!A96)*(RECETTES!$K$7:$K$17))*RECETTES!$J$4)+(SUMPRODUCT((RECETTES!$O$7:$O$17='LISTE DE COURSE'!A96)*(RECETTES!$N$7:$N$17))*RECETTES!$M$4)+(SUMPRODUCT((RECETTES!$C$22:$C$31='LISTE DE COURSE'!A96)*(RECETTES!$B$22:$B$31))*RECETTES!$A$19)+(SUMPRODUCT((RECETTES!$F$22:$F$31='LISTE DE COURSE'!A96)*(RECETTES!$E$22:$E$31))*RECETTES!$D$19)+(SUMPRODUCT((RECETTES!$I$22:$I$31='LISTE DE COURSE'!A96)*(RECETTES!$H$22:$H$31))*RECETTES!$G$19) -> 0 | C96: =IF(SUMPRODUCT(('LISTE DE COURSE'!B96)-(STOCK!B96))>0,SUMPRODUCT(('LISTE DE COURSE'!B96)-(STOCK!B96)),0) -> 0 | E96: Vanille en poudre | F96: =(SUMPRODUCT((RECETTES!$C$7:$C$17='LISTE DE COURSE'!E96)*(RECETTES!$B$7:$B$17))*RECETTES!$A$4)+(SUMPRODUCT((RECETTES!$F$7:$F$17='LISTE DE COURSE'!E96)*(RECETTES!$E$7:$E$17))*RECETTES!$D$4)+(SUMPRODUCT((RECETTES!$I$7:$I$17='LISTE DE COURSE'!E96)*(RECETTES!$H$7:$H$17))*RECETTES!$G$4)+(SUMPRODUCT((RECETTES!$K$7:$K$17='LISTE DE COURSE'!E96)*(RECETTES!$K$7:$K$17))*RECETTES!$J$4)+(SUMPRODUCT((RECETTES!$O$7:$O$17='LISTE DE COURSE'!E96)*(RECETTES!$N$7:$N$17))*RECETTES!$M$4)+(SUMPRODUCT((RECETTES!$C$22:$C$31='LISTE DE COURSE'!E96)*(RECETTES!$B$22:$B$31))*RECETTES!$A$19)+(SUMPRODUCT((RECETTES!$F$22:$F$31='LISTE DE COURSE'!E96)*(RECETTES!$E$22:$E$31))*RECETTES!$D$19)+(SUMPRODUCT((RECETTES!$I$22:$I$31='LISTE DE COURSE'!E96)*(RECETTES!$H$22:$H$31))*RECETTES!$G$19) -> 0 | G96: =IF(SUMPRODUCT(('LISTE DE COURSE'!F96)-(STOCK!E96))>0,SUMPRODUCT(('LISTE DE COURSE'!F96)-(STOCK!E96)),0) -> 0
A97: Ecorce de citron | B97: =(SUMPRODUCT((RECETTES!$C$7:$C$17='LISTE DE COURSE'!A97)*(RECETTES!$B$7:$B$17))*RECETTES!$A$4)+(SUMPRODUCT((RECETTES!$F$7:$F$17='LISTE DE COURSE'!A97)*(RECETTES!$E$7:$E$17))*RECETTES!$D$4)+(SUMPRODUCT((RECETTES!$I$7:$I$17='LISTE DE COURSE'!A97)*(RECETTES!$H$7:$H$17))*RECETTES!$G$4)+(SUMPRODUCT((RECETTES!$K$7:$K$17='LISTE DE COURSE'!A97)*(RECETTES!$K$7:$K$17))*RECETTES!$J$4)+(SUMPRODUCT((RECETTES!$O$7:$O$17='LISTE DE COURSE'!A97)*(RECETTES!$N$7:$N$17))*RECETTES!$M$4)+(SUMPRODUCT((RECETTES!$C$22:$C$31='LISTE DE COURSE'!A97)*(RECETTES!$B$22:$B$31))*RECETTES!$A$19)+(SUMPRODUCT((RECETTES!$F$22:$F$31='LISTE DE COURSE'!A97)*(RECETTES!$E$22:$E$31))*RECETTES!$D$19)+(SUMPRODUCT((RECETTES!$I$22:$I$31='LISTE DE COURSE'!A97)*(RECETTES!$H$22:$H$31))*RECETTES!$G$19) -> 0 | C97: =IF(SUMPRODUCT(('LISTE DE COURSE'!B97)-(STOCK!B97))>0,SUMPRODUCT(('LISTE DE COURSE'!B97)-(STOCK!B97)),0) -> 0 | E97: Vanille liquide | F97: =(SUMPRODUCT((RECETTES!$C$7:$C$17='LISTE DE COURSE'!E97)*(RECETTES!$B$7:$B$17))*RECETTES!$A$4)+(SUMPRODUCT((RECETTES!$F$7:$F$17='LISTE DE COURSE'!E97)*(RECETTES!$E$7:$E$17))*RECETTES!$D$4)+(SUMPRODUCT((RECETTES!$I$7:$I$17='LISTE DE COURSE'!E97)*(RECETTES!$H$7:$H$17))*RECETTES!$G$4)+(SUMPRODUCT((RECETTES!$K$7:$K$17='LISTE DE COURSE'!E97)*(RECETTES!$K$7:$K$17))*RECETTES!$J$4)+(SUMPRODUCT((RECETTES!$O$7:$O$17='LISTE DE COURSE'!E97)*(RECETTES!$N$7:$N$17))*RECETTES!$M$4)+(SUMPRODUCT((RECETTES!$C$22:$C$31='LISTE DE COURSE'!E97)*(RECETTES!$B$22:$B$31))*RECETTES!$A$19)+(SUMPRODUCT((RECETTES!$F$22:$F$31='LISTE DE COURSE'!E97)*(RECETTES!$E$22:$E$31))*RECETTES!$D$19)+(SUMPRODUCT((RECETTES!$I$22:$I$31='LISTE DE COURSE'!E97)*(RECETTES!$H$22:$H$31))*RECETTES!$G$19) -> 0 | G97: =IF(SUMPRODUCT(('LISTE DE COURSE'!F97)-(STOCK!E97))>0,SUMPRODUCT(('LISTE DE COURSE'!F97)-(STOCK!E97)),0) -> 0
A98: Nappage neutre | B98: =(SUMPRODUCT((RECETTES!$C$7:$C$17='LISTE DE COURSE'!A98)*(RECETTES!$B$7:$B$17))*RECETTES!$A$4)+(SUMPRODUCT((RECETTES!$F$7:$F$17='LISTE DE COURSE'!A98)*(RECETTES!$E$7:$E$17))*RECETTES!$D$4)+(SUMPRODUCT((RECETTES!$I$7:$I$17='LISTE DE COURSE'!A98)*(RECETTES!$H$7:$H$17))*RECETTES!$G$4)+(SUMPRODUCT((RECETTES!$K$7:$K$17='LISTE DE COURSE'!A98)*(RECETTES!$K$7:$K$17))*RECETTES!$J$4)+(SUMPRODUCT((RECETTES!$O$7:$O$17='LISTE DE COURSE'!A98)*(RECETTES!$N$7:$N$17))*RECETTES!$M$4)+(SUMPRODUCT((RECETTES!$C$22:$C$31='LISTE DE COURSE'!A98)*(RECETTES!$B$22:$B$31))*RECETTES!$A$19)+(SUMPRODUCT((RECETTES!$F$22:$F$31='LISTE DE COURSE'!A98)*(RECETTES!$E$22:$E$31))*RECETTES!$D$19)+(SUMPRODUCT((RECETTES!$I$22:$I$31='LISTE DE COURSE'!A98)*(RECETTES!$H$22:$H$31))*RECETTES!$G$19) -> 0 | C98: =IF(SUMPRODUCT(('LISTE DE COURSE'!B98)-(STOCK!B98))>0,SUMPRODUCT(('LISTE DE COURSE'!B98)-(STOCK!B98)),0) -> 0

Sheet STOCK
A1: STOCK
A3: FRAIS | B3: Stock | D3: FRUITS - LÉGUMES FRAIS | E3: Stock
A5: Beurre | B5: 0 | D5: Ananas | E5: 0
A6: Beurre salé | B6: 0 | D6: Brisures de framboises | E6: 0
A7: Blancs d'œufs | B7: 0 | D7: Cassis | E7: 0
A8: Crème | B8: 0 | D8: Citron jaune | E8: 0
A9: Jaunes d'œufs | B9: 0 | D9: Citron vert | E9: 0
A10: Lait | B10: 0 | D10: Fraise | E10: 0
A11: Œufs | B11: 5 | D11: Framboise | E11: 0
A12: Mascarpone | B12: 0 | D12: Griottes | E12: 0
A13: Philadelphia | B13: 0 | D13: Groseilles | E13: 0
D14: Mandarine | E14: 0
D15: Orange | E15: 0
A16: FARINES - POUDRES - LEVURES | B16: Stock | D16: Pamplemousse | E16: 0
D17: Poire | E17: 0
A18: Amidon de maïs | B18: 0 | D18: Pomme Royal Gala | E18: 0
A19: Farine T65 | B19: 0 | D19: Pomme verte | E19: 0
A20: Farine T55 | B20: 0 | D20: Zeste de citron jaune | E20: 0
A21: Farine T45 | B21: 0 | D21: Zeste de citron vert | E21: 0
A22: Farine T80 | B22: 0 | D22: Zeste de mandarine | E22: 0
A23: Farine de seigle | B23: 0 | D23: Zeste de pamplemousse | E23: 0
A24: Fécule de pomme de terre | B24: 0
A25: Levure chimique | B25: 0
A26: Levure boulangère | B26: 0 | D26: PURÉE DE FRUITS | E26: Stock
D28: Purée d'ananas | E28: 0
A29: SUCRES | B29: Stock | D29: Purée de cassis | E29: 0
D30: Purée de citron | E30: 0
A31: Cassonade | B31: 0 | D31: Purée de citron vert | E31: 0
A32: Miel | B32: 0 | D32: Purée de clémentine | E32: 0
A33: Glucose | B33: 0 | D33: Purée de fraise | E33: 0
A34: Sucre glace | B34: 0 | D34: Fraises entières | E34: 0
A35: Sucre inverti | B35: 0 | D35: Purée de framboise | E35: 0
A36: Sucre | B36: 0 | D36: Purée de griottes | E36: 0
D37: Lait de Coco | E37: 0
D38: Purée de mandarine | E38: 0
A39: MATIÈRES SÈCHES, DIVERS | B39: Stock | D39: Purée de mangue | E39: 0
D40: Purée de noix de coco | E40: 0
A41: Amandes entières | B41: 0 | D41: Purée d'orange | E41: 0
A42: Amandes hachées | B42: 0 | D42: Purée de passion | E42: 0
A43: Brisures de marrons | B43: 0 | D43: Purée de pêche blanche | E43: 0
A44: Cacahuètes | B44: 0 | D44: Purée de poire | E44: 0
A45: Carambar | B45: 0 | D45: Purée de pomme verte | E45: 0
A46: Crème de marron | B46: 0
A47: Extrait de café | B47: 0
A48: Feuilletine | B48: 0 | D48: ADDITIFS | E48: Stock
A49: Fleur de sel | B49: 0
A50: Fraises déshydratées | B50: 0 | D50: Acide citrique | E50: 0
A51: Gianduja | B51: 0 | D51: Arôme violette | E51: 0
A52: Muesli | B52: 0 | D52: Bicarbonate de soude | E52: 0
A53: Noisettes entières | B53: 0 | D53: Colorant chocolat | E53: 0
A54: Noix de coco en poudre | B54: 0 | D54: Colorant jaune | E54: 0
A55: Noix de pécan | B55: 0 | D55: Colorant orange | E55: 0
A56: Pâte d'amande | B56: 0 | D56: Colorant rose | E56: 0
A57: Pâte de Marron | B57: 0 | D57: Colorant rouge | E57: 0
A58: Pâte de noisettes | B58: 0 | D58: Colorant vert | E58: 0
A59: Pâte de pistache | B59: 0 | D59: Fondant blanc | E59: 0
A60: Pâte de Spéculoos | B60: 0 | D60: Gélatine | E60: 0
A61: Pistaches hachées | B61: 0 | D61: Isomalt | E61: 0
... A63: Poudre de noisettes | B63: 0 | D63: Sorbitol | E63: 0
A64: Poudre de pistaches | B64: 0
A65: Riz soufflé | B65: 0
A66: Sésame noir | B66: 0 | D66: HUILES - VINAIGRES | E66: Stock
A67: Spéculoos | B67: 0
D68: Eau | E68: 0
D69: Huile de colza | E69: 0
A70: CONSERVES | B70: Stock | D70: Huile de friture | E70: 0
D71: Huile d'olive | E71: 0
A72: Lait concentré non sucré | B72: 0 | D72: Huile de pépin de raisin | E72: 0
A73: Sirop d'érable | B73: 0 | D73: Vinaigre blanc | E73: 0
A76: CHOCOLATS | B76: Stock | D76: ALCOOLS | E76: Stock
A78: Beurre de cacao | B78: 0 | D78: Amaretto | E78: 0
A79: Bueno | B79: 0 | D79: Calvados | E79: 0
A80: Cacao en poudre | B80: 0 | D80: Clairette de Die | E80: 0
A81: Chocolat blanc | B81: 0 | D81: Fleur d'oranger | E81: 0
A82: Chocolat dulcey | B82: 0 | D82: Grand Marnier | E82: 0
A83: Chocolat lait | B83: 0 | D83: Kirsch | E83: 0
A84: Chocolat noir | B84: 0 | D84: Liqueur de pêche | E84: 0
A85: Drops chocolat noir | B85: 0 | D85: Rhum | E85: 0
A86: Gianduja Lait | B86: 0
A87: M&M's | B87: 0
A88: Nutella | B88: 0 | D88: ÉPICES | E88: Stock
A89: Oreo | B89: 0
A90: Praliné | B90: 0 | D90: Extrait de café | E90: 0
A91: Schoko-bons | B91: 0 | D91: Clou de girofle | E91: 0
D92: Cumin | E92: 0
D93: Mélange 4 épices | E93: 0
A94: FRUITS CONFITS - NAPPAGE | B94: Stock | D94: Poivre Blanc | E94: 0
D95: Sel | E95: 0
A96: Ecorce d'orange | B96: 0 | D96: Vanille en poudre | E96: 0
A97: Ecorce de citron | B97: 0 | D97: Vanille liquide | E97: 0
A98: Nappage neutre | B98: 0
