Workbook

Sheet RECETTES
A1: RECETTES
A3: Commande | C3: Génoise | D3: Commande | E3: Pâte Sucrée | G3: Commande | H3: Biscuit noisettes | J3: Commande | K3: Financier framboises | M3: Commande | N3: Financier framboises
A4: 1 | D4: 1 | G4: 1 | J4: 1 | M4: 0
B5: Qté | C5: Ingrédients | E5: Qté | F5: Ingrédients | H5: Qté | I5: Ingrédients | K5: Qté | L5: Ingrédients | N5: Qté | O5: Ingrédients
A6: Ordre | D6: Ordre | G6: Ordre | J6: Ordre | M6: Ordre
A7: 0 | B7: 170 | C7: Œufs | D7: 0 | E7: 8 | F7: Beurre | G7: 0 | H7: 80 | I7: Beurre | J7: 0 | K7: 6 | L7: Beurre | M7: 0 | N7: 6 | O7: Beurre
B8: 2 | C8: Sucre | E8: 30 | F8: Farine T55 | H8: 4 | I8: Pâte de noisettes | K8: 187 | L8: Sucre glace | N8: 187 | O8: Sucre glace
B9: 60 | C9: Farine T55 | E9: 2 | F9: Sucre glace | H9: 28 | I9: Sucre inverti | K9: 60 | L9: Farine T55 | N9: 60 | O9: Farine
E10: 30 | F10: Sel | H10: 90 | I10: Sucre | K10: 30 | L10: Poudre d'amandes | N10: 30 | O10: Poudre d'amandes
E11: 2 | F11: Œufs | H11: 298 | I11: Poudre d'amandes | K11: 14 | L11: Blancs d'œufs | N11: 14 | O11: Blancs d'œufs
E12: 6 | F12: Poudre d'amandes | H12: 10 | I12: Farine T55 | K12: 4 | L12: Framboise | N12: 4 | O12: Framboise
H13: 20 | I13: Levure chimique
H14: 2 | I14: Crème
I15: Œufs
A18: Commande | C18: Génoise | D18: Commande | E18: Pâte Sucrée | G18: Commande | H18: Biscuit noisettes | J18: Commande | K18: Financier framboises | M18: Commande | N18: Financier framboises
A19: 1 | D19: 0 | G19: 0 | J19: 0 | M19: 0
B20: Qté | C20: Ingrédients | E20: Qté | F20: Ingrédients | H20: Qté | I20: Ingrédients | K20: Qté | L20: Ingrédients | N20: Qté | O20: Ingrédients
A21: Ordre | D21: Ordre | G21: Ordre | J21: Ordre | M21: Ordre
A22: 0 | B22: 170 | C22: Œufs | D22: 0 | E22: 8 | F22: Beurre | G22: 0 | H22: 80 | I22: Beurre | J22: 0 | K22: 6 | L22: Beurre | M22: 0 | N22: 6 | O22: Beurre
B23: 2 | C23: Sucre | E23: 30 | F23: Farine | H23: 4 | I23: Pâte noisettes | K23: 187 | L23: Sucre glace | N23: 187 | O23: Sucre glace
B24: 60 | C24: Farine T55 | E24: 2 | F24: Sucre glace | H24: 28 | I24: Sucre inverti | K24: 60 | L24: Farine | N24: 60 | O24: Farine
E25: 30 | F25: Sel | H25: 90 | I25: Sucre | K25: 30 | L25: Poudre d'amandes | N25: 30 | O25: Poudre d'amandes
E26: 2 | F26: Œufs | H26: 298 | I26: Poudre d'amandes | K26: 14 | L26: Blancs d'œufs | N26: 14 | O26: Blancs d'œufs
E27: 6 | F27: Poudres d'amandes | H27: 10 | I27: Farine | K27: 4 | L27: Framboises | N27: 4 | O27: Framboises
H28: 20 | I28: Levure
H29: 2 | I29: Crème
I30: Œufs

Sheet COMMANDE
A1: COMMANDE

Sheet LISTE DE COURSE
A1: LISTE DE COURSE
A3: FRAIS | B3: Nécessaire | C3: Achat | E3: FRUITS - LÉGUMES FRAIS | F3: Nécessaire | G3: Achat
A5: Beurre | B5: =(SUMPRODUCT((RECETTES!$C$7:$C$17='LISTE DE COURSE'!A5)*(RECETTES!$B$7:$B$17))*RECETTES!$A$4)+(SUMPRODUCT((RECETTES!$F$7:$F$17='LISTE DE COURSE'!A5)*(RECETTES!$E$7:$E$17))*RECETTES!$D$4)+(SUMPRODUCT((RECETTES!$I$7:$I$17='LISTE DE COURSE'!A5)*(RECETTES!$H$7:$H$17))*RECETTES!$G$4)+(SUMPRODUCT((RECETTES!$K$7:$K$17='LISTE DE COURSE'!A5)*(RECETTES!$K$7:$K$17))*RECETTES!$J$4)+(SUMPRODUCT((RECETTES!$O$7:$O$17='LISTE DE COURSE'!A5)*(RECETTES!$N$7:$N$17))*RECETTES!$M$4)+(SUMPRODUCT((RECETTES!$C$22:$C$31='LISTE DE COURSE'!A5)*(RECETTES!$B$22:$B$31))*RECETTES!$A$19)+(SUMPRODUCT((RECETTES!$F$22:$F$31='LISTE DE COURSE'!A5)*(RECETTES!$E$22:$E$31))*RECETTES!$D$19)+(SUMPRODUCT((RECETTES!$I$22:$I$31='LISTE DE COURSE'!A5)*(RECETTES!$H$22:$H$31))*RECETTES!$G$19) -> 88 | C5: =IF(SUMPRODUCT(('LISTE DE COURSE'!B5)-(STOCK!B5))>0,SUMPRODUCT(('LISTE DE COURSE'!B5)-(STOCK!B5)),0) -> 88 | E5: Ananas | F5: =(SUMPRODUCT((RECETTES!$C$7:$C$17='LISTE DE COURSE'!E5)*(RECETTES!$B$7:$B$17))*RECETTES!$A$4)+(SUMPRODUCT((RECETTES!$F$7:$F$17='LISTE DE COURSE'!E5)*(RECETTES!$E$7:$E$17))*RECETTES!$D$4)+(SUMPRODUCT((RECETTES!$I$7:$I$17='LISTE DE COURSE'!E5)*(RECETTES!$H$7:$H$17))*RECETTES!$G$4)+(SUMPRODUCT((RECETTES!$K$7:$K$17='LISTE DE COURSE'!E5)*(RECETTES!$K$7:$K$17))*RECETTES!$J$4)+(SUMPRODUCT((RECETTES!$O$7:$O$17='LISTE DE COURSE'!E5)*(RECETTES!$N$7:$N$17))*RECETTES!$M$4)+(SUMPRODUCT((RECETTES!$C$22:$C$31='LISTE DE COURSE'!E5)*(RECETTES!$B$22:$B$31))*RECETTES!$A$19)+(SUMPRODUCT((RECETTES!$F$22:$F$31='LISTE DE COURSE'!E5)*(RECETTES!$E$22:$E$31))*RECETTES!$D$19)+(SUMPRODUCT((RECETTES!$I$22:$I$31='LISTE DE COURSE'!E5)*(RECETTES!$H$22:$H$31))*RECETTES!$G$19) -> 0 | G5: =IF(SUMPRODUCT(('LISTE DE COURSE'!F5)-(STOCK!E5))>0,SUMPRODUCT(('LISTE DE COURSE'!F5)-(STOCK!E5)),0) -> 0
A6: Beurre salé | B6: =(SUMPRODUCT((RECETTES!$C$7:$C$17='LISTE DE COURSE'!A6)*(RECETTES!$B$7:$B$17))*RECETTES!$A$4)+(SUMPRODUCT((RECETTES!$F$7:$F$17='LISTE DE COURSE'!A6)*(RECETTES!$E$7:$E$17))*RECETTES!$D$4)+(SUMPRODUCT((RECETTES!$I$7:$I$17='LISTE DE COURSE'!A6)*(RECETTES!$H$7:$H$17))*RECETTES!$G$4)+(SUMPRODUCT((RECETTES!$K$7:$K$17='LISTE DE COURSE'!A6)*(RECETTES!$K$7:$K$17))*RECETTES!$J$4)+(SUMPRODUCT((RECETTES!$O$7:$O$17='LISTE DE COURSE'!A6)*(RECETTES!$N$7:$N$17))*RECETTES!$M$4)+(SUMPRODUCT((RECETTES!$C$22:$C$31='LISTE DE COURSE'!A6)*(RECETTES!$B$22:$B$31))*RECETTES!$A$19)+(SUMPRODUCT((RECETTES!$F$22:$F$31='LISTE DE COURSE'!A6)*(RECETTES!$E$22:$E$31))*RECETTES!$D$19)+(SUMPRODUCT((RECETTES!$I$22:$I$31='LISTE DE COURSE'!A6)*(RECETTES!$H$22:$H$31))*RECETTES!$G$19) -> 0 | C6: =IF(SUMPRODUCT(('LISTE DE COURSE'!B6)-(STOCK!B6))>0,SUMPRODUCT(('LISTE DE COURSE'!B6)-(STOCK!B6)),0) -> 0 | E6: Brisures de framboises | F6: =(SUMPRODUCT((RECETTES!$C$7:$C$17='LISTE DE COURSE'!E6)*(RECETTES!$B$7:$B$17))*RECETTES!$A$4)+(SUMPRODUCT((RECETTES!$F$7:$F$17='LISTE DE COURSE'!E6)*(RECETTES!$E$7:$E$17))*RECETTES!$D$4)+(SUMPRODUCT((RECETTES!$I$7:$I$17='LISTE DE COURSE'!E6)*(RECETTES!$H$7:$H$17))*RECETTES!$G$4)+(SUMPRODUCT((RECETTES!$K$7:$K$17='LISTE DE COURSE'!E6)*(RECETTES!$K$7:$K$17))*RECETTES!$J$4)+(SUMPRODUCT((RECETTES!$O$7:$O$17='LISTE DE COURSE'!E6)*(RECETTES!$N$7:$N$17))*RECETTES!$M$4)+(SUMPRODUCT((RECETTES!$C$22:$C$31='LISTE DE COURSE'!E6)*(RECETTES!$B$22:$B$31))*RECETTES!$A$19)+(SUMPRODUCT((RECETTES!$F$22:$F$31='LISTE DE COURSE'!E6)*(RECETTES!$E$22:$E$31))*RECETTES!$D$19)+(SUMPRODUCT((RECETTES!$I$22:$I$31='LISTE DE COURSE'!E6)*(RECETTES!$H$22:$H$31))*RECETTES!$G$19) -> 0 | G6: =IF(SUMPRODUCT(('LISTE DE COURSE'!F6)-(STOCK!E6))>0,SUMPRODUCT(('LISTE DE COURSE'!F6)-(STOCK!E6)),0) -> 0
A7: Blancs d'œufs | B7: =(SUMPRODUCT((RECETTES!$C$7:$C$17='LISTE DE COURSE'!A7)*(RECETTES!$B$7:$B$17))*RECETTES!$A$4)+(SUMPRODUCT((RECETTES!$F$7:$F$17='LISTE DE COURSE'!A7)*(RECETTES!$E$7:$E$17))*RECETTES!$D$4)+(SUMPRODUCT((RECETTES!$I$7:$I$17='LISTE DE COURSE'!A7)*(RECETTES!$H$7:$H$17))*RECETTES!$G$4)+(SUMPRODUCT((RECETTES!$K$7:$K$17='LISTE DE COURSE'!A7)*(RECETTES!$K$7:$K$17))*RECETTES!$J$4)+(SUMPRODUCT((RECETTES!$O$7:$O$17='LISTE DE COURSE'!A7)*(RECETTES!$N$7:$N$17))*RECETTES!$M$4)+(SUMPRODUCT((RECETTES!$C$22:$C$31='LISTE DE COURSE'!A7)*(RECETTES!$B$22:$B$31))*RECETTES!$A$19)+(SUMPRODUCT((RECETTES!$F$22:$F$31='LISTE DE COURSE'!A7)*(RECETTES!$E$22:$E$31))*RECETTES!$D$19)+(SUMPRODUCT((RECETTES!$I$22:$I$31='LISTE DE COURSE'!A7)*(RECETTES!$H$22:$H$31))*RECETTES!$G$19) -> 0 | C7: =IF(SUMPRODUCT(('LISTE DE COURSE'!B7)-(STOCK!B7))>0,SUMPRODUCT(('LISTE DE COURSE'!B7)-(STOCK!B7)),0) -> 0 | E7: Cassis | F7: =(SUMPRODUCT((RECETTES!$C$7:$C$17='LISTE DE COURSE'!E7)*(RECETTES!$B$7:$B$17))*RECETTES!$A$4)+(SUMPRODUCT((RECETTES!$F$7:$F$17='LISTE DE COURSE'!E7)*(RECETTES!$E$7:$E$17))*RECETTES!$D$4)+(SUMPRODUCT((RECETTES!$I$7:$I$17='LISTE DE COURSE'!E7)*(RECETTES!$H$7:$H$17))*RECETTES!$G$4)+(SUMPRODUCT((RECETTES!$K$7:$K$17='LISTE DE COURSE'!E7)*(RECETTES!$K$7:$K$17))*RECETTES!$J$4)+(SUMPRODUCT((RECETTES!$O$7:$O$17='LISTE DE COURSE'!E7)*(RECETTES!$N$7:$N$17))*RECETTES!$M$4)+(SUMPRODUCT((RECETTES!$C$22:$C$31='LISTE DE COURSE'!E7)*(RECETTES!$B$22:$B$31))*RECETTES!$A$19)+(SUMPRODUCT((RECETTES!$F$22:$F$31='LISTE DE COURSE'!E7)*(RECETTES!$E$22:$E$31))*RECETTES!$D$19)+(SUMPRODUCT((RECETTES!$I$22:$I$31='LISTE DE COURSE'!E7)*(RECETTES!$H$22:$H$31))*RECETTES!$G$19) -> 0 | G7: =IF(SUMPRODUCT(('LISTE DE COURSE'!F7)-(STOCK!E7))>0,SUMPRODUCT(('LISTE DE COURSE'!F7)-(STOCK!E7)),0) -> 0
A8: Crème | B8: =(SUMPRODUCT((RECETTES!$C$7:$C$17='LISTE DE COURSE'!A8)*(RECETTES!$B$7:$B$17))*RECETTES!$A$4)+(SUMPRODUCT((RECETTES!$F$7:$F$17='LISTE DE COURSE'!A8)*(RECETTES!$E$7:$E$17))*RECETTES!$D$4)+(SUMPRODUCT((RECETTES!$I$7:$I$17='LISTE DE COURSE'!A8)*(RECETTES!$H$7:$H$17))*RECETTES!$G$4)+(SUMPRODUCT((RECETTES!$K$7:$K$17='LISTE DE COURSE'!A8)*(RECETTES!$K$7:$K$17))*RECETTES!$J$4)+(SUMPRODUCT((RECETTES!$O$7:$O$17='LISTE DE COURSE'!A8)*(RECETTES!$N$7:$N$17))*RECETTES!$M$4)+(SUMPRODUCT((RECETTES!$C$22:$C$31='LISTE DE COURSE'!A8)*(RECETTES!$B$22:$B$31))*RECETTES!$A$19)+(SUMPRODUCT((RECETTES!$F$22:$F$31='LISTE DE COURSE'!A8)*(RECETTES!$E$22:$E$31))*RECETTES!$D$19)+(SUMPRODUCT((RECETTES!$I$22:$I$31='LISTE DE COURSE'!A8)*(RECETTES!$H$22:$H$31))*RECETTES!$G$19) -> 2 | C8: =IF(SUMPRODUCT(('LISTE DE COURSE'!B8)-(STOCK!B8))>0,SUMPRODUCT(('LISTE DE COURSE'!B8)-(STOCK!B8)),0) -> 2 | E8: Citron jaune | F8: =(SUMPRODUCT((RECETTES!$C$7:$C$17='LISTE DE COURSE'!E8)*(RECETTES!$B$7:$B$17))*RECETTES!$A$4)+(SUMPRODUCT((RECETTES!$F$7:$F$17='LISTE DE COURSE'!E8)*(RECETTES!$E$7:$E$17))*RECETTES!$D$4)+(SUMPRODUCT((RECETTES!$I$7:$I$17='LISTE DE COURSE'!E8)*(RECETTES!$H$7:$H$17))*RECETTES!$G$4)+(SUMPRODUCT((RECETTES!$K$7:$K$17='LISTE DE COURSE'!E8)*(RECETTES!$K$7:$K$17))*RECETTES!$J$4)+(SUMPRODUCT((RECETTES!$O$7:$O$17='LISTE DE COURSE'!E8)*(RECETTES!$N$7:$N$17))*RECETTES!$M$4)+(SUMPRODUCT((RECETTES!$C$22:$C$31='LISTE DE COURSE'!E8)*(RECETTES!$B$22:$B$31))*RECETTES!$A$19)+(SUMPRODUCT((RECETTES!$F$22:$F$31='LISTE DE COURSE'!E8)*(RECETTES!$E$22:$E$31))*RECETTES!$D$19)+(SUMPRODUCT((RECETTES!$I$22:$I$31='LISTE DE COURSE'!E8)*(RECETTES!$H$22:$H$31))*RECETTES!$G$19) -> 0 | G8: =IF(SUMPRODUCT(('LISTE DE COURSE'!F8)-(STOCK!E8))>0,SUMPRODUCT(('LISTE DE COURSE'!F8)-(STOCK!E8)),0) -> 0
A9: Jaunes d'œufs | B9: =(SUMPRODUCT((RECETTES!$C$7:$C$17='LISTE DE COURSE'!A9)*(RECETTES!$B$7:$B$17))*RECETTES!$A$4)+(SUMPRODUCT((RECETTES!$F$7:$F$17='LISTE DE COURSE'!A9)*(RECETTES!$E$7:$E$17))*RECETTES!$D$4)+(SUMPRODUCT((RECETTES!$I$7:$I$17='LISTE DE COURSE'!A9)*(RECETTES!$H$7:$H$17))*RECETTES!$G$4)+(SUMPRODUCT((RECETTES!$K$7:$K$17='LISTE DE COURSE'!A9)*(RECETTES!$K$7:$K$17))*RECETTES!$J$4)+(SUMPRODUCT((RECETTES!$O$7:$O$17='LISTE DE COURSE'!A9)*(RECETTES!$N$7:$N$17))*RECETTES!$M$4)+(SUMPRODUCT((RECETTES!$C$22:$C$31='LISTE DE COURSE'!A9)*(RECETTES!$B$22:$B$31))*RECETTES!$A$19)+(SUMPRODUCT((RECETTES!$F$22:$F$31='LISTE DE COURSE'!A9)*(RECETTES!$E$22:$E$31))*RECETTES!$D$19)+(SUMPRODUCT((RECETTES!$I$22:$I$31='LISTE DE COURSE'!A9)*(RECETTES!$H$22:$H$31))*RECETTES!$G$19) -> 0 | C9: =IF(SUMPRODUCT(('LISTE DE COURSE'!B9)-(STOCK!B9))>0,SUMPRODUCT(('LISTE DE COURSE'!B9)-(STOCK!B9)),0) -> 0 | E9: Citron vert | F9: =(SUMPRODUCT((RECETTES!$C$7:$C$17='LISTE DE COURSE'!E9)*(RECETTES!$B$7:$B$17))*RECETTES!$A$4)+(SUMPRODUCT((RECETTES!$F$7:$F$17='LISTE DE COURSE'!E9)*(RECETTES!$E$7:$E$17))*RECETTES!$D$4)+(SUMPRODUCT((RECETTES!$I$7:$I$17='LISTE DE COURSE'!E9)*(RECETTES!$H$7:$H$17))*RECETTES!$G$4)+(SUMPRODUCT((RECETTES!$K$7:$K$17='LISTE DE COURSE'!E9)*(RECETTES!$K$7:$K$17))*RECETTES!$J$4)+(SUMPRODUCT((RECETTES!$O$7:$O$17='LISTE DE COURSE'!E9)*(RECETTES!$N$7:$N$17))*RECETTES!$M$4)+(SUMPRODUCT((RECETTES!$C$22:$C$31='LISTE DE COURSE'!E9)*(RECETTES!$B$22:$B$31))*RECETTES!$A$19)+(SUMPRODUCT((RECETTES!$F$22:$F$31='LISTE DE COURSE'!E9)*(RECETTES!$E$22:$E$31))*RECETTES!$D$19)+(SUMPRODUCT((RECETTES!$I$22:$I$31='LISTE DE COURSE'!E9)*(RECETTES!$H$22:$H$31))*RECETTES!$G$19) -> 0 | G9: =IF(SUMPRODUCT(('LISTE DE COURSE'!F9)-(STOCK!E9))>0,SUMPRODUCT(('LISTE DE COURSE'!F9)-(STOCK!E9)),0) -> 0
A10: Lait | B10: =(SUMPRODUCT((RECETTES!$C$7:$C$17='LISTE DE COURSE'!A10)*(RECETTES!$B$7:$B$17))*RECETTES!$A$4)+(SUMPRODUCT((RECETTES!$F$7:$F$17='LISTE DE COURSE'!A10)*(RECETTES!$E$7:$E$17))*RECETTES!$D$4)+(SUMPRODUCT((RECETTES!$I$7:$I$17='LISTE DE COURSE'!A10)*(RECETTES!$H$7:$H$17))*RECETTES!$G$4)+(SUMPRODUCT((RECETTES!$K$7:$K$17='LISTE DE COURSE'!A10)*(RECETTES!$K$7:$K$17))*RECETTES!$J$4)+(SUMPRODUCT((RECETTES!$O$7:$O$17='LISTE DE COURSE'!A10)*(RECETTES!$N$7:$N$17))*RECETTES!$M$4)+(SUMPRODUCT((RECETTES!$C$22:$C$31='LISTE DE COURSE'!A10)*(RECETTES!$B$22:$B$31))*RECETTES!$A$19)+(SUMPRODUCT((RECETTES!$F$22:$F$31='LISTE DE COURSE'!A10)*(RECETTES!$E$22:$E$31))*RECETTES!$D$19)+(SUMPRODUCT((RECETTES!$I$22:$I$31='LISTE DE COURSE'!A10)*(RECETTES!$H$22:$H$31))*RECETTES!$G$19) -> 0 | C10: =IF(SUMPRODUCT(('LISTE DE COURSE'!B10)-(STOCK!B10))>0,SUMPRODUCT(('LISTE DE COURSE'!B10)-(STOCK!B10)),0) -> 0 | E10: Fraise | F10: =(SUMPRODUCT((RECETTES!$C$7:$C$17='LISTE DE COURSE'!E10)*(RECETTES!$B$7:$B$17))*RECETTES!$A$4)+(SUMPRODUCT((RECETTES!$F$7:$F$17='LISTE DE COURSE'!E10)*(RECETTES!$E$7:$E$17))*RECETTES!$D$4)+(SUMPRODUCT((RECETTES!$I$7:$I$17='LISTE DE COURSE'!E10)*(RECETTES!$H$7:$H$17))*RECETTES!$G$4)+(SUMPRODUCT((RECETTES!$K$7:$K$17='LISTE DE COURSE'!E10)*(RECETTES!$K$7:$K$17))*RECETTES!$J$4)+(SUMPRODUCT((RECETTES!$O$7:$O$17='LISTE DE COURSE'!E10)*(RECETTES!$N$7:$N$17))*RECETTES!$M$4)+(SUMPRODUCT((RECETTES!$C$22:$C$31='LISTE DE COURSE'!E10)*(RECETTES!$B$22:$B$31))*RECETTES!$A$19)+(SUMPRODUCT((RECETTES!$F$22:$F$31='LISTE DE COURSE'!E10)*(RECETTES!$E$22:$E$31))*RECETTES!$D$19)+(SUMPRODUCT((RECETTES!$I$22:$I$31='LISTE DE COURSE'!E10)*(RECETTES!$H$22:$H$31))*RECETTES!$G$19) -> 0 | G10: =IF(SUMPRODUCT(('LISTE DE COURSE'!F10)-(STOCK!E10))>0,SUMPRODUCT(('LISTE DE COURSE'!F10)-(STOCK!E10)),0) -> 0
A11: Œufs | B11: =(SUMPRODUCT((RECETTES!$C$7:$C$17='LISTE DE COURSE'!A11)*(RECETTES!$B$7:$B$17))*RECETTES!$A$4)+(SUMPRODUCT((RECETTES!$F$7:$F$17='LISTE DE COURSE'!A11)*(RECETTES!$E$7:$E$17))*RECETTES!$D$4)+(SUMPRODUCT((RECETTES!$I$7:$I$17='LISTE DE COURSE'!A11)*(RECETTES!$H$7:$H$17))*RECETTES!$G$4)+(SUMPRODUCT((RECETTES!$K$7:$K$17='LISTE DE COURSE'!A11)*(RECETTES!$K$7:$K$17))*RECETTES!$J$4)+(SUMPRODUCT((RECETTES!$O$7:$O$17='LISTE DE COURSE'!A11)*(RECETTES!$N$7:$N$17))*RECETTES!$M$4)+(SUMPRODUCT((RECETTES!$C$22:$C$31='LISTE DE COURSE'!A11)*(RECETTES!$B$22:$B$31))*RECETTES!$A$19)+(SUMPRODUCT((RECETTES!$F$22:$F$31='LISTE DE COURSE'!A11)*(RECETTES!$E$22:$E$31))*RECETTES!$D$19)+(SUMPRODUCT((RECETTES!$I$22:$I$31='LISTE DE COURSE'!A11)*(RECETTES!$H$22:$H$31))*RECETTES!$G$19) -> 342 | C11: =IF(SUMPRODUCT(('LISTE DE COURSE'!B11)-(STOCK!B11))>0,SUMPRODUCT(('LISTE DE COURSE'!B11)-(STOCK!B11)),0) -> 337 | E11: Framboise | F11: =(SUMPRODUCT((RECETTES!$C$7:$C$17='LISTE DE COURSE'!E11)*(RECETTES!$B$7:$B$17))*RECETTES!$A$4)+(SUMPRODUCT((RECETTES!$F$7:$F$17='LISTE DE COURSE'!E11)*(RECETTES!$E$7:$E$17))*RECETTES!$D$4)+(SUMPRODUCT((RECETTES!$I$7:$I$17='LISTE DE COURSE'!E11)*(RECETTES!$H$7:$H$17))*RECETTES!$G$4)+(SUMPRODUCT((RECETTES!$K$7:$K$17='LISTE DE COURSE'!E11)*(RECETTES!$K$7:$K$17))*RECETTES!$J$4)+(SUMPRODUCT((RECETTES!$O$7:$O$17='LISTE DE COURSE'!E11)*(RECETTES!$N$7:$N$17))*RECETTES!$M$4)+(SUMPRODUCT((RECETTES!$C$22:$C$31='LISTE DE COURSE'!E11)*(RECETTES!$B$22:$B$31))*RECETTES!$A$19)+(SUMPRODUCT((RECETTES!$F$22:$F$31='LISTE DE COURSE'!E11)*(RECETTES!$E$22:$E$31))*RECETTES!$D$19)+(SUMPRODUCT((RECETTES!$I$22:$I$31='LISTE DE COURSE'!E11)*(RECETTES!$H$22:$H$31))*RECETTES!$G$19) -> 0 | G11: =IF(SUMPRODUCT(('LISTE DE COURSE'!F11)-(STOCK!E11))>0,SUMPRODUCT(('LISTE DE COURSE'!F11)-(STOCK!E11)),0) -> 0
A12: Mascarpone | B12: =(SUMPRODUCT((RECETTES!$C$7:$C$17='LISTE DE COURSE'!A12)*(RECETTES!$B$7:$B$17))*RECETTES!$A$4)+(SUMPRODUCT((RECETTES!$F$7:$F$17='LISTE DE COURSE'!A12)*(RECETTES!$E$7:$E$17))*RECETTES!$D$4)+(SUMPRODUCT((RECETTES!$I$7:$I$17='LISTE DE COURSE'!A12)*(RECETTES!$H$7:$H$17))*RECETTES!$G$4)+(SUMPRODUCT((RECETTES!$K$7:$K$17='LISTE DE COURSE'!A12)*(RECETTES!$K$7:$K$17))*RECETTES!$J$4)+(SUMPRODUCT((RECETTES!$O$7:$O$17='LISTE DE COURSE'!A12)*(RECETTES!$N$7:$N$17))*RECETTES!$M$4)+(SUMPRODUCT((RECETTES!$C$22:$C$31='LISTE DE COURSE'!A12)*(RECETTES!$B$22:$B$31))*RECETTES!$A$19)+(SUMPRODUCT((RECETTES!$F$22:$F$31='LISTE DE COURSE'!A12)*(RECETTES!$E$22:$E$31))*RECETTES!$D$19)+(SUMPRODUCT((RECETTES!$I$22:$I$31='LISTE DE COURSE'!A12)*(RECETTES!$H$22:$H$31))*RECETTES!$G$19) -> 0 | C12: =IF(SUMPRODUCT(('LISTE DE COURSE'!B12)-(STOCK!B12))>0,SUMPRODUCT(('LISTE DE COURSE'!B12)-(STOCK!B12)),0) -> 0 | E12: Griottes | F12: =(SUMPRODUCT((RECETTES!$C$7:$C$17='LISTE DE COURSE'!E12)*(RECETTES!$B$7:$B$17))*RECETTES!$A$4)+(SUMPRODUCT((RECETTES!$F$7:$F$17='LISTE DE COURSE'!E12)*(RECETTES!$E$7:$E$17))*RECETTES!$D$4)+(SUMPRODUCT((RECETTES!$I$7:$I$17='LISTE DE COURSE'!E12)*(RECETTES!$H$7:$H$17))*RECETTES!$G$4)+(SUMPRODUCT((RECETTES!$K$7:$K$17='LISTE DE COURSE'!E12)*(RECETTES!$K$7:$K$17))*RECETTES!$J$4)+(SUMPRODUCT((RECETTES!$O$7:$O$17='LISTE DE COURSE'!E12)*(RECETTES!$N$7:$N$17))*RECETTES!$M$4)+(SUMPRODUCT((RECETTES!$C$22:$C$31='LISTE DE COURSE'!E12)*(RECETTES!$B$22:$B$31))*RECETTES!$A$19)+(SUMPRODUCT((RECETTES!$F$22:$F$31='LISTE DE COURSE'!E12)*(RECETTES!$E$22:$E$31))*RECETTES!$D$19)+(SUMPRODUCT((RECETTES!$I$22:$I$31='LISTE DE COURSE'!E12)*(RECETTES!$H$22:$H$31))*RECETTES!$G$19) -> 0 | G12: =IF(SUMPRODUCT(('LISTE DE COURSE'!F12)-(STOCK!E12))>0,SUMPRODUCT(('LISTE DE COURSE'!F12)-(STOCK!E12)),0) -> 0
A13: Philadelphia | B13: =(SUMPRODUCT((RECETTES!$C$7:$C$17='LISTE DE COURSE'!A13)*(RECETTES!$B$7:$B$17))*RECETTES!$A$4)+(SUMPRODUCT((RECETTES!$F$7:$F$17='LISTE DE COURSE'!A13)*(RECETTES!$E$7:$E$17))*RECETTES!$D$4)+(SUMPRODUCT((RECETTES!$I$7:$I$17='LISTE DE COURSE'!A13)*(RECETTES!$H$7:$H$17))*RECETTES!$G$4)+(SUMPRODUCT((RECETTES!$K$7:$K$17='LISTE DE COURSE'!A13)*(RECETTES!$K$7:$K$17))*RECETTES!$J$4)+(SUMPRODUCT((RECETTES!$O$7:$O$17='LISTE DE COURSE'!A13)*(RECETTES!$N$7:$N$17))*RECETTES!$M$4)+(SUMPRODUCT((RECETTES!$C$22:$C$31='LISTE DE COURSE'!A13)*(RECETTES!$B$22:$B$31))*RECETTES!$A$19)+(SUMPRODUCT((RECETTES!$F$22:$F$31='LISTE DE COURSE'!A13)*(RECETTES!$E$22:$E$31))*RECETTES!$D$19)+(SUMPRODUCT((RECETTES!$I$22:$I$31='LISTE DE COURSE'!A13)*(RECETTES!$H$22:$H$31))*RECETTES!$G$19) -> 0 | C13: =IF(SUMPRODUCT(('LISTE DE COURSE'!B13)-(STOCK!B13))>0,SUMPRODUCT(('LISTE DE COURSE'!B13)-(STOCK!B13)),0) -> 0 | E13: Groseilles | F13: =(SUMPRODUCT((RECETTES!$C$7:$C$17='LISTE DE COURSE'!E13)*(RECETTES!$B$7:$B$17))*RECETTES!$A$4)+(SUMPRODUCT((RECETTES!$F$7:$F$17='LISTE DE COURSE'!E13)*(RECETTES!$E$7:$E$17))*RECETTES!$D$4)+(SUMPRODUCT((RECETTES!$I$7:$I$17='LISTE DE COURSE'!E13)*(RECETTES!$H$7:$H$17))*RECETTES!$G$4)+(SUMPRODUCT((RECETTES!$K$7:$K$17='LISTE DE COURSE'!E13)*(RECETTES!$K$7:$K$17))*RECETTES!$J$4)+(SUMPRODUCT((RECETTES!$O$7:$O$17='LISTE DE COURSE'!E13)*(RECETTES!$N$7:$N$17))*RECETTES!$M$4)+(SUMPRODUCT((RECETTES!$C$22:$C$31='LISTE DE COURSE'!E13)*(RECETTES!$B$22:$B$31))*RECETTES!$A$19)+(SUMPRODUCT((RECETTES!$F$22:$F$31='LISTE DE COURSE'!E13)*(RECETTES!$E$22:$E$31))*RECETTES!$D$19)+(SUMPRODUCT((RECETTES!$I$22:$I$31='LISTE DE COURSE'!E13)*(RECETTES!$H$22:$H$31))*RECETTES!$G$19) -> 0 | G13: =IF(SUMPRODUCT(('LISTE DE COURSE'!F13)-(STOCK!E13))>0,SUMPRODUCT(('LISTE DE COURSE'!F13)-(STOCK!E13)),0) -> 0
E14: Mandarine | F14: =(SUMPRODUCT((RECETTES!$C$7:$C$17='LISTE DE COURSE'!E14)*(RECETTES!$B$7:$B$17))*RECETTES!$A$4)+(SUMPRODUCT((RECETTES!$F$7:$F$17='LISTE DE COURSE'!E14)*(RECETTES!$E$7:$E$17))*RECETTES!$D$4)+(SUMPRODUCT((RECETTES!$I$7:$I$17='LISTE DE COURSE'!E14)*(RECETTES!$H$7:$H$17))*RECETTES!$G$4)+(SUMPRODUCT((RECETTES!$K$7:$K$17='LISTE DE COURSE'!E14)*(RECETTES!$K$7:$K$17))*RECETTES!$J$4)+(SUMPRODUCT((RECETTES!$O$7:$O$17='LISTE DE COURSE'!E14)*(RECETTES!$N$7:$N$17))*RECETTES!$M$4)+(SUMPRODUCT((RECETTES!$C$22:$C$31='LISTE DE COURSE'!E14)*(RECETTES!$B$22:$B$31))*RECETTES!$A$19)+(SUMPRODUCT((RECETTES!$F$22:$F$31='LISTE DE COURSE'!E14)*(RECETTES!$E$22:$E$31))*RECETTES!$D$19)+(SUMPRODUCT((RECETTES!$I$22:$I$31='LISTE DE COURSE'!E14)*(RECETTES!$H$22:$H$31))*RECETTES!$G$19) -> 0 | G14: =IF(SUMPRODUCT(('LISTE DE COURSE'!F14)-(STOCK!E14))>0,SUMPRODUCT(('LISTE DE COURSE'!F14)-(STOCK!E14)),0) -> 0
E15: Orange | F15: =(SUMPRODUCT((RECETTES!$C$7:$C$17='LISTE DE COURSE'!E15)*(RECETTES!$B$7:$B$17))*RECETTES!$A$4)+(SUMPRODUCT((RECETTES!$F$7:$F$17='LISTE DE COURSE'!E15)*(RECETTES!$E$7:$E$17))*RECETTES!$D$4)+(SUMPRODUCT((RECETTES!$I$7:$I$17='LISTE DE COURSE'!E15)*(RECETTES!$H$7:$H$17))*RECETTES!$G$4)+(SUMPRODUCT((RECETTES!$K$7:$K$17='LISTE DE COURSE'!E15)*(RECETTES!$K$7:$K$17))*RECETTES!$J$4)+(SUMPRODUCT((RECETTES!$O$7:$O$17='LISTE DE COURSE'!E15)*(RECETTES!$N$7:$N$17))*RECETTES!$M$4)+(SUMPRODUCT((RECETTES!$C$22:$C$31='LISTE DE COURSE'!E15)*(RECETTES!$B$22:$B$31))*RECETTES!$A$19)+(SUMPRODUCT((RECETTES!$F$22:$F$31='LISTE DE COURSE'!E15)*(RECETTES!$E$22:$E$31))*RECETTES!$D$19)+(SUMPRODUCT((RECETTES!$I$22:$I$31='LISTE DE COURSE'!E15)*(RECETTES!$H$22:$H$31))*RECETTES!$G$19) -> 0 | G15: =IF(SUMPRODUCT(('LISTE DE COURSE'!F15)-(STOCK!E15))>0,SUMPRODUCT(('LISTE DE COURSE'!F15)-(STOCK!E15)),0) -> 0
A16: FARINES - POUDRES - LEVURES | B16: Nécessaire | C16: Achat | E16: Pamplemousse | F16: =(SUMPRODUCT((RECETTES!$C$7:$C$17='LISTE DE COURSE'!E16)*(RECETTES!$B$7:$B$17))*RECETTES!$A$4)+(SUMPRODUCT((RECETTES!$F$7:$F$17='LISTE DE COURSE'!E16)*(RECETTES!$E$7:$E$17))*RECETTES!$D$4)+(SUMPRODUCT((RECETTES!$I$7:$I$17='LISTE DE COURSE'!E16)*(RECETTES!$H$7:$H$17))*RECETTES!$G$4)+(SUMPRODUCT((RECETTES!$K$7:$K$17='LISTE DE COURSE'!E16)*(RECETTES!$K$7:$K$17))*RECETTES!$J$4)+(SUMPRODUCT((RECETTES!$O$7:$O$17='LISTE DE COURSE'!E16)*(RECETTES!$N$7:$N$17))*RECETTES!$M$4)+(SUMPRODUCT((RECETTES!$C$22:$C$31='LISTE DE COURSE'!E16)*(RECETTES!$B$22:$B$31))*RECETTES!$A$19)+(SUMPRODUCT((RECETTES!$F$22:$F$31='LISTE DE COURSE'!E16)*(RECETTES!$E$22:$E$31))*RECETTES!$D$19)+(SUMPRODUCT((RECETTES!$I$22:$I$31='LISTE DE COURSE'!E16)*(RECETTES!$H$22:$H$31))*RECETTES!$G$19) -> 0 | G16: =IF(SUMPRODUCT(('LISTE DE COURSE'!F16)-(STOCK!E16))>0,SUMPRODUCT(('LISTE DE COURSE'!F16)-(STOCK!E16)),0) -> 0
E17: Poire | F17: =(SUMPRODUCT((RECETTES!$C$7:$C$17='LISTE DE COURSE'!E17)*(RECETTES!$B$7:$B$17))*RECETTES!$A$4)+(SUMPRODUCT((RECETTES!$F$7:$F$17='LISTE DE COURSE'!E17)*(RECETTES!$E$7:$E$17))*RECETTES!$D$4)+(SUMPRODUCT((RECETTES!$I$7:$I$17='LISTE DE COURSE'!E17)*(RECETTES!$H$7:$H$17))*RECETTES!$G$4)+(SUMPRODUCT((RECETTES!$K$7:$K$17='LISTE DE COURSE'!E17)*(RECETTES!$K$7:$K$17))*RECETTES!$J$4)+(SUMPRODUCT((RECETTES!$O$7:$O$17='LISTE DE COURSE'!E17)*(RECETTES!$N$7:$N$17))*RECETTES!$M$4)+(SUMPRODUCT((RECETTES!$C$22:$C$31='LISTE DE COURSE'!E17)*(RECETTES!$B$22:$B$31))*RECETTES!$A$19)+(SUMPRODUCT((RECETTES!$F$22:$F$31='LISTE DE COURSE'!E17)*(RECETTES!$E$22:$E$31))*RECETTES!$D$19)+(SUMPRODUCT((RECETTES!$I$22:$I$31='LISTE DE COURSE'!E17)*(RECETTES!$H$22:$H$31))*RECETTES!$G$19) -> 0 | G17: =IF(SUMPRODUCT(('LISTE DE COURSE'!F17)-(STOCK!E17))>0,SUMPRODUCT(('LISTE DE COURSE'!F17)-(STOCK!E17)),0) -> 0
A18: Amidon de maïs | B18: =(SUMPRODUCT((RECETTES!$C$7:$C$17='LISTE DE COURSE'!A18)*(RECETTES!$B$7:$B$17))*RECETTES!$A$4)+(SUMPRODUCT((RECETTES!$F$7:$F$17='LISTE DE COURSE'!A18)*(RECETTES!$E$7:$E$17))*RECETTES!$D$4)+(SUMPRODUCT((RECETTES!$I$7:$I$17='LISTE DE COURSE'!A18)*(RECETTES!$H$7:$H$17))*RECETTES!$G$4)+(SUMPRODUCT((RECETTES!$K$7:$K$17='LISTE DE COURSE'!A18)*(RECETTES!$K$7:$K$17))*RECETTES!$J$4)+(SUMPRODUCT((RECETTES!$O$7:$O$17='LISTE DE COURSE'!A18)*(RECETTES!$N$7:$N$17))*RECETTES!$M$4)+(SUMPRODUCT((RECETTES!$C$22:$C$31='LISTE DE COURSE'!A18)*(RECETTES!$B$22:$B$31))*RECETTES!$A$19)+(SUMPRODUCT((RECETTES!$F$22:$F$31='LISTE DE COURSE'!A18)*(RECETTES!$E$22:$E$31))*RECETTES!$D$19)+(SUMPRODUCT((RECETTES!$I$22:$I$31='LISTE DE COURSE'!A18)*(RECETTES!$H$22:$H$31))*RECETTES!$G$19) -> 0 | C18: =IF(SUMPRODUCT(('LISTE DE COURSE'!B18)-(STOCK!B18))>0,SUMPRODUCT(('LISTE DE COURSE'!B18)-(STOCK!B18)),0) -> 0 | E18: Pomme Royal Gala | F18: =(SUMPRODUCT((RECETTES!$C$7:$C$17='LISTE DE COURSE'!E18)*(RECETTES!$B$7:$B$17))*RECETTES!$A$4)+(SUMPRODUCT((RECETTES!$F$7:$F$17='LISTE DE COURSE'!E18)*(RECETTES!$E$7:$E$17))*RECETTES!$D$4)+(SUMPRODUCT((RECETTES!$I$7:$I$17='LISTE DE COURSE'!E18)*(RECETTES!$H$7:$H$17))*RECETTES!$G$4)+(SUMPRODUCT((RECETTES!$K$7:$K$17='LISTE DE COURSE'!E18)*(RECETTES!$K$7:$K$17))*RECETTES!$J$4)+(SUMPRODUCT((RECETTES!$O$7:$O$17='LISTE DE COURSE'!E18)*(RECETTES!$N$7:$N$17))*RECETTES!$M$4)+(SUMPRODUCT((RECETTES!$C$22:$C$31='LISTE DE COURSE'!E18)*(RECETTES!$B$22:$B$31))*RECETTES!$A$19)+(SUMPRODUCT((RECETTES!$F$22:$F$31='LISTE DE COURSE'!E18)*(RECETTES!$E$22:$E$31))*RECETTES!$D$19)+(SUMPRODUCT((RECETTES!$I$22:$I$31='LISTE DE COURSE'!E18)*(RECETTES!$H$22:$H$31))*RECETTES!$G$19) -> 0 | G18: =IF(SUMPRODUCT(('LISTE DE COURSE'!F18)-(STOCK!E18))>0,SUMPRODUCT(('LISTE DE COURSE'!F18)-(STOCK!E18)),0) -> 0
A19: Farine T65 | B19: =(SUMPRODUCT((RECETTES!$C$7:$C$17='LISTE DE COURSE'!A19)*(RECETTES!$B$7:$B$17))*RECETTES!$A$4)+(SUMPRODUCT((RECETTES!$F$7:$F$17='LISTE DE COURSE'!A19)*(RECETTES!$E$7:$E$17))*RECETTES!$D$4)+(SUMPRODUCT((RECETTES!$I$7:$I$17='LISTE DE COURSE'!A19)*(RECETTES!$H$7:$H$17))*RECETTES!$G$4)+(SUMPRODUCT((RECETTES!$K$7:$K$17='LISTE DE COURSE'!A19)*(RECETTES!$K$7:$K$17))*RECETTES!$J$4)+(SUMPRODUCT((RECETTES!$O$7:$O$17='LISTE DE COURSE'!A19)*(RECETTES!$N$7:$N$17))*RECETTES!$M$4)+(SUMPRODUCT((RECETTES!$C$22:$C$31='LISTE DE COURSE'!A19)*(RECETTES!$B$22:$B$31))*RECETTES!$A$19)+(SUMPRODUCT((RECETTES!$F$22:$F$31='LISTE DE COURSE'!A19)*(RECETTES!$E$22:$E$31))*RECETTES!$D$19)+(SUMPRODUCT((RECETTES!$I$22:$I$31='LISTE DE COURSE'!A19)*(RECETTES!$H$22:$H$31))*RECETTES!$G$19) -> 0 | C19: =IF(SUMPRODUCT(('LISTE DE COURSE'!B19)-(STOCK!B19))>0,SUMPRODUCT(('LISTE DE COURSE'!B19)-(STOCK!B19)),0) -> 0 | E19: Pomme verte | F19: =(SUMPRODUCT((RECETTES!$C$7:$C$17='LISTE DE COURSE'!E19)*(RECETTES!$B$7:$B$17))*RECETTES!$A$4)+(SUMPRODUCT((RECETTES!$F$7:$F$17='LISTE DE COURSE'!E19)*(RECETTES!$E$7:$E$17))*RECETTES!$D$4)+(SUMPRODUCT((RECETTES!$I$7:$I$17='LISTE DE COURSE'!E19)*(RECETTES!$H$7:$H$17))*RECETTES!$G$4)+(SUMPRODUCT((RECETTES!$K$7:$K$17='LISTE DE COURSE'!E19)*(RECETTES!$K$7:$K$17))*RECETTES!$J$4)+(SUMPRODUCT((RECETTES!$O$7:$O$17='LISTE DE COURSE'!E19)*(RECETTES!$N$7:$N$17))*RECETTES!$M$4)+(SUMPRODUCT((RECETTES!$C$22:$C$31='LISTE DE COURSE'!E19)*(RECETTES!$B$22:$B$31))*RECETTES!$A$19)+(SUMPRODUCT((RECETTES!$F$22:$F$31='LISTE DE COURSE'!E19)*(RECETTES!$E$22:$E$31))*RECETTES!$D$19)+(SUMPRODUCT((RECETTES!$I$22:$I$31='LISTE DE COURSE'!E19)*(RECETTES!$H$22:$H$31))*RECETTES!$G$19) -> 0 | G19: =IF(SUMPRODUCT(('LISTE DE COURSE'!F19)-(STOCK!E19))>0,SUMPRODUCT(('LISTE DE COURSE'!F19)-(STOCK!E19)),0) -> 0
A20: Farine T55 | B20: =(SUMPRODUCT((RECETTES!$C$7:$C$17='LISTE DE COURSE'!A20)*(RECETTES!$B$7:$B$17))*RECETTES!$A$4)+(SUMPRODUCT((RECETTES!$F$7:$F$17='LISTE DE COURSE'!A20)*(RECETTES!$E$7:$E$17))*RECETTES!$D$4)+(SUMPRODUCT((RECETTES!$I$7:$I$17='LISTE DE COURSE'!A20)*(RECETTES!$H$7:$H$17))*RECETTES!$G$4)+(SUMPRODUCT((RECETTES!$K$7:$K$17='LISTE DE COURSE'!A20)*(RECETTES!$K$7:$K$17))*RECETTES!$J$4)+(SUMPRODUCT((RECETTES!$O$7:$O$17='LISTE DE COURSE'!A20)*(RECETTES!$N$7:$N$17))*RECETTES!$M$4)+(SUMPRODUCT((RECETTES!$C$22:$C$31='LISTE DE COURSE'!A20)*(RECETTES!$B$22:$B$31))*RECETTES!$A$19)+(SUMPRODUCT((RECETTES!$F$22:$F$31='LISTE DE COURSE'!A20)*(RECETTES!$E$22:$E$31))*RECETTES!$D$19)+(SUMPRODUCT((RECETTES!$I$22:$I$31='LISTE DE COURSE'!A20)*(RECETTES!$H$22:$H$31))*RECETTES!$G$19) -> 160 | C20: =IF(SUMPRODUCT(('LISTE DE COURSE'!B20)-(STOCK!B20))>0,SUMPRODUCT(('LISTE DE COURSE'!B20)-(STOCK!B20)),0) -> 160 | E20: Zeste de citron jaune | F20: =(SUMPRODUCT((RECETTES!$C$7:$C$17='LISTE DE COURSE'!E20)*(RECETTES!$B$7:$B$17))*RECETTES!$A$4)+(SUMPRODUCT((RECETTES!$F$7:$F$17='LISTE DE COURSE'!E20)*(RECETTES!$E$7:$E$17))*RECETTES!$D$4)+(SUMPRODUCT((RECETTES!$I$7:$I$17='LISTE DE COURSE'!E20)*(RECETTES!$H$7:$H$17))*RECETTES!$G$4)+(SUMPRODUCT((RECETTES!$K$7:$K$17='LISTE DE COURSE'!E20)*(RECETTES!$K$7:$K$17))*RECETTES!$J$4)+(SUMPRODUCT((RECETTES!$O$7:$O$17='LISTE DE COURSE'!E20)*(RECETTES!$N$7:$N$17))*RECETTES!$M$4)+(SUMPRODUCT((RECETTES!$C$22:$C$31='LISTE DE COURSE'!E20)*(RECETTES!$B$22:$B$31))*RECETTES!$A$19)+(SUMPRODUCT((RECETTES!$F$22:$F$31='LISTE DE COURSE'!E20)*(RECETTES!$E$22:$E$31))*RECETTES!$D$19)+(SUMPRODUCT((RECETTES!$I$22:$I$31='LISTE DE COURSE'!E20)*(RECETTES!$H$22:$H$31))*RECETTES!$G$19) -> 0 | G20: =IF(SUMPRODUCT(('LISTE DE COURSE'!F20)-(STOCK!E20))>0,SUMPRODUCT(('LISTE DE COURSE'!F20)-(STOCK!E20)),0) -> 0
A21: Farine T45 | B21: =(SUMPRODUCT((RECETTES!$C$7:$C$17='LISTE DE COURSE'!A21)*(RECETTES!$B$7:$B$17))*RECETTES!$A$4)+(SUMPRODUCT((RECETTES!$F$7:$F$17='LISTE DE COURSE'!A21)*(RECETTES!$E$7:$E$17))*RECETTES!$D$4)+(SUMPRODUCT((RECETTES!$I$7:$I$17='LISTE DE COURSE'!A21)*(RECETTES!$H$7:$H$17))*RECETTES!$G$4)+(SUMPRODUCT((RECETTES!$K$7:$K$17='LISTE DE COURSE'!A21)*(RECETTES!$K$7:$K$17))*RECETTES!$J$4)+(SUMPRODUCT((RECETTES!$O$7:$O$17='LISTE DE COURSE'!A21)*(RECETTES!$N$7:$N$17))*RECETTES!$M$4)+(SUMPRODUCT((RECETTES!$C$22:$C$31='LISTE DE COURSE'!A21)*(RECETTES!$B$22:$B$31))*RECETTES!$A$19)+(SUMPRODUCT((RECETTES!$F$22:$F$31='LISTE DE COURSE'!A21)*(RECETTES!$E$22:$E$31))*RECETTES!$D$19)+(SUMPRODUCT((RECETTES!$I$22:$I$31='LISTE DE COURSE'!A21)*(RECETTES!$H$22:$H$31))*RECETTES!$G$19) -> 0 | C21: =IF(SUMPRODUCT(('LISTE DE COURSE'!B21)-(STOCK!B21))>0,SUMPRODUCT(('LISTE DE COURSE'!B21)-(STOCK!B21)),0) -> 0 | E21: Zeste de citron vert | F21: =(SUMPRODUCT((RECETTES!$C$7:$C$17='LISTE DE COURSE'!E21)*(RECETTES!$B$7:$B$17))*RECETTES!$A$4)+(SUMPRODUCT((RECETTES!$F$7:$F$17='LISTE DE COURSE'!E21)*(RECETTES!$E$7:$E$17))*RECETTES!$D$4)+(SUMPRODUCT((RECETTES!$I$7:$I$17='LISTE DE COURSE'!E21)*(RECETTES!$H$7:$H$17))*RECETTES!$G$4)+(SUMPRODUCT((RECETTES!$K$7:$K$17='LISTE DE COURSE'!E21)*(RECETTES!$K$7:$K$17))*RECETTES!$J$4)+(SUMPRODUCT((RECETTES!$O$7:$O$17='LISTE DE COURSE'!E21)*(RECETTES!$N$7:$N$17))*RECETTES!$M$4)+(SUMPRODUCT((RECETTES!$C$22:$C$31='LISTE DE COURSE'!E21)*(RECETTES!$B$22:$B$31))*RECETTES!$A$19)+(SUMPRODUCT((RECETTES!$F$22:$F$31='LISTE DE COURSE'!E21)*(RECETTES!$E$22:$E$31))*RECETTES!$D$19)+(SUMPRODUCT((RECETTES!$I$22:$I$31='LISTE DE COURSE'!E21)*(RECETTES!$H$22:$H$31))*RECETTES!$G$19) -> 0 | G21: =IF(SUMPRODUCT(('LISTE DE COURSE'!F21)-(STOCK!E21))>0,SUMPRODUCT(('LISTE DE COURSE'!F21)-(STOCK!E21)),0) -> 0
A22: Farine T80 | B22: =(SUMPRODUCT((RECETTES!$C$7:$C$17='LISTE DE COURSE'!A22)*(RECETTES!$B$7:$B$17))*RECETTES!$A$4)+(SUMPRODUCT((RECETTES!$F$7:$F$17='LISTE DE COURSE'!A22)*(RECETTES!$E$7:$E$17))*RECETTES!$D$4)+(SUMPRODUCT((RECETTES!$I$7:$I$17='LISTE DE COURSE'!A22)*(RECETTES!$H$7:$H$17))*RECETTES!$G$4)+(SUMPRODUCT((RECETTES!$K$7:$K$17='LISTE DE COURSE'!A22)*(RECETTES!$K$7:$K$17))*RECETTES!$J$4)+(SUMPRODUCT((RECETTES!$O$7:$O$17='LISTE DE COURSE'!A22)*(RECETTES!$N$7:$N$17))*RECETTES!$M$4)+(SUMPRODUCT((RECETTES!$C$22:$C$31='LISTE DE COURSE'!A22)*(RECETTES!$B$22:$B$31))*RECETTES!$A$19)+(SUMPRODUCT((RECETTES!$F$22:$F$31='LISTE DE COURSE'!A22)*(RECETTES!$E$22:$E$31))*RECETTES!$D$19)+(SUMPRODUCT((RECETTES!$I$22:$I$31='LISTE DE COURSE'!A22)*(RECETTES!$H$22:$H$31))*RECETTES!$G$19) -> 0 | C22: =IF(SUMPRODUCT(('LISTE DE COURSE'!B22)-(STOCK!B22))>0,SUMPRODUCT(('LISTE DE COURSE'!B22)-(STOCK!B22)),0) -> 0 | E22: Zeste de mandarine | F22: =(SUMPRODUCT((RECETTES!$C$7:$C$17='LISTE DE COURSE'!E22)*(RECETTES!$B$7:$B$17))*RECETTES!$A$4)+(SUMPRODUCT((RECETTES!$F$7:$F$17='LISTE DE COURSE'!E22)*(RECETTES!$E$7:$E$17))*RECETTES!$D$4)+(SUMPRODUCT((RECETTES!$I$7:$I$17='LISTE DE COURSE'!E22)*(RECETTES!$H$7:$H$17))*RECETTES!$G$4)+(SUMPRODUCT((RECETTES!$K$7:$K$17='LISTE DE COURSE'!E22)*(RECETTES!$K$7:$K$17))*RECETTES!$J$4)+(SUMPRODUCT((RECETTES!$O$7:$O$17='LISTE DE COURSE'!E22)*(RECETTES!$N$7:$N$17))*RECETTES!$M$4)+(SUMPRODUCT((RECETTES!$C$22:$C$31='LISTE DE COURSE'!E22)*(RECETTES!$B$22:$B$31))*RECETTES!$A$19)+(SUMPRODUCT((RECETTES!$F$22:$F$31='LISTE DE COURSE'!E22)*(RECETTES!$E$22:$E$31))*RECETTES!$D$19)+(SUMPRODUCT((RECETTES!$I$22:$I$31='LISTE DE COURSE'!E22)*(RECETTES!$H$22:$H$31))*RECETTES!$G$19) -> 0 | G22: =IF(SUMPRODUCT(('LISTE DE COURSE'!F22)-(STOCK!E22))>0,SUMPRODUCT(('LISTE DE COURSE'!F22)-(STOCK!E22)),0) -> 0
A23: Farine de seigle | B23: =(SUMPRODUCT((RECETTES!$C$7:$C$17='LISTE DE COURSE'!A23)*(RECETTES!$B$7:$B$17))*RECETTES!$A$4)+(SUMPRODUCT((RECETTES!$F$7:$F$17='LISTE DE COURSE'!A23)*(RECETTES!$E$7:$E$17))*RECETTES!$D$4)+(SUMPRODUCT((RECETTES!$I$7:$I$17='LISTE DE COURSE'!A23)*(RECETTES!$H$7:$H$17))*RECETTES!$G$4)+(SUMPRODUCT((RECETTES!$K$7:$K$17='LISTE DE COURSE'!A23)*(RECETTES!$K$7:$K$17))*RECETTES!$J$4)+(SUMPRODUCT((RECETTES!$O$7:$O$17='LISTE DE COURSE'!A23)*(RECETTES!$N$7:$N$17))*RECETTES!$M$4)+(SUMPRODUCT((RECETTES!$C$22:$C$31='LISTE DE COURSE'!A23)*(RECETTES!$B$22:$B$31))*RECETTES!$A$19)+(SUMPRODUCT((RECETTES!$F$22:$F$31='LISTE DE COURSE'!A23)*(RECETTES!$E$22:$E$31))*RECETTES!$D$19)+(SUMPRODUCT((RECETTES!$I$22:$I$31='LISTE DE COURSE'!A23)*(RECETTES!$H$22:$H$31))*RECETTES!$G$19) -> 0 | C23: =IF(SUMPRODUCT(('LISTE DE COURSE'!B23)-(STOCK!B23))>0,SUMPRODUCT(('LISTE DE COURSE'!B23)-(STOCK!B23)),0) -> 0 | E23: Zeste de pamplemousse | F23: =(SUMPRODUCT((RECETTES!$C$7:$C$17='LISTE DE COURSE'!E23)*(RECETTES!$B$7:$B$17))*RECETTES!$A$4)+(SUMPRODUCT((RECETTES!$F$7:$F$17='LISTE DE COURSE'!E23)*(RECETTES!$E$7:$E$17))*RECETTES!$D$4)+(SUMPRODUCT((RECETTES!$I$7:$I$17='LISTE DE COURSE'!E23)*(RECETTES!$H$7:$H$17))*RECETTES!$G$4)+(SUMPRODUCT((RECETTES!$K$7:$K$17='LISTE DE COURSE'!E23)*(RECETTES!$K$7:$K$17))*RECETTES!$J$4)+(SUMPRODUCT((RECETTES!$O$7:$O$17='LISTE DE COURSE'!E23)*(RECETTES!$N$7:$N$17))*RECETTES!$M$4)+(SUMPRODUCT((RECETTES!$C$22:$C$31='LISTE DE COURSE'!E23)*(RECETTES!$B$22:$B$31))*RECETTES!$A$19)+(SUMPRODUCT((RECETTES!$F$22:$F$31='LISTE DE COURSE'!E23)*(RECETTES!$E$22:$E$31))*RECETTES!$D$19)+(SUMPRODUCT((RECETTES!$I$22:$I$31='LISTE DE COURSE'!E23)*(RECETTES!$H$22:$H$31))*RECETTES!$G$19) -> 0 | G23: =IF(SUMPRODUCT(('LISTE DE COURSE'!F23)-(STOCK!E23))>0,SUMPRODUCT(('LISTE DE COURSE'!F23)-(STOCK!E23)),0) -> 0
A24: Fécule de pomme de terre | B24: =(SUMPRODUCT((RECETTES!$C$7:$C$17='LISTE DE COURSE'!A24)*(RECETTES!$B$7:$B$17))*RECETTES!$A$4)+(SUMPRODUCT((RECETTES!$F$7:$F$17='LISTE DE COURSE'!A24)*(RECETTES!$E$7:$E$17))*RECETTES!$D$4)+(SUMPRODUCT((RECETTES!$I$7:$I$17='LISTE DE COURSE'!A24)*(RECETTES!$H$7:$H$17))*RECETTES!$G$4)+(SUMPRODUCT((RECETTES!$K$7:$K$17='LISTE DE COURSE'!A24)*(RECETTES!$K$7:$K$17))*RECETTES!$J$4)+(SUMPRODUCT((RECETTES!$O$7:$O$17='LISTE DE COURSE'!A24)*(RECETTES!$N$7:$N$17))*RECETTES!$M$4)+(SUMPRODUCT((RECETTES!$C$22:$C$31='LISTE DE COURSE'!A24)*(RECETTES!$B$22:$B$31))*RECETTES!$A$19)+(SUMPRODUCT((RECETTES!$F$22:$F$31='LISTE DE COURSE'!A24)*(RECETTES!$E$22:$E$31))*RECETTES!$D$19)+(SUMPRODUCT((RECETTES!$I$22:$I$31='LISTE DE COURSE'!A24)*(RECETTES!$H$22:$H$31))*RECETTES!$G$19) -> 0 | C24: =IF(SUMPRODUCT(('LISTE DE COURSE'!B24)-(STOCK!B24))>0,SUMPRODUCT(('LISTE DE COURSE'!B24)-(STOCK!B24)),0) -> 0
A25: Levure chimique | B25: =(SUMPRODUCT((RECETTES!$C$7:$C$17='LISTE DE COURSE'!A25)*(RECETTES!$B$7:$B$17))*RECETTES!$A$4)+(SUMPRODUCT((RECETTES!$F$7:$F$17='LISTE DE COURSE'!A25)*(RECETTES!$E$7:$E$17))*RECETTES!$D$4)+(SUMPRODUCT((RECETTES!$I$7:$I$17='LISTE DE COURSE'!A25)*(RECETTES!$H$7:$H$17))*RECETTES!$G$4)+(SUMPRODUCT((RECETTES!$K$7:$K$17='LISTE DE COURSE'!A25)*(RECETTES!$K$7:$K$17))*RECETTES!$J$4)+(SUMPRODUCT((RECETTES!$O$7:$O$17='LISTE DE COURSE'!A25)*(RECETTES!$N$7:$N$17))*RECETTES!$M$4)+(SUMPRODUCT((RECETTES!$C$22:$C$31='LISTE DE COURSE'!A25)*(RECETTES!$B$22:$B$31))*RECETTES!$A$19)+(SUMPRODUCT((RECETTES!$F$22:$F$31='LISTE DE COURSE'!A25)*(RECETTES!$E$22:$E$31))*RECETTES!$D$19)+(SUMPRODUCT((RECETTES!$I$22:$I$31='LISTE DE COURSE'!A25)*(RECETTES!$H$22:$H$31))*RECETTES!$G$19) -> 20 | C25: =IF(SUMPRODUCT(('LISTE DE COURSE'!B25)-(STOCK!B25))>0,SUMPRODUCT(('LISTE DE COURSE'!B25)-(STOCK!B25)),0) -> 20
A26: Levure boulangère | B26: =(SUMPRODUCT((RECETTES!$C$7:$C$17='LISTE DE COURSE'!A26)*(RECETTES!$B$7:$B$17))*RECETTES!$A$4)+(SUMPRODUCT((RECETTES!$F$7:$F$17='LISTE DE COURSE'!A26)*(RECETTES!$E$7:$E$17))*RECETTES!$D$4)+(SUMPRODUCT((RECETTES!$I$7:$I$17='LISTE DE COURSE'!A26)*(RECETTES!$H$7:$H$17))*RECETTES!$G$4)+(SUMPRODUCT((RECETTES!$K$7:$K$17='LISTE DE COURSE'!A26)*(RECETTES!$K$7:$K$17))*RECETTES!$J$4)+(SUMPRODUCT((RECETTES!$O$7:$O$17='LISTE DE COURSE'!A26)*(RECETTES!$N$7:$N$17))*RECETTES!$M$4)+(SUMPRODUCT((RECETTES!$C$22:$C$31='LISTE DE COURSE'!A26)*(RECETTES!$B$22:$B$31))*RECETTES!$A$19)+(SUMPRODUCT((RECETTES!$F$22:$F$31='LISTE DE COURSE'!A26)*(RECETTES!$E$22:$E$31))*RECETTES!$D$19)+(SUMPRODUCT((RECETTES!$I$22:$I$31='LISTE DE COURSE'!A26)*(RECETTES!$H$22:$H$31))*RECETTES!$G$19) -> 0 | C26: =IF(SUMPRODUCT(('LISTE DE COURSE'!B26)-(STOCK!B26))>0,SUMPRODUCT(('LISTE DE COURSE'!B26)-(STOCK!B26)),0) -> 0 | E26: PURÉE DE FRUITS | F26: Nécessaire | G26: Achat
E28: Purée d'ananas | F28: =(SUMPRODUCT((RECETTES!$C$7:$C$17='LISTE DE COURSE'!E28)*(RECETTES!$B$7:$B$17))*RECETTES!$A$4)+(SUMPRODUCT((RECETTES!$F$7:$F$17='LISTE DE COURSE'!E28)*(RECETTES!$E$7:$E$17))*RECETTES!$D$4)+(SUMPRODUCT((RECETTES!$I$7:$I$17='LISTE DE COURSE'!E28)*(RECETTES!$H$7:$H$17))*RECETTES!$G$4)+(SUMPRODUCT((RECETTES!$K$7:$K$17='LISTE DE COURSE'!E28)*(RECETTES!$K$7:$K$17))*RECETTES!$J$4)+(SUMPRODUCT((RECETTES!$O$7:$O$17='LISTE DE COURSE'!E28)*(RECETTES!$N$7:$N$17))*RECETTES!$M$4)+(SUMPRODUCT((RECETTES!$C$22:$C$31='LISTE DE COURSE'!E28)*(RECETTES!$B$22:$B$31))*RECETTES!$A$19)+(SUMPRODUCT((RECETTES!$F$22:$F$31='LISTE DE COURSE'!E28)*(RECETTES!$E$22:$E$31))*RECETTES!$D$19)+(SUMPRODUCT((RECETTES!$I$22:$I$31='LISTE DE COURSE'!E28)*(RECETTES!$H$22:$H$31))*RECETTES!$G$19) -> 0 | G28: =IF(SUMPRODUCT(('LISTE DE COURSE'!F28)-(STOCK!E28))>0,SUMPRODUCT(('LISTE DE COURSE'!F28)-(STOCK!E28)),0) -> 0
A29: SUCRES | B29: Nécessaire | C29: Achat | E29: Purée de cassis | F29: =(SUMPRODUCT((RECETTES!$C$7:$C$17='LISTE DE COURSE'!E29)*(RECETTES!$B$7:$B$17))*RECETTES!$A$4)+(SUMPRODUCT((RECETTES!$F$7:$F$17='LISTE DE COURSE'!E29)*(RECETTES!$E$7:$E$17))*RECETTES!$D$4)+(SUMPRODUCT((RECETTES!$I$7:$I$17='LISTE DE COURSE'!E29)*(RECETTES!$H$7:$H$17))*RECETTES!$G$4)+(SUMPRODUCT((RECETTES!$K$7:$K$17='LISTE DE COURSE'!E29)*(RECETTES!$K$7:$K$17))*RECETTES!$J$4)+(SUMPRODUCT((RECETTES!$O$7:$O$17='LISTE DE COURSE'!E29)*(RECETTES!$N$7:$N$17))*RECETTES!$M$4)+(SUMPRODUCT((RECETTES!$C$22:$C$31='LISTE DE COURSE'!E29)*(RECETTES!$B$22:$B$31))*RECETTES!$A$19)+(SUMPRODUCT((RECETTES!$F$22:$F$31='LISTE DE COURSE'!E29)*(RECETTES!$E$22:$E$31))*RECETTES!$D$19)+(SUMPRODUCT((RECETTES!$I$22:$I$31='LISTE DE COURSE'!E29)*(RECETTES!$H$22:$H$31))*RECETTES!$G$19) -> 0 | G29: =IF(SUMPRODUCT(('LISTE DE COURSE'!F29)-(STOCK!E29))>0,SUMPRODUCT(('LISTE DE COURSE'!F29)-(STOCK!E29)),0) -> 0
E30: Purée de citron | F30: =(SUMPRODUCT((RECETTES!$C$7:$C$17='LISTE DE COURSE'!E30)*(RECETTES!$B$7:$B$17))*RECETTES!$A$4)+(SUMPRODUCT((RECETTES!$F$7:$F$17='LISTE DE COURSE'!E30)*(RECETTES!$E$7:$E$17))*RECETTES!$D$4)+(SUMPRODUCT((RECETTES!$I$7:$I$17='LISTE DE COURSE'!E30)*(RECETTES!$H$7:$H$17))*RECETTES!$G$4)+(SUMPRODUCT((RECETTES!$K$7:$K$17='LISTE DE COURSE'!E30)*(RECETTES!$K$7:$K$17))*RECETTES!$J$4)+(SUMPRODUCT((RECETTES!$O$7:$O$17='LISTE DE COURSE'!E30)*(RECETTES!$N$7:$N$17))*RECETTES!$M$4)+(SUMPRODUCT((RECETTES!$C$22:$C$31='LISTE DE COURSE'!E30)*(RECETTES!$B$22:$B$31))*RECETTES!$A$19)+(SUMPRODUCT((RECETTES!$F$22:$F$31='LISTE DE COURSE'!E30)*(RECETTES!$E$22:$E$31))*RECETTES!$D$19)+(SUMPRODUCT((RECETTES!$I$22:$I$31='LISTE DE COURSE'!E30)*(RECETTES!$H$22:$H$31))*RECETTES!$G$19) -> 0 | G30: =IF(SUMPRODUCT(('LISTE DE COURSE'!F30)-(STOCK!E30))>0,SUMPRODUCT(('LISTE DE COURSE'!F30)-(STOCK!E30)),0) -> 0
A31: Cassonade | B31: =(SUMPRODUCT((RECETTES!$C$7:$C$17='LISTE DE COURSE'!A31)*(RECETTES!$B$7:$B$17))*RECETTES!$A$4)+(SUMPRODUCT((RECETTES!$F$7:$F$17='LISTE DE COURSE'!A31)*(RECETTES!$E$7:$E$17))*RECETTES!$D$4)+(SUMPRODUCT((RECETTES!$I$7:$I$17='LISTE DE COURSE'!A31)*(RECETTES!$H$7:$H$17))*RECETTES!$G$4)+(SUMPRODUCT((RECETTES!$K$7:$K$17='LISTE DE COURSE'!A31)*(RECETTES!$K$7:$K$17))*RECETTES!$J$4)+(SUMPRODUCT((RECETTES!$O$7:$O$17='LISTE DE COURSE'!A31)*(RECETTES!$N$7:$N$17))*RECETTES!$M$4)+(SUMPRODUCT((RECETTES!$C$22:$C$31='LISTE DE COURSE'!A31)*(RECETTES!$B$22:$B$31))*RECETTES!$A$19)+(SUMPRODUCT((RECETTES!$F$22:$F$31='LISTE DE COURSE'!A31)*(RECETTES!$E$22:$E$31))*RECETTES!$D$19)+(SUMPRODUCT((RECETTES!$I$22:$I$31='LISTE DE COURSE'!A31)*(RECETTES!$H$22:$H$31))*RECETTES!$G$19) -> 0 | C31: =IF(SUMPRODUCT(('LISTE DE COURSE'!B31)-(STOCK!B31))>0,SUMPRODUCT(('LISTE DE COURSE'!B31)-(STOCK!B31)),0) -> 0 | E31: Purée de citron vert | F31: =(SUMPRODUCT((RECETTES!$C$7:$C$17='LISTE DE COURSE'!E31)*(RECETTES!$B$7:$B$17))*RECETTES!$A$4)+(SUMPRODUCT((RECETTES!$F$7:$F$17='LISTE DE COURSE'!E31)*(RECETTES!$E$7:$E$17))*RECETTES!$D$4)+(SUMPRODUCT((RECETTES!$I$7:$I$17='LISTE DE COURSE'!E31)*(RECETTES!$H$7:$H$17))*RECETTES!$G$4)+(SUMPRODUCT((RECETTES!$K$7:$K$17='LISTE DE COURSE'!E31)*(RECETTES!$K$7:$K$17))*RECETTES!$J$4)+(SUMPRODUCT((RECETTES!$O$7:$O$17='LISTE DE COURSE'!E31)*(RECETTES!$N$7:$N$17))*RECETTES!$M$4)+(SUMPRODUCT((RECETTES!$C$22:$C$31='LISTE DE COURSE'!E31)*(RECETTES!$B$22:$B$31))*RECETTES!$A$19)+(SUMPRODUCT((RECETTES!$F$22:$F$31='LISTE DE COURSE'!E31)*(RECETTES!$E$22:$E$31))*RECETTES!$D$19)+(SUMPRODUCT((RECETTES!$I$22:$I$31='LISTE DE COURSE'!E31)*(RECETTES!$H$22:$H$31))*RECETTES!$G$19) -> 0 | G31: =IF(SUMPRODUCT(('LISTE DE COURSE'!F31)-(STOCK!E31))>0,SUMPRODUCT(('LISTE DE COURSE'!F31)-(STOCK!E31)),0) -> 0
A32: Miel | B32: =(SUMPRODUCT((RECETTES!$C$7:$C$17='LISTE DE COURSE'!A32)*(RECETTES!$B$7:$B$17))*RECETTES!$A$4)+(SUMPRODUCT((RECETTES!$F$7:$F$17='LISTE DE COURSE'!A32)*(RECETTES!$E$7:$E$17))*RECETTES!$D$4)+(SUMPRODUCT((RECETTES!$I$7:$I$17='LISTE DE COURSE'!A32)*(RECETTES!$H$7:$H$17))*RECETTES!$G$4)+(SUMPRODUCT((RECETTES!$K$7:$K$17='LISTE DE COURSE'!A32)*(RECETTES!$K$7:$K$17))*RECETTES!$J$4)+(SUMPRODUCT((RECETTES!$O$7:$O$17='LISTE DE COURSE'!A32)*(RECETTES!$N$7:$N$17))*RECETTES!$M$4)+(SUMPRODUCT((RECETTES!$C$22:$C$31='LISTE DE COURSE'!A32)*(RECETTES!$B$22:$B$31))*RECETTES!$A$19)+(SUMPRODUCT((RECETTES!$F$22:$F$31='LISTE DE COURSE'!A32)*(RECETTES!$E$22:$E$31))*RECETTES!$D$19)+(SUMPRODUCT((RECETTES!$I$22:$I$31='LISTE DE COURSE'!A32)*(RECETTES!$H$22:$H$31))*RECETTES!$G$19) -> 0 | C32: =IF(SUMPRODUCT(('LISTE DE COURSE'!B32)-(STOCK!B32))>0,SUMPRODUCT(('LISTE DE COURSE'!B32)-(STOCK!B32)),0) -> 0 | E32: Purée de clémentine | F32: =(SUMPRODUCT((RECETTES!$C$7:$C$17='LISTE DE COURSE'!E32)*(RECETTES!$B$7:$B$17))*RECETTES!$A$4)+(SUMPRODUCT((RECETTES!$F$7:$F$17='LISTE DE COURSE'!E32)*(RECETTES!$E$7:$E$17))*RECETTES!$D$4)+(SUMPRODUCT((RECETTES!$I$7:$I$17='LISTE DE COURSE'!E32)*(RECETTES!$H$7:$H$17))*RECETTES!$G$4)+(SUMPRODUCT((RECETTES!$K$7:$K$17='LISTE DE COURSE'!E32)*(RECETTES!$K$7:$K$17))*RECETTES!$J$4)+(SUMPRODUCT((RECETTES!$O$7:$O$17='LISTE DE COURSE'!E32)*(RECETTES!$N$7:$N$17))*RECETTES!$M$4)+(SUMPRODUCT((RECETTES!$C$22:$C$31='LISTE DE COURSE'!E32)*(RECETTES!$B$22:$B$31))*RECETTES!$A$19)+(SUMPRODUCT((RECETTES!$F$22:$F$31='LISTE DE COURSE'!E32)*(RECETTES!$E$22:$E$31))*RECETTES!$D$19)+(SUMPRODUCT((RECETTES!$I$22:$I$31='LISTE DE COURSE'!E32)*(RECETTES!$H$22:$H$31))*RECETTES!$G$19) -> 0 | G32: =IF(SUMPRODUCT(('LISTE DE COURSE'!F32)-(STOCK!E32))>0,SUMPRODUCT(('LISTE DE COURSE'!F32)-(STOCK!E32)),0) -> 0
A33: Glucose | B33: =(SUMPRODUCT((RECETTES!$C$7:$C$17='LISTE DE COURSE'!A33)*(RECETTES!$B$7:$B$17))*RECETTES!$A$4)+(SUMPRODUCT((RECETTES!$F$7:$F$17='LISTE DE COURSE'!A33)*(RECETTES!$E$7:$E$17))*RECETTES!$D$4)+(SUMPRODUCT((RECETTES!$I$7:$I$17='LISTE DE COURSE'!A33)*(RECETTES!$H$7:$H$17))*RECETTES!$G$4)+(SUMPRODUCT((RECETTES!$K$7:$K$17='LISTE DE COURSE'!A33)*(RECETTES!$K$7:$K$17))*RECETTES!$J$4)+(SUMPRODUCT((RECETTES!$O$7:$O$17='LISTE DE COURSE'!A33)*(RECETTES!$N$7:$N$17))*RECETTES!$M$4)+(SUMPRODUCT((RECETTES!$C$22:$C$31='LISTE DE COURSE'!A33)*(RECETTES!$B$22:$B$31))*RECETTES!$A$19)+(SUMPRODUCT((RECETTES!$F$22:$F$31='LISTE DE COURSE'!A33)*(RECETTES!$E$22:$E$31))*RECETTES!$D$19)+(SUMPRODUCT((RECETTES!$I$22:$I$31='LISTE DE COURSE'!A33)*(RECETTES!$H$22:$H$31))*RECETTES!$G$19) -> 0 | C33: =IF(SUMPRODUCT(('LISTE DE COURSE'!B33)-(STOCK!B33))>0,SUMPRODUCT(('LISTE DE COURSE'!B33)-(STOCK!B33)),0) -> 0 | E33: Purée de fraise | F33: =(SUMPRODUCT((RECETTES!$C$7:$C$17='LISTE DE COURSE'!E33)*(RECETTES!$B$7:$B$17))*RECETTES!$A$4)+(SUMPRODUCT((RECETTES!$F$7:$F$17='LISTE DE COURSE'!E33)*(RECETTES!$E$7:$E$17))*RECETTES!$D$4)+(SUMPRODUCT((RECETTES!$I$7:$I$17='LISTE DE COURSE'!E33)*(RECETTES!$H$7:$H$17))*RECETTES!$G$4)+(SUMPRODUCT((RECETTES!$K$7:$K$17='LISTE DE COURSE'!E33)*(RECETTES!$K$7:$K$17))*RECETTES!$J$4)+(SUMPRODUCT((RECETTES!$O$7:$O$17='LISTE DE COURSE'!E33)*(RECETTES!$N$7:$N$17))*RECETTES!$M$4)+(SUMPRODUCT((RECETTES!$C$22:$C$31='LISTE DE COURSE'!E33)*(RECETTES!$B$22:$B$31))*RECETTES!$A$19)+(SUMPRODUCT((RECETTES!$F$22:$F$31='LISTE DE COURSE'!E33)*(RECETTES!$E$22:$E$31))*RECETTES!$D$19)+(SUMPRODUCT((RECETTES!$I$22:$I$31='LISTE DE COURSE'!E33)*(RECETTES!$H$22:$H$31))*RECETTES!$G$19) -> 0 | G33: =IF(SUMPRODUCT(('LISTE DE COURSE'!F33)-(STOCK!E33))>0,SUMPRODUCT(('LISTE DE COURSE'!F33)-(STOCK!E33)),0) -> 0
A34: Sucre glace | B34: =(SUMPRODUCT((RECETTES!$C$7:$C$17='LISTE DE COURSE'!A34)*(RECETTES!$B$7:$B$17))*RECETTES!$A$4)+(SUMPRODUCT((RECETTES!$F$7:$F$17='LISTE DE COURSE'!A34)*(RECETTES!$E$7:$E$17))*RECETTES!$D$4)+(SUMPRODUCT((RECETTES!$I$7:$I$17='LISTE DE COURSE'!A34)*(RECETTES!$H$7:$H$17))*RECETTES!$G$4)+(SUMPRODUCT((RECETTES!$K$7:$K$17='LISTE DE COURSE'!A34)*(RECETTES!$K$7:$K$17))*RECETTES!$J$4)+(SUMPRODUCT((RECETTES!$O$7:$O$17='LISTE DE COURSE'!A34)*(RECETTES!$N$7:$N$17))*RECETTES!$M$4)+(SUMPRODUCT((RECETTES!$C$22:$C$31='LISTE DE COURSE'!A34)*(RECETTES!$B$22:$B$31))*RECETTES!$A$19)+(SUMPRODUCT((RECETTES!$F$22:$F$31='LISTE DE COURSE'!A34)*(RECETTES!$E$22:$E$31))*RECETTES!$D$19)+(SUMPRODUCT((RECETTES!$I$22:$I$31='LISTE DE COURSE'!A34)*(RECETTES!$H$22:$H$31))*RECETTES!$G$19) -> 2 | C34: =IF(SUMPRODUCT(('LISTE DE COURSE'!B34)-(STOCK!B34))>0,SUMPRODUCT(('LISTE DE COURSE'!B34)-(STOCK!B34)),0) -> 2 | E34: Fraises entières | F34: =(SUMPRODUCT((RECETTES!$C$7:$C$17='LISTE DE COURSE'!E34)*(RECETTES!$B$7:$B$17))*RECETTES!$A$4)+(SUMPRODUCT((RECETTES!$F$7:$F$17='LISTE DE COURSE'!E34)*(RECETTES!$E$7:$E$17))*RECETTES!$D$4)+(SUMPRODUCT((RECETTES!$I$7:$I$17='LISTE DE COURSE'!E34)*(RECETTES!$H$7:$H$17))*RECETTES!$G$4)+(SUMPRODUCT((RECETTES!$K$7:$K$17='LISTE DE COURSE'!E34)*(RECETTES!$K$7:$K$17))*RECETTES!$J$4)+(SUMPRODUCT((RECETTES!$O$7:$O$17='LISTE DE COURSE'!E34)*(RECETTES!$N$7:$N$17))*RECETTES!$M$4)+(SUMPRODUCT((RECETTES!$C$22:$C$31='LISTE DE COURSE'!E34)*(RECETTES!$B$22:$B$31))*RECETTES!$A$19)+(SUMPRODUCT((RECETTES!$F$22:$F$31='LISTE DE COURSE'!E34)*(RECETTES!$E$22:$E$31))*RECETTES!$D$19)+(SUMPRODUCT((RECETTES!$I$22:$I$31='LISTE DE COURSE'!E34)*(RECETTES!$H$22:$H$31))*RECETTES!$G$19) -> 0 | G34: =IF(SUMPRODUCT(('LISTE DE COURSE'!F34)-(STOCK!E34))>0,SUMPRODUCT(('LISTE DE COURSE'!F34)-(STOCK!E34)),0) -> 0
A35: Sucre inverti | B35: =(SUMPRODUCT((RECETTES!$C$7:$C$17='LISTE DE COURSE'!A35)*(RECETTES!$B$7:$B$17))*RECETTES!$A$4)+(SUMPRODUCT((RECETTES!$F$7:$F$17='LISTE DE COURSE'!A35)*(RECETTES!$E$7:$E$17))*RECETTES!$D$4)+(SUMPRODUCT((RECETTES!$I$7:$I$17='LISTE DE COURSE'!A35)*(RECETTES!$H$7:$H$17))*RECETTES!$G$4)+(SUMPRODUCT((RECETTES!$K$7:$K$17='LISTE DE COURSE'!A35)*(RECETTES!$K$7:$K$17))*RECETTES!$J$4)+(SUMPRODUCT((RECETTES!$O$7:$O$17='LISTE DE COURSE'!A35)*(RECETTES!$N$7:$N$17))*RECETTES!$M$4)+(SUMPRODUCT((RECETTES!$C$22:$C$31='LISTE DE COURSE'!A35)*(RECETTES!$B$22:$B$31))*RECETTES!$A$19)+(SUMPRODUCT((RECETTES!$F$22:$F$31='LISTE DE COURSE'!A35)*(RECETTES!$E$22:$E$31))*RECETTES!$D$19)+(SUMPRODUCT((RECETTES!$I$22:$I$31='LISTE DE COURSE'!A35)*(RECETTES!$H$22:$H$31))*RECETTES!$G$19) -> 28 | C35: =IF(SUMPRODUCT(('LISTE DE COURSE'!B35)-(STOCK!B35))>0,SUMPRODUCT(('LISTE DE COURSE'!B35)-(STOCK!B35)),0) -> 28 | E35: Purée de framboise | F35: =(SUMPRODUCT((RECETTES!$C$7:$C$17='LISTE DE COURSE'!E35)*(RECETTES!$B$7:$B$17))*RECETTES!$A$4)+(SUMPRODUCT((RECETTES!$F$7:$F$17='LISTE DE COURSE'!E35)*(RECETTES!$E$7:$E$17))*RECETTES!$D$4)+(SUMPRODUCT((RECETTES!$I$7:$I$17='LISTE DE COURSE'!E35)*(RECETTES!$H$7:$H$17))*RECETTES!$G$4)+(SUMPRODUCT((RECETTES!$K$7:$K$17='LISTE DE COURSE'!E35)*(RECETTES!$K$7:$K$17))*RECETTES!$J$4)+(SUMPRODUCT((RECETTES!$O$7:$O$17='LISTE DE COURSE'!E35)*(RECETTES!$N$7:$N$17))*RECETTES!$M$4)+(SUMPRODUCT((RECETTES!$C$22:$C$31='LISTE DE COURSE'!E35)*(RECETTES!$B$22:$B$31))*RECETTES!$A$19)+(SUMPRODUCT((RECETTES!$F$22:$F$31='LISTE DE COURSE'!E35)*(RECETTES!$E$22:$E$31))*RECETTES!$D$19)+(SUMPRODUCT((RECETTES!$I$22:$I$31='LISTE DE COURSE'!E35)*(RECETTES!$H$22:$H$31))*RECETTES!$G$19) -> 0 | G35: =IF(SUMPRODUCT(('LISTE DE COURSE'!F35)-(STOCK!E35))>0,SUMPRODUCT(('LISTE DE COURSE'!F35)-(STOCK!E35)),0) -> 0
A36: Sucre | B36: =(SUMPRODUCT((RECETTES!$C$7:$C$17='LISTE DE COURSE'!A36)*(RECETTES!$B$7:$B$17))*RECETTES!$A$4)+(SUMPRODUCT((RECETTES!$F$7:$F$17='LISTE DE COURSE'!A36)*(RECETTES!$E$7:$E$17))*RECETTES!$D$4)+(SUMPRODUCT((RECETTES!$I$7:$I$17='LISTE DE COURSE'!A36)*(RECETTES!$H$7:$H$17))*RECETTES!$G$4)+(SUMPRODUCT((RECETTES!$K$7:$K$17='LISTE DE COURSE'!A36)*(RECETTES!$K$7:$K$17))*RECETTES!$J$4)+(SUMPRODUCT((RECETTES!$O$7:$O$17='LISTE DE COURSE'!A36)*(RECETTES!$N$7:$N$17))*RECETTES!$M$4)+(SUMPRODUCT((RECETTES!$C$22:$C$31='LISTE DE COURSE'!A36)*(RECETTES!$B$22:$B$31))*RECETTES!$A$19)+(SUMPRODUCT((RECETTES!$F$22:$F$31='LISTE DE COURSE'!A36)*(RECETTES!$E$22:$E$31))*RECETTES!$D$19)+(SUMPRODUCT((RECETTES!$I$22:$I$31='LISTE DE COURSE'!A36)*(RECETTES!$H$22:$H$31))*RECETTES!$G$19) -> 94 | C36: =IF(SUMPRODUCT(('LISTE DE COURSE'!B36)-(STOCK!B36))>0,SUMPRODUCT(('LISTE DE COURSE'!B36)-(STOCK!B36)),0) -> 94 | E36: Purée de griottes | F36: =(SUMPRODUCT((RECETTES!$C$7:$C$17='LISTE DE COURSE'!E36)*(RECETTES!$B$7:$B$17))*RECETTES!$A$4)+(SUMPRODUCT((RECETTES!$F$7:$F$17='LISTE DE COURSE'!E36)*(RECETTES!$E$7:$E$17))*RECETTES!$D$4)+(SUMPRODUCT((RECETTES!$I$7:$I$17='LISTE DE COURSE'!E36)*(RECETTES!$H$7:$H$17))*RECETTES!$G$4)+(SUMPRODUCT((RECETTES!$K$7:$K$17='LISTE DE COURSE'!E36)*(RECETTES!$K$7:$K$17))*RECETTES!$J$4)+(SUMPRODUCT((RECETTES!$O$7:$O$17='LISTE DE COURSE'!E36)*(RECETTES!$N$7:$N$17))*RECETTES!$M$4)+(SUMPRODUCT((RECETTES!$C$22:$C$31='LISTE DE COURSE'!E36)*(RECETTES!$B$22:$B$31))*RECETTES!$A$19)+(SUMPRODUCT((RECETTES!$F$22:$F$31='LISTE DE COURSE'!E36)*(RECETTES!$E$22:$E$31))*RECETTES!$D$19)+(SUMPRODUCT((RECETTES!$I$22:$I$31='LISTE DE COURSE'!E36)*(RECETTES!$H$22:$H$31))*RECETTES!$G$19) -> 0 | G36: =IF(SUMPRODUCT(('LISTE DE COURSE'!F36)-(STOCK!E36))>0,SUMPRODUCT(('LISTE DE COURSE'!F36)-(STOCK!E36)),0) -> 0
E37: Lait de Coco | F37: =(SUMPRODUCT((RECETTES!$C$7:$C$17='LISTE DE COURSE'!E37)*(RECETTES!$B$7:$B$17))*RECETTES!$A$4)+(SUMPRODUCT((RECETTES!$F$7:$F$17='LISTE DE COURSE'!E37)*(RECETTES!$E$7:$E$17))*RECETTES!$D$4)+(SUMPRODUCT((RECETTES!$I$7:$I$17='LISTE DE COURSE'!E37)*(RECETTES!$H$7:$H$17))*RECETTES!$G$4)+(SUMPRODUCT((RECETTES!$K$7:$K$17='LISTE DE COURSE'!E37)*(RECETTES!$K$7:$K$17))*RECETTES!$J$4)+(SUMPRODUCT((RECETTES!$O$7:$O$17='LISTE DE COURSE'!E37)*(RECETTES!$N$7:$N$17))*RECETTES!$M$4)+(SUMPRODUCT((RECETTES!$C$22:$C$31='LISTE DE COURSE'!E37)*(RECETTES!$B$22:$B$31))*RECETTES!$A$19)+(SUMPRODUCT((RECETTES!$F$22:$F$31='LISTE DE COURSE'!E37)*(RECETTES!$E$22:$E$31))*RECETTES!$D$19)+(SUMPRODUCT((RECETTES!$I$22:$I$31='LISTE DE COURSE'!E37)*(RECETTES!$H$22:$H$31))*RECETTES!$G$19) -> 0 | G37: =IF(SUMPRODUCT(('LISTE DE COURSE'!F37)-(STOCK!E37))>0,SUMPRODUCT(('LISTE DE COURSE'!F37)-(STOCK!E37)),0) -> 0
E38: Purée de mandarine | F38: =(SUMPRODUCT((RECETTES!$C$7:$C$17='LISTE DE COURSE'!E38)*(RECETTES!$B$7:$B$17))*RECETTES!$A$4)+(SUMPRODUCT((RECETTES!$F$7:$F$17='LISTE DE COURSE'!E38)*(RECETTES!$E$7:$E$17))*RECETTES!$D$4)+(SUMPRODUCT((RECETTES!$I$7:$I$17='LISTE DE COURSE'!E38)*(RECETTES!$H$7:$H$17))*RECETTES!$G$4)+(SUMPRODUCT((RECETTES!$K$7:$K$17='LISTE DE COURSE'!E38)*(RECETTES!$K$7:$K$17))*RECETTES!$J$4)+(SUMPRODUCT((RECETTES!$O$7:$O$17='LISTE DE COURSE'!E38)*(RECETTES!$N$7:$N$17))*RECETTES!$M$4)+(SUMPRODUCT((RECETTES!$C$22:$C$31='LISTE DE COURSE'!E38)*(RECETTES!$B$22:$B$31))*RECETTES!$A$19)+(SUMPRODUCT((RECETTES!$F$22:$F$31='LISTE DE COURSE'!E38)*(RECETTES!$E$22:$E$31))*RECETTES!$D$19)+(SUMPRODUCT((RECETTES!$I$22:$I$31='LISTE DE COURSE'!E38)*(RECETTES!$H$22:$H$31))*RECETTES!$G$19) -> 0 | G38: =IF(SUMPRODUCT(('LISTE DE COURSE'!F38)-(STOCK!E38))>0,SUMPRODUCT(('LISTE DE COURSE'!F38)-(STOCK!E38)),0) -> 0
A39: MATIÈRES SÈCHES, DIVERS | B39: Nécessaire | C39: Achat | E39: Purée de mangue | F39: =(SUMPRODUCT((RECETTES!$C$7:$C$17='LISTE DE COURSE'!E39)*(RECETTES!$B$7:$B$17))*RECETTES!$A$4)+(SUMPRODUCT((RECETTES!$F$7:$F$17='LISTE DE COURSE'!E39)*(RECETTES!$E$7:$E$17))*RECETTES!$D$4)+(SUMPRODUCT((RECETTES!$I$7:$I$17='LISTE DE COURSE'!E39)*(RECETTES!$H$7:$H$17))*RECETTES!$G$4)+(SUMPRODUCT((RECETTES!$K$7:$K$17='LISTE DE COURSE'!E39)*(RECETTES!$K$7:$K$17))*RECETTES!$J$4)+(SUMPRODUCT((RECETTES!$O$7:$O$17='LISTE DE COURSE'!E39)*(RECETTES!$N$7:$N$17))*RECETTES!$M$4)+(SUMPRODUCT((RECETTES!$C$22:$C$31='LISTE DE COURSE'!E39)*(RECETTES!$B$22:$B$31))*RECETTES!$A$19)+(SUMPRODUCT((RECETTES!$F$22:$F$31='LISTE DE COURSE'!E39)*(RECETTES!$E$22:$E$31))*RECETTES!$D$19)+(SUMPRODUCT((RECETTES!$I$22:$I$31='LISTE DE COURSE'!E39)*(RECETTES!$H$22:$H$31))*RECETTES!$G$19) -> 0 | G39: =IF(SUMPRODUCT(('LISTE DE COURSE'!F39)-(STOCK!E39))>0,SUMPRODUCT(('LISTE DE COURSE'!F39)-(STOCK!E39)),0) -> 0
E40: Purée de noix de coco | F40: =(SUMPRODUCT((RECETTES!$C$7:$C$17='LISTE DE COURSE'!E40)*(RECETTES!$B$7:$B$17))*RECETTES!$A$4)+(SUMPRODUCT((RECETTES!$F$7:$F$17='LISTE DE COURSE'!E40)*(RECETTES!$E$7:$E$17))*RECETTES!$D$4)+(SUMPRODUCT((RECETTES!$I$7:$I$17='LISTE DE COURSE'!E40)*(RECETTES!$H$7:$H$17))*RECETTES!$G$4)+(SUMPRODUCT((RECETTES!$K$7:$K$17='LISTE DE COURSE'!E40)*(RECETTES!$K$7:$K$17))*RECETTES!$J$4)+(SUMPRODUCT((RECETTES!$O$7:$O$17='LISTE DE COURSE'!E40)*(RECETTES!$N$7:$N$17))*RECETTES!$M$4)+(SUMPRODUCT((RECETTES!$C$22:$C$31='LISTE DE COURSE'!E40)*(RECETTES!$B$22:$B$31))*RECETTES!$A$19)+(SUMPRODUCT((RECETTES!$F$22:$F$31='LISTE DE COURSE'!E40)*(RECETTES!$E$22:$E$31))*RECETTES!$D$19)+(SUMPRODUCT((RECETTES!$I$22:$I$31='LISTE DE COURSE'!E40)*(RECETTES!$H$22:$H$31))*RECETTES!$G$19) -> 0 | G40: =IF(SUMPRODUCT(('LISTE DE COURSE'!F40)-(STOCK!E40))>0,SUMPRODUCT(('LISTE DE COURSE'!F40)-(STOCK!E40)),0) -> 0
A41: Amandes entières | B41: =(SUMPRODUCT((RECETTES!$C$7:$C$17='LISTE DE COURSE'!A41)*(RECETTES!$B$7:$B$17))*RECETTES!$A$4)+(SUMPRODUCT((RECETTES!$F$7:$F$17='LISTE DE COURSE'!A41)*(RECETTES!$E$7:$E$17))*RECETTES!$D$4)+(SUMPRODUCT((RECETTES!$I$7:$I$17='LISTE DE COURSE'!A41)*(RECETTES!$H$7:$H$17))*RECETTES!$G$4)+(SUMPRODUCT((RECETTES!$K$7:$K$17='LISTE DE COURSE'!A41)*(RECETTES!$K$7:$K$17))*RECETTES!$J$4)+(SUMPRODUCT((RECETTES!$O$7:$O$17='LISTE DE COURSE'!A41)*(RECETTES!$N$7:$N$17))*RECETTES!$M$4)+(SUMPRODUCT((RECETTES!$C$22:$C$31='LISTE DE COURSE'!A41)*(RECETTES!$B$22:$B$31))*RECETTES!$A$19)+(SUMPRODUCT((RECETTES!$F$22:$F$31='LISTE DE COURSE'!A41)*(RECETTES!$E$22:$E$31))*RECETTES!$D$19)+(SUMPRODUCT((RECETTES!$I$22:$I$31='LISTE DE COURSE'!A41)*(RECETTES!$H$22:$H$31))*RECETTES!$G$19) -> 0 | C41: =IF(SUMPRODUCT(('LISTE DE COURSE'!B41)-(STOCK!B41))>0,SUMPRODUCT(('LISTE DE COURSE'!B41)-(STOCK!B41)),0) -> 0 | E41: Purée d'orange | F41: =(SUMPRODUCT((RECETTES!$C$7:$C$17='LISTE DE COURSE'!E41)*(RECETTES!$B$7:$B$17))*RECETTES!$A$4)+(SUMPRODUCT((RECETTES!$F$7:$F$17='LISTE DE COURSE'!E41)*(RECETTES!$E$7:$E$17))*RECETTES!$D$4)+(SUMPRODUCT((RECETTES!$I$7:$I$17='LISTE DE COURSE'!E41)*(RECETTES!$H$7:$H$17))*RECETTES!$G$4)+(SUMPRODUCT((RECETTES!$K$7:$K$17='LISTE DE COURSE'!E41)*(RECETTES!$K$7:$K$17))*RECETTES!$J$4)+(SUMPRODUCT((RECETTES!$O$7:$O$17='LISTE DE COURSE'!E41)*(RECETTES!$N$7:$N$17))*RECETTES!$M$4)+(SUMPRODUCT((RECETTES!$C$22:$C$31='LISTE DE COURSE'!E41)*(RECETTES!$B$22:$B$31))*RECETTES!$A$19)+(SUMPRODUCT((RECETTES!$F$22:$F$31='LISTE DE COURSE'!E41)*(RECETTES!$E$22:$E$31))*RECETTES!$D$19)+(SUMPRODUCT((RECETTES!$I$22:$I$31='LISTE DE COURSE'!E41)*(RECETTES!$H$22:$H$31))*RECETTES!$G$19) -> 0 | G41: =IF(SUMPRODUCT(('LISTE DE COURSE'!F41)-(STOCK!E41))>0,SUMPRODUCT(('LISTE DE COURSE'!F41)-(STOCK!E41)),0) -> 0
A42: Amandes hachées | B42: =(SUMPRODUCT((RECETTES!$C$7:$C$17='LISTE DE COURSE'!A42)*(RECETTES!$B$7:$B$17))*RECETTES!$A$4)+(SUMPRODUCT((RECETTES!$F$7:$F$17='LISTE DE COURSE'!A42)*(RECETTES!$E$7:$E$17))*RECETTES!$D$4)+(SUMPRODUCT((RECETTES!$I$7:$I$17='LISTE DE COURSE'!A42)*(RECETTES!$H$7:$H$17))*RECETTES!$G$4)+(SUMPRODUCT((RECETTES!$K$7:$K$17='LISTE DE COURSE'!A42)*(RECETTES!$K$7:$K$17))*RECETTES!$J$4)+(SUMPRODUCT((RECETTES!$O$7:$O$17='LISTE DE COURSE'!A42)*(RECETTES!$N$7:$N$17))*RECETTES!$M$4)+(SUMPRODUCT((RECETTES!$C$22:$C$31='LISTE DE COURSE'!A42)*(RECETTES!$B$22:$B$31))*RECETTES!$A$19)+(SUMPRODUCT((RECETTES!$F$22:$F$31='LISTE DE COURSE'!A42)*(RECETTES!$E$22:$E$31))*RECETTES!$D$19)+(SUMPRODUCT((RECETTES!$I$22:$I$31='LISTE DE COURSE'!A42)*(RECETTES!$H$22:$H$31))*RECETTES!$G$19) -> 0 | C42: =IF(SUMPRODUCT(('LISTE DE COURSE'!B42)-(STOCK!B42))>0,SUMPRODUCT(('LISTE DE COURSE'!B42)-(STOCK!B42)),0) -> 0 | E42: Purée de passion | F42: =(SUMPRODUCT((RECETTES!$C$7:$C$17='LISTE DE COURSE'!E42)*(RECETTES!$B$7:$B$17))*RECETTES!$A$4)+(SUMPRODUCT((RECETTES!$F$7:$F$17='LISTE DE COURSE'!E42)*(RECETTES!$E$7:$E$17))*RECETTES!$D$4)+(SUMPRODUCT((RECETTES!$I$7:$I$17='LISTE DE COURSE'!E42)*(RECETTES!$H$7:$H$17))*RECETTES!$G$4)+(SUMPRODUCT((RECETTES!$K$7:$K$17='LISTE DE COURSE'!E42)*(RECETTES!$K$7:$K$17))*RECETTES!$J$4)+(SUMPRODUCT((RECETTES!$O$7:$O$17='LISTE DE COURSE'!E42)*(RECETTES!$N$7:$N$17))*RECETTES!$M$4)+(SUMPRODUCT((RECETTES!$C$22:$C$31='LISTE DE COURSE'!E42)*(RECETTES!$B$22:$B$31))*RECETTES!$A$19)+(SUMPRODUCT((RECETTES!$F$22:$F$31='LISTE DE COURSE'!E42)*(RECETTES!$E$22:$E$31))*RECETTES!$D$19)+(SUMPRODUCT((RECETTES!$I$22:$I$31='LISTE DE COURSE'!E42)*(RECETTES!$H$22:$H$31))*RECETTES!$G$19) -> 0 | G42: =IF(SUMPRODUCT(('LISTE DE COURSE'!F42)-(STOCK!E42))>0,SUMPRODUCT(('LISTE DE COURSE'!F42)-(STOCK!E42)),0) -> 0
A43: Brisures de marrons | B43: =(SUMPRODUCT((RECETTES!$C$7:$C$17='LISTE DE COURSE'!A43)*(RECETTES!$B$7:$B$17))*RECETTES!$A$4)+(SUMPRODUCT((RECETTES!$F$7:$F$17='LISTE DE COURSE'!A43)*(RECETTES!$E$7:$E$17))*RECETTES!$D$4)+(SUMPRODUCT((RECETTES!$I$7:$I$17='LISTE DE COURSE'!A43)*(RECETTES!$H$7:$H$17))*RECETTES!$G$4)+(SUMPRODUCT((RECETTES!$K$7:$K$17='LISTE DE COURSE'!A43)*(RECETTES!$K$7:$K$17))*RECETTES!$J$4)+(SUMPRODUCT((RECETTES!$O$7:$O$17='LISTE DE COURSE'!A43)*(RECETTES!$N$7:$N$17))*RECETTES!$M$4)+(SUMPRODUCT((RECETTES!$C$22:$C$31='LISTE DE COURSE'!A43)*(RECETTES!$B$22:$B$31))*RECETTES!$A$19)+(SUMPRODUCT((RECETTES!$F$22:$F$31='LISTE DE COURSE'!A43)*(RECETTES!$E$22:$E$31))*RECETTES!$D$19)+(SUMPRODUCT((RECETTES!$I$22:$I$31='LISTE DE COURSE'!A43)*(RECETTES!$H$22:$H$31))*RECETTES!$G$19) -> 0 | C43: =IF(SUMPRODUCT(('LISTE DE COURSE'!B43)-(STOCK!B43))>0,SUMPRODUCT(('LISTE DE COURSE'!B43)-(STOCK!B43)),0) -> 0 | E43: Purée de pêche blanche | F43: =(SUMPRODUCT((RECETTES!$C$7:$C$17='LISTE DE COURSE'!E43)*(RECETTES!$B$7:$B$17))*RECETTES!$A$4)+(SUMPRODUCT((RECETTES!$F$7:$F$17='LISTE DE COURSE'!E43)*(RECETTES!$E$7:$E$17))*RECETTES!$D$4)+(SUMPRODUCT((RECETTES!$I$7:$I$17='LISTE DE COURSE'!E43)*(RECETTES!$H$7:$H$17))*RECETTES!$G$4)+(SUMPRODUCT((RECETTES!$K$7:$K$17='LISTE DE COURSE'!E43)*(RECETTES!$K$7:$K$17))*RECETTES!$J$4)+(SUMPRODUCT((RECETTES!$O$7:$O$17='LISTE DE COURSE'!E43)*(RECETTES!$N$7:$N$17))*RECETTES!$M$4)+(SUMPRODUCT((RECETTES!$C$22:$C$31='LISTE DE COURSE'!E43)*(RECETTES!$B$22:$B$31))*RECETTES!$A$19)+(SUMPRODUCT((RECETTES!$F$22:$F$31='LISTE DE COURSE'!E43)*(RECETTES!$E$22:$E$31))*RECETTES!$D$19)+(SUMPRODUCT((RECETTES!$I$22:$I$31='LISTE DE COURSE'!E43)*(RECETTES!$H$22:$H$31))*RECETTES!$G$19) -> 0 | G43: =IF(SUMPRODUCT(('LISTE DE COURSE'!F43)-(STOCK!E43))>0,SUMPRODUCT(('LISTE DE COURSE'!F43)-(STOCK!E43)),0) -> 0
...

Sheet STOCK
A1: STOCK
A3: FRAIS | B3: Stock | D3: FRUITS - LÉGUMES FRAIS | E3: Stock
A5: Beurre | B5: 0 | D5: Ananas | E5: 0
A6: Beurre salé | B6: 0 | D6: Brisures de framboises | E6: 0
A7: Blancs d'œufs | B7: 0 | D7: Cassis | E7: 0
A8: Crème | B8: 0 | D8: Citron jaune | E8: 0
A9: Jaunes d'œufs | B9: 0 | D9: Citron vert | E9: 0
A10: Lait | B10: 0 | D10: Fraise | E10: 0
A11: Œufs | B11: 5 | D11: Framboise | E11: 0
A12: Mascarpone | B12: 0 | D12: Griottes | E12: 0
A13: Philadelphia | B13: 0 | D13: Groseilles | E13: 0
D14: Mandarine | E14: 0
D15: Orange | E15: 0
A16: FARINES - POUDRES - LEVURES | B16: Stock | D16: Pamplemousse | E16: 0
D17: Poire | E17: 0
A18: Amidon de maïs | B18: 0 | D18: Pomme Royal Gala | E18: 0
