Workbook

Sheet Employé 1
B1: Nb Heure
A2: Semaine 1 | B2: 10
A3: Semaine 2 | B3: 3
A4: Semaine 3 | B4: 15
A5: Semaine 4 | B5: 9
A6: Semaine 5
A7: Semaine 6
A8: Semaine 7
A9: Semaine 8
A10: Semaine 9

Sheet Employé 2
B1: Nb Heure
A2: Semaine 1 | B2: 1
A3: Semaine 2 | B3: 2
A4: Semaine 3 | B4: 3
A5: Semaine 4 | B5: 4
A6: Semaine 5
A7: Semaine 6
A8: Semaine 7
A9: Semaine 8
A10: Semaine 9

Sheet Employé 3
B1: Nb Heure
A2: Semaine 1 | B2: 6
A3: Semaine 2 | B3: 7
A4: Semaine 3 | B4: 8
A5: Semaine 4 | B5: 9
A6: Semaine 5
A7: Semaine 6
A8: Semaine 7
A9: Semaine 8
A10: Semaine 9

Sheet Employé 4
B1: Nb Heure
A2: Semaine 1 | B2: 12
A3: Semaine 2 | B3: 14
A4: Semaine 3 | B4: 15
A5: Semaine 4 | B5: 2
A6: Semaine 5
A7: Semaine 6
A8: Semaine 7
A9: Semaine 8
A10: Semaine 9

Sheet Synthèse 
A2: Employé | B2: Semaine 1 | C2: Semaine 2 | D2: Semaine 3 | E2: Semaine 4 | F2: Semaine 5 | G2: Semaine 6 | H2: Semaine 7 | I2: Semaine 8 | J2: Semaine 9
A3: 1 | B3: =LOOKUP(B$2,'Employé 1'!$A$2:$A$10,'Employé 1'!$B$2:$B$10) -> 10 | C3: =LOOKUP(C$2,'Employé 1'!$A$2:$A$10,'Employé 1'!$B$2:$B$10) -> 3 | D3: =LOOKUP(D$2,'Employé 1'!$A$2:$A$10,'Employé 1'!$B$2:$B$10) -> 15 | E3: =LOOKUP(E$2,'Employé 1'!$A$2:$A$10,'Employé 1'!$B$2:$B$10) -> 9 | F3: =LOOKUP(F$2,'Employé 1'!$A$2:$A$10,'Employé 1'!$B$2:$B$10) -> 0 | G3: =LOOKUP(G$2,'Employé 1'!$A$2:$A$10,'Employé 1'!$B$2:$B$10) -> 0 | H3: =LOOKUP(H$2,'Employé 1'!$A$2:$A$10,'Employé 1'!$B$2:$B$10) -> 0 | I3: =LOOKUP(I$2,'Employé 1'!$A$2:$A$10,'Employé 1'!$B$2:$B$10) -> 0 | J3: =LOOKUP(J$2,'Employé 1'!$A$2:$A$10,'Employé 1'!$B$2:$B$10) -> 0
A4: 2 | B4: =LOOKUP(B$2,'Employé 2'!$A$2:$A$10,'Employé 2'!$B$2:$B$10) -> 1 | C4: =LOOKUP(C$2,'Employé 2'!$A$2:$A$10,'Employé 2'!$B$2:$B$10) -> 2 | D4: =LOOKUP(D$2,'Employé 2'!$A$2:$A$10,'Employé 2'!$B$2:$B$10) -> 3 | E4: =LOOKUP(E$2,'Employé 2'!$A$2:$A$10,'Employé 2'!$B$2:$B$10) -> 4 | F4: =LOOKUP(F$2,'Employé 2'!$A$2:$A$10,'Employé 2'!$B$2:$B$10) -> 0 | G4: =LOOKUP(G$2,'Employé 2'!$A$2:$A$10,'Employé 2'!$B$2:$B$10) -> 0 | H4: =LOOKUP(H$2,'Employé 2'!$A$2:$A$10,'Employé 2'!$B$2:$B$10) -> 0 | I4: =LOOKUP(I$2,'Employé 2'!$A$2:$A$10,'Employé 2'!$B$2:$B$10) -> 0 | J4: =LOOKUP(J$2,'Employé 2'!$A$2:$A$10,'Employé 2'!$B$2:$B$10) -> 0
A5: 3 | B5: =LOOKUP(B$2,'Employé 3'!$A$2:$A$10,'Employé 3'!$B$2:$B$10) -> 6 | C5: =LOOKUP(C$2,'Employé 3'!$A$2:$A$10,'Employé 3'!$B$2:$B$10) -> 7 | D5: =LOOKUP(D$2,'Employé 3'!$A$2:$A$10,'Employé 3'!$B$2:$B$10) -> 8 | E5: =LOOKUP(E$2,'Employé 3'!$A$2:$A$10,'Employé 3'!$B$2:$B$10) -> 9 | F5: =LOOKUP(F$2,'Employé 3'!$A$2:$A$10,'Employé 3'!$B$2:$B$10) -> 0 | G5: =LOOKUP(G$2,'Employé 3'!$A$2:$A$10,'Employé 3'!$B$2:$B$10) -> 0 | H5: =LOOKUP(H$2,'Employé 3'!$A$2:$A$10,'Employé 3'!$B$2:$B$10) -> 0 | I5: =LOOKUP(I$2,'Employé 3'!$A$2:$A$10,'Employé 3'!$B$2:$B$10) -> 0 | J5: =LOOKUP(J$2,'Employé 3'!$A$2:$A$10,'Employé 3'!$B$2:$B$10) -> 0
A6: 4 | B6: =LOOKUP(B$2,'Employé 4'!$A$2:$A$10,'Employé 4'!$B$2:$B$10) -> 12 | C6: =LOOKUP(C$2,'Employé 4'!$A$2:$A$10,'Employé 4'!$B$2:$B$10) -> 14 | D6: =LOOKUP(D$2,'Employé 4'!$A$2:$A$10,'Employé 4'!$B$2:$B$10) -> 15 | E6: =LOOKUP(E$2,'Employé 4'!$A$2:$A$10,'Employé 4'!$B$2:$B$10) -> 2 | F6: =LOOKUP(F$2,'Employé 4'!$A$2:$A$10,'Employé 4'!$B$2:$B$10) -> 0 | G6: =LOOKUP(G$2,'Employé 4'!$A$2:$A$10,'Employé 4'!$B$2:$B$10) -> 0 | H6: =LOOKUP(H$2,'Employé 4'!$A$2:$A$10,'Employé 4'!$B$2:$B$10) -> 0 | I6: =LOOKUP(I$2,'Employé 4'!$A$2:$A$10,'Employé 4'!$B$2:$B$10) -> 0 | J6: =LOOKUP(J$2,'Employé 4'!$A$2:$A$10,'Employé 4'!$B$2:$B$10) -> 0
