Workbook

Sheet ListeParticipants
A1: LAEP - Liste enfants 2019
D2: Catégorie | J2: Liste
A3: Prénom des Participants | C3: Date d'entrée | D3: A | E3: B | F3: C | G3: D | H3: E | I3: F | J3: 1 | K3: 2 | L3: 3 | M3: 4 | N3: 5
A4: 1 | B4: Thomas | C4: 43466 | F4: 1 | K4: 1
A5: 2 | B5: Marie | C5: 43467 | G5: 1 | L5: 1
A6: 3
A7: 4
A8: 5
A9: 6
A10: 7
A11: 8
A12: 9
A13: 10
A14: 11
A15: 12
A16: 13
A17: 14
... A83: 80

Sheet JAN
A1: Participants - Janvier 2019
B2: Dates
A3: Prénom des particiants | B3: 05/01 | C3: 07/01 | D3: 09/01 | E3: 10/01 | F3: 14/01 | Q3: Nbre de séances | R3: Nbre d'heures
A4: =IF(ListeParticipants!B4<>"",ListeParticipants!B4,"") -> Thomas | C4: 1 | D4: 1 | E4: 1 | Q4: =SUM(B4:P4) -> 3 | R4: =Q4*3 -> 9
A5: =IF(ListeParticipants!B5<>"",ListeParticipants!B5,"") -> Marie | B5: 1 | F5: 1 | Q5: =SUM(B5:P5) -> 2 | R5: =Q5*3 -> 6
A6: =IF(ListeParticipants!B6<>"",ListeParticipants!B6,"") | Q6: =SUM(B6:P6) -> 0 | R6: =Q6*3 -> 0
A7: =IF(ListeParticipants!B7<>"",ListeParticipants!B7,"") | Q7: =SUM(B7:P7) -> 0 | R7: =Q7*3 -> 0
A8: =IF(ListeParticipants!B8<>"",ListeParticipants!B8,"") | Q8: =SUM(B8:P8) -> 0 | R8: =Q8*3 -> 0
A9: =IF(ListeParticipants!B9<>"",ListeParticipants!B9,"") | Q9: =SUM(B9:P9) -> 0 | R9: =Q9*3 -> 0
A10: =IF(ListeParticipants!B10<>"",ListeParticipants!B10,"") | Q10: =SUM(B10:P10) -> 0 | R10: =Q10*3 -> 0
A11: =IF(ListeParticipants!B11<>"",ListeParticipants!B11,"") | Q11: =SUM(B11:P11) -> 0 | R11: =Q11*3 -> 0
A12: =IF(ListeParticipants!B12<>"",ListeParticipants!B12,"") | Q12: =SUM(B12:P12) -> 0 | R12: =Q12*3 -> 0
A13: =IF(ListeParticipants!B13<>"",ListeParticipants!B13,"") | Q13: =SUM(B13:P13) -> 0 | R13: =Q13*3 -> 0
A14: =IF(ListeParticipants!B14<>"",ListeParticipants!B14,"") | Q14: =SUM(B14:P14) -> 0 | R14: =Q14*3 -> 0
A15: =IF(ListeParticipants!B15<>"",ListeParticipants!B15,"") | Q15: =SUM(B15:P15) -> 0 | R15: =Q15*3 -> 0
A16: =IF(ListeParticipants!B16<>"",ListeParticipants!B16,"") | Q16: =SUM(B16:P16) -> 0 | R16: =Q16*3 -> 0
A17: =IF(ListeParticipants!B17<>"",ListeParticipants!B17,"") | Q17: =SUM(B17:P17) -> 0 | R17: =Q17*3 -> 0
... A83: =IF(ListeParticipants!B83<>"",ListeParticipants!B83,"") | Q83: =SUM(B83:P83) -> 0 | R83: =Q83*3 -> 0

Sheet FEV
A1: Participants- Février 2019
B2: Dates
A3: Prénom des participants | B3: 02/03 | C3: 04/03 | Q3: Nbre de séances | R3: Nbre d'heures
A4: =IF(ListeParticipants!B4<>"",ListeParticipants!B4,"") -> Thomas | B4: 1 | Q4: =SUM(B4:P4) -> 1 | R4: =Q4*3 -> 3
A5: =IF(ListeParticipants!B5<>"",ListeParticipants!B5,"") -> Marie | C5: 1 | Q5: =SUM(B5:P5) -> 1 | R5: =Q5*3 -> 3
A6: =IF(ListeParticipants!B6<>"",ListeParticipants!B6,"") | Q6: =SUM(B6:P6) -> 0 | R6: =Q6*3 -> 0
A7: =IF(ListeParticipants!B7<>"",ListeParticipants!B7,"") | Q7: =SUM(B7:P7) -> 0 | R7: =Q7*3 -> 0
A8: =IF(ListeParticipants!B8<>"",ListeParticipants!B8,"") | Q8: =SUM(B8:P8) -> 0 | R8: =Q8*3 -> 0
A9: =IF(ListeParticipants!B9<>"",ListeParticipants!B9,"") | Q9: =SUM(B9:P9) -> 0 | R9: =Q9*3 -> 0
A10: =IF(ListeParticipants!B10<>"",ListeParticipants!B10,"") | Q10: =SUM(B10:P10) -> 0 | R10: =Q10*3 -> 0
A11: =IF(ListeParticipants!B11<>"",ListeParticipants!B11,"") | Q11: =SUM(B11:P11) -> 0 | R11: =Q11*3 -> 0
A12: =IF(ListeParticipants!B12<>"",ListeParticipants!B12,"") | Q12: =SUM(B12:P12) -> 0 | R12: =Q12*3 -> 0
A13: =IF(ListeParticipants!B13<>"",ListeParticipants!B13,"") | Q13: =SUM(B13:P13) -> 0 | R13: =Q13*3 -> 0
A14: =IF(ListeParticipants!B14<>"",ListeParticipants!B14,"") | Q14: =SUM(B14:P14) -> 0 | R14: =Q14*3 -> 0
A15: =IF(ListeParticipants!B15<>"",ListeParticipants!B15,"") | Q15: =SUM(B15:P15) -> 0 | R15: =Q15*3 -> 0
A16: =IF(ListeParticipants!B16<>"",ListeParticipants!B16,"") | Q16: =SUM(B16:P16) -> 0 | R16: =Q16*3 -> 0
A17: =IF(ListeParticipants!B17<>"",ListeParticipants!B17,"") | Q17: =SUM(B17:P17) -> 0 | R17: =Q17*3 -> 0
... A83: =IF(ListeParticipants!B83<>"",ListeParticipants!B83,"") | Q83: =SUM(B83:P83) -> 0 | R83: =Q83*3 -> 0

Sheet MARS
A1: Participants - Mars 2019
B2: Dates
A3: Prénom des participants | Q3: Nbre de séances | R3: Nbre d'heures
A4: =IF(ListeParticipants!B4<>"",ListeParticipants!B4,"") -> Thomas | Q4: =SUM(B4:P4) -> 0 | R4: =Q4*3 -> 0
A5: =IF(ListeParticipants!B5<>"",ListeParticipants!B5,"") -> Marie | Q5: =SUM(B5:P5) -> 0 | R5: =Q5*3 -> 0
A6: =IF(ListeParticipants!B6<>"",ListeParticipants!B6,"") | Q6: =SUM(B6:P6) -> 0 | R6: =Q6*3 -> 0
A7: =IF(ListeParticipants!B7<>"",ListeParticipants!B7,"") | Q7: =SUM(B7:P7) -> 0 | R7: =Q7*3 -> 0
A8: =IF(ListeParticipants!B8<>"",ListeParticipants!B8,"") | Q8: =SUM(B8:P8) -> 0 | R8: =Q8*3 -> 0
A9: =IF(ListeParticipants!B9<>"",ListeParticipants!B9,"") | Q9: =SUM(B9:P9) -> 0 | R9: =Q9*3 -> 0
A10: =IF(ListeParticipants!B10<>"",ListeParticipants!B10,"") | Q10: =SUM(B10:P10) -> 0 | R10: =Q10*3 -> 0
A11: =IF(ListeParticipants!B11<>"",ListeParticipants!B11,"") | Q11: =SUM(B11:P11) -> 0 | R11: =Q11*3 -> 0
A12: =IF(ListeParticipants!B12<>"",ListeParticipants!B12,"") | Q12: =SUM(B12:P12) -> 0 | R12: =Q12*3 -> 0
A13: =IF(ListeParticipants!B13<>"",ListeParticipants!B13,"") | Q13: =SUM(B13:P13) -> 0 | R13: =Q13*3 -> 0
A14: =IF(ListeParticipants!B14<>"",ListeParticipants!B14,"") | Q14: =SUM(B14:P14) -> 0 | R14: =Q14*3 -> 0
A15: =IF(ListeParticipants!B15<>"",ListeParticipants!B15,"") | Q15: =SUM(B15:P15) -> 0 | R15: =Q15*3 -> 0
... A83: =IF(ListeParticipants!B83<>"",ListeParticipants!B83,"") | Q83: =SUM(B83:P83) -> 0 | R83: =Q83*3 -> 0

Sheet Bilan
A4: Nombre de participant:
