Workbook

Sheet création planning
C2: 44075
C3: ma | D3: me | E3: j | F3: v | G3: s | H3: d | I3: l | J3: ma | K3: me | L3: j | M3: v | N3: s | O3: d | P3: l | Q3: ma | R3: me | S3: j | T3: v | U3: s | V3: d | W3: l | X3: ma | Y3: me | Z3: j | AA3: v | AB3: s | AC3: d | AD3: l | AE3: ma | AF3: me
B4: Nb de tours | C4: 1 | D4: 2 | E4: 3 | F4: 4 | G4: 5 | H4: 6 | I4: 7 | J4: 8 | K4: 9 | L4: 10 | M4: 11 | N4: 12 | O4: 13 | P4: 14 | Q4: 15 | R4: 16 | S4: 17 | T4: 18 | U4: 19 | V4: 20 | W4: 21 | X4: 22 | Y4: 23 | Z4: 24 | AA4: 25 | AB4: 26 | AC4: 27 | AD4: 28 | AE4: 29 | AF4: 30
A5: nom 1 | B5: =COUNTIF(C5:AF5,"X") -> 1 | G5: X
A6: nom 2 | B6: =COUNTIF(C6:AF6,"X") -> 2 | J6: X | Y6: X
A7: nom 3 | B7: =COUNTIF(C7:AF7,"X") -> 1 | P7: X
A8: nom 4 | B8: =COUNTIF(C8:AF8,"X") -> 1 | L8: X
A9: nom 5 | B9: =COUNTIF(C9:AF9,"X") -> 2 | C9: X | T9: X
A10: nom 6 | B10: =COUNTIF(C10:AF10,"X") -> 1 | O10: X
A11: nom 7 | B11: =COUNTIF(C11:AF11,"X") -> 2 | D11: X | S11: X
A12: nom 8 | B12: =COUNTIF(C12:AF12,"X") -> 2 | E12: X | R12: X
A13: nom 9 | B13: =COUNTIF(C13:AF13,"X") -> 0
A14: nom 10 | B14: =COUNTIF(C14:AF14,"X") -> 0
A15: nom 11 | B15: =COUNTIF(C15:AF15,"X") -> 0
A16: nom 12 | B16: =COUNTIF(C16:AF16,"X") -> 0
A17: nom 13 | B17: =COUNTIF(C17:AF17,"X") -> 1 | M17: X
A18: nom 14 | B18: =COUNTIF(C18:AF18,"X") -> 2 | N18: X | AA18: X
A19: nom 15 | B19: =COUNTIF(C19:AF19,"X") -> 0
A20: nom 16 | B20: =COUNTIF(C20:AF20,"X") -> 0
A21: nom 17 | B21: =COUNTIF(C21:AF21,"X") -> 2 | F21: X | U21: X
A22: nom 18 | B22: =COUNTIF(C22:AF22,"X") -> 1 | K22: X
A23: nom 19 | B23: =COUNTIF(C23:AF23,"X") -> 0
A24: nom 20 | B24: =COUNTIF(C24:AF24,"X") -> 1 | V24: X
A25: nom 21 | B25: =COUNTIF(C25:AF25,"X") -> 0
A26: nom 22 | B26: =COUNTIF(C26:AF26,"X") -> 0
A27: nom 23 | B27: =COUNTIF(C27:AF27,"X") -> 1 | Q27: X
A28: nom 24 | B28: =COUNTIF(C28:AF28,"X") -> 0
A29: nom 25 | B29: =COUNTIF(C29:AF29,"X") -> 0
A30: nom 26 | B30: =COUNTIF(C30:AF30,"X") -> 2 | H30: X | W30: X
A31: nom 27 | B31: =COUNTIF(C31:AF31,"X") -> 2 | I31: X | X31: X
C32: =COUNTIF(C5:C31,"X") -> 1 | D32: =COUNTIF(D5:D31,"X") -> 1 | E32: =COUNTIF(E5:E31,"X") -> 1 | F32: =COUNTIF(F5:F31,"X") -> 1 | G32: =COUNTIF(G5:G31,"X") -> 1 | H32: =COUNTIF(H5:H31,"X") -> 1 | I32: =COUNTIF(I5:I31,"X") -> 1 | J32: =COUNTIF(J5:J31,"X") -> 1 | ... AF32: =COUNTIF(AF5:AF31,"X") -> 0

Sheet planning
B2: 44075
B3: MARDI | C3: 1 | D3: =INDEX('création planning'!$A$5:$A$31,MATCH(TRUE,INDEX('création planning'!C$5:C$31>0,0),0)) -> nom 5 | E3: =INDEX('création planning'!$A$5:$A$31,MATCH(TRUE,INDEX('création planning'!C$5:C$31>0,0),0)) -> nom 5
B4: MERCREDI | C4: 2 | D4: =INDEX('création planning'!$A$5:$A$31,MATCH(TRUE,INDEX('création planning'!C$5:C$31>0,0),0)) -> nom 5 | E4: =INDEX('création planning'!$A$5:$A$31,MATCH(TRUE,INDEX('création planning'!D$5:D$31>0,0),0)) -> nom 7
B5: JEUDI | C5: 3 | D5: =INDEX('création planning'!$A$5:$A$31,MATCH(TRUE,INDEX('création planning'!C$5:C$31>0,0),0)) -> nom 5 | E5: =INDEX('création planning'!$A$5:$A$31,MATCH(TRUE,INDEX('création planning'!E$5:E$31>0,0),0)) -> nom 8
B6: VENDREDI | C6: 4 | D6: =INDEX('création planning'!$A$5:$A$31,MATCH(TRUE,INDEX('création planning'!C$5:C$31>0,0),0)) -> nom 5 | E6: =INDEX('création planning'!$A$5:$A$31,MATCH(TRUE,INDEX('création planning'!F$5:F$31>0,0),0)) -> nom 17
B7: SAMEDI | C7: 5 | D7: =INDEX('création planning'!$A$5:$A$31,MATCH(TRUE,INDEX('création planning'!C$5:C$31>0,0),0)) -> nom 5 | E7: =INDEX('création planning'!$A$5:$A$31,MATCH(TRUE,INDEX('création planning'!G$5:G$31>0,0),0)) -> nom 1
B8: DIMANCHE | C8: 6 | D8: =INDEX('création planning'!$A$5:$A$31,MATCH(TRUE,INDEX('création planning'!C$5:C$31>0,0),0)) -> nom 5 | E8: =INDEX('création planning'!$A$5:$A$31,MATCH(TRUE,INDEX('création planning'!H$5:H$31>0,0),0)) -> nom 26
B9: LUNDI | C9: 7 | D9: =INDEX('création planning'!$A$5:$A$31,MATCH(TRUE,INDEX('création planning'!C$5:C$31>0,0),0)) -> nom 5 | E9: =INDEX('création planning'!$A$5:$A$31,MATCH(TRUE,INDEX('création planning'!I$5:I$31>0,0),0)) -> nom 27
B10: MARDI | C10: 8 | D10: =INDEX('création planning'!$A$5:$A$31,MATCH(TRUE,INDEX('création planning'!C$5:C$31>0,0),0)) -> nom 5 | E10: =INDEX('création planning'!$A$5:$A$31,MATCH(TRUE,INDEX('création planning'!J$5:J$31>0,0),0)) -> nom 2
B11: MERCREDI | C11: 9 | D11: =INDEX('création planning'!$A$5:$A$31,MATCH(TRUE,INDEX('création planning'!C$5:C$31>0,0),0)) -> nom 5 | E11: =INDEX('création planning'!$A$5:$A$31,MATCH(TRUE,INDEX('création planning'!K$5:K$31>0,0),0)) -> nom 18
B12: JEUDI | C12: 10 | D12: =INDEX('création planning'!$A$5:$A$31,MATCH(TRUE,INDEX('création planning'!C$5:C$31>0,0),0)) -> nom 5 | E12: =INDEX('création planning'!$A$5:$A$31,MATCH(TRUE,INDEX('création planning'!L$5:L$31>0,0),0)) -> nom 4
B13: VENDREDI | C13: 11 | D13: =INDEX('création planning'!$A$5:$A$31,MATCH(TRUE,INDEX('création planning'!C$5:C$31>0,0),0)) -> nom 5 | E13: =INDEX('création planning'!$A$5:$A$31,MATCH(TRUE,INDEX('création planning'!M$5:M$31>0,0),0)) -> nom 13
B14: SAMEDI | C14: 12 | D14: =INDEX('création planning'!$A$5:$A$31,MATCH(TRUE,INDEX('création planning'!C$5:C$31>0,0),0)) -> nom 5 | E14: =INDEX('création planning'!$A$5:$A$31,MATCH(TRUE,INDEX('création planning'!N$5:N$31>0,0),0)) -> nom 14
B15: DIMANCHE | C15: 13 | D15: =INDEX('création planning'!$A$5:$A$31,MATCH(TRUE,INDEX('création planning'!C$5:C$31>0,0),0)) -> nom 5 | E15: =INDEX('création planning'!$A$5:$A$31,MATCH(TRUE,INDEX('création planning'!O$5:O$31>0,0),0)) -> nom 6
B16: LUNDI | C16: 14 | D16: =INDEX('création planning'!$A$5:$A$31,MATCH(TRUE,INDEX('création planning'!C$5:C$31>0,0),0)) -> nom 5 | E16: =INDEX('création planning'!$A$5:$A$31,MATCH(TRUE,INDEX('création planning'!P$5:P$31>0,0),0)) -> nom 3
B17: MARDI | C17: 15 | D17: =INDEX('création planning'!$A$5:$A$31,MATCH(TRUE,INDEX('création planning'!C$5:C$31>0,0),0)) -> nom 5 | E17: =INDEX('création planning'!$A$5:$A$31,MATCH(TRUE,INDEX('création planning'!Q$5:Q$31>0,0),0)) -> nom 23
B18: MERCREDI | C18: 16 | D18: =INDEX('création planning'!$A$5:$A$31,MATCH(TRUE,INDEX('création planning'!C$5:C$31>0,0),0)) -> nom 5 | E18: =INDEX('création planning'!$A$5:$A$31,MATCH(TRUE,INDEX('création planning'!R$5:R$31>0,0),0)) -> nom 8
B19: JEUDI | C19: 17 | D19: =INDEX('création planning'!$A$5:$A$31,MATCH(TRUE,INDEX('création planning'!C$5:C$31>0,0),0)) -> nom 5 | E19: =INDEX('création planning'!$A$5:$A$31,MATCH(TRUE,INDEX('création planning'!S$5:S$31>0,0),0)) -> nom 7
B20: VENDREDI | C20: 18 | D20: =INDEX('création planning'!$A$5:$A$31,MATCH(TRUE,INDEX('création planning'!C$5:C$31>0,0),0)) -> nom 5 | E20: =INDEX('création planning'!$A$5:$A$31,MATCH(TRUE,INDEX('création planning'!T$5:T$31>0,0),0)) -> nom 5
B21: SAMEDI | C21: 19 | D21: =INDEX('création planning'!$A$5:$A$31,MATCH(TRUE,INDEX('création planning'!C$5:C$31>0,0),0)) -> nom 5
B22: DIMANCHE | C22: 20 | D22: =INDEX('création planning'!$A$5:$A$31,MATCH(TRUE,INDEX('création planning'!C$5:C$31>0,0),0)) -> nom 5
B23: LUNDI | C23: 21 | D23: =INDEX('création planning'!$A$5:$A$31,MATCH(TRUE,INDEX('création planning'!C$5:C$31>0,0),0)) -> nom 5
B24: MARDI | C24: 22 | D24: =INDEX('création planning'!$A$5:$A$31,MATCH(TRUE,INDEX('création planning'!C$5:C$31>0,0),0)) -> nom 5
B25: MERCREDI | C25: 23 | D25: =INDEX('création planning'!$A$5:$A$31,MATCH(TRUE,INDEX('création planning'!C$5:C$31>0,0),0)) -> nom 5
B26: JEUDI | C26: 24 | D26: =INDEX('création planning'!$A$5:$A$31,MATCH(TRUE,INDEX('création planning'!C$5:C$31>0,0),0)) -> nom 5
B27: VENDREDI | C27: 25 | D27: =INDEX('création planning'!$A$5:$A$31,MATCH(TRUE,INDEX('création planning'!C$5:C$31>0,0),0)) -> nom 5
B28: SAMEDI | C28: 26 | D28: =INDEX('création planning'!$A$5:$A$31,MATCH(TRUE,INDEX('création planning'!C$5:C$31>0,0),0)) -> nom 5
B29: DIMANCHE | C29: 27 | D29: =INDEX('création planning'!$A$5:$A$31,MATCH(TRUE,INDEX('création planning'!C$5:C$31>0,0),0)) -> nom 5
B30: LUNDI | C30: 28 | D30: =INDEX('création planning'!$A$5:$A$31,MATCH(TRUE,INDEX('création planning'!C$5:C$31>0,0),0)) -> nom 5
B31: MARDI | C31: 29 | D31: =INDEX('création planning'!$A$5:$A$31,MATCH(TRUE,INDEX('création planning'!C$5:C$31>0,0),0)) -> nom 5
B32: MERCREDI | C32: 30 | D32: =INDEX('création planning'!$A$5:$A$31,MATCH(TRUE,INDEX('création planning'!C$5:C$31>0,0),0)) -> nom 5

Sheet comptabilité
B3: Nb tours sem (lun, mar, mer, jeu) | C3: Nb tours de Ven | D3: Nb tours de Sam | E3: Nb tours de Dim
A4: nom 1 | D4: 1
A5: nom 2 | B5: 2
A6: nom 3 | B6: 1
A7: nom 4 | B7: 1
A8: nom 5 | B8: 1 | C8: 1
A9: nom 6 | E9: 1
A10: nom 7
A11: nom 8
A12: nom 9
A13: nom 10
A14: nom 11
A15: nom 12
A16: nom 13
A17: nom 14
A18: nom 15
A19: nom 16
A20: nom 17
A21: nom 18
... A30: nom 27
