Workbook

Sheet matrice
A3: samedi | B3: 40544
A4: dimanche | B4: 40545
A5: lundi | B5: 40546
A6: mardi | B6: 40547
A7: mercredi | B7: 40548
A8: jeudi | B8: 40549
A9: vendredi | B9: 40550
A10: samedi | B10: 40551
A11: dimanche | B11: 40552
A12: lundi | B12: 40553
A13: mardi | B13: 40554
A14: mercredi | B14: 40555
... A367: samedi | B367: 40908

Sheet Feuil2
A1: le fournil a pizza
A3: cette feuille est une "interface qui sert pour remplir et valider pour tous les mois
A5: restaurant | D5: fournisseur
D7: 1 | F7: 2 | H7: 3 | J7: 4 | L7: 5 | N7: 6 | P7: 7
A9: date | B9: 40545 | D9: 40545 | F9: 40545 | H9: 40545 | J9: 40545 | L9: 40545 | N9: 40545 | P9: 40545
A11: nb couverts | B11: 30 | D11: 0 | F11: 0 | H11: 0 | J11: 0 | L11: 0 | N11: 0 | P11: 0
A13: coef | D13: bouton valider | F13: bouton valider | H13: bouton valider | J13: bouton valider | L13: bouton valider | N13: bouton valider | P13: bouton valider
A15: ca | B15: 0
B17: bouton valider
F19: c'est la même chose le but est que je rentre le montant et la date de ma facture je valide en
F20: cliquant sur le bouton et les données vont dans la feuille du mois correspondant
B23: le but est de pouvoir entrer
B24: une date;le nombre couverts
B25: le coef et le ca | J25: mon autre soucis : je ne sais pas comment mettre de la couleur
B26: en cliquant sur le bouton je valide | J26: dans la liste déroulante
B27: les données dans la feuille du mois correspondant | J27: ex: janvier en jaune ;fevrier er vert)
B28: a la ligne correspondant a la date

Sheet janvier
A4: date | C4: nb couverts | D4: coef | E4: ca | F4: =Feuil2!D7 -> 1 | G4: =Feuil2!F7 -> 2 | H4: =Feuil2!H7 -> 3 | I4: =Feuil2!J7 -> 4 | J4: =Feuil2!L7 -> 5 | K4: =Feuil2!N7 -> 6 | L4: =Feuil2!P7 -> 7
A5: =matrice!A3 -> samedi | B5: =matrice!B3 -> 40544
A6: =matrice!A4 -> dimanche | B6: =matrice!B4 -> 40545
A7: =matrice!A5 -> lundi | B7: =matrice!B5 -> 40546
A8: =matrice!A6 -> mardi | B8: =matrice!B6 -> 40547
A9: =matrice!A7 -> mercredi | B9: =matrice!B7 -> 40548
A10: =matrice!A8 -> jeudi | B10: =matrice!B8 -> 40549
A11: =matrice!A9 -> vendredi | B11: =matrice!B9 -> 40550
A12: =matrice!A10 -> samedi | B12: =matrice!B10 -> 40551
A13: =matrice!A11 -> dimanche | B13: =matrice!B11 -> 40552
A14: =matrice!A12 -> lundi | B14: =matrice!B12 -> 40553
A15: =matrice!A13 -> mardi | B15: =matrice!B13 -> 40554
A16: =matrice!A14 -> mercredi | B16: =matrice!B14 -> 40555
... A35: =matrice!A33 -> lundi | B35: =matrice!B33 -> 40574
